{"text_format":"1","workbook":"xlsx","n_sheets":7,"sheets":["Usage notes","Setup","Periodic check","Data","Uncertainty","Protocol","Abbreviations"],"not_rendered":{"charts":3,"images":3,"macros":1,"external_links":0,"defined_names":14,"comments":0,"pivot_tables":0},"unopened":[],"bounds":{"document_bytes":16777216,"sheet_cells":100000,"rows_first":2000,"rows_last":500,"rows_between":2000,"halvings":0,"cell_chars":16384,"cell_head_chars":4096},"cells_cut":0,"cells_raw":0,"read":"whole","date_system":"1900"}

{"sheet":"Usage notes","index":0,"n_rows":68,"n_cols":7,"rows_kept":68,"cut":false,"hidden":false,"merged":[[1,0,1,6],[55,4,55,6],[56,4,56,6],[0,0,0,6],[2,0,2,2],[2,4,2,6],[50,4,50,6],[51,4,51,6],[52,4,52,6],[53,4,53,6],[54,4,54,6],[45,4,45,6],[46,4,46,6],[47,4,47,6],[48,4,48,6],[49,4,49,6],[40,4,40,6],[41,4,41,6],[42,4,42,6],[43,4,43,6],[44,4,44,6],[35,4,35,6],[36,4,36,6],[37,4,37,6],[38,4,38,6],[39,4,39,6],[30,4,30,6],[31,4,31,6],[32,4,32,6],[33,4,33,6],[34,4,34,6],[25,4,25,6],[26,4,26,6],[27,4,27,6],[28,4,28,6],[29,4,29,6],[20,4,20,6],[21,4,21,6],[22,4,22,6],[23,4,23,6],[24,4,24,6],[15,4,15,6],[16,4,16,6],[17,4,17,6],[18,4,18,6],[19,4,19,6],[54,0,54,2],[55,0,55,2],[56,0,56,2],[3,0,3,2],[3,4,3,6],[4,4,4,6],[5,4,5,6],[6,4,6,6],[7,4,7,6],[8,4,8,6],[9,4,9,6],[10,4,10,6],[11,4,11,6],[12,4,12,6],[13,4,13,6],[14,4,14,6],[4,0,4,2],[5,0,5,2],[6,0,6,2],[7,0,7,2],[8,0,8,2],[9,0,9,2],[10,0,10,2],[11,0,11,2],[29,0,29,2],[30,0,30,2],[31,0,31,2],[32,0,32,2],[33,0,33,2],[24,0,24,2],[25,0,25,2],[26,0,26,2],[27,0,27,2],[28,0,28,2],[49,0,49,2],[50,0,50,2],[51,0,51,2],[52,0,52,2],[34,0,34,2],[35,0,35,2],[36,0,36,2],[37,0,37,2],[38,0,38,2],[19,0,19,2],[20,0,20,2],[21,0,21,2],[22,0,22,2],[23,0,23,2],[17,0,17,2],[18,0,18,2],[0,14,0,16],[53,0,53,2],[44,0,44,2],[45,0,45,2],[46,0,46,2],[47,0,47,2],[48,0,48,2],[39,0,39,2],[40,0,40,2],[41,0,41,2],[42,0,42,2],[43,0,43,2],[12,0,12,2],[13,0,13,2],[14,0,14,2],[15,0,15,2],[16,0,16,2]]}
["Benutzungshinweise / Usage notes"]
[]
[]
["Periodische Prüfung von Härteprüfmaschinen\nund Bestimmungen der Messunsicherheit",null,null,null,"Periodic checking of hardness testing machines\nand determination of the uncertainty"]
[]
["Für die Routineprüfung von Härteprüfmaschinen empfehlen die Normen",null,null,null,"For routine testing of hardness testing machines the standards listed below recommend a daily periodic check, which will become obligatory after the next revision of the standards"]
["•   DIN EN ISO 6506: Metallische Werkstoffe; Härteprüfung nach Brinell",null,null,null,"•   DIN EN ISO 6506: Metallic materials; Brinell hardness test"]
["•   DIN EN ISO 6507: Metallische Werkstoffe; Härteprüfung nach Vickers",null,null,null,"•   DIN EN ISO 6507: Metallic materials; Vickers hardness test "]
["•   DIN EN ISO 6508: Metallische Werkstoffe; Härteprüfung nach Rockwell\n     (Skalen A, B, C, D, E, F, G, H, K, N, T)",null,null,null,"•   DIN EN ISO 6508: Metallic materials; Rockwell hardness test\n     (scales A, B, C, D, E, F, G, H, K, N, T)"]
["•   DIN EN ISO 4545: Metallische Werkstoffe; Härteprüfung nach Knoop",null,null,null,"•   DIN EN ISO 4545: Metallic materials; Knoop hardness test"]
["Der folgende Text bezieht sich auf diese Normen.",null,null,null,"The following text refers to these standards."]
[]
["Die Normen empfehlen 2 Vorversuche (Eindrücke) durchzuführen, um sicher zu stellen, dass die Probe und der Probentisch richtig eingestellt sind. Die Ergebnisse dieser Vorversuche sollen unberücksichtigt bleiben.",null,null,null,"The standards recommend 2 indentations, to insure that the sample and the support are placed correctly. These first two readings should be disregarded."]
[]
["Nach den Normen sollen auf einer Härtevergleichsplatte der angewendeten Skale mit einer Härte, die der Probenhärte des untersuchten Materials entspricht (z.B. 35 HRC oder 240 HBW 2,5/187,5), drei Härteprüfungen durchgeführt werden.",null,null,null,"According to the standards at least three hardness tests should be carried out on a reference block of the applied scale with a hardness corresponding to that of the test sample (e.g. 35 HRC or 240 HBW 2.5/187.5)"]
[]
["Mit dem vorliegenden Programm können die Werte in eine Excel-Datei eingegeben und somit für die Dokumentation nach ISO 9000 registriert werden. Das Programm ist so ausgelegt, dass jeweils mittels einer Härtevergleichsplatte für eine Härteprüfmaschine anhand der eingegebenen Werte überprüft wird, ob die Wiederholpräzision (WHP) im normativen Bereich liegt (OK) oder ob die Grenzabweichung (GA) überschritten ist.",null,null,null,"With this program one is able to enter the values into an EXCEL-file for documentation according to ISO 9000. The program is designed to indicate  whether the hardness testing machine is working properly (OK) or if there is an error; it gives information on the repeatability (WHP) and any deviation from the standard limits (GA). The program should be handled in such a way that one reference block per machine is checked on the basis of the values entered, to determine whether the machine meets the standards for repeatability (WHP) and limits (GA)."]
[]
["Vom Programm werden folgende Fehlermeldungen angezeigt (Arbeitsblatt \"Data\"):\nWHP    -    Die Wiederholpräzision gemäss der normativen Vorgabe ist überschritten.\nGA       -    Die Grenzabweichung gemäss der normativen Vorgabe ist überschritten.\nRUN     -    Die Mittelwerte der letzten 7 Messreihen liegen ober- oder unterhalb der Mittellinien.\nTREND  -   Die Mittelwerte der letzten 7 Messreihen beschreiten eine an- oder absteigende Folge.\nEs können mehrer Fehlermeldung angezeigt werden, entsprechend den festgestellten Abweichungen.\nDie Fehlermeldungen geben Hinweise auf eine nicht funktionsgerechte Arbeitsweise der Maschine.",null,null,null,"The program shows the following error messages (worksheet \"Data\"):\nWHP    -    The repeatability of the machine exceeds the standard requirement.\nGA       -    The standard limit deviation has been exceeded.\nRUN     -    The mean value of the last 7 checks (5 readings each) is above or below the mean level.\nTREND  -   The mean value of the last 7 checks (5 readings each) has an ascending or sloping trend.\nIn the worst case, several error messages are displayed according to the deviations observed.\nThe error messages indicate whether or not the machine is functioning satisfactorily."]
[]
["Die Messunsicherheit wird mit zwei verschiedenen Berechnungsgrundlagen bestimmt:\n•   U without correction: Nach dem Uncert Report COP 14. Die Messwerte können unkorrigiert verwendet werden.\n     (Gabauer, W., Manual of Codes of Practice for the Determination of Uncertainties in Mechanical \n     Test on Metallic Materials, The Estimation of Uncertainties in Hardness Measurements, \n     Projekt, No. SMT4-CT97-2165, UNCERT COP 14: 2000) [2, 3, 4]\n•   U with correction: Unter Berücksichtigung der Abweichung, wobei jeder auf eine Probe \n     bestimmte Messwert um die Abweichung korrigiert werden muss [5 - 10].",null,null,null,"The Uncertainty is determined by two different bases of calculation:\n•  U without correction: According to the Uncert Report COP 14: The measured value can be used without correction.\n     (Gabauer, W., Manual of Codes of Practice for the Determination of Uncertainties in Mechanical\n     Tests on Metallic Materials, The Estimation of Uncertainties in Hardness Measurements,\n     Project, No. SMT4-CT97-2165, UNCERT COP 14: 2000) [2, 3, 4]\n•  U with correction: According to the bias: In this case every value measured  for a sample must be\n    corrected by the value of the bias [5 - 10]."]
[]
["Für die Bestimmung der Messunsicherheit müssen unter \"Data\" 5 Eindrücke auf der Härtevergleichsplatte registriert werden.",null,null,null,"To obtain the uncertainty using this program, five readings of indentations on the hardness reference block must be registered under \"Data\"."]
[]
["Anmerkungen zum Datenfile",null,null,null,"Remarks to the data file"]
["Das Datenfile enthält die Berechnungsgrundlage der Methode M2 für die Bestimmung der Messunsicherheit gemäss des informativen Anhangs in Teil 1 der oben angegebenen Normen für Brinell, Rockwell, Vickers und Knoop. Mit dem Veröffentlichungsstand 2006.",null,null,null,"This EXCEL-file  contains the basis of calculation of the method M2 for the determination of the uncertainty, according to the informative annexes of Part 1 of the  standards of Brinell, Rockwell, Vickers and Knoop mentioned above. The standards were published in German in 2006."]
[]
["Anmerkungen zur Messunsicherheit ohne Korrektur der Sollwertabweichung (U without correction)",null,null,null,"Remarks on the uncertainty without correction for the bias (U without correction)"]
["Die Methode zur Messunsicherheit ohne Korrektur der Sollwertabweichung beruht auf dem Konzept, das Binder und Gabauer entsprechend der GUM [2] entwickelten. Zur genauen Interpretation der Vorgehensweise und der rechnerischen Grundlage wird auf die vorhandenen Veröffentlichungen [3, 4, 5] verwiesen.",null,null,null,"The determination of uncertainty without correction by the bias is based on the concept  developed by Binder and Gabauer according to the GUM [2]. For an exact interpretation of the methods and the calculation basis see the following publications [3, 4, 5]. "]
[]
["Anmerkungen zur Messunsicherheit mit Korrektur der Sollwertabweichung (U with correction)",null,null,null,"Remarks on the uncertainty with correction of the measured values  by the bias (U with correction)"]
["Bei der Methode zur Messunsicherheit mit Korrektur der Sollwertabweichung wurden die gleichen Quellen wie bei [4, 5] verwendet.",null,null,null,"The determination of uncertainty with correction for the bias is based on the same publications [4, 5]."]
[]
[]
["Aus dem Mittelwert einer Messreihe auf der Härtevergleichsplatte (Referenzmaterial, CRM) in der zu untersuchenden Härteprüfmaschine und dem Kalibrierwert der Härtevergleichsplatte wird die Sollwertabweichung b der Härteprüfmaschine bestimmt. Alle mit dieser Härteprüfmaschine an Proben ermittelten Härtewerte werden anschießend mit der Sollwertabweichung korrigiert. Die Sollwertabweichung ist abhängig von der Härteprüfmaschine, der Härteskala, dem Härteskalenbereich und ggf. dem Bediener. Wenn der Härtewert der Proben nicht mit dem Kalibrierwert übereinstimmt, empfiehlt es sich, die Korrekturwertbestimmung auf der Basis einer Korrekturkurve durchzuführen. Die einfachste Art der Korrekturkurve ist eine Gerade zwischen zwei den Probenhärtewert eingrenzenden Kalibrierpunkten auf der Härteskala (Voraussetzung ist ein entsprechend kleiner Härteskalenbereich).",null,null,null,"The bias b of a machine is determined from the difference between? the mean value of five hardness tests on the hardness reference block (CRM) on a specific hardness testing machine and the calibrated  value of the hardness reference block. All test values determined on this hardness testing machine are then corrected for the bias. The bias depends on the hardness testing machine, the hardness scale, the range of the scale and, in some cases, on the operator of the machine. If the hardness value of the test samples does not match the hardness of the CRM,  it is advisable to determine the correction value of the bias on the basis of a correction curve. The simplest form of a correction curve is a straight line between the two calibration points on either side of the test value on the hardness scale (assuming a relatively small range of the hardness scale). "]
[]
["Anmerkungen zu den Grundlagen der Berechnung",null,null,null,"Remarks to the bases of calculation "]
["•   Quadratische Addition: Die im Modell für die Berechnung der Messunsicherheit berücksichtigen \n    Einflussgrößen können als linear unabhängig angesehen werden. Daher ist die quadratische Addition der \n    Einflussgrößen gerechtfertigt.",null,null,null,"•   Residual sum of squares (RSS). The parameters used in the calculation model are assumed to be linearly independent. The appliance of RSS is therefore justified."]
["•   Normalverteilung: Anhand der im Regelfall 5 Messwerte einer Messreihe kann kein Schluss auf die Art \n    der Verteilung getroffen werden. Umfangreiche Untersuchungen im Vorfeld zu der hier vorgestellten \n    Messunsicherheitsberechung rechtfertigen jedoch den Modellansatz der Normalverteilung zumindest für \n    die Härte-Bezugsnormalmesseinrichtung selbst und der auf ihr festgestellten Inhomogenitäten des \n    Referenzmaterials.",null,null,null,"•   Normal Distribution: On the basis of usual five indentations per measurement series, no conclusion can be drawn on the form of the distribution. However, comprehensive investigations carried out beforehand justify using the model for the determination of repeatability, at least for the standardizing machine and the non-homogeneities of the CRM."]
["•   Anzahl der Einzelmesswerte n = 5: Für eine nach statistischer Regel gesicherten Aussage ist eine allein \n    auf der Basis von 5 Werten durchgeführte Ermittlung sicherlich nicht durchführbar. In der auf \n    Kostenminimierung ausgerichteten industriellen Prüfpraxis mit einer normativen Vorgabe von min. 3 \n    Messwerten je Tag, erschien die Forderung von 5 Prüfeindrücken das maximal Durchsetzbare im Hinblick \n    auf die Akzeptanz durch den Anwender.",null,null,null,"•  Number of individual measured values n = 5: The 5 readings are not sufficient for statistical confirmation . Since, however, industrial practice is based on 3 readings a day to minimize costs, the requirement of 5 indentations a day would seem to be the maximum that users are willing to accept.  "]
[]
["[1] Polzin, T., Schwenk, D., Fengler, M., Änderung der Normen Brinell und Rockwell HTM 56 (2001) \n     S. 232-235 ",null,null,null,"[1] Polzin, T., Schwenk, D., Fengler, M., Änderung der Normen Brinell und Rockwell HTM 56 (2001) \n     S. 232-235 "]
["[2] Guide to the Expression of Uncertainly in Measurement, 1. Auflage, Hrsg. DIN, Berlin, Wien, Zürich, \n     Beuth Verlag, 1995\n     Deutsche Übersetzung: Leitfaden zur Angabe der Messunsicherheit beim Messen, Beuth Verlag, 1995",null,null,null,"[2] Guide to the Expression of Uncertainly in Measurement, 1. Auflage, Hrsg. DIN, Berlin, Wien, Zürich, \n     Beuth Verlag, 1995\n     German Translation: Leitfaden zur Angabe der Messunsicherheit beim Messen, Beuth Verlag, 1995"]
["[3] GABAUER, W., Manual of Codes of Practice for the Determination of Uncertainties in Mechanical Tests \n     on Metallic Materials, The Estimation of Uncertainties in Hardness Measurements, Project, \n     No. SMT4-CT97-2165, UNCERT COP 14: 2000",null,null,null,"[3] GABAUER, W., Manual of Codes of Practice for the Determination of Uncertainties in Mechanical Tests \n     on Metallic Materials, The Estimation of Uncertainties in Hardness Measurements, Project, \n     No. SMT4-CT97-2165, UNCERT COP 14: 2000"]
["[4] Gabauer W. , Binder O., Abschätzung der Messunsicherheit in der Härteprüfung unter Verwendung der \n     indirekten Kalibriermethode, DVM Werkstoffprüfung, Tagungsband 2000, S. 255-261",null,null,null,"[4] Gabauer W. , Binder O., Abschätzung der Messunsicherheit in der Härteprüfung unter Verwendung der \n     indirekten Kalibriermethode, DVM Werkstoffprüfung, Tagungsband 2000, S. 255-261"]
["[5] Polzin, T., Schwenk, D., Method for Uncertainty determination of Hardness Testing, Materialprüfung (44),\n     2002, S. 64-71",null,null,null,"[5] Polzin, T., Schwenk, D., Method for Uncertainty determination of Hardness Testing, Materialprüfung (44),\n     2002, S. 64-71"]
["[6] Polzin, T., Schwenk, D., Verfahren zur Bestimmung der Messunsicherheit bei der Härteprüfung,\n     Excel Datei zur Durchführung, Mat.-wiss. U. Werkstofftechnik, 33, 2002, S. 204-215",null,null,null,"[6] Polzin, T., Schwenk, D., Verfahren zur Bestimmung der Messunsicherheit bei der Härteprüfung,\n     Excel Datei zur Durchführung, Mat.-wiss. U. Werkstofftechnik, 33, 2002, S. 204-215"]
["[7] Polzin, T., Schwenk, D., Bestimmung der Messunsicherheit bei der Härteprüfung, Vorgeschlagenen\n     Empfehlungen der Normen, Verfügbare Software, DGM Tagungsband, 2002, S. 318-323",null,null,null,"[7] Polzin, T., Schwenk, D., Bestimmung der Messunsicherheit bei der Härteprüfung, Vorgeschlagenen\n     Empfehlungen der Normen, Verfügbare Software, DGM Tagungsband, 2002, S. 318-323"]
["[8] Frenz H., Polzin T., Schwenk D., Vogt C., Bestimmung der Messunsicherheit bei der Härteprüfung, \n     vorgeschlagene Methoden für die Normen Härteprüfung, Praktische Metallographie 2004, S. 506-515",null,null,null,"[8] Frenz H., Polzin T., Schwenk D., Vogt C., Bestimmung der Messunsicherheit bei der Härteprüfung, \n     vorgeschlagene Methoden für die Normen Härteprüfung, Praktische Metallographie 2004, S. 506-515"]
["[9] Polzin T., Schwenk, D., Bestimmung der Messunsicherheit bei der Härteprüfung, EXCEL–File für die\n     periodische Prüfung und Bestimmung der Messunsicherheit, Praktische Metallographie, 2004-11",null,null,null,"[9] Polzin T., Schwenk, D., Bestimmung der Messunsicherheit bei der Härteprüfung, EXCEL–File für die\n     periodische Prüfung und Bestimmung der Messunsicherheit, Praktische Metallographie, 2004-11"]
["[10] Baudzus, D., Polzin T., Schwenk, D., Bestimmung der Messunsicherheit bei der Härteprüfung,\n      Einbringung der Bestimmung der Messunsicherheit in das QMH, Verfahrensanweisung des\n      Qualitätsmanagements, Praktische Metallographie, 2005-01",null,null,null,"[10] Baudzus, D., Polzin T., Schwenk, D., Bestimmung der Messunsicherheit bei der Härteprüfung,\n      Einbringung der Bestimmung der Messunsicherheit in das QMH, Verfahrensanweisung des\n      Qualitätsmanagements, Praktische Metallographie, 2005-01"]
[]
["Das Programm schützt nicht vor Fehlern bei der Verwendung von Härtevergleichsplatten. Die Durchführung der hier beschriebenen periodischen Prüfung ersetzt nicht die nach DIN 51220 geforderten regelmäßigen Prüfungen und Kalibrierungen der Härteprüfmaschine, sondern ergänzt sie nach den Empfehlungen der oben genannten Normen. Die maximale Anzahl von Eindrücken auf der Härtevergleichsplatte, die sich aus den in den Normen vorgegebenen Mindestabständen ergibt, ist für alle Verfahren verschieden. Das Programm überlässt dem Benutzer die Abschätzung, ab wann die Härtevergleichsplatte unbrauchbar ist und gibt nur einen Warnhinweis, wenn die nach Norm zulässige Maximalzahl an Eindrücken erreicht ist.",null,null,null,"The program does not protect against errors when using hardness reference blocks. The execution of the periodic check described here does not replace the regular examinations and calibrations of the hardness testing machines required by DIN 51220 and other standards, but supplements it following the recommendations of the above-mentioned standards. The maximum number of indentations on hardness reference blocks, which results from the minimum distances given in the standards, differs for all procedures. The program leaves the decision of when a hardness reference block loses its usefulness to the user and only gives a warning indication when the standard allowed maximum number of indentations has been reached."]
[]
["Für die Validierung der Software im Rahmen des QM ist der Nutzer verantwortlich.",null,null,null,"The user is responsible for validating the software within the context of the QS."]
[]
["Die Datei wurde virenfrei erstellt. Für eine Verseuchung auf dem Transportweg wird keine Haftung übernommen. Insbesondere da Makros im Einsatz sind, die für die Berechnung der Messunsicherheit aktiviert sein müssen, wird ein Virenscan dringend empfohlen.",null,null,null,"The file was produced virus-free. There is no guarantee against contamination during transport. Because macros are used, which have to be activated for a determination of the uncertainty, a virus scan is urgently recommended. "]
[]
[null,"Das MPA NRW bietet",null,null,null,"The MPA NRW offers"]
["Prüfung und Kalibrierung von Prüfmaschinen\nu.A. mit dem größten Kraftaufnehmer Europas.\nWeitere Informationen durch\nHerr Hesse\nTel: +49 (0) 231 4502 665",null,"Kalibrierung von Härtevergleichsplatten,\nEindingkörpern (Kugeln und Diamanten)\nWeitere Informationen\nHerr Dipl.-Ing. Schwenk / Herr Dipl.-Ing. Reinstädt\nTel: +49 (0) 231 4502 440\nTel: +49 (0) 231 4502 466",null,"Testing and calibration of testing machines, i.a.\nwith Europe´s largest force transducer\nFurther information by Mr Hesse\nPhone: +49 (0) 231 4502 665",null,"Calibration of hardness reference block and indenters for the hardness test (balls and diamonds)\nFurther information by\nMr Dipl.-Ing Schwenk / Mr Dipl.-Ing. Reinstädt\nPhone: +49 (0) 231 4502 440\nPhone: +49 (0) 231 4502 466"]
[]
[null,"MPA NRW,    44285 Dortmund",null,null,null,"MPA NRW,    44285 Dortmund"]
[null,"FAX:        +49 (0) 231 4502 666",null,null,null,"FAX:        +49 (0) 231 4502 666"]
[null,"E-Mail:   schwenk@mpanrw.de",null,null,null,"E-Mail:   schwenk@mpanrw.de"]
[]
[]
[]
["Copyright ©  2019",null,"Version: 20190101",null,{"$f":"A68","v":""},null,{"$f":"C68","v":""}]

{"sheet":"Setup","index":1,"n_rows":30,"n_cols":15,"rows_kept":30,"cut":false,"hidden":false,"merged":[[29,1,29,6],[22,1,22,6],[27,1,27,6],[22,7,22,9],[28,1,28,6],[26,1,26,6],[23,1,23,6],[23,7,23,9],[24,1,24,6],[24,7,24,9],[9,1,9,6],[1,0,1,14],[16,1,16,6],[17,1,17,6],[16,7,16,9],[17,7,17,9],[13,1,13,6],[10,1,10,6],[9,7,9,9],[12,1,12,6],[8,1,8,6],[6,7,6,9],[6,1,6,6],[7,7,7,9],[7,1,7,6],[8,7,8,9],[3,1,3,9],[4,1,4,6],[5,1,5,6],[4,7,4,9],[5,7,5,9],[18,1,18,6],[19,1,19,6],[11,1,11,6],[21,7,21,9],[10,7,10,9],[13,7,13,9],[18,7,18,9],[19,7,19,9],[20,7,20,9],[20,1,20,6],[21,1,21,6],[15,1,15,9],[12,7,12,9],[11,7,11,9]]}
["Einstellungen / Setup",null,null,null,null,null,null,null,null,null,null,null,null,null,"0000"]
[]
[]
[null,"Benutzerdaten / User data:"]
[null,"Firma / Company:"]
[null,"Abteilung / Department:"]
[null,"Spezifikation / Specification:"]
[null,"Skalenauflösung / Mimimal step:",null,null,null,null,null,0.1]
[null,"Stichprobenhäufigkeit / Frequency of inspection:"]
[null,"Werksbezeichnung / Factory identification:"]
[null,"Herstellungsjahr / Year of the production:"]
[null,"Hersteller / Producer:"]
[null,"Typ / Type:"]
[null,"Prüfer / Operator"]
[]
[null,"Kalibrierdaten / Calibration data:"]
[null,"Härtevergleichsplatte / Hardness reference block: ",null,null,null,null,null,"XXXXX10.0119"]
[null,"Normativer Bezug / Standard reference:",null,null,null,null,null,"DIN EN ISO 6508-2:2015-06"]
[null,"Kalibrierdatum / Date of the calibration:",null,null,null,null,null,"02.01.2019"]
[null,"Prüfverfahren / Testing methode:",null,null,null,null,null,"HRC"]
[null,"Kalibrierte Härte / Calibrated hardness value:",null,null,null,null,null,41.984999999999999]
[null,"Messunsicherheit / Uncertainty (Ucrm):",null,null,null,null,null,0.30099999999999999]
[null,"Zulässige Messabweichung / Alowed bias (ballowed):",null,null,null,null,null,1.5]
[null,"Zulässige Wiederholpräzision / Allowed repeatability (rallowed):",null,null,null,null,null,0.8]
[null,"Veränderbare zulässige Wiederholpräzision / Changeable allowed repeatability (rchangeable,allowed):",null,null,null,null,null,{"$f":"0.02*(100-'Periodic check'!$E$7)","v":null}]
[]
[null,null,null,null,null,null,null,"M1","M2","M3","M4","M5"]
[null,"Härtewerte der Kalibrierung / Hardness values of calibration [HR]:",null,null,null,null,null,41.975000000000001,41.957000000000001,41.975999999999999,42.033999999999999,41.985999999999997]
[null,"Messwerte der maximalen Eindringtiefe / Values of max. indentation depth [µm]:",null,null,null,null,null,139.601,139.42500000000001,139.404,139.28200000000001,139.351]
[null,"Messwerte der bleibenden Eindringtiefe / Values of permanent indentation depth [µm]:",null,null,null,null,null,115.998,116.03400000000001,115.997,115.88,115.976]

{"sheet":"Periodic check","index":2,"n_rows":1511,"n_cols":19,"rows_kept":1511,"cut":false,"hidden":false,"merged":[[0,0,0,14],[8,1,8,3],[3,0,3,3],[1,0,1,14],[2,0,2,3],[7,0,7,3],[4,0,4,3],[5,0,5,3],[6,0,6,3]]}
["Periodische Prüfung / Periodic Check"]
[]
["Härtevergleichsplatte / Hardness reference block: ",null,null,null,{"$f":"IF(Setup!H17<>\"\",Setup!H17,\"\")","v":""}]
["Kalibrierte Härte / Calibrated hardness value:",null,null,null,{"$f":"IF(Setup!H21<>\"\",Setup!H21,\"\")","v":null}]
["ballowed:",null,null,null,{"$f":"Setup!$H$23","v":null}]
["rallowed:",null,null,null,{"$f":"IF(Setup!H24>Setup!H25,Setup!H24,Setup!H25)","v":null}]
[":",null,null,null,{"$f":"IF($F$11>0,AVERAGE($F$11:$J$11),\"\")","v":null}]
[]
[null,"Anzahl der Messungen auf Diagramm:",null,null,50,null,"Mögliche Anzahl:",{"$f":"IF(ISNUMBER($E$9), IF(AND(COUNTA($F$11:$F$1511)>$E$9,$E$9>1),$E$9,COUNTA($F$11:$F$1511)-0),COUNTA($F$11:$F$1511)-0)","v":null},null,null,null,null,null,null,null,"für die periodische Prüfung soll unterschied zwischen Härtemittelwert und dem kalibriereten Härtewert die zulässige relative Grenzabweichung nicht überschreiten"]
["Nummer / No","Prüfer /\nOperator","Datum /\nDate","Bemerkungen,\nMaterialien /\nRemarks,\nmaterials","Spaltenname kann über den Button <Entsperren> editiert werden /\nName of column can be edited with the <Unlock> button","Härtever-\ngleichsplatte\nMessung /\nHardness reference block\nTest\n1","Härtever-\ngleichsplatte\nMessung /\nHardness reference block\nTest\n2","Härtever-\ngleichsplatte\nMessung /\nHardness reference block\nTest\n3","Härtever-\ngleichsplatte\nMessung /\nHardness reference block\nTest\n4","Härtever-\ngleichsplatte\nMessung /\nHardness reference block\nTest\n5","Mittlere \nHärte / \nMean \nhardness","Mittelere Härte\nüber alle Messungen /\nMean hardness\nof all tests","Messabweichung /\nDeviation of\nhardness\n\nb","Wiederhol-\npräzision /\nRepeatability \n\nr","Periodische Prüfung /\nPeriodic check"," +b allowed"," -b allowed","GA OK","WHP OK"]
[0,"Calibration",{"$f":"RIGHT(Setup!$H$19,10)","v":""},null,null,{"$f":"Setup!H28","v":null},{"$f":"Setup!I28","v":null},{"$f":"Setup!J28","v":null},{"$f":"Setup!K28","v":null},{"$f":"Setup!L28","v":null},{"$f":"IF(F11>0,AVERAGE(F11:J11),\"\")","v":null},null,null,null,null,{"$f":"IF(F11>0,$E$5,\"\")","v":null},{"$f":"IF(F11>0,$E$5*(-1),\"\")","v":null}]
[1,null,null,null,null,null,null,null,null,null,{"$f":"IF(F12>0,AVERAGE(F12:J12),\"\")","v":""},{"$f":"IF(F12>0,AVERAGE($K$12:K12),\"\")","v":""},{"$f":"IF(F12>0,(K12-$E$4),\"\")","v":""},{"$f":"IF(F12>0,MAX(F12:J12)-MIN(F12:J12),\"\")","v":""},{"$f":"IF(F12>0,IF(AND(R12=FALSE,S12=FALSE),\"<WHP+GA>\",IF(R12=FALSE,\"<GA>\",IF(S12=FALSE,\"<WHP>\",\"OK\"))),\"\")","v":""},"","",{"$f":"IFERROR(IF(ABS(M12)<=$E$5,TRUE,FALSE),\"\")","v":""},{"$f":"IFERROR(IF(ABS(N12)<=$E$6,TRUE,FALSE),\"\")","v":""}]
[2,null,null,null,null,null,null,null,null,null,"",{"$f":"IF(F13>0,AVERAGE($K$12:K13),\"\")","v":""},"",{"$f":"IF(F13>0,MAX(F13:J13)-MIN(F13:J13),\"\")","v":""},"","","","",""]
[3,null,null,null,null,null,null,null,null,null,"",{"$f":"IF(F14>0,AVERAGE($K$12:K14),\"\")","v":""},"","","","","","",""]
[4,null,null,null,null,null,null,null,null,null,"",{"$f":"IF(F15>0,AVERAGE($K$12:K15),\"\")","v":""},"","","","","","",""]
[5,null,null,null,null,null,null,null,null,null,"",{"$f":"IF(F16>0,AVERAGE($K$12:K16),\"\")","v":""},"","","","","","",""]
[6,null,null,null,null,null,null,null,null,null,"",{"$f":"IF(F17>0,AVERAGE($K$12:K17),\"\")","v":""},"","","","","","",""]
[7,null,null,null,null,null,null,null,null,null,"",{"$f":"IF(F18>0,AVERAGE($K$12:K18),\"\")","v":""},"","","","","","",""]
[8,null,null,null,null,null,null,null,null,null,"",{"$f":"IF(F19>0,AVERAGE($K$12:K19),\"\")","v":""},"","","","","","",""]
[9,null,null,null,null,null,null,null,null,null,"",{"$f":"IF(F20>0,AVERAGE($K$12:K20),\"\")","v":""},"","","","","","",""]
[10,null,null,null,null,null,null,null,null,null,"",{"$f":"IF(F21>0,AVERAGE($K$12:K21),\"\")","v":""},"","","","","","",""]
[11,null,null,null,null,null,null,null,null,null,"",{"$f":"IF(F22>0,AVERAGE($K$12:K22),\"\")","v":""},"","","","","","",""]
[12,null,null,null,null,null,null,null,null,null,"",{"$f":"IF(F23>0,AVERAGE($K$12:K23),\"\")","v":""},"","","","","","",""]
[13,null,null,null,null,null,null,null,null,null,"",{"$f":"IF(F24>0,AVERAGE($K$12:K24),\"\")","v":""},"","","","","","",""]
[14,null,null,null,null,null,null,null,null,null,"",{"$f":"IF(F25>0,AVERAGE($K$12:K25),\"\")","v":""},"","","","","","",""]
[15,null,null,null,null,null,null,null,null,null,"",{"$f":"IF(F26>0,AVERAGE($K$12:K26),\"\")","v":""},"","","","","","",""]
[16,null,null,null,null,null,null,null,null,null,"",{"$f":"IF(F27>0,AVERAGE($K$12:K27),\"\")","v":""},"","","","","","",""]
[17,null,null,null,null,null,null,null,null,null,"",{"$f":"IF(F28>0,AVERAGE($K$12:K28),\"\")","v":""},"","","","","","",""]
[18,null,null,null,null,null,null,null,null,null,"",{"$f":"IF(F29>0,AVERAGE($K$12:K29),\"\")","v":""},"","","","","","",""]
[19,null,null,null,null,null,null,null,null,null,"",{"$f":"IF(F30>0,AVERAGE($K$12:K30),\"\")","v":""},"","","","","","",""]
[20,null,null,null,null,null,null,null,null,null,"",{"$f":"IF(F31>0,AVERAGE($K$12:K31),\"\")","v":""},"","","","","","",""]
[21,null,null,null,null,null,null,null,null,null,"",{"$f":"IF(F32>0,AVERAGE($K$12:K32),\"\")","v":""},"","","","","","",""]
[22,null,null,null,null,null,null,null,null,null,"",{"$f":"IF(F33>0,AVERAGE($K$12:K33),\"\")","v":""},"","","","","","",""]
[23,null,null,null,null,null,null,null,null,null,"",{"$f":"IF(F34>0,AVERAGE($K$12:K34),\"\")","v":""},"","","","","","",""]
[24,null,null,null,null,null,null,null,null,null,"",{"$f":"IF(F35>0,AVERAGE($K$12:K35),\"\")","v":""},"","","","","","",""]
[25,null,null,null,null,null,null,null,null,null,"",{"$f":"IF(F36>0,AVERAGE($K$12:K36),\"\")","v":""},"","","","","","",""]
[26,null,null,null,null,null,null,null,null,null,"",{"$f":"IF(F37>0,AVERAGE($K$12:K37),\"\")","v":""},"","","","","","",""]
[27,null,null,null,null,null,null,null,null,null,"",{"$f":"IF(F38>0,AVERAGE($K$12:K38),\"\")","v":""},"","","","","","",""]
[28,null,null,null,null,null,null,null,null,null,"",{"$f":"IF(F39>0,AVERAGE($K$12:K39),\"\")","v":""},"","","","","","",""]
[29,null,null,null,null,null,null,null,null,null,"",{"$f":"IF(F40>0,AVERAGE($K$12:K40),\"\")","v":""},"","","","","","",""]
[30,null,null,null,null,null,null,null,null,null,"",{"$f":"IF(F41>0,AVERAGE($K$12:K41),\"\")","v":""},"","","","","","",""]
[31,null,null,null,null,null,null,null,null,null,"",{"$f":"IF(F42>0,AVERAGE($K$12:K42),\"\")","v":""},"","","","","","",""]
[32,null,null,null,null,null,null,null,null,null,"",{"$f":"IF(F43>0,AVERAGE($K$12:K43),\"\")","v":""},"","","","","","",""]
[33,null,null,null,null,null,null,null,null,null,"",{"$f":"IF(F44>0,AVERAGE($K$12:K44),\"\")","v":""},"","","","","","",""]
[34,null,null,null,null,null,null,null,null,null,"",{"$f":"IF(F45>0,AVERAGE($K$12:K45),\"\")","v":""},"","","","","","",""]
[35,null,null,null,null,null,null,null,null,null,"",{"$f":"IF(F46>0,AVERAGE($K$12:K46),\"\")","v":""},"","","","","","",""]
[36,null,null,null,null,null,null,null,null,null,"",{"$f":"IF(F47>0,AVERAGE($K$12:K47),\"\")","v":""},"","","","","","",""]
[37,null,null,null,null,null,null,null,null,null,"",{"$f":"IF(F48>0,AVERAGE($K$12:K48),\"\")","v":""},"","","","","","",""]
[38,null,null,null,null,null,null,null,null,null,"",{"$f":"IF(F49>0,AVERAGE($K$12:K49),\"\")","v":""},"","","","","","",""]
[39,null,null,null,null,null,null,null,null,null,"",{"$f":"IF(F50>0,AVERAGE($K$12:K50),\"\")","v":""},"","","","","","",""]
[40,null,null,null,null,null,null,null,null,null,"",{"$f":"IF(F51>0,AVERAGE($K$12:K51),\"\")","v":""},"","","","","","",""]
[41,null,null,null,null,null,null,null,null,null,"",{"$f":"IF(F52>0,AVERAGE($K$12:K52),\"\")","v":""},"","","","","","",""]
[42,null,null,null,null,null,null,null,null,null,"",{"$f":"IF(F53>0,AVERAGE($K$12:K53),\"\")","v":""},"","","","","","",""]
[43,null,null,null,null,null,null,null,null,null,"",{"$f":"IF(F54>0,AVERAGE($K$12:K54),\"\")","v":""},"","","","","","",""]
[44,null,null,null,null,null,null,null,null,null,"",{"$f":"IF(F55>0,AVERAGE($K$12:K55),\"\")","v":""},"","","","","","",""]
[45,null,null,null,null,null,null,null,null,null,"",{"$f":"IF(F56>0,AVERAGE($K$12:K56),\"\")","v":""},"","","","","","",""]
[46,null,null,null,null,null,null,null,null,null,"",{"$f":"IF(F57>0,AVERAGE($K$12:K57),\"\")","v":""},"","","","","","",""]
[47,null,null,null,null,null,null,null,null,null,"",{"$f":"IF(F58>0,AVERAGE($K$12:K58),\"\")","v":""},"","","","","","",""]
[48,null,null,null,null,null,null,null,null,null,"",{"$f":"IF(F59>0,AVERAGE($K$12:K59),\"\")","v":""},"","","","","","",""]
[49,null,null,null,null,null,null,null,null,null,"",{"$f":"IF(F60>0,AVERAGE($K$12:K60),\"\")","v":""},"","","","","","",""]
[50,null,null,null,null,null,null,null,null,null,"",{"$f":"IF(F61>0,AVERAGE($K$12:K61),\"\")","v":""},"","","","","","",""]
[51,null,null,null,null,null,null,null,null,null,"",{"$f":"IF(F62>0,AVERAGE($K$12:K62),\"\")","v":""},"","","","","","",""]
[52,null,null,null,null,null,null,null,null,null,"",{"$f":"IF(F63>0,AVERAGE($K$12:K63),\"\")","v":""},"","","","","","",""]
[53,null,null,null,null,null,null,null,null,null,"",{"$f":"IF(F64>0,AVERAGE($K$12:K64),\"\")","v":""},"","","","","","",""]
[54,null,null,null,null,null,null,null,null,null,"",{"$f":"IF(F65>0,AVERAGE($K$12:K65),\"\")","v":""},"","","","","","",""]
[55,null,null,null,null,null,null,null,null,null,"",{"$f":"IF(F66>0,AVERAGE($K$12:K66),\"\")","v":""},"","","","","","",""]
[56,null,null,null,null,null,null,null,null,null,"",{"$f":"IF(F67>0,AVERAGE($K$12:K67),\"\")","v":""},"","","","","","",""]
[57,null,null,null,null,null,null,null,null,null,"",{"$f":"IF(F68>0,AVERAGE($K$12:K68),\"\")","v":""},"","","","","","",""]
[58,null,null,null,null,null,null,null,null,null,"",{"$f":"IF(F69>0,AVERAGE($K$12:K69),\"\")","v":""},"","","","","","",""]
[59,null,null,null,null,null,null,null,null,null,"",{"$f":"IF(F70>0,AVERAGE($K$12:K70),\"\")","v":""},"","","","","","",""]
[60,null,null,null,null,null,null,null,null,null,"",{"$f":"IF(F71>0,AVERAGE($K$12:K71),\"\")","v":""},"","","","","","",""]
[61,null,null,null,null,null,null,null,null,null,"",{"$f":"IF(F72>0,AVERAGE($K$12:K72),\"\")","v":""},"","","","","","",""]
[62,null,null,null,null,null,null,null,null,null,"",{"$f":"IF(F73>0,AVERAGE($K$12:K73),\"\")","v":""},"","","","","","",""]
[63,null,null,null,null,null,null,null,null,null,"",{"$f":"IF(F74>0,AVERAGE($K$12:K74),\"\")","v":""},"","","","","","",""]
[64,null,null,null,null,null,null,null,null,null,"",{"$f":"IF(F75>0,AVERAGE($K$12:K75),\"\")","v":""},"","","",{"$f":"IF(F75>0,$E$5,\"\")","v":""},{"$f":"IF(F75>0,$E$5*(-1),\"\")","v":""},"",""]
[65,null,null,null,null,null,null,null,null,null,{"$f":"IF(F76>0,AVERAGE(F76:J76),\"\")","v":""},{"$f":"IF(F76>0,AVERAGE($K$12:K76),\"\")","v":""},{"$f":"IF(F76>0,(K76-$E$4),\"\")","v":""},"",{"$f":"IF(F76>0,IF(AND(R76=FALSE,S76=FALSE),\"<WHP+GA>\",IF(R76=FALSE,\"<GA>\",IF(S76=FALSE,\"<WHP>\",\"OK\"))),\"\")","v":""},"","",{"$f":"IFERROR(IF(ABS(M76)<=$E$5,TRUE,FALSE),\"\")","v":""},{"$f":"IFERROR(IF(ABS(N76)<=$E$6,TRUE,FALSE),\"\")","v":""}]
[66,null,null,null,null,null,null,null,null,null,"",{"$f":"IF(F77>0,AVERAGE($K$12:K77),\"\")","v":""},"",{"$f":"IF(F77>0,MAX(F77:J77)-MIN(F77:J77),\"\")","v":""},"","","","",""]
[67,null,null,null,null,null,null,null,null,null,"",{"$f":"IF(F78>0,AVERAGE($K$12:K78),\"\")","v":""},"","","","","","",""]
[68,null,null,null,null,null,null,null,null,null,"",{"$f":"IF(F79>0,AVERAGE($K$12:K79),\"\")","v":""},"","","","","","",""]
[69,null,null,null,null,null,null,null,null,null,"",{"$f":"IF(F80>0,AVERAGE($K$12:K80),\"\")","v":""},"","","","","","",""]
[70,null,null,null,null,null,null,null,null,null,"",{"$f":"IF(F81>0,AVERAGE($K$12:K81),\"\")","v":""},"","","","","","",""]
[71,null,null,null,null,null,null,null,null,null,"",{"$f":"IF(F82>0,AVERAGE($K$12:K82),\"\")","v":""},"","","","","","",""]
[72,null,null,null,null,null,null,null,null,null,"",{"$f":"IF(F83>0,AVERAGE($K$12:K83),\"\")","v":""},"","","","","","",""]
[73,null,null,null,null,null,null,null,null,null,"",{"$f":"IF(F84>0,AVERAGE($K$12:K84),\"\")","v":""},"","","","","","",""]
[74,null,null,null,null,null,null,null,null,null,"",{"$f":"IF(F85>0,AVERAGE($K$12:K85),\"\")","v":""},"","","","","","",""]
[75,null,null,null,null,null,null,null,null,null,"",{"$f":"IF(F86>0,AVERAGE($K$12:K86),\"\")","v":""},"","","","","","",""]
[76,null,null,null,null,null,null,null,null,null,"",{"$f":"IF(F87>0,AVERAGE($K$12:K87),\"\")","v":""},"","","","","","",""]
[77,null,null,null,null,null,null,null,null,null,"",{"$f":"IF(F88>0,AVERAGE($K$12:K88),\"\")","v":""},"","","","","","",""]
[78,null,null,null,null,null,null,null,null,null,"",{"$f":"IF(F89>0,AVERAGE($K$12:K89),\"\")","v":""},"","","","","","",""]
[79,null,null,null,null,null,null,null,null,null,"",{"$f":"IF(F90>0,AVERAGE($K$12:K90),\"\")","v":""},"","","","","","",""]
[80,null,null,null,null,null,null,null,null,null,"",{"$f":"IF(F91>0,AVERAGE($K$12:K91),\"\")","v":""},"","","","","","",""]
[81,null,null,null,null,null,null,null,null,null,"",{"$f":"IF(F92>0,AVERAGE($K$12:K92),\"\")","v":""},"","","","","","",""]
[82,null,null,null,null,null,null,null,null,null,"",{"$f":"IF(F93>0,AVERAGE($K$12:K93),\"\")","v":""},"","","","","","",""]
[83,null,null,null,null,null,null,null,null,null,"",{"$f":"IF(F94>0,AVERAGE($K$12:K94),\"\")","v":""},"","","","","","",""]
[84,null,null,null,null,null,null,null,null,null,"",{"$f":"IF(F95>0,AVERAGE($K$12:K95),\"\")","v":""},"","","","","","",""]
[85,null,null,null,null,null,null,null,null,null,"",{"$f":"IF(F96>0,AVERAGE($K$12:K96),\"\")","v":""},"","","","","","",""]
[86,null,null,null,null,null,null,null,null,null,"",{"$f":"IF(F97>0,AVERAGE($K$12:K97),\"\")","v":""},"","","","","","",""]
[87,null,null,null,null,null,null,null,null,null,"",{"$f":"IF(F98>0,AVERAGE($K$12:K98),\"\")","v":""},"","","","","","",""]
[88,null,null,null,null,null,null,null,null,null,"",{"$f":"IF(F99>0,AVERAGE($K$12:K99),\"\")","v":""},"","","","","","",""]
[89,null,null,null,null,null,null,null,null,null,"",{"$f":"IF(F100>0,AVERAGE($K$12:K100),\"\")","v":""},"","","","","","",""]
[90,null,null,null,null,null,null,null,null,null,"",{"$f":"IF(F101>0,AVERAGE($K$12:K101),\"\")","v":""},"","","","","","",""]
[91,null,null,null,null,null,null,null,null,null,"",{"$f":"IF(F102>0,AVERAGE($K$12:K102),\"\")","v":""},"","","","","","",""]
[92,null,null,null,null,null,null,null,null,null,"",{"$f":"IF(F103>0,AVERAGE($K$12:K103),\"\")","v":""},"","","","","","",""]
[93,null,null,null,null,null,null,null,null,null,"",{"$f":"IF(F104>0,AVERAGE($K$12:K104),\"\")","v":""},"","","","","","",""]
[94,null,null,null,null,null,null,null,null,null,"",{"$f":"IF(F105>0,AVERAGE($K$12:K105),\"\")","v":""},"","","","","","",""]
[95,null,null,null,null,null,null,null,null,null,"",{"$f":"IF(F106>0,AVERAGE($K$12:K106),\"\")","v":""},"","","","","","",""]
[96,null,null,null,null,null,null,null,null,null,"",{"$f":"IF(F107>0,AVERAGE($K$12:K107),\"\")","v":""},"","","","","","",""]
[97,null,null,null,null,null,null,null,null,null,"",{"$f":"IF(F108>0,AVERAGE($K$12:K108),\"\")","v":""},"","","","","","",""]
[98,null,null,null,null,null,null,null,null,null,"",{"$f":"IF(F109>0,AVERAGE($K$12:K109),\"\")","v":""},"","","","","","",""]
[99,null,null,null,null,null,null,null,null,null,"",{"$f":"IF(F110>0,AVERAGE($K$12:K110),\"\")","v":""},"","","","","","",""]
[100,null,null,null,null,null,null,null,null,null,"",{"$f":"IF(F111>0,AVERAGE($K$12:K111),\"\")","v":""},"","","","","","",""]
[101,null,null,null,null,null,null,null,null,null,"",{"$f":"IF(F112>0,AVERAGE($K$12:K112),\"\")","v":""},"","","","","","",""]
[102,null,null,null,null,null,null,null,null,null,"",{"$f":"IF(F113>0,AVERAGE($K$12:K113),\"\")","v":""},"","","","","","",""]
[103,null,null,null,null,null,null,null,null,null,"",{"$f":"IF(F114>0,AVERAGE($K$12:K114),\"\")","v":""},"","","","","","",""]
[104,null,null,null,null,null,null,null,null,null,"",{"$f":"IF(F115>0,AVERAGE($K$12:K115),\"\")","v":""},"","","","","","",""]
[105,null,null,null,null,null,null,null,null,null,"",{"$f":"IF(F116>0,AVERAGE($K$12:K116),\"\")","v":""},"","","","","","",""]
[106,null,null,null,null,null,null,null,null,null,"",{"$f":"IF(F117>0,AVERAGE($K$12:K117),\"\")","v":""},"","","","","","",""]
[107,null,null,null,null,null,null,null,null,null,"",{"$f":"IF(F118>0,AVERAGE($K$12:K118),\"\")","v":""},"","","","","","",""]
[108,null,null,null,null,null,null,null,null,null,"",{"$f":"IF(F119>0,AVERAGE($K$12:K119),\"\")","v":""},"","","","","","",""]
[109,null,null,null,null,null,null,null,null,null,"",{"$f":"IF(F120>0,AVERAGE($K$12:K120),\"\")","v":""},"","","","","","",""]
[110,null,null,null,null,null,null,null,null,null,"",{"$f":"IF(F121>0,AVERAGE($K$12:K121),\"\")","v":""},"","","","","","",""]
[111,null,null,null,null,null,null,null,null,null,"",{"$f":"IF(F122>0,AVERAGE($K$12:K122),\"\")","v":""},"","","","","","",""]
[112,null,null,null,null,null,null,null,null,null,"",{"$f":"IF(F123>0,AVERAGE($K$12:K123),\"\")","v":""},"","","","","","",""]
[113,null,null,null,null,null,null,null,null,null,"",{"$f":"IF(F124>0,AVERAGE($K$12:K124),\"\")","v":""},"","","","","","",""]
[114,null,null,null,null,null,null,null,null,null,"",{"$f":"IF(F125>0,AVERAGE($K$12:K125),\"\")","v":""},"","","","","","",""]
[115,null,null,null,null,null,null,null,null,null,"",{"$f":"IF(F126>0,AVERAGE($K$12:K126),\"\")","v":""},"","","","","","",""]
[116,null,null,null,null,null,null,null,null,null,"",{"$f":"IF(F127>0,AVERAGE($K$12:K127),\"\")","v":""},"","","","","","",""]
[117,null,null,null,null,null,null,null,null,null,"",{"$f":"IF(F128>0,AVERAGE($K$12:K128),\"\")","v":""},"","","","","","",""]
[118,null,null,null,null,null,null,null,null,null,"",{"$f":"IF(F129>0,AVERAGE($K$12:K129),\"\")","v":""},"","","","","","",""]
[119,null,null,null,null,null,null,null,null,null,"",{"$f":"IF(F130>0,AVERAGE($K$12:K130),\"\")","v":""},"","","","","","",""]
[120,null,null,null,null,null,null,null,null,null,"",{"$f":"IF(F131>0,AVERAGE($K$12:K131),\"\")","v":""},"","","","","","",""]
[121,null,null,null,null,null,null,null,null,null,"",{"$f":"IF(F132>0,AVERAGE($K$12:K132),\"\")","v":""},"","","","","","",""]
[122,null,null,null,null,null,null,null,null,null,"",{"$f":"IF(F133>0,AVERAGE($K$12:K133),\"\")","v":""},"","","","","","",""]
[123,null,null,null,null,null,null,null,null,null,"",{"$f":"IF(F134>0,AVERAGE($K$12:K134),\"\")","v":""},"","","","","","",""]
[124,null,null,null,null,null,null,null,null,null,"",{"$f":"IF(F135>0,AVERAGE($K$12:K135),\"\")","v":""},"","","","","","",""]
[125,null,null,null,null,null,null,null,null,null,"",{"$f":"IF(F136>0,AVERAGE($K$12:K136),\"\")","v":""},"","","","","","",""]
[126,null,null,null,null,null,null,null,null,null,"",{"$f":"IF(F137>0,AVERAGE($K$12:K137),\"\")","v":""},"","","","","","",""]
[127,null,null,null,null,null,null,null,null,null,"",{"$f":"IF(F138>0,AVERAGE($K$12:K138),\"\")","v":""},"","","","","","",""]
[128,null,null,null,null,null,null,null,null,null,"",{"$f":"IF(F139>0,AVERAGE($K$12:K139),\"\")","v":""},"","","",{"$f":"IF(F139>0,$E$5,\"\")","v":""},{"$f":"IF(F139>0,$E$5*(-1),\"\")","v":""},"",""]
[129,null,null,null,null,null,null,null,null,null,{"$f":"IF(F140>0,AVERAGE(F140:J140),\"\")","v":""},{"$f":"IF(F140>0,AVERAGE($K$12:K140),\"\")","v":""},{"$f":"IF(F140>0,(K140-$E$4),\"\")","v":""},"",{"$f":"IF(F140>0,IF(AND(R140=FALSE,S140=FALSE),\"<WHP+GA>\",IF(R140=FALSE,\"<GA>\",IF(S140=FALSE,\"<WHP>\",\"OK\"))),\"\")","v":""},"","",{"$f":"IFERROR(IF(ABS(M140)<=$E$5,TRUE,FALSE),\"\")","v":""},{"$f":"IFERROR(IF(ABS(N140)<=$E$6,TRUE,FALSE),\"\")","v":""}]
[130,null,null,null,null,null,null,null,null,null,"",{"$f":"IF(F141>0,AVERAGE($K$12:K141),\"\")","v":""},"",{"$f":"IF(F141>0,MAX(F141:J141)-MIN(F141:J141),\"\")","v":""},"","","","",""]
[131,null,null,null,null,null,null,null,null,null,"",{"$f":"IF(F142>0,AVERAGE($K$12:K142),\"\")","v":""},"","","","","","",""]
[132,null,null,null,null,null,null,null,null,null,"",{"$f":"IF(F143>0,AVERAGE($K$12:K143),\"\")","v":""},"","","","","","",""]
[133,null,null,null,null,null,null,null,null,null,"",{"$f":"IF(F144>0,AVERAGE($K$12:K144),\"\")","v":""},"","","","","","",""]
[134,null,null,null,null,null,null,null,null,null,"",{"$f":"IF(F145>0,AVERAGE($K$12:K145),\"\")","v":""},"","","","","","",""]
[135,null,null,null,null,null,null,null,null,null,"",{"$f":"IF(F146>0,AVERAGE($K$12:K146),\"\")","v":""},"","","","","","",""]
[136,null,null,null,null,null,null,null,null,null,"",{"$f":"IF(F147>0,AVERAGE($K$12:K147),\"\")","v":""},"","","","","","",""]
[137,null,null,null,null,null,null,null,null,null,"",{"$f":"IF(F148>0,AVERAGE($K$12:K148),\"\")","v":""},"","","","","","",""]
[138,null,null,null,null,null,null,null,null,null,"",{"$f":"IF(F149>0,AVERAGE($K$12:K149),\"\")","v":""},"","","","","","",""]
[139,null,null,null,null,null,null,null,null,null,"",{"$f":"IF(F150>0,AVERAGE($K$12:K150),\"\")","v":""},"","","","","","",""]
[140,null,null,null,null,null,null,null,null,null,"",{"$f":"IF(F151>0,AVERAGE($K$12:K151),\"\")","v":""},"","","","","","",""]
[141,null,null,null,null,null,null,null,null,null,"",{"$f":"IF(F152>0,AVERAGE($K$12:K152),\"\")","v":""},"","","","","","",""]
[142,null,null,null,null,null,null,null,null,null,"",{"$f":"IF(F153>0,AVERAGE($K$12:K153),\"\")","v":""},"","","","","","",""]
[143,null,null,null,null,null,null,null,null,null,"",{"$f":"IF(F154>0,AVERAGE($K$12:K154),\"\")","v":""},"","","","","","",""]
[144,null,null,null,null,null,null,null,null,null,"",{"$f":"IF(F155>0,AVERAGE($K$12:K155),\"\")","v":""},"","","","","","",""]
[145,null,null,null,null,null,null,null,null,null,"",{"$f":"IF(F156>0,AVERAGE($K$12:K156),\"\")","v":""},"","","","","","",""]
[146,null,null,null,null,null,null,null,null,null,"",{"$f":"IF(F157>0,AVERAGE($K$12:K157),\"\")","v":""},"","","","","","",""]
[147,null,null,null,null,null,null,null,null,null,"",{"$f":"IF(F158>0,AVERAGE($K$12:K158),\"\")","v":""},"","","","","","",""]
[148,null,null,null,null,null,null,null,null,null,"",{"$f":"IF(F159>0,AVERAGE($K$12:K159),\"\")","v":""},"","","","","","",""]
[149,null,null,null,null,null,null,null,null,null,"",{"$f":"IF(F160>0,AVERAGE($K$12:K160),\"\")","v":""},"","","","","","",""]
[150,null,null,null,null,null,null,null,null,null,"",{"$f":"IF(F161>0,AVERAGE($K$12:K161),\"\")","v":""},"","","","","","",""]
[151,null,null,null,null,null,null,null,null,null,"",{"$f":"IF(F162>0,AVERAGE($K$12:K162),\"\")","v":""},"","","","","","",""]
[152,null,null,null,null,null,null,null,null,null,"",{"$f":"IF(F163>0,AVERAGE($K$12:K163),\"\")","v":""},"","","","","","",""]
[153,null,null,null,null,null,null,null,null,null,"",{"$f":"IF(F164>0,AVERAGE($K$12:K164),\"\")","v":""},"","","","","","",""]
[154,null,null,null,null,null,null,null,null,null,"",{"$f":"IF(F165>0,AVERAGE($K$12:K165),\"\")","v":""},"","","","","","",""]
[155,null,null,null,null,null,null,null,null,null,"",{"$f":"IF(F166>0,AVERAGE($K$12:K166),\"\")","v":""},"","","","","","",""]
[156,null,null,null,null,null,null,null,null,null,"",{"$f":"IF(F167>0,AVERAGE($K$12:K167),\"\")","v":""},"","","","","","",""]
[157,null,null,null,null,null,null,null,null,null,"",{"$f":"IF(F168>0,AVERAGE($K$12:K168),\"\")","v":""},"","","","","","",""]
[158,null,null,null,null,null,null,null,null,null,"",{"$f":"IF(F169>0,AVERAGE($K$12:K169),\"\")","v":""},"","","","","","",""]
[159,null,null,null,null,null,null,null,null,null,"",{"$f":"IF(F170>0,AVERAGE($K$12:K170),\"\")","v":""},"","","","","","",""]
[160,null,null,null,null,null,null,null,null,null,"",{"$f":"IF(F171>0,AVERAGE($K$12:K171),\"\")","v":""},"","","","","","",""]
[161,null,null,null,null,null,null,null,null,null,"",{"$f":"IF(F172>0,AVERAGE($K$12:K172),\"\")","v":""},"","","","","","",""]
[162,null,null,null,null,null,null,null,null,null,"",{"$f":"IF(F173>0,AVERAGE($K$12:K173),\"\")","v":""},"","","","","","",""]
[163,null,null,null,null,null,null,null,null,null,"",{"$f":"IF(F174>0,AVERAGE($K$12:K174),\"\")","v":""},"","","","","","",""]
[164,null,null,null,null,null,null,null,null,null,"",{"$f":"IF(F175>0,AVERAGE($K$12:K175),\"\")","v":""},"","","","","","",""]
[165,null,null,null,null,null,null,null,null,null,"",{"$f":"IF(F176>0,AVERAGE($K$12:K176),\"\")","v":""},"","","","","","",""]
[166,null,null,null,null,null,null,null,null,null,"",{"$f":"IF(F177>0,AVERAGE($K$12:K177),\"\")","v":""},"","","","","","",""]
[167,null,null,null,null,null,null,null,null,null,"",{"$f":"IF(F178>0,AVERAGE($K$12:K178),\"\")","v":""},"","","","","","",""]
[168,null,null,null,null,null,null,null,null,null,"",{"$f":"IF(F179>0,AVERAGE($K$12:K179),\"\")","v":""},"","","","","","",""]
[169,null,null,null,null,null,null,null,null,null,"",{"$f":"IF(F180>0,AVERAGE($K$12:K180),\"\")","v":""},"","","","","","",""]
[170,null,null,null,null,null,null,null,null,null,"",{"$f":"IF(F181>0,AVERAGE($K$12:K181),\"\")","v":""},"","","","","","",""]
[171,null,null,null,null,null,null,null,null,null,"",{"$f":"IF(F182>0,AVERAGE($K$12:K182),\"\")","v":""},"","","","","","",""]
[172,null,null,null,null,null,null,null,null,null,"",{"$f":"IF(F183>0,AVERAGE($K$12:K183),\"\")","v":""},"","","","","","",""]
[173,null,null,null,null,null,null,null,null,null,"",{"$f":"IF(F184>0,AVERAGE($K$12:K184),\"\")","v":""},"","","","","","",""]
[174,null,null,null,null,null,null,null,null,null,"",{"$f":"IF(F185>0,AVERAGE($K$12:K185),\"\")","v":""},"","","","","","",""]
[175,null,null,null,null,null,null,null,null,null,"",{"$f":"IF(F186>0,AVERAGE($K$12:K186),\"\")","v":""},"","","","","","",""]
[176,null,null,null,null,null,null,null,null,null,"",{"$f":"IF(F187>0,AVERAGE($K$12:K187),\"\")","v":""},"","","","","","",""]
[177,null,null,null,null,null,null,null,null,null,"",{"$f":"IF(F188>0,AVERAGE($K$12:K188),\"\")","v":""},"","","","","","",""]
[178,null,null,null,null,null,null,null,null,null,"",{"$f":"IF(F189>0,AVERAGE($K$12:K189),\"\")","v":""},"","","","","","",""]
[179,null,null,null,null,null,null,null,null,null,"",{"$f":"IF(F190>0,AVERAGE($K$12:K190),\"\")","v":""},"","","","","","",""]
[180,null,null,null,null,null,null,null,null,null,"",{"$f":"IF(F191>0,AVERAGE($K$12:K191),\"\")","v":""},"","","","","","",""]
[181,null,null,null,null,null,null,null,null,null,"",{"$f":"IF(F192>0,AVERAGE($K$12:K192),\"\")","v":""},"","","","","","",""]
[182,null,null,null,null,null,null,null,null,null,"",{"$f":"IF(F193>0,AVERAGE($K$12:K193),\"\")","v":""},"","","","","","",""]
[183,null,null,null,null,null,null,null,null,null,"",{"$f":"IF(F194>0,AVERAGE($K$12:K194),\"\")","v":""},"","","","","","",""]
[184,null,null,null,null,null,null,null,null,null,"",{"$f":"IF(F195>0,AVERAGE($K$12:K195),\"\")","v":""},"","","","","","",""]
[185,null,null,null,null,null,null,null,null,null,"",{"$f":"IF(F196>0,AVERAGE($K$12:K196),\"\")","v":""},"","","","","","",""]
[186,null,null,null,null,null,null,null,null,null,"",{"$f":"IF(F197>0,AVERAGE($K$12:K197),\"\")","v":""},"","","","","","",""]
[187,null,null,null,null,null,null,null,null,null,"",{"$f":"IF(F198>0,AVERAGE($K$12:K198),\"\")","v":""},"","","","","","",""]
[188,null,null,null,null,null,null,null,null,null,"",{"$f":"IF(F199>0,AVERAGE($K$12:K199),\"\")","v":""},"","","","","","",""]
[189,null,null,null,null,null,null,null,null,null,"",{"$f":"IF(F200>0,AVERAGE($K$12:K200),\"\")","v":""},"","","","","","",""]
[190,null,null,null,null,null,null,null,null,null,"",{"$f":"IF(F201>0,AVERAGE($K$12:K201),\"\")","v":""},"","","","","","",""]
[191,null,null,null,null,null,null,null,null,null,"",{"$f":"IF(F202>0,AVERAGE($K$12:K202),\"\")","v":""},"","","","","","",""]
[192,null,null,null,null,null,null,null,null,null,"",{"$f":"IF(F203>0,AVERAGE($K$12:K203),\"\")","v":""},"","","",{"$f":"IF(F203>0,$E$5,\"\")","v":""},{"$f":"IF(F203>0,$E$5*(-1),\"\")","v":""},"",""]
[193,null,null,null,null,null,null,null,null,null,{"$f":"IF(F204>0,AVERAGE(F204:J204),\"\")","v":""},{"$f":"IF(F204>0,AVERAGE($K$12:K204),\"\")","v":""},{"$f":"IF(F204>0,(K204-$E$4),\"\")","v":""},"",{"$f":"IF(F204>0,IF(AND(R204=FALSE,S204=FALSE),\"<WHP+GA>\",IF(R204=FALSE,\"<GA>\",IF(S204=FALSE,\"<WHP>\",\"OK\"))),\"\")","v":""},"","",{"$f":"IFERROR(IF(ABS(M204)<=$E$5,TRUE,FALSE),\"\")","v":""},{"$f":"IFERROR(IF(ABS(N204)<=$E$6,TRUE,FALSE),\"\")","v":""}]
[194,null,null,null,null,null,null,null,null,null,"",{"$f":"IF(F205>0,AVERAGE($K$12:K205),\"\")","v":""},"",{"$f":"IF(F205>0,MAX(F205:J205)-MIN(F205:J205),\"\")","v":""},"","","","",""]
[195,null,null,null,null,null,null,null,null,null,"",{"$f":"IF(F206>0,AVERAGE($K$12:K206),\"\")","v":""},"","","","","","",""]
[196,null,null,null,null,null,null,null,null,null,"",{"$f":"IF(F207>0,AVERAGE($K$12:K207),\"\")","v":""},"","","","","","",""]
[197,null,null,null,null,null,null,null,null,null,"",{"$f":"IF(F208>0,AVERAGE($K$12:K208),\"\")","v":""},"","","","","","",""]
[198,null,null,null,null,null,null,null,null,null,"",{"$f":"IF(F209>0,AVERAGE($K$12:K209),\"\")","v":""},"","","","","","",""]
[199,null,null,null,null,null,null,null,null,null,"",{"$f":"IF(F210>0,AVERAGE($K$12:K210),\"\")","v":""},"","","","","","",""]
[200,null,null,null,null,null,null,null,null,null,"",{"$f":"IF(F211>0,AVERAGE($K$12:K211),\"\")","v":""},"","","","","","",""]
[201,null,null,null,null,null,null,null,null,null,"",{"$f":"IF(F212>0,AVERAGE($K$12:K212),\"\")","v":""},"","","","","","",""]
[202,null,null,null,null,null,null,null,null,null,"",{"$f":"IF(F213>0,AVERAGE($K$12:K213),\"\")","v":""},"","","","","","",""]
[203,null,null,null,null,null,null,null,null,null,"",{"$f":"IF(F214>0,AVERAGE($K$12:K214),\"\")","v":""},"","","","","","",""]
[204,null,null,null,null,null,null,null,null,null,"",{"$f":"IF(F215>0,AVERAGE($K$12:K215),\"\")","v":""},"","","","","","",""]
[205,null,null,null,null,null,null,null,null,null,"",{"$f":"IF(F216>0,AVERAGE($K$12:K216),\"\")","v":""},"","","","","","",""]
[206,null,null,null,null,null,null,null,null,null,"",{"$f":"IF(F217>0,AVERAGE($K$12:K217),\"\")","v":""},"","","","","","",""]
[207,null,null,null,null,null,null,null,null,null,"",{"$f":"IF(F218>0,AVERAGE($K$12:K218),\"\")","v":""},"","","","","","",""]
[208,null,null,null,null,null,null,null,null,null,"",{"$f":"IF(F219>0,AVERAGE($K$12:K219),\"\")","v":""},"","","","","","",""]
[209,null,null,null,null,null,null,null,null,null,"",{"$f":"IF(F220>0,AVERAGE($K$12:K220),\"\")","v":""},"","","","","","",""]
[210,null,null,null,null,null,null,null,null,null,"",{"$f":"IF(F221>0,AVERAGE($K$12:K221),\"\")","v":""},"","","","","","",""]
[211,null,null,null,null,null,null,null,null,null,"",{"$f":"IF(F222>0,AVERAGE($K$12:K222),\"\")","v":""},"","","","","","",""]
[212,null,null,null,null,null,null,null,null,null,"",{"$f":"IF(F223>0,AVERAGE($K$12:K223),\"\")","v":""},"","","","","","",""]
[213,null,null,null,null,null,null,null,null,null,"",{"$f":"IF(F224>0,AVERAGE($K$12:K224),\"\")","v":""},"","","","","","",""]
[214,null,null,null,null,null,null,null,null,null,"",{"$f":"IF(F225>0,AVERAGE($K$12:K225),\"\")","v":""},"","","","","","",""]
[215,null,null,null,null,null,null,null,null,null,"",{"$f":"IF(F226>0,AVERAGE($K$12:K226),\"\")","v":""},"","","","","","",""]
[216,null,null,null,null,null,null,null,null,null,"",{"$f":"IF(F227>0,AVERAGE($K$12:K227),\"\")","v":""},"","","","","","",""]
[217,null,null,null,null,null,null,null,null,null,"",{"$f":"IF(F228>0,AVERAGE($K$12:K228),\"\")","v":""},"","","","","","",""]
[218,null,null,null,null,null,null,null,null,null,"",{"$f":"IF(F229>0,AVERAGE($K$12:K229),\"\")","v":""},"","","","","","",""]
[219,null,null,null,null,null,null,null,null,null,"",{"$f":"IF(F230>0,AVERAGE($K$12:K230),\"\")","v":""},"","","","","","",""]
[220,null,null,null,null,null,null,null,null,null,"",{"$f":"IF(F231>0,AVERAGE($K$12:K231),\"\")","v":""},"","","","","","",""]
[221,null,null,null,null,null,null,null,null,null,"",{"$f":"IF(F232>0,AVERAGE($K$12:K232),\"\")","v":""},"","","","","","",""]
[222,null,null,null,null,null,null,null,null,null,"",{"$f":"IF(F233>0,AVERAGE($K$12:K233),\"\")","v":""},"","","","","","",""]
[223,null,null,null,null,null,null,null,null,null,"",{"$f":"IF(F234>0,AVERAGE($K$12:K234),\"\")","v":""},"","","","","","",""]
[224,null,null,null,null,null,null,null,null,null,"",{"$f":"IF(F235>0,AVERAGE($K$12:K235),\"\")","v":""},"","","","","","",""]
[225,null,null,null,null,null,null,null,null,null,"",{"$f":"IF(F236>0,AVERAGE($K$12:K236),\"\")","v":""},"","","","","","",""]
[226,null,null,null,null,null,null,null,null,null,"",{"$f":"IF(F237>0,AVERAGE($K$12:K237),\"\")","v":""},"","","","","","",""]
[227,null,null,null,null,null,null,null,null,null,"",{"$f":"IF(F238>0,AVERAGE($K$12:K238),\"\")","v":""},"","","","","","",""]
[228,null,null,null,null,null,null,null,null,null,"",{"$f":"IF(F239>0,AVERAGE($K$12:K239),\"\")","v":""},"","","","","","",""]
[229,null,null,null,null,null,null,null,null,null,"",{"$f":"IF(F240>0,AVERAGE($K$12:K240),\"\")","v":""},"","","","","","",""]
[230,null,null,null,null,null,null,null,null,null,"",{"$f":"IF(F241>0,AVERAGE($K$12:K241),\"\")","v":""},"","","","","","",""]
[231,null,null,null,null,null,null,null,null,null,"",{"$f":"IF(F242>0,AVERAGE($K$12:K242),\"\")","v":""},"","","","","","",""]
[232,null,null,null,null,null,null,null,null,null,"",{"$f":"IF(F243>0,AVERAGE($K$12:K243),\"\")","v":""},"","","","","","",""]
[233,null,null,null,null,null,null,null,null,null,"",{"$f":"IF(F244>0,AVERAGE($K$12:K244),\"\")","v":""},"","","","","","",""]
[234,null,null,null,null,null,null,null,null,null,"",{"$f":"IF(F245>0,AVERAGE($K$12:K245),\"\")","v":""},"","","","","","",""]
[235,null,null,null,null,null,null,null,null,null,"",{"$f":"IF(F246>0,AVERAGE($K$12:K246),\"\")","v":""},"","","","","","",""]
[236,null,null,null,null,null,null,null,null,null,"",{"$f":"IF(F247>0,AVERAGE($K$12:K247),\"\")","v":""},"","","","","","",""]
[237,null,null,null,null,null,null,null,null,null,"",{"$f":"IF(F248>0,AVERAGE($K$12:K248),\"\")","v":""},"","","","","","",""]
[238,null,null,null,null,null,null,null,null,null,"",{"$f":"IF(F249>0,AVERAGE($K$12:K249),\"\")","v":""},"","","","","","",""]
[239,null,null,null,null,null,null,null,null,null,"",{"$f":"IF(F250>0,AVERAGE($K$12:K250),\"\")","v":""},"","","","","","",""]
[240,null,null,null,null,null,null,null,null,null,"",{"$f":"IF(F251>0,AVERAGE($K$12:K251),\"\")","v":""},"","","","","","",""]
[241,null,null,null,null,null,null,null,null,null,"",{"$f":"IF(F252>0,AVERAGE($K$12:K252),\"\")","v":""},"","","","","","",""]
[242,null,null,null,null,null,null,null,null,null,"",{"$f":"IF(F253>0,AVERAGE($K$12:K253),\"\")","v":""},"","","","","","",""]
[243,null,null,null,null,null,null,null,null,null,"",{"$f":"IF(F254>0,AVERAGE($K$12:K254),\"\")","v":""},"","","","","","",""]
[244,null,null,null,null,null,null,null,null,null,"",{"$f":"IF(F255>0,AVERAGE($K$12:K255),\"\")","v":""},"","","","","","",""]
[245,null,null,null,null,null,null,null,null,null,"",{"$f":"IF(F256>0,AVERAGE($K$12:K256),\"\")","v":""},"","","","","","",""]
[246,null,null,null,null,null,null,null,null,null,"",{"$f":"IF(F257>0,AVERAGE($K$12:K257),\"\")","v":""},"","","","","","",""]
[247,null,null,null,null,null,null,null,null,null,"",{"$f":"IF(F258>0,AVERAGE($K$12:K258),\"\")","v":""},"","","","","","",""]
[248,null,null,null,null,null,null,null,null,null,"",{"$f":"IF(F259>0,AVERAGE($K$12:K259),\"\")","v":""},"","","","","","",""]
[249,null,null,null,null,null,null,null,null,null,"",{"$f":"IF(F260>0,AVERAGE($K$12:K260),\"\")","v":""},"","","","","","",""]
[250,null,null,null,null,null,null,null,null,null,"",{"$f":"IF(F261>0,AVERAGE($K$12:K261),\"\")","v":""},"","","","","","",""]
[251,null,null,null,null,null,null,null,null,null,"",{"$f":"IF(F262>0,AVERAGE($K$12:K262),\"\")","v":""},"","","","","","",""]
[252,null,null,null,null,null,null,null,null,null,"",{"$f":"IF(F263>0,AVERAGE($K$12:K263),\"\")","v":""},"","","","","","",""]
[253,null,null,null,null,null,null,null,null,null,"",{"$f":"IF(F264>0,AVERAGE($K$12:K264),\"\")","v":""},"","","","","","",""]
[254,null,null,null,null,null,null,null,null,null,"",{"$f":"IF(F265>0,AVERAGE($K$12:K265),\"\")","v":""},"","","","","","",""]
[255,null,null,null,null,null,null,null,null,null,"",{"$f":"IF(F266>0,AVERAGE($K$12:K266),\"\")","v":""},"","","","","","",""]
[256,null,null,null,null,null,null,null,null,null,"",{"$f":"IF(F267>0,AVERAGE($K$12:K267),\"\")","v":""},"","","",{"$f":"IF(F267>0,$E$5,\"\")","v":""},{"$f":"IF(F267>0,$E$5*(-1),\"\")","v":""},"",""]
[257,null,null,null,null,null,null,null,null,null,{"$f":"IF(F268>0,AVERAGE(F268:J268),\"\")","v":""},{"$f":"IF(F268>0,AVERAGE($K$12:K268),\"\")","v":""},{"$f":"IF(F268>0,(K268-$E$4),\"\")","v":""},"",{"$f":"IF(F268>0,IF(AND(R268=FALSE,S268=FALSE),\"<WHP+GA>\",IF(R268=FALSE,\"<GA>\",IF(S268=FALSE,\"<WHP>\",\"OK\"))),\"\")","v":""},"","",{"$f":"IFERROR(IF(ABS(M268)<=$E$5,TRUE,FALSE),\"\")","v":""},{"$f":"IFERROR(IF(ABS(N268)<=$E$6,TRUE,FALSE),\"\")","v":""}]
[258,null,null,null,null,null,null,null,null,null,"",{"$f":"IF(F269>0,AVERAGE($K$12:K269),\"\")","v":""},"",{"$f":"IF(F269>0,MAX(F269:J269)-MIN(F269:J269),\"\")","v":""},"","","","",""]
[259,null,null,null,null,null,null,null,null,null,"",{"$f":"IF(F270>0,AVERAGE($K$12:K270),\"\")","v":""},"","","","","","",""]
[260,null,null,null,null,null,null,null,null,null,"",{"$f":"IF(F271>0,AVERAGE($K$12:K271),\"\")","v":""},"","","","","","",""]
[261,null,null,null,null,null,null,null,null,null,"",{"$f":"IF(F272>0,AVERAGE($K$12:K272),\"\")","v":""},"","","","","","",""]
[262,null,null,null,null,null,null,null,null,null,"",{"$f":"IF(F273>0,AVERAGE($K$12:K273),\"\")","v":""},"","","","","","",""]
[263,null,null,null,null,null,null,null,null,null,"",{"$f":"IF(F274>0,AVERAGE($K$12:K274),\"\")","v":""},"","","","","","",""]
[264,null,null,null,null,null,null,null,null,null,"",{"$f":"IF(F275>0,AVERAGE($K$12:K275),\"\")","v":""},"","","","","","",""]
[265,null,null,null,null,null,null,null,null,null,"",{"$f":"IF(F276>0,AVERAGE($K$12:K276),\"\")","v":""},"","","","","","",""]
[266,null,null,null,null,null,null,null,null,null,"",{"$f":"IF(F277>0,AVERAGE($K$12:K277),\"\")","v":""},"","","","","","",""]
[267,null,null,null,null,null,null,null,null,null,"",{"$f":"IF(F278>0,AVERAGE($K$12:K278),\"\")","v":""},"","","","","","",""]
[268,null,null,null,null,null,null,null,null,null,"",{"$f":"IF(F279>0,AVERAGE($K$12:K279),\"\")","v":""},"","","","","","",""]
[269,null,null,null,null,null,null,null,null,null,"",{"$f":"IF(F280>0,AVERAGE($K$12:K280),\"\")","v":""},"","","","","","",""]
[270,null,null,null,null,null,null,null,null,null,"",{"$f":"IF(F281>0,AVERAGE($K$12:K281),\"\")","v":""},"","","","","","",""]
[271,null,null,null,null,null,null,null,null,null,"",{"$f":"IF(F282>0,AVERAGE($K$12:K282),\"\")","v":""},"","","","","","",""]
[272,null,null,null,null,null,null,null,null,null,"",{"$f":"IF(F283>0,AVERAGE($K$12:K283),\"\")","v":""},"","","","","","",""]
[273,null,null,null,null,null,null,null,null,null,"",{"$f":"IF(F284>0,AVERAGE($K$12:K284),\"\")","v":""},"","","","","","",""]
[274,null,null,null,null,null,null,null,null,null,"",{"$f":"IF(F285>0,AVERAGE($K$12:K285),\"\")","v":""},"","","","","","",""]
[275,null,null,null,null,null,null,null,null,null,"",{"$f":"IF(F286>0,AVERAGE($K$12:K286),\"\")","v":""},"","","","","","",""]
[276,null,null,null,null,null,null,null,null,null,"",{"$f":"IF(F287>0,AVERAGE($K$12:K287),\"\")","v":""},"","","","","","",""]
[277,null,null,null,null,null,null,null,null,null,"",{"$f":"IF(F288>0,AVERAGE($K$12:K288),\"\")","v":""},"","","","","","",""]
[278,null,null,null,null,null,null,null,null,null,"",{"$f":"IF(F289>0,AVERAGE($K$12:K289),\"\")","v":""},"","","","","","",""]
[279,null,null,null,null,null,null,null,null,null,"",{"$f":"IF(F290>0,AVERAGE($K$12:K290),\"\")","v":""},"","","","","","",""]
[280,null,null,null,null,null,null,null,null,null,"",{"$f":"IF(F291>0,AVERAGE($K$12:K291),\"\")","v":""},"","","","","","",""]
[281,null,null,null,null,null,null,null,null,null,"",{"$f":"IF(F292>0,AVERAGE($K$12:K292),\"\")","v":""},"","","","","","",""]
[282,null,null,null,null,null,null,null,null,null,"",{"$f":"IF(F293>0,AVERAGE($K$12:K293),\"\")","v":""},"","","","","","",""]
[283,null,null,null,null,null,null,null,null,null,"",{"$f":"IF(F294>0,AVERAGE($K$12:K294),\"\")","v":""},"","","","","","",""]
[284,null,null,null,null,null,null,null,null,null,"",{"$f":"IF(F295>0,AVERAGE($K$12:K295),\"\")","v":""},"","","","","","",""]
[285,null,null,null,null,null,null,null,null,null,"",{"$f":"IF(F296>0,AVERAGE($K$12:K296),\"\")","v":""},"","","","","","",""]
[286,null,null,null,null,null,null,null,null,null,"",{"$f":"IF(F297>0,AVERAGE($K$12:K297),\"\")","v":""},"","","","","","",""]
[287,null,null,null,null,null,null,null,null,null,"",{"$f":"IF(F298>0,AVERAGE($K$12:K298),\"\")","v":""},"","","","","","",""]
[288,null,null,null,null,null,null,null,null,null,"",{"$f":"IF(F299>0,AVERAGE($K$12:K299),\"\")","v":""},"","","","","","",""]
[289,null,null,null,null,null,null,null,null,null,"",{"$f":"IF(F300>0,AVERAGE($K$12:K300),\"\")","v":""},"","","","","","",""]
[290,null,null,null,null,null,null,null,null,null,"",{"$f":"IF(F301>0,AVERAGE($K$12:K301),\"\")","v":""},"","","","","","",""]
[291,null,null,null,null,null,null,null,null,null,"",{"$f":"IF(F302>0,AVERAGE($K$12:K302),\"\")","v":""},"","","","","","",""]
[292,null,null,null,null,null,null,null,null,null,"",{"$f":"IF(F303>0,AVERAGE($K$12:K303),\"\")","v":""},"","","","","","",""]
[293,null,null,null,null,null,null,null,null,null,"",{"$f":"IF(F304>0,AVERAGE($K$12:K304),\"\")","v":""},"","","","","","",""]
[294,null,null,null,null,null,null,null,null,null,"",{"$f":"IF(F305>0,AVERAGE($K$12:K305),\"\")","v":""},"","","","","","",""]
[295,null,null,null,null,null,null,null,null,null,"",{"$f":"IF(F306>0,AVERAGE($K$12:K306),\"\")","v":""},"","","","","","",""]
[296,null,null,null,null,null,null,null,null,null,"",{"$f":"IF(F307>0,AVERAGE($K$12:K307),\"\")","v":""},"","","","","","",""]
[297,null,null,null,null,null,null,null,null,null,"",{"$f":"IF(F308>0,AVERAGE($K$12:K308),\"\")","v":""},"","","","","","",""]
[298,null,null,null,null,null,null,null,null,null,"",{"$f":"IF(F309>0,AVERAGE($K$12:K309),\"\")","v":""},"","","","","","",""]
[299,null,null,null,null,null,null,null,null,null,"",{"$f":"IF(F310>0,AVERAGE($K$12:K310),\"\")","v":""},"","","","","","",""]
[300,null,null,null,null,null,null,null,null,null,"",{"$f":"IF(F311>0,AVERAGE($K$12:K311),\"\")","v":""},"","","","","","",""]
[301,null,null,null,null,null,null,null,null,null,"",{"$f":"IF(F312>0,AVERAGE($K$12:K312),\"\")","v":""},"","","","","","",""]
[302,null,null,null,null,null,null,null,null,null,"",{"$f":"IF(F313>0,AVERAGE($K$12:K313),\"\")","v":""},"","","","","","",""]
[303,null,null,null,null,null,null,null,null,null,"",{"$f":"IF(F314>0,AVERAGE($K$12:K314),\"\")","v":""},"","","","","","",""]
[304,null,null,null,null,null,null,null,null,null,"",{"$f":"IF(F315>0,AVERAGE($K$12:K315),\"\")","v":""},"","","","","","",""]
[305,null,null,null,null,null,null,null,null,null,"",{"$f":"IF(F316>0,AVERAGE($K$12:K316),\"\")","v":""},"","","","","","",""]
[306,null,null,null,null,null,null,null,null,null,"",{"$f":"IF(F317>0,AVERAGE($K$12:K317),\"\")","v":""},"","","","","","",""]
[307,null,null,null,null,null,null,null,null,null,"",{"$f":"IF(F318>0,AVERAGE($K$12:K318),\"\")","v":""},"","","","","","",""]
[308,null,null,null,null,null,null,null,null,null,"",{"$f":"IF(F319>0,AVERAGE($K$12:K319),\"\")","v":""},"","","","","","",""]
[309,null,null,null,null,null,null,null,null,null,"",{"$f":"IF(F320>0,AVERAGE($K$12:K320),\"\")","v":""},"","","","","","",""]
[310,null,null,null,null,null,null,null,null,null,"",{"$f":"IF(F321>0,AVERAGE($K$12:K321),\"\")","v":""},"","","","","","",""]
[311,null,null,null,null,null,null,null,null,null,"",{"$f":"IF(F322>0,AVERAGE($K$12:K322),\"\")","v":""},"","","","","","",""]
[312,null,null,null,null,null,null,null,null,null,"",{"$f":"IF(F323>0,AVERAGE($K$12:K323),\"\")","v":""},"","","","","","",""]
[313,null,null,null,null,null,null,null,null,null,"",{"$f":"IF(F324>0,AVERAGE($K$12:K324),\"\")","v":""},"","","","","","",""]
[314,null,null,null,null,null,null,null,null,null,"",{"$f":"IF(F325>0,AVERAGE($K$12:K325),\"\")","v":""},"","","","","","",""]
[315,null,null,null,null,null,null,null,null,null,"",{"$f":"IF(F326>0,AVERAGE($K$12:K326),\"\")","v":""},"","","","","","",""]
[316,null,null,null,null,null,null,null,null,null,"",{"$f":"IF(F327>0,AVERAGE($K$12:K327),\"\")","v":""},"","","","","","",""]
[317,null,null,null,null,null,null,null,null,null,"",{"$f":"IF(F328>0,AVERAGE($K$12:K328),\"\")","v":""},"","","","","","",""]
[318,null,null,null,null,null,null,null,null,null,"",{"$f":"IF(F329>0,AVERAGE($K$12:K329),\"\")","v":""},"","","","","","",""]
[319,null,null,null,null,null,null,null,null,null,"",{"$f":"IF(F330>0,AVERAGE($K$12:K330),\"\")","v":""},"","","","","","",""]
[320,null,null,null,null,null,null,null,null,null,"",{"$f":"IF(F331>0,AVERAGE($K$12:K331),\"\")","v":""},"","","",{"$f":"IF(F331>0,$E$5,\"\")","v":""},{"$f":"IF(F331>0,$E$5*(-1),\"\")","v":""},"",""]
[321,null,null,null,null,null,null,null,null,null,{"$f":"IF(F332>0,AVERAGE(F332:J332),\"\")","v":""},{"$f":"IF(F332>0,AVERAGE($K$12:K332),\"\")","v":""},{"$f":"IF(F332>0,(K332-$E$4),\"\")","v":""},"",{"$f":"IF(F332>0,IF(AND(R332=FALSE,S332=FALSE),\"<WHP+GA>\",IF(R332=FALSE,\"<GA>\",IF(S332=FALSE,\"<WHP>\",\"OK\"))),\"\")","v":""},"","",{"$f":"IFERROR(IF(ABS(M332)<=$E$5,TRUE,FALSE),\"\")","v":""},{"$f":"IFERROR(IF(ABS(N332)<=$E$6,TRUE,FALSE),\"\")","v":""}]
[322,null,null,null,null,null,null,null,null,null,"",{"$f":"IF(F333>0,AVERAGE($K$12:K333),\"\")","v":""},"",{"$f":"IF(F333>0,MAX(F333:J333)-MIN(F333:J333),\"\")","v":""},"","","","",""]
[323,null,null,null,null,null,null,null,null,null,"",{"$f":"IF(F334>0,AVERAGE($K$12:K334),\"\")","v":""},"","","","","","",""]
[324,null,null,null,null,null,null,null,null,null,"",{"$f":"IF(F335>0,AVERAGE($K$12:K335),\"\")","v":""},"","","","","","",""]
[325,null,null,null,null,null,null,null,null,null,"",{"$f":"IF(F336>0,AVERAGE($K$12:K336),\"\")","v":""},"","","","","","",""]
[326,null,null,null,null,null,null,null,null,null,"",{"$f":"IF(F337>0,AVERAGE($K$12:K337),\"\")","v":""},"","","","","","",""]
[327,null,null,null,null,null,null,null,null,null,"",{"$f":"IF(F338>0,AVERAGE($K$12:K338),\"\")","v":""},"","","","","","",""]
[328,null,null,null,null,null,null,null,null,null,"",{"$f":"IF(F339>0,AVERAGE($K$12:K339),\"\")","v":""},"","","","","","",""]
[329,null,null,null,null,null,null,null,null,null,"",{"$f":"IF(F340>0,AVERAGE($K$12:K340),\"\")","v":""},"","","","","","",""]
[330,null,null,null,null,null,null,null,null,null,"",{"$f":"IF(F341>0,AVERAGE($K$12:K341),\"\")","v":""},"","","","","","",""]
[331,null,null,null,null,null,null,null,null,null,"",{"$f":"IF(F342>0,AVERAGE($K$12:K342),\"\")","v":""},"","","","","","",""]
[332,null,null,null,null,null,null,null,null,null,"",{"$f":"IF(F343>0,AVERAGE($K$12:K343),\"\")","v":""},"","","","","","",""]
[333,null,null,null,null,null,null,null,null,null,"",{"$f":"IF(F344>0,AVERAGE($K$12:K344),\"\")","v":""},"","","","","","",""]
[334,null,null,null,null,null,null,null,null,null,"",{"$f":"IF(F345>0,AVERAGE($K$12:K345),\"\")","v":""},"","","","","","",""]
[335,null,null,null,null,null,null,null,null,null,"",{"$f":"IF(F346>0,AVERAGE($K$12:K346),\"\")","v":""},"","","","","","",""]
[336,null,null,null,null,null,null,null,null,null,"",{"$f":"IF(F347>0,AVERAGE($K$12:K347),\"\")","v":""},"","","","","","",""]
[337,null,null,null,null,null,null,null,null,null,"",{"$f":"IF(F348>0,AVERAGE($K$12:K348),\"\")","v":""},"","","","","","",""]
[338,null,null,null,null,null,null,null,null,null,"",{"$f":"IF(F349>0,AVERAGE($K$12:K349),\"\")","v":""},"","","","","","",""]
[339,null,null,null,null,null,null,null,null,null,"",{"$f":"IF(F350>0,AVERAGE($K$12:K350),\"\")","v":""},"","","","","","",""]
[340,null,null,null,null,null,null,null,null,null,"",{"$f":"IF(F351>0,AVERAGE($K$12:K351),\"\")","v":""},"","","","","","",""]
[341,null,null,null,null,null,null,null,null,null,"",{"$f":"IF(F352>0,AVERAGE($K$12:K352),\"\")","v":""},"","","","","","",""]
[342,null,null,null,null,null,null,null,null,null,"",{"$f":"IF(F353>0,AVERAGE($K$12:K353),\"\")","v":""},"","","","","","",""]
[343,null,null,null,null,null,null,null,null,null,"",{"$f":"IF(F354>0,AVERAGE($K$12:K354),\"\")","v":""},"","","","","","",""]
[344,null,null,null,null,null,null,null,null,null,"",{"$f":"IF(F355>0,AVERAGE($K$12:K355),\"\")","v":""},"","","","","","",""]
[345,null,null,null,null,null,null,null,null,null,"",{"$f":"IF(F356>0,AVERAGE($K$12:K356),\"\")","v":""},"","","","","","",""]
[346,null,null,null,null,null,null,null,null,null,"",{"$f":"IF(F357>0,AVERAGE($K$12:K357),\"\")","v":""},"","","","","","",""]
[347,null,null,null,null,null,null,null,null,null,"",{"$f":"IF(F358>0,AVERAGE($K$12:K358),\"\")","v":""},"","","","","","",""]
[348,null,null,null,null,null,null,null,null,null,"",{"$f":"IF(F359>0,AVERAGE($K$12:K359),\"\")","v":""},"","","","","","",""]
[349,null,null,null,null,null,null,null,null,null,"",{"$f":"IF(F360>0,AVERAGE($K$12:K360),\"\")","v":""},"","","","","","",""]
[350,null,null,null,null,null,null,null,null,null,"",{"$f":"IF(F361>0,AVERAGE($K$12:K361),\"\")","v":""},"","","","","","",""]
[351,null,null,null,null,null,null,null,null,null,"",{"$f":"IF(F362>0,AVERAGE($K$12:K362),\"\")","v":""},"","","","","","",""]
[352,null,null,null,null,null,null,null,null,null,"",{"$f":"IF(F363>0,AVERAGE($K$12:K363),\"\")","v":""},"","","","","","",""]
[353,null,null,null,null,null,null,null,null,null,"",{"$f":"IF(F364>0,AVERAGE($K$12:K364),\"\")","v":""},"","","","","","",""]
[354,null,null,null,null,null,null,null,null,null,"",{"$f":"IF(F365>0,AVERAGE($K$12:K365),\"\")","v":""},"","","","","","",""]
[355,null,null,null,null,null,null,null,null,null,"",{"$f":"IF(F366>0,AVERAGE($K$12:K366),\"\")","v":""},"","","","","","",""]
[356,null,null,null,null,null,null,null,null,null,"",{"$f":"IF(F367>0,AVERAGE($K$12:K367),\"\")","v":""},"","","","","","",""]
[357,null,null,null,null,null,null,null,null,null,"",{"$f":"IF(F368>0,AVERAGE($K$12:K368),\"\")","v":""},"","","","","","",""]
[358,null,null,null,null,null,null,null,null,null,"",{"$f":"IF(F369>0,AVERAGE($K$12:K369),\"\")","v":""},"","","","","","",""]
[359,null,null,null,null,null,null,null,null,null,"",{"$f":"IF(F370>0,AVERAGE($K$12:K370),\"\")","v":""},"","","","","","",""]
[360,null,null,null,null,null,null,null,null,null,"",{"$f":"IF(F371>0,AVERAGE($K$12:K371),\"\")","v":""},"","","","","","",""]
[361,null,null,null,null,null,null,null,null,null,"",{"$f":"IF(F372>0,AVERAGE($K$12:K372),\"\")","v":""},"","","","","","",""]
[362,null,null,null,null,null,null,null,null,null,"",{"$f":"IF(F373>0,AVERAGE($K$12:K373),\"\")","v":""},"","","","","","",""]
[363,null,null,null,null,null,null,null,null,null,"",{"$f":"IF(F374>0,AVERAGE($K$12:K374),\"\")","v":""},"","","","","","",""]
[364,null,null,null,null,null,null,null,null,null,"",{"$f":"IF(F375>0,AVERAGE($K$12:K375),\"\")","v":""},"","","","","","",""]
[365,null,null,null,null,null,null,null,null,null,"",{"$f":"IF(F376>0,AVERAGE($K$12:K376),\"\")","v":""},"","","","","","",""]
[366,null,null,null,null,null,null,null,null,null,"",{"$f":"IF(F377>0,AVERAGE($K$12:K377),\"\")","v":""},"","","","","","",""]
[367,null,null,null,null,null,null,null,null,null,"",{"$f":"IF(F378>0,AVERAGE($K$12:K378),\"\")","v":""},"","","","","","",""]
[368,null,null,null,null,null,null,null,null,null,"",{"$f":"IF(F379>0,AVERAGE($K$12:K379),\"\")","v":""},"","","","","","",""]
[369,null,null,null,null,null,null,null,null,null,"",{"$f":"IF(F380>0,AVERAGE($K$12:K380),\"\")","v":""},"","","","","","",""]
[370,null,null,null,null,null,null,null,null,null,"",{"$f":"IF(F381>0,AVERAGE($K$12:K381),\"\")","v":""},"","","","","","",""]
[371,null,null,null,null,null,null,null,null,null,"",{"$f":"IF(F382>0,AVERAGE($K$12:K382),\"\")","v":""},"","","","","","",""]
[372,null,null,null,null,null,null,null,null,null,"",{"$f":"IF(F383>0,AVERAGE($K$12:K383),\"\")","v":""},"","","","","","",""]
[373,null,null,null,null,null,null,null,null,null,"",{"$f":"IF(F384>0,AVERAGE($K$12:K384),\"\")","v":""},"","","","","","",""]
[374,null,null,null,null,null,null,null,null,null,"",{"$f":"IF(F385>0,AVERAGE($K$12:K385),\"\")","v":""},"","","","","","",""]
[375,null,null,null,null,null,null,null,null,null,"",{"$f":"IF(F386>0,AVERAGE($K$12:K386),\"\")","v":""},"","","","","","",""]
[376,null,null,null,null,null,null,null,null,null,"",{"$f":"IF(F387>0,AVERAGE($K$12:K387),\"\")","v":""},"","","","","","",""]
[377,null,null,null,null,null,null,null,null,null,"",{"$f":"IF(F388>0,AVERAGE($K$12:K388),\"\")","v":""},"","","","","","",""]
[378,null,null,null,null,null,null,null,null,null,"",{"$f":"IF(F389>0,AVERAGE($K$12:K389),\"\")","v":""},"","","","","","",""]
[379,null,null,null,null,null,null,null,null,null,"",{"$f":"IF(F390>0,AVERAGE($K$12:K390),\"\")","v":""},"","","","","","",""]
[380,null,null,null,null,null,null,null,null,null,"",{"$f":"IF(F391>0,AVERAGE($K$12:K391),\"\")","v":""},"","","","","","",""]
[381,null,null,null,null,null,null,null,null,null,"",{"$f":"IF(F392>0,AVERAGE($K$12:K392),\"\")","v":""},"","","","","","",""]
[382,null,null,null,null,null,null,null,null,null,"",{"$f":"IF(F393>0,AVERAGE($K$12:K393),\"\")","v":""},"","","","","","",""]
[383,null,null,null,null,null,null,null,null,null,"",{"$f":"IF(F394>0,AVERAGE($K$12:K394),\"\")","v":""},"","","","","","",""]
[384,null,null,null,null,null,null,null,null,null,"",{"$f":"IF(F395>0,AVERAGE($K$12:K395),\"\")","v":""},"","","",{"$f":"IF(F395>0,$E$5,\"\")","v":""},{"$f":"IF(F395>0,$E$5*(-1),\"\")","v":""},"",""]
[385,null,null,null,null,null,null,null,null,null,{"$f":"IF(F396>0,AVERAGE(F396:J396),\"\")","v":""},{"$f":"IF(F396>0,AVERAGE($K$12:K396),\"\")","v":""},{"$f":"IF(F396>0,(K396-$E$4),\"\")","v":""},"",{"$f":"IF(F396>0,IF(AND(R396=FALSE,S396=FALSE),\"<WHP+GA>\",IF(R396=FALSE,\"<GA>\",IF(S396=FALSE,\"<WHP>\",\"OK\"))),\"\")","v":""},"","",{"$f":"IFERROR(IF(ABS(M396)<=$E$5,TRUE,FALSE),\"\")","v":""},{"$f":"IFERROR(IF(ABS(N396)<=$E$6,TRUE,FALSE),\"\")","v":""}]
[386,null,null,null,null,null,null,null,null,null,"",{"$f":"IF(F397>0,AVERAGE($K$12:K397),\"\")","v":""},"",{"$f":"IF(F397>0,MAX(F397:J397)-MIN(F397:J397),\"\")","v":""},"","","","",""]
[387,null,null,null,null,null,null,null,null,null,"",{"$f":"IF(F398>0,AVERAGE($K$12:K398),\"\")","v":""},"","","","","","",""]
[388,null,null,null,null,null,null,null,null,null,"",{"$f":"IF(F399>0,AVERAGE($K$12:K399),\"\")","v":""},"","","","","","",""]
[389,null,null,null,null,null,null,null,null,null,"",{"$f":"IF(F400>0,AVERAGE($K$12:K400),\"\")","v":""},"","","","","","",""]
[390,null,null,null,null,null,null,null,null,null,"",{"$f":"IF(F401>0,AVERAGE($K$12:K401),\"\")","v":""},"","","","","","",""]
[391,null,null,null,null,null,null,null,null,null,"",{"$f":"IF(F402>0,AVERAGE($K$12:K402),\"\")","v":""},"","","","","","",""]
[392,null,null,null,null,null,null,null,null,null,"",{"$f":"IF(F403>0,AVERAGE($K$12:K403),\"\")","v":""},"","","","","","",""]
[393,null,null,null,null,null,null,null,null,null,"",{"$f":"IF(F404>0,AVERAGE($K$12:K404),\"\")","v":""},"","","","","","",""]
[394,null,null,null,null,null,null,null,null,null,"",{"$f":"IF(F405>0,AVERAGE($K$12:K405),\"\")","v":""},"","","","","","",""]
[395,null,null,null,null,null,null,null,null,null,"",{"$f":"IF(F406>0,AVERAGE($K$12:K406),\"\")","v":""},"","","","","","",""]
[396,null,null,null,null,null,null,null,null,null,"",{"$f":"IF(F407>0,AVERAGE($K$12:K407),\"\")","v":""},"","","","","","",""]
[397,null,null,null,null,null,null,null,null,null,"",{"$f":"IF(F408>0,AVERAGE($K$12:K408),\"\")","v":""},"","","","","","",""]
[398,null,null,null,null,null,null,null,null,null,"",{"$f":"IF(F409>0,AVERAGE($K$12:K409),\"\")","v":""},"","","","","","",""]
[399,null,null,null,null,null,null,null,null,null,"",{"$f":"IF(F410>0,AVERAGE($K$12:K410),\"\")","v":""},"","","","","","",""]
[400,null,null,null,null,null,null,null,null,null,"",{"$f":"IF(F411>0,AVERAGE($K$12:K411),\"\")","v":""},"","","","","","",""]
[401,null,null,null,null,null,null,null,null,null,"",{"$f":"IF(F412>0,AVERAGE($K$12:K412),\"\")","v":""},"","","","","","",""]
[402,null,null,null,null,null,null,null,null,null,"",{"$f":"IF(F413>0,AVERAGE($K$12:K413),\"\")","v":""},"","","","","","",""]
[403,null,null,null,null,null,null,null,null,null,"",{"$f":"IF(F414>0,AVERAGE($K$12:K414),\"\")","v":""},"","","","","","",""]
[404,null,null,null,null,null,null,null,null,null,"",{"$f":"IF(F415>0,AVERAGE($K$12:K415),\"\")","v":""},"","","","","","",""]
[405,null,null,null,null,null,null,null,null,null,"",{"$f":"IF(F416>0,AVERAGE($K$12:K416),\"\")","v":""},"","","","","","",""]
[406,null,null,null,null,null,null,null,null,null,"",{"$f":"IF(F417>0,AVERAGE($K$12:K417),\"\")","v":""},"","","","","","",""]
[407,null,null,null,null,null,null,null,null,null,"",{"$f":"IF(F418>0,AVERAGE($K$12:K418),\"\")","v":""},"","","","","","",""]
[408,null,null,null,null,null,null,null,null,null,"",{"$f":"IF(F419>0,AVERAGE($K$12:K419),\"\")","v":""},"","","","","","",""]
[409,null,null,null,null,null,null,null,null,null,"",{"$f":"IF(F420>0,AVERAGE($K$12:K420),\"\")","v":""},"","","","","","",""]
[410,null,null,null,null,null,null,null,null,null,"",{"$f":"IF(F421>0,AVERAGE($K$12:K421),\"\")","v":""},"","","","","","",""]
[411,null,null,null,null,null,null,null,null,null,"",{"$f":"IF(F422>0,AVERAGE($K$12:K422),\"\")","v":""},"","","","","","",""]
[412,null,null,null,null,null,null,null,null,null,"",{"$f":"IF(F423>0,AVERAGE($K$12:K423),\"\")","v":""},"","","","","","",""]
[413,null,null,null,null,null,null,null,null,null,"",{"$f":"IF(F424>0,AVERAGE($K$12:K424),\"\")","v":""},"","","","","","",""]
[414,null,null,null,null,null,null,null,null,null,"",{"$f":"IF(F425>0,AVERAGE($K$12:K425),\"\")","v":""},"","","","","","",""]
[415,null,null,null,null,null,null,null,null,null,"",{"$f":"IF(F426>0,AVERAGE($K$12:K426),\"\")","v":""},"","","","","","",""]
[416,null,null,null,null,null,null,null,null,null,"",{"$f":"IF(F427>0,AVERAGE($K$12:K427),\"\")","v":""},"","","","","","",""]
[417,null,null,null,null,null,null,null,null,null,"",{"$f":"IF(F428>0,AVERAGE($K$12:K428),\"\")","v":""},"","","","","","",""]
[418,null,null,null,null,null,null,null,null,null,"",{"$f":"IF(F429>0,AVERAGE($K$12:K429),\"\")","v":""},"","","","","","",""]
[419,null,null,null,null,null,null,null,null,null,"",{"$f":"IF(F430>0,AVERAGE($K$12:K430),\"\")","v":""},"","","","","","",""]
[420,null,null,null,null,null,null,null,null,null,"",{"$f":"IF(F431>0,AVERAGE($K$12:K431),\"\")","v":""},"","","","","","",""]
[421,null,null,null,null,null,null,null,null,null,"",{"$f":"IF(F432>0,AVERAGE($K$12:K432),\"\")","v":""},"","","","","","",""]
[422,null,null,null,null,null,null,null,null,null,"",{"$f":"IF(F433>0,AVERAGE($K$12:K433),\"\")","v":""},"","","","","","",""]
[423,null,null,null,null,null,null,null,null,null,"",{"$f":"IF(F434>0,AVERAGE($K$12:K434),\"\")","v":""},"","","","","","",""]
[424,null,null,null,null,null,null,null,null,null,"",{"$f":"IF(F435>0,AVERAGE($K$12:K435),\"\")","v":""},"","","","","","",""]
[425,null,null,null,null,null,null,null,null,null,"",{"$f":"IF(F436>0,AVERAGE($K$12:K436),\"\")","v":""},"","","","","","",""]
[426,null,null,null,null,null,null,null,null,null,"",{"$f":"IF(F437>0,AVERAGE($K$12:K437),\"\")","v":""},"","","","","","",""]
[427,null,null,null,null,null,null,null,null,null,"",{"$f":"IF(F438>0,AVERAGE($K$12:K438),\"\")","v":""},"","","","","","",""]
[428,null,null,null,null,null,null,null,null,null,"",{"$f":"IF(F439>0,AVERAGE($K$12:K439),\"\")","v":""},"","","","","","",""]
[429,null,null,null,null,null,null,null,null,null,"",{"$f":"IF(F440>0,AVERAGE($K$12:K440),\"\")","v":""},"","","","","","",""]
[430,null,null,null,null,null,null,null,null,null,"",{"$f":"IF(F441>0,AVERAGE($K$12:K441),\"\")","v":""},"","","","","","",""]
[431,null,null,null,null,null,null,null,null,null,"",{"$f":"IF(F442>0,AVERAGE($K$12:K442),\"\")","v":""},"","","","","","",""]
[432,null,null,null,null,null,null,null,null,null,"",{"$f":"IF(F443>0,AVERAGE($K$12:K443),\"\")","v":""},"","","","","","",""]
[433,null,null,null,null,null,null,null,null,null,"",{"$f":"IF(F444>0,AVERAGE($K$12:K444),\"\")","v":""},"","","","","","",""]
[434,null,null,null,null,null,null,null,null,null,"",{"$f":"IF(F445>0,AVERAGE($K$12:K445),\"\")","v":""},"","","","","","",""]
[435,null,null,null,null,null,null,null,null,null,"",{"$f":"IF(F446>0,AVERAGE($K$12:K446),\"\")","v":""},"","","","","","",""]
[436,null,null,null,null,null,null,null,null,null,"",{"$f":"IF(F447>0,AVERAGE($K$12:K447),\"\")","v":""},"","","","","","",""]
[437,null,null,null,null,null,null,null,null,null,"",{"$f":"IF(F448>0,AVERAGE($K$12:K448),\"\")","v":""},"","","","","","",""]
[438,null,null,null,null,null,null,null,null,null,"",{"$f":"IF(F449>0,AVERAGE($K$12:K449),\"\")","v":""},"","","","","","",""]
[439,null,null,null,null,null,null,null,null,null,"",{"$f":"IF(F450>0,AVERAGE($K$12:K450),\"\")","v":""},"","","","","","",""]
[440,null,null,null,null,null,null,null,null,null,"",{"$f":"IF(F451>0,AVERAGE($K$12:K451),\"\")","v":""},"","","","","","",""]
[441,null,null,null,null,null,null,null,null,null,"",{"$f":"IF(F452>0,AVERAGE($K$12:K452),\"\")","v":""},"","","","","","",""]
[442,null,null,null,null,null,null,null,null,null,"",{"$f":"IF(F453>0,AVERAGE($K$12:K453),\"\")","v":""},"","","","","","",""]
[443,null,null,null,null,null,null,null,null,null,"",{"$f":"IF(F454>0,AVERAGE($K$12:K454),\"\")","v":""},"","","","","","",""]
[444,null,null,null,null,null,null,null,null,null,"",{"$f":"IF(F455>0,AVERAGE($K$12:K455),\"\")","v":""},"","","","","","",""]
[445,null,null,null,null,null,null,null,null,null,"",{"$f":"IF(F456>0,AVERAGE($K$12:K456),\"\")","v":""},"","","","","","",""]
[446,null,null,null,null,null,null,null,null,null,"",{"$f":"IF(F457>0,AVERAGE($K$12:K457),\"\")","v":""},"","","","","","",""]
[447,null,null,null,null,null,null,null,null,null,"",{"$f":"IF(F458>0,AVERAGE($K$12:K458),\"\")","v":""},"","","","","","",""]
[448,null,null,null,null,null,null,null,null,null,"",{"$f":"IF(F459>0,AVERAGE($K$12:K459),\"\")","v":""},"","","",{"$f":"IF(F459>0,$E$5,\"\")","v":""},{"$f":"IF(F459>0,$E$5*(-1),\"\")","v":""},"",""]
[449,null,null,null,null,null,null,null,null,null,{"$f":"IF(F460>0,AVERAGE(F460:J460),\"\")","v":""},{"$f":"IF(F460>0,AVERAGE($K$12:K460),\"\")","v":""},{"$f":"IF(F460>0,(K460-$E$4),\"\")","v":""},"",{"$f":"IF(F460>0,IF(AND(R460=FALSE,S460=FALSE),\"<WHP+GA>\",IF(R460=FALSE,\"<GA>\",IF(S460=FALSE,\"<WHP>\",\"OK\"))),\"\")","v":""},"","",{"$f":"IFERROR(IF(ABS(M460)<=$E$5,TRUE,FALSE),\"\")","v":""},{"$f":"IFERROR(IF(ABS(N460)<=$E$6,TRUE,FALSE),\"\")","v":""}]
[450,null,null,null,null,null,null,null,null,null,"",{"$f":"IF(F461>0,AVERAGE($K$12:K461),\"\")","v":""},"",{"$f":"IF(F461>0,MAX(F461:J461)-MIN(F461:J461),\"\")","v":""},"","","","",""]
[451,null,null,null,null,null,null,null,null,null,"",{"$f":"IF(F462>0,AVERAGE($K$12:K462),\"\")","v":""},"","","","","","",""]
[452,null,null,null,null,null,null,null,null,null,"",{"$f":"IF(F463>0,AVERAGE($K$12:K463),\"\")","v":""},"","","","","","",""]
[453,null,null,null,null,null,null,null,null,null,"",{"$f":"IF(F464>0,AVERAGE($K$12:K464),\"\")","v":""},"","","","","","",""]
[454,null,null,null,null,null,null,null,null,null,"",{"$f":"IF(F465>0,AVERAGE($K$12:K465),\"\")","v":""},"","","","","","",""]
[455,null,null,null,null,null,null,null,null,null,"",{"$f":"IF(F466>0,AVERAGE($K$12:K466),\"\")","v":""},"","","","","","",""]
[456,null,null,null,null,null,null,null,null,null,"",{"$f":"IF(F467>0,AVERAGE($K$12:K467),\"\")","v":""},"","","","","","",""]
[457,null,null,null,null,null,null,null,null,null,"",{"$f":"IF(F468>0,AVERAGE($K$12:K468),\"\")","v":""},"","","","","","",""]
[458,null,null,null,null,null,null,null,null,null,"",{"$f":"IF(F469>0,AVERAGE($K$12:K469),\"\")","v":""},"","","","","","",""]
[459,null,null,null,null,null,null,null,null,null,"",{"$f":"IF(F470>0,AVERAGE($K$12:K470),\"\")","v":""},"","","","","","",""]
[460,null,null,null,null,null,null,null,null,null,"",{"$f":"IF(F471>0,AVERAGE($K$12:K471),\"\")","v":""},"","","","","","",""]
[461,null,null,null,null,null,null,null,null,null,"",{"$f":"IF(F472>0,AVERAGE($K$12:K472),\"\")","v":""},"","","","","","",""]
[462,null,null,null,null,null,null,null,null,null,"",{"$f":"IF(F473>0,AVERAGE($K$12:K473),\"\")","v":""},"","","","","","",""]
[463,null,null,null,null,null,null,null,null,null,"",{"$f":"IF(F474>0,AVERAGE($K$12:K474),\"\")","v":""},"","","","","","",""]
[464,null,null,null,null,null,null,null,null,null,"",{"$f":"IF(F475>0,AVERAGE($K$12:K475),\"\")","v":""},"","","","","","",""]
[465,null,null,null,null,null,null,null,null,null,"",{"$f":"IF(F476>0,AVERAGE($K$12:K476),\"\")","v":""},"","","","","","",""]
[466,null,null,null,null,null,null,null,null,null,"",{"$f":"IF(F477>0,AVERAGE($K$12:K477),\"\")","v":""},"","","","","","",""]
[467,null,null,null,null,null,null,null,null,null,"",{"$f":"IF(F478>0,AVERAGE($K$12:K478),\"\")","v":""},"","","","","","",""]
[468,null,null,null,null,null,null,null,null,null,"",{"$f":"IF(F479>0,AVERAGE($K$12:K479),\"\")","v":""},"","","","","","",""]
[469,null,null,null,null,null,null,null,null,null,"",{"$f":"IF(F480>0,AVERAGE($K$12:K480),\"\")","v":""},"","","","","","",""]
[470,null,null,null,null,null,null,null,null,null,"",{"$f":"IF(F481>0,AVERAGE($K$12:K481),\"\")","v":""},"","","","","","",""]
[471,null,null,null,null,null,null,null,null,null,"",{"$f":"IF(F482>0,AVERAGE($K$12:K482),\"\")","v":""},"","","","","","",""]
[472,null,null,null,null,null,null,null,null,null,"",{"$f":"IF(F483>0,AVERAGE($K$12:K483),\"\")","v":""},"","","","","","",""]
[473,null,null,null,null,null,null,null,null,null,"",{"$f":"IF(F484>0,AVERAGE($K$12:K484),\"\")","v":""},"","","","","","",""]
[474,null,null,null,null,null,null,null,null,null,"",{"$f":"IF(F485>0,AVERAGE($K$12:K485),\"\")","v":""},"","","","","","",""]
[475,null,null,null,null,null,null,null,null,null,"",{"$f":"IF(F486>0,AVERAGE($K$12:K486),\"\")","v":""},"","","","","","",""]
[476,null,null,null,null,null,null,null,null,null,"",{"$f":"IF(F487>0,AVERAGE($K$12:K487),\"\")","v":""},"","","","","","",""]
[477,null,null,null,null,null,null,null,null,null,"",{"$f":"IF(F488>0,AVERAGE($K$12:K488),\"\")","v":""},"","","","","","",""]
[478,null,null,null,null,null,null,null,null,null,"",{"$f":"IF(F489>0,AVERAGE($K$12:K489),\"\")","v":""},"","","","","","",""]
[479,null,null,null,null,null,null,null,null,null,"",{"$f":"IF(F490>0,AVERAGE($K$12:K490),\"\")","v":""},"","","","","","",""]
[480,null,null,null,null,null,null,null,null,null,"",{"$f":"IF(F491>0,AVERAGE($K$12:K491),\"\")","v":""},"","","","","","",""]
[481,null,null,null,null,null,null,null,null,null,"",{"$f":"IF(F492>0,AVERAGE($K$12:K492),\"\")","v":""},"","","","","","",""]
[482,null,null,null,null,null,null,null,null,null,"",{"$f":"IF(F493>0,AVERAGE($K$12:K493),\"\")","v":""},"","","","","","",""]
[483,null,null,null,null,null,null,null,null,null,"",{"$f":"IF(F494>0,AVERAGE($K$12:K494),\"\")","v":""},"","","","","","",""]
[484,null,null,null,null,null,null,null,null,null,"",{"$f":"IF(F495>0,AVERAGE($K$12:K495),\"\")","v":""},"","","","","","",""]
[485,null,null,null,null,null,null,null,null,null,"",{"$f":"IF(F496>0,AVERAGE($K$12:K496),\"\")","v":""},"","","","","","",""]
[486,null,null,null,null,null,null,null,null,null,"",{"$f":"IF(F497>0,AVERAGE($K$12:K497),\"\")","v":""},"","","","","","",""]
[487,null,null,null,null,null,null,null,null,null,"",{"$f":"IF(F498>0,AVERAGE($K$12:K498),\"\")","v":""},"","","","","","",""]
[488,null,null,null,null,null,null,null,null,null,"",{"$f":"IF(F499>0,AVERAGE($K$12:K499),\"\")","v":""},"","","","","","",""]
[489,null,null,null,null,null,null,null,null,null,"",{"$f":"IF(F500>0,AVERAGE($K$12:K500),\"\")","v":""},"","","","","","",""]
[490,null,null,null,null,null,null,null,null,null,"",{"$f":"IF(F501>0,AVERAGE($K$12:K501),\"\")","v":""},"","","","","","",""]
[491,null,null,null,null,null,null,null,null,null,"",{"$f":"IF(F502>0,AVERAGE($K$12:K502),\"\")","v":""},"","","","","","",""]
[492,null,null,null,null,null,null,null,null,null,"",{"$f":"IF(F503>0,AVERAGE($K$12:K503),\"\")","v":""},"","","","","","",""]
[493,null,null,null,null,null,null,null,null,null,"",{"$f":"IF(F504>0,AVERAGE($K$12:K504),\"\")","v":""},"","","","","","",""]
[494,null,null,null,null,null,null,null,null,null,"",{"$f":"IF(F505>0,AVERAGE($K$12:K505),\"\")","v":""},"","","","","","",""]
[495,null,null,null,null,null,null,null,null,null,"",{"$f":"IF(F506>0,AVERAGE($K$12:K506),\"\")","v":""},"","","","","","",""]
[496,null,null,null,null,null,null,null,null,null,"",{"$f":"IF(F507>0,AVERAGE($K$12:K507),\"\")","v":""},"","","","","","",""]
[497,null,null,null,null,null,null,null,null,null,"",{"$f":"IF(F508>0,AVERAGE($K$12:K508),\"\")","v":""},"","","","","","",""]
[498,null,null,null,null,null,null,null,null,null,"",{"$f":"IF(F509>0,AVERAGE($K$12:K509),\"\")","v":""},"","","","","","",""]
[499,null,null,null,null,null,null,null,null,null,"",{"$f":"IF(F510>0,AVERAGE($K$12:K510),\"\")","v":""},"","","","","","",""]
[500,null,null,null,null,null,null,null,null,null,"",{"$f":"IF(F511>0,AVERAGE($K$12:K511),\"\")","v":""},"","","","","","",""]
[501,null,null,null,null,null,null,null,null,null,"",{"$f":"IF(F512>0,AVERAGE($K$12:K512),\"\")","v":""},"","","","","","",""]
[502,null,null,null,null,null,null,null,null,null,"",{"$f":"IF(F513>0,AVERAGE($K$12:K513),\"\")","v":""},"","","","","","",""]
[503,null,null,null,null,null,null,null,null,null,"",{"$f":"IF(F514>0,AVERAGE($K$12:K514),\"\")","v":""},"","","","","","",""]
[504,null,null,null,null,null,null,null,null,null,"",{"$f":"IF(F515>0,AVERAGE($K$12:K515),\"\")","v":""},"","","","","","",""]
[505,null,null,null,null,null,null,null,null,null,"",{"$f":"IF(F516>0,AVERAGE($K$12:K516),\"\")","v":""},"","","","","","",""]
[506,null,null,null,null,null,null,null,null,null,"",{"$f":"IF(F517>0,AVERAGE($K$12:K517),\"\")","v":""},"","","","","","",""]
[507,null,null,null,null,null,null,null,null,null,"",{"$f":"IF(F518>0,AVERAGE($K$12:K518),\"\")","v":""},"","","","","","",""]
[508,null,null,null,null,null,null,null,null,null,"",{"$f":"IF(F519>0,AVERAGE($K$12:K519),\"\")","v":""},"","","","","","",""]
[509,null,null,null,null,null,null,null,null,null,"",{"$f":"IF(F520>0,AVERAGE($K$12:K520),\"\")","v":""},"","","","","","",""]
[510,null,null,null,null,null,null,null,null,null,"",{"$f":"IF(F521>0,AVERAGE($K$12:K521),\"\")","v":""},"","","","","","",""]
[511,null,null,null,null,null,null,null,null,null,"",{"$f":"IF(F522>0,AVERAGE($K$12:K522),\"\")","v":""},"","","","","","",""]
[512,null,null,null,null,null,null,null,null,null,"",{"$f":"IF(F523>0,AVERAGE($K$12:K523),\"\")","v":""},"","","",{"$f":"IF(F523>0,$E$5,\"\")","v":""},{"$f":"IF(F523>0,$E$5*(-1),\"\")","v":""},"",""]
[513,null,null,null,null,null,null,null,null,null,{"$f":"IF(F524>0,AVERAGE(F524:J524),\"\")","v":""},{"$f":"IF(F524>0,AVERAGE($K$12:K524),\"\")","v":""},{"$f":"IF(F524>0,(K524-$E$4),\"\")","v":""},"",{"$f":"IF(F524>0,IF(AND(R524=FALSE,S524=FALSE),\"<WHP+GA>\",IF(R524=FALSE,\"<GA>\",IF(S524=FALSE,\"<WHP>\",\"OK\"))),\"\")","v":""},"","",{"$f":"IFERROR(IF(ABS(M524)<=$E$5,TRUE,FALSE),\"\")","v":""},{"$f":"IFERROR(IF(ABS(N524)<=$E$6,TRUE,FALSE),\"\")","v":""}]
[514,null,null,null,null,null,null,null,null,null,"",{"$f":"IF(F525>0,AVERAGE($K$12:K525),\"\")","v":""},"",{"$f":"IF(F525>0,MAX(F525:J525)-MIN(F525:J525),\"\")","v":""},"","","","",""]
[515,null,null,null,null,null,null,null,null,null,"",{"$f":"IF(F526>0,AVERAGE($K$12:K526),\"\")","v":""},"","","","","","",""]
[516,null,null,null,null,null,null,null,null,null,"",{"$f":"IF(F527>0,AVERAGE($K$12:K527),\"\")","v":""},"","","","","","",""]
[517,null,null,null,null,null,null,null,null,null,"",{"$f":"IF(F528>0,AVERAGE($K$12:K528),\"\")","v":""},"","","","","","",""]
[518,null,null,null,null,null,null,null,null,null,"",{"$f":"IF(F529>0,AVERAGE($K$12:K529),\"\")","v":""},"","","","","","",""]
[519,null,null,null,null,null,null,null,null,null,"",{"$f":"IF(F530>0,AVERAGE($K$12:K530),\"\")","v":""},"","","","","","",""]
[520,null,null,null,null,null,null,null,null,null,"",{"$f":"IF(F531>0,AVERAGE($K$12:K531),\"\")","v":""},"","","","","","",""]
[521,null,null,null,null,null,null,null,null,null,"",{"$f":"IF(F532>0,AVERAGE($K$12:K532),\"\")","v":""},"","","","","","",""]
[522,null,null,null,null,null,null,null,null,null,"",{"$f":"IF(F533>0,AVERAGE($K$12:K533),\"\")","v":""},"","","","","","",""]
[523,null,null,null,null,null,null,null,null,null,"",{"$f":"IF(F534>0,AVERAGE($K$12:K534),\"\")","v":""},"","","","","","",""]
[524,null,null,null,null,null,null,null,null,null,"",{"$f":"IF(F535>0,AVERAGE($K$12:K535),\"\")","v":""},"","","","","","",""]
[525,null,null,null,null,null,null,null,null,null,"",{"$f":"IF(F536>0,AVERAGE($K$12:K536),\"\")","v":""},"","","","","","",""]
[526,null,null,null,null,null,null,null,null,null,"",{"$f":"IF(F537>0,AVERAGE($K$12:K537),\"\")","v":""},"","","","","","",""]
[527,null,null,null,null,null,null,null,null,null,"",{"$f":"IF(F538>0,AVERAGE($K$12:K538),\"\")","v":""},"","","","","","",""]
[528,null,null,null,null,null,null,null,null,null,"",{"$f":"IF(F539>0,AVERAGE($K$12:K539),\"\")","v":""},"","","","","","",""]
[529,null,null,null,null,null,null,null,null,null,"",{"$f":"IF(F540>0,AVERAGE($K$12:K540),\"\")","v":""},"","","","","","",""]
[530,null,null,null,null,null,null,null,null,null,"",{"$f":"IF(F541>0,AVERAGE($K$12:K541),\"\")","v":""},"","","","","","",""]
[531,null,null,null,null,null,null,null,null,null,"",{"$f":"IF(F542>0,AVERAGE($K$12:K542),\"\")","v":""},"","","","","","",""]
[532,null,null,null,null,null,null,null,null,null,"",{"$f":"IF(F543>0,AVERAGE($K$12:K543),\"\")","v":""},"","","","","","",""]
[533,null,null,null,null,null,null,null,null,null,"",{"$f":"IF(F544>0,AVERAGE($K$12:K544),\"\")","v":""},"","","","","","",""]
[534,null,null,null,null,null,null,null,null,null,"",{"$f":"IF(F545>0,AVERAGE($K$12:K545),\"\")","v":""},"","","","","","",""]
[535,null,null,null,null,null,null,null,null,null,"",{"$f":"IF(F546>0,AVERAGE($K$12:K546),\"\")","v":""},"","","","","","",""]
[536,null,null,null,null,null,null,null,null,null,"",{"$f":"IF(F547>0,AVERAGE($K$12:K547),\"\")","v":""},"","","","","","",""]
[537,null,null,null,null,null,null,null,null,null,"",{"$f":"IF(F548>0,AVERAGE($K$12:K548),\"\")","v":""},"","","","","","",""]
[538,null,null,null,null,null,null,null,null,null,"",{"$f":"IF(F549>0,AVERAGE($K$12:K549),\"\")","v":""},"","","","","","",""]
[539,null,null,null,null,null,null,null,null,null,"",{"$f":"IF(F550>0,AVERAGE($K$12:K550),\"\")","v":""},"","","","","","",""]
[540,null,null,null,null,null,null,null,null,null,"",{"$f":"IF(F551>0,AVERAGE($K$12:K551),\"\")","v":""},"","","","","","",""]
[541,null,null,null,null,null,null,null,null,null,"",{"$f":"IF(F552>0,AVERAGE($K$12:K552),\"\")","v":""},"","","","","","",""]
[542,null,null,null,null,null,null,null,null,null,"",{"$f":"IF(F553>0,AVERAGE($K$12:K553),\"\")","v":""},"","","","","","",""]
[543,null,null,null,null,null,null,null,null,null,"",{"$f":"IF(F554>0,AVERAGE($K$12:K554),\"\")","v":""},"","","","","","",""]
[544,null,null,null,null,null,null,null,null,null,"",{"$f":"IF(F555>0,AVERAGE($K$12:K555),\"\")","v":""},"","","","","","",""]
[545,null,null,null,null,null,null,null,null,null,"",{"$f":"IF(F556>0,AVERAGE($K$12:K556),\"\")","v":""},"","","","","","",""]
[546,null,null,null,null,null,null,null,null,null,"",{"$f":"IF(F557>0,AVERAGE($K$12:K557),\"\")","v":""},"","","","","","",""]
[547,null,null,null,null,null,null,null,null,null,"",{"$f":"IF(F558>0,AVERAGE($K$12:K558),\"\")","v":""},"","","","","","",""]
[548,null,null,null,null,null,null,null,null,null,"",{"$f":"IF(F559>0,AVERAGE($K$12:K559),\"\")","v":""},"","","","","","",""]
[549,null,null,null,null,null,null,null,null,null,"",{"$f":"IF(F560>0,AVERAGE($K$12:K560),\"\")","v":""},"","","","","","",""]
[550,null,null,null,null,null,null,null,null,null,"",{"$f":"IF(F561>0,AVERAGE($K$12:K561),\"\")","v":""},"","","","","","",""]
[551,null,null,null,null,null,null,null,null,null,"",{"$f":"IF(F562>0,AVERAGE($K$12:K562),\"\")","v":""},"","","","","","",""]
[552,null,null,null,null,null,null,null,null,null,"",{"$f":"IF(F563>0,AVERAGE($K$12:K563),\"\")","v":""},"","","","","","",""]
[553,null,null,null,null,null,null,null,null,null,"",{"$f":"IF(F564>0,AVERAGE($K$12:K564),\"\")","v":""},"","","","","","",""]
[554,null,null,null,null,null,null,null,null,null,"",{"$f":"IF(F565>0,AVERAGE($K$12:K565),\"\")","v":""},"","","","","","",""]
[555,null,null,null,null,null,null,null,null,null,"",{"$f":"IF(F566>0,AVERAGE($K$12:K566),\"\")","v":""},"","","","","","",""]
[556,null,null,null,null,null,null,null,null,null,"",{"$f":"IF(F567>0,AVERAGE($K$12:K567),\"\")","v":""},"","","","","","",""]
[557,null,null,null,null,null,null,null,null,null,"",{"$f":"IF(F568>0,AVERAGE($K$12:K568),\"\")","v":""},"","","","","","",""]
[558,null,null,null,null,null,null,null,null,null,"",{"$f":"IF(F569>0,AVERAGE($K$12:K569),\"\")","v":""},"","","","","","",""]
[559,null,null,null,null,null,null,null,null,null,"",{"$f":"IF(F570>0,AVERAGE($K$12:K570),\"\")","v":""},"","","","","","",""]
[560,null,null,null,null,null,null,null,null,null,"",{"$f":"IF(F571>0,AVERAGE($K$12:K571),\"\")","v":""},"","","","","","",""]
[561,null,null,null,null,null,null,null,null,null,"",{"$f":"IF(F572>0,AVERAGE($K$12:K572),\"\")","v":""},"","","","","","",""]
[562,null,null,null,null,null,null,null,null,null,"",{"$f":"IF(F573>0,AVERAGE($K$12:K573),\"\")","v":""},"","","","","","",""]
[563,null,null,null,null,null,null,null,null,null,"",{"$f":"IF(F574>0,AVERAGE($K$12:K574),\"\")","v":""},"","","","","","",""]
[564,null,null,null,null,null,null,null,null,null,"",{"$f":"IF(F575>0,AVERAGE($K$12:K575),\"\")","v":""},"","","","","","",""]
[565,null,null,null,null,null,null,null,null,null,"",{"$f":"IF(F576>0,AVERAGE($K$12:K576),\"\")","v":""},"","","","","","",""]
[566,null,null,null,null,null,null,null,null,null,"",{"$f":"IF(F577>0,AVERAGE($K$12:K577),\"\")","v":""},"","","","","","",""]
[567,null,null,null,null,null,null,null,null,null,"",{"$f":"IF(F578>0,AVERAGE($K$12:K578),\"\")","v":""},"","","","","","",""]
[568,null,null,null,null,null,null,null,null,null,"",{"$f":"IF(F579>0,AVERAGE($K$12:K579),\"\")","v":""},"","","","","","",""]
[569,null,null,null,null,null,null,null,null,null,"",{"$f":"IF(F580>0,AVERAGE($K$12:K580),\"\")","v":""},"","","","","","",""]
[570,null,null,null,null,null,null,null,null,null,"",{"$f":"IF(F581>0,AVERAGE($K$12:K581),\"\")","v":""},"","","","","","",""]
[571,null,null,null,null,null,null,null,null,null,"",{"$f":"IF(F582>0,AVERAGE($K$12:K582),\"\")","v":""},"","","","","","",""]
[572,null,null,null,null,null,null,null,null,null,"",{"$f":"IF(F583>0,AVERAGE($K$12:K583),\"\")","v":""},"","","","","","",""]
[573,null,null,null,null,null,null,null,null,null,"",{"$f":"IF(F584>0,AVERAGE($K$12:K584),\"\")","v":""},"","","","","","",""]
[574,null,null,null,null,null,null,null,null,null,"",{"$f":"IF(F585>0,AVERAGE($K$12:K585),\"\")","v":""},"","","","","","",""]
[575,null,null,null,null,null,null,null,null,null,"",{"$f":"IF(F586>0,AVERAGE($K$12:K586),\"\")","v":""},"","","","","","",""]
[576,null,null,null,null,null,null,null,null,null,"",{"$f":"IF(F587>0,AVERAGE($K$12:K587),\"\")","v":""},"","","",{"$f":"IF(F587>0,$E$5,\"\")","v":""},{"$f":"IF(F587>0,$E$5*(-1),\"\")","v":""},"",""]
[577,null,null,null,null,null,null,null,null,null,{"$f":"IF(F588>0,AVERAGE(F588:J588),\"\")","v":""},{"$f":"IF(F588>0,AVERAGE($K$12:K588),\"\")","v":""},{"$f":"IF(F588>0,(K588-$E$4),\"\")","v":""},"",{"$f":"IF(F588>0,IF(AND(R588=FALSE,S588=FALSE),\"<WHP+GA>\",IF(R588=FALSE,\"<GA>\",IF(S588=FALSE,\"<WHP>\",\"OK\"))),\"\")","v":""},"","",{"$f":"IFERROR(IF(ABS(M588)<=$E$5,TRUE,FALSE),\"\")","v":""},{"$f":"IFERROR(IF(ABS(N588)<=$E$6,TRUE,FALSE),\"\")","v":""}]
[578,null,null,null,null,null,null,null,null,null,"",{"$f":"IF(F589>0,AVERAGE($K$12:K589),\"\")","v":""},"",{"$f":"IF(F589>0,MAX(F589:J589)-MIN(F589:J589),\"\")","v":""},"","","","",""]
[579,null,null,null,null,null,null,null,null,null,"",{"$f":"IF(F590>0,AVERAGE($K$12:K590),\"\")","v":""},"","","","","","",""]
[580,null,null,null,null,null,null,null,null,null,"",{"$f":"IF(F591>0,AVERAGE($K$12:K591),\"\")","v":""},"","","","","","",""]
[581,null,null,null,null,null,null,null,null,null,"",{"$f":"IF(F592>0,AVERAGE($K$12:K592),\"\")","v":""},"","","","","","",""]
[582,null,null,null,null,null,null,null,null,null,"",{"$f":"IF(F593>0,AVERAGE($K$12:K593),\"\")","v":""},"","","","","","",""]
[583,null,null,null,null,null,null,null,null,null,"",{"$f":"IF(F594>0,AVERAGE($K$12:K594),\"\")","v":""},"","","","","","",""]
[584,null,null,null,null,null,null,null,null,null,"",{"$f":"IF(F595>0,AVERAGE($K$12:K595),\"\")","v":""},"","","","","","",""]
[585,null,null,null,null,null,null,null,null,null,"",{"$f":"IF(F596>0,AVERAGE($K$12:K596),\"\")","v":""},"","","","","","",""]
[586,null,null,null,null,null,null,null,null,null,"",{"$f":"IF(F597>0,AVERAGE($K$12:K597),\"\")","v":""},"","","","","","",""]
[587,null,null,null,null,null,null,null,null,null,"",{"$f":"IF(F598>0,AVERAGE($K$12:K598),\"\")","v":""},"","","","","","",""]
[588,null,null,null,null,null,null,null,null,null,"",{"$f":"IF(F599>0,AVERAGE($K$12:K599),\"\")","v":""},"","","","","","",""]
[589,null,null,null,null,null,null,null,null,null,"",{"$f":"IF(F600>0,AVERAGE($K$12:K600),\"\")","v":""},"","","","","","",""]
[590,null,null,null,null,null,null,null,null,null,"",{"$f":"IF(F601>0,AVERAGE($K$12:K601),\"\")","v":""},"","","","","","",""]
[591,null,null,null,null,null,null,null,null,null,"",{"$f":"IF(F602>0,AVERAGE($K$12:K602),\"\")","v":""},"","","","","","",""]
[592,null,null,null,null,null,null,null,null,null,"",{"$f":"IF(F603>0,AVERAGE($K$12:K603),\"\")","v":""},"","","","","","",""]
[593,null,null,null,null,null,null,null,null,null,"",{"$f":"IF(F604>0,AVERAGE($K$12:K604),\"\")","v":""},"","","","","","",""]
[594,null,null,null,null,null,null,null,null,null,"",{"$f":"IF(F605>0,AVERAGE($K$12:K605),\"\")","v":""},"","","","","","",""]
[595,null,null,null,null,null,null,null,null,null,"",{"$f":"IF(F606>0,AVERAGE($K$12:K606),\"\")","v":""},"","","","","","",""]
[596,null,null,null,null,null,null,null,null,null,"",{"$f":"IF(F607>0,AVERAGE($K$12:K607),\"\")","v":""},"","","","","","",""]
[597,null,null,null,null,null,null,null,null,null,"",{"$f":"IF(F608>0,AVERAGE($K$12:K608),\"\")","v":""},"","","","","","",""]
[598,null,null,null,null,null,null,null,null,null,"",{"$f":"IF(F609>0,AVERAGE($K$12:K609),\"\")","v":""},"","","","","","",""]
[599,null,null,null,null,null,null,null,null,null,"",{"$f":"IF(F610>0,AVERAGE($K$12:K610),\"\")","v":""},"","","","","","",""]
[600,null,null,null,null,null,null,null,null,null,"",{"$f":"IF(F611>0,AVERAGE($K$12:K611),\"\")","v":""},"","","","","","",""]
[601,null,null,null,null,null,null,null,null,null,"",{"$f":"IF(F612>0,AVERAGE($K$12:K612),\"\")","v":""},"","","","","","",""]
[602,null,null,null,null,null,null,null,null,null,"",{"$f":"IF(F613>0,AVERAGE($K$12:K613),\"\")","v":""},"","","","","","",""]
[603,null,null,null,null,null,null,null,null,null,"",{"$f":"IF(F614>0,AVERAGE($K$12:K614),\"\")","v":""},"","","","","","",""]
[604,null,null,null,null,null,null,null,null,null,"",{"$f":"IF(F615>0,AVERAGE($K$12:K615),\"\")","v":""},"","","","","","",""]
[605,null,null,null,null,null,null,null,null,null,"",{"$f":"IF(F616>0,AVERAGE($K$12:K616),\"\")","v":""},"","","","","","",""]
[606,null,null,null,null,null,null,null,null,null,"",{"$f":"IF(F617>0,AVERAGE($K$12:K617),\"\")","v":""},"","","","","","",""]
[607,null,null,null,null,null,null,null,null,null,"",{"$f":"IF(F618>0,AVERAGE($K$12:K618),\"\")","v":""},"","","","","","",""]
[608,null,null,null,null,null,null,null,null,null,"",{"$f":"IF(F619>0,AVERAGE($K$12:K619),\"\")","v":""},"","","","","","",""]
[609,null,null,null,null,null,null,null,null,null,"",{"$f":"IF(F620>0,AVERAGE($K$12:K620),\"\")","v":""},"","","","","","",""]
[610,null,null,null,null,null,null,null,null,null,"",{"$f":"IF(F621>0,AVERAGE($K$12:K621),\"\")","v":""},"","","","","","",""]
[611,null,null,null,null,null,null,null,null,null,"",{"$f":"IF(F622>0,AVERAGE($K$12:K622),\"\")","v":""},"","","","","","",""]
[612,null,null,null,null,null,null,null,null,null,"",{"$f":"IF(F623>0,AVERAGE($K$12:K623),\"\")","v":""},"","","","","","",""]
[613,null,null,null,null,null,null,null,null,null,"",{"$f":"IF(F624>0,AVERAGE($K$12:K624),\"\")","v":""},"","","","","","",""]
[614,null,null,null,null,null,null,null,null,null,"",{"$f":"IF(F625>0,AVERAGE($K$12:K625),\"\")","v":""},"","","","","","",""]
[615,null,null,null,null,null,null,null,null,null,"",{"$f":"IF(F626>0,AVERAGE($K$12:K626),\"\")","v":""},"","","","","","",""]
[616,null,null,null,null,null,null,null,null,null,"",{"$f":"IF(F627>0,AVERAGE($K$12:K627),\"\")","v":""},"","","","","","",""]
[617,null,null,null,null,null,null,null,null,null,"",{"$f":"IF(F628>0,AVERAGE($K$12:K628),\"\")","v":""},"","","","","","",""]
[618,null,null,null,null,null,null,null,null,null,"",{"$f":"IF(F629>0,AVERAGE($K$12:K629),\"\")","v":""},"","","","","","",""]
[619,null,null,null,null,null,null,null,null,null,"",{"$f":"IF(F630>0,AVERAGE($K$12:K630),\"\")","v":""},"","","","","","",""]
[620,null,null,null,null,null,null,null,null,null,"",{"$f":"IF(F631>0,AVERAGE($K$12:K631),\"\")","v":""},"","","","","","",""]
[621,null,null,null,null,null,null,null,null,null,"",{"$f":"IF(F632>0,AVERAGE($K$12:K632),\"\")","v":""},"","","","","","",""]
[622,null,null,null,null,null,null,null,null,null,"",{"$f":"IF(F633>0,AVERAGE($K$12:K633),\"\")","v":""},"","","","","","",""]
[623,null,null,null,null,null,null,null,null,null,"",{"$f":"IF(F634>0,AVERAGE($K$12:K634),\"\")","v":""},"","","","","","",""]
[624,null,null,null,null,null,null,null,null,null,"",{"$f":"IF(F635>0,AVERAGE($K$12:K635),\"\")","v":""},"","","","","","",""]
[625,null,null,null,null,null,null,null,null,null,"",{"$f":"IF(F636>0,AVERAGE($K$12:K636),\"\")","v":""},"","","","","","",""]
[626,null,null,null,null,null,null,null,null,null,"",{"$f":"IF(F637>0,AVERAGE($K$12:K637),\"\")","v":""},"","","","","","",""]
[627,null,null,null,null,null,null,null,null,null,"",{"$f":"IF(F638>0,AVERAGE($K$12:K638),\"\")","v":""},"","","","","","",""]
[628,null,null,null,null,null,null,null,null,null,"",{"$f":"IF(F639>0,AVERAGE($K$12:K639),\"\")","v":""},"","","","","","",""]
[629,null,null,null,null,null,null,null,null,null,"",{"$f":"IF(F640>0,AVERAGE($K$12:K640),\"\")","v":""},"","","","","","",""]
[630,null,null,null,null,null,null,null,null,null,"",{"$f":"IF(F641>0,AVERAGE($K$12:K641),\"\")","v":""},"","","","","","",""]
[631,null,null,null,null,null,null,null,null,null,"",{"$f":"IF(F642>0,AVERAGE($K$12:K642),\"\")","v":""},"","","","","","",""]
[632,null,null,null,null,null,null,null,null,null,"",{"$f":"IF(F643>0,AVERAGE($K$12:K643),\"\")","v":""},"","","","","","",""]
[633,null,null,null,null,null,null,null,null,null,"",{"$f":"IF(F644>0,AVERAGE($K$12:K644),\"\")","v":""},"","","","","","",""]
[634,null,null,null,null,null,null,null,null,null,"",{"$f":"IF(F645>0,AVERAGE($K$12:K645),\"\")","v":""},"","","","","","",""]
[635,null,null,null,null,null,null,null,null,null,"",{"$f":"IF(F646>0,AVERAGE($K$12:K646),\"\")","v":""},"","","","","","",""]
[636,null,null,null,null,null,null,null,null,null,"",{"$f":"IF(F647>0,AVERAGE($K$12:K647),\"\")","v":""},"","","","","","",""]
[637,null,null,null,null,null,null,null,null,null,"",{"$f":"IF(F648>0,AVERAGE($K$12:K648),\"\")","v":""},"","","","","","",""]
[638,null,null,null,null,null,null,null,null,null,"",{"$f":"IF(F649>0,AVERAGE($K$12:K649),\"\")","v":""},"","","","","","",""]
[639,null,null,null,null,null,null,null,null,null,"",{"$f":"IF(F650>0,AVERAGE($K$12:K650),\"\")","v":""},"","","","","","",""]
[640,null,null,null,null,null,null,null,null,null,"",{"$f":"IF(F651>0,AVERAGE($K$12:K651),\"\")","v":""},"","","",{"$f":"IF(F651>0,$E$5,\"\")","v":""},{"$f":"IF(F651>0,$E$5*(-1),\"\")","v":""},"",""]
[641,null,null,null,null,null,null,null,null,null,{"$f":"IF(F652>0,AVERAGE(F652:J652),\"\")","v":""},{"$f":"IF(F652>0,AVERAGE($K$12:K652),\"\")","v":""},{"$f":"IF(F652>0,(K652-$E$4),\"\")","v":""},"",{"$f":"IF(F652>0,IF(AND(R652=FALSE,S652=FALSE),\"<WHP+GA>\",IF(R652=FALSE,\"<GA>\",IF(S652=FALSE,\"<WHP>\",\"OK\"))),\"\")","v":""},"","",{"$f":"IFERROR(IF(ABS(M652)<=$E$5,TRUE,FALSE),\"\")","v":""},{"$f":"IFERROR(IF(ABS(N652)<=$E$6,TRUE,FALSE),\"\")","v":""}]
[642,null,null,null,null,null,null,null,null,null,"",{"$f":"IF(F653>0,AVERAGE($K$12:K653),\"\")","v":""},"",{"$f":"IF(F653>0,MAX(F653:J653)-MIN(F653:J653),\"\")","v":""},"","","","",""]
[643,null,null,null,null,null,null,null,null,null,"",{"$f":"IF(F654>0,AVERAGE($K$12:K654),\"\")","v":""},"","","","","","",""]
[644,null,null,null,null,null,null,null,null,null,"",{"$f":"IF(F655>0,AVERAGE($K$12:K655),\"\")","v":""},"","","","","","",""]
[645,null,null,null,null,null,null,null,null,null,"",{"$f":"IF(F656>0,AVERAGE($K$12:K656),\"\")","v":""},"","","","","","",""]
[646,null,null,null,null,null,null,null,null,null,"",{"$f":"IF(F657>0,AVERAGE($K$12:K657),\"\")","v":""},"","","","","","",""]
[647,null,null,null,null,null,null,null,null,null,"",{"$f":"IF(F658>0,AVERAGE($K$12:K658),\"\")","v":""},"","","","","","",""]
[648,null,null,null,null,null,null,null,null,null,"",{"$f":"IF(F659>0,AVERAGE($K$12:K659),\"\")","v":""},"","","","","","",""]
[649,null,null,null,null,null,null,null,null,null,"",{"$f":"IF(F660>0,AVERAGE($K$12:K660),\"\")","v":""},"","","","","","",""]
[650,null,null,null,null,null,null,null,null,null,"",{"$f":"IF(F661>0,AVERAGE($K$12:K661),\"\")","v":""},"","","","","","",""]
[651,null,null,null,null,null,null,null,null,null,"",{"$f":"IF(F662>0,AVERAGE($K$12:K662),\"\")","v":""},"","","","","","",""]
[652,null,null,null,null,null,null,null,null,null,"",{"$f":"IF(F663>0,AVERAGE($K$12:K663),\"\")","v":""},"","","","","","",""]
[653,null,null,null,null,null,null,null,null,null,"",{"$f":"IF(F664>0,AVERAGE($K$12:K664),\"\")","v":""},"","","","","","",""]
[654,null,null,null,null,null,null,null,null,null,"",{"$f":"IF(F665>0,AVERAGE($K$12:K665),\"\")","v":""},"","","","","","",""]
[655,null,null,null,null,null,null,null,null,null,"",{"$f":"IF(F666>0,AVERAGE($K$12:K666),\"\")","v":""},"","","","","","",""]
[656,null,null,null,null,null,null,null,null,null,"",{"$f":"IF(F667>0,AVERAGE($K$12:K667),\"\")","v":""},"","","","","","",""]
[657,null,null,null,null,null,null,null,null,null,"",{"$f":"IF(F668>0,AVERAGE($K$12:K668),\"\")","v":""},"","","","","","",""]
[658,null,null,null,null,null,null,null,null,null,"",{"$f":"IF(F669>0,AVERAGE($K$12:K669),\"\")","v":""},"","","","","","",""]
[659,null,null,null,null,null,null,null,null,null,"",{"$f":"IF(F670>0,AVERAGE($K$12:K670),\"\")","v":""},"","","","","","",""]
[660,null,null,null,null,null,null,null,null,null,"",{"$f":"IF(F671>0,AVERAGE($K$12:K671),\"\")","v":""},"","","","","","",""]
[661,null,null,null,null,null,null,null,null,null,"",{"$f":"IF(F672>0,AVERAGE($K$12:K672),\"\")","v":""},"","","","","","",""]
[662,null,null,null,null,null,null,null,null,null,"",{"$f":"IF(F673>0,AVERAGE($K$12:K673),\"\")","v":""},"","","","","","",""]
[663,null,null,null,null,null,null,null,null,null,"",{"$f":"IF(F674>0,AVERAGE($K$12:K674),\"\")","v":""},"","","","","","",""]
[664,null,null,null,null,null,null,null,null,null,"",{"$f":"IF(F675>0,AVERAGE($K$12:K675),\"\")","v":""},"","","","","","",""]
[665,null,null,null,null,null,null,null,null,null,"",{"$f":"IF(F676>0,AVERAGE($K$12:K676),\"\")","v":""},"","","","","","",""]
[666,null,null,null,null,null,null,null,null,null,"",{"$f":"IF(F677>0,AVERAGE($K$12:K677),\"\")","v":""},"","","","","","",""]
[667,null,null,null,null,null,null,null,null,null,"",{"$f":"IF(F678>0,AVERAGE($K$12:K678),\"\")","v":""},"","","","","","",""]
[668,null,null,null,null,null,null,null,null,null,"",{"$f":"IF(F679>0,AVERAGE($K$12:K679),\"\")","v":""},"","","","","","",""]
[669,null,null,null,null,null,null,null,null,null,"",{"$f":"IF(F680>0,AVERAGE($K$12:K680),\"\")","v":""},"","","","","","",""]
[670,null,null,null,null,null,null,null,null,null,"",{"$f":"IF(F681>0,AVERAGE($K$12:K681),\"\")","v":""},"","","","","","",""]
[671,null,null,null,null,null,null,null,null,null,"",{"$f":"IF(F682>0,AVERAGE($K$12:K682),\"\")","v":""},"","","","","","",""]
[672,null,null,null,null,null,null,null,null,null,"",{"$f":"IF(F683>0,AVERAGE($K$12:K683),\"\")","v":""},"","","","","","",""]
[673,null,null,null,null,null,null,null,null,null,"",{"$f":"IF(F684>0,AVERAGE($K$12:K684),\"\")","v":""},"","","","","","",""]
[674,null,null,null,null,null,null,null,null,null,"",{"$f":"IF(F685>0,AVERAGE($K$12:K685),\"\")","v":""},"","","","","","",""]
[675,null,null,null,null,null,null,null,null,null,"",{"$f":"IF(F686>0,AVERAGE($K$12:K686),\"\")","v":""},"","","","","","",""]
[676,null,null,null,null,null,null,null,null,null,"",{"$f":"IF(F687>0,AVERAGE($K$12:K687),\"\")","v":""},"","","","","","",""]
[677,null,null,null,null,null,null,null,null,null,"",{"$f":"IF(F688>0,AVERAGE($K$12:K688),\"\")","v":""},"","","","","","",""]
[678,null,null,null,null,null,null,null,null,null,"",{"$f":"IF(F689>0,AVERAGE($K$12:K689),\"\")","v":""},"","","","","","",""]
[679,null,null,null,null,null,null,null,null,null,"",{"$f":"IF(F690>0,AVERAGE($K$12:K690),\"\")","v":""},"","","","","","",""]
[680,null,null,null,null,null,null,null,null,null,"",{"$f":"IF(F691>0,AVERAGE($K$12:K691),\"\")","v":""},"","","","","","",""]
[681,null,null,null,null,null,null,null,null,null,"",{"$f":"IF(F692>0,AVERAGE($K$12:K692),\"\")","v":""},"","","","","","",""]
[682,null,null,null,null,null,null,null,null,null,"",{"$f":"IF(F693>0,AVERAGE($K$12:K693),\"\")","v":""},"","","","","","",""]
[683,null,null,null,null,null,null,null,null,null,"",{"$f":"IF(F694>0,AVERAGE($K$12:K694),\"\")","v":""},"","","","","","",""]
[684,null,null,null,null,null,null,null,null,null,"",{"$f":"IF(F695>0,AVERAGE($K$12:K695),\"\")","v":""},"","","","","","",""]
[685,null,null,null,null,null,null,null,null,null,"",{"$f":"IF(F696>0,AVERAGE($K$12:K696),\"\")","v":""},"","","","","","",""]
[686,null,null,null,null,null,null,null,null,null,"",{"$f":"IF(F697>0,AVERAGE($K$12:K697),\"\")","v":""},"","","","","","",""]
[687,null,null,null,null,null,null,null,null,null,"",{"$f":"IF(F698>0,AVERAGE($K$12:K698),\"\")","v":""},"","","","","","",""]
[688,null,null,null,null,null,null,null,null,null,"",{"$f":"IF(F699>0,AVERAGE($K$12:K699),\"\")","v":""},"","","","","","",""]
[689,null,null,null,null,null,null,null,null,null,"",{"$f":"IF(F700>0,AVERAGE($K$12:K700),\"\")","v":""},"","","","","","",""]
[690,null,null,null,null,null,null,null,null,null,"",{"$f":"IF(F701>0,AVERAGE($K$12:K701),\"\")","v":""},"","","","","","",""]
[691,null,null,null,null,null,null,null,null,null,"",{"$f":"IF(F702>0,AVERAGE($K$12:K702),\"\")","v":""},"","","","","","",""]
[692,null,null,null,null,null,null,null,null,null,"",{"$f":"IF(F703>0,AVERAGE($K$12:K703),\"\")","v":""},"","","","","","",""]
[693,null,null,null,null,null,null,null,null,null,"",{"$f":"IF(F704>0,AVERAGE($K$12:K704),\"\")","v":""},"","","","","","",""]
[694,null,null,null,null,null,null,null,null,null,"",{"$f":"IF(F705>0,AVERAGE($K$12:K705),\"\")","v":""},"","","","","","",""]
[695,null,null,null,null,null,null,null,null,null,"",{"$f":"IF(F706>0,AVERAGE($K$12:K706),\"\")","v":""},"","","","","","",""]
[696,null,null,null,null,null,null,null,null,null,"",{"$f":"IF(F707>0,AVERAGE($K$12:K707),\"\")","v":""},"","","","","","",""]
[697,null,null,null,null,null,null,null,null,null,"",{"$f":"IF(F708>0,AVERAGE($K$12:K708),\"\")","v":""},"","","","","","",""]
[698,null,null,null,null,null,null,null,null,null,"",{"$f":"IF(F709>0,AVERAGE($K$12:K709),\"\")","v":""},"","","","","","",""]
[699,null,null,null,null,null,null,null,null,null,"",{"$f":"IF(F710>0,AVERAGE($K$12:K710),\"\")","v":""},"","","","","","",""]
[700,null,null,null,null,null,null,null,null,null,"",{"$f":"IF(F711>0,AVERAGE($K$12:K711),\"\")","v":""},"","","","","","",""]
[701,null,null,null,null,null,null,null,null,null,"",{"$f":"IF(F712>0,AVERAGE($K$12:K712),\"\")","v":""},"","","","","","",""]
[702,null,null,null,null,null,null,null,null,null,"",{"$f":"IF(F713>0,AVERAGE($K$12:K713),\"\")","v":""},"","","","","","",""]
[703,null,null,null,null,null,null,null,null,null,"",{"$f":"IF(F714>0,AVERAGE($K$12:K714),\"\")","v":""},"","","","","","",""]
[704,null,null,null,null,null,null,null,null,null,"",{"$f":"IF(F715>0,AVERAGE($K$12:K715),\"\")","v":""},"","","",{"$f":"IF(F715>0,$E$5,\"\")","v":""},{"$f":"IF(F715>0,$E$5*(-1),\"\")","v":""},"",""]
[705,null,null,null,null,null,null,null,null,null,{"$f":"IF(F716>0,AVERAGE(F716:J716),\"\")","v":""},{"$f":"IF(F716>0,AVERAGE($K$12:K716),\"\")","v":""},{"$f":"IF(F716>0,(K716-$E$4),\"\")","v":""},"",{"$f":"IF(F716>0,IF(AND(R716=FALSE,S716=FALSE),\"<WHP+GA>\",IF(R716=FALSE,\"<GA>\",IF(S716=FALSE,\"<WHP>\",\"OK\"))),\"\")","v":""},"","",{"$f":"IFERROR(IF(ABS(M716)<=$E$5,TRUE,FALSE),\"\")","v":""},{"$f":"IFERROR(IF(ABS(N716)<=$E$6,TRUE,FALSE),\"\")","v":""}]
[706,null,null,null,null,null,null,null,null,null,"",{"$f":"IF(F717>0,AVERAGE($K$12:K717),\"\")","v":""},"",{"$f":"IF(F717>0,MAX(F717:J717)-MIN(F717:J717),\"\")","v":""},"","","","",""]
[707,null,null,null,null,null,null,null,null,null,"",{"$f":"IF(F718>0,AVERAGE($K$12:K718),\"\")","v":""},"","","","","","",""]
[708,null,null,null,null,null,null,null,null,null,"",{"$f":"IF(F719>0,AVERAGE($K$12:K719),\"\")","v":""},"","","","","","",""]
[709,null,null,null,null,null,null,null,null,null,"",{"$f":"IF(F720>0,AVERAGE($K$12:K720),\"\")","v":""},"","","","","","",""]
[710,null,null,null,null,null,null,null,null,null,"",{"$f":"IF(F721>0,AVERAGE($K$12:K721),\"\")","v":""},"","","","","","",""]
[711,null,null,null,null,null,null,null,null,null,"",{"$f":"IF(F722>0,AVERAGE($K$12:K722),\"\")","v":""},"","","","","","",""]
[712,null,null,null,null,null,null,null,null,null,"",{"$f":"IF(F723>0,AVERAGE($K$12:K723),\"\")","v":""},"","","","","","",""]
[713,null,null,null,null,null,null,null,null,null,"",{"$f":"IF(F724>0,AVERAGE($K$12:K724),\"\")","v":""},"","","","","","",""]
[714,null,null,null,null,null,null,null,null,null,"",{"$f":"IF(F725>0,AVERAGE($K$12:K725),\"\")","v":""},"","","","","","",""]
[715,null,null,null,null,null,null,null,null,null,"",{"$f":"IF(F726>0,AVERAGE($K$12:K726),\"\")","v":""},"","","","","","",""]
[716,null,null,null,null,null,null,null,null,null,"",{"$f":"IF(F727>0,AVERAGE($K$12:K727),\"\")","v":""},"","","","","","",""]
[717,null,null,null,null,null,null,null,null,null,"",{"$f":"IF(F728>0,AVERAGE($K$12:K728),\"\")","v":""},"","","","","","",""]
[718,null,null,null,null,null,null,null,null,null,"",{"$f":"IF(F729>0,AVERAGE($K$12:K729),\"\")","v":""},"","","","","","",""]
[719,null,null,null,null,null,null,null,null,null,"",{"$f":"IF(F730>0,AVERAGE($K$12:K730),\"\")","v":""},"","","","","","",""]
[720,null,null,null,null,null,null,null,null,null,"",{"$f":"IF(F731>0,AVERAGE($K$12:K731),\"\")","v":""},"","","","","","",""]
[721,null,null,null,null,null,null,null,null,null,"",{"$f":"IF(F732>0,AVERAGE($K$12:K732),\"\")","v":""},"","","","","","",""]
[722,null,null,null,null,null,null,null,null,null,"",{"$f":"IF(F733>0,AVERAGE($K$12:K733),\"\")","v":""},"","","","","","",""]
[723,null,null,null,null,null,null,null,null,null,"",{"$f":"IF(F734>0,AVERAGE($K$12:K734),\"\")","v":""},"","","","","","",""]
[724,null,null,null,null,null,null,null,null,null,"",{"$f":"IF(F735>0,AVERAGE($K$12:K735),\"\")","v":""},"","","","","","",""]
[725,null,null,null,null,null,null,null,null,null,"",{"$f":"IF(F736>0,AVERAGE($K$12:K736),\"\")","v":""},"","","","","","",""]
[726,null,null,null,null,null,null,null,null,null,"",{"$f":"IF(F737>0,AVERAGE($K$12:K737),\"\")","v":""},"","","","","","",""]
[727,null,null,null,null,null,null,null,null,null,"",{"$f":"IF(F738>0,AVERAGE($K$12:K738),\"\")","v":""},"","","","","","",""]
[728,null,null,null,null,null,null,null,null,null,"",{"$f":"IF(F739>0,AVERAGE($K$12:K739),\"\")","v":""},"","","","","","",""]
[729,null,null,null,null,null,null,null,null,null,"",{"$f":"IF(F740>0,AVERAGE($K$12:K740),\"\")","v":""},"","","","","","",""]
[730,null,null,null,null,null,null,null,null,null,"",{"$f":"IF(F741>0,AVERAGE($K$12:K741),\"\")","v":""},"","","","","","",""]
[731,null,null,null,null,null,null,null,null,null,"",{"$f":"IF(F742>0,AVERAGE($K$12:K742),\"\")","v":""},"","","","","","",""]
[732,null,null,null,null,null,null,null,null,null,"",{"$f":"IF(F743>0,AVERAGE($K$12:K743),\"\")","v":""},"","","","","","",""]
[733,null,null,null,null,null,null,null,null,null,"",{"$f":"IF(F744>0,AVERAGE($K$12:K744),\"\")","v":""},"","","","","","",""]
[734,null,null,null,null,null,null,null,null,null,"",{"$f":"IF(F745>0,AVERAGE($K$12:K745),\"\")","v":""},"","","","","","",""]
[735,null,null,null,null,null,null,null,null,null,"",{"$f":"IF(F746>0,AVERAGE($K$12:K746),\"\")","v":""},"","","","","","",""]
[736,null,null,null,null,null,null,null,null,null,"",{"$f":"IF(F747>0,AVERAGE($K$12:K747),\"\")","v":""},"","","","","","",""]
[737,null,null,null,null,null,null,null,null,null,"",{"$f":"IF(F748>0,AVERAGE($K$12:K748),\"\")","v":""},"","","","","","",""]
[738,null,null,null,null,null,null,null,null,null,"",{"$f":"IF(F749>0,AVERAGE($K$12:K749),\"\")","v":""},"","","","","","",""]
[739,null,null,null,null,null,null,null,null,null,"",{"$f":"IF(F750>0,AVERAGE($K$12:K750),\"\")","v":""},"","","","","","",""]
[740,null,null,null,null,null,null,null,null,null,"",{"$f":"IF(F751>0,AVERAGE($K$12:K751),\"\")","v":""},"","","","","","",""]
[741,null,null,null,null,null,null,null,null,null,"",{"$f":"IF(F752>0,AVERAGE($K$12:K752),\"\")","v":""},"","","","","","",""]
[742,null,null,null,null,null,null,null,null,null,"",{"$f":"IF(F753>0,AVERAGE($K$12:K753),\"\")","v":""},"","","","","","",""]
[743,null,null,null,null,null,null,null,null,null,"",{"$f":"IF(F754>0,AVERAGE($K$12:K754),\"\")","v":""},"","","","","","",""]
[744,null,null,null,null,null,null,null,null,null,"",{"$f":"IF(F755>0,AVERAGE($K$12:K755),\"\")","v":""},"","","","","","",""]
[745,null,null,null,null,null,null,null,null,null,"",{"$f":"IF(F756>0,AVERAGE($K$12:K756),\"\")","v":""},"","","","","","",""]
[746,null,null,null,null,null,null,null,null,null,"",{"$f":"IF(F757>0,AVERAGE($K$12:K757),\"\")","v":""},"","","","","","",""]
[747,null,null,null,null,null,null,null,null,null,"",{"$f":"IF(F758>0,AVERAGE($K$12:K758),\"\")","v":""},"","","","","","",""]
[748,null,null,null,null,null,null,null,null,null,"",{"$f":"IF(F759>0,AVERAGE($K$12:K759),\"\")","v":""},"","","","","","",""]
[749,null,null,null,null,null,null,null,null,null,"",{"$f":"IF(F760>0,AVERAGE($K$12:K760),\"\")","v":""},"","","","","","",""]
[750,null,null,null,null,null,null,null,null,null,"",{"$f":"IF(F761>0,AVERAGE($K$12:K761),\"\")","v":""},"","","","","","",""]
[751,null,null,null,null,null,null,null,null,null,"",{"$f":"IF(F762>0,AVERAGE($K$12:K762),\"\")","v":""},"","","","","","",""]
[752,null,null,null,null,null,null,null,null,null,"",{"$f":"IF(F763>0,AVERAGE($K$12:K763),\"\")","v":""},"","","","","","",""]
[753,null,null,null,null,null,null,null,null,null,"",{"$f":"IF(F764>0,AVERAGE($K$12:K764),\"\")","v":""},"","","","","","",""]
[754,null,null,null,null,null,null,null,null,null,"",{"$f":"IF(F765>0,AVERAGE($K$12:K765),\"\")","v":""},"","","","","","",""]
[755,null,null,null,null,null,null,null,null,null,"",{"$f":"IF(F766>0,AVERAGE($K$12:K766),\"\")","v":""},"","","","","","",""]
[756,null,null,null,null,null,null,null,null,null,"",{"$f":"IF(F767>0,AVERAGE($K$12:K767),\"\")","v":""},"","","","","","",""]
[757,null,null,null,null,null,null,null,null,null,"",{"$f":"IF(F768>0,AVERAGE($K$12:K768),\"\")","v":""},"","","","","","",""]
[758,null,null,null,null,null,null,null,null,null,"",{"$f":"IF(F769>0,AVERAGE($K$12:K769),\"\")","v":""},"","","","","","",""]
[759,null,null,null,null,null,null,null,null,null,"",{"$f":"IF(F770>0,AVERAGE($K$12:K770),\"\")","v":""},"","","","","","",""]
[760,null,null,null,null,null,null,null,null,null,"",{"$f":"IF(F771>0,AVERAGE($K$12:K771),\"\")","v":""},"","","","","","",""]
[761,null,null,null,null,null,null,null,null,null,"",{"$f":"IF(F772>0,AVERAGE($K$12:K772),\"\")","v":""},"","","","","","",""]
[762,null,null,null,null,null,null,null,null,null,"",{"$f":"IF(F773>0,AVERAGE($K$12:K773),\"\")","v":""},"","","","","","",""]
[763,null,null,null,null,null,null,null,null,null,"",{"$f":"IF(F774>0,AVERAGE($K$12:K774),\"\")","v":""},"","","","","","",""]
[764,null,null,null,null,null,null,null,null,null,"",{"$f":"IF(F775>0,AVERAGE($K$12:K775),\"\")","v":""},"","","","","","",""]
[765,null,null,null,null,null,null,null,null,null,"",{"$f":"IF(F776>0,AVERAGE($K$12:K776),\"\")","v":""},"","","","","","",""]
[766,null,null,null,null,null,null,null,null,null,"",{"$f":"IF(F777>0,AVERAGE($K$12:K777),\"\")","v":""},"","","","","","",""]
[767,null,null,null,null,null,null,null,null,null,"",{"$f":"IF(F778>0,AVERAGE($K$12:K778),\"\")","v":""},"","","","","","",""]
[768,null,null,null,null,null,null,null,null,null,"",{"$f":"IF(F779>0,AVERAGE($K$12:K779),\"\")","v":""},"","","",{"$f":"IF(F779>0,$E$5,\"\")","v":""},{"$f":"IF(F779>0,$E$5*(-1),\"\")","v":""},"",""]
[769,null,null,null,null,null,null,null,null,null,{"$f":"IF(F780>0,AVERAGE(F780:J780),\"\")","v":""},{"$f":"IF(F780>0,AVERAGE($K$12:K780),\"\")","v":""},{"$f":"IF(F780>0,(K780-$E$4),\"\")","v":""},"",{"$f":"IF(F780>0,IF(AND(R780=FALSE,S780=FALSE),\"<WHP+GA>\",IF(R780=FALSE,\"<GA>\",IF(S780=FALSE,\"<WHP>\",\"OK\"))),\"\")","v":""},"","",{"$f":"IFERROR(IF(ABS(M780)<=$E$5,TRUE,FALSE),\"\")","v":""},{"$f":"IFERROR(IF(ABS(N780)<=$E$6,TRUE,FALSE),\"\")","v":""}]
[770,null,null,null,null,null,null,null,null,null,"",{"$f":"IF(F781>0,AVERAGE($K$12:K781),\"\")","v":""},"",{"$f":"IF(F781>0,MAX(F781:J781)-MIN(F781:J781),\"\")","v":""},"","","","",""]
[771,null,null,null,null,null,null,null,null,null,"",{"$f":"IF(F782>0,AVERAGE($K$12:K782),\"\")","v":""},"","","","","","",""]
[772,null,null,null,null,null,null,null,null,null,"",{"$f":"IF(F783>0,AVERAGE($K$12:K783),\"\")","v":""},"","","","","","",""]
[773,null,null,null,null,null,null,null,null,null,"",{"$f":"IF(F784>0,AVERAGE($K$12:K784),\"\")","v":""},"","","","","","",""]
[774,null,null,null,null,null,null,null,null,null,"",{"$f":"IF(F785>0,AVERAGE($K$12:K785),\"\")","v":""},"","","","","","",""]
[775,null,null,null,null,null,null,null,null,null,"",{"$f":"IF(F786>0,AVERAGE($K$12:K786),\"\")","v":""},"","","","","","",""]
[776,null,null,null,null,null,null,null,null,null,"",{"$f":"IF(F787>0,AVERAGE($K$12:K787),\"\")","v":""},"","","","","","",""]
[777,null,null,null,null,null,null,null,null,null,"",{"$f":"IF(F788>0,AVERAGE($K$12:K788),\"\")","v":""},"","","","","","",""]
[778,null,null,null,null,null,null,null,null,null,"",{"$f":"IF(F789>0,AVERAGE($K$12:K789),\"\")","v":""},"","","","","","",""]
[779,null,null,null,null,null,null,null,null,null,"",{"$f":"IF(F790>0,AVERAGE($K$12:K790),\"\")","v":""},"","","","","","",""]
[780,null,null,null,null,null,null,null,null,null,"",{"$f":"IF(F791>0,AVERAGE($K$12:K791),\"\")","v":""},"","","","","","",""]
[781,null,null,null,null,null,null,null,null,null,"",{"$f":"IF(F792>0,AVERAGE($K$12:K792),\"\")","v":""},"","","","","","",""]
[782,null,null,null,null,null,null,null,null,null,"",{"$f":"IF(F793>0,AVERAGE($K$12:K793),\"\")","v":""},"","","","","","",""]
[783,null,null,null,null,null,null,null,null,null,"",{"$f":"IF(F794>0,AVERAGE($K$12:K794),\"\")","v":""},"","","","","","",""]
[784,null,null,null,null,null,null,null,null,null,"",{"$f":"IF(F795>0,AVERAGE($K$12:K795),\"\")","v":""},"","","","","","",""]
[785,null,null,null,null,null,null,null,null,null,"",{"$f":"IF(F796>0,AVERAGE($K$12:K796),\"\")","v":""},"","","","","","",""]
[786,null,null,null,null,null,null,null,null,null,"",{"$f":"IF(F797>0,AVERAGE($K$12:K797),\"\")","v":""},"","","","","","",""]
[787,null,null,null,null,null,null,null,null,null,"",{"$f":"IF(F798>0,AVERAGE($K$12:K798),\"\")","v":""},"","","","","","",""]
[788,null,null,null,null,null,null,null,null,null,"",{"$f":"IF(F799>0,AVERAGE($K$12:K799),\"\")","v":""},"","","","","","",""]
[789,null,null,null,null,null,null,null,null,null,"",{"$f":"IF(F800>0,AVERAGE($K$12:K800),\"\")","v":""},"","","","","","",""]
[790,null,null,null,null,null,null,null,null,null,"",{"$f":"IF(F801>0,AVERAGE($K$12:K801),\"\")","v":""},"","","","","","",""]
[791,null,null,null,null,null,null,null,null,null,"",{"$f":"IF(F802>0,AVERAGE($K$12:K802),\"\")","v":""},"","","","","","",""]
[792,null,null,null,null,null,null,null,null,null,"",{"$f":"IF(F803>0,AVERAGE($K$12:K803),\"\")","v":""},"","","","","","",""]
[793,null,null,null,null,null,null,null,null,null,"",{"$f":"IF(F804>0,AVERAGE($K$12:K804),\"\")","v":""},"","","","","","",""]
[794,null,null,null,null,null,null,null,null,null,"",{"$f":"IF(F805>0,AVERAGE($K$12:K805),\"\")","v":""},"","","","","","",""]
[795,null,null,null,null,null,null,null,null,null,"",{"$f":"IF(F806>0,AVERAGE($K$12:K806),\"\")","v":""},"","","","","","",""]
[796,null,null,null,null,null,null,null,null,null,"",{"$f":"IF(F807>0,AVERAGE($K$12:K807),\"\")","v":""},"","","","","","",""]
[797,null,null,null,null,null,null,null,null,null,"",{"$f":"IF(F808>0,AVERAGE($K$12:K808),\"\")","v":""},"","","","","","",""]
[798,null,null,null,null,null,null,null,null,null,"",{"$f":"IF(F809>0,AVERAGE($K$12:K809),\"\")","v":""},"","","","","","",""]
[799,null,null,null,null,null,null,null,null,null,"",{"$f":"IF(F810>0,AVERAGE($K$12:K810),\"\")","v":""},"","","","","","",""]
[800,null,null,null,null,null,null,null,null,null,"",{"$f":"IF(F811>0,AVERAGE($K$12:K811),\"\")","v":""},"","","","","","",""]
[801,null,null,null,null,null,null,null,null,null,"",{"$f":"IF(F812>0,AVERAGE($K$12:K812),\"\")","v":""},"","","","","","",""]
[802,null,null,null,null,null,null,null,null,null,"",{"$f":"IF(F813>0,AVERAGE($K$12:K813),\"\")","v":""},"","","","","","",""]
[803,null,null,null,null,null,null,null,null,null,"",{"$f":"IF(F814>0,AVERAGE($K$12:K814),\"\")","v":""},"","","","","","",""]
[804,null,null,null,null,null,null,null,null,null,"",{"$f":"IF(F815>0,AVERAGE($K$12:K815),\"\")","v":""},"","","","","","",""]
[805,null,null,null,null,null,null,null,null,null,"",{"$f":"IF(F816>0,AVERAGE($K$12:K816),\"\")","v":""},"","","","","","",""]
[806,null,null,null,null,null,null,null,null,null,"",{"$f":"IF(F817>0,AVERAGE($K$12:K817),\"\")","v":""},"","","","","","",""]
[807,null,null,null,null,null,null,null,null,null,"",{"$f":"IF(F818>0,AVERAGE($K$12:K818),\"\")","v":""},"","","","","","",""]
[808,null,null,null,null,null,null,null,null,null,"",{"$f":"IF(F819>0,AVERAGE($K$12:K819),\"\")","v":""},"","","","","","",""]
[809,null,null,null,null,null,null,null,null,null,"",{"$f":"IF(F820>0,AVERAGE($K$12:K820),\"\")","v":""},"","","","","","",""]
[810,null,null,null,null,null,null,null,null,null,"",{"$f":"IF(F821>0,AVERAGE($K$12:K821),\"\")","v":""},"","","","","","",""]
[811,null,null,null,null,null,null,null,null,null,"",{"$f":"IF(F822>0,AVERAGE($K$12:K822),\"\")","v":""},"","","","","","",""]
[812,null,null,null,null,null,null,null,null,null,"",{"$f":"IF(F823>0,AVERAGE($K$12:K823),\"\")","v":""},"","","","","","",""]
[813,null,null,null,null,null,null,null,null,null,"",{"$f":"IF(F824>0,AVERAGE($K$12:K824),\"\")","v":""},"","","","","","",""]
[814,null,null,null,null,null,null,null,null,null,"",{"$f":"IF(F825>0,AVERAGE($K$12:K825),\"\")","v":""},"","","","","","",""]
[815,null,null,null,null,null,null,null,null,null,"",{"$f":"IF(F826>0,AVERAGE($K$12:K826),\"\")","v":""},"","","","","","",""]
[816,null,null,null,null,null,null,null,null,null,"",{"$f":"IF(F827>0,AVERAGE($K$12:K827),\"\")","v":""},"","","","","","",""]
[817,null,null,null,null,null,null,null,null,null,"",{"$f":"IF(F828>0,AVERAGE($K$12:K828),\"\")","v":""},"","","","","","",""]
[818,null,null,null,null,null,null,null,null,null,"",{"$f":"IF(F829>0,AVERAGE($K$12:K829),\"\")","v":""},"","","","","","",""]
[819,null,null,null,null,null,null,null,null,null,"",{"$f":"IF(F830>0,AVERAGE($K$12:K830),\"\")","v":""},"","","","","","",""]
[820,null,null,null,null,null,null,null,null,null,"",{"$f":"IF(F831>0,AVERAGE($K$12:K831),\"\")","v":""},"","","","","","",""]
[821,null,null,null,null,null,null,null,null,null,"",{"$f":"IF(F832>0,AVERAGE($K$12:K832),\"\")","v":""},"","","","","","",""]
[822,null,null,null,null,null,null,null,null,null,"",{"$f":"IF(F833>0,AVERAGE($K$12:K833),\"\")","v":""},"","","","","","",""]
[823,null,null,null,null,null,null,null,null,null,"",{"$f":"IF(F834>0,AVERAGE($K$12:K834),\"\")","v":""},"","","","","","",""]
[824,null,null,null,null,null,null,null,null,null,"",{"$f":"IF(F835>0,AVERAGE($K$12:K835),\"\")","v":""},"","","","","","",""]
[825,null,null,null,null,null,null,null,null,null,"",{"$f":"IF(F836>0,AVERAGE($K$12:K836),\"\")","v":""},"","","","","","",""]
[826,null,null,null,null,null,null,null,null,null,"",{"$f":"IF(F837>0,AVERAGE($K$12:K837),\"\")","v":""},"","","","","","",""]
[827,null,null,null,null,null,null,null,null,null,"",{"$f":"IF(F838>0,AVERAGE($K$12:K838),\"\")","v":""},"","","","","","",""]
[828,null,null,null,null,null,null,null,null,null,"",{"$f":"IF(F839>0,AVERAGE($K$12:K839),\"\")","v":""},"","","","","","",""]
[829,null,null,null,null,null,null,null,null,null,"",{"$f":"IF(F840>0,AVERAGE($K$12:K840),\"\")","v":""},"","","","","","",""]
[830,null,null,null,null,null,null,null,null,null,"",{"$f":"IF(F841>0,AVERAGE($K$12:K841),\"\")","v":""},"","","","","","",""]
[831,null,null,null,null,null,null,null,null,null,"",{"$f":"IF(F842>0,AVERAGE($K$12:K842),\"\")","v":""},"","","","","","",""]
[832,null,null,null,null,null,null,null,null,null,"",{"$f":"IF(F843>0,AVERAGE($K$12:K843),\"\")","v":""},"","","",{"$f":"IF(F843>0,$E$5,\"\")","v":""},{"$f":"IF(F843>0,$E$5*(-1),\"\")","v":""},"",""]
[833,null,null,null,null,null,null,null,null,null,{"$f":"IF(F844>0,AVERAGE(F844:J844),\"\")","v":""},{"$f":"IF(F844>0,AVERAGE($K$12:K844),\"\")","v":""},{"$f":"IF(F844>0,(K844-$E$4),\"\")","v":""},"",{"$f":"IF(F844>0,IF(AND(R844=FALSE,S844=FALSE),\"<WHP+GA>\",IF(R844=FALSE,\"<GA>\",IF(S844=FALSE,\"<WHP>\",\"OK\"))),\"\")","v":""},"","",{"$f":"IFERROR(IF(ABS(M844)<=$E$5,TRUE,FALSE),\"\")","v":""},{"$f":"IFERROR(IF(ABS(N844)<=$E$6,TRUE,FALSE),\"\")","v":""}]
[834,null,null,null,null,null,null,null,null,null,"",{"$f":"IF(F845>0,AVERAGE($K$12:K845),\"\")","v":""},"",{"$f":"IF(F845>0,MAX(F845:J845)-MIN(F845:J845),\"\")","v":""},"","","","",""]
[835,null,null,null,null,null,null,null,null,null,"",{"$f":"IF(F846>0,AVERAGE($K$12:K846),\"\")","v":""},"","","","","","",""]
[836,null,null,null,null,null,null,null,null,null,"",{"$f":"IF(F847>0,AVERAGE($K$12:K847),\"\")","v":""},"","","","","","",""]
[837,null,null,null,null,null,null,null,null,null,"",{"$f":"IF(F848>0,AVERAGE($K$12:K848),\"\")","v":""},"","","","","","",""]
[838,null,null,null,null,null,null,null,null,null,"",{"$f":"IF(F849>0,AVERAGE($K$12:K849),\"\")","v":""},"","","","","","",""]
[839,null,null,null,null,null,null,null,null,null,"",{"$f":"IF(F850>0,AVERAGE($K$12:K850),\"\")","v":""},"","","","","","",""]
[840,null,null,null,null,null,null,null,null,null,"",{"$f":"IF(F851>0,AVERAGE($K$12:K851),\"\")","v":""},"","","","","","",""]
[841,null,null,null,null,null,null,null,null,null,"",{"$f":"IF(F852>0,AVERAGE($K$12:K852),\"\")","v":""},"","","","","","",""]
[842,null,null,null,null,null,null,null,null,null,"",{"$f":"IF(F853>0,AVERAGE($K$12:K853),\"\")","v":""},"","","","","","",""]
[843,null,null,null,null,null,null,null,null,null,"",{"$f":"IF(F854>0,AVERAGE($K$12:K854),\"\")","v":""},"","","","","","",""]
[844,null,null,null,null,null,null,null,null,null,"",{"$f":"IF(F855>0,AVERAGE($K$12:K855),\"\")","v":""},"","","","","","",""]
[845,null,null,null,null,null,null,null,null,null,"",{"$f":"IF(F856>0,AVERAGE($K$12:K856),\"\")","v":""},"","","","","","",""]
[846,null,null,null,null,null,null,null,null,null,"",{"$f":"IF(F857>0,AVERAGE($K$12:K857),\"\")","v":""},"","","","","","",""]
[847,null,null,null,null,null,null,null,null,null,"",{"$f":"IF(F858>0,AVERAGE($K$12:K858),\"\")","v":""},"","","","","","",""]
[848,null,null,null,null,null,null,null,null,null,"",{"$f":"IF(F859>0,AVERAGE($K$12:K859),\"\")","v":""},"","","","","","",""]
[849,null,null,null,null,null,null,null,null,null,"",{"$f":"IF(F860>0,AVERAGE($K$12:K860),\"\")","v":""},"","","","","","",""]
[850,null,null,null,null,null,null,null,null,null,"",{"$f":"IF(F861>0,AVERAGE($K$12:K861),\"\")","v":""},"","","","","","",""]
[851,null,null,null,null,null,null,null,null,null,"",{"$f":"IF(F862>0,AVERAGE($K$12:K862),\"\")","v":""},"","","","","","",""]
[852,null,null,null,null,null,null,null,null,null,"",{"$f":"IF(F863>0,AVERAGE($K$12:K863),\"\")","v":""},"","","","","","",""]
[853,null,null,null,null,null,null,null,null,null,"",{"$f":"IF(F864>0,AVERAGE($K$12:K864),\"\")","v":""},"","","","","","",""]
[854,null,null,null,null,null,null,null,null,null,"",{"$f":"IF(F865>0,AVERAGE($K$12:K865),\"\")","v":""},"","","","","","",""]
[855,null,null,null,null,null,null,null,null,null,"",{"$f":"IF(F866>0,AVERAGE($K$12:K866),\"\")","v":""},"","","","","","",""]
[856,null,null,null,null,null,null,null,null,null,"",{"$f":"IF(F867>0,AVERAGE($K$12:K867),\"\")","v":""},"","","","","","",""]
[857,null,null,null,null,null,null,null,null,null,"",{"$f":"IF(F868>0,AVERAGE($K$12:K868),\"\")","v":""},"","","","","","",""]
[858,null,null,null,null,null,null,null,null,null,"",{"$f":"IF(F869>0,AVERAGE($K$12:K869),\"\")","v":""},"","","","","","",""]
[859,null,null,null,null,null,null,null,null,null,"",{"$f":"IF(F870>0,AVERAGE($K$12:K870),\"\")","v":""},"","","","","","",""]
[860,null,null,null,null,null,null,null,null,null,"",{"$f":"IF(F871>0,AVERAGE($K$12:K871),\"\")","v":""},"","","","","","",""]
[861,null,null,null,null,null,null,null,null,null,"",{"$f":"IF(F872>0,AVERAGE($K$12:K872),\"\")","v":""},"","","","","","",""]
[862,null,null,null,null,null,null,null,null,null,"",{"$f":"IF(F873>0,AVERAGE($K$12:K873),\"\")","v":""},"","","","","","",""]
[863,null,null,null,null,null,null,null,null,null,"",{"$f":"IF(F874>0,AVERAGE($K$12:K874),\"\")","v":""},"","","","","","",""]
[864,null,null,null,null,null,null,null,null,null,"",{"$f":"IF(F875>0,AVERAGE($K$12:K875),\"\")","v":""},"","","","","","",""]
[865,null,null,null,null,null,null,null,null,null,"",{"$f":"IF(F876>0,AVERAGE($K$12:K876),\"\")","v":""},"","","","","","",""]
[866,null,null,null,null,null,null,null,null,null,"",{"$f":"IF(F877>0,AVERAGE($K$12:K877),\"\")","v":""},"","","","","","",""]
[867,null,null,null,null,null,null,null,null,null,"",{"$f":"IF(F878>0,AVERAGE($K$12:K878),\"\")","v":""},"","","","","","",""]
[868,null,null,null,null,null,null,null,null,null,"",{"$f":"IF(F879>0,AVERAGE($K$12:K879),\"\")","v":""},"","","","","","",""]
[869,null,null,null,null,null,null,null,null,null,"",{"$f":"IF(F880>0,AVERAGE($K$12:K880),\"\")","v":""},"","","","","","",""]
[870,null,null,null,null,null,null,null,null,null,"",{"$f":"IF(F881>0,AVERAGE($K$12:K881),\"\")","v":""},"","","","","","",""]
[871,null,null,null,null,null,null,null,null,null,"",{"$f":"IF(F882>0,AVERAGE($K$12:K882),\"\")","v":""},"","","","","","",""]
[872,null,null,null,null,null,null,null,null,null,"",{"$f":"IF(F883>0,AVERAGE($K$12:K883),\"\")","v":""},"","","","","","",""]
[873,null,null,null,null,null,null,null,null,null,"",{"$f":"IF(F884>0,AVERAGE($K$12:K884),\"\")","v":""},"","","","","","",""]
[874,null,null,null,null,null,null,null,null,null,"",{"$f":"IF(F885>0,AVERAGE($K$12:K885),\"\")","v":""},"","","","","","",""]
[875,null,null,null,null,null,null,null,null,null,"",{"$f":"IF(F886>0,AVERAGE($K$12:K886),\"\")","v":""},"","","","","","",""]
[876,null,null,null,null,null,null,null,null,null,"",{"$f":"IF(F887>0,AVERAGE($K$12:K887),\"\")","v":""},"","","","","","",""]
[877,null,null,null,null,null,null,null,null,null,"",{"$f":"IF(F888>0,AVERAGE($K$12:K888),\"\")","v":""},"","","","","","",""]
[878,null,null,null,null,null,null,null,null,null,"",{"$f":"IF(F889>0,AVERAGE($K$12:K889),\"\")","v":""},"","","","","","",""]
[879,null,null,null,null,null,null,null,null,null,"",{"$f":"IF(F890>0,AVERAGE($K$12:K890),\"\")","v":""},"","","","","","",""]
[880,null,null,null,null,null,null,null,null,null,"",{"$f":"IF(F891>0,AVERAGE($K$12:K891),\"\")","v":""},"","","","","","",""]
[881,null,null,null,null,null,null,null,null,null,"",{"$f":"IF(F892>0,AVERAGE($K$12:K892),\"\")","v":""},"","","","","","",""]
[882,null,null,null,null,null,null,null,null,null,"",{"$f":"IF(F893>0,AVERAGE($K$12:K893),\"\")","v":""},"","","","","","",""]
[883,null,null,null,null,null,null,null,null,null,"",{"$f":"IF(F894>0,AVERAGE($K$12:K894),\"\")","v":""},"","","","","","",""]
[884,null,null,null,null,null,null,null,null,null,"",{"$f":"IF(F895>0,AVERAGE($K$12:K895),\"\")","v":""},"","","","","","",""]
[885,null,null,null,null,null,null,null,null,null,"",{"$f":"IF(F896>0,AVERAGE($K$12:K896),\"\")","v":""},"","","","","","",""]
[886,null,null,null,null,null,null,null,null,null,"",{"$f":"IF(F897>0,AVERAGE($K$12:K897),\"\")","v":""},"","","","","","",""]
[887,null,null,null,null,null,null,null,null,null,"",{"$f":"IF(F898>0,AVERAGE($K$12:K898),\"\")","v":""},"","","","","","",""]
[888,null,null,null,null,null,null,null,null,null,"",{"$f":"IF(F899>0,AVERAGE($K$12:K899),\"\")","v":""},"","","","","","",""]
[889,null,null,null,null,null,null,null,null,null,"",{"$f":"IF(F900>0,AVERAGE($K$12:K900),\"\")","v":""},"","","","","","",""]
[890,null,null,null,null,null,null,null,null,null,"",{"$f":"IF(F901>0,AVERAGE($K$12:K901),\"\")","v":""},"","","","","","",""]
[891,null,null,null,null,null,null,null,null,null,"",{"$f":"IF(F902>0,AVERAGE($K$12:K902),\"\")","v":""},"","","","","","",""]
[892,null,null,null,null,null,null,null,null,null,"",{"$f":"IF(F903>0,AVERAGE($K$12:K903),\"\")","v":""},"","","","","","",""]
[893,null,null,null,null,null,null,null,null,null,"",{"$f":"IF(F904>0,AVERAGE($K$12:K904),\"\")","v":""},"","","","","","",""]
[894,null,null,null,null,null,null,null,null,null,"",{"$f":"IF(F905>0,AVERAGE($K$12:K905),\"\")","v":""},"","","","","","",""]
[895,null,null,null,null,null,null,null,null,null,"",{"$f":"IF(F906>0,AVERAGE($K$12:K906),\"\")","v":""},"","","","","","",""]
[896,null,null,null,null,null,null,null,null,null,"",{"$f":"IF(F907>0,AVERAGE($K$12:K907),\"\")","v":""},"","","",{"$f":"IF(F907>0,$E$5,\"\")","v":""},{"$f":"IF(F907>0,$E$5*(-1),\"\")","v":""},"",""]
[897,null,null,null,null,null,null,null,null,null,{"$f":"IF(F908>0,AVERAGE(F908:J908),\"\")","v":""},{"$f":"IF(F908>0,AVERAGE($K$12:K908),\"\")","v":""},{"$f":"IF(F908>0,(K908-$E$4),\"\")","v":""},"",{"$f":"IF(F908>0,IF(AND(R908=FALSE,S908=FALSE),\"<WHP+GA>\",IF(R908=FALSE,\"<GA>\",IF(S908=FALSE,\"<WHP>\",\"OK\"))),\"\")","v":""},"","",{"$f":"IFERROR(IF(ABS(M908)<=$E$5,TRUE,FALSE),\"\")","v":""},{"$f":"IFERROR(IF(ABS(N908)<=$E$6,TRUE,FALSE),\"\")","v":""}]
[898,null,null,null,null,null,null,null,null,null,"",{"$f":"IF(F909>0,AVERAGE($K$12:K909),\"\")","v":""},"",{"$f":"IF(F909>0,MAX(F909:J909)-MIN(F909:J909),\"\")","v":""},"","","","",""]
[899,null,null,null,null,null,null,null,null,null,"",{"$f":"IF(F910>0,AVERAGE($K$12:K910),\"\")","v":""},"","","","","","",""]
[900,null,null,null,null,null,null,null,null,null,"",{"$f":"IF(F911>0,AVERAGE($K$12:K911),\"\")","v":""},"","","","","","",""]
[901,null,null,null,null,null,null,null,null,null,"",{"$f":"IF(F912>0,AVERAGE($K$12:K912),\"\")","v":""},"","","","","","",""]
[902,null,null,null,null,null,null,null,null,null,"",{"$f":"IF(F913>0,AVERAGE($K$12:K913),\"\")","v":""},"","","","","","",""]
[903,null,null,null,null,null,null,null,null,null,"",{"$f":"IF(F914>0,AVERAGE($K$12:K914),\"\")","v":""},"","","","","","",""]
[904,null,null,null,null,null,null,null,null,null,"",{"$f":"IF(F915>0,AVERAGE($K$12:K915),\"\")","v":""},"","","","","","",""]
[905,null,null,null,null,null,null,null,null,null,"",{"$f":"IF(F916>0,AVERAGE($K$12:K916),\"\")","v":""},"","","","","","",""]
[906,null,null,null,null,null,null,null,null,null,"",{"$f":"IF(F917>0,AVERAGE($K$12:K917),\"\")","v":""},"","","","","","",""]
[907,null,null,null,null,null,null,null,null,null,"",{"$f":"IF(F918>0,AVERAGE($K$12:K918),\"\")","v":""},"","","","","","",""]
[908,null,null,null,null,null,null,null,null,null,"",{"$f":"IF(F919>0,AVERAGE($K$12:K919),\"\")","v":""},"","","","","","",""]
[909,null,null,null,null,null,null,null,null,null,"",{"$f":"IF(F920>0,AVERAGE($K$12:K920),\"\")","v":""},"","","","","","",""]
[910,null,null,null,null,null,null,null,null,null,"",{"$f":"IF(F921>0,AVERAGE($K$12:K921),\"\")","v":""},"","","","","","",""]
[911,null,null,null,null,null,null,null,null,null,"",{"$f":"IF(F922>0,AVERAGE($K$12:K922),\"\")","v":""},"","","","","","",""]
[912,null,null,null,null,null,null,null,null,null,"",{"$f":"IF(F923>0,AVERAGE($K$12:K923),\"\")","v":""},"","","","","","",""]
[913,null,null,null,null,null,null,null,null,null,"",{"$f":"IF(F924>0,AVERAGE($K$12:K924),\"\")","v":""},"","","","","","",""]
[914,null,null,null,null,null,null,null,null,null,"",{"$f":"IF(F925>0,AVERAGE($K$12:K925),\"\")","v":""},"","","","","","",""]
[915,null,null,null,null,null,null,null,null,null,"",{"$f":"IF(F926>0,AVERAGE($K$12:K926),\"\")","v":""},"","","","","","",""]
[916,null,null,null,null,null,null,null,null,null,"",{"$f":"IF(F927>0,AVERAGE($K$12:K927),\"\")","v":""},"","","","","","",""]
[917,null,null,null,null,null,null,null,null,null,"",{"$f":"IF(F928>0,AVERAGE($K$12:K928),\"\")","v":""},"","","","","","",""]
[918,null,null,null,null,null,null,null,null,null,"",{"$f":"IF(F929>0,AVERAGE($K$12:K929),\"\")","v":""},"","","","","","",""]
[919,null,null,null,null,null,null,null,null,null,"",{"$f":"IF(F930>0,AVERAGE($K$12:K930),\"\")","v":""},"","","","","","",""]
[920,null,null,null,null,null,null,null,null,null,"",{"$f":"IF(F931>0,AVERAGE($K$12:K931),\"\")","v":""},"","","","","","",""]
[921,null,null,null,null,null,null,null,null,null,"",{"$f":"IF(F932>0,AVERAGE($K$12:K932),\"\")","v":""},"","","","","","",""]
[922,null,null,null,null,null,null,null,null,null,"",{"$f":"IF(F933>0,AVERAGE($K$12:K933),\"\")","v":""},"","","","","","",""]
[923,null,null,null,null,null,null,null,null,null,"",{"$f":"IF(F934>0,AVERAGE($K$12:K934),\"\")","v":""},"","","","","","",""]
[924,null,null,null,null,null,null,null,null,null,"",{"$f":"IF(F935>0,AVERAGE($K$12:K935),\"\")","v":""},"","","","","","",""]
[925,null,null,null,null,null,null,null,null,null,"",{"$f":"IF(F936>0,AVERAGE($K$12:K936),\"\")","v":""},"","","","","","",""]
[926,null,null,null,null,null,null,null,null,null,"",{"$f":"IF(F937>0,AVERAGE($K$12:K937),\"\")","v":""},"","","","","","",""]
[927,null,null,null,null,null,null,null,null,null,"",{"$f":"IF(F938>0,AVERAGE($K$12:K938),\"\")","v":""},"","","","","","",""]
[928,null,null,null,null,null,null,null,null,null,"",{"$f":"IF(F939>0,AVERAGE($K$12:K939),\"\")","v":""},"","","","","","",""]
[929,null,null,null,null,null,null,null,null,null,"",{"$f":"IF(F940>0,AVERAGE($K$12:K940),\"\")","v":""},"","","","","","",""]
[930,null,null,null,null,null,null,null,null,null,"",{"$f":"IF(F941>0,AVERAGE($K$12:K941),\"\")","v":""},"","","","","","",""]
[931,null,null,null,null,null,null,null,null,null,"",{"$f":"IF(F942>0,AVERAGE($K$12:K942),\"\")","v":""},"","","","","","",""]
[932,null,null,null,null,null,null,null,null,null,"",{"$f":"IF(F943>0,AVERAGE($K$12:K943),\"\")","v":""},"","","","","","",""]
[933,null,null,null,null,null,null,null,null,null,"",{"$f":"IF(F944>0,AVERAGE($K$12:K944),\"\")","v":""},"","","","","","",""]
[934,null,null,null,null,null,null,null,null,null,"",{"$f":"IF(F945>0,AVERAGE($K$12:K945),\"\")","v":""},"","","","","","",""]
[935,null,null,null,null,null,null,null,null,null,"",{"$f":"IF(F946>0,AVERAGE($K$12:K946),\"\")","v":""},"","","","","","",""]
[936,null,null,null,null,null,null,null,null,null,"",{"$f":"IF(F947>0,AVERAGE($K$12:K947),\"\")","v":""},"","","","","","",""]
[937,null,null,null,null,null,null,null,null,null,"",{"$f":"IF(F948>0,AVERAGE($K$12:K948),\"\")","v":""},"","","","","","",""]
[938,null,null,null,null,null,null,null,null,null,"",{"$f":"IF(F949>0,AVERAGE($K$12:K949),\"\")","v":""},"","","","","","",""]
[939,null,null,null,null,null,null,null,null,null,"",{"$f":"IF(F950>0,AVERAGE($K$12:K950),\"\")","v":""},"","","","","","",""]
[940,null,null,null,null,null,null,null,null,null,"",{"$f":"IF(F951>0,AVERAGE($K$12:K951),\"\")","v":""},"","","","","","",""]
[941,null,null,null,null,null,null,null,null,null,"",{"$f":"IF(F952>0,AVERAGE($K$12:K952),\"\")","v":""},"","","","","","",""]
[942,null,null,null,null,null,null,null,null,null,"",{"$f":"IF(F953>0,AVERAGE($K$12:K953),\"\")","v":""},"","","","","","",""]
[943,null,null,null,null,null,null,null,null,null,"",{"$f":"IF(F954>0,AVERAGE($K$12:K954),\"\")","v":""},"","","","","","",""]
[944,null,null,null,null,null,null,null,null,null,"",{"$f":"IF(F955>0,AVERAGE($K$12:K955),\"\")","v":""},"","","","","","",""]
[945,null,null,null,null,null,null,null,null,null,"",{"$f":"IF(F956>0,AVERAGE($K$12:K956),\"\")","v":""},"","","","","","",""]
[946,null,null,null,null,null,null,null,null,null,"",{"$f":"IF(F957>0,AVERAGE($K$12:K957),\"\")","v":""},"","","","","","",""]
[947,null,null,null,null,null,null,null,null,null,"",{"$f":"IF(F958>0,AVERAGE($K$12:K958),\"\")","v":""},"","","","","","",""]
[948,null,null,null,null,null,null,null,null,null,"",{"$f":"IF(F959>0,AVERAGE($K$12:K959),\"\")","v":""},"","","","","","",""]
[949,null,null,null,null,null,null,null,null,null,"",{"$f":"IF(F960>0,AVERAGE($K$12:K960),\"\")","v":""},"","","","","","",""]
[950,null,null,null,null,null,null,null,null,null,"",{"$f":"IF(F961>0,AVERAGE($K$12:K961),\"\")","v":""},"","","","","","",""]
[951,null,null,null,null,null,null,null,null,null,"",{"$f":"IF(F962>0,AVERAGE($K$12:K962),\"\")","v":""},"","","","","","",""]
[952,null,null,null,null,null,null,null,null,null,"",{"$f":"IF(F963>0,AVERAGE($K$12:K963),\"\")","v":""},"","","","","","",""]
[953,null,null,null,null,null,null,null,null,null,"",{"$f":"IF(F964>0,AVERAGE($K$12:K964),\"\")","v":""},"","","","","","",""]
[954,null,null,null,null,null,null,null,null,null,"",{"$f":"IF(F965>0,AVERAGE($K$12:K965),\"\")","v":""},"","","","","","",""]
[955,null,null,null,null,null,null,null,null,null,"",{"$f":"IF(F966>0,AVERAGE($K$12:K966),\"\")","v":""},"","","","","","",""]
[956,null,null,null,null,null,null,null,null,null,"",{"$f":"IF(F967>0,AVERAGE($K$12:K967),\"\")","v":""},"","","","","","",""]
[957,null,null,null,null,null,null,null,null,null,"",{"$f":"IF(F968>0,AVERAGE($K$12:K968),\"\")","v":""},"","","","","","",""]
[958,null,null,null,null,null,null,null,null,null,"",{"$f":"IF(F969>0,AVERAGE($K$12:K969),\"\")","v":""},"","","","","","",""]
[959,null,null,null,null,null,null,null,null,null,"",{"$f":"IF(F970>0,AVERAGE($K$12:K970),\"\")","v":""},"","","","","","",""]
[960,null,null,null,null,null,null,null,null,null,"",{"$f":"IF(F971>0,AVERAGE($K$12:K971),\"\")","v":""},"","","",{"$f":"IF(F971>0,$E$5,\"\")","v":""},{"$f":"IF(F971>0,$E$5*(-1),\"\")","v":""},"",""]
[961,null,null,null,null,null,null,null,null,null,{"$f":"IF(F972>0,AVERAGE(F972:J972),\"\")","v":""},{"$f":"IF(F972>0,AVERAGE($K$12:K972),\"\")","v":""},{"$f":"IF(F972>0,(K972-$E$4),\"\")","v":""},"",{"$f":"IF(F972>0,IF(AND(R972=FALSE,S972=FALSE),\"<WHP+GA>\",IF(R972=FALSE,\"<GA>\",IF(S972=FALSE,\"<WHP>\",\"OK\"))),\"\")","v":""},"","",{"$f":"IFERROR(IF(ABS(M972)<=$E$5,TRUE,FALSE),\"\")","v":""},{"$f":"IFERROR(IF(ABS(N972)<=$E$6,TRUE,FALSE),\"\")","v":""}]
[962,null,null,null,null,null,null,null,null,null,"",{"$f":"IF(F973>0,AVERAGE($K$12:K973),\"\")","v":""},"",{"$f":"IF(F973>0,MAX(F973:J973)-MIN(F973:J973),\"\")","v":""},"","","","",""]
[963,null,null,null,null,null,null,null,null,null,"",{"$f":"IF(F974>0,AVERAGE($K$12:K974),\"\")","v":""},"","","","","","",""]
[964,null,null,null,null,null,null,null,null,null,"",{"$f":"IF(F975>0,AVERAGE($K$12:K975),\"\")","v":""},"","","","","","",""]
[965,null,null,null,null,null,null,null,null,null,"",{"$f":"IF(F976>0,AVERAGE($K$12:K976),\"\")","v":""},"","","","","","",""]
[966,null,null,null,null,null,null,null,null,null,"",{"$f":"IF(F977>0,AVERAGE($K$12:K977),\"\")","v":""},"","","","","","",""]
[967,null,null,null,null,null,null,null,null,null,"",{"$f":"IF(F978>0,AVERAGE($K$12:K978),\"\")","v":""},"","","","","","",""]
[968,null,null,null,null,null,null,null,null,null,"",{"$f":"IF(F979>0,AVERAGE($K$12:K979),\"\")","v":""},"","","","","","",""]
[969,null,null,null,null,null,null,null,null,null,"",{"$f":"IF(F980>0,AVERAGE($K$12:K980),\"\")","v":""},"","","","","","",""]
[970,null,null,null,null,null,null,null,null,null,"",{"$f":"IF(F981>0,AVERAGE($K$12:K981),\"\")","v":""},"","","","","","",""]
[971,null,null,null,null,null,null,null,null,null,"",{"$f":"IF(F982>0,AVERAGE($K$12:K982),\"\")","v":""},"","","","","","",""]
[972,null,null,null,null,null,null,null,null,null,"",{"$f":"IF(F983>0,AVERAGE($K$12:K983),\"\")","v":""},"","","","","","",""]
[973,null,null,null,null,null,null,null,null,null,"",{"$f":"IF(F984>0,AVERAGE($K$12:K984),\"\")","v":""},"","","","","","",""]
[974,null,null,null,null,null,null,null,null,null,"",{"$f":"IF(F985>0,AVERAGE($K$12:K985),\"\")","v":""},"","","","","","",""]
[975,null,null,null,null,null,null,null,null,null,"",{"$f":"IF(F986>0,AVERAGE($K$12:K986),\"\")","v":""},"","","","","","",""]
[976,null,null,null,null,null,null,null,null,null,"",{"$f":"IF(F987>0,AVERAGE($K$12:K987),\"\")","v":""},"","","","","","",""]
[977,null,null,null,null,null,null,null,null,null,"",{"$f":"IF(F988>0,AVERAGE($K$12:K988),\"\")","v":""},"","","","","","",""]
[978,null,null,null,null,null,null,null,null,null,"",{"$f":"IF(F989>0,AVERAGE($K$12:K989),\"\")","v":""},"","","","","","",""]
[979,null,null,null,null,null,null,null,null,null,"",{"$f":"IF(F990>0,AVERAGE($K$12:K990),\"\")","v":""},"","","","","","",""]
[980,null,null,null,null,null,null,null,null,null,"",{"$f":"IF(F991>0,AVERAGE($K$12:K991),\"\")","v":""},"","","","","","",""]
[981,null,null,null,null,null,null,null,null,null,"",{"$f":"IF(F992>0,AVERAGE($K$12:K992),\"\")","v":""},"","","","","","",""]
[982,null,null,null,null,null,null,null,null,null,"",{"$f":"IF(F993>0,AVERAGE($K$12:K993),\"\")","v":""},"","","","","","",""]
[983,null,null,null,null,null,null,null,null,null,"",{"$f":"IF(F994>0,AVERAGE($K$12:K994),\"\")","v":""},"","","","","","",""]
[984,null,null,null,null,null,null,null,null,null,"",{"$f":"IF(F995>0,AVERAGE($K$12:K995),\"\")","v":""},"","","","","","",""]
[985,null,null,null,null,null,null,null,null,null,"",{"$f":"IF(F996>0,AVERAGE($K$12:K996),\"\")","v":""},"","","","","","",""]
[986,null,null,null,null,null,null,null,null,null,"",{"$f":"IF(F997>0,AVERAGE($K$12:K997),\"\")","v":""},"","","","","","",""]
[987,null,null,null,null,null,null,null,null,null,"",{"$f":"IF(F998>0,AVERAGE($K$12:K998),\"\")","v":""},"","","","","","",""]
[988,null,null,null,null,null,null,null,null,null,"",{"$f":"IF(F999>0,AVERAGE($K$12:K999),\"\")","v":""},"","","","","","",""]
[989,null,null,null,null,null,null,null,null,null,"",{"$f":"IF(F1000>0,AVERAGE($K$12:K1000),\"\")","v":""},"","","","","","",""]
[990,null,null,null,null,null,null,null,null,null,"",{"$f":"IF(F1001>0,AVERAGE($K$12:K1001),\"\")","v":""},"","","","","","",""]
[991,null,null,null,null,null,null,null,null,null,"",{"$f":"IF(F1002>0,AVERAGE($K$12:K1002),\"\")","v":""},"","","","","","",""]
[992,null,null,null,null,null,null,null,null,null,"",{"$f":"IF(F1003>0,AVERAGE($K$12:K1003),\"\")","v":""},"","","","","","",""]
[993,null,null,null,null,null,null,null,null,null,"",{"$f":"IF(F1004>0,AVERAGE($K$12:K1004),\"\")","v":""},"","","","","","",""]
[994,null,null,null,null,null,null,null,null,null,"",{"$f":"IF(F1005>0,AVERAGE($K$12:K1005),\"\")","v":""},"","","","","","",""]
[995,null,null,null,null,null,null,null,null,null,"",{"$f":"IF(F1006>0,AVERAGE($K$12:K1006),\"\")","v":""},"","","","","","",""]
[996,null,null,null,null,null,null,null,null,null,"",{"$f":"IF(F1007>0,AVERAGE($K$12:K1007),\"\")","v":""},"","","","","","",""]
[997,null,null,null,null,null,null,null,null,null,"",{"$f":"IF(F1008>0,AVERAGE($K$12:K1008),\"\")","v":""},"","","","","","",""]
[998,null,null,null,null,null,null,null,null,null,"",{"$f":"IF(F1009>0,AVERAGE($K$12:K1009),\"\")","v":""},"","","","","","",""]
[999,null,null,null,null,null,null,null,null,null,"",{"$f":"IF(F1010>0,AVERAGE($K$12:K1010),\"\")","v":""},"","","","","","",""]
[1000,null,null,null,null,null,null,null,null,null,"",{"$f":"IF(F1011>0,AVERAGE($K$12:K1011),\"\")","v":""},"","","","","","",""]
[1001,null,null,null,null,null,null,null,null,null,"",{"$f":"IF(F1012>0,AVERAGE($K$12:K1012),\"\")","v":""},"","","","","","",""]
[1002,null,null,null,null,null,null,null,null,null,"",{"$f":"IF(F1013>0,AVERAGE($K$12:K1013),\"\")","v":""},"","","","","","",""]
[1003,null,null,null,null,null,null,null,null,null,"",{"$f":"IF(F1014>0,AVERAGE($K$12:K1014),\"\")","v":""},"","","","","","",""]
[1004,null,null,null,null,null,null,null,null,null,"",{"$f":"IF(F1015>0,AVERAGE($K$12:K1015),\"\")","v":""},"","","","","","",""]
[1005,null,null,null,null,null,null,null,null,null,"",{"$f":"IF(F1016>0,AVERAGE($K$12:K1016),\"\")","v":""},"","","","","","",""]
[1006,null,null,null,null,null,null,null,null,null,"",{"$f":"IF(F1017>0,AVERAGE($K$12:K1017),\"\")","v":""},"","","","","","",""]
[1007,null,null,null,null,null,null,null,null,null,"",{"$f":"IF(F1018>0,AVERAGE($K$12:K1018),\"\")","v":""},"","","","","","",""]
[1008,null,null,null,null,null,null,null,null,null,"",{"$f":"IF(F1019>0,AVERAGE($K$12:K1019),\"\")","v":""},"","","","","","",""]
[1009,null,null,null,null,null,null,null,null,null,"",{"$f":"IF(F1020>0,AVERAGE($K$12:K1020),\"\")","v":""},"","","","","","",""]
[1010,null,null,null,null,null,null,null,null,null,"",{"$f":"IF(F1021>0,AVERAGE($K$12:K1021),\"\")","v":""},"","","","","","",""]
[1011,null,null,null,null,null,null,null,null,null,"",{"$f":"IF(F1022>0,AVERAGE($K$12:K1022),\"\")","v":""},"","","","","","",""]
[1012,null,null,null,null,null,null,null,null,null,"",{"$f":"IF(F1023>0,AVERAGE($K$12:K1023),\"\")","v":""},"","","","","","",""]
[1013,null,null,null,null,null,null,null,null,null,"",{"$f":"IF(F1024>0,AVERAGE($K$12:K1024),\"\")","v":""},"","","","","","",""]
[1014,null,null,null,null,null,null,null,null,null,"",{"$f":"IF(F1025>0,AVERAGE($K$12:K1025),\"\")","v":""},"","","","","","",""]
[1015,null,null,null,null,null,null,null,null,null,"",{"$f":"IF(F1026>0,AVERAGE($K$12:K1026),\"\")","v":""},"","","","","","",""]
[1016,null,null,null,null,null,null,null,null,null,"",{"$f":"IF(F1027>0,AVERAGE($K$12:K1027),\"\")","v":""},"","","","","","",""]
[1017,null,null,null,null,null,null,null,null,null,"",{"$f":"IF(F1028>0,AVERAGE($K$12:K1028),\"\")","v":""},"","","","","","",""]
[1018,null,null,null,null,null,null,null,null,null,"",{"$f":"IF(F1029>0,AVERAGE($K$12:K1029),\"\")","v":""},"","","","","","",""]
[1019,null,null,null,null,null,null,null,null,null,"",{"$f":"IF(F1030>0,AVERAGE($K$12:K1030),\"\")","v":""},"","","","","","",""]
[1020,null,null,null,null,null,null,null,null,null,"",{"$f":"IF(F1031>0,AVERAGE($K$12:K1031),\"\")","v":""},"","","","","","",""]
[1021,null,null,null,null,null,null,null,null,null,"",{"$f":"IF(F1032>0,AVERAGE($K$12:K1032),\"\")","v":""},"","","","","","",""]
[1022,null,null,null,null,null,null,null,null,null,"",{"$f":"IF(F1033>0,AVERAGE($K$12:K1033),\"\")","v":""},"","","","","","",""]
[1023,null,null,null,null,null,null,null,null,null,"",{"$f":"IF(F1034>0,AVERAGE($K$12:K1034),\"\")","v":""},"","","","","","",""]
[1024,null,null,null,null,null,null,null,null,null,"",{"$f":"IF(F1035>0,AVERAGE($K$12:K1035),\"\")","v":""},"","","",{"$f":"IF(F1035>0,$E$5,\"\")","v":""},{"$f":"IF(F1035>0,$E$5*(-1),\"\")","v":""},"",""]
[1025,null,null,null,null,null,null,null,null,null,{"$f":"IF(F1036>0,AVERAGE(F1036:J1036),\"\")","v":""},{"$f":"IF(F1036>0,AVERAGE($K$12:K1036),\"\")","v":""},{"$f":"IF(F1036>0,(K1036-$E$4),\"\")","v":""},"",{"$f":"IF(F1036>0,IF(AND(R1036=FALSE,S1036=FALSE),\"<WHP+GA>\",IF(R1036=FALSE,\"<GA>\",IF(S1036=FALSE,\"<WHP>\",\"OK\"))),\"\")","v":""},"","",{"$f":"IFERROR(IF(ABS(M1036)<=$E$5,TRUE,FALSE),\"\")","v":""},{"$f":"IFERROR(IF(ABS(N1036)<=$E$6,TRUE,FALSE),\"\")","v":""}]
[1026,null,null,null,null,null,null,null,null,null,"",{"$f":"IF(F1037>0,AVERAGE($K$12:K1037),\"\")","v":""},"",{"$f":"IF(F1037>0,MAX(F1037:J1037)-MIN(F1037:J1037),\"\")","v":""},"","","","",""]
[1027,null,null,null,null,null,null,null,null,null,"",{"$f":"IF(F1038>0,AVERAGE($K$12:K1038),\"\")","v":""},"","","","","","",""]
[1028,null,null,null,null,null,null,null,null,null,"",{"$f":"IF(F1039>0,AVERAGE($K$12:K1039),\"\")","v":""},"","","","","","",""]
[1029,null,null,null,null,null,null,null,null,null,"",{"$f":"IF(F1040>0,AVERAGE($K$12:K1040),\"\")","v":""},"","","","","","",""]
[1030,null,null,null,null,null,null,null,null,null,"",{"$f":"IF(F1041>0,AVERAGE($K$12:K1041),\"\")","v":""},"","","","","","",""]
[1031,null,null,null,null,null,null,null,null,null,"",{"$f":"IF(F1042>0,AVERAGE($K$12:K1042),\"\")","v":""},"","","","","","",""]
[1032,null,null,null,null,null,null,null,null,null,"",{"$f":"IF(F1043>0,AVERAGE($K$12:K1043),\"\")","v":""},"","","","","","",""]
[1033,null,null,null,null,null,null,null,null,null,"",{"$f":"IF(F1044>0,AVERAGE($K$12:K1044),\"\")","v":""},"","","","","","",""]
[1034,null,null,null,null,null,null,null,null,null,"",{"$f":"IF(F1045>0,AVERAGE($K$12:K1045),\"\")","v":""},"","","","","","",""]
[1035,null,null,null,null,null,null,null,null,null,"",{"$f":"IF(F1046>0,AVERAGE($K$12:K1046),\"\")","v":""},"","","","","","",""]
[1036,null,null,null,null,null,null,null,null,null,"",{"$f":"IF(F1047>0,AVERAGE($K$12:K1047),\"\")","v":""},"","","","","","",""]
[1037,null,null,null,null,null,null,null,null,null,"",{"$f":"IF(F1048>0,AVERAGE($K$12:K1048),\"\")","v":""},"","","","","","",""]
[1038,null,null,null,null,null,null,null,null,null,"",{"$f":"IF(F1049>0,AVERAGE($K$12:K1049),\"\")","v":""},"","","","","","",""]
[1039,null,null,null,null,null,null,null,null,null,"",{"$f":"IF(F1050>0,AVERAGE($K$12:K1050),\"\")","v":""},"","","","","","",""]
[1040,null,null,null,null,null,null,null,null,null,"",{"$f":"IF(F1051>0,AVERAGE($K$12:K1051),\"\")","v":""},"","","","","","",""]
[1041,null,null,null,null,null,null,null,null,null,"",{"$f":"IF(F1052>0,AVERAGE($K$12:K1052),\"\")","v":""},"","","","","","",""]
[1042,null,null,null,null,null,null,null,null,null,"",{"$f":"IF(F1053>0,AVERAGE($K$12:K1053),\"\")","v":""},"","","","","","",""]
[1043,null,null,null,null,null,null,null,null,null,"",{"$f":"IF(F1054>0,AVERAGE($K$12:K1054),\"\")","v":""},"","","","","","",""]
[1044,null,null,null,null,null,null,null,null,null,"",{"$f":"IF(F1055>0,AVERAGE($K$12:K1055),\"\")","v":""},"","","","","","",""]
[1045,null,null,null,null,null,null,null,null,null,"",{"$f":"IF(F1056>0,AVERAGE($K$12:K1056),\"\")","v":""},"","","","","","",""]
[1046,null,null,null,null,null,null,null,null,null,"",{"$f":"IF(F1057>0,AVERAGE($K$12:K1057),\"\")","v":""},"","","","","","",""]
[1047,null,null,null,null,null,null,null,null,null,"",{"$f":"IF(F1058>0,AVERAGE($K$12:K1058),\"\")","v":""},"","","","","","",""]
[1048,null,null,null,null,null,null,null,null,null,"",{"$f":"IF(F1059>0,AVERAGE($K$12:K1059),\"\")","v":""},"","","","","","",""]
[1049,null,null,null,null,null,null,null,null,null,"",{"$f":"IF(F1060>0,AVERAGE($K$12:K1060),\"\")","v":""},"","","","","","",""]
[1050,null,null,null,null,null,null,null,null,null,"",{"$f":"IF(F1061>0,AVERAGE($K$12:K1061),\"\")","v":""},"","","","","","",""]
[1051,null,null,null,null,null,null,null,null,null,"",{"$f":"IF(F1062>0,AVERAGE($K$12:K1062),\"\")","v":""},"","","","","","",""]
[1052,null,null,null,null,null,null,null,null,null,"",{"$f":"IF(F1063>0,AVERAGE($K$12:K1063),\"\")","v":""},"","","","","","",""]
[1053,null,null,null,null,null,null,null,null,null,"",{"$f":"IF(F1064>0,AVERAGE($K$12:K1064),\"\")","v":""},"","","","","","",""]
[1054,null,null,null,null,null,null,null,null,null,"",{"$f":"IF(F1065>0,AVERAGE($K$12:K1065),\"\")","v":""},"","","","","","",""]
[1055,null,null,null,null,null,null,null,null,null,"",{"$f":"IF(F1066>0,AVERAGE($K$12:K1066),\"\")","v":""},"","","","","","",""]
[1056,null,null,null,null,null,null,null,null,null,"",{"$f":"IF(F1067>0,AVERAGE($K$12:K1067),\"\")","v":""},"","","","","","",""]
[1057,null,null,null,null,null,null,null,null,null,"",{"$f":"IF(F1068>0,AVERAGE($K$12:K1068),\"\")","v":""},"","","","","","",""]
[1058,null,null,null,null,null,null,null,null,null,"",{"$f":"IF(F1069>0,AVERAGE($K$12:K1069),\"\")","v":""},"","","","","","",""]
[1059,null,null,null,null,null,null,null,null,null,"",{"$f":"IF(F1070>0,AVERAGE($K$12:K1070),\"\")","v":""},"","","","","","",""]
[1060,null,null,null,null,null,null,null,null,null,"",{"$f":"IF(F1071>0,AVERAGE($K$12:K1071),\"\")","v":""},"","","","","","",""]
[1061,null,null,null,null,null,null,null,null,null,"",{"$f":"IF(F1072>0,AVERAGE($K$12:K1072),\"\")","v":""},"","","","","","",""]
[1062,null,null,null,null,null,null,null,null,null,"",{"$f":"IF(F1073>0,AVERAGE($K$12:K1073),\"\")","v":""},"","","","","","",""]
[1063,null,null,null,null,null,null,null,null,null,"",{"$f":"IF(F1074>0,AVERAGE($K$12:K1074),\"\")","v":""},"","","","","","",""]
[1064,null,null,null,null,null,null,null,null,null,"",{"$f":"IF(F1075>0,AVERAGE($K$12:K1075),\"\")","v":""},"","","","","","",""]
[1065,null,null,null,null,null,null,null,null,null,"",{"$f":"IF(F1076>0,AVERAGE($K$12:K1076),\"\")","v":""},"","","","","","",""]
[1066,null,null,null,null,null,null,null,null,null,"",{"$f":"IF(F1077>0,AVERAGE($K$12:K1077),\"\")","v":""},"","","","","","",""]
[1067,null,null,null,null,null,null,null,null,null,"",{"$f":"IF(F1078>0,AVERAGE($K$12:K1078),\"\")","v":""},"","","","","","",""]
[1068,null,null,null,null,null,null,null,null,null,"",{"$f":"IF(F1079>0,AVERAGE($K$12:K1079),\"\")","v":""},"","","","","","",""]
[1069,null,null,null,null,null,null,null,null,null,"",{"$f":"IF(F1080>0,AVERAGE($K$12:K1080),\"\")","v":""},"","","","","","",""]
[1070,null,null,null,null,null,null,null,null,null,"",{"$f":"IF(F1081>0,AVERAGE($K$12:K1081),\"\")","v":""},"","","","","","",""]
[1071,null,null,null,null,null,null,null,null,null,"",{"$f":"IF(F1082>0,AVERAGE($K$12:K1082),\"\")","v":""},"","","","","","",""]
[1072,null,null,null,null,null,null,null,null,null,"",{"$f":"IF(F1083>0,AVERAGE($K$12:K1083),\"\")","v":""},"","","","","","",""]
[1073,null,null,null,null,null,null,null,null,null,"",{"$f":"IF(F1084>0,AVERAGE($K$12:K1084),\"\")","v":""},"","","","","","",""]
[1074,null,null,null,null,null,null,null,null,null,"",{"$f":"IF(F1085>0,AVERAGE($K$12:K1085),\"\")","v":""},"","","","","","",""]
[1075,null,null,null,null,null,null,null,null,null,"",{"$f":"IF(F1086>0,AVERAGE($K$12:K1086),\"\")","v":""},"","","","","","",""]
[1076,null,null,null,null,null,null,null,null,null,"",{"$f":"IF(F1087>0,AVERAGE($K$12:K1087),\"\")","v":""},"","","","","","",""]
[1077,null,null,null,null,null,null,null,null,null,"",{"$f":"IF(F1088>0,AVERAGE($K$12:K1088),\"\")","v":""},"","","","","","",""]
[1078,null,null,null,null,null,null,null,null,null,"",{"$f":"IF(F1089>0,AVERAGE($K$12:K1089),\"\")","v":""},"","","","","","",""]
[1079,null,null,null,null,null,null,null,null,null,"",{"$f":"IF(F1090>0,AVERAGE($K$12:K1090),\"\")","v":""},"","","","","","",""]
[1080,null,null,null,null,null,null,null,null,null,"",{"$f":"IF(F1091>0,AVERAGE($K$12:K1091),\"\")","v":""},"","","","","","",""]
[1081,null,null,null,null,null,null,null,null,null,"",{"$f":"IF(F1092>0,AVERAGE($K$12:K1092),\"\")","v":""},"","","","","","",""]
[1082,null,null,null,null,null,null,null,null,null,"",{"$f":"IF(F1093>0,AVERAGE($K$12:K1093),\"\")","v":""},"","","","","","",""]
[1083,null,null,null,null,null,null,null,null,null,"",{"$f":"IF(F1094>0,AVERAGE($K$12:K1094),\"\")","v":""},"","","","","","",""]
[1084,null,null,null,null,null,null,null,null,null,"",{"$f":"IF(F1095>0,AVERAGE($K$12:K1095),\"\")","v":""},"","","","","","",""]
[1085,null,null,null,null,null,null,null,null,null,"",{"$f":"IF(F1096>0,AVERAGE($K$12:K1096),\"\")","v":""},"","","","","","",""]
[1086,null,null,null,null,null,null,null,null,null,"",{"$f":"IF(F1097>0,AVERAGE($K$12:K1097),\"\")","v":""},"","","","","","",""]
[1087,null,null,null,null,null,null,null,null,null,"",{"$f":"IF(F1098>0,AVERAGE($K$12:K1098),\"\")","v":""},"","","","","","",""]
[1088,null,null,null,null,null,null,null,null,null,"",{"$f":"IF(F1099>0,AVERAGE($K$12:K1099),\"\")","v":""},"","","",{"$f":"IF(F1099>0,$E$5,\"\")","v":""},{"$f":"IF(F1099>0,$E$5*(-1),\"\")","v":""},"",""]
[1089,null,null,null,null,null,null,null,null,null,{"$f":"IF(F1100>0,AVERAGE(F1100:J1100),\"\")","v":""},{"$f":"IF(F1100>0,AVERAGE($K$12:K1100),\"\")","v":""},{"$f":"IF(F1100>0,(K1100-$E$4),\"\")","v":""},"",{"$f":"IF(F1100>0,IF(AND(R1100=FALSE,S1100=FALSE),\"<WHP+GA>\",IF(R1100=FALSE,\"<GA>\",IF(S1100=FALSE,\"<WHP>\",\"OK\"))),\"\")","v":""},"","",{"$f":"IFERROR(IF(ABS(M1100)<=$E$5,TRUE,FALSE),\"\")","v":""},{"$f":"IFERROR(IF(ABS(N1100)<=$E$6,TRUE,FALSE),\"\")","v":""}]
[1090,null,null,null,null,null,null,null,null,null,"",{"$f":"IF(F1101>0,AVERAGE($K$12:K1101),\"\")","v":""},"",{"$f":"IF(F1101>0,MAX(F1101:J1101)-MIN(F1101:J1101),\"\")","v":""},"","","","",""]
[1091,null,null,null,null,null,null,null,null,null,"",{"$f":"IF(F1102>0,AVERAGE($K$12:K1102),\"\")","v":""},"","","","","","",""]
[1092,null,null,null,null,null,null,null,null,null,"",{"$f":"IF(F1103>0,AVERAGE($K$12:K1103),\"\")","v":""},"","","","","","",""]
[1093,null,null,null,null,null,null,null,null,null,"",{"$f":"IF(F1104>0,AVERAGE($K$12:K1104),\"\")","v":""},"","","","","","",""]
[1094,null,null,null,null,null,null,null,null,null,"",{"$f":"IF(F1105>0,AVERAGE($K$12:K1105),\"\")","v":""},"","","","","","",""]
[1095,null,null,null,null,null,null,null,null,null,"",{"$f":"IF(F1106>0,AVERAGE($K$12:K1106),\"\")","v":""},"","","","","","",""]
[1096,null,null,null,null,null,null,null,null,null,"",{"$f":"IF(F1107>0,AVERAGE($K$12:K1107),\"\")","v":""},"","","","","","",""]
[1097,null,null,null,null,null,null,null,null,null,"",{"$f":"IF(F1108>0,AVERAGE($K$12:K1108),\"\")","v":""},"","","","","","",""]
[1098,null,null,null,null,null,null,null,null,null,"",{"$f":"IF(F1109>0,AVERAGE($K$12:K1109),\"\")","v":""},"","","","","","",""]
[1099,null,null,null,null,null,null,null,null,null,"",{"$f":"IF(F1110>0,AVERAGE($K$12:K1110),\"\")","v":""},"","","","","","",""]
[1100,null,null,null,null,null,null,null,null,null,"",{"$f":"IF(F1111>0,AVERAGE($K$12:K1111),\"\")","v":""},"","","","","","",""]
[1101,null,null,null,null,null,null,null,null,null,"",{"$f":"IF(F1112>0,AVERAGE($K$12:K1112),\"\")","v":""},"","","","","","",""]
[1102,null,null,null,null,null,null,null,null,null,"",{"$f":"IF(F1113>0,AVERAGE($K$12:K1113),\"\")","v":""},"","","","","","",""]
[1103,null,null,null,null,null,null,null,null,null,"",{"$f":"IF(F1114>0,AVERAGE($K$12:K1114),\"\")","v":""},"","","","","","",""]
[1104,null,null,null,null,null,null,null,null,null,"",{"$f":"IF(F1115>0,AVERAGE($K$12:K1115),\"\")","v":""},"","","","","","",""]
[1105,null,null,null,null,null,null,null,null,null,"",{"$f":"IF(F1116>0,AVERAGE($K$12:K1116),\"\")","v":""},"","","","","","",""]
[1106,null,null,null,null,null,null,null,null,null,"",{"$f":"IF(F1117>0,AVERAGE($K$12:K1117),\"\")","v":""},"","","","","","",""]
[1107,null,null,null,null,null,null,null,null,null,"",{"$f":"IF(F1118>0,AVERAGE($K$12:K1118),\"\")","v":""},"","","","","","",""]
[1108,null,null,null,null,null,null,null,null,null,"",{"$f":"IF(F1119>0,AVERAGE($K$12:K1119),\"\")","v":""},"","","","","","",""]
[1109,null,null,null,null,null,null,null,null,null,"",{"$f":"IF(F1120>0,AVERAGE($K$12:K1120),\"\")","v":""},"","","","","","",""]
[1110,null,null,null,null,null,null,null,null,null,"",{"$f":"IF(F1121>0,AVERAGE($K$12:K1121),\"\")","v":""},"","","","","","",""]
[1111,null,null,null,null,null,null,null,null,null,"",{"$f":"IF(F1122>0,AVERAGE($K$12:K1122),\"\")","v":""},"","","","","","",""]
[1112,null,null,null,null,null,null,null,null,null,"",{"$f":"IF(F1123>0,AVERAGE($K$12:K1123),\"\")","v":""},"","","","","","",""]
[1113,null,null,null,null,null,null,null,null,null,"",{"$f":"IF(F1124>0,AVERAGE($K$12:K1124),\"\")","v":""},"","","","","","",""]
[1114,null,null,null,null,null,null,null,null,null,"",{"$f":"IF(F1125>0,AVERAGE($K$12:K1125),\"\")","v":""},"","","","","","",""]
[1115,null,null,null,null,null,null,null,null,null,"",{"$f":"IF(F1126>0,AVERAGE($K$12:K1126),\"\")","v":""},"","","","","","",""]
[1116,null,null,null,null,null,null,null,null,null,"",{"$f":"IF(F1127>0,AVERAGE($K$12:K1127),\"\")","v":""},"","","","","","",""]
[1117,null,null,null,null,null,null,null,null,null,"",{"$f":"IF(F1128>0,AVERAGE($K$12:K1128),\"\")","v":""},"","","","","","",""]
[1118,null,null,null,null,null,null,null,null,null,"",{"$f":"IF(F1129>0,AVERAGE($K$12:K1129),\"\")","v":""},"","","","","","",""]
[1119,null,null,null,null,null,null,null,null,null,"",{"$f":"IF(F1130>0,AVERAGE($K$12:K1130),\"\")","v":""},"","","","","","",""]
[1120,null,null,null,null,null,null,null,null,null,"",{"$f":"IF(F1131>0,AVERAGE($K$12:K1131),\"\")","v":""},"","","","","","",""]
[1121,null,null,null,null,null,null,null,null,null,"",{"$f":"IF(F1132>0,AVERAGE($K$12:K1132),\"\")","v":""},"","","","","","",""]
[1122,null,null,null,null,null,null,null,null,null,"",{"$f":"IF(F1133>0,AVERAGE($K$12:K1133),\"\")","v":""},"","","","","","",""]
[1123,null,null,null,null,null,null,null,null,null,"",{"$f":"IF(F1134>0,AVERAGE($K$12:K1134),\"\")","v":""},"","","","","","",""]
[1124,null,null,null,null,null,null,null,null,null,"",{"$f":"IF(F1135>0,AVERAGE($K$12:K1135),\"\")","v":""},"","","","","","",""]
[1125,null,null,null,null,null,null,null,null,null,"",{"$f":"IF(F1136>0,AVERAGE($K$12:K1136),\"\")","v":""},"","","","","","",""]
[1126,null,null,null,null,null,null,null,null,null,"",{"$f":"IF(F1137>0,AVERAGE($K$12:K1137),\"\")","v":""},"","","","","","",""]
[1127,null,null,null,null,null,null,null,null,null,"",{"$f":"IF(F1138>0,AVERAGE($K$12:K1138),\"\")","v":""},"","","","","","",""]
[1128,null,null,null,null,null,null,null,null,null,"",{"$f":"IF(F1139>0,AVERAGE($K$12:K1139),\"\")","v":""},"","","","","","",""]
[1129,null,null,null,null,null,null,null,null,null,"",{"$f":"IF(F1140>0,AVERAGE($K$12:K1140),\"\")","v":""},"","","","","","",""]
[1130,null,null,null,null,null,null,null,null,null,"",{"$f":"IF(F1141>0,AVERAGE($K$12:K1141),\"\")","v":""},"","","","","","",""]
[1131,null,null,null,null,null,null,null,null,null,"",{"$f":"IF(F1142>0,AVERAGE($K$12:K1142),\"\")","v":""},"","","","","","",""]
[1132,null,null,null,null,null,null,null,null,null,"",{"$f":"IF(F1143>0,AVERAGE($K$12:K1143),\"\")","v":""},"","","","","","",""]
[1133,null,null,null,null,null,null,null,null,null,"",{"$f":"IF(F1144>0,AVERAGE($K$12:K1144),\"\")","v":""},"","","","","","",""]
[1134,null,null,null,null,null,null,null,null,null,"",{"$f":"IF(F1145>0,AVERAGE($K$12:K1145),\"\")","v":""},"","","","","","",""]
[1135,null,null,null,null,null,null,null,null,null,"",{"$f":"IF(F1146>0,AVERAGE($K$12:K1146),\"\")","v":""},"","","","","","",""]
[1136,null,null,null,null,null,null,null,null,null,"",{"$f":"IF(F1147>0,AVERAGE($K$12:K1147),\"\")","v":""},"","","","","","",""]
[1137,null,null,null,null,null,null,null,null,null,"",{"$f":"IF(F1148>0,AVERAGE($K$12:K1148),\"\")","v":""},"","","","","","",""]
[1138,null,null,null,null,null,null,null,null,null,"",{"$f":"IF(F1149>0,AVERAGE($K$12:K1149),\"\")","v":""},"","","","","","",""]
[1139,null,null,null,null,null,null,null,null,null,"",{"$f":"IF(F1150>0,AVERAGE($K$12:K1150),\"\")","v":""},"","","","","","",""]
[1140,null,null,null,null,null,null,null,null,null,"",{"$f":"IF(F1151>0,AVERAGE($K$12:K1151),\"\")","v":""},"","","","","","",""]
[1141,null,null,null,null,null,null,null,null,null,"",{"$f":"IF(F1152>0,AVERAGE($K$12:K1152),\"\")","v":""},"","","","","","",""]
[1142,null,null,null,null,null,null,null,null,null,"",{"$f":"IF(F1153>0,AVERAGE($K$12:K1153),\"\")","v":""},"","","","","","",""]
[1143,null,null,null,null,null,null,null,null,null,"",{"$f":"IF(F1154>0,AVERAGE($K$12:K1154),\"\")","v":""},"","","","","","",""]
[1144,null,null,null,null,null,null,null,null,null,"",{"$f":"IF(F1155>0,AVERAGE($K$12:K1155),\"\")","v":""},"","","","","","",""]
[1145,null,null,null,null,null,null,null,null,null,"",{"$f":"IF(F1156>0,AVERAGE($K$12:K1156),\"\")","v":""},"","","","","","",""]
[1146,null,null,null,null,null,null,null,null,null,"",{"$f":"IF(F1157>0,AVERAGE($K$12:K1157),\"\")","v":""},"","","","","","",""]
[1147,null,null,null,null,null,null,null,null,null,"",{"$f":"IF(F1158>0,AVERAGE($K$12:K1158),\"\")","v":""},"","","","","","",""]
[1148,null,null,null,null,null,null,null,null,null,"",{"$f":"IF(F1159>0,AVERAGE($K$12:K1159),\"\")","v":""},"","","","","","",""]
[1149,null,null,null,null,null,null,null,null,null,"",{"$f":"IF(F1160>0,AVERAGE($K$12:K1160),\"\")","v":""},"","","","","","",""]
[1150,null,null,null,null,null,null,null,null,null,"",{"$f":"IF(F1161>0,AVERAGE($K$12:K1161),\"\")","v":""},"","","","","","",""]
[1151,null,null,null,null,null,null,null,null,null,"",{"$f":"IF(F1162>0,AVERAGE($K$12:K1162),\"\")","v":""},"","","","","","",""]
[1152,null,null,null,null,null,null,null,null,null,"",{"$f":"IF(F1163>0,AVERAGE($K$12:K1163),\"\")","v":""},"","","",{"$f":"IF(F1163>0,$E$5,\"\")","v":""},{"$f":"IF(F1163>0,$E$5*(-1),\"\")","v":""},"",""]
[1153,null,null,null,null,null,null,null,null,null,{"$f":"IF(F1164>0,AVERAGE(F1164:J1164),\"\")","v":""},{"$f":"IF(F1164>0,AVERAGE($K$12:K1164),\"\")","v":""},{"$f":"IF(F1164>0,(K1164-$E$4),\"\")","v":""},"",{"$f":"IF(F1164>0,IF(AND(R1164=FALSE,S1164=FALSE),\"<WHP+GA>\",IF(R1164=FALSE,\"<GA>\",IF(S1164=FALSE,\"<WHP>\",\"OK\"))),\"\")","v":""},"","",{"$f":"IFERROR(IF(ABS(M1164)<=$E$5,TRUE,FALSE),\"\")","v":""},{"$f":"IFERROR(IF(ABS(N1164)<=$E$6,TRUE,FALSE),\"\")","v":""}]
[1154,null,null,null,null,null,null,null,null,null,"",{"$f":"IF(F1165>0,AVERAGE($K$12:K1165),\"\")","v":""},"",{"$f":"IF(F1165>0,MAX(F1165:J1165)-MIN(F1165:J1165),\"\")","v":""},"","","","",""]
[1155,null,null,null,null,null,null,null,null,null,"",{"$f":"IF(F1166>0,AVERAGE($K$12:K1166),\"\")","v":""},"","","","","","",""]
[1156,null,null,null,null,null,null,null,null,null,"",{"$f":"IF(F1167>0,AVERAGE($K$12:K1167),\"\")","v":""},"","","","","","",""]
[1157,null,null,null,null,null,null,null,null,null,"",{"$f":"IF(F1168>0,AVERAGE($K$12:K1168),\"\")","v":""},"","","","","","",""]
[1158,null,null,null,null,null,null,null,null,null,"",{"$f":"IF(F1169>0,AVERAGE($K$12:K1169),\"\")","v":""},"","","","","","",""]
[1159,null,null,null,null,null,null,null,null,null,"",{"$f":"IF(F1170>0,AVERAGE($K$12:K1170),\"\")","v":""},"","","","","","",""]
[1160,null,null,null,null,null,null,null,null,null,"",{"$f":"IF(F1171>0,AVERAGE($K$12:K1171),\"\")","v":""},"","","","","","",""]
[1161,null,null,null,null,null,null,null,null,null,"",{"$f":"IF(F1172>0,AVERAGE($K$12:K1172),\"\")","v":""},"","","","","","",""]
[1162,null,null,null,null,null,null,null,null,null,"",{"$f":"IF(F1173>0,AVERAGE($K$12:K1173),\"\")","v":""},"","","","","","",""]
[1163,null,null,null,null,null,null,null,null,null,"",{"$f":"IF(F1174>0,AVERAGE($K$12:K1174),\"\")","v":""},"","","","","","",""]
[1164,null,null,null,null,null,null,null,null,null,"",{"$f":"IF(F1175>0,AVERAGE($K$12:K1175),\"\")","v":""},"","","","","","",""]
[1165,null,null,null,null,null,null,null,null,null,"",{"$f":"IF(F1176>0,AVERAGE($K$12:K1176),\"\")","v":""},"","","","","","",""]
[1166,null,null,null,null,null,null,null,null,null,"",{"$f":"IF(F1177>0,AVERAGE($K$12:K1177),\"\")","v":""},"","","","","","",""]
[1167,null,null,null,null,null,null,null,null,null,"",{"$f":"IF(F1178>0,AVERAGE($K$12:K1178),\"\")","v":""},"","","","","","",""]
[1168,null,null,null,null,null,null,null,null,null,"",{"$f":"IF(F1179>0,AVERAGE($K$12:K1179),\"\")","v":""},"","","","","","",""]
[1169,null,null,null,null,null,null,null,null,null,"",{"$f":"IF(F1180>0,AVERAGE($K$12:K1180),\"\")","v":""},"","","","","","",""]
[1170,null,null,null,null,null,null,null,null,null,"",{"$f":"IF(F1181>0,AVERAGE($K$12:K1181),\"\")","v":""},"","","","","","",""]
[1171,null,null,null,null,null,null,null,null,null,"",{"$f":"IF(F1182>0,AVERAGE($K$12:K1182),\"\")","v":""},"","","","","","",""]
[1172,null,null,null,null,null,null,null,null,null,"",{"$f":"IF(F1183>0,AVERAGE($K$12:K1183),\"\")","v":""},"","","","","","",""]
[1173,null,null,null,null,null,null,null,null,null,"",{"$f":"IF(F1184>0,AVERAGE($K$12:K1184),\"\")","v":""},"","","","","","",""]
[1174,null,null,null,null,null,null,null,null,null,"",{"$f":"IF(F1185>0,AVERAGE($K$12:K1185),\"\")","v":""},"","","","","","",""]
[1175,null,null,null,null,null,null,null,null,null,"",{"$f":"IF(F1186>0,AVERAGE($K$12:K1186),\"\")","v":""},"","","","","","",""]
[1176,null,null,null,null,null,null,null,null,null,"",{"$f":"IF(F1187>0,AVERAGE($K$12:K1187),\"\")","v":""},"","","","","","",""]
[1177,null,null,null,null,null,null,null,null,null,"",{"$f":"IF(F1188>0,AVERAGE($K$12:K1188),\"\")","v":""},"","","","","","",""]
[1178,null,null,null,null,null,null,null,null,null,"",{"$f":"IF(F1189>0,AVERAGE($K$12:K1189),\"\")","v":""},"","","","","","",""]
[1179,null,null,null,null,null,null,null,null,null,"",{"$f":"IF(F1190>0,AVERAGE($K$12:K1190),\"\")","v":""},"","","","","","",""]
[1180,null,null,null,null,null,null,null,null,null,"",{"$f":"IF(F1191>0,AVERAGE($K$12:K1191),\"\")","v":""},"","","","","","",""]
[1181,null,null,null,null,null,null,null,null,null,"",{"$f":"IF(F1192>0,AVERAGE($K$12:K1192),\"\")","v":""},"","","","","","",""]
[1182,null,null,null,null,null,null,null,null,null,"",{"$f":"IF(F1193>0,AVERAGE($K$12:K1193),\"\")","v":""},"","","","","","",""]
[1183,null,null,null,null,null,null,null,null,null,"",{"$f":"IF(F1194>0,AVERAGE($K$12:K1194),\"\")","v":""},"","","","","","",""]
[1184,null,null,null,null,null,null,null,null,null,"",{"$f":"IF(F1195>0,AVERAGE($K$12:K1195),\"\")","v":""},"","","","","","",""]
[1185,null,null,null,null,null,null,null,null,null,"",{"$f":"IF(F1196>0,AVERAGE($K$12:K1196),\"\")","v":""},"","","","","","",""]
[1186,null,null,null,null,null,null,null,null,null,"",{"$f":"IF(F1197>0,AVERAGE($K$12:K1197),\"\")","v":""},"","","","","","",""]
[1187,null,null,null,null,null,null,null,null,null,"",{"$f":"IF(F1198>0,AVERAGE($K$12:K1198),\"\")","v":""},"","","","","","",""]
[1188,null,null,null,null,null,null,null,null,null,"",{"$f":"IF(F1199>0,AVERAGE($K$12:K1199),\"\")","v":""},"","","","","","",""]
[1189,null,null,null,null,null,null,null,null,null,"",{"$f":"IF(F1200>0,AVERAGE($K$12:K1200),\"\")","v":""},"","","","","","",""]
[1190,null,null,null,null,null,null,null,null,null,"",{"$f":"IF(F1201>0,AVERAGE($K$12:K1201),\"\")","v":""},"","","","","","",""]
[1191,null,null,null,null,null,null,null,null,null,"",{"$f":"IF(F1202>0,AVERAGE($K$12:K1202),\"\")","v":""},"","","","","","",""]
[1192,null,null,null,null,null,null,null,null,null,"",{"$f":"IF(F1203>0,AVERAGE($K$12:K1203),\"\")","v":""},"","","","","","",""]
[1193,null,null,null,null,null,null,null,null,null,"",{"$f":"IF(F1204>0,AVERAGE($K$12:K1204),\"\")","v":""},"","","","","","",""]
[1194,null,null,null,null,null,null,null,null,null,"",{"$f":"IF(F1205>0,AVERAGE($K$12:K1205),\"\")","v":""},"","","","","","",""]
[1195,null,null,null,null,null,null,null,null,null,"",{"$f":"IF(F1206>0,AVERAGE($K$12:K1206),\"\")","v":""},"","","","","","",""]
[1196,null,null,null,null,null,null,null,null,null,"",{"$f":"IF(F1207>0,AVERAGE($K$12:K1207),\"\")","v":""},"","","","","","",""]
[1197,null,null,null,null,null,null,null,null,null,"",{"$f":"IF(F1208>0,AVERAGE($K$12:K1208),\"\")","v":""},"","","","","","",""]
[1198,null,null,null,null,null,null,null,null,null,"",{"$f":"IF(F1209>0,AVERAGE($K$12:K1209),\"\")","v":""},"","","","","","",""]
[1199,null,null,null,null,null,null,null,null,null,"",{"$f":"IF(F1210>0,AVERAGE($K$12:K1210),\"\")","v":""},"","","","","","",""]
[1200,null,null,null,null,null,null,null,null,null,"",{"$f":"IF(F1211>0,AVERAGE($K$12:K1211),\"\")","v":""},"","","","","","",""]
[1201,null,null,null,null,null,null,null,null,null,"",{"$f":"IF(F1212>0,AVERAGE($K$12:K1212),\"\")","v":""},"","","","","","",""]
[1202,null,null,null,null,null,null,null,null,null,"",{"$f":"IF(F1213>0,AVERAGE($K$12:K1213),\"\")","v":""},"","","","","","",""]
[1203,null,null,null,null,null,null,null,null,null,"",{"$f":"IF(F1214>0,AVERAGE($K$12:K1214),\"\")","v":""},"","","","","","",""]
[1204,null,null,null,null,null,null,null,null,null,"",{"$f":"IF(F1215>0,AVERAGE($K$12:K1215),\"\")","v":""},"","","","","","",""]
[1205,null,null,null,null,null,null,null,null,null,"",{"$f":"IF(F1216>0,AVERAGE($K$12:K1216),\"\")","v":""},"","","","","","",""]
[1206,null,null,null,null,null,null,null,null,null,"",{"$f":"IF(F1217>0,AVERAGE($K$12:K1217),\"\")","v":""},"","","","","","",""]
[1207,null,null,null,null,null,null,null,null,null,"",{"$f":"IF(F1218>0,AVERAGE($K$12:K1218),\"\")","v":""},"","","","","","",""]
[1208,null,null,null,null,null,null,null,null,null,"",{"$f":"IF(F1219>0,AVERAGE($K$12:K1219),\"\")","v":""},"","","","","","",""]
[1209,null,null,null,null,null,null,null,null,null,"",{"$f":"IF(F1220>0,AVERAGE($K$12:K1220),\"\")","v":""},"","","","","","",""]
[1210,null,null,null,null,null,null,null,null,null,"",{"$f":"IF(F1221>0,AVERAGE($K$12:K1221),\"\")","v":""},"","","","","","",""]
[1211,null,null,null,null,null,null,null,null,null,"",{"$f":"IF(F1222>0,AVERAGE($K$12:K1222),\"\")","v":""},"","","","","","",""]
[1212,null,null,null,null,null,null,null,null,null,"",{"$f":"IF(F1223>0,AVERAGE($K$12:K1223),\"\")","v":""},"","","","","","",""]
[1213,null,null,null,null,null,null,null,null,null,"",{"$f":"IF(F1224>0,AVERAGE($K$12:K1224),\"\")","v":""},"","","","","","",""]
[1214,null,null,null,null,null,null,null,null,null,"",{"$f":"IF(F1225>0,AVERAGE($K$12:K1225),\"\")","v":""},"","","","","","",""]
[1215,null,null,null,null,null,null,null,null,null,"",{"$f":"IF(F1226>0,AVERAGE($K$12:K1226),\"\")","v":""},"","","","","","",""]
[1216,null,null,null,null,null,null,null,null,null,"",{"$f":"IF(F1227>0,AVERAGE($K$12:K1227),\"\")","v":""},"","","",{"$f":"IF(F1227>0,$E$5,\"\")","v":""},{"$f":"IF(F1227>0,$E$5*(-1),\"\")","v":""},"",""]
[1217,null,null,null,null,null,null,null,null,null,{"$f":"IF(F1228>0,AVERAGE(F1228:J1228),\"\")","v":""},{"$f":"IF(F1228>0,AVERAGE($K$12:K1228),\"\")","v":""},{"$f":"IF(F1228>0,(K1228-$E$4),\"\")","v":""},"",{"$f":"IF(F1228>0,IF(AND(R1228=FALSE,S1228=FALSE),\"<WHP+GA>\",IF(R1228=FALSE,\"<GA>\",IF(S1228=FALSE,\"<WHP>\",\"OK\"))),\"\")","v":""},"","",{"$f":"IFERROR(IF(ABS(M1228)<=$E$5,TRUE,FALSE),\"\")","v":""},{"$f":"IFERROR(IF(ABS(N1228)<=$E$6,TRUE,FALSE),\"\")","v":""}]
[1218,null,null,null,null,null,null,null,null,null,"",{"$f":"IF(F1229>0,AVERAGE($K$12:K1229),\"\")","v":""},"",{"$f":"IF(F1229>0,MAX(F1229:J1229)-MIN(F1229:J1229),\"\")","v":""},"","","","",""]
[1219,null,null,null,null,null,null,null,null,null,"",{"$f":"IF(F1230>0,AVERAGE($K$12:K1230),\"\")","v":""},"","","","","","",""]
[1220,null,null,null,null,null,null,null,null,null,"",{"$f":"IF(F1231>0,AVERAGE($K$12:K1231),\"\")","v":""},"","","","","","",""]
[1221,null,null,null,null,null,null,null,null,null,"",{"$f":"IF(F1232>0,AVERAGE($K$12:K1232),\"\")","v":""},"","","","","","",""]
[1222,null,null,null,null,null,null,null,null,null,"",{"$f":"IF(F1233>0,AVERAGE($K$12:K1233),\"\")","v":""},"","","","","","",""]
[1223,null,null,null,null,null,null,null,null,null,"",{"$f":"IF(F1234>0,AVERAGE($K$12:K1234),\"\")","v":""},"","","","","","",""]
[1224,null,null,null,null,null,null,null,null,null,"",{"$f":"IF(F1235>0,AVERAGE($K$12:K1235),\"\")","v":""},"","","","","","",""]
[1225,null,null,null,null,null,null,null,null,null,"",{"$f":"IF(F1236>0,AVERAGE($K$12:K1236),\"\")","v":""},"","","","","","",""]
[1226,null,null,null,null,null,null,null,null,null,"",{"$f":"IF(F1237>0,AVERAGE($K$12:K1237),\"\")","v":""},"","","","","","",""]
[1227,null,null,null,null,null,null,null,null,null,"",{"$f":"IF(F1238>0,AVERAGE($K$12:K1238),\"\")","v":""},"","","","","","",""]
[1228,null,null,null,null,null,null,null,null,null,"",{"$f":"IF(F1239>0,AVERAGE($K$12:K1239),\"\")","v":""},"","","","","","",""]
[1229,null,null,null,null,null,null,null,null,null,"",{"$f":"IF(F1240>0,AVERAGE($K$12:K1240),\"\")","v":""},"","","","","","",""]
[1230,null,null,null,null,null,null,null,null,null,"",{"$f":"IF(F1241>0,AVERAGE($K$12:K1241),\"\")","v":""},"","","","","","",""]
[1231,null,null,null,null,null,null,null,null,null,"",{"$f":"IF(F1242>0,AVERAGE($K$12:K1242),\"\")","v":""},"","","","","","",""]
[1232,null,null,null,null,null,null,null,null,null,"",{"$f":"IF(F1243>0,AVERAGE($K$12:K1243),\"\")","v":""},"","","","","","",""]
[1233,null,null,null,null,null,null,null,null,null,"",{"$f":"IF(F1244>0,AVERAGE($K$12:K1244),\"\")","v":""},"","","","","","",""]
[1234,null,null,null,null,null,null,null,null,null,"",{"$f":"IF(F1245>0,AVERAGE($K$12:K1245),\"\")","v":""},"","","","","","",""]
[1235,null,null,null,null,null,null,null,null,null,"",{"$f":"IF(F1246>0,AVERAGE($K$12:K1246),\"\")","v":""},"","","","","","",""]
[1236,null,null,null,null,null,null,null,null,null,"",{"$f":"IF(F1247>0,AVERAGE($K$12:K1247),\"\")","v":""},"","","","","","",""]
[1237,null,null,null,null,null,null,null,null,null,"",{"$f":"IF(F1248>0,AVERAGE($K$12:K1248),\"\")","v":""},"","","","","","",""]
[1238,null,null,null,null,null,null,null,null,null,"",{"$f":"IF(F1249>0,AVERAGE($K$12:K1249),\"\")","v":""},"","","","","","",""]
[1239,null,null,null,null,null,null,null,null,null,"",{"$f":"IF(F1250>0,AVERAGE($K$12:K1250),\"\")","v":""},"","","","","","",""]
[1240,null,null,null,null,null,null,null,null,null,"",{"$f":"IF(F1251>0,AVERAGE($K$12:K1251),\"\")","v":""},"","","","","","",""]
[1241,null,null,null,null,null,null,null,null,null,"",{"$f":"IF(F1252>0,AVERAGE($K$12:K1252),\"\")","v":""},"","","","","","",""]
[1242,null,null,null,null,null,null,null,null,null,"",{"$f":"IF(F1253>0,AVERAGE($K$12:K1253),\"\")","v":""},"","","","","","",""]
[1243,null,null,null,null,null,null,null,null,null,"",{"$f":"IF(F1254>0,AVERAGE($K$12:K1254),\"\")","v":""},"","","","","","",""]
[1244,null,null,null,null,null,null,null,null,null,"",{"$f":"IF(F1255>0,AVERAGE($K$12:K1255),\"\")","v":""},"","","","","","",""]
[1245,null,null,null,null,null,null,null,null,null,"",{"$f":"IF(F1256>0,AVERAGE($K$12:K1256),\"\")","v":""},"","","","","","",""]
[1246,null,null,null,null,null,null,null,null,null,"",{"$f":"IF(F1257>0,AVERAGE($K$12:K1257),\"\")","v":""},"","","","","","",""]
[1247,null,null,null,null,null,null,null,null,null,"",{"$f":"IF(F1258>0,AVERAGE($K$12:K1258),\"\")","v":""},"","","","","","",""]
[1248,null,null,null,null,null,null,null,null,null,"",{"$f":"IF(F1259>0,AVERAGE($K$12:K1259),\"\")","v":""},"","","","","","",""]
[1249,null,null,null,null,null,null,null,null,null,"",{"$f":"IF(F1260>0,AVERAGE($K$12:K1260),\"\")","v":""},"","","","","","",""]
[1250,null,null,null,null,null,null,null,null,null,"",{"$f":"IF(F1261>0,AVERAGE($K$12:K1261),\"\")","v":""},"","","","","","",""]
[1251,null,null,null,null,null,null,null,null,null,"",{"$f":"IF(F1262>0,AVERAGE($K$12:K1262),\"\")","v":""},"","","","","","",""]
[1252,null,null,null,null,null,null,null,null,null,"",{"$f":"IF(F1263>0,AVERAGE($K$12:K1263),\"\")","v":""},"","","","","","",""]
[1253,null,null,null,null,null,null,null,null,null,"",{"$f":"IF(F1264>0,AVERAGE($K$12:K1264),\"\")","v":""},"","","","","","",""]
[1254,null,null,null,null,null,null,null,null,null,"",{"$f":"IF(F1265>0,AVERAGE($K$12:K1265),\"\")","v":""},"","","","","","",""]
[1255,null,null,null,null,null,null,null,null,null,"",{"$f":"IF(F1266>0,AVERAGE($K$12:K1266),\"\")","v":""},"","","","","","",""]
[1256,null,null,null,null,null,null,null,null,null,"",{"$f":"IF(F1267>0,AVERAGE($K$12:K1267),\"\")","v":""},"","","","","","",""]
[1257,null,null,null,null,null,null,null,null,null,"",{"$f":"IF(F1268>0,AVERAGE($K$12:K1268),\"\")","v":""},"","","","","","",""]
[1258,null,null,null,null,null,null,null,null,null,"",{"$f":"IF(F1269>0,AVERAGE($K$12:K1269),\"\")","v":""},"","","","","","",""]
[1259,null,null,null,null,null,null,null,null,null,"",{"$f":"IF(F1270>0,AVERAGE($K$12:K1270),\"\")","v":""},"","","","","","",""]
[1260,null,null,null,null,null,null,null,null,null,"",{"$f":"IF(F1271>0,AVERAGE($K$12:K1271),\"\")","v":""},"","","","","","",""]
[1261,null,null,null,null,null,null,null,null,null,"",{"$f":"IF(F1272>0,AVERAGE($K$12:K1272),\"\")","v":""},"","","","","","",""]
[1262,null,null,null,null,null,null,null,null,null,"",{"$f":"IF(F1273>0,AVERAGE($K$12:K1273),\"\")","v":""},"","","","","","",""]
[1263,null,null,null,null,null,null,null,null,null,"",{"$f":"IF(F1274>0,AVERAGE($K$12:K1274),\"\")","v":""},"","","","","","",""]
[1264,null,null,null,null,null,null,null,null,null,"",{"$f":"IF(F1275>0,AVERAGE($K$12:K1275),\"\")","v":""},"","","","","","",""]
[1265,null,null,null,null,null,null,null,null,null,"",{"$f":"IF(F1276>0,AVERAGE($K$12:K1276),\"\")","v":""},"","","","","","",""]
[1266,null,null,null,null,null,null,null,null,null,"",{"$f":"IF(F1277>0,AVERAGE($K$12:K1277),\"\")","v":""},"","","","","","",""]
[1267,null,null,null,null,null,null,null,null,null,"",{"$f":"IF(F1278>0,AVERAGE($K$12:K1278),\"\")","v":""},"","","","","","",""]
[1268,null,null,null,null,null,null,null,null,null,"",{"$f":"IF(F1279>0,AVERAGE($K$12:K1279),\"\")","v":""},"","","","","","",""]
[1269,null,null,null,null,null,null,null,null,null,"",{"$f":"IF(F1280>0,AVERAGE($K$12:K1280),\"\")","v":""},"","","","","","",""]
[1270,null,null,null,null,null,null,null,null,null,"",{"$f":"IF(F1281>0,AVERAGE($K$12:K1281),\"\")","v":""},"","","","","","",""]
[1271,null,null,null,null,null,null,null,null,null,"",{"$f":"IF(F1282>0,AVERAGE($K$12:K1282),\"\")","v":""},"","","","","","",""]
[1272,null,null,null,null,null,null,null,null,null,"",{"$f":"IF(F1283>0,AVERAGE($K$12:K1283),\"\")","v":""},"","","","","","",""]
[1273,null,null,null,null,null,null,null,null,null,"",{"$f":"IF(F1284>0,AVERAGE($K$12:K1284),\"\")","v":""},"","","","","","",""]
[1274,null,null,null,null,null,null,null,null,null,"",{"$f":"IF(F1285>0,AVERAGE($K$12:K1285),\"\")","v":""},"","","","","","",""]
[1275,null,null,null,null,null,null,null,null,null,"",{"$f":"IF(F1286>0,AVERAGE($K$12:K1286),\"\")","v":""},"","","","","","",""]
[1276,null,null,null,null,null,null,null,null,null,"",{"$f":"IF(F1287>0,AVERAGE($K$12:K1287),\"\")","v":""},"","","","","","",""]
[1277,null,null,null,null,null,null,null,null,null,"",{"$f":"IF(F1288>0,AVERAGE($K$12:K1288),\"\")","v":""},"","","","","","",""]
[1278,null,null,null,null,null,null,null,null,null,"",{"$f":"IF(F1289>0,AVERAGE($K$12:K1289),\"\")","v":""},"","","","","","",""]
[1279,null,null,null,null,null,null,null,null,null,"",{"$f":"IF(F1290>0,AVERAGE($K$12:K1290),\"\")","v":""},"","","","","","",""]
[1280,null,null,null,null,null,null,null,null,null,"",{"$f":"IF(F1291>0,AVERAGE($K$12:K1291),\"\")","v":""},"","","",{"$f":"IF(F1291>0,$E$5,\"\")","v":""},{"$f":"IF(F1291>0,$E$5*(-1),\"\")","v":""},"",""]
[1281,null,null,null,null,null,null,null,null,null,{"$f":"IF(F1292>0,AVERAGE(F1292:J1292),\"\")","v":""},{"$f":"IF(F1292>0,AVERAGE($K$12:K1292),\"\")","v":""},{"$f":"IF(F1292>0,(K1292-$E$4),\"\")","v":""},"",{"$f":"IF(F1292>0,IF(AND(R1292=FALSE,S1292=FALSE),\"<WHP+GA>\",IF(R1292=FALSE,\"<GA>\",IF(S1292=FALSE,\"<WHP>\",\"OK\"))),\"\")","v":""},"","",{"$f":"IFERROR(IF(ABS(M1292)<=$E$5,TRUE,FALSE),\"\")","v":""},{"$f":"IFERROR(IF(ABS(N1292)<=$E$6,TRUE,FALSE),\"\")","v":""}]
[1282,null,null,null,null,null,null,null,null,null,"",{"$f":"IF(F1293>0,AVERAGE($K$12:K1293),\"\")","v":""},"",{"$f":"IF(F1293>0,MAX(F1293:J1293)-MIN(F1293:J1293),\"\")","v":""},"","","","",""]
[1283,null,null,null,null,null,null,null,null,null,"",{"$f":"IF(F1294>0,AVERAGE($K$12:K1294),\"\")","v":""},"","","","","","",""]
[1284,null,null,null,null,null,null,null,null,null,"",{"$f":"IF(F1295>0,AVERAGE($K$12:K1295),\"\")","v":""},"","","","","","",""]
[1285,null,null,null,null,null,null,null,null,null,"",{"$f":"IF(F1296>0,AVERAGE($K$12:K1296),\"\")","v":""},"","","","","","",""]
[1286,null,null,null,null,null,null,null,null,null,"",{"$f":"IF(F1297>0,AVERAGE($K$12:K1297),\"\")","v":""},"","","","","","",""]
[1287,null,null,null,null,null,null,null,null,null,"",{"$f":"IF(F1298>0,AVERAGE($K$12:K1298),\"\")","v":""},"","","","","","",""]
[1288,null,null,null,null,null,null,null,null,null,"",{"$f":"IF(F1299>0,AVERAGE($K$12:K1299),\"\")","v":""},"","","","","","",""]
[1289,null,null,null,null,null,null,null,null,null,"",{"$f":"IF(F1300>0,AVERAGE($K$12:K1300),\"\")","v":""},"","","","","","",""]
[1290,null,null,null,null,null,null,null,null,null,"",{"$f":"IF(F1301>0,AVERAGE($K$12:K1301),\"\")","v":""},"","","","","","",""]
[1291,null,null,null,null,null,null,null,null,null,"",{"$f":"IF(F1302>0,AVERAGE($K$12:K1302),\"\")","v":""},"","","","","","",""]
[1292,null,null,null,null,null,null,null,null,null,"",{"$f":"IF(F1303>0,AVERAGE($K$12:K1303),\"\")","v":""},"","","","","","",""]
[1293,null,null,null,null,null,null,null,null,null,"",{"$f":"IF(F1304>0,AVERAGE($K$12:K1304),\"\")","v":""},"","","","","","",""]
[1294,null,null,null,null,null,null,null,null,null,"",{"$f":"IF(F1305>0,AVERAGE($K$12:K1305),\"\")","v":""},"","","","","","",""]
[1295,null,null,null,null,null,null,null,null,null,"",{"$f":"IF(F1306>0,AVERAGE($K$12:K1306),\"\")","v":""},"","","","","","",""]
[1296,null,null,null,null,null,null,null,null,null,"",{"$f":"IF(F1307>0,AVERAGE($K$12:K1307),\"\")","v":""},"","","","","","",""]
[1297,null,null,null,null,null,null,null,null,null,"",{"$f":"IF(F1308>0,AVERAGE($K$12:K1308),\"\")","v":""},"","","","","","",""]
[1298,null,null,null,null,null,null,null,null,null,"",{"$f":"IF(F1309>0,AVERAGE($K$12:K1309),\"\")","v":""},"","","","","","",""]
[1299,null,null,null,null,null,null,null,null,null,"",{"$f":"IF(F1310>0,AVERAGE($K$12:K1310),\"\")","v":""},"","","","","","",""]
[1300,null,null,null,null,null,null,null,null,null,"",{"$f":"IF(F1311>0,AVERAGE($K$12:K1311),\"\")","v":""},"","","","","","",""]
[1301,null,null,null,null,null,null,null,null,null,"",{"$f":"IF(F1312>0,AVERAGE($K$12:K1312),\"\")","v":""},"","","","","","",""]
[1302,null,null,null,null,null,null,null,null,null,"",{"$f":"IF(F1313>0,AVERAGE($K$12:K1313),\"\")","v":""},"","","","","","",""]
[1303,null,null,null,null,null,null,null,null,null,"",{"$f":"IF(F1314>0,AVERAGE($K$12:K1314),\"\")","v":""},"","","","","","",""]
[1304,null,null,null,null,null,null,null,null,null,"",{"$f":"IF(F1315>0,AVERAGE($K$12:K1315),\"\")","v":""},"","","","","","",""]
[1305,null,null,null,null,null,null,null,null,null,"",{"$f":"IF(F1316>0,AVERAGE($K$12:K1316),\"\")","v":""},"","","","","","",""]
[1306,null,null,null,null,null,null,null,null,null,"",{"$f":"IF(F1317>0,AVERAGE($K$12:K1317),\"\")","v":""},"","","","","","",""]
[1307,null,null,null,null,null,null,null,null,null,"",{"$f":"IF(F1318>0,AVERAGE($K$12:K1318),\"\")","v":""},"","","","","","",""]
[1308,null,null,null,null,null,null,null,null,null,"",{"$f":"IF(F1319>0,AVERAGE($K$12:K1319),\"\")","v":""},"","","","","","",""]
[1309,null,null,null,null,null,null,null,null,null,"",{"$f":"IF(F1320>0,AVERAGE($K$12:K1320),\"\")","v":""},"","","","","","",""]
[1310,null,null,null,null,null,null,null,null,null,"",{"$f":"IF(F1321>0,AVERAGE($K$12:K1321),\"\")","v":""},"","","","","","",""]
[1311,null,null,null,null,null,null,null,null,null,"",{"$f":"IF(F1322>0,AVERAGE($K$12:K1322),\"\")","v":""},"","","","","","",""]
[1312,null,null,null,null,null,null,null,null,null,"",{"$f":"IF(F1323>0,AVERAGE($K$12:K1323),\"\")","v":""},"","","","","","",""]
[1313,null,null,null,null,null,null,null,null,null,"",{"$f":"IF(F1324>0,AVERAGE($K$12:K1324),\"\")","v":""},"","","","","","",""]
[1314,null,null,null,null,null,null,null,null,null,"",{"$f":"IF(F1325>0,AVERAGE($K$12:K1325),\"\")","v":""},"","","","","","",""]
[1315,null,null,null,null,null,null,null,null,null,"",{"$f":"IF(F1326>0,AVERAGE($K$12:K1326),\"\")","v":""},"","","","","","",""]
[1316,null,null,null,null,null,null,null,null,null,"",{"$f":"IF(F1327>0,AVERAGE($K$12:K1327),\"\")","v":""},"","","","","","",""]
[1317,null,null,null,null,null,null,null,null,null,"",{"$f":"IF(F1328>0,AVERAGE($K$12:K1328),\"\")","v":""},"","","","","","",""]
[1318,null,null,null,null,null,null,null,null,null,"",{"$f":"IF(F1329>0,AVERAGE($K$12:K1329),\"\")","v":""},"","","","","","",""]
[1319,null,null,null,null,null,null,null,null,null,"",{"$f":"IF(F1330>0,AVERAGE($K$12:K1330),\"\")","v":""},"","","","","","",""]
[1320,null,null,null,null,null,null,null,null,null,"",{"$f":"IF(F1331>0,AVERAGE($K$12:K1331),\"\")","v":""},"","","","","","",""]
[1321,null,null,null,null,null,null,null,null,null,"",{"$f":"IF(F1332>0,AVERAGE($K$12:K1332),\"\")","v":""},"","","","","","",""]
[1322,null,null,null,null,null,null,null,null,null,"",{"$f":"IF(F1333>0,AVERAGE($K$12:K1333),\"\")","v":""},"","","","","","",""]
[1323,null,null,null,null,null,null,null,null,null,"",{"$f":"IF(F1334>0,AVERAGE($K$12:K1334),\"\")","v":""},"","","","","","",""]
[1324,null,null,null,null,null,null,null,null,null,"",{"$f":"IF(F1335>0,AVERAGE($K$12:K1335),\"\")","v":""},"","","","","","",""]
[1325,null,null,null,null,null,null,null,null,null,"",{"$f":"IF(F1336>0,AVERAGE($K$12:K1336),\"\")","v":""},"","","","","","",""]
[1326,null,null,null,null,null,null,null,null,null,"",{"$f":"IF(F1337>0,AVERAGE($K$12:K1337),\"\")","v":""},"","","","","","",""]
[1327,null,null,null,null,null,null,null,null,null,"",{"$f":"IF(F1338>0,AVERAGE($K$12:K1338),\"\")","v":""},"","","","","","",""]
[1328,null,null,null,null,null,null,null,null,null,"",{"$f":"IF(F1339>0,AVERAGE($K$12:K1339),\"\")","v":""},"","","","","","",""]
[1329,null,null,null,null,null,null,null,null,null,"",{"$f":"IF(F1340>0,AVERAGE($K$12:K1340),\"\")","v":""},"","","","","","",""]
[1330,null,null,null,null,null,null,null,null,null,"",{"$f":"IF(F1341>0,AVERAGE($K$12:K1341),\"\")","v":""},"","","","","","",""]
[1331,null,null,null,null,null,null,null,null,null,"",{"$f":"IF(F1342>0,AVERAGE($K$12:K1342),\"\")","v":""},"","","","","","",""]
[1332,null,null,null,null,null,null,null,null,null,"",{"$f":"IF(F1343>0,AVERAGE($K$12:K1343),\"\")","v":""},"","","","","","",""]
[1333,null,null,null,null,null,null,null,null,null,"",{"$f":"IF(F1344>0,AVERAGE($K$12:K1344),\"\")","v":""},"","","","","","",""]
[1334,null,null,null,null,null,null,null,null,null,"",{"$f":"IF(F1345>0,AVERAGE($K$12:K1345),\"\")","v":""},"","","","","","",""]
[1335,null,null,null,null,null,null,null,null,null,"",{"$f":"IF(F1346>0,AVERAGE($K$12:K1346),\"\")","v":""},"","","","","","",""]
[1336,null,null,null,null,null,null,null,null,null,"",{"$f":"IF(F1347>0,AVERAGE($K$12:K1347),\"\")","v":""},"","","","","","",""]
[1337,null,null,null,null,null,null,null,null,null,"",{"$f":"IF(F1348>0,AVERAGE($K$12:K1348),\"\")","v":""},"","","","","","",""]
[1338,null,null,null,null,null,null,null,null,null,"",{"$f":"IF(F1349>0,AVERAGE($K$12:K1349),\"\")","v":""},"","","","","","",""]
[1339,null,null,null,null,null,null,null,null,null,"",{"$f":"IF(F1350>0,AVERAGE($K$12:K1350),\"\")","v":""},"","","","","","",""]
[1340,null,null,null,null,null,null,null,null,null,"",{"$f":"IF(F1351>0,AVERAGE($K$12:K1351),\"\")","v":""},"","","","","","",""]
[1341,null,null,null,null,null,null,null,null,null,"",{"$f":"IF(F1352>0,AVERAGE($K$12:K1352),\"\")","v":""},"","","","","","",""]
[1342,null,null,null,null,null,null,null,null,null,"",{"$f":"IF(F1353>0,AVERAGE($K$12:K1353),\"\")","v":""},"","","","","","",""]
[1343,null,null,null,null,null,null,null,null,null,"",{"$f":"IF(F1354>0,AVERAGE($K$12:K1354),\"\")","v":""},"","","","","","",""]
[1344,null,null,null,null,null,null,null,null,null,"",{"$f":"IF(F1355>0,AVERAGE($K$12:K1355),\"\")","v":""},"","","",{"$f":"IF(F1355>0,$E$5,\"\")","v":""},{"$f":"IF(F1355>0,$E$5*(-1),\"\")","v":""},"",""]
[1345,null,null,null,null,null,null,null,null,null,{"$f":"IF(F1356>0,AVERAGE(F1356:J1356),\"\")","v":""},{"$f":"IF(F1356>0,AVERAGE($K$12:K1356),\"\")","v":""},{"$f":"IF(F1356>0,(K1356-$E$4),\"\")","v":""},"",{"$f":"IF(F1356>0,IF(AND(R1356=FALSE,S1356=FALSE),\"<WHP+GA>\",IF(R1356=FALSE,\"<GA>\",IF(S1356=FALSE,\"<WHP>\",\"OK\"))),\"\")","v":""},"","",{"$f":"IFERROR(IF(ABS(M1356)<=$E$5,TRUE,FALSE),\"\")","v":""},{"$f":"IFERROR(IF(ABS(N1356)<=$E$6,TRUE,FALSE),\"\")","v":""}]
[1346,null,null,null,null,null,null,null,null,null,"",{"$f":"IF(F1357>0,AVERAGE($K$12:K1357),\"\")","v":""},"",{"$f":"IF(F1357>0,MAX(F1357:J1357)-MIN(F1357:J1357),\"\")","v":""},"","","","",""]
[1347,null,null,null,null,null,null,null,null,null,"",{"$f":"IF(F1358>0,AVERAGE($K$12:K1358),\"\")","v":""},"","","","","","",""]
[1348,null,null,null,null,null,null,null,null,null,"",{"$f":"IF(F1359>0,AVERAGE($K$12:K1359),\"\")","v":""},"","","","","","",""]
[1349,null,null,null,null,null,null,null,null,null,"",{"$f":"IF(F1360>0,AVERAGE($K$12:K1360),\"\")","v":""},"","","","","","",""]
[1350,null,null,null,null,null,null,null,null,null,"",{"$f":"IF(F1361>0,AVERAGE($K$12:K1361),\"\")","v":""},"","","","","","",""]
[1351,null,null,null,null,null,null,null,null,null,"",{"$f":"IF(F1362>0,AVERAGE($K$12:K1362),\"\")","v":""},"","","","","","",""]
[1352,null,null,null,null,null,null,null,null,null,"",{"$f":"IF(F1363>0,AVERAGE($K$12:K1363),\"\")","v":""},"","","","","","",""]
[1353,null,null,null,null,null,null,null,null,null,"",{"$f":"IF(F1364>0,AVERAGE($K$12:K1364),\"\")","v":""},"","","","","","",""]
[1354,null,null,null,null,null,null,null,null,null,"",{"$f":"IF(F1365>0,AVERAGE($K$12:K1365),\"\")","v":""},"","","","","","",""]
[1355,null,null,null,null,null,null,null,null,null,"",{"$f":"IF(F1366>0,AVERAGE($K$12:K1366),\"\")","v":""},"","","","","","",""]
[1356,null,null,null,null,null,null,null,null,null,"",{"$f":"IF(F1367>0,AVERAGE($K$12:K1367),\"\")","v":""},"","","","","","",""]
[1357,null,null,null,null,null,null,null,null,null,"",{"$f":"IF(F1368>0,AVERAGE($K$12:K1368),\"\")","v":""},"","","","","","",""]
[1358,null,null,null,null,null,null,null,null,null,"",{"$f":"IF(F1369>0,AVERAGE($K$12:K1369),\"\")","v":""},"","","","","","",""]
[1359,null,null,null,null,null,null,null,null,null,"",{"$f":"IF(F1370>0,AVERAGE($K$12:K1370),\"\")","v":""},"","","","","","",""]
[1360,null,null,null,null,null,null,null,null,null,"",{"$f":"IF(F1371>0,AVERAGE($K$12:K1371),\"\")","v":""},"","","","","","",""]
[1361,null,null,null,null,null,null,null,null,null,"",{"$f":"IF(F1372>0,AVERAGE($K$12:K1372),\"\")","v":""},"","","","","","",""]
[1362,null,null,null,null,null,null,null,null,null,"",{"$f":"IF(F1373>0,AVERAGE($K$12:K1373),\"\")","v":""},"","","","","","",""]
[1363,null,null,null,null,null,null,null,null,null,"",{"$f":"IF(F1374>0,AVERAGE($K$12:K1374),\"\")","v":""},"","","","","","",""]
[1364,null,null,null,null,null,null,null,null,null,"",{"$f":"IF(F1375>0,AVERAGE($K$12:K1375),\"\")","v":""},"","","","","","",""]
[1365,null,null,null,null,null,null,null,null,null,"",{"$f":"IF(F1376>0,AVERAGE($K$12:K1376),\"\")","v":""},"","","","","","",""]
[1366,null,null,null,null,null,null,null,null,null,"",{"$f":"IF(F1377>0,AVERAGE($K$12:K1377),\"\")","v":""},"","","","","","",""]
[1367,null,null,null,null,null,null,null,null,null,"",{"$f":"IF(F1378>0,AVERAGE($K$12:K1378),\"\")","v":""},"","","","","","",""]
[1368,null,null,null,null,null,null,null,null,null,"",{"$f":"IF(F1379>0,AVERAGE($K$12:K1379),\"\")","v":""},"","","","","","",""]
[1369,null,null,null,null,null,null,null,null,null,"",{"$f":"IF(F1380>0,AVERAGE($K$12:K1380),\"\")","v":""},"","","","","","",""]
[1370,null,null,null,null,null,null,null,null,null,"",{"$f":"IF(F1381>0,AVERAGE($K$12:K1381),\"\")","v":""},"","","","","","",""]
[1371,null,null,null,null,null,null,null,null,null,"",{"$f":"IF(F1382>0,AVERAGE($K$12:K1382),\"\")","v":""},"","","","","","",""]
[1372,null,null,null,null,null,null,null,null,null,"",{"$f":"IF(F1383>0,AVERAGE($K$12:K1383),\"\")","v":""},"","","","","","",""]
[1373,null,null,null,null,null,null,null,null,null,"",{"$f":"IF(F1384>0,AVERAGE($K$12:K1384),\"\")","v":""},"","","","","","",""]
[1374,null,null,null,null,null,null,null,null,null,"",{"$f":"IF(F1385>0,AVERAGE($K$12:K1385),\"\")","v":""},"","","","","","",""]
[1375,null,null,null,null,null,null,null,null,null,"",{"$f":"IF(F1386>0,AVERAGE($K$12:K1386),\"\")","v":""},"","","","","","",""]
[1376,null,null,null,null,null,null,null,null,null,"",{"$f":"IF(F1387>0,AVERAGE($K$12:K1387),\"\")","v":""},"","","","","","",""]
[1377,null,null,null,null,null,null,null,null,null,"",{"$f":"IF(F1388>0,AVERAGE($K$12:K1388),\"\")","v":""},"","","","","","",""]
[1378,null,null,null,null,null,null,null,null,null,"",{"$f":"IF(F1389>0,AVERAGE($K$12:K1389),\"\")","v":""},"","","","","","",""]
[1379,null,null,null,null,null,null,null,null,null,"",{"$f":"IF(F1390>0,AVERAGE($K$12:K1390),\"\")","v":""},"","","","","","",""]
[1380,null,null,null,null,null,null,null,null,null,"",{"$f":"IF(F1391>0,AVERAGE($K$12:K1391),\"\")","v":""},"","","","","","",""]
[1381,null,null,null,null,null,null,null,null,null,"",{"$f":"IF(F1392>0,AVERAGE($K$12:K1392),\"\")","v":""},"","","","","","",""]
[1382,null,null,null,null,null,null,null,null,null,"",{"$f":"IF(F1393>0,AVERAGE($K$12:K1393),\"\")","v":""},"","","","","","",""]
[1383,null,null,null,null,null,null,null,null,null,"",{"$f":"IF(F1394>0,AVERAGE($K$12:K1394),\"\")","v":""},"","","","","","",""]
[1384,null,null,null,null,null,null,null,null,null,"",{"$f":"IF(F1395>0,AVERAGE($K$12:K1395),\"\")","v":""},"","","","","","",""]
[1385,null,null,null,null,null,null,null,null,null,"",{"$f":"IF(F1396>0,AVERAGE($K$12:K1396),\"\")","v":""},"","","","","","",""]
[1386,null,null,null,null,null,null,null,null,null,"",{"$f":"IF(F1397>0,AVERAGE($K$12:K1397),\"\")","v":""},"","","","","","",""]
[1387,null,null,null,null,null,null,null,null,null,"",{"$f":"IF(F1398>0,AVERAGE($K$12:K1398),\"\")","v":""},"","","","","","",""]
[1388,null,null,null,null,null,null,null,null,null,"",{"$f":"IF(F1399>0,AVERAGE($K$12:K1399),\"\")","v":""},"","","","","","",""]
[1389,null,null,null,null,null,null,null,null,null,"",{"$f":"IF(F1400>0,AVERAGE($K$12:K1400),\"\")","v":""},"","","","","","",""]
[1390,null,null,null,null,null,null,null,null,null,"",{"$f":"IF(F1401>0,AVERAGE($K$12:K1401),\"\")","v":""},"","","","","","",""]
[1391,null,null,null,null,null,null,null,null,null,"",{"$f":"IF(F1402>0,AVERAGE($K$12:K1402),\"\")","v":""},"","","","","","",""]
[1392,null,null,null,null,null,null,null,null,null,"",{"$f":"IF(F1403>0,AVERAGE($K$12:K1403),\"\")","v":""},"","","","","","",""]
[1393,null,null,null,null,null,null,null,null,null,"",{"$f":"IF(F1404>0,AVERAGE($K$12:K1404),\"\")","v":""},"","","","","","",""]
[1394,null,null,null,null,null,null,null,null,null,"",{"$f":"IF(F1405>0,AVERAGE($K$12:K1405),\"\")","v":""},"","","","","","",""]
[1395,null,null,null,null,null,null,null,null,null,"",{"$f":"IF(F1406>0,AVERAGE($K$12:K1406),\"\")","v":""},"","","","","","",""]
[1396,null,null,null,null,null,null,null,null,null,"",{"$f":"IF(F1407>0,AVERAGE($K$12:K1407),\"\")","v":""},"","","","","","",""]
[1397,null,null,null,null,null,null,null,null,null,"",{"$f":"IF(F1408>0,AVERAGE($K$12:K1408),\"\")","v":""},"","","","","","",""]
[1398,null,null,null,null,null,null,null,null,null,"",{"$f":"IF(F1409>0,AVERAGE($K$12:K1409),\"\")","v":""},"","","","","","",""]
[1399,null,null,null,null,null,null,null,null,null,"",{"$f":"IF(F1410>0,AVERAGE($K$12:K1410),\"\")","v":""},"","","","","","",""]
[1400,null,null,null,null,null,null,null,null,null,"",{"$f":"IF(F1411>0,AVERAGE($K$12:K1411),\"\")","v":""},"","","","","","",""]
[1401,null,null,null,null,null,null,null,null,null,"",{"$f":"IF(F1412>0,AVERAGE($K$12:K1412),\"\")","v":""},"","","","","","",""]
[1402,null,null,null,null,null,null,null,null,null,"",{"$f":"IF(F1413>0,AVERAGE($K$12:K1413),\"\")","v":""},"","","","","","",""]
[1403,null,null,null,null,null,null,null,null,null,"",{"$f":"IF(F1414>0,AVERAGE($K$12:K1414),\"\")","v":""},"","","","","","",""]
[1404,null,null,null,null,null,null,null,null,null,"",{"$f":"IF(F1415>0,AVERAGE($K$12:K1415),\"\")","v":""},"","","","","","",""]
[1405,null,null,null,null,null,null,null,null,null,"",{"$f":"IF(F1416>0,AVERAGE($K$12:K1416),\"\")","v":""},"","","","","","",""]
[1406,null,null,null,null,null,null,null,null,null,"",{"$f":"IF(F1417>0,AVERAGE($K$12:K1417),\"\")","v":""},"","","","","","",""]
[1407,null,null,null,null,null,null,null,null,null,"",{"$f":"IF(F1418>0,AVERAGE($K$12:K1418),\"\")","v":""},"","","","","","",""]
[1408,null,null,null,null,null,null,null,null,null,"",{"$f":"IF(F1419>0,AVERAGE($K$12:K1419),\"\")","v":""},"","","",{"$f":"IF(F1419>0,$E$5,\"\")","v":""},{"$f":"IF(F1419>0,$E$5*(-1),\"\")","v":""},"",""]
[1409,null,null,null,null,null,null,null,null,null,{"$f":"IF(F1420>0,AVERAGE(F1420:J1420),\"\")","v":""},{"$f":"IF(F1420>0,AVERAGE($K$12:K1420),\"\")","v":""},{"$f":"IF(F1420>0,(K1420-$E$4),\"\")","v":""},"",{"$f":"IF(F1420>0,IF(AND(R1420=FALSE,S1420=FALSE),\"<WHP+GA>\",IF(R1420=FALSE,\"<GA>\",IF(S1420=FALSE,\"<WHP>\",\"OK\"))),\"\")","v":""},"","",{"$f":"IFERROR(IF(ABS(M1420)<=$E$5,TRUE,FALSE),\"\")","v":""},{"$f":"IFERROR(IF(ABS(N1420)<=$E$6,TRUE,FALSE),\"\")","v":""}]
[1410,null,null,null,null,null,null,null,null,null,"",{"$f":"IF(F1421>0,AVERAGE($K$12:K1421),\"\")","v":""},"",{"$f":"IF(F1421>0,MAX(F1421:J1421)-MIN(F1421:J1421),\"\")","v":""},"","","","",""]
[1411,null,null,null,null,null,null,null,null,null,"",{"$f":"IF(F1422>0,AVERAGE($K$12:K1422),\"\")","v":""},"","","","","","",""]
[1412,null,null,null,null,null,null,null,null,null,"",{"$f":"IF(F1423>0,AVERAGE($K$12:K1423),\"\")","v":""},"","","","","","",""]
[1413,null,null,null,null,null,null,null,null,null,"",{"$f":"IF(F1424>0,AVERAGE($K$12:K1424),\"\")","v":""},"","","","","","",""]
[1414,null,null,null,null,null,null,null,null,null,"",{"$f":"IF(F1425>0,AVERAGE($K$12:K1425),\"\")","v":""},"","","","","","",""]
[1415,null,null,null,null,null,null,null,null,null,"",{"$f":"IF(F1426>0,AVERAGE($K$12:K1426),\"\")","v":""},"","","","","","",""]
[1416,null,null,null,null,null,null,null,null,null,"",{"$f":"IF(F1427>0,AVERAGE($K$12:K1427),\"\")","v":""},"","","","","","",""]
[1417,null,null,null,null,null,null,null,null,null,"",{"$f":"IF(F1428>0,AVERAGE($K$12:K1428),\"\")","v":""},"","","","","","",""]
[1418,null,null,null,null,null,null,null,null,null,"",{"$f":"IF(F1429>0,AVERAGE($K$12:K1429),\"\")","v":""},"","","","","","",""]
[1419,null,null,null,null,null,null,null,null,null,"",{"$f":"IF(F1430>0,AVERAGE($K$12:K1430),\"\")","v":""},"","","","","","",""]
[1420,null,null,null,null,null,null,null,null,null,"",{"$f":"IF(F1431>0,AVERAGE($K$12:K1431),\"\")","v":""},"","","","","","",""]
[1421,null,null,null,null,null,null,null,null,null,"",{"$f":"IF(F1432>0,AVERAGE($K$12:K1432),\"\")","v":""},"","","","","","",""]
[1422,null,null,null,null,null,null,null,null,null,"",{"$f":"IF(F1433>0,AVERAGE($K$12:K1433),\"\")","v":""},"","","","","","",""]
[1423,null,null,null,null,null,null,null,null,null,"",{"$f":"IF(F1434>0,AVERAGE($K$12:K1434),\"\")","v":""},"","","","","","",""]
[1424,null,null,null,null,null,null,null,null,null,"",{"$f":"IF(F1435>0,AVERAGE($K$12:K1435),\"\")","v":""},"","","","","","",""]
[1425,null,null,null,null,null,null,null,null,null,"",{"$f":"IF(F1436>0,AVERAGE($K$12:K1436),\"\")","v":""},"","","","","","",""]
[1426,null,null,null,null,null,null,null,null,null,"",{"$f":"IF(F1437>0,AVERAGE($K$12:K1437),\"\")","v":""},"","","","","","",""]
[1427,null,null,null,null,null,null,null,null,null,"",{"$f":"IF(F1438>0,AVERAGE($K$12:K1438),\"\")","v":""},"","","","","","",""]
[1428,null,null,null,null,null,null,null,null,null,"",{"$f":"IF(F1439>0,AVERAGE($K$12:K1439),\"\")","v":""},"","","","","","",""]
[1429,null,null,null,null,null,null,null,null,null,"",{"$f":"IF(F1440>0,AVERAGE($K$12:K1440),\"\")","v":""},"","","","","","",""]
[1430,null,null,null,null,null,null,null,null,null,"",{"$f":"IF(F1441>0,AVERAGE($K$12:K1441),\"\")","v":""},"","","","","","",""]
[1431,null,null,null,null,null,null,null,null,null,"",{"$f":"IF(F1442>0,AVERAGE($K$12:K1442),\"\")","v":""},"","","","","","",""]
[1432,null,null,null,null,null,null,null,null,null,"",{"$f":"IF(F1443>0,AVERAGE($K$12:K1443),\"\")","v":""},"","","","","","",""]
[1433,null,null,null,null,null,null,null,null,null,"",{"$f":"IF(F1444>0,AVERAGE($K$12:K1444),\"\")","v":""},"","","","","","",""]
[1434,null,null,null,null,null,null,null,null,null,"",{"$f":"IF(F1445>0,AVERAGE($K$12:K1445),\"\")","v":""},"","","","","","",""]
[1435,null,null,null,null,null,null,null,null,null,"",{"$f":"IF(F1446>0,AVERAGE($K$12:K1446),\"\")","v":""},"","","","","","",""]
[1436,null,null,null,null,null,null,null,null,null,"",{"$f":"IF(F1447>0,AVERAGE($K$12:K1447),\"\")","v":""},"","","","","","",""]
[1437,null,null,null,null,null,null,null,null,null,"",{"$f":"IF(F1448>0,AVERAGE($K$12:K1448),\"\")","v":""},"","","","","","",""]
[1438,null,null,null,null,null,null,null,null,null,"",{"$f":"IF(F1449>0,AVERAGE($K$12:K1449),\"\")","v":""},"","","","","","",""]
[1439,null,null,null,null,null,null,null,null,null,"",{"$f":"IF(F1450>0,AVERAGE($K$12:K1450),\"\")","v":""},"","","","","","",""]
[1440,null,null,null,null,null,null,null,null,null,"",{"$f":"IF(F1451>0,AVERAGE($K$12:K1451),\"\")","v":""},"","","","","","",""]
[1441,null,null,null,null,null,null,null,null,null,"",{"$f":"IF(F1452>0,AVERAGE($K$12:K1452),\"\")","v":""},"","","","","","",""]
[1442,null,null,null,null,null,null,null,null,null,"",{"$f":"IF(F1453>0,AVERAGE($K$12:K1453),\"\")","v":""},"","","","","","",""]
[1443,null,null,null,null,null,null,null,null,null,"",{"$f":"IF(F1454>0,AVERAGE($K$12:K1454),\"\")","v":""},"","","","","","",""]
[1444,null,null,null,null,null,null,null,null,null,"",{"$f":"IF(F1455>0,AVERAGE($K$12:K1455),\"\")","v":""},"","","","","","",""]
[1445,null,null,null,null,null,null,null,null,null,"",{"$f":"IF(F1456>0,AVERAGE($K$12:K1456),\"\")","v":""},"","","","","","",""]
[1446,null,null,null,null,null,null,null,null,null,"",{"$f":"IF(F1457>0,AVERAGE($K$12:K1457),\"\")","v":""},"","","","","","",""]
[1447,null,null,null,null,null,null,null,null,null,"",{"$f":"IF(F1458>0,AVERAGE($K$12:K1458),\"\")","v":""},"","","","","","",""]
[1448,null,null,null,null,null,null,null,null,null,"",{"$f":"IF(F1459>0,AVERAGE($K$12:K1459),\"\")","v":""},"","","","","","",""]
[1449,null,null,null,null,null,null,null,null,null,"",{"$f":"IF(F1460>0,AVERAGE($K$12:K1460),\"\")","v":""},"","","","","","",""]
[1450,null,null,null,null,null,null,null,null,null,"",{"$f":"IF(F1461>0,AVERAGE($K$12:K1461),\"\")","v":""},"","","","","","",""]
[1451,null,null,null,null,null,null,null,null,null,"",{"$f":"IF(F1462>0,AVERAGE($K$12:K1462),\"\")","v":""},"","","","","","",""]
[1452,null,null,null,null,null,null,null,null,null,"",{"$f":"IF(F1463>0,AVERAGE($K$12:K1463),\"\")","v":""},"","","","","","",""]
[1453,null,null,null,null,null,null,null,null,null,"",{"$f":"IF(F1464>0,AVERAGE($K$12:K1464),\"\")","v":""},"","","","","","",""]
[1454,null,null,null,null,null,null,null,null,null,"",{"$f":"IF(F1465>0,AVERAGE($K$12:K1465),\"\")","v":""},"","","","","","",""]
[1455,null,null,null,null,null,null,null,null,null,"",{"$f":"IF(F1466>0,AVERAGE($K$12:K1466),\"\")","v":""},"","","","","","",""]
[1456,null,null,null,null,null,null,null,null,null,"",{"$f":"IF(F1467>0,AVERAGE($K$12:K1467),\"\")","v":""},"","","","","","",""]
[1457,null,null,null,null,null,null,null,null,null,"",{"$f":"IF(F1468>0,AVERAGE($K$12:K1468),\"\")","v":""},"","","","","","",""]
[1458,null,null,null,null,null,null,null,null,null,"",{"$f":"IF(F1469>0,AVERAGE($K$12:K1469),\"\")","v":""},"","","","","","",""]
[1459,null,null,null,null,null,null,null,null,null,"",{"$f":"IF(F1470>0,AVERAGE($K$12:K1470),\"\")","v":""},"","","","","","",""]
[1460,null,null,null,null,null,null,null,null,null,"",{"$f":"IF(F1471>0,AVERAGE($K$12:K1471),\"\")","v":""},"","","","","","",""]
[1461,null,null,null,null,null,null,null,null,null,"",{"$f":"IF(F1472>0,AVERAGE($K$12:K1472),\"\")","v":""},"","","","","","",""]
[1462,null,null,null,null,null,null,null,null,null,"",{"$f":"IF(F1473>0,AVERAGE($K$12:K1473),\"\")","v":""},"","","","","","",""]
[1463,null,null,null,null,null,null,null,null,null,"",{"$f":"IF(F1474>0,AVERAGE($K$12:K1474),\"\")","v":""},"","","","","","",""]
[1464,null,null,null,null,null,null,null,null,null,"",{"$f":"IF(F1475>0,AVERAGE($K$12:K1475),\"\")","v":""},"","","","","","",""]
[1465,null,null,null,null,null,null,null,null,null,"",{"$f":"IF(F1476>0,AVERAGE($K$12:K1476),\"\")","v":""},"","","","","","",""]
[1466,null,null,null,null,null,null,null,null,null,"",{"$f":"IF(F1477>0,AVERAGE($K$12:K1477),\"\")","v":""},"","","","","","",""]
[1467,null,null,null,null,null,null,null,null,null,"",{"$f":"IF(F1478>0,AVERAGE($K$12:K1478),\"\")","v":""},"","","","","","",""]
[1468,null,null,null,null,null,null,null,null,null,"",{"$f":"IF(F1479>0,AVERAGE($K$12:K1479),\"\")","v":""},"","","","","","",""]
[1469,null,null,null,null,null,null,null,null,null,"",{"$f":"IF(F1480>0,AVERAGE($K$12:K1480),\"\")","v":""},"","","","","","",""]
[1470,null,null,null,null,null,null,null,null,null,"",{"$f":"IF(F1481>0,AVERAGE($K$12:K1481),\"\")","v":""},"","","","","","",""]
[1471,null,null,null,null,null,null,null,null,null,"",{"$f":"IF(F1482>0,AVERAGE($K$12:K1482),\"\")","v":""},"","","","","","",""]
[1472,null,null,null,null,null,null,null,null,null,"",{"$f":"IF(F1483>0,AVERAGE($K$12:K1483),\"\")","v":""},"","","",{"$f":"IF(F1483>0,$E$5,\"\")","v":""},{"$f":"IF(F1483>0,$E$5*(-1),\"\")","v":""},"",""]
[1473,null,null,null,null,null,null,null,null,null,{"$f":"IF(F1484>0,AVERAGE(F1484:J1484),\"\")","v":""},{"$f":"IF(F1484>0,AVERAGE($K$12:K1484),\"\")","v":""},{"$f":"IF(F1484>0,(K1484-$E$4),\"\")","v":""},"",{"$f":"IF(F1484>0,IF(AND(R1484=FALSE,S1484=FALSE),\"<WHP+GA>\",IF(R1484=FALSE,\"<GA>\",IF(S1484=FALSE,\"<WHP>\",\"OK\"))),\"\")","v":""},"","",{"$f":"IFERROR(IF(ABS(M1484)<=$E$5,TRUE,FALSE),\"\")","v":""},{"$f":"IFERROR(IF(ABS(N1484)<=$E$6,TRUE,FALSE),\"\")","v":""}]
[1474,null,null,null,null,null,null,null,null,null,"",{"$f":"IF(F1485>0,AVERAGE($K$12:K1485),\"\")","v":""},"",{"$f":"IF(F1485>0,MAX(F1485:J1485)-MIN(F1485:J1485),\"\")","v":""},"","","","",""]
[1475,null,null,null,null,null,null,null,null,null,"",{"$f":"IF(F1486>0,AVERAGE($K$12:K1486),\"\")","v":""},"","","","","","",""]
[1476,null,null,null,null,null,null,null,null,null,"",{"$f":"IF(F1487>0,AVERAGE($K$12:K1487),\"\")","v":""},"","","","","","",""]
[1477,null,null,null,null,null,null,null,null,null,"",{"$f":"IF(F1488>0,AVERAGE($K$12:K1488),\"\")","v":""},"","","","","","",""]
[1478,null,null,null,null,null,null,null,null,null,"",{"$f":"IF(F1489>0,AVERAGE($K$12:K1489),\"\")","v":""},"","","","","","",""]
[1479,null,null,null,null,null,null,null,null,null,"",{"$f":"IF(F1490>0,AVERAGE($K$12:K1490),\"\")","v":""},"","","","","","",""]
[1480,null,null,null,null,null,null,null,null,null,"",{"$f":"IF(F1491>0,AVERAGE($K$12:K1491),\"\")","v":""},"","","","","","",""]
[1481,null,null,null,null,null,null,null,null,null,"",{"$f":"IF(F1492>0,AVERAGE($K$12:K1492),\"\")","v":""},"","","","","","",""]
[1482,null,null,null,null,null,null,null,null,null,"",{"$f":"IF(F1493>0,AVERAGE($K$12:K1493),\"\")","v":""},"","","","","","",""]
[1483,null,null,null,null,null,null,null,null,null,"",{"$f":"IF(F1494>0,AVERAGE($K$12:K1494),\"\")","v":""},"","","","","","",""]
[1484,null,null,null,null,null,null,null,null,null,"",{"$f":"IF(F1495>0,AVERAGE($K$12:K1495),\"\")","v":""},"","","","","","",""]
[1485,null,null,null,null,null,null,null,null,null,"",{"$f":"IF(F1496>0,AVERAGE($K$12:K1496),\"\")","v":""},"","","","","","",""]
[1486,null,null,null,null,null,null,null,null,null,"",{"$f":"IF(F1497>0,AVERAGE($K$12:K1497),\"\")","v":""},"","","","","","",""]
[1487,null,null,null,null,null,null,null,null,null,"",{"$f":"IF(F1498>0,AVERAGE($K$12:K1498),\"\")","v":""},"","","","","","",""]
[1488,null,null,null,null,null,null,null,null,null,"",{"$f":"IF(F1499>0,AVERAGE($K$12:K1499),\"\")","v":""},"","","","","","",""]
[1489,null,null,null,null,null,null,null,null,null,"",{"$f":"IF(F1500>0,AVERAGE($K$12:K1500),\"\")","v":""},"","","","","","",""]
[1490,null,null,null,null,null,null,null,null,null,"",{"$f":"IF(F1501>0,AVERAGE($K$12:K1501),\"\")","v":""},"","","","","","",""]
[1491,null,null,null,null,null,null,null,null,null,"",{"$f":"IF(F1502>0,AVERAGE($K$12:K1502),\"\")","v":""},"","","","","","",""]
[1492,null,null,null,null,null,null,null,null,null,"",{"$f":"IF(F1503>0,AVERAGE($K$12:K1503),\"\")","v":""},"","","","","","",""]
[1493,null,null,null,null,null,null,null,null,null,"",{"$f":"IF(F1504>0,AVERAGE($K$12:K1504),\"\")","v":""},"","","","","","",""]
[1494,null,null,null,null,null,null,null,null,null,"",{"$f":"IF(F1505>0,AVERAGE($K$12:K1505),\"\")","v":""},"","","","","","",""]
[1495,null,null,null,null,null,null,null,null,null,"",{"$f":"IF(F1506>0,AVERAGE($K$12:K1506),\"\")","v":""},"","","","","","",""]
[1496,null,null,null,null,null,null,null,null,null,"",{"$f":"IF(F1507>0,AVERAGE($K$12:K1507),\"\")","v":""},"","","","","","",""]
[1497,null,null,null,null,null,null,null,null,null,"",{"$f":"IF(F1508>0,AVERAGE($K$12:K1508),\"\")","v":""},"","","","","","",""]
[1498,null,null,null,null,null,null,null,null,null,"",{"$f":"IF(F1509>0,AVERAGE($K$12:K1509),\"\")","v":""},"","","","","","",""]
[1499,null,null,null,null,null,null,null,null,null,"",{"$f":"IF(F1510>0,AVERAGE($K$12:K1510),\"\")","v":""},"","","","","","",""]
[1500,null,null,null,null,null,null,null,null,null,"",{"$f":"IF(F1511>0,AVERAGE($K$12:K1511),\"\")","v":""},"","","","","","",""]

{"sheet":"Data","index":3,"n_rows":1511,"n_cols":27,"rows_kept":1511,"cut":false,"hidden":false,"merged":[[0,0,0,13],[1,0,1,15],[2,0,2,3],[8,1,8,3],[3,0,3,3],[4,0,4,3],[5,0,5,3],[6,0,6,3],[7,0,7,3],[7,5,7,6]]}
["Zusammenfassung / Summary",null,null,null,null,null,null,null,null,null,null,null,null,null,null,1]
[]
["Härtevergleichsplatte / Hardness reference block: ",null,null,null,{"$f":"IF(Setup!H17<>\"\",Setup!H17,\"\")","v":""}]
["Kalibrierte Härte / Calibrated hardness value:",null,null,null,{"$f":"IF(Setup!H21<>\"\",Setup!H21,\"\")","v":null}]
["ballowed:",null,null,null,{"$f":"Setup!H23","v":null}]
["rallowed:",null,null,null,{"$f":"IF(Setup!H24>Setup!H25,Setup!H24,Setup!H25)","v":null}]
[":",null,null,null,{"$f":"IF($F$11>0,AVERAGE($F$11:$J$11),\"\")","v":null},null,null,null,null,null,null,null,null,null,null,null,null,null,null,null,null,null,null,"Auf die Spalten 1,2 und 3 greift Diagramm zu.\nDie Daten in den Spalten werden in Abhängigkeit von dem Auswahl\ndes Diagramms geändert.\n\nEigentlich wird Zelle O1 geprüft, in die Optionsfeld eine Zahl schreibt in Abhängigkeit von Auswahl."]
[null,null,null,null,null,null,null,null,null,null,null,null,null,null,null,null,"Zulässige Werte",null,null,"Fehlerbetrachtung",null,null,null,"Daten für dynamische Diagramm"]
[null,"Anzahl der Messungen auf Diagramm:",null,null,50,null,"Mögliche Anzahl:",{"$f":"IF(ISNUMBER($E$9), IF(AND(COUNTA($F$11:$F$1511)>$E$9,$E$9>1),$E$9,COUNTA($F$11:$F$1511)-0),COUNTA($F$11:$F$1511)-0)","v":null},null,null,null,null,null,null,null,null,null,null,null,"WAHR, wenn Diagonale kleiner als 0,001mm sind,\nsonst\nWAHR, wenn gerechnete Wiederholpräzision die maximale Wiederhohlpräzision nicht überschreitet.\nFALSCH, wenn überschreitet",null,"mindestenst 6 Messwerten, die immer in eine positive oder negative Richtung abweichen.\nEs muss nicht unbedingt 6 Werten sein. Nach 2 oder 3 ist einfach zu früh zu entscheiden.\nZu lange abwarten ist sichere, aber braucht mehr Zeit. (6 ist ein guter Schnitt.)\n\nBeispiel:\nMesswert1 = 10;\nMesswert2 = 11;\nMesswert3 = 12;\nMesswert4 = 14;\n…\nMesswert6 = 20;\n\noder\nMesswert1 = 10;\nMesswert2 = 9;\nMesswert3 = 8;\n…\nMesswert6 = 2;\n\nWenn Trend auftritt, dann ist WAHR, sonst FALSCH","Wenn die letzte 7 Messwerten oberhalb oder unterhalb vom Mittelwert der Härte liegen.\n\nBeispiel:\nMittelwert = 10;\nMesswert1 = 11;\nMesswert2 = 10,1;\nMesswert3 = 11,3;\n…\nMesswert7 = 10,5;\n\noder\nMesswert1 = 9,8;\nMesswert2 = 9,9;\nMesswert3 = 9,5;\n...\nMesswert7 = 9,7;\n\nWAHR, wenn ein der beiden Fälle trifft zu, sonst FALSCH","Zeit","Spalte 1","Spalte 2","Spalte 3"]
["Nummer / No","Prüfer /\nOperator","Datum /\nDate","Bemerkungen,\nMaterialien /\nRemarks,\nmaterials",{"$f":"IF(EXACT('Periodic check'!E10,\"Spaltenname kann über den Button <Entsperren> editiert werden /\nName of column can be edited with the <Unlock> button\"),\"Spaltenname kann über den Button <Entsperren> in Periodic check editiert werden /\nName of column can be edited with the <Unlock> Button in Periodic check\",'Periodic check'!E10)","v":""},"Härtever-\ngleichsplatte\nMessung /\nHardness reference block\nTest\n1","Härtever-\ngleichsplatte\nMessung /\nHardness reference block\nTest\n2","Härtever-\ngleichsplatte\nMessung /\nHardness reference block\nTest\n3","Härtever-\ngleichsplatte\nMessung /\nHardness reference block\nTest\n4","Härtever-\ngleichsplatte\nMessung /\nHardness reference block\nTest\n5","Mittlere \nHärte / \nMean \nhardness","Mittelere Härte über alle Messungen / Mean hardness of all tests","Messabweichung /\nDeviation of hardness\n\nb","Wiederhol-\npräzision /\nRepeatability \n\nr","Standard-\nabweichung /\nStandard deviation","Grenzab-weichung / Wiederhol-präzision / \nLimit deviation / Repeatability \nGA / WHP"," +b allowed"," -b allowed","r allowed","WHP OK","GA OK","Trend","Run","Datum /\nDate\n(kurz, nur 8 Zeichen)",{"$f":"IF($P$1=1,\"\",R10)","v":""},{"$f":"IF($P$1=1,S10,Q10)","v":""},{"$f":"IF($P$1=1,N10,M10)","v":""}]
[0,{"$f":"'Periodic check'!B11","v":""},{"$f":"RIGHT('Periodic check'!C11,10)","v":""},null,null,{"$f":"Setup!H28","v":null},{"$f":"Setup!I28","v":null},{"$f":"Setup!J28","v":null},{"$f":"Setup!K28","v":null},{"$f":"Setup!L28","v":null},{"$f":"IF(AND(F11>0,G11>0,H11>0,I11>0,J11>0),AVERAGE(F11:J11),\"\")","v":null},null,null,null,null,null,{"$f":"IF(AND(F11>0,G11>0,H11>0,I11>0,J11>0),$E$5,\"\")","v":null},{"$f":"IF(AND(F11>0,G11>0,H11>0,I11>0,J11>0),$E$5*(-1),\"\")","v":null},{"$f":"IF(AND(F11>0,G11>0,H11>0,I11>0,J11>0),$E$6,\"\")","v":null},{"$f":"IFERROR(IF(ABS(N11)<=$E$6,TRUE,FALSE),\"\")","v":null},{"$f":"IFERROR(IF(ABS(M11)<=$E$5,TRUE,FALSE),\"\")","v":null},{"$f":"FALSE()","v":null},{"$f":"FALSE()","v":null},{"$f":"C11","v":""},{"$f":"IF($P$1=1,#N/A,R11)","v":{"$error":"#UNKNOWN!"}},null,{"$f":"IF($P$1=1,N11,M11)","v":null}]
[1,null,null,null,null,null,null,null,null,null,{"$f":"IF(AND(F12>0,G12>0,H12>0,I12>0,J12>0),AVERAGE(F12:J12),\"\")","v":""},{"$f":"IF(AND(F12>0,G12>0,H12>0,I12>0,J12>0),AVERAGE($K$12:K12),\"\")","v":""},{"$f":"IF(AND(F12>0,G12>0,H12>0,I12>0,J12>0),(K12-$E$4),\"\")","v":""},{"$f":"IF(AND(F12>0,G12>0,H12>0,I12>0,J12>0),MAX(F12:J12)-MIN(F12:J12),\"\")","v":""},{"$f":"IF(AND(F12>0,G12>0,H12>0,I12>0,J12>0),ROUND(STDEV(F12:J12),2),\"\")","v":""},{"$f":"IF(F12>0,IF(T12=FALSE,IF(U12=FALSE,\"<GA+WHP>\",\"<WHP>\"),IF(U12=FALSE,\"<GA>\",\"\")) & IF(V12=TRUE,\"<Trend>\",\"\") & IF(W12=TRUE,\"<Run>\",\"\")& IF(AND(ABS(T12+U12=2),V12+W12=0),\"OK\",\"\"),\"\")","v":""},"","","",{"$f":"IFERROR(IF(OR((ABS(N12)<=$E$6),(N12<1)),TRUE,FALSE),\"\")","v":""},"",{"$f":"FALSE()","v":null},{"$f":"FALSE()","v":null},{"$f":"IFERROR(MID(C12,SEARCH(\":\",C12)+1,10),\"\")","v":""},{"$error":"#UNKNOWN!"},"",{"$f":"IF($P$1=1,N12,M12)","v":""}]
[2,null,null,null,null,null,null,null,null,null,"",{"$f":"IF(AND(F13>0,G13>0,H13>0,I13>0,J13>0),AVERAGE($K$12:K13),\"\")","v":""},"",{"$f":"IF(AND(F13>0,G13>0,H13>0,I13>0,J13>0),MAX(F13:J13)-MIN(F13:J13),\"\")","v":""},"",{"$f":"IF(F13>0,IF(T13=FALSE,IF(U13=FALSE,\"<GA+WHP>\",\"<WHP>\"),IF(U13=FALSE,\"<GA>\",\"\")) & IF(V13=TRUE,\"<Trend>\",\"\") & IF(W13=TRUE,\"<Run>\",\"\")& IF(AND(ABS(T13+U13=2),V13+W13=0),\"OK\",\"\"),\"\")","v":""},"","","","","",{"$f":"FALSE()","v":null},{"$f":"FALSE()","v":null},"",{"$error":"#UNKNOWN!"},"",""]
[3,null,null,null,null,null,null,null,null,null,"",{"$f":"IF(AND(F14>0,G14>0,H14>0,I14>0,J14>0),AVERAGE($K$12:K14),\"\")","v":""},"","","","","","","","","",{"$f":"FALSE()","v":null},{"$f":"FALSE()","v":null},"",{"$error":"#UNKNOWN!"},"",""]
[4,null,null,null,null,null,null,null,null,null,"",{"$f":"IF(AND(F15>0,G15>0,H15>0,I15>0,J15>0),AVERAGE($K$12:K15),\"\")","v":""},"","","","","","","","","",{"$f":"FALSE()","v":null},{"$f":"FALSE()","v":null},"",{"$error":"#UNKNOWN!"},"",""]
[5,null,null,null,null,null,null,null,null,null,"",{"$f":"IF(AND(F16>0,G16>0,H16>0,I16>0,J16>0),AVERAGE($K$12:K16),\"\")","v":""},"","","","","","","","","",{"$f":"FALSE()","v":null},{"$f":"FALSE()","v":null},"",{"$error":"#UNKNOWN!"},"",""]
[6,null,null,null,null,null,null,null,null,null,"",{"$f":"IF(AND(F17>0,G17>0,H17>0,I17>0,J17>0),AVERAGE($K$12:K17),\"\")","v":""},"","","","","","","","","",{"$f":"OR(AND(K17>K16,K16>K15,K15>K14,K14>K13,K13>K12,K12>K11),AND(K17<K16,K16<K15,K15<K14,K14<K13,K13<K12,K12<K11))","v":null},{"$f":"OR(AND(K17>L17,K16>L17,K15>L17,K14>L17,K13>L17,K12>L17,K11>L17),AND(K17<L17,K16<L17,K15<L17,K14<L17,K13<L17,K12<L17,K11<L17))","v":null},"",{"$error":"#UNKNOWN!"},"",""]
[7,null,null,null,null,null,null,null,null,null,"",{"$f":"IF(AND(F18>0,G18>0,H18>0,I18>0,J18>0),AVERAGE($K$12:K18),\"\")","v":""},"","","","","","","","","",null,null,"",{"$error":"#UNKNOWN!"},"",""]
[8,null,null,null,null,null,null,null,null,null,"",{"$f":"IF(AND(F19>0,G19>0,H19>0,I19>0,J19>0),AVERAGE($K$12:K19),\"\")","v":""},"","","","","","","","","",null,null,"",{"$error":"#UNKNOWN!"},"",""]
[9,null,null,null,null,null,null,null,null,null,"",{"$f":"IF(AND(F20>0,G20>0,H20>0,I20>0,J20>0),AVERAGE($K$12:K20),\"\")","v":""},"","","","","","","","","",null,null,"",{"$error":"#UNKNOWN!"},"",""]
[10,null,null,null,null,null,null,null,null,null,"",{"$f":"IF(AND(F21>0,G21>0,H21>0,I21>0,J21>0),AVERAGE($K$12:K21),\"\")","v":""},"","","","","","","","","",null,null,"",{"$error":"#UNKNOWN!"},"",""]
[11,null,null,null,null,null,null,null,null,null,"",{"$f":"IF(AND(F22>0,G22>0,H22>0,I22>0,J22>0),AVERAGE($K$12:K22),\"\")","v":""},"","","","","","","","","",null,null,"",{"$error":"#UNKNOWN!"},"",""]
[12,null,null,null,null,null,null,null,null,null,"",{"$f":"IF(AND(F23>0,G23>0,H23>0,I23>0,J23>0),AVERAGE($K$12:K23),\"\")","v":""},"","","","","","","","","",null,null,"",{"$error":"#UNKNOWN!"},"",""]
[13,null,null,null,null,null,null,null,null,null,"",{"$f":"IF(AND(F24>0,G24>0,H24>0,I24>0,J24>0),AVERAGE($K$12:K24),\"\")","v":""},"","","","","","","","","",null,null,"",{"$error":"#UNKNOWN!"},"",""]
[14,null,null,null,null,null,null,null,null,null,"",{"$f":"IF(AND(F25>0,G25>0,H25>0,I25>0,J25>0),AVERAGE($K$12:K25),\"\")","v":""},"","","","","","","","","",null,null,"",{"$error":"#UNKNOWN!"},"",""]
[15,null,null,null,null,null,null,null,null,null,"",{"$f":"IF(AND(F26>0,G26>0,H26>0,I26>0,J26>0),AVERAGE($K$12:K26),\"\")","v":""},"","","","","","","","","",null,null,"",{"$error":"#UNKNOWN!"},"",""]
[16,null,null,null,null,null,null,null,null,null,"",{"$f":"IF(AND(F27>0,G27>0,H27>0,I27>0,J27>0),AVERAGE($K$12:K27),\"\")","v":""},"","","","","","","","","",null,null,"",{"$error":"#UNKNOWN!"},"",""]
[17,null,null,null,null,null,null,null,null,null,"",{"$f":"IF(AND(F28>0,G28>0,H28>0,I28>0,J28>0),AVERAGE($K$12:K28),\"\")","v":""},"","","","","","","","","",null,null,"",{"$error":"#UNKNOWN!"},"",""]
[18,null,null,null,null,null,null,null,null,null,"",{"$f":"IF(AND(F29>0,G29>0,H29>0,I29>0,J29>0),AVERAGE($K$12:K29),\"\")","v":""},"","","","","","","","","",null,null,"",{"$error":"#UNKNOWN!"},"",""]
[19,null,null,null,null,null,null,null,null,null,"",{"$f":"IF(AND(F30>0,G30>0,H30>0,I30>0,J30>0),AVERAGE($K$12:K30),\"\")","v":""},"","","","","","","","","",null,null,"",{"$error":"#UNKNOWN!"},"",""]
[20,null,null,null,null,null,null,null,null,null,"",{"$f":"IF(AND(F31>0,G31>0,H31>0,I31>0,J31>0),AVERAGE($K$12:K31),\"\")","v":""},"","","","","","","","","",null,null,"",{"$error":"#UNKNOWN!"},"",""]
[21,null,null,null,null,null,null,null,null,null,"",{"$f":"IF(AND(F32>0,G32>0,H32>0,I32>0,J32>0),AVERAGE($K$12:K32),\"\")","v":""},"","","","","","","","","",null,null,"",{"$error":"#UNKNOWN!"},"",""]
[22,null,null,null,null,null,null,null,null,null,"",{"$f":"IF(AND(F33>0,G33>0,H33>0,I33>0,J33>0),AVERAGE($K$12:K33),\"\")","v":""},"","","","","","","","","",null,null,"",{"$error":"#UNKNOWN!"},"",""]
[23,null,null,null,null,null,null,null,null,null,"",{"$f":"IF(AND(F34>0,G34>0,H34>0,I34>0,J34>0),AVERAGE($K$12:K34),\"\")","v":""},"","","","","","","","","",null,null,"",{"$error":"#UNKNOWN!"},"",""]
[24,null,null,null,null,null,null,null,null,null,"",{"$f":"IF(AND(F35>0,G35>0,H35>0,I35>0,J35>0),AVERAGE($K$12:K35),\"\")","v":""},"","","","","","","","","",null,null,"",{"$error":"#UNKNOWN!"},"",""]
[25,null,null,null,null,null,null,null,null,null,"",{"$f":"IF(AND(F36>0,G36>0,H36>0,I36>0,J36>0),AVERAGE($K$12:K36),\"\")","v":""},"","","","","","","","","",null,null,"",{"$error":"#UNKNOWN!"},"",""]
[26,null,null,null,null,null,null,null,null,null,"",{"$f":"IF(AND(F37>0,G37>0,H37>0,I37>0,J37>0),AVERAGE($K$12:K37),\"\")","v":""},"","","","","","","","","",null,null,"",{"$error":"#UNKNOWN!"},"",""]
[27,null,null,null,null,null,null,null,null,null,"",{"$f":"IF(AND(F38>0,G38>0,H38>0,I38>0,J38>0),AVERAGE($K$12:K38),\"\")","v":""},"","","","","","","","","",null,null,"",{"$error":"#UNKNOWN!"},"",""]
[28,null,null,null,null,null,null,null,null,null,"",{"$f":"IF(AND(F39>0,G39>0,H39>0,I39>0,J39>0),AVERAGE($K$12:K39),\"\")","v":""},"","","","","","","","","",null,null,"",{"$error":"#UNKNOWN!"},"",""]
[29,null,null,null,null,null,null,null,null,null,"",{"$f":"IF(AND(F40>0,G40>0,H40>0,I40>0,J40>0),AVERAGE($K$12:K40),\"\")","v":""},"","","","","","","","","",null,null,"",{"$error":"#UNKNOWN!"},"",""]
[30,null,null,null,null,null,null,null,null,null,"",{"$f":"IF(AND(F41>0,G41>0,H41>0,I41>0,J41>0),AVERAGE($K$12:K41),\"\")","v":""},"","","","","","","","","",null,null,"",{"$error":"#UNKNOWN!"},"",""]
[31,null,null,null,null,null,null,null,null,null,"",{"$f":"IF(AND(F42>0,G42>0,H42>0,I42>0,J42>0),AVERAGE($K$12:K42),\"\")","v":""},"","","","","","","","","",null,null,"",{"$error":"#UNKNOWN!"},"",""]
[32,null,null,null,null,null,null,null,null,null,"",{"$f":"IF(AND(F43>0,G43>0,H43>0,I43>0,J43>0),AVERAGE($K$12:K43),\"\")","v":""},"","","","","","","","","",null,null,"",{"$error":"#UNKNOWN!"},"",""]
[33,null,null,null,null,null,null,null,null,null,"",{"$f":"IF(AND(F44>0,G44>0,H44>0,I44>0,J44>0),AVERAGE($K$12:K44),\"\")","v":""},"","","","","","","","","",null,null,"",{"$error":"#UNKNOWN!"},"",""]
[34,null,null,null,null,null,null,null,null,null,"",{"$f":"IF(AND(F45>0,G45>0,H45>0,I45>0,J45>0),AVERAGE($K$12:K45),\"\")","v":""},"","","","","","","","","",null,null,"",{"$error":"#UNKNOWN!"},"",""]
[35,null,null,null,null,null,null,null,null,null,"",{"$f":"IF(AND(F46>0,G46>0,H46>0,I46>0,J46>0),AVERAGE($K$12:K46),\"\")","v":""},"","","","","","","","","",null,null,"",{"$error":"#UNKNOWN!"},"",""]
[36,null,null,null,null,null,null,null,null,null,"",{"$f":"IF(AND(F47>0,G47>0,H47>0,I47>0,J47>0),AVERAGE($K$12:K47),\"\")","v":""},"","","","","","","","","",null,null,"",{"$error":"#UNKNOWN!"},"",""]
[37,null,null,null,null,null,null,null,null,null,"",{"$f":"IF(AND(F48>0,G48>0,H48>0,I48>0,J48>0),AVERAGE($K$12:K48),\"\")","v":""},"","","","","","","","","",null,null,"",{"$error":"#UNKNOWN!"},"",""]
[38,null,null,null,null,null,null,null,null,null,"",{"$f":"IF(AND(F49>0,G49>0,H49>0,I49>0,J49>0),AVERAGE($K$12:K49),\"\")","v":""},"","","","","","","","","",null,null,"",{"$error":"#UNKNOWN!"},"",""]
[39,null,null,null,null,null,null,null,null,null,"",{"$f":"IF(AND(F50>0,G50>0,H50>0,I50>0,J50>0),AVERAGE($K$12:K50),\"\")","v":""},"","","","","","","","","",null,null,"",{"$error":"#UNKNOWN!"},"",""]
[40,null,null,null,null,null,null,null,null,null,"",{"$f":"IF(AND(F51>0,G51>0,H51>0,I51>0,J51>0),AVERAGE($K$12:K51),\"\")","v":""},"","","","","","","","","",null,null,"",{"$error":"#UNKNOWN!"},"",""]
[41,null,null,null,null,null,null,null,null,null,"",{"$f":"IF(AND(F52>0,G52>0,H52>0,I52>0,J52>0),AVERAGE($K$12:K52),\"\")","v":""},"","","","","","","","","",null,null,"",{"$error":"#UNKNOWN!"},"",""]
[42,null,null,null,null,null,null,null,null,null,"",{"$f":"IF(AND(F53>0,G53>0,H53>0,I53>0,J53>0),AVERAGE($K$12:K53),\"\")","v":""},"","","","","","","","","",null,null,"",{"$error":"#UNKNOWN!"},"",""]
[43,null,null,null,null,null,null,null,null,null,"",{"$f":"IF(AND(F54>0,G54>0,H54>0,I54>0,J54>0),AVERAGE($K$12:K54),\"\")","v":""},"","","","","","","","","",null,null,"",{"$error":"#UNKNOWN!"},"",""]
[44,null,null,null,null,null,null,null,null,null,"",{"$f":"IF(AND(F55>0,G55>0,H55>0,I55>0,J55>0),AVERAGE($K$12:K55),\"\")","v":""},"","","","","","","","","",null,null,"",{"$error":"#UNKNOWN!"},"",""]
[45,null,null,null,null,null,null,null,null,null,"",{"$f":"IF(AND(F56>0,G56>0,H56>0,I56>0,J56>0),AVERAGE($K$12:K56),\"\")","v":""},"","","","","","","","","",null,null,"",{"$error":"#UNKNOWN!"},"",""]
[46,null,null,null,null,null,null,null,null,null,"",{"$f":"IF(AND(F57>0,G57>0,H57>0,I57>0,J57>0),AVERAGE($K$12:K57),\"\")","v":""},"","","","","","","","","",null,null,"",{"$error":"#UNKNOWN!"},"",""]
[47,null,null,null,null,null,null,null,null,null,"",{"$f":"IF(AND(F58>0,G58>0,H58>0,I58>0,J58>0),AVERAGE($K$12:K58),\"\")","v":""},"","","","","","","","","",null,null,"",{"$error":"#UNKNOWN!"},"",""]
[48,null,null,null,null,null,null,null,null,null,"",{"$f":"IF(AND(F59>0,G59>0,H59>0,I59>0,J59>0),AVERAGE($K$12:K59),\"\")","v":""},"","","","","","","","","",null,null,"",{"$error":"#UNKNOWN!"},"",""]
[49,null,null,null,null,null,null,null,null,null,"",{"$f":"IF(AND(F60>0,G60>0,H60>0,I60>0,J60>0),AVERAGE($K$12:K60),\"\")","v":""},"","","","","","","","","",null,null,"",{"$error":"#UNKNOWN!"},"",""]
[50,null,null,null,null,null,null,null,null,null,"",{"$f":"IF(AND(F61>0,G61>0,H61>0,I61>0,J61>0),AVERAGE($K$12:K61),\"\")","v":""},"","","","","","","","","",null,null,"",{"$error":"#UNKNOWN!"},"",""]
[51,null,null,null,null,null,null,null,null,null,"",{"$f":"IF(AND(F62>0,G62>0,H62>0,I62>0,J62>0),AVERAGE($K$12:K62),\"\")","v":""},"","","","","","","","","",null,null,"",{"$error":"#UNKNOWN!"},"",""]
[52,null,null,null,null,null,null,null,null,null,"",{"$f":"IF(AND(F63>0,G63>0,H63>0,I63>0,J63>0),AVERAGE($K$12:K63),\"\")","v":""},"","","","","","","","","",null,null,"",{"$error":"#UNKNOWN!"},"",""]
[53,null,null,null,null,null,null,null,null,null,"",{"$f":"IF(AND(F64>0,G64>0,H64>0,I64>0,J64>0),AVERAGE($K$12:K64),\"\")","v":""},"","","","","","","","","",null,null,"",{"$error":"#UNKNOWN!"},"",""]
[54,null,null,null,null,null,null,null,null,null,"",{"$f":"IF(AND(F65>0,G65>0,H65>0,I65>0,J65>0),AVERAGE($K$12:K65),\"\")","v":""},"","","","","","","","","",null,null,"",{"$error":"#UNKNOWN!"},"",""]
[55,null,null,null,null,null,null,null,null,null,"",{"$f":"IF(AND(F66>0,G66>0,H66>0,I66>0,J66>0),AVERAGE($K$12:K66),\"\")","v":""},"","","","","","","","","",null,null,"",{"$error":"#UNKNOWN!"},"",""]
[56,null,null,null,null,null,null,null,null,null,"",{"$f":"IF(AND(F67>0,G67>0,H67>0,I67>0,J67>0),AVERAGE($K$12:K67),\"\")","v":""},"","","","","","","","","",null,null,"",{"$error":"#UNKNOWN!"},"",""]
[57,null,null,null,null,null,null,null,null,null,"",{"$f":"IF(AND(F68>0,G68>0,H68>0,I68>0,J68>0),AVERAGE($K$12:K68),\"\")","v":""},"","","","","","","","","",null,null,"",{"$error":"#UNKNOWN!"},"",""]
[58,null,null,null,null,null,null,null,null,null,"",{"$f":"IF(AND(F69>0,G69>0,H69>0,I69>0,J69>0),AVERAGE($K$12:K69),\"\")","v":""},"","","","","","","","","",null,null,"",{"$error":"#UNKNOWN!"},"",""]
[59,null,null,null,null,null,null,null,null,null,"",{"$f":"IF(AND(F70>0,G70>0,H70>0,I70>0,J70>0),AVERAGE($K$12:K70),\"\")","v":""},"","","","","","","","","",null,null,"",{"$error":"#UNKNOWN!"},"",""]
[60,null,null,null,null,null,null,null,null,null,"",{"$f":"IF(AND(F71>0,G71>0,H71>0,I71>0,J71>0),AVERAGE($K$12:K71),\"\")","v":""},"","","","","","","","","",null,null,"",{"$error":"#UNKNOWN!"},"",""]
[61,null,null,null,null,null,null,null,null,null,"",{"$f":"IF(AND(F72>0,G72>0,H72>0,I72>0,J72>0),AVERAGE($K$12:K72),\"\")","v":""},"","","","","","","","","",null,null,"",{"$error":"#UNKNOWN!"},"",""]
[62,null,null,null,null,null,null,null,null,null,"",{"$f":"IF(AND(F73>0,G73>0,H73>0,I73>0,J73>0),AVERAGE($K$12:K73),\"\")","v":""},"","","","","","","","","",null,null,"",{"$error":"#UNKNOWN!"},"",""]
[63,null,null,null,null,null,null,null,null,null,"",{"$f":"IF(AND(F74>0,G74>0,H74>0,I74>0,J74>0),AVERAGE($K$12:K74),\"\")","v":""},"","","","","","","","","",null,null,"",{"$error":"#UNKNOWN!"},{"$f":"IF($P$1=1,S74,Q74)","v":""},""]
[64,null,null,null,null,null,null,null,null,null,"",{"$f":"IF(AND(F75>0,G75>0,H75>0,I75>0,J75>0),AVERAGE($K$12:K75),\"\")","v":""},"","","","",{"$f":"IF(AND(F75>0,G75>0,H75>0,I75>0,J75>0),$E$5,\"\")","v":""},{"$f":"IF(AND(F75>0,G75>0,H75>0,I75>0,J75>0),$E$5*(-1),\"\")","v":""},{"$f":"IF(AND(F75>0,G75>0,H75>0,I75>0,J75>0),$E$6,\"\")","v":""},"",{"$f":"IFERROR(IF(ABS(M75)<=$E$5,TRUE,FALSE),\"\")","v":""},null,null,"",{"$f":"IF($P$1=1,#N/A,R75)","v":{"$error":"#UNKNOWN!"}},"",""]
[65,null,null,null,null,null,null,null,null,null,{"$f":"IF(AND(F76>0,G76>0,H76>0,I76>0,J76>0),AVERAGE(F76:J76),\"\")","v":""},{"$f":"IF(AND(F76>0,G76>0,H76>0,I76>0,J76>0),AVERAGE($K$12:K76),\"\")","v":""},{"$f":"IF(AND(F76>0,G76>0,H76>0,I76>0,J76>0),(K76-$E$4),\"\")","v":""},"",{"$f":"IF(AND(F76>0,G76>0,H76>0,I76>0,J76>0),ROUND(STDEV(F76:J76),2),\"\")","v":""},"","","","",{"$f":"IFERROR(IF(OR((ABS(N76)<=$E$6),(N76<1)),TRUE,FALSE),\"\")","v":""},"",null,null,{"$f":"IFERROR(MID(C76,SEARCH(\":\",C76)+1,10),\"\")","v":""},{"$error":"#UNKNOWN!"},"",{"$f":"IF($P$1=1,N76,M76)","v":""}]
[66,null,null,null,null,null,null,null,null,null,"",{"$f":"IF(AND(F77>0,G77>0,H77>0,I77>0,J77>0),AVERAGE($K$12:K77),\"\")","v":""},"",{"$f":"IF(AND(F77>0,G77>0,H77>0,I77>0,J77>0),MAX(F77:J77)-MIN(F77:J77),\"\")","v":""},"",{"$f":"IF(F77>0,IF(T77=FALSE,IF(U77=FALSE,\"<GA+WHP>\",\"<WHP>\"),IF(U77=FALSE,\"<GA>\",\"\")) & IF(V77=TRUE,\"<Trend>\",\"\") & IF(W77=TRUE,\"<Run>\",\"\")& IF(AND(ABS(T77+U77=2),V77+W77=0),\"OK\",\"\"),\"\")","v":""},"","","","","",null,null,"",{"$error":"#UNKNOWN!"},"",""]
[67,null,null,null,null,null,null,null,null,null,"",{"$f":"IF(AND(F78>0,G78>0,H78>0,I78>0,J78>0),AVERAGE($K$12:K78),\"\")","v":""},"","","","","","","","","",null,null,"",{"$error":"#UNKNOWN!"},"",""]
[68,null,null,null,null,null,null,null,null,null,"",{"$f":"IF(AND(F79>0,G79>0,H79>0,I79>0,J79>0),AVERAGE($K$12:K79),\"\")","v":""},"","","","","","","","","",null,null,"",{"$error":"#UNKNOWN!"},"",""]
[69,null,null,null,null,null,null,null,null,null,"",{"$f":"IF(AND(F80>0,G80>0,H80>0,I80>0,J80>0),AVERAGE($K$12:K80),\"\")","v":""},"","","","","","","","","",null,null,"",{"$error":"#UNKNOWN!"},"",""]
[70,null,null,null,null,null,null,null,null,null,"",{"$f":"IF(AND(F81>0,G81>0,H81>0,I81>0,J81>0),AVERAGE($K$12:K81),\"\")","v":""},"","","","","","","","","",{"$f":"OR(AND(K81>K80,K80>K79,K79>K78,K78>K77,K77>K76,K76>K75),AND(K81<K80,K80<K79,K79<K78,K78<K77,K77<K76,K76<K75))","v":null},{"$f":"OR(AND(K81>L81,K80>L81,K79>L81,K78>L81,K77>L81,K76>L81,K75>L81),AND(K81<L81,K80<L81,K79<L81,K78<L81,K77<L81,K76<L81,K75<L81))","v":null},"",{"$error":"#UNKNOWN!"},"",""]
[71,null,null,null,null,null,null,null,null,null,"",{"$f":"IF(AND(F82>0,G82>0,H82>0,I82>0,J82>0),AVERAGE($K$12:K82),\"\")","v":""},"","","","","","","","","",null,null,"",{"$error":"#UNKNOWN!"},"",""]
[72,null,null,null,null,null,null,null,null,null,"",{"$f":"IF(AND(F83>0,G83>0,H83>0,I83>0,J83>0),AVERAGE($K$12:K83),\"\")","v":""},"","","","","","","","","",null,null,"",{"$error":"#UNKNOWN!"},"",""]
[73,null,null,null,null,null,null,null,null,null,"",{"$f":"IF(AND(F84>0,G84>0,H84>0,I84>0,J84>0),AVERAGE($K$12:K84),\"\")","v":""},"","","","","","","","","",null,null,"",{"$error":"#UNKNOWN!"},"",""]
[74,null,null,null,null,null,null,null,null,null,"",{"$f":"IF(AND(F85>0,G85>0,H85>0,I85>0,J85>0),AVERAGE($K$12:K85),\"\")","v":""},"","","","","","","","","",null,null,"",{"$error":"#UNKNOWN!"},"",""]
[75,null,null,null,null,null,null,null,null,null,"",{"$f":"IF(AND(F86>0,G86>0,H86>0,I86>0,J86>0),AVERAGE($K$12:K86),\"\")","v":""},"","","","","","","","","",null,null,"",{"$error":"#UNKNOWN!"},"",""]
[76,null,null,null,null,null,null,null,null,null,"",{"$f":"IF(AND(F87>0,G87>0,H87>0,I87>0,J87>0),AVERAGE($K$12:K87),\"\")","v":""},"","","","","","","","","",null,null,"",{"$error":"#UNKNOWN!"},"",""]
[77,null,null,null,null,null,null,null,null,null,"",{"$f":"IF(AND(F88>0,G88>0,H88>0,I88>0,J88>0),AVERAGE($K$12:K88),\"\")","v":""},"","","","","","","","","",null,null,"",{"$error":"#UNKNOWN!"},"",""]
[78,null,null,null,null,null,null,null,null,null,"",{"$f":"IF(AND(F89>0,G89>0,H89>0,I89>0,J89>0),AVERAGE($K$12:K89),\"\")","v":""},"","","","","","","","","",null,null,"",{"$error":"#UNKNOWN!"},"",""]
[79,null,null,null,null,null,null,null,null,null,"",{"$f":"IF(AND(F90>0,G90>0,H90>0,I90>0,J90>0),AVERAGE($K$12:K90),\"\")","v":""},"","","","","","","","","",null,null,"",{"$error":"#UNKNOWN!"},"",""]
[80,null,null,null,null,null,null,null,null,null,"",{"$f":"IF(AND(F91>0,G91>0,H91>0,I91>0,J91>0),AVERAGE($K$12:K91),\"\")","v":""},"","","","","","","","","",null,null,"",{"$error":"#UNKNOWN!"},"",""]
[81,null,null,null,null,null,null,null,null,null,"",{"$f":"IF(AND(F92>0,G92>0,H92>0,I92>0,J92>0),AVERAGE($K$12:K92),\"\")","v":""},"","","","","","","","","",null,null,"",{"$error":"#UNKNOWN!"},"",""]
[82,null,null,null,null,null,null,null,null,null,"",{"$f":"IF(AND(F93>0,G93>0,H93>0,I93>0,J93>0),AVERAGE($K$12:K93),\"\")","v":""},"","","","","","","","","",null,null,"",{"$error":"#UNKNOWN!"},"",""]
[83,null,null,null,null,null,null,null,null,null,"",{"$f":"IF(AND(F94>0,G94>0,H94>0,I94>0,J94>0),AVERAGE($K$12:K94),\"\")","v":""},"","","","","","","","","",null,null,"",{"$error":"#UNKNOWN!"},"",""]
[84,null,null,null,null,null,null,null,null,null,"",{"$f":"IF(AND(F95>0,G95>0,H95>0,I95>0,J95>0),AVERAGE($K$12:K95),\"\")","v":""},"","","","","","","","","",null,null,"",{"$error":"#UNKNOWN!"},"",""]
[85,null,null,null,null,null,null,null,null,null,"",{"$f":"IF(AND(F96>0,G96>0,H96>0,I96>0,J96>0),AVERAGE($K$12:K96),\"\")","v":""},"","","","","","","","","",null,null,"",{"$error":"#UNKNOWN!"},"",""]
[86,null,null,null,null,null,null,null,null,null,"",{"$f":"IF(AND(F97>0,G97>0,H97>0,I97>0,J97>0),AVERAGE($K$12:K97),\"\")","v":""},"","","","","","","","","",null,null,"",{"$error":"#UNKNOWN!"},"",""]
[87,null,null,null,null,null,null,null,null,null,"",{"$f":"IF(AND(F98>0,G98>0,H98>0,I98>0,J98>0),AVERAGE($K$12:K98),\"\")","v":""},"","","","","","","","","",null,null,"",{"$error":"#UNKNOWN!"},"",""]
[88,null,null,null,null,null,null,null,null,null,"",{"$f":"IF(AND(F99>0,G99>0,H99>0,I99>0,J99>0),AVERAGE($K$12:K99),\"\")","v":""},"","","","","","","","","",null,null,"",{"$error":"#UNKNOWN!"},"",""]
[89,null,null,null,null,null,null,null,null,null,"",{"$f":"IF(AND(F100>0,G100>0,H100>0,I100>0,J100>0),AVERAGE($K$12:K100),\"\")","v":""},"","","","","","","","","",null,null,"",{"$error":"#UNKNOWN!"},"",""]
[90,null,null,null,null,null,null,null,null,null,"",{"$f":"IF(AND(F101>0,G101>0,H101>0,I101>0,J101>0),AVERAGE($K$12:K101),\"\")","v":""},"","","","","","","","","",null,null,"",{"$error":"#UNKNOWN!"},"",""]
[91,null,null,null,null,null,null,null,null,null,"",{"$f":"IF(AND(F102>0,G102>0,H102>0,I102>0,J102>0),AVERAGE($K$12:K102),\"\")","v":""},"","","","","","","","","",null,null,"",{"$error":"#UNKNOWN!"},"",""]
[92,null,null,null,null,null,null,null,null,null,"",{"$f":"IF(AND(F103>0,G103>0,H103>0,I103>0,J103>0),AVERAGE($K$12:K103),\"\")","v":""},"","","","","","","","","",null,null,"",{"$error":"#UNKNOWN!"},"",""]
[93,null,null,null,null,null,null,null,null,null,"",{"$f":"IF(AND(F104>0,G104>0,H104>0,I104>0,J104>0),AVERAGE($K$12:K104),\"\")","v":""},"","","","","","","","","",null,null,"",{"$error":"#UNKNOWN!"},"",""]
[94,null,null,null,null,null,null,null,null,null,"",{"$f":"IF(AND(F105>0,G105>0,H105>0,I105>0,J105>0),AVERAGE($K$12:K105),\"\")","v":""},"","","","","","","","","",null,null,"",{"$error":"#UNKNOWN!"},"",""]
[95,null,null,null,null,null,null,null,null,null,"",{"$f":"IF(AND(F106>0,G106>0,H106>0,I106>0,J106>0),AVERAGE($K$12:K106),\"\")","v":""},"","","","","","","","","",null,null,"",{"$error":"#UNKNOWN!"},"",""]
[96,null,null,null,null,null,null,null,null,null,"",{"$f":"IF(AND(F107>0,G107>0,H107>0,I107>0,J107>0),AVERAGE($K$12:K107),\"\")","v":""},"","","","","","","","","",null,null,"",{"$error":"#UNKNOWN!"},"",""]
[97,null,null,null,null,null,null,null,null,null,"",{"$f":"IF(AND(F108>0,G108>0,H108>0,I108>0,J108>0),AVERAGE($K$12:K108),\"\")","v":""},"","","","","","","","","",null,null,"",{"$error":"#UNKNOWN!"},"",""]
[98,null,null,null,null,null,null,null,null,null,"",{"$f":"IF(AND(F109>0,G109>0,H109>0,I109>0,J109>0),AVERAGE($K$12:K109),\"\")","v":""},"","","","","","","","","",null,null,"",{"$error":"#UNKNOWN!"},"",""]
[99,null,null,null,null,null,null,null,null,null,"",{"$f":"IF(AND(F110>0,G110>0,H110>0,I110>0,J110>0),AVERAGE($K$12:K110),\"\")","v":""},"","","","","","","","","",null,null,"",{"$error":"#UNKNOWN!"},"",""]
[100,null,null,null,null,null,null,null,null,null,"",{"$f":"IF(AND(F111>0,G111>0,H111>0,I111>0,J111>0),AVERAGE($K$12:K111),\"\")","v":""},"","","","","","","","","",null,null,"",{"$error":"#UNKNOWN!"},"",""]
[101,null,null,null,null,null,null,null,null,null,"",{"$f":"IF(AND(F112>0,G112>0,H112>0,I112>0,J112>0),AVERAGE($K$12:K112),\"\")","v":""},"","","","","","","","","",null,null,"",{"$error":"#UNKNOWN!"},"",""]
[102,null,null,null,null,null,null,null,null,null,"",{"$f":"IF(AND(F113>0,G113>0,H113>0,I113>0,J113>0),AVERAGE($K$12:K113),\"\")","v":""},"","","","","","","","","",null,null,"",{"$error":"#UNKNOWN!"},"",""]
[103,null,null,null,null,null,null,null,null,null,"",{"$f":"IF(AND(F114>0,G114>0,H114>0,I114>0,J114>0),AVERAGE($K$12:K114),\"\")","v":""},"","","","","","","","","",null,null,"",{"$error":"#UNKNOWN!"},"",""]
[104,null,null,null,null,null,null,null,null,null,"",{"$f":"IF(AND(F115>0,G115>0,H115>0,I115>0,J115>0),AVERAGE($K$12:K115),\"\")","v":""},"","","","","","","","","",null,null,"",{"$error":"#UNKNOWN!"},"",""]
[105,null,null,null,null,null,null,null,null,null,"",{"$f":"IF(AND(F116>0,G116>0,H116>0,I116>0,J116>0),AVERAGE($K$12:K116),\"\")","v":""},"","","","","","","","","",null,null,"",{"$error":"#UNKNOWN!"},"",""]
[106,null,null,null,null,null,null,null,null,null,"",{"$f":"IF(AND(F117>0,G117>0,H117>0,I117>0,J117>0),AVERAGE($K$12:K117),\"\")","v":""},"","","","","","","","","",null,null,"",{"$error":"#UNKNOWN!"},"",""]
[107,null,null,null,null,null,null,null,null,null,"",{"$f":"IF(AND(F118>0,G118>0,H118>0,I118>0,J118>0),AVERAGE($K$12:K118),\"\")","v":""},"","","","","","","","","",null,null,"",{"$error":"#UNKNOWN!"},"",""]
[108,null,null,null,null,null,null,null,null,null,"",{"$f":"IF(AND(F119>0,G119>0,H119>0,I119>0,J119>0),AVERAGE($K$12:K119),\"\")","v":""},"","","","","","","","","",null,null,"",{"$error":"#UNKNOWN!"},"",""]
[109,null,null,null,null,null,null,null,null,null,"",{"$f":"IF(AND(F120>0,G120>0,H120>0,I120>0,J120>0),AVERAGE($K$12:K120),\"\")","v":""},"","","","","","","","","",null,null,"",{"$error":"#UNKNOWN!"},"",""]
[110,null,null,null,null,null,null,null,null,null,"",{"$f":"IF(AND(F121>0,G121>0,H121>0,I121>0,J121>0),AVERAGE($K$12:K121),\"\")","v":""},"","","","","","","","","",null,null,"",{"$error":"#UNKNOWN!"},"",""]
[111,null,null,null,null,null,null,null,null,null,"",{"$f":"IF(AND(F122>0,G122>0,H122>0,I122>0,J122>0),AVERAGE($K$12:K122),\"\")","v":""},"","","","","","","","","",null,null,"",{"$error":"#UNKNOWN!"},"",""]
[112,null,null,null,null,null,null,null,null,null,"",{"$f":"IF(AND(F123>0,G123>0,H123>0,I123>0,J123>0),AVERAGE($K$12:K123),\"\")","v":""},"","","","","","","","","",null,null,"",{"$error":"#UNKNOWN!"},"",""]
[113,null,null,null,null,null,null,null,null,null,"",{"$f":"IF(AND(F124>0,G124>0,H124>0,I124>0,J124>0),AVERAGE($K$12:K124),\"\")","v":""},"","","","","","","","","",null,null,"",{"$error":"#UNKNOWN!"},"",""]
[114,null,null,null,null,null,null,null,null,null,"",{"$f":"IF(AND(F125>0,G125>0,H125>0,I125>0,J125>0),AVERAGE($K$12:K125),\"\")","v":""},"","","","","","","","","",null,null,"",{"$error":"#UNKNOWN!"},"",""]
[115,null,null,null,null,null,null,null,null,null,"",{"$f":"IF(AND(F126>0,G126>0,H126>0,I126>0,J126>0),AVERAGE($K$12:K126),\"\")","v":""},"","","","","","","","","",null,null,"",{"$error":"#UNKNOWN!"},"",""]
[116,null,null,null,null,null,null,null,null,null,"",{"$f":"IF(AND(F127>0,G127>0,H127>0,I127>0,J127>0),AVERAGE($K$12:K127),\"\")","v":""},"","","","","","","","","",null,null,"",{"$error":"#UNKNOWN!"},"",""]
[117,null,null,null,null,null,null,null,null,null,"",{"$f":"IF(AND(F128>0,G128>0,H128>0,I128>0,J128>0),AVERAGE($K$12:K128),\"\")","v":""},"","","","","","","","","",null,null,"",{"$error":"#UNKNOWN!"},"",""]
[118,null,null,null,null,null,null,null,null,null,"",{"$f":"IF(AND(F129>0,G129>0,H129>0,I129>0,J129>0),AVERAGE($K$12:K129),\"\")","v":""},"","","","","","","","","",null,null,"",{"$error":"#UNKNOWN!"},"",""]
[119,null,null,null,null,null,null,null,null,null,"",{"$f":"IF(AND(F130>0,G130>0,H130>0,I130>0,J130>0),AVERAGE($K$12:K130),\"\")","v":""},"","","","","","","","","",null,null,"",{"$error":"#UNKNOWN!"},"",""]
[120,null,null,null,null,null,null,null,null,null,"",{"$f":"IF(AND(F131>0,G131>0,H131>0,I131>0,J131>0),AVERAGE($K$12:K131),\"\")","v":""},"","","","","","","","","",null,null,"",{"$error":"#UNKNOWN!"},"",""]
[121,null,null,null,null,null,null,null,null,null,"",{"$f":"IF(AND(F132>0,G132>0,H132>0,I132>0,J132>0),AVERAGE($K$12:K132),\"\")","v":""},"","","","","","","","","",null,null,"",{"$error":"#UNKNOWN!"},"",""]
[122,null,null,null,null,null,null,null,null,null,"",{"$f":"IF(AND(F133>0,G133>0,H133>0,I133>0,J133>0),AVERAGE($K$12:K133),\"\")","v":""},"","","","","","","","","",null,null,"",{"$error":"#UNKNOWN!"},"",""]
[123,null,null,null,null,null,null,null,null,null,"",{"$f":"IF(AND(F134>0,G134>0,H134>0,I134>0,J134>0),AVERAGE($K$12:K134),\"\")","v":""},"","","","","","","","","",null,null,"",{"$error":"#UNKNOWN!"},"",""]
[124,null,null,null,null,null,null,null,null,null,"",{"$f":"IF(AND(F135>0,G135>0,H135>0,I135>0,J135>0),AVERAGE($K$12:K135),\"\")","v":""},"","","","","","","","","",null,null,"",{"$error":"#UNKNOWN!"},"",""]
[125,null,null,null,null,null,null,null,null,null,"",{"$f":"IF(AND(F136>0,G136>0,H136>0,I136>0,J136>0),AVERAGE($K$12:K136),\"\")","v":""},"","","","","","","","","",null,null,"",{"$error":"#UNKNOWN!"},"",""]
[126,null,null,null,null,null,null,null,null,null,"",{"$f":"IF(AND(F137>0,G137>0,H137>0,I137>0,J137>0),AVERAGE($K$12:K137),\"\")","v":""},"","","","","","","","","",null,null,"",{"$error":"#UNKNOWN!"},"",""]
[127,null,null,null,null,null,null,null,null,null,"",{"$f":"IF(AND(F138>0,G138>0,H138>0,I138>0,J138>0),AVERAGE($K$12:K138),\"\")","v":""},"","","","","","","","","",null,null,"",{"$error":"#UNKNOWN!"},{"$f":"IF($P$1=1,S138,Q138)","v":""},""]
[128,null,null,null,null,null,null,null,null,null,"",{"$f":"IF(AND(F139>0,G139>0,H139>0,I139>0,J139>0),AVERAGE($K$12:K139),\"\")","v":""},"","","","",{"$f":"IF(AND(F139>0,G139>0,H139>0,I139>0,J139>0),$E$5,\"\")","v":""},{"$f":"IF(AND(F139>0,G139>0,H139>0,I139>0,J139>0),$E$5*(-1),\"\")","v":""},{"$f":"IF(AND(F139>0,G139>0,H139>0,I139>0,J139>0),$E$6,\"\")","v":""},"",{"$f":"IFERROR(IF(ABS(M139)<=$E$5,TRUE,FALSE),\"\")","v":""},null,null,"",{"$f":"IF($P$1=1,#N/A,R139)","v":{"$error":"#UNKNOWN!"}},"",""]
[129,null,null,null,null,null,null,null,null,null,{"$f":"IF(AND(F140>0,G140>0,H140>0,I140>0,J140>0),AVERAGE(F140:J140),\"\")","v":""},{"$f":"IF(AND(F140>0,G140>0,H140>0,I140>0,J140>0),AVERAGE($K$12:K140),\"\")","v":""},{"$f":"IF(AND(F140>0,G140>0,H140>0,I140>0,J140>0),(K140-$E$4),\"\")","v":""},"",{"$f":"IF(AND(F140>0,G140>0,H140>0,I140>0,J140>0),ROUND(STDEV(F140:J140),2),\"\")","v":""},"","","","",{"$f":"IFERROR(IF(OR((ABS(N140)<=$E$6),(N140<1)),TRUE,FALSE),\"\")","v":""},"",null,null,{"$f":"IFERROR(MID(C140,SEARCH(\":\",C140)+1,10),\"\")","v":""},{"$error":"#UNKNOWN!"},"",{"$f":"IF($P$1=1,N140,M140)","v":""}]
[130,null,null,null,null,null,null,null,null,null,"",{"$f":"IF(AND(F141>0,G141>0,H141>0,I141>0,J141>0),AVERAGE($K$12:K141),\"\")","v":""},"",{"$f":"IF(AND(F141>0,G141>0,H141>0,I141>0,J141>0),MAX(F141:J141)-MIN(F141:J141),\"\")","v":""},"",{"$f":"IF(F141>0,IF(T141=FALSE,IF(U141=FALSE,\"<GA+WHP>\",\"<WHP>\"),IF(U141=FALSE,\"<GA>\",\"\")) & IF(V141=TRUE,\"<Trend>\",\"\") & IF(W141=TRUE,\"<Run>\",\"\")& IF(AND(ABS(T141+U141=2),V141+W141=0),\"OK\",\"\"),\"\")","v":""},"","","","","",null,null,"",{"$error":"#UNKNOWN!"},"",""]
[131,null,null,null,null,null,null,null,null,null,"",{"$f":"IF(AND(F142>0,G142>0,H142>0,I142>0,J142>0),AVERAGE($K$12:K142),\"\")","v":""},"","","","","","","","","",null,null,"",{"$error":"#UNKNOWN!"},"",""]
[132,null,null,null,null,null,null,null,null,null,"",{"$f":"IF(AND(F143>0,G143>0,H143>0,I143>0,J143>0),AVERAGE($K$12:K143),\"\")","v":""},"","","","","","","","","",null,null,"",{"$error":"#UNKNOWN!"},"",""]
[133,null,null,null,null,null,null,null,null,null,"",{"$f":"IF(AND(F144>0,G144>0,H144>0,I144>0,J144>0),AVERAGE($K$12:K144),\"\")","v":""},"","","","","","","","","",null,null,"",{"$error":"#UNKNOWN!"},"",""]
[134,null,null,null,null,null,null,null,null,null,"",{"$f":"IF(AND(F145>0,G145>0,H145>0,I145>0,J145>0),AVERAGE($K$12:K145),\"\")","v":""},"","","","","","","","","",{"$f":"OR(AND(K145>K144,K144>K143,K143>K142,K142>K141,K141>K140,K140>K139),AND(K145<K144,K144<K143,K143<K142,K142<K141,K141<K140,K140<K139))","v":null},{"$f":"OR(AND(K145>L145,K144>L145,K143>L145,K142>L145,K141>L145,K140>L145,K139>L145),AND(K145<L145,K144<L145,K143<L145,K142<L145,K141<L145,K140<L145,K139<L145))","v":null},"",{"$error":"#UNKNOWN!"},"",""]
[135,null,null,null,null,null,null,null,null,null,"",{"$f":"IF(AND(F146>0,G146>0,H146>0,I146>0,J146>0),AVERAGE($K$12:K146),\"\")","v":""},"","","","","","","","","",null,null,"",{"$error":"#UNKNOWN!"},"",""]
[136,null,null,null,null,null,null,null,null,null,"",{"$f":"IF(AND(F147>0,G147>0,H147>0,I147>0,J147>0),AVERAGE($K$12:K147),\"\")","v":""},"","","","","","","","","",null,null,"",{"$error":"#UNKNOWN!"},"",""]
[137,null,null,null,null,null,null,null,null,null,"",{"$f":"IF(AND(F148>0,G148>0,H148>0,I148>0,J148>0),AVERAGE($K$12:K148),\"\")","v":""},"","","","","","","","","",null,null,"",{"$error":"#UNKNOWN!"},"",""]
[138,null,null,null,null,null,null,null,null,null,"",{"$f":"IF(AND(F149>0,G149>0,H149>0,I149>0,J149>0),AVERAGE($K$12:K149),\"\")","v":""},"","","","","","","","","",null,null,"",{"$error":"#UNKNOWN!"},"",""]
[139,null,null,null,null,null,null,null,null,null,"",{"$f":"IF(AND(F150>0,G150>0,H150>0,I150>0,J150>0),AVERAGE($K$12:K150),\"\")","v":""},"","","","","","","","","",null,null,"",{"$error":"#UNKNOWN!"},"",""]
[140,null,null,null,null,null,null,null,null,null,"",{"$f":"IF(AND(F151>0,G151>0,H151>0,I151>0,J151>0),AVERAGE($K$12:K151),\"\")","v":""},"","","","","","","","","",null,null,"",{"$error":"#UNKNOWN!"},"",""]
[141,null,null,null,null,null,null,null,null,null,"",{"$f":"IF(AND(F152>0,G152>0,H152>0,I152>0,J152>0),AVERAGE($K$12:K152),\"\")","v":""},"","","","","","","","","",null,null,"",{"$error":"#UNKNOWN!"},"",""]
[142,null,null,null,null,null,null,null,null,null,"",{"$f":"IF(AND(F153>0,G153>0,H153>0,I153>0,J153>0),AVERAGE($K$12:K153),\"\")","v":""},"","","","","","","","","",null,null,"",{"$error":"#UNKNOWN!"},"",""]
[143,null,null,null,null,null,null,null,null,null,"",{"$f":"IF(AND(F154>0,G154>0,H154>0,I154>0,J154>0),AVERAGE($K$12:K154),\"\")","v":""},"","","","","","","","","",null,null,"",{"$error":"#UNKNOWN!"},"",""]
[144,null,null,null,null,null,null,null,null,null,"",{"$f":"IF(AND(F155>0,G155>0,H155>0,I155>0,J155>0),AVERAGE($K$12:K155),\"\")","v":""},"","","","","","","","","",null,null,"",{"$error":"#UNKNOWN!"},"",""]
[145,null,null,null,null,null,null,null,null,null,"",{"$f":"IF(AND(F156>0,G156>0,H156>0,I156>0,J156>0),AVERAGE($K$12:K156),\"\")","v":""},"","","","","","","","","",null,null,"",{"$error":"#UNKNOWN!"},"",""]
[146,null,null,null,null,null,null,null,null,null,"",{"$f":"IF(AND(F157>0,G157>0,H157>0,I157>0,J157>0),AVERAGE($K$12:K157),\"\")","v":""},"","","","","","","","","",null,null,"",{"$error":"#UNKNOWN!"},"",""]
[147,null,null,null,null,null,null,null,null,null,"",{"$f":"IF(AND(F158>0,G158>0,H158>0,I158>0,J158>0),AVERAGE($K$12:K158),\"\")","v":""},"","","","","","","","","",null,null,"",{"$error":"#UNKNOWN!"},"",""]
[148,null,null,null,null,null,null,null,null,null,"",{"$f":"IF(AND(F159>0,G159>0,H159>0,I159>0,J159>0),AVERAGE($K$12:K159),\"\")","v":""},"","","","","","","","","",null,null,"",{"$error":"#UNKNOWN!"},"",""]
[149,null,null,null,null,null,null,null,null,null,"",{"$f":"IF(AND(F160>0,G160>0,H160>0,I160>0,J160>0),AVERAGE($K$12:K160),\"\")","v":""},"","","","","","","","","",null,null,"",{"$error":"#UNKNOWN!"},"",""]
[150,null,null,null,null,null,null,null,null,null,"",{"$f":"IF(AND(F161>0,G161>0,H161>0,I161>0,J161>0),AVERAGE($K$12:K161),\"\")","v":""},"","","","","","","","","",null,null,"",{"$error":"#UNKNOWN!"},"",""]
[151,null,null,null,null,null,null,null,null,null,"",{"$f":"IF(AND(F162>0,G162>0,H162>0,I162>0,J162>0),AVERAGE($K$12:K162),\"\")","v":""},"","","","","","","","","",null,null,"",{"$error":"#UNKNOWN!"},"",""]
[152,null,null,null,null,null,null,null,null,null,"",{"$f":"IF(AND(F163>0,G163>0,H163>0,I163>0,J163>0),AVERAGE($K$12:K163),\"\")","v":""},"","","","","","","","","",null,null,"",{"$error":"#UNKNOWN!"},"",""]
[153,null,null,null,null,null,null,null,null,null,"",{"$f":"IF(AND(F164>0,G164>0,H164>0,I164>0,J164>0),AVERAGE($K$12:K164),\"\")","v":""},"","","","","","","","","",null,null,"",{"$error":"#UNKNOWN!"},"",""]
[154,null,null,null,null,null,null,null,null,null,"",{"$f":"IF(AND(F165>0,G165>0,H165>0,I165>0,J165>0),AVERAGE($K$12:K165),\"\")","v":""},"","","","","","","","","",null,null,"",{"$error":"#UNKNOWN!"},"",""]
[155,null,null,null,null,null,null,null,null,null,"",{"$f":"IF(AND(F166>0,G166>0,H166>0,I166>0,J166>0),AVERAGE($K$12:K166),\"\")","v":""},"","","","","","","","","",null,null,"",{"$error":"#UNKNOWN!"},"",""]
[156,null,null,null,null,null,null,null,null,null,"",{"$f":"IF(AND(F167>0,G167>0,H167>0,I167>0,J167>0),AVERAGE($K$12:K167),\"\")","v":""},"","","","","","","","","",null,null,"",{"$error":"#UNKNOWN!"},"",""]
[157,null,null,null,null,null,null,null,null,null,"",{"$f":"IF(AND(F168>0,G168>0,H168>0,I168>0,J168>0),AVERAGE($K$12:K168),\"\")","v":""},"","","","","","","","","",null,null,"",{"$error":"#UNKNOWN!"},"",""]
[158,null,null,null,null,null,null,null,null,null,"",{"$f":"IF(AND(F169>0,G169>0,H169>0,I169>0,J169>0),AVERAGE($K$12:K169),\"\")","v":""},"","","","","","","","","",null,null,"",{"$error":"#UNKNOWN!"},"",""]
[159,null,null,null,null,null,null,null,null,null,"",{"$f":"IF(AND(F170>0,G170>0,H170>0,I170>0,J170>0),AVERAGE($K$12:K170),\"\")","v":""},"","","","","","","","","",null,null,"",{"$error":"#UNKNOWN!"},"",""]
[160,null,null,null,null,null,null,null,null,null,"",{"$f":"IF(AND(F171>0,G171>0,H171>0,I171>0,J171>0),AVERAGE($K$12:K171),\"\")","v":""},"","","","","","","","","",null,null,"",{"$error":"#UNKNOWN!"},"",""]
[161,null,null,null,null,null,null,null,null,null,"",{"$f":"IF(AND(F172>0,G172>0,H172>0,I172>0,J172>0),AVERAGE($K$12:K172),\"\")","v":""},"","","","","","","","","",null,null,"",{"$error":"#UNKNOWN!"},"",""]
[162,null,null,null,null,null,null,null,null,null,"",{"$f":"IF(AND(F173>0,G173>0,H173>0,I173>0,J173>0),AVERAGE($K$12:K173),\"\")","v":""},"","","","","","","","","",null,null,"",{"$error":"#UNKNOWN!"},"",""]
[163,null,null,null,null,null,null,null,null,null,"",{"$f":"IF(AND(F174>0,G174>0,H174>0,I174>0,J174>0),AVERAGE($K$12:K174),\"\")","v":""},"","","","","","","","","",null,null,"",{"$error":"#UNKNOWN!"},"",""]
[164,null,null,null,null,null,null,null,null,null,"",{"$f":"IF(AND(F175>0,G175>0,H175>0,I175>0,J175>0),AVERAGE($K$12:K175),\"\")","v":""},"","","","","","","","","",null,null,"",{"$error":"#UNKNOWN!"},"",""]
[165,null,null,null,null,null,null,null,null,null,"",{"$f":"IF(AND(F176>0,G176>0,H176>0,I176>0,J176>0),AVERAGE($K$12:K176),\"\")","v":""},"","","","","","","","","",null,null,"",{"$error":"#UNKNOWN!"},"",""]
[166,null,null,null,null,null,null,null,null,null,"",{"$f":"IF(AND(F177>0,G177>0,H177>0,I177>0,J177>0),AVERAGE($K$12:K177),\"\")","v":""},"","","","","","","","","",null,null,"",{"$error":"#UNKNOWN!"},"",""]
[167,null,null,null,null,null,null,null,null,null,"",{"$f":"IF(AND(F178>0,G178>0,H178>0,I178>0,J178>0),AVERAGE($K$12:K178),\"\")","v":""},"","","","","","","","","",null,null,"",{"$error":"#UNKNOWN!"},"",""]
[168,null,null,null,null,null,null,null,null,null,"",{"$f":"IF(AND(F179>0,G179>0,H179>0,I179>0,J179>0),AVERAGE($K$12:K179),\"\")","v":""},"","","","","","","","","",null,null,"",{"$error":"#UNKNOWN!"},"",""]
[169,null,null,null,null,null,null,null,null,null,"",{"$f":"IF(AND(F180>0,G180>0,H180>0,I180>0,J180>0),AVERAGE($K$12:K180),\"\")","v":""},"","","","","","","","","",null,null,"",{"$error":"#UNKNOWN!"},"",""]
[170,null,null,null,null,null,null,null,null,null,"",{"$f":"IF(AND(F181>0,G181>0,H181>0,I181>0,J181>0),AVERAGE($K$12:K181),\"\")","v":""},"","","","","","","","","",null,null,"",{"$error":"#UNKNOWN!"},"",""]
[171,null,null,null,null,null,null,null,null,null,"",{"$f":"IF(AND(F182>0,G182>0,H182>0,I182>0,J182>0),AVERAGE($K$12:K182),\"\")","v":""},"","","","","","","","","",null,null,"",{"$error":"#UNKNOWN!"},"",""]
[172,null,null,null,null,null,null,null,null,null,"",{"$f":"IF(AND(F183>0,G183>0,H183>0,I183>0,J183>0),AVERAGE($K$12:K183),\"\")","v":""},"","","","","","","","","",null,null,"",{"$error":"#UNKNOWN!"},"",""]
[173,null,null,null,null,null,null,null,null,null,"",{"$f":"IF(AND(F184>0,G184>0,H184>0,I184>0,J184>0),AVERAGE($K$12:K184),\"\")","v":""},"","","","","","","","","",null,null,"",{"$error":"#UNKNOWN!"},"",""]
[174,null,null,null,null,null,null,null,null,null,"",{"$f":"IF(AND(F185>0,G185>0,H185>0,I185>0,J185>0),AVERAGE($K$12:K185),\"\")","v":""},"","","","","","","","","",null,null,"",{"$error":"#UNKNOWN!"},"",""]
[175,null,null,null,null,null,null,null,null,null,"",{"$f":"IF(AND(F186>0,G186>0,H186>0,I186>0,J186>0),AVERAGE($K$12:K186),\"\")","v":""},"","","","","","","","","",null,null,"",{"$error":"#UNKNOWN!"},"",""]
[176,null,null,null,null,null,null,null,null,null,"",{"$f":"IF(AND(F187>0,G187>0,H187>0,I187>0,J187>0),AVERAGE($K$12:K187),\"\")","v":""},"","","","","","","","","",null,null,"",{"$error":"#UNKNOWN!"},"",""]
[177,null,null,null,null,null,null,null,null,null,"",{"$f":"IF(AND(F188>0,G188>0,H188>0,I188>0,J188>0),AVERAGE($K$12:K188),\"\")","v":""},"","","","","","","","","",null,null,"",{"$error":"#UNKNOWN!"},"",""]
[178,null,null,null,null,null,null,null,null,null,"",{"$f":"IF(AND(F189>0,G189>0,H189>0,I189>0,J189>0),AVERAGE($K$12:K189),\"\")","v":""},"","","","","","","","","",null,null,"",{"$error":"#UNKNOWN!"},"",""]
[179,null,null,null,null,null,null,null,null,null,"",{"$f":"IF(AND(F190>0,G190>0,H190>0,I190>0,J190>0),AVERAGE($K$12:K190),\"\")","v":""},"","","","","","","","","",null,null,"",{"$error":"#UNKNOWN!"},"",""]
[180,null,null,null,null,null,null,null,null,null,"",{"$f":"IF(AND(F191>0,G191>0,H191>0,I191>0,J191>0),AVERAGE($K$12:K191),\"\")","v":""},"","","","","","","","","",null,null,"",{"$error":"#UNKNOWN!"},"",""]
[181,null,null,null,null,null,null,null,null,null,"",{"$f":"IF(AND(F192>0,G192>0,H192>0,I192>0,J192>0),AVERAGE($K$12:K192),\"\")","v":""},"","","","","","","","","",null,null,"",{"$error":"#UNKNOWN!"},"",""]
[182,null,null,null,null,null,null,null,null,null,"",{"$f":"IF(AND(F193>0,G193>0,H193>0,I193>0,J193>0),AVERAGE($K$12:K193),\"\")","v":""},"","","","","","","","","",null,null,"",{"$error":"#UNKNOWN!"},"",""]
[183,null,null,null,null,null,null,null,null,null,"",{"$f":"IF(AND(F194>0,G194>0,H194>0,I194>0,J194>0),AVERAGE($K$12:K194),\"\")","v":""},"","","","","","","","","",null,null,"",{"$error":"#UNKNOWN!"},"",""]
[184,null,null,null,null,null,null,null,null,null,"",{"$f":"IF(AND(F195>0,G195>0,H195>0,I195>0,J195>0),AVERAGE($K$12:K195),\"\")","v":""},"","","","","","","","","",null,null,"",{"$error":"#UNKNOWN!"},"",""]
[185,null,null,null,null,null,null,null,null,null,"",{"$f":"IF(AND(F196>0,G196>0,H196>0,I196>0,J196>0),AVERAGE($K$12:K196),\"\")","v":""},"","","","","","","","","",null,null,"",{"$error":"#UNKNOWN!"},"",""]
[186,null,null,null,null,null,null,null,null,null,"",{"$f":"IF(AND(F197>0,G197>0,H197>0,I197>0,J197>0),AVERAGE($K$12:K197),\"\")","v":""},"","","","","","","","","",null,null,"",{"$error":"#UNKNOWN!"},"",""]
[187,null,null,null,null,null,null,null,null,null,"",{"$f":"IF(AND(F198>0,G198>0,H198>0,I198>0,J198>0),AVERAGE($K$12:K198),\"\")","v":""},"","","","","","","","","",null,null,"",{"$error":"#UNKNOWN!"},"",""]
[188,null,null,null,null,null,null,null,null,null,"",{"$f":"IF(AND(F199>0,G199>0,H199>0,I199>0,J199>0),AVERAGE($K$12:K199),\"\")","v":""},"","","","","","","","","",null,null,"",{"$error":"#UNKNOWN!"},"",""]
[189,null,null,null,null,null,null,null,null,null,"",{"$f":"IF(AND(F200>0,G200>0,H200>0,I200>0,J200>0),AVERAGE($K$12:K200),\"\")","v":""},"","","","","","","","","",null,null,"",{"$error":"#UNKNOWN!"},"",""]
[190,null,null,null,null,null,null,null,null,null,"",{"$f":"IF(AND(F201>0,G201>0,H201>0,I201>0,J201>0),AVERAGE($K$12:K201),\"\")","v":""},"","","","","","","","","",null,null,"",{"$error":"#UNKNOWN!"},"",""]
[191,null,null,null,null,null,null,null,null,null,"",{"$f":"IF(AND(F202>0,G202>0,H202>0,I202>0,J202>0),AVERAGE($K$12:K202),\"\")","v":""},"","","","","","","","","",null,null,"",{"$error":"#UNKNOWN!"},{"$f":"IF($P$1=1,S202,Q202)","v":""},""]
[192,null,null,null,null,null,null,null,null,null,"",{"$f":"IF(AND(F203>0,G203>0,H203>0,I203>0,J203>0),AVERAGE($K$12:K203),\"\")","v":""},"","","","",{"$f":"IF(AND(F203>0,G203>0,H203>0,I203>0,J203>0),$E$5,\"\")","v":""},{"$f":"IF(AND(F203>0,G203>0,H203>0,I203>0,J203>0),$E$5*(-1),\"\")","v":""},{"$f":"IF(AND(F203>0,G203>0,H203>0,I203>0,J203>0),$E$6,\"\")","v":""},"",{"$f":"IFERROR(IF(ABS(M203)<=$E$5,TRUE,FALSE),\"\")","v":""},null,null,"",{"$f":"IF($P$1=1,#N/A,R203)","v":{"$error":"#UNKNOWN!"}},"",""]
[193,null,null,null,null,null,null,null,null,null,{"$f":"IF(AND(F204>0,G204>0,H204>0,I204>0,J204>0),AVERAGE(F204:J204),\"\")","v":""},{"$f":"IF(AND(F204>0,G204>0,H204>0,I204>0,J204>0),AVERAGE($K$12:K204),\"\")","v":""},{"$f":"IF(AND(F204>0,G204>0,H204>0,I204>0,J204>0),(K204-$E$4),\"\")","v":""},"",{"$f":"IF(AND(F204>0,G204>0,H204>0,I204>0,J204>0),ROUND(STDEV(F204:J204),2),\"\")","v":""},"","","","",{"$f":"IFERROR(IF(OR((ABS(N204)<=$E$6),(N204<1)),TRUE,FALSE),\"\")","v":""},"",null,null,{"$f":"IFERROR(MID(C204,SEARCH(\":\",C204)+1,10),\"\")","v":""},{"$error":"#UNKNOWN!"},"",{"$f":"IF($P$1=1,N204,M204)","v":""}]
[194,null,null,null,null,null,null,null,null,null,"",{"$f":"IF(AND(F205>0,G205>0,H205>0,I205>0,J205>0),AVERAGE($K$12:K205),\"\")","v":""},"",{"$f":"IF(AND(F205>0,G205>0,H205>0,I205>0,J205>0),MAX(F205:J205)-MIN(F205:J205),\"\")","v":""},"",{"$f":"IF(F205>0,IF(T205=FALSE,IF(U205=FALSE,\"<GA+WHP>\",\"<WHP>\"),IF(U205=FALSE,\"<GA>\",\"\")) & IF(V205=TRUE,\"<Trend>\",\"\") & IF(W205=TRUE,\"<Run>\",\"\")& IF(AND(ABS(T205+U205=2),V205+W205=0),\"OK\",\"\"),\"\")","v":""},"","","","","",null,null,"",{"$error":"#UNKNOWN!"},"",""]
[195,null,null,null,null,null,null,null,null,null,"",{"$f":"IF(AND(F206>0,G206>0,H206>0,I206>0,J206>0),AVERAGE($K$12:K206),\"\")","v":""},"","","","","","","","","",null,null,"",{"$error":"#UNKNOWN!"},"",""]
[196,null,null,null,null,null,null,null,null,null,"",{"$f":"IF(AND(F207>0,G207>0,H207>0,I207>0,J207>0),AVERAGE($K$12:K207),\"\")","v":""},"","","","","","","","","",null,null,"",{"$error":"#UNKNOWN!"},"",""]
[197,null,null,null,null,null,null,null,null,null,"",{"$f":"IF(AND(F208>0,G208>0,H208>0,I208>0,J208>0),AVERAGE($K$12:K208),\"\")","v":""},"","","","","","","","","",null,null,"",{"$error":"#UNKNOWN!"},"",""]
[198,null,null,null,null,null,null,null,null,null,"",{"$f":"IF(AND(F209>0,G209>0,H209>0,I209>0,J209>0),AVERAGE($K$12:K209),\"\")","v":""},"","","","","","","","","",{"$f":"OR(AND(K209>K208,K208>K207,K207>K206,K206>K205,K205>K204,K204>K203),AND(K209<K208,K208<K207,K207<K206,K206<K205,K205<K204,K204<K203))","v":null},{"$f":"OR(AND(K209>L209,K208>L209,K207>L209,K206>L209,K205>L209,K204>L209,K203>L209),AND(K209<L209,K208<L209,K207<L209,K206<L209,K205<L209,K204<L209,K203<L209))","v":null},"",{"$error":"#UNKNOWN!"},"",""]
[199,null,null,null,null,null,null,null,null,null,"",{"$f":"IF(AND(F210>0,G210>0,H210>0,I210>0,J210>0),AVERAGE($K$12:K210),\"\")","v":""},"","","","","","","","","",null,null,"",{"$error":"#UNKNOWN!"},"",""]
[200,null,null,null,null,null,null,null,null,null,"",{"$f":"IF(AND(F211>0,G211>0,H211>0,I211>0,J211>0),AVERAGE($K$12:K211),\"\")","v":""},"","","","","","","","","",null,null,"",{"$error":"#UNKNOWN!"},"",""]
[201,null,null,null,null,null,null,null,null,null,"",{"$f":"IF(AND(F212>0,G212>0,H212>0,I212>0,J212>0),AVERAGE($K$12:K212),\"\")","v":""},"","","","","","","","","",null,null,"",{"$error":"#UNKNOWN!"},"",""]
[202,null,null,null,null,null,null,null,null,null,"",{"$f":"IF(AND(F213>0,G213>0,H213>0,I213>0,J213>0),AVERAGE($K$12:K213),\"\")","v":""},"","","","","","","","","",null,null,"",{"$error":"#UNKNOWN!"},"",""]
[203,null,null,null,null,null,null,null,null,null,"",{"$f":"IF(AND(F214>0,G214>0,H214>0,I214>0,J214>0),AVERAGE($K$12:K214),\"\")","v":""},"","","","","","","","","",null,null,"",{"$error":"#UNKNOWN!"},"",""]
[204,null,null,null,null,null,null,null,null,null,"",{"$f":"IF(AND(F215>0,G215>0,H215>0,I215>0,J215>0),AVERAGE($K$12:K215),\"\")","v":""},"","","","","","","","","",null,null,"",{"$error":"#UNKNOWN!"},"",""]
[205,null,null,null,null,null,null,null,null,null,"",{"$f":"IF(AND(F216>0,G216>0,H216>0,I216>0,J216>0),AVERAGE($K$12:K216),\"\")","v":""},"","","","","","","","","",null,null,"",{"$error":"#UNKNOWN!"},"",""]
[206,null,null,null,null,null,null,null,null,null,"",{"$f":"IF(AND(F217>0,G217>0,H217>0,I217>0,J217>0),AVERAGE($K$12:K217),\"\")","v":""},"","","","","","","","","",null,null,"",{"$error":"#UNKNOWN!"},"",""]
[207,null,null,null,null,null,null,null,null,null,"",{"$f":"IF(AND(F218>0,G218>0,H218>0,I218>0,J218>0),AVERAGE($K$12:K218),\"\")","v":""},"","","","","","","","","",null,null,"",{"$error":"#UNKNOWN!"},"",""]
[208,null,null,null,null,null,null,null,null,null,"",{"$f":"IF(AND(F219>0,G219>0,H219>0,I219>0,J219>0),AVERAGE($K$12:K219),\"\")","v":""},"","","","","","","","","",null,null,"",{"$error":"#UNKNOWN!"},"",""]
[209,null,null,null,null,null,null,null,null,null,"",{"$f":"IF(AND(F220>0,G220>0,H220>0,I220>0,J220>0),AVERAGE($K$12:K220),\"\")","v":""},"","","","","","","","","",null,null,"",{"$error":"#UNKNOWN!"},"",""]
[210,null,null,null,null,null,null,null,null,null,"",{"$f":"IF(AND(F221>0,G221>0,H221>0,I221>0,J221>0),AVERAGE($K$12:K221),\"\")","v":""},"","","","","","","","","",null,null,"",{"$error":"#UNKNOWN!"},"",""]
[211,null,null,null,null,null,null,null,null,null,"",{"$f":"IF(AND(F222>0,G222>0,H222>0,I222>0,J222>0),AVERAGE($K$12:K222),\"\")","v":""},"","","","","","","","","",null,null,"",{"$error":"#UNKNOWN!"},"",""]
[212,null,null,null,null,null,null,null,null,null,"",{"$f":"IF(AND(F223>0,G223>0,H223>0,I223>0,J223>0),AVERAGE($K$12:K223),\"\")","v":""},"","","","","","","","","",null,null,"",{"$error":"#UNKNOWN!"},"",""]
[213,null,null,null,null,null,null,null,null,null,"",{"$f":"IF(AND(F224>0,G224>0,H224>0,I224>0,J224>0),AVERAGE($K$12:K224),\"\")","v":""},"","","","","","","","","",null,null,"",{"$error":"#UNKNOWN!"},"",""]
[214,null,null,null,null,null,null,null,null,null,"",{"$f":"IF(AND(F225>0,G225>0,H225>0,I225>0,J225>0),AVERAGE($K$12:K225),\"\")","v":""},"","","","","","","","","",null,null,"",{"$error":"#UNKNOWN!"},"",""]
[215,null,null,null,null,null,null,null,null,null,"",{"$f":"IF(AND(F226>0,G226>0,H226>0,I226>0,J226>0),AVERAGE($K$12:K226),\"\")","v":""},"","","","","","","","","",null,null,"",{"$error":"#UNKNOWN!"},"",""]
[216,null,null,null,null,null,null,null,null,null,"",{"$f":"IF(AND(F227>0,G227>0,H227>0,I227>0,J227>0),AVERAGE($K$12:K227),\"\")","v":""},"","","","","","","","","",null,null,"",{"$error":"#UNKNOWN!"},"",""]
[217,null,null,null,null,null,null,null,null,null,"",{"$f":"IF(AND(F228>0,G228>0,H228>0,I228>0,J228>0),AVERAGE($K$12:K228),\"\")","v":""},"","","","","","","","","",null,null,"",{"$error":"#UNKNOWN!"},"",""]
[218,null,null,null,null,null,null,null,null,null,"",{"$f":"IF(AND(F229>0,G229>0,H229>0,I229>0,J229>0),AVERAGE($K$12:K229),\"\")","v":""},"","","","","","","","","",null,null,"",{"$error":"#UNKNOWN!"},"",""]
[219,null,null,null,null,null,null,null,null,null,"",{"$f":"IF(AND(F230>0,G230>0,H230>0,I230>0,J230>0),AVERAGE($K$12:K230),\"\")","v":""},"","","","","","","","","",null,null,"",{"$error":"#UNKNOWN!"},"",""]
[220,null,null,null,null,null,null,null,null,null,"",{"$f":"IF(AND(F231>0,G231>0,H231>0,I231>0,J231>0),AVERAGE($K$12:K231),\"\")","v":""},"","","","","","","","","",null,null,"",{"$error":"#UNKNOWN!"},"",""]
[221,null,null,null,null,null,null,null,null,null,"",{"$f":"IF(AND(F232>0,G232>0,H232>0,I232>0,J232>0),AVERAGE($K$12:K232),\"\")","v":""},"","","","","","","","","",null,null,"",{"$error":"#UNKNOWN!"},"",""]
[222,null,null,null,null,null,null,null,null,null,"",{"$f":"IF(AND(F233>0,G233>0,H233>0,I233>0,J233>0),AVERAGE($K$12:K233),\"\")","v":""},"","","","","","","","","",null,null,"",{"$error":"#UNKNOWN!"},"",""]
[223,null,null,null,null,null,null,null,null,null,"",{"$f":"IF(AND(F234>0,G234>0,H234>0,I234>0,J234>0),AVERAGE($K$12:K234),\"\")","v":""},"","","","","","","","","",null,null,"",{"$error":"#UNKNOWN!"},"",""]
[224,null,null,null,null,null,null,null,null,null,"",{"$f":"IF(AND(F235>0,G235>0,H235>0,I235>0,J235>0),AVERAGE($K$12:K235),\"\")","v":""},"","","","","","","","","",null,null,"",{"$error":"#UNKNOWN!"},"",""]
[225,null,null,null,null,null,null,null,null,null,"",{"$f":"IF(AND(F236>0,G236>0,H236>0,I236>0,J236>0),AVERAGE($K$12:K236),\"\")","v":""},"","","","","","","","","",null,null,"",{"$error":"#UNKNOWN!"},"",""]
[226,null,null,null,null,null,null,null,null,null,"",{"$f":"IF(AND(F237>0,G237>0,H237>0,I237>0,J237>0),AVERAGE($K$12:K237),\"\")","v":""},"","","","","","","","","",null,null,"",{"$error":"#UNKNOWN!"},"",""]
[227,null,null,null,null,null,null,null,null,null,"",{"$f":"IF(AND(F238>0,G238>0,H238>0,I238>0,J238>0),AVERAGE($K$12:K238),\"\")","v":""},"","","","","","","","","",null,null,"",{"$error":"#UNKNOWN!"},"",""]
[228,null,null,null,null,null,null,null,null,null,"",{"$f":"IF(AND(F239>0,G239>0,H239>0,I239>0,J239>0),AVERAGE($K$12:K239),\"\")","v":""},"","","","","","","","","",null,null,"",{"$error":"#UNKNOWN!"},"",""]
[229,null,null,null,null,null,null,null,null,null,"",{"$f":"IF(AND(F240>0,G240>0,H240>0,I240>0,J240>0),AVERAGE($K$12:K240),\"\")","v":""},"","","","","","","","","",null,null,"",{"$error":"#UNKNOWN!"},"",""]
[230,null,null,null,null,null,null,null,null,null,"",{"$f":"IF(AND(F241>0,G241>0,H241>0,I241>0,J241>0),AVERAGE($K$12:K241),\"\")","v":""},"","","","","","","","","",null,null,"",{"$error":"#UNKNOWN!"},"",""]
[231,null,null,null,null,null,null,null,null,null,"",{"$f":"IF(AND(F242>0,G242>0,H242>0,I242>0,J242>0),AVERAGE($K$12:K242),\"\")","v":""},"","","","","","","","","",null,null,"",{"$error":"#UNKNOWN!"},"",""]
[232,null,null,null,null,null,null,null,null,null,"",{"$f":"IF(AND(F243>0,G243>0,H243>0,I243>0,J243>0),AVERAGE($K$12:K243),\"\")","v":""},"","","","","","","","","",null,null,"",{"$error":"#UNKNOWN!"},"",""]
[233,null,null,null,null,null,null,null,null,null,"",{"$f":"IF(AND(F244>0,G244>0,H244>0,I244>0,J244>0),AVERAGE($K$12:K244),\"\")","v":""},"","","","","","","","","",null,null,"",{"$error":"#UNKNOWN!"},"",""]
[234,null,null,null,null,null,null,null,null,null,"",{"$f":"IF(AND(F245>0,G245>0,H245>0,I245>0,J245>0),AVERAGE($K$12:K245),\"\")","v":""},"","","","","","","","","",null,null,"",{"$error":"#UNKNOWN!"},"",""]
[235,null,null,null,null,null,null,null,null,null,"",{"$f":"IF(AND(F246>0,G246>0,H246>0,I246>0,J246>0),AVERAGE($K$12:K246),\"\")","v":""},"","","","","","","","","",null,null,"",{"$error":"#UNKNOWN!"},"",""]
[236,null,null,null,null,null,null,null,null,null,"",{"$f":"IF(AND(F247>0,G247>0,H247>0,I247>0,J247>0),AVERAGE($K$12:K247),\"\")","v":""},"","","","","","","","","",null,null,"",{"$error":"#UNKNOWN!"},"",""]
[237,null,null,null,null,null,null,null,null,null,"",{"$f":"IF(AND(F248>0,G248>0,H248>0,I248>0,J248>0),AVERAGE($K$12:K248),\"\")","v":""},"","","","","","","","","",null,null,"",{"$error":"#UNKNOWN!"},"",""]
[238,null,null,null,null,null,null,null,null,null,"",{"$f":"IF(AND(F249>0,G249>0,H249>0,I249>0,J249>0),AVERAGE($K$12:K249),\"\")","v":""},"","","","","","","","","",null,null,"",{"$error":"#UNKNOWN!"},"",""]
[239,null,null,null,null,null,null,null,null,null,"",{"$f":"IF(AND(F250>0,G250>0,H250>0,I250>0,J250>0),AVERAGE($K$12:K250),\"\")","v":""},"","","","","","","","","",null,null,"",{"$error":"#UNKNOWN!"},"",""]
[240,null,null,null,null,null,null,null,null,null,"",{"$f":"IF(AND(F251>0,G251>0,H251>0,I251>0,J251>0),AVERAGE($K$12:K251),\"\")","v":""},"","","","","","","","","",null,null,"",{"$error":"#UNKNOWN!"},"",""]
[241,null,null,null,null,null,null,null,null,null,"",{"$f":"IF(AND(F252>0,G252>0,H252>0,I252>0,J252>0),AVERAGE($K$12:K252),\"\")","v":""},"","","","","","","","","",null,null,"",{"$error":"#UNKNOWN!"},"",""]
[242,null,null,null,null,null,null,null,null,null,"",{"$f":"IF(AND(F253>0,G253>0,H253>0,I253>0,J253>0),AVERAGE($K$12:K253),\"\")","v":""},"","","","","","","","","",null,null,"",{"$error":"#UNKNOWN!"},"",""]
[243,null,null,null,null,null,null,null,null,null,"",{"$f":"IF(AND(F254>0,G254>0,H254>0,I254>0,J254>0),AVERAGE($K$12:K254),\"\")","v":""},"","","","","","","","","",null,null,"",{"$error":"#UNKNOWN!"},"",""]
[244,null,null,null,null,null,null,null,null,null,"",{"$f":"IF(AND(F255>0,G255>0,H255>0,I255>0,J255>0),AVERAGE($K$12:K255),\"\")","v":""},"","","","","","","","","",null,null,"",{"$error":"#UNKNOWN!"},"",""]
[245,null,null,null,null,null,null,null,null,null,"",{"$f":"IF(AND(F256>0,G256>0,H256>0,I256>0,J256>0),AVERAGE($K$12:K256),\"\")","v":""},"","","","","","","","","",null,null,"",{"$error":"#UNKNOWN!"},"",""]
[246,null,null,null,null,null,null,null,null,null,"",{"$f":"IF(AND(F257>0,G257>0,H257>0,I257>0,J257>0),AVERAGE($K$12:K257),\"\")","v":""},"","","","","","","","","",null,null,"",{"$error":"#UNKNOWN!"},"",""]
[247,null,null,null,null,null,null,null,null,null,"",{"$f":"IF(AND(F258>0,G258>0,H258>0,I258>0,J258>0),AVERAGE($K$12:K258),\"\")","v":""},"","","","","","","","","",null,null,"",{"$error":"#UNKNOWN!"},"",""]
[248,null,null,null,null,null,null,null,null,null,"",{"$f":"IF(AND(F259>0,G259>0,H259>0,I259>0,J259>0),AVERAGE($K$12:K259),\"\")","v":""},"","","","","","","","","",null,null,"",{"$error":"#UNKNOWN!"},"",""]
[249,null,null,null,null,null,null,null,null,null,"",{"$f":"IF(AND(F260>0,G260>0,H260>0,I260>0,J260>0),AVERAGE($K$12:K260),\"\")","v":""},"","","","","","","","","",null,null,"",{"$error":"#UNKNOWN!"},"",""]
[250,null,null,null,null,null,null,null,null,null,"",{"$f":"IF(AND(F261>0,G261>0,H261>0,I261>0,J261>0),AVERAGE($K$12:K261),\"\")","v":""},"","","","","","","","","",null,null,"",{"$error":"#UNKNOWN!"},"",""]
[251,null,null,null,null,null,null,null,null,null,"",{"$f":"IF(AND(F262>0,G262>0,H262>0,I262>0,J262>0),AVERAGE($K$12:K262),\"\")","v":""},"","","","","","","","","",null,null,"",{"$error":"#UNKNOWN!"},"",""]
[252,null,null,null,null,null,null,null,null,null,"",{"$f":"IF(AND(F263>0,G263>0,H263>0,I263>0,J263>0),AVERAGE($K$12:K263),\"\")","v":""},"","","","","","","","","",null,null,"",{"$error":"#UNKNOWN!"},"",""]
[253,null,null,null,null,null,null,null,null,null,"",{"$f":"IF(AND(F264>0,G264>0,H264>0,I264>0,J264>0),AVERAGE($K$12:K264),\"\")","v":""},"","","","","","","","","",null,null,"",{"$error":"#UNKNOWN!"},"",""]
[254,null,null,null,null,null,null,null,null,null,"",{"$f":"IF(AND(F265>0,G265>0,H265>0,I265>0,J265>0),AVERAGE($K$12:K265),\"\")","v":""},"","","","","","","","","",null,null,"",{"$error":"#UNKNOWN!"},"",""]
[255,null,null,null,null,null,null,null,null,null,"",{"$f":"IF(AND(F266>0,G266>0,H266>0,I266>0,J266>0),AVERAGE($K$12:K266),\"\")","v":""},"","","","","","","","","",null,null,"",{"$error":"#UNKNOWN!"},{"$f":"IF($P$1=1,S266,Q266)","v":""},""]
[256,null,null,null,null,null,null,null,null,null,"",{"$f":"IF(AND(F267>0,G267>0,H267>0,I267>0,J267>0),AVERAGE($K$12:K267),\"\")","v":""},"","","","",{"$f":"IF(AND(F267>0,G267>0,H267>0,I267>0,J267>0),$E$5,\"\")","v":""},{"$f":"IF(AND(F267>0,G267>0,H267>0,I267>0,J267>0),$E$5*(-1),\"\")","v":""},{"$f":"IF(AND(F267>0,G267>0,H267>0,I267>0,J267>0),$E$6,\"\")","v":""},"",{"$f":"IFERROR(IF(ABS(M267)<=$E$5,TRUE,FALSE),\"\")","v":""},null,null,"",{"$f":"IF($P$1=1,#N/A,R267)","v":{"$error":"#UNKNOWN!"}},"",""]
[257,null,null,null,null,null,null,null,null,null,{"$f":"IF(AND(F268>0,G268>0,H268>0,I268>0,J268>0),AVERAGE(F268:J268),\"\")","v":""},{"$f":"IF(AND(F268>0,G268>0,H268>0,I268>0,J268>0),AVERAGE($K$12:K268),\"\")","v":""},{"$f":"IF(AND(F268>0,G268>0,H268>0,I268>0,J268>0),(K268-$E$4),\"\")","v":""},"",{"$f":"IF(AND(F268>0,G268>0,H268>0,I268>0,J268>0),ROUND(STDEV(F268:J268),2),\"\")","v":""},"","","","",{"$f":"IFERROR(IF(OR((ABS(N268)<=$E$6),(N268<1)),TRUE,FALSE),\"\")","v":""},"",null,null,{"$f":"IFERROR(MID(C268,SEARCH(\":\",C268)+1,10),\"\")","v":""},{"$error":"#UNKNOWN!"},"",{"$f":"IF($P$1=1,N268,M268)","v":""}]
[258,null,null,null,null,null,null,null,null,null,"",{"$f":"IF(AND(F269>0,G269>0,H269>0,I269>0,J269>0),AVERAGE($K$12:K269),\"\")","v":""},"",{"$f":"IF(AND(F269>0,G269>0,H269>0,I269>0,J269>0),MAX(F269:J269)-MIN(F269:J269),\"\")","v":""},"",{"$f":"IF(F269>0,IF(T269=FALSE,IF(U269=FALSE,\"<GA+WHP>\",\"<WHP>\"),IF(U269=FALSE,\"<GA>\",\"\")) & IF(V269=TRUE,\"<Trend>\",\"\") & IF(W269=TRUE,\"<Run>\",\"\")& IF(AND(ABS(T269+U269=2),V269+W269=0),\"OK\",\"\"),\"\")","v":""},"","","","","",null,null,"",{"$error":"#UNKNOWN!"},"",""]
[259,null,null,null,null,null,null,null,null,null,"",{"$f":"IF(AND(F270>0,G270>0,H270>0,I270>0,J270>0),AVERAGE($K$12:K270),\"\")","v":""},"","","","","","","","","",null,null,"",{"$error":"#UNKNOWN!"},"",""]
[260,null,null,null,null,null,null,null,null,null,"",{"$f":"IF(AND(F271>0,G271>0,H271>0,I271>0,J271>0),AVERAGE($K$12:K271),\"\")","v":""},"","","","","","","","","",null,null,"",{"$error":"#UNKNOWN!"},"",""]
[261,null,null,null,null,null,null,null,null,null,"",{"$f":"IF(AND(F272>0,G272>0,H272>0,I272>0,J272>0),AVERAGE($K$12:K272),\"\")","v":""},"","","","","","","","","",null,null,"",{"$error":"#UNKNOWN!"},"",""]
[262,null,null,null,null,null,null,null,null,null,"",{"$f":"IF(AND(F273>0,G273>0,H273>0,I273>0,J273>0),AVERAGE($K$12:K273),\"\")","v":""},"","","","","","","","","",{"$f":"OR(AND(K273>K272,K272>K271,K271>K270,K270>K269,K269>K268,K268>K267),AND(K273<K272,K272<K271,K271<K270,K270<K269,K269<K268,K268<K267))","v":null},{"$f":"OR(AND(K273>L273,K272>L273,K271>L273,K270>L273,K269>L273,K268>L273,K267>L273),AND(K273<L273,K272<L273,K271<L273,K270<L273,K269<L273,K268<L273,K267<L273))","v":null},"",{"$error":"#UNKNOWN!"},"",""]
[263,null,null,null,null,null,null,null,null,null,"",{"$f":"IF(AND(F274>0,G274>0,H274>0,I274>0,J274>0),AVERAGE($K$12:K274),\"\")","v":""},"","","","","","","","","",null,null,"",{"$error":"#UNKNOWN!"},"",""]
[264,null,null,null,null,null,null,null,null,null,"",{"$f":"IF(AND(F275>0,G275>0,H275>0,I275>0,J275>0),AVERAGE($K$12:K275),\"\")","v":""},"","","","","","","","","",null,null,"",{"$error":"#UNKNOWN!"},"",""]
[265,null,null,null,null,null,null,null,null,null,"",{"$f":"IF(AND(F276>0,G276>0,H276>0,I276>0,J276>0),AVERAGE($K$12:K276),\"\")","v":""},"","","","","","","","","",null,null,"",{"$error":"#UNKNOWN!"},"",""]
[266,null,null,null,null,null,null,null,null,null,"",{"$f":"IF(AND(F277>0,G277>0,H277>0,I277>0,J277>0),AVERAGE($K$12:K277),\"\")","v":""},"","","","","","","","","",null,null,"",{"$error":"#UNKNOWN!"},"",""]
[267,null,null,null,null,null,null,null,null,null,"",{"$f":"IF(AND(F278>0,G278>0,H278>0,I278>0,J278>0),AVERAGE($K$12:K278),\"\")","v":""},"","","","","","","","","",null,null,"",{"$error":"#UNKNOWN!"},"",""]
[268,null,null,null,null,null,null,null,null,null,"",{"$f":"IF(AND(F279>0,G279>0,H279>0,I279>0,J279>0),AVERAGE($K$12:K279),\"\")","v":""},"","","","","","","","","",null,null,"",{"$error":"#UNKNOWN!"},"",""]
[269,null,null,null,null,null,null,null,null,null,"",{"$f":"IF(AND(F280>0,G280>0,H280>0,I280>0,J280>0),AVERAGE($K$12:K280),\"\")","v":""},"","","","","","","","","",null,null,"",{"$error":"#UNKNOWN!"},"",""]
[270,null,null,null,null,null,null,null,null,null,"",{"$f":"IF(AND(F281>0,G281>0,H281>0,I281>0,J281>0),AVERAGE($K$12:K281),\"\")","v":""},"","","","","","","","","",null,null,"",{"$error":"#UNKNOWN!"},"",""]
[271,null,null,null,null,null,null,null,null,null,"",{"$f":"IF(AND(F282>0,G282>0,H282>0,I282>0,J282>0),AVERAGE($K$12:K282),\"\")","v":""},"","","","","","","","","",null,null,"",{"$error":"#UNKNOWN!"},"",""]
[272,null,null,null,null,null,null,null,null,null,"",{"$f":"IF(AND(F283>0,G283>0,H283>0,I283>0,J283>0),AVERAGE($K$12:K283),\"\")","v":""},"","","","","","","","","",null,null,"",{"$error":"#UNKNOWN!"},"",""]
[273,null,null,null,null,null,null,null,null,null,"",{"$f":"IF(AND(F284>0,G284>0,H284>0,I284>0,J284>0),AVERAGE($K$12:K284),\"\")","v":""},"","","","","","","","","",null,null,"",{"$error":"#UNKNOWN!"},"",""]
[274,null,null,null,null,null,null,null,null,null,"",{"$f":"IF(AND(F285>0,G285>0,H285>0,I285>0,J285>0),AVERAGE($K$12:K285),\"\")","v":""},"","","","","","","","","",null,null,"",{"$error":"#UNKNOWN!"},"",""]
[275,null,null,null,null,null,null,null,null,null,"",{"$f":"IF(AND(F286>0,G286>0,H286>0,I286>0,J286>0),AVERAGE($K$12:K286),\"\")","v":""},"","","","","","","","","",null,null,"",{"$error":"#UNKNOWN!"},"",""]
[276,null,null,null,null,null,null,null,null,null,"",{"$f":"IF(AND(F287>0,G287>0,H287>0,I287>0,J287>0),AVERAGE($K$12:K287),\"\")","v":""},"","","","","","","","","",null,null,"",{"$error":"#UNKNOWN!"},"",""]
[277,null,null,null,null,null,null,null,null,null,"",{"$f":"IF(AND(F288>0,G288>0,H288>0,I288>0,J288>0),AVERAGE($K$12:K288),\"\")","v":""},"","","","","","","","","",null,null,"",{"$error":"#UNKNOWN!"},"",""]
[278,null,null,null,null,null,null,null,null,null,"",{"$f":"IF(AND(F289>0,G289>0,H289>0,I289>0,J289>0),AVERAGE($K$12:K289),\"\")","v":""},"","","","","","","","","",null,null,"",{"$error":"#UNKNOWN!"},"",""]
[279,null,null,null,null,null,null,null,null,null,"",{"$f":"IF(AND(F290>0,G290>0,H290>0,I290>0,J290>0),AVERAGE($K$12:K290),\"\")","v":""},"","","","","","","","","",null,null,"",{"$error":"#UNKNOWN!"},"",""]
[280,null,null,null,null,null,null,null,null,null,"",{"$f":"IF(AND(F291>0,G291>0,H291>0,I291>0,J291>0),AVERAGE($K$12:K291),\"\")","v":""},"","","","","","","","","",null,null,"",{"$error":"#UNKNOWN!"},"",""]
[281,null,null,null,null,null,null,null,null,null,"",{"$f":"IF(AND(F292>0,G292>0,H292>0,I292>0,J292>0),AVERAGE($K$12:K292),\"\")","v":""},"","","","","","","","","",null,null,"",{"$error":"#UNKNOWN!"},"",""]
[282,null,null,null,null,null,null,null,null,null,"",{"$f":"IF(AND(F293>0,G293>0,H293>0,I293>0,J293>0),AVERAGE($K$12:K293),\"\")","v":""},"","","","","","","","","",null,null,"",{"$error":"#UNKNOWN!"},"",""]
[283,null,null,null,null,null,null,null,null,null,"",{"$f":"IF(AND(F294>0,G294>0,H294>0,I294>0,J294>0),AVERAGE($K$12:K294),\"\")","v":""},"","","","","","","","","",null,null,"",{"$error":"#UNKNOWN!"},"",""]
[284,null,null,null,null,null,null,null,null,null,"",{"$f":"IF(AND(F295>0,G295>0,H295>0,I295>0,J295>0),AVERAGE($K$12:K295),\"\")","v":""},"","","","","","","","","",null,null,"",{"$error":"#UNKNOWN!"},"",""]
[285,null,null,null,null,null,null,null,null,null,"",{"$f":"IF(AND(F296>0,G296>0,H296>0,I296>0,J296>0),AVERAGE($K$12:K296),\"\")","v":""},"","","","","","","","","",null,null,"",{"$error":"#UNKNOWN!"},"",""]
[286,null,null,null,null,null,null,null,null,null,"",{"$f":"IF(AND(F297>0,G297>0,H297>0,I297>0,J297>0),AVERAGE($K$12:K297),\"\")","v":""},"","","","","","","","","",null,null,"",{"$error":"#UNKNOWN!"},"",""]
[287,null,null,null,null,null,null,null,null,null,"",{"$f":"IF(AND(F298>0,G298>0,H298>0,I298>0,J298>0),AVERAGE($K$12:K298),\"\")","v":""},"","","","","","","","","",null,null,"",{"$error":"#UNKNOWN!"},"",""]
[288,null,null,null,null,null,null,null,null,null,"",{"$f":"IF(AND(F299>0,G299>0,H299>0,I299>0,J299>0),AVERAGE($K$12:K299),\"\")","v":""},"","","","","","","","","",null,null,"",{"$error":"#UNKNOWN!"},"",""]
[289,null,null,null,null,null,null,null,null,null,"",{"$f":"IF(AND(F300>0,G300>0,H300>0,I300>0,J300>0),AVERAGE($K$12:K300),\"\")","v":""},"","","","","","","","","",null,null,"",{"$error":"#UNKNOWN!"},"",""]
[290,null,null,null,null,null,null,null,null,null,"",{"$f":"IF(AND(F301>0,G301>0,H301>0,I301>0,J301>0),AVERAGE($K$12:K301),\"\")","v":""},"","","","","","","","","",null,null,"",{"$error":"#UNKNOWN!"},"",""]
[291,null,null,null,null,null,null,null,null,null,"",{"$f":"IF(AND(F302>0,G302>0,H302>0,I302>0,J302>0),AVERAGE($K$12:K302),\"\")","v":""},"","","","","","","","","",null,null,"",{"$error":"#UNKNOWN!"},"",""]
[292,null,null,null,null,null,null,null,null,null,"",{"$f":"IF(AND(F303>0,G303>0,H303>0,I303>0,J303>0),AVERAGE($K$12:K303),\"\")","v":""},"","","","","","","","","",null,null,"",{"$error":"#UNKNOWN!"},"",""]
[293,null,null,null,null,null,null,null,null,null,"",{"$f":"IF(AND(F304>0,G304>0,H304>0,I304>0,J304>0),AVERAGE($K$12:K304),\"\")","v":""},"","","","","","","","","",null,null,"",{"$error":"#UNKNOWN!"},"",""]
[294,null,null,null,null,null,null,null,null,null,"",{"$f":"IF(AND(F305>0,G305>0,H305>0,I305>0,J305>0),AVERAGE($K$12:K305),\"\")","v":""},"","","","","","","","","",null,null,"",{"$error":"#UNKNOWN!"},"",""]
[295,null,null,null,null,null,null,null,null,null,"",{"$f":"IF(AND(F306>0,G306>0,H306>0,I306>0,J306>0),AVERAGE($K$12:K306),\"\")","v":""},"","","","","","","","","",null,null,"",{"$error":"#UNKNOWN!"},"",""]
[296,null,null,null,null,null,null,null,null,null,"",{"$f":"IF(AND(F307>0,G307>0,H307>0,I307>0,J307>0),AVERAGE($K$12:K307),\"\")","v":""},"","","","","","","","","",null,null,"",{"$error":"#UNKNOWN!"},"",""]
[297,null,null,null,null,null,null,null,null,null,"",{"$f":"IF(AND(F308>0,G308>0,H308>0,I308>0,J308>0),AVERAGE($K$12:K308),\"\")","v":""},"","","","","","","","","",null,null,"",{"$error":"#UNKNOWN!"},"",""]
[298,null,null,null,null,null,null,null,null,null,"",{"$f":"IF(AND(F309>0,G309>0,H309>0,I309>0,J309>0),AVERAGE($K$12:K309),\"\")","v":""},"","","","","","","","","",null,null,"",{"$error":"#UNKNOWN!"},"",""]
[299,null,null,null,null,null,null,null,null,null,"",{"$f":"IF(AND(F310>0,G310>0,H310>0,I310>0,J310>0),AVERAGE($K$12:K310),\"\")","v":""},"","","","","","","","","",null,null,"",{"$error":"#UNKNOWN!"},"",""]
[300,null,null,null,null,null,null,null,null,null,"",{"$f":"IF(AND(F311>0,G311>0,H311>0,I311>0,J311>0),AVERAGE($K$12:K311),\"\")","v":""},"","","","","","","","","",null,null,"",{"$error":"#UNKNOWN!"},"",""]
[301,null,null,null,null,null,null,null,null,null,"",{"$f":"IF(AND(F312>0,G312>0,H312>0,I312>0,J312>0),AVERAGE($K$12:K312),\"\")","v":""},"","","","","","","","","",null,null,"",{"$error":"#UNKNOWN!"},"",""]
[302,null,null,null,null,null,null,null,null,null,"",{"$f":"IF(AND(F313>0,G313>0,H313>0,I313>0,J313>0),AVERAGE($K$12:K313),\"\")","v":""},"","","","","","","","","",null,null,"",{"$error":"#UNKNOWN!"},"",""]
[303,null,null,null,null,null,null,null,null,null,"",{"$f":"IF(AND(F314>0,G314>0,H314>0,I314>0,J314>0),AVERAGE($K$12:K314),\"\")","v":""},"","","","","","","","","",null,null,"",{"$error":"#UNKNOWN!"},"",""]
[304,null,null,null,null,null,null,null,null,null,"",{"$f":"IF(AND(F315>0,G315>0,H315>0,I315>0,J315>0),AVERAGE($K$12:K315),\"\")","v":""},"","","","","","","","","",null,null,"",{"$error":"#UNKNOWN!"},"",""]
[305,null,null,null,null,null,null,null,null,null,"",{"$f":"IF(AND(F316>0,G316>0,H316>0,I316>0,J316>0),AVERAGE($K$12:K316),\"\")","v":""},"","","","","","","","","",null,null,"",{"$error":"#UNKNOWN!"},"",""]
[306,null,null,null,null,null,null,null,null,null,"",{"$f":"IF(AND(F317>0,G317>0,H317>0,I317>0,J317>0),AVERAGE($K$12:K317),\"\")","v":""},"","","","","","","","","",null,null,"",{"$error":"#UNKNOWN!"},"",""]
[307,null,null,null,null,null,null,null,null,null,"",{"$f":"IF(AND(F318>0,G318>0,H318>0,I318>0,J318>0),AVERAGE($K$12:K318),\"\")","v":""},"","","","","","","","","",null,null,"",{"$error":"#UNKNOWN!"},"",""]
[308,null,null,null,null,null,null,null,null,null,"",{"$f":"IF(AND(F319>0,G319>0,H319>0,I319>0,J319>0),AVERAGE($K$12:K319),\"\")","v":""},"","","","","","","","","",null,null,"",{"$error":"#UNKNOWN!"},"",""]
[309,null,null,null,null,null,null,null,null,null,"",{"$f":"IF(AND(F320>0,G320>0,H320>0,I320>0,J320>0),AVERAGE($K$12:K320),\"\")","v":""},"","","","","","","","","",null,null,"",{"$error":"#UNKNOWN!"},"",""]
[310,null,null,null,null,null,null,null,null,null,"",{"$f":"IF(AND(F321>0,G321>0,H321>0,I321>0,J321>0),AVERAGE($K$12:K321),\"\")","v":""},"","","","","","","","","",null,null,"",{"$error":"#UNKNOWN!"},"",""]
[311,null,null,null,null,null,null,null,null,null,"",{"$f":"IF(AND(F322>0,G322>0,H322>0,I322>0,J322>0),AVERAGE($K$12:K322),\"\")","v":""},"","","","","","","","","",null,null,"",{"$error":"#UNKNOWN!"},"",""]
[312,null,null,null,null,null,null,null,null,null,"",{"$f":"IF(AND(F323>0,G323>0,H323>0,I323>0,J323>0),AVERAGE($K$12:K323),\"\")","v":""},"","","","","","","","","",null,null,"",{"$error":"#UNKNOWN!"},"",""]
[313,null,null,null,null,null,null,null,null,null,"",{"$f":"IF(AND(F324>0,G324>0,H324>0,I324>0,J324>0),AVERAGE($K$12:K324),\"\")","v":""},"","","","","","","","","",null,null,"",{"$error":"#UNKNOWN!"},"",""]
[314,null,null,null,null,null,null,null,null,null,"",{"$f":"IF(AND(F325>0,G325>0,H325>0,I325>0,J325>0),AVERAGE($K$12:K325),\"\")","v":""},"","","","","","","","","",null,null,"",{"$error":"#UNKNOWN!"},"",""]
[315,null,null,null,null,null,null,null,null,null,"",{"$f":"IF(AND(F326>0,G326>0,H326>0,I326>0,J326>0),AVERAGE($K$12:K326),\"\")","v":""},"","","","","","","","","",null,null,"",{"$error":"#UNKNOWN!"},"",""]
[316,null,null,null,null,null,null,null,null,null,"",{"$f":"IF(AND(F327>0,G327>0,H327>0,I327>0,J327>0),AVERAGE($K$12:K327),\"\")","v":""},"","","","","","","","","",null,null,"",{"$error":"#UNKNOWN!"},"",""]
[317,null,null,null,null,null,null,null,null,null,"",{"$f":"IF(AND(F328>0,G328>0,H328>0,I328>0,J328>0),AVERAGE($K$12:K328),\"\")","v":""},"","","","","","","","","",null,null,"",{"$error":"#UNKNOWN!"},"",""]
[318,null,null,null,null,null,null,null,null,null,"",{"$f":"IF(AND(F329>0,G329>0,H329>0,I329>0,J329>0),AVERAGE($K$12:K329),\"\")","v":""},"","","","","","","","","",null,null,"",{"$error":"#UNKNOWN!"},"",""]
[319,null,null,null,null,null,null,null,null,null,"",{"$f":"IF(AND(F330>0,G330>0,H330>0,I330>0,J330>0),AVERAGE($K$12:K330),\"\")","v":""},"","","","","","","","","",null,null,"",{"$error":"#UNKNOWN!"},{"$f":"IF($P$1=1,S330,Q330)","v":""},""]
[320,null,null,null,null,null,null,null,null,null,"",{"$f":"IF(AND(F331>0,G331>0,H331>0,I331>0,J331>0),AVERAGE($K$12:K331),\"\")","v":""},"","","","",{"$f":"IF(AND(F331>0,G331>0,H331>0,I331>0,J331>0),$E$5,\"\")","v":""},{"$f":"IF(AND(F331>0,G331>0,H331>0,I331>0,J331>0),$E$5*(-1),\"\")","v":""},{"$f":"IF(AND(F331>0,G331>0,H331>0,I331>0,J331>0),$E$6,\"\")","v":""},"",{"$f":"IFERROR(IF(ABS(M331)<=$E$5,TRUE,FALSE),\"\")","v":""},null,null,"",{"$f":"IF($P$1=1,#N/A,R331)","v":{"$error":"#UNKNOWN!"}},"",""]
[321,null,null,null,null,null,null,null,null,null,{"$f":"IF(AND(F332>0,G332>0,H332>0,I332>0,J332>0),AVERAGE(F332:J332),\"\")","v":""},{"$f":"IF(AND(F332>0,G332>0,H332>0,I332>0,J332>0),AVERAGE($K$12:K332),\"\")","v":""},{"$f":"IF(AND(F332>0,G332>0,H332>0,I332>0,J332>0),(K332-$E$4),\"\")","v":""},"",{"$f":"IF(AND(F332>0,G332>0,H332>0,I332>0,J332>0),ROUND(STDEV(F332:J332),2),\"\")","v":""},"","","","",{"$f":"IFERROR(IF(OR((ABS(N332)<=$E$6),(N332<1)),TRUE,FALSE),\"\")","v":""},"",null,null,{"$f":"IFERROR(MID(C332,SEARCH(\":\",C332)+1,10),\"\")","v":""},{"$error":"#UNKNOWN!"},"",{"$f":"IF($P$1=1,N332,M332)","v":""}]
[322,null,null,null,null,null,null,null,null,null,"",{"$f":"IF(AND(F333>0,G333>0,H333>0,I333>0,J333>0),AVERAGE($K$12:K333),\"\")","v":""},"",{"$f":"IF(AND(F333>0,G333>0,H333>0,I333>0,J333>0),MAX(F333:J333)-MIN(F333:J333),\"\")","v":""},"",{"$f":"IF(F333>0,IF(T333=FALSE,IF(U333=FALSE,\"<GA+WHP>\",\"<WHP>\"),IF(U333=FALSE,\"<GA>\",\"\")) & IF(V333=TRUE,\"<Trend>\",\"\") & IF(W333=TRUE,\"<Run>\",\"\")& IF(AND(ABS(T333+U333=2),V333+W333=0),\"OK\",\"\"),\"\")","v":""},"","","","","",null,null,"",{"$error":"#UNKNOWN!"},"",""]
[323,null,null,null,null,null,null,null,null,null,"",{"$f":"IF(AND(F334>0,G334>0,H334>0,I334>0,J334>0),AVERAGE($K$12:K334),\"\")","v":""},"","","","","","","","","",null,null,"",{"$error":"#UNKNOWN!"},"",""]
[324,null,null,null,null,null,null,null,null,null,"",{"$f":"IF(AND(F335>0,G335>0,H335>0,I335>0,J335>0),AVERAGE($K$12:K335),\"\")","v":""},"","","","","","","","","",null,null,"",{"$error":"#UNKNOWN!"},"",""]
[325,null,null,null,null,null,null,null,null,null,"",{"$f":"IF(AND(F336>0,G336>0,H336>0,I336>0,J336>0),AVERAGE($K$12:K336),\"\")","v":""},"","","","","","","","","",null,null,"",{"$error":"#UNKNOWN!"},"",""]
[326,null,null,null,null,null,null,null,null,null,"",{"$f":"IF(AND(F337>0,G337>0,H337>0,I337>0,J337>0),AVERAGE($K$12:K337),\"\")","v":""},"","","","","","","","","",{"$f":"OR(AND(K337>K336,K336>K335,K335>K334,K334>K333,K333>K332,K332>K331),AND(K337<K336,K336<K335,K335<K334,K334<K333,K333<K332,K332<K331))","v":null},{"$f":"OR(AND(K337>L337,K336>L337,K335>L337,K334>L337,K333>L337,K332>L337,K331>L337),AND(K337<L337,K336<L337,K335<L337,K334<L337,K333<L337,K332<L337,K331<L337))","v":null},"",{"$error":"#UNKNOWN!"},"",""]
[327,null,null,null,null,null,null,null,null,null,"",{"$f":"IF(AND(F338>0,G338>0,H338>0,I338>0,J338>0),AVERAGE($K$12:K338),\"\")","v":""},"","","","","","","","","",null,null,"",{"$error":"#UNKNOWN!"},"",""]
[328,null,null,null,null,null,null,null,null,null,"",{"$f":"IF(AND(F339>0,G339>0,H339>0,I339>0,J339>0),AVERAGE($K$12:K339),\"\")","v":""},"","","","","","","","","",null,null,"",{"$error":"#UNKNOWN!"},"",""]
[329,null,null,null,null,null,null,null,null,null,"",{"$f":"IF(AND(F340>0,G340>0,H340>0,I340>0,J340>0),AVERAGE($K$12:K340),\"\")","v":""},"","","","","","","","","",null,null,"",{"$error":"#UNKNOWN!"},"",""]
[330,null,null,null,null,null,null,null,null,null,"",{"$f":"IF(AND(F341>0,G341>0,H341>0,I341>0,J341>0),AVERAGE($K$12:K341),\"\")","v":""},"","","","","","","","","",null,null,"",{"$error":"#UNKNOWN!"},"",""]
[331,null,null,null,null,null,null,null,null,null,"",{"$f":"IF(AND(F342>0,G342>0,H342>0,I342>0,J342>0),AVERAGE($K$12:K342),\"\")","v":""},"","","","","","","","","",null,null,"",{"$error":"#UNKNOWN!"},"",""]
[332,null,null,null,null,null,null,null,null,null,"",{"$f":"IF(AND(F343>0,G343>0,H343>0,I343>0,J343>0),AVERAGE($K$12:K343),\"\")","v":""},"","","","","","","","","",null,null,"",{"$error":"#UNKNOWN!"},"",""]
[333,null,null,null,null,null,null,null,null,null,"",{"$f":"IF(AND(F344>0,G344>0,H344>0,I344>0,J344>0),AVERAGE($K$12:K344),\"\")","v":""},"","","","","","","","","",null,null,"",{"$error":"#UNKNOWN!"},"",""]
[334,null,null,null,null,null,null,null,null,null,"",{"$f":"IF(AND(F345>0,G345>0,H345>0,I345>0,J345>0),AVERAGE($K$12:K345),\"\")","v":""},"","","","","","","","","",null,null,"",{"$error":"#UNKNOWN!"},"",""]
[335,null,null,null,null,null,null,null,null,null,"",{"$f":"IF(AND(F346>0,G346>0,H346>0,I346>0,J346>0),AVERAGE($K$12:K346),\"\")","v":""},"","","","","","","","","",null,null,"",{"$error":"#UNKNOWN!"},"",""]
[336,null,null,null,null,null,null,null,null,null,"",{"$f":"IF(AND(F347>0,G347>0,H347>0,I347>0,J347>0),AVERAGE($K$12:K347),\"\")","v":""},"","","","","","","","","",null,null,"",{"$error":"#UNKNOWN!"},"",""]
[337,null,null,null,null,null,null,null,null,null,"",{"$f":"IF(AND(F348>0,G348>0,H348>0,I348>0,J348>0),AVERAGE($K$12:K348),\"\")","v":""},"","","","","","","","","",null,null,"",{"$error":"#UNKNOWN!"},"",""]
[338,null,null,null,null,null,null,null,null,null,"",{"$f":"IF(AND(F349>0,G349>0,H349>0,I349>0,J349>0),AVERAGE($K$12:K349),\"\")","v":""},"","","","","","","","","",null,null,"",{"$error":"#UNKNOWN!"},"",""]
[339,null,null,null,null,null,null,null,null,null,"",{"$f":"IF(AND(F350>0,G350>0,H350>0,I350>0,J350>0),AVERAGE($K$12:K350),\"\")","v":""},"","","","","","","","","",null,null,"",{"$error":"#UNKNOWN!"},"",""]
[340,null,null,null,null,null,null,null,null,null,"",{"$f":"IF(AND(F351>0,G351>0,H351>0,I351>0,J351>0),AVERAGE($K$12:K351),\"\")","v":""},"","","","","","","","","",null,null,"",{"$error":"#UNKNOWN!"},"",""]
[341,null,null,null,null,null,null,null,null,null,"",{"$f":"IF(AND(F352>0,G352>0,H352>0,I352>0,J352>0),AVERAGE($K$12:K352),\"\")","v":""},"","","","","","","","","",null,null,"",{"$error":"#UNKNOWN!"},"",""]
[342,null,null,null,null,null,null,null,null,null,"",{"$f":"IF(AND(F353>0,G353>0,H353>0,I353>0,J353>0),AVERAGE($K$12:K353),\"\")","v":""},"","","","","","","","","",null,null,"",{"$error":"#UNKNOWN!"},"",""]
[343,null,null,null,null,null,null,null,null,null,"",{"$f":"IF(AND(F354>0,G354>0,H354>0,I354>0,J354>0),AVERAGE($K$12:K354),\"\")","v":""},"","","","","","","","","",null,null,"",{"$error":"#UNKNOWN!"},"",""]
[344,null,null,null,null,null,null,null,null,null,"",{"$f":"IF(AND(F355>0,G355>0,H355>0,I355>0,J355>0),AVERAGE($K$12:K355),\"\")","v":""},"","","","","","","","","",null,null,"",{"$error":"#UNKNOWN!"},"",""]
[345,null,null,null,null,null,null,null,null,null,"",{"$f":"IF(AND(F356>0,G356>0,H356>0,I356>0,J356>0),AVERAGE($K$12:K356),\"\")","v":""},"","","","","","","","","",null,null,"",{"$error":"#UNKNOWN!"},"",""]
[346,null,null,null,null,null,null,null,null,null,"",{"$f":"IF(AND(F357>0,G357>0,H357>0,I357>0,J357>0),AVERAGE($K$12:K357),\"\")","v":""},"","","","","","","","","",null,null,"",{"$error":"#UNKNOWN!"},"",""]
[347,null,null,null,null,null,null,null,null,null,"",{"$f":"IF(AND(F358>0,G358>0,H358>0,I358>0,J358>0),AVERAGE($K$12:K358),\"\")","v":""},"","","","","","","","","",null,null,"",{"$error":"#UNKNOWN!"},"",""]
[348,null,null,null,null,null,null,null,null,null,"",{"$f":"IF(AND(F359>0,G359>0,H359>0,I359>0,J359>0),AVERAGE($K$12:K359),\"\")","v":""},"","","","","","","","","",null,null,"",{"$error":"#UNKNOWN!"},"",""]
[349,null,null,null,null,null,null,null,null,null,"",{"$f":"IF(AND(F360>0,G360>0,H360>0,I360>0,J360>0),AVERAGE($K$12:K360),\"\")","v":""},"","","","","","","","","",null,null,"",{"$error":"#UNKNOWN!"},"",""]
[350,null,null,null,null,null,null,null,null,null,"",{"$f":"IF(AND(F361>0,G361>0,H361>0,I361>0,J361>0),AVERAGE($K$12:K361),\"\")","v":""},"","","","","","","","","",null,null,"",{"$error":"#UNKNOWN!"},"",""]
[351,null,null,null,null,null,null,null,null,null,"",{"$f":"IF(AND(F362>0,G362>0,H362>0,I362>0,J362>0),AVERAGE($K$12:K362),\"\")","v":""},"","","","","","","","","",null,null,"",{"$error":"#UNKNOWN!"},"",""]
[352,null,null,null,null,null,null,null,null,null,"",{"$f":"IF(AND(F363>0,G363>0,H363>0,I363>0,J363>0),AVERAGE($K$12:K363),\"\")","v":""},"","","","","","","","","",null,null,"",{"$error":"#UNKNOWN!"},"",""]
[353,null,null,null,null,null,null,null,null,null,"",{"$f":"IF(AND(F364>0,G364>0,H364>0,I364>0,J364>0),AVERAGE($K$12:K364),\"\")","v":""},"","","","","","","","","",null,null,"",{"$error":"#UNKNOWN!"},"",""]
[354,null,null,null,null,null,null,null,null,null,"",{"$f":"IF(AND(F365>0,G365>0,H365>0,I365>0,J365>0),AVERAGE($K$12:K365),\"\")","v":""},"","","","","","","","","",null,null,"",{"$error":"#UNKNOWN!"},"",""]
[355,null,null,null,null,null,null,null,null,null,"",{"$f":"IF(AND(F366>0,G366>0,H366>0,I366>0,J366>0),AVERAGE($K$12:K366),\"\")","v":""},"","","","","","","","","",null,null,"",{"$error":"#UNKNOWN!"},"",""]
[356,null,null,null,null,null,null,null,null,null,"",{"$f":"IF(AND(F367>0,G367>0,H367>0,I367>0,J367>0),AVERAGE($K$12:K367),\"\")","v":""},"","","","","","","","","",null,null,"",{"$error":"#UNKNOWN!"},"",""]
[357,null,null,null,null,null,null,null,null,null,"",{"$f":"IF(AND(F368>0,G368>0,H368>0,I368>0,J368>0),AVERAGE($K$12:K368),\"\")","v":""},"","","","","","","","","",null,null,"",{"$error":"#UNKNOWN!"},"",""]
[358,null,null,null,null,null,null,null,null,null,"",{"$f":"IF(AND(F369>0,G369>0,H369>0,I369>0,J369>0),AVERAGE($K$12:K369),\"\")","v":""},"","","","","","","","","",null,null,"",{"$error":"#UNKNOWN!"},"",""]
[359,null,null,null,null,null,null,null,null,null,"",{"$f":"IF(AND(F370>0,G370>0,H370>0,I370>0,J370>0),AVERAGE($K$12:K370),\"\")","v":""},"","","","","","","","","",null,null,"",{"$error":"#UNKNOWN!"},"",""]
[360,null,null,null,null,null,null,null,null,null,"",{"$f":"IF(AND(F371>0,G371>0,H371>0,I371>0,J371>0),AVERAGE($K$12:K371),\"\")","v":""},"","","","","","","","","",null,null,"",{"$error":"#UNKNOWN!"},"",""]
[361,null,null,null,null,null,null,null,null,null,"",{"$f":"IF(AND(F372>0,G372>0,H372>0,I372>0,J372>0),AVERAGE($K$12:K372),\"\")","v":""},"","","","","","","","","",null,null,"",{"$error":"#UNKNOWN!"},"",""]
[362,null,null,null,null,null,null,null,null,null,"",{"$f":"IF(AND(F373>0,G373>0,H373>0,I373>0,J373>0),AVERAGE($K$12:K373),\"\")","v":""},"","","","","","","","","",null,null,"",{"$error":"#UNKNOWN!"},"",""]
[363,null,null,null,null,null,null,null,null,null,"",{"$f":"IF(AND(F374>0,G374>0,H374>0,I374>0,J374>0),AVERAGE($K$12:K374),\"\")","v":""},"","","","","","","","","",null,null,"",{"$error":"#UNKNOWN!"},"",""]
[364,null,null,null,null,null,null,null,null,null,"",{"$f":"IF(AND(F375>0,G375>0,H375>0,I375>0,J375>0),AVERAGE($K$12:K375),\"\")","v":""},"","","","","","","","","",null,null,"",{"$error":"#UNKNOWN!"},"",""]
[365,null,null,null,null,null,null,null,null,null,"",{"$f":"IF(AND(F376>0,G376>0,H376>0,I376>0,J376>0),AVERAGE($K$12:K376),\"\")","v":""},"","","","","","","","","",null,null,"",{"$error":"#UNKNOWN!"},"",""]
[366,null,null,null,null,null,null,null,null,null,"",{"$f":"IF(AND(F377>0,G377>0,H377>0,I377>0,J377>0),AVERAGE($K$12:K377),\"\")","v":""},"","","","","","","","","",null,null,"",{"$error":"#UNKNOWN!"},"",""]
[367,null,null,null,null,null,null,null,null,null,"",{"$f":"IF(AND(F378>0,G378>0,H378>0,I378>0,J378>0),AVERAGE($K$12:K378),\"\")","v":""},"","","","","","","","","",null,null,"",{"$error":"#UNKNOWN!"},"",""]
[368,null,null,null,null,null,null,null,null,null,"",{"$f":"IF(AND(F379>0,G379>0,H379>0,I379>0,J379>0),AVERAGE($K$12:K379),\"\")","v":""},"","","","","","","","","",null,null,"",{"$error":"#UNKNOWN!"},"",""]
[369,null,null,null,null,null,null,null,null,null,"",{"$f":"IF(AND(F380>0,G380>0,H380>0,I380>0,J380>0),AVERAGE($K$12:K380),\"\")","v":""},"","","","","","","","","",null,null,"",{"$error":"#UNKNOWN!"},"",""]
[370,null,null,null,null,null,null,null,null,null,"",{"$f":"IF(AND(F381>0,G381>0,H381>0,I381>0,J381>0),AVERAGE($K$12:K381),\"\")","v":""},"","","","","","","","","",null,null,"",{"$error":"#UNKNOWN!"},"",""]
[371,null,null,null,null,null,null,null,null,null,"",{"$f":"IF(AND(F382>0,G382>0,H382>0,I382>0,J382>0),AVERAGE($K$12:K382),\"\")","v":""},"","","","","","","","","",null,null,"",{"$error":"#UNKNOWN!"},"",""]
[372,null,null,null,null,null,null,null,null,null,"",{"$f":"IF(AND(F383>0,G383>0,H383>0,I383>0,J383>0),AVERAGE($K$12:K383),\"\")","v":""},"","","","","","","","","",null,null,"",{"$error":"#UNKNOWN!"},"",""]
[373,null,null,null,null,null,null,null,null,null,"",{"$f":"IF(AND(F384>0,G384>0,H384>0,I384>0,J384>0),AVERAGE($K$12:K384),\"\")","v":""},"","","","","","","","","",null,null,"",{"$error":"#UNKNOWN!"},"",""]
[374,null,null,null,null,null,null,null,null,null,"",{"$f":"IF(AND(F385>0,G385>0,H385>0,I385>0,J385>0),AVERAGE($K$12:K385),\"\")","v":""},"","","","","","","","","",null,null,"",{"$error":"#UNKNOWN!"},"",""]
[375,null,null,null,null,null,null,null,null,null,"",{"$f":"IF(AND(F386>0,G386>0,H386>0,I386>0,J386>0),AVERAGE($K$12:K386),\"\")","v":""},"","","","","","","","","",null,null,"",{"$error":"#UNKNOWN!"},"",""]
[376,null,null,null,null,null,null,null,null,null,"",{"$f":"IF(AND(F387>0,G387>0,H387>0,I387>0,J387>0),AVERAGE($K$12:K387),\"\")","v":""},"","","","","","","","","",null,null,"",{"$error":"#UNKNOWN!"},"",""]
[377,null,null,null,null,null,null,null,null,null,"",{"$f":"IF(AND(F388>0,G388>0,H388>0,I388>0,J388>0),AVERAGE($K$12:K388),\"\")","v":""},"","","","","","","","","",null,null,"",{"$error":"#UNKNOWN!"},"",""]
[378,null,null,null,null,null,null,null,null,null,"",{"$f":"IF(AND(F389>0,G389>0,H389>0,I389>0,J389>0),AVERAGE($K$12:K389),\"\")","v":""},"","","","","","","","","",null,null,"",{"$error":"#UNKNOWN!"},"",""]
[379,null,null,null,null,null,null,null,null,null,"",{"$f":"IF(AND(F390>0,G390>0,H390>0,I390>0,J390>0),AVERAGE($K$12:K390),\"\")","v":""},"","","","","","","","","",null,null,"",{"$error":"#UNKNOWN!"},"",""]
[380,null,null,null,null,null,null,null,null,null,"",{"$f":"IF(AND(F391>0,G391>0,H391>0,I391>0,J391>0),AVERAGE($K$12:K391),\"\")","v":""},"","","","","","","","","",null,null,"",{"$error":"#UNKNOWN!"},"",""]
[381,null,null,null,null,null,null,null,null,null,"",{"$f":"IF(AND(F392>0,G392>0,H392>0,I392>0,J392>0),AVERAGE($K$12:K392),\"\")","v":""},"","","","","","","","","",null,null,"",{"$error":"#UNKNOWN!"},"",""]
[382,null,null,null,null,null,null,null,null,null,"",{"$f":"IF(AND(F393>0,G393>0,H393>0,I393>0,J393>0),AVERAGE($K$12:K393),\"\")","v":""},"","","","","","","","","",null,null,"",{"$error":"#UNKNOWN!"},"",""]
[383,null,null,null,null,null,null,null,null,null,"",{"$f":"IF(AND(F394>0,G394>0,H394>0,I394>0,J394>0),AVERAGE($K$12:K394),\"\")","v":""},"","","","","","","","","",null,null,"",{"$error":"#UNKNOWN!"},{"$f":"IF($P$1=1,S394,Q394)","v":""},""]
[384,null,null,null,null,null,null,null,null,null,"",{"$f":"IF(AND(F395>0,G395>0,H395>0,I395>0,J395>0),AVERAGE($K$12:K395),\"\")","v":""},"","","","",{"$f":"IF(AND(F395>0,G395>0,H395>0,I395>0,J395>0),$E$5,\"\")","v":""},{"$f":"IF(AND(F395>0,G395>0,H395>0,I395>0,J395>0),$E$5*(-1),\"\")","v":""},{"$f":"IF(AND(F395>0,G395>0,H395>0,I395>0,J395>0),$E$6,\"\")","v":""},"",{"$f":"IFERROR(IF(ABS(M395)<=$E$5,TRUE,FALSE),\"\")","v":""},null,null,"",{"$f":"IF($P$1=1,#N/A,R395)","v":{"$error":"#UNKNOWN!"}},"",""]
[385,null,null,null,null,null,null,null,null,null,{"$f":"IF(AND(F396>0,G396>0,H396>0,I396>0,J396>0),AVERAGE(F396:J396),\"\")","v":""},{"$f":"IF(AND(F396>0,G396>0,H396>0,I396>0,J396>0),AVERAGE($K$12:K396),\"\")","v":""},{"$f":"IF(AND(F396>0,G396>0,H396>0,I396>0,J396>0),(K396-$E$4),\"\")","v":""},"",{"$f":"IF(AND(F396>0,G396>0,H396>0,I396>0,J396>0),ROUND(STDEV(F396:J396),2),\"\")","v":""},"","","","",{"$f":"IFERROR(IF(OR((ABS(N396)<=$E$6),(N396<1)),TRUE,FALSE),\"\")","v":""},"",null,null,{"$f":"IFERROR(MID(C396,SEARCH(\":\",C396)+1,10),\"\")","v":""},{"$error":"#UNKNOWN!"},"",{"$f":"IF($P$1=1,N396,M396)","v":""}]
[386,null,null,null,null,null,null,null,null,null,"",{"$f":"IF(AND(F397>0,G397>0,H397>0,I397>0,J397>0),AVERAGE($K$12:K397),\"\")","v":""},"",{"$f":"IF(AND(F397>0,G397>0,H397>0,I397>0,J397>0),MAX(F397:J397)-MIN(F397:J397),\"\")","v":""},"",{"$f":"IF(F397>0,IF(T397=FALSE,IF(U397=FALSE,\"<GA+WHP>\",\"<WHP>\"),IF(U397=FALSE,\"<GA>\",\"\")) & IF(V397=TRUE,\"<Trend>\",\"\") & IF(W397=TRUE,\"<Run>\",\"\")& IF(AND(ABS(T397+U397=2),V397+W397=0),\"OK\",\"\"),\"\")","v":""},"","","","","",null,null,"",{"$error":"#UNKNOWN!"},"",""]
[387,null,null,null,null,null,null,null,null,null,"",{"$f":"IF(AND(F398>0,G398>0,H398>0,I398>0,J398>0),AVERAGE($K$12:K398),\"\")","v":""},"","","","","","","","","",null,null,"",{"$error":"#UNKNOWN!"},"",""]
[388,null,null,null,null,null,null,null,null,null,"",{"$f":"IF(AND(F399>0,G399>0,H399>0,I399>0,J399>0),AVERAGE($K$12:K399),\"\")","v":""},"","","","","","","","","",null,null,"",{"$error":"#UNKNOWN!"},"",""]
[389,null,null,null,null,null,null,null,null,null,"",{"$f":"IF(AND(F400>0,G400>0,H400>0,I400>0,J400>0),AVERAGE($K$12:K400),\"\")","v":""},"","","","","","","","","",null,null,"",{"$error":"#UNKNOWN!"},"",""]
[390,null,null,null,null,null,null,null,null,null,"",{"$f":"IF(AND(F401>0,G401>0,H401>0,I401>0,J401>0),AVERAGE($K$12:K401),\"\")","v":""},"","","","","","","","","",{"$f":"OR(AND(K401>K400,K400>K399,K399>K398,K398>K397,K397>K396,K396>K395),AND(K401<K400,K400<K399,K399<K398,K398<K397,K397<K396,K396<K395))","v":null},{"$f":"OR(AND(K401>L401,K400>L401,K399>L401,K398>L401,K397>L401,K396>L401,K395>L401),AND(K401<L401,K400<L401,K399<L401,K398<L401,K397<L401,K396<L401,K395<L401))","v":null},"",{"$error":"#UNKNOWN!"},"",""]
[391,null,null,null,null,null,null,null,null,null,"",{"$f":"IF(AND(F402>0,G402>0,H402>0,I402>0,J402>0),AVERAGE($K$12:K402),\"\")","v":""},"","","","","","","","","",null,null,"",{"$error":"#UNKNOWN!"},"",""]
[392,null,null,null,null,null,null,null,null,null,"",{"$f":"IF(AND(F403>0,G403>0,H403>0,I403>0,J403>0),AVERAGE($K$12:K403),\"\")","v":""},"","","","","","","","","",null,null,"",{"$error":"#UNKNOWN!"},"",""]
[393,null,null,null,null,null,null,null,null,null,"",{"$f":"IF(AND(F404>0,G404>0,H404>0,I404>0,J404>0),AVERAGE($K$12:K404),\"\")","v":""},"","","","","","","","","",null,null,"",{"$error":"#UNKNOWN!"},"",""]
[394,null,null,null,null,null,null,null,null,null,"",{"$f":"IF(AND(F405>0,G405>0,H405>0,I405>0,J405>0),AVERAGE($K$12:K405),\"\")","v":""},"","","","","","","","","",null,null,"",{"$error":"#UNKNOWN!"},"",""]
[395,null,null,null,null,null,null,null,null,null,"",{"$f":"IF(AND(F406>0,G406>0,H406>0,I406>0,J406>0),AVERAGE($K$12:K406),\"\")","v":""},"","","","","","","","","",null,null,"",{"$error":"#UNKNOWN!"},"",""]
[396,null,null,null,null,null,null,null,null,null,"",{"$f":"IF(AND(F407>0,G407>0,H407>0,I407>0,J407>0),AVERAGE($K$12:K407),\"\")","v":""},"","","","","","","","","",null,null,"",{"$error":"#UNKNOWN!"},"",""]
[397,null,null,null,null,null,null,null,null,null,"",{"$f":"IF(AND(F408>0,G408>0,H408>0,I408>0,J408>0),AVERAGE($K$12:K408),\"\")","v":""},"","","","","","","","","",null,null,"",{"$error":"#UNKNOWN!"},"",""]
[398,null,null,null,null,null,null,null,null,null,"",{"$f":"IF(AND(F409>0,G409>0,H409>0,I409>0,J409>0),AVERAGE($K$12:K409),\"\")","v":""},"","","","","","","","","",null,null,"",{"$error":"#UNKNOWN!"},"",""]
[399,null,null,null,null,null,null,null,null,null,"",{"$f":"IF(AND(F410>0,G410>0,H410>0,I410>0,J410>0),AVERAGE($K$12:K410),\"\")","v":""},"","","","","","","","","",null,null,"",{"$error":"#UNKNOWN!"},"",""]
[400,null,null,null,null,null,null,null,null,null,"",{"$f":"IF(AND(F411>0,G411>0,H411>0,I411>0,J411>0),AVERAGE($K$12:K411),\"\")","v":""},"","","","","","","","","",null,null,"",{"$error":"#UNKNOWN!"},"",""]
[401,null,null,null,null,null,null,null,null,null,"",{"$f":"IF(AND(F412>0,G412>0,H412>0,I412>0,J412>0),AVERAGE($K$12:K412),\"\")","v":""},"","","","","","","","","",null,null,"",{"$error":"#UNKNOWN!"},"",""]
[402,null,null,null,null,null,null,null,null,null,"",{"$f":"IF(AND(F413>0,G413>0,H413>0,I413>0,J413>0),AVERAGE($K$12:K413),\"\")","v":""},"","","","","","","","","",null,null,"",{"$error":"#UNKNOWN!"},"",""]
[403,null,null,null,null,null,null,null,null,null,"",{"$f":"IF(AND(F414>0,G414>0,H414>0,I414>0,J414>0),AVERAGE($K$12:K414),\"\")","v":""},"","","","","","","","","",null,null,"",{"$error":"#UNKNOWN!"},"",""]
[404,null,null,null,null,null,null,null,null,null,"",{"$f":"IF(AND(F415>0,G415>0,H415>0,I415>0,J415>0),AVERAGE($K$12:K415),\"\")","v":""},"","","","","","","","","",null,null,"",{"$error":"#UNKNOWN!"},"",""]
[405,null,null,null,null,null,null,null,null,null,"",{"$f":"IF(AND(F416>0,G416>0,H416>0,I416>0,J416>0),AVERAGE($K$12:K416),\"\")","v":""},"","","","","","","","","",null,null,"",{"$error":"#UNKNOWN!"},"",""]
[406,null,null,null,null,null,null,null,null,null,"",{"$f":"IF(AND(F417>0,G417>0,H417>0,I417>0,J417>0),AVERAGE($K$12:K417),\"\")","v":""},"","","","","","","","","",null,null,"",{"$error":"#UNKNOWN!"},"",""]
[407,null,null,null,null,null,null,null,null,null,"",{"$f":"IF(AND(F418>0,G418>0,H418>0,I418>0,J418>0),AVERAGE($K$12:K418),\"\")","v":""},"","","","","","","","","",null,null,"",{"$error":"#UNKNOWN!"},"",""]
[408,null,null,null,null,null,null,null,null,null,"",{"$f":"IF(AND(F419>0,G419>0,H419>0,I419>0,J419>0),AVERAGE($K$12:K419),\"\")","v":""},"","","","","","","","","",null,null,"",{"$error":"#UNKNOWN!"},"",""]
[409,null,null,null,null,null,null,null,null,null,"",{"$f":"IF(AND(F420>0,G420>0,H420>0,I420>0,J420>0),AVERAGE($K$12:K420),\"\")","v":""},"","","","","","","","","",null,null,"",{"$error":"#UNKNOWN!"},"",""]
[410,null,null,null,null,null,null,null,null,null,"",{"$f":"IF(AND(F421>0,G421>0,H421>0,I421>0,J421>0),AVERAGE($K$12:K421),\"\")","v":""},"","","","","","","","","",null,null,"",{"$error":"#UNKNOWN!"},"",""]
[411,null,null,null,null,null,null,null,null,null,"",{"$f":"IF(AND(F422>0,G422>0,H422>0,I422>0,J422>0),AVERAGE($K$12:K422),\"\")","v":""},"","","","","","","","","",null,null,"",{"$error":"#UNKNOWN!"},"",""]
[412,null,null,null,null,null,null,null,null,null,"",{"$f":"IF(AND(F423>0,G423>0,H423>0,I423>0,J423>0),AVERAGE($K$12:K423),\"\")","v":""},"","","","","","","","","",null,null,"",{"$error":"#UNKNOWN!"},"",""]
[413,null,null,null,null,null,null,null,null,null,"",{"$f":"IF(AND(F424>0,G424>0,H424>0,I424>0,J424>0),AVERAGE($K$12:K424),\"\")","v":""},"","","","","","","","","",null,null,"",{"$error":"#UNKNOWN!"},"",""]
[414,null,null,null,null,null,null,null,null,null,"",{"$f":"IF(AND(F425>0,G425>0,H425>0,I425>0,J425>0),AVERAGE($K$12:K425),\"\")","v":""},"","","","","","","","","",null,null,"",{"$error":"#UNKNOWN!"},"",""]
[415,null,null,null,null,null,null,null,null,null,"",{"$f":"IF(AND(F426>0,G426>0,H426>0,I426>0,J426>0),AVERAGE($K$12:K426),\"\")","v":""},"","","","","","","","","",null,null,"",{"$error":"#UNKNOWN!"},"",""]
[416,null,null,null,null,null,null,null,null,null,"",{"$f":"IF(AND(F427>0,G427>0,H427>0,I427>0,J427>0),AVERAGE($K$12:K427),\"\")","v":""},"","","","","","","","","",null,null,"",{"$error":"#UNKNOWN!"},"",""]
[417,null,null,null,null,null,null,null,null,null,"",{"$f":"IF(AND(F428>0,G428>0,H428>0,I428>0,J428>0),AVERAGE($K$12:K428),\"\")","v":""},"","","","","","","","","",null,null,"",{"$error":"#UNKNOWN!"},"",""]
[418,null,null,null,null,null,null,null,null,null,"",{"$f":"IF(AND(F429>0,G429>0,H429>0,I429>0,J429>0),AVERAGE($K$12:K429),\"\")","v":""},"","","","","","","","","",null,null,"",{"$error":"#UNKNOWN!"},"",""]
[419,null,null,null,null,null,null,null,null,null,"",{"$f":"IF(AND(F430>0,G430>0,H430>0,I430>0,J430>0),AVERAGE($K$12:K430),\"\")","v":""},"","","","","","","","","",null,null,"",{"$error":"#UNKNOWN!"},"",""]
[420,null,null,null,null,null,null,null,null,null,"",{"$f":"IF(AND(F431>0,G431>0,H431>0,I431>0,J431>0),AVERAGE($K$12:K431),\"\")","v":""},"","","","","","","","","",null,null,"",{"$error":"#UNKNOWN!"},"",""]
[421,null,null,null,null,null,null,null,null,null,"",{"$f":"IF(AND(F432>0,G432>0,H432>0,I432>0,J432>0),AVERAGE($K$12:K432),\"\")","v":""},"","","","","","","","","",null,null,"",{"$error":"#UNKNOWN!"},"",""]
[422,null,null,null,null,null,null,null,null,null,"",{"$f":"IF(AND(F433>0,G433>0,H433>0,I433>0,J433>0),AVERAGE($K$12:K433),\"\")","v":""},"","","","","","","","","",null,null,"",{"$error":"#UNKNOWN!"},"",""]
[423,null,null,null,null,null,null,null,null,null,"",{"$f":"IF(AND(F434>0,G434>0,H434>0,I434>0,J434>0),AVERAGE($K$12:K434),\"\")","v":""},"","","","","","","","","",null,null,"",{"$error":"#UNKNOWN!"},"",""]
[424,null,null,null,null,null,null,null,null,null,"",{"$f":"IF(AND(F435>0,G435>0,H435>0,I435>0,J435>0),AVERAGE($K$12:K435),\"\")","v":""},"","","","","","","","","",null,null,"",{"$error":"#UNKNOWN!"},"",""]
[425,null,null,null,null,null,null,null,null,null,"",{"$f":"IF(AND(F436>0,G436>0,H436>0,I436>0,J436>0),AVERAGE($K$12:K436),\"\")","v":""},"","","","","","","","","",null,null,"",{"$error":"#UNKNOWN!"},"",""]
[426,null,null,null,null,null,null,null,null,null,"",{"$f":"IF(AND(F437>0,G437>0,H437>0,I437>0,J437>0),AVERAGE($K$12:K437),\"\")","v":""},"","","","","","","","","",null,null,"",{"$error":"#UNKNOWN!"},"",""]
[427,null,null,null,null,null,null,null,null,null,"",{"$f":"IF(AND(F438>0,G438>0,H438>0,I438>0,J438>0),AVERAGE($K$12:K438),\"\")","v":""},"","","","","","","","","",null,null,"",{"$error":"#UNKNOWN!"},"",""]
[428,null,null,null,null,null,null,null,null,null,"",{"$f":"IF(AND(F439>0,G439>0,H439>0,I439>0,J439>0),AVERAGE($K$12:K439),\"\")","v":""},"","","","","","","","","",null,null,"",{"$error":"#UNKNOWN!"},"",""]
[429,null,null,null,null,null,null,null,null,null,"",{"$f":"IF(AND(F440>0,G440>0,H440>0,I440>0,J440>0),AVERAGE($K$12:K440),\"\")","v":""},"","","","","","","","","",null,null,"",{"$error":"#UNKNOWN!"},"",""]
[430,null,null,null,null,null,null,null,null,null,"",{"$f":"IF(AND(F441>0,G441>0,H441>0,I441>0,J441>0),AVERAGE($K$12:K441),\"\")","v":""},"","","","","","","","","",null,null,"",{"$error":"#UNKNOWN!"},"",""]
[431,null,null,null,null,null,null,null,null,null,"",{"$f":"IF(AND(F442>0,G442>0,H442>0,I442>0,J442>0),AVERAGE($K$12:K442),\"\")","v":""},"","","","","","","","","",null,null,"",{"$error":"#UNKNOWN!"},"",""]
[432,null,null,null,null,null,null,null,null,null,"",{"$f":"IF(AND(F443>0,G443>0,H443>0,I443>0,J443>0),AVERAGE($K$12:K443),\"\")","v":""},"","","","","","","","","",null,null,"",{"$error":"#UNKNOWN!"},"",""]
[433,null,null,null,null,null,null,null,null,null,"",{"$f":"IF(AND(F444>0,G444>0,H444>0,I444>0,J444>0),AVERAGE($K$12:K444),\"\")","v":""},"","","","","","","","","",null,null,"",{"$error":"#UNKNOWN!"},"",""]
[434,null,null,null,null,null,null,null,null,null,"",{"$f":"IF(AND(F445>0,G445>0,H445>0,I445>0,J445>0),AVERAGE($K$12:K445),\"\")","v":""},"","","","","","","","","",null,null,"",{"$error":"#UNKNOWN!"},"",""]
[435,null,null,null,null,null,null,null,null,null,"",{"$f":"IF(AND(F446>0,G446>0,H446>0,I446>0,J446>0),AVERAGE($K$12:K446),\"\")","v":""},"","","","","","","","","",null,null,"",{"$error":"#UNKNOWN!"},"",""]
[436,null,null,null,null,null,null,null,null,null,"",{"$f":"IF(AND(F447>0,G447>0,H447>0,I447>0,J447>0),AVERAGE($K$12:K447),\"\")","v":""},"","","","","","","","","",null,null,"",{"$error":"#UNKNOWN!"},"",""]
[437,null,null,null,null,null,null,null,null,null,"",{"$f":"IF(AND(F448>0,G448>0,H448>0,I448>0,J448>0),AVERAGE($K$12:K448),\"\")","v":""},"","","","","","","","","",null,null,"",{"$error":"#UNKNOWN!"},"",""]
[438,null,null,null,null,null,null,null,null,null,"",{"$f":"IF(AND(F449>0,G449>0,H449>0,I449>0,J449>0),AVERAGE($K$12:K449),\"\")","v":""},"","","","","","","","","",null,null,"",{"$error":"#UNKNOWN!"},"",""]
[439,null,null,null,null,null,null,null,null,null,"",{"$f":"IF(AND(F450>0,G450>0,H450>0,I450>0,J450>0),AVERAGE($K$12:K450),\"\")","v":""},"","","","","","","","","",null,null,"",{"$error":"#UNKNOWN!"},"",""]
[440,null,null,null,null,null,null,null,null,null,"",{"$f":"IF(AND(F451>0,G451>0,H451>0,I451>0,J451>0),AVERAGE($K$12:K451),\"\")","v":""},"","","","","","","","","",null,null,"",{"$error":"#UNKNOWN!"},"",""]
[441,null,null,null,null,null,null,null,null,null,"",{"$f":"IF(AND(F452>0,G452>0,H452>0,I452>0,J452>0),AVERAGE($K$12:K452),\"\")","v":""},"","","","","","","","","",null,null,"",{"$error":"#UNKNOWN!"},"",""]
[442,null,null,null,null,null,null,null,null,null,"",{"$f":"IF(AND(F453>0,G453>0,H453>0,I453>0,J453>0),AVERAGE($K$12:K453),\"\")","v":""},"","","","","","","","","",null,null,"",{"$error":"#UNKNOWN!"},"",""]
[443,null,null,null,null,null,null,null,null,null,"",{"$f":"IF(AND(F454>0,G454>0,H454>0,I454>0,J454>0),AVERAGE($K$12:K454),\"\")","v":""},"","","","","","","","","",null,null,"",{"$error":"#UNKNOWN!"},"",""]
[444,null,null,null,null,null,null,null,null,null,"",{"$f":"IF(AND(F455>0,G455>0,H455>0,I455>0,J455>0),AVERAGE($K$12:K455),\"\")","v":""},"","","","","","","","","",null,null,"",{"$error":"#UNKNOWN!"},"",""]
[445,null,null,null,null,null,null,null,null,null,"",{"$f":"IF(AND(F456>0,G456>0,H456>0,I456>0,J456>0),AVERAGE($K$12:K456),\"\")","v":""},"","","","","","","","","",null,null,"",{"$error":"#UNKNOWN!"},"",""]
[446,null,null,null,null,null,null,null,null,null,"",{"$f":"IF(AND(F457>0,G457>0,H457>0,I457>0,J457>0),AVERAGE($K$12:K457),\"\")","v":""},"","","","","","","","","",null,null,"",{"$error":"#UNKNOWN!"},"",""]
[447,null,null,null,null,null,null,null,null,null,"",{"$f":"IF(AND(F458>0,G458>0,H458>0,I458>0,J458>0),AVERAGE($K$12:K458),\"\")","v":""},"","","","","","","","","",null,null,"",{"$error":"#UNKNOWN!"},{"$f":"IF($P$1=1,S458,Q458)","v":""},""]
[448,null,null,null,null,null,null,null,null,null,"",{"$f":"IF(AND(F459>0,G459>0,H459>0,I459>0,J459>0),AVERAGE($K$12:K459),\"\")","v":""},"","","","",{"$f":"IF(AND(F459>0,G459>0,H459>0,I459>0,J459>0),$E$5,\"\")","v":""},{"$f":"IF(AND(F459>0,G459>0,H459>0,I459>0,J459>0),$E$5*(-1),\"\")","v":""},{"$f":"IF(AND(F459>0,G459>0,H459>0,I459>0,J459>0),$E$6,\"\")","v":""},"",{"$f":"IFERROR(IF(ABS(M459)<=$E$5,TRUE,FALSE),\"\")","v":""},null,null,"",{"$f":"IF($P$1=1,#N/A,R459)","v":{"$error":"#UNKNOWN!"}},"",""]
[449,null,null,null,null,null,null,null,null,null,{"$f":"IF(AND(F460>0,G460>0,H460>0,I460>0,J460>0),AVERAGE(F460:J460),\"\")","v":""},{"$f":"IF(AND(F460>0,G460>0,H460>0,I460>0,J460>0),AVERAGE($K$12:K460),\"\")","v":""},{"$f":"IF(AND(F460>0,G460>0,H460>0,I460>0,J460>0),(K460-$E$4),\"\")","v":""},"",{"$f":"IF(AND(F460>0,G460>0,H460>0,I460>0,J460>0),ROUND(STDEV(F460:J460),2),\"\")","v":""},"","","","",{"$f":"IFERROR(IF(OR((ABS(N460)<=$E$6),(N460<1)),TRUE,FALSE),\"\")","v":""},"",null,null,{"$f":"IFERROR(MID(C460,SEARCH(\":\",C460)+1,10),\"\")","v":""},{"$error":"#UNKNOWN!"},"",{"$f":"IF($P$1=1,N460,M460)","v":""}]
[450,null,null,null,null,null,null,null,null,null,"",{"$f":"IF(AND(F461>0,G461>0,H461>0,I461>0,J461>0),AVERAGE($K$12:K461),\"\")","v":""},"",{"$f":"IF(AND(F461>0,G461>0,H461>0,I461>0,J461>0),MAX(F461:J461)-MIN(F461:J461),\"\")","v":""},"",{"$f":"IF(F461>0,IF(T461=FALSE,IF(U461=FALSE,\"<GA+WHP>\",\"<WHP>\"),IF(U461=FALSE,\"<GA>\",\"\")) & IF(V461=TRUE,\"<Trend>\",\"\") & IF(W461=TRUE,\"<Run>\",\"\")& IF(AND(ABS(T461+U461=2),V461+W461=0),\"OK\",\"\"),\"\")","v":""},"","","","","",null,null,"",{"$error":"#UNKNOWN!"},"",""]
[451,null,null,null,null,null,null,null,null,null,"",{"$f":"IF(AND(F462>0,G462>0,H462>0,I462>0,J462>0),AVERAGE($K$12:K462),\"\")","v":""},"","","","","","","","","",null,null,"",{"$error":"#UNKNOWN!"},"",""]
[452,null,null,null,null,null,null,null,null,null,"",{"$f":"IF(AND(F463>0,G463>0,H463>0,I463>0,J463>0),AVERAGE($K$12:K463),\"\")","v":""},"","","","","","","","","",null,null,"",{"$error":"#UNKNOWN!"},"",""]
[453,null,null,null,null,null,null,null,null,null,"",{"$f":"IF(AND(F464>0,G464>0,H464>0,I464>0,J464>0),AVERAGE($K$12:K464),\"\")","v":""},"","","","","","","","","",null,null,"",{"$error":"#UNKNOWN!"},"",""]
[454,null,null,null,null,null,null,null,null,null,"",{"$f":"IF(AND(F465>0,G465>0,H465>0,I465>0,J465>0),AVERAGE($K$12:K465),\"\")","v":""},"","","","","","","","","",{"$f":"OR(AND(K465>K464,K464>K463,K463>K462,K462>K461,K461>K460,K460>K459),AND(K465<K464,K464<K463,K463<K462,K462<K461,K461<K460,K460<K459))","v":null},{"$f":"OR(AND(K465>L465,K464>L465,K463>L465,K462>L465,K461>L465,K460>L465,K459>L465),AND(K465<L465,K464<L465,K463<L465,K462<L465,K461<L465,K460<L465,K459<L465))","v":null},"",{"$error":"#UNKNOWN!"},"",""]
[455,null,null,null,null,null,null,null,null,null,"",{"$f":"IF(AND(F466>0,G466>0,H466>0,I466>0,J466>0),AVERAGE($K$12:K466),\"\")","v":""},"","","","","","","","","",null,null,"",{"$error":"#UNKNOWN!"},"",""]
[456,null,null,null,null,null,null,null,null,null,"",{"$f":"IF(AND(F467>0,G467>0,H467>0,I467>0,J467>0),AVERAGE($K$12:K467),\"\")","v":""},"","","","","","","","","",null,null,"",{"$error":"#UNKNOWN!"},"",""]
[457,null,null,null,null,null,null,null,null,null,"",{"$f":"IF(AND(F468>0,G468>0,H468>0,I468>0,J468>0),AVERAGE($K$12:K468),\"\")","v":""},"","","","","","","","","",null,null,"",{"$error":"#UNKNOWN!"},"",""]
[458,null,null,null,null,null,null,null,null,null,"",{"$f":"IF(AND(F469>0,G469>0,H469>0,I469>0,J469>0),AVERAGE($K$12:K469),\"\")","v":""},"","","","","","","","","",null,null,"",{"$error":"#UNKNOWN!"},"",""]
[459,null,null,null,null,null,null,null,null,null,"",{"$f":"IF(AND(F470>0,G470>0,H470>0,I470>0,J470>0),AVERAGE($K$12:K470),\"\")","v":""},"","","","","","","","","",null,null,"",{"$error":"#UNKNOWN!"},"",""]
[460,null,null,null,null,null,null,null,null,null,"",{"$f":"IF(AND(F471>0,G471>0,H471>0,I471>0,J471>0),AVERAGE($K$12:K471),\"\")","v":""},"","","","","","","","","",null,null,"",{"$error":"#UNKNOWN!"},"",""]
[461,null,null,null,null,null,null,null,null,null,"",{"$f":"IF(AND(F472>0,G472>0,H472>0,I472>0,J472>0),AVERAGE($K$12:K472),\"\")","v":""},"","","","","","","","","",null,null,"",{"$error":"#UNKNOWN!"},"",""]
[462,null,null,null,null,null,null,null,null,null,"",{"$f":"IF(AND(F473>0,G473>0,H473>0,I473>0,J473>0),AVERAGE($K$12:K473),\"\")","v":""},"","","","","","","","","",null,null,"",{"$error":"#UNKNOWN!"},"",""]
[463,null,null,null,null,null,null,null,null,null,"",{"$f":"IF(AND(F474>0,G474>0,H474>0,I474>0,J474>0),AVERAGE($K$12:K474),\"\")","v":""},"","","","","","","","","",null,null,"",{"$error":"#UNKNOWN!"},"",""]
[464,null,null,null,null,null,null,null,null,null,"",{"$f":"IF(AND(F475>0,G475>0,H475>0,I475>0,J475>0),AVERAGE($K$12:K475),\"\")","v":""},"","","","","","","","","",null,null,"",{"$error":"#UNKNOWN!"},"",""]
[465,null,null,null,null,null,null,null,null,null,"",{"$f":"IF(AND(F476>0,G476>0,H476>0,I476>0,J476>0),AVERAGE($K$12:K476),\"\")","v":""},"","","","","","","","","",null,null,"",{"$error":"#UNKNOWN!"},"",""]
[466,null,null,null,null,null,null,null,null,null,"",{"$f":"IF(AND(F477>0,G477>0,H477>0,I477>0,J477>0),AVERAGE($K$12:K477),\"\")","v":""},"","","","","","","","","",null,null,"",{"$error":"#UNKNOWN!"},"",""]
[467,null,null,null,null,null,null,null,null,null,"",{"$f":"IF(AND(F478>0,G478>0,H478>0,I478>0,J478>0),AVERAGE($K$12:K478),\"\")","v":""},"","","","","","","","","",null,null,"",{"$error":"#UNKNOWN!"},"",""]
[468,null,null,null,null,null,null,null,null,null,"",{"$f":"IF(AND(F479>0,G479>0,H479>0,I479>0,J479>0),AVERAGE($K$12:K479),\"\")","v":""},"","","","","","","","","",null,null,"",{"$error":"#UNKNOWN!"},"",""]
[469,null,null,null,null,null,null,null,null,null,"",{"$f":"IF(AND(F480>0,G480>0,H480>0,I480>0,J480>0),AVERAGE($K$12:K480),\"\")","v":""},"","","","","","","","","",null,null,"",{"$error":"#UNKNOWN!"},"",""]
[470,null,null,null,null,null,null,null,null,null,"",{"$f":"IF(AND(F481>0,G481>0,H481>0,I481>0,J481>0),AVERAGE($K$12:K481),\"\")","v":""},"","","","","","","","","",null,null,"",{"$error":"#UNKNOWN!"},"",""]
[471,null,null,null,null,null,null,null,null,null,"",{"$f":"IF(AND(F482>0,G482>0,H482>0,I482>0,J482>0),AVERAGE($K$12:K482),\"\")","v":""},"","","","","","","","","",null,null,"",{"$error":"#UNKNOWN!"},"",""]
[472,null,null,null,null,null,null,null,null,null,"",{"$f":"IF(AND(F483>0,G483>0,H483>0,I483>0,J483>0),AVERAGE($K$12:K483),\"\")","v":""},"","","","","","","","","",null,null,"",{"$error":"#UNKNOWN!"},"",""]
[473,null,null,null,null,null,null,null,null,null,"",{"$f":"IF(AND(F484>0,G484>0,H484>0,I484>0,J484>0),AVERAGE($K$12:K484),\"\")","v":""},"","","","","","","","","",null,null,"",{"$error":"#UNKNOWN!"},"",""]
[474,null,null,null,null,null,null,null,null,null,"",{"$f":"IF(AND(F485>0,G485>0,H485>0,I485>0,J485>0),AVERAGE($K$12:K485),\"\")","v":""},"","","","","","","","","",null,null,"",{"$error":"#UNKNOWN!"},"",""]
[475,null,null,null,null,null,null,null,null,null,"",{"$f":"IF(AND(F486>0,G486>0,H486>0,I486>0,J486>0),AVERAGE($K$12:K486),\"\")","v":""},"","","","","","","","","",null,null,"",{"$error":"#UNKNOWN!"},"",""]
[476,null,null,null,null,null,null,null,null,null,"",{"$f":"IF(AND(F487>0,G487>0,H487>0,I487>0,J487>0),AVERAGE($K$12:K487),\"\")","v":""},"","","","","","","","","",null,null,"",{"$error":"#UNKNOWN!"},"",""]
[477,null,null,null,null,null,null,null,null,null,"",{"$f":"IF(AND(F488>0,G488>0,H488>0,I488>0,J488>0),AVERAGE($K$12:K488),\"\")","v":""},"","","","","","","","","",null,null,"",{"$error":"#UNKNOWN!"},"",""]
[478,null,null,null,null,null,null,null,null,null,"",{"$f":"IF(AND(F489>0,G489>0,H489>0,I489>0,J489>0),AVERAGE($K$12:K489),\"\")","v":""},"","","","","","","","","",null,null,"",{"$error":"#UNKNOWN!"},"",""]
[479,null,null,null,null,null,null,null,null,null,"",{"$f":"IF(AND(F490>0,G490>0,H490>0,I490>0,J490>0),AVERAGE($K$12:K490),\"\")","v":""},"","","","","","","","","",null,null,"",{"$error":"#UNKNOWN!"},"",""]
[480,null,null,null,null,null,null,null,null,null,"",{"$f":"IF(AND(F491>0,G491>0,H491>0,I491>0,J491>0),AVERAGE($K$12:K491),\"\")","v":""},"","","","","","","","","",null,null,"",{"$error":"#UNKNOWN!"},"",""]
[481,null,null,null,null,null,null,null,null,null,"",{"$f":"IF(AND(F492>0,G492>0,H492>0,I492>0,J492>0),AVERAGE($K$12:K492),\"\")","v":""},"","","","","","","","","",null,null,"",{"$error":"#UNKNOWN!"},"",""]
[482,null,null,null,null,null,null,null,null,null,"",{"$f":"IF(AND(F493>0,G493>0,H493>0,I493>0,J493>0),AVERAGE($K$12:K493),\"\")","v":""},"","","","","","","","","",null,null,"",{"$error":"#UNKNOWN!"},"",""]
[483,null,null,null,null,null,null,null,null,null,"",{"$f":"IF(AND(F494>0,G494>0,H494>0,I494>0,J494>0),AVERAGE($K$12:K494),\"\")","v":""},"","","","","","","","","",null,null,"",{"$error":"#UNKNOWN!"},"",""]
[484,null,null,null,null,null,null,null,null,null,"",{"$f":"IF(AND(F495>0,G495>0,H495>0,I495>0,J495>0),AVERAGE($K$12:K495),\"\")","v":""},"","","","","","","","","",null,null,"",{"$error":"#UNKNOWN!"},"",""]
[485,null,null,null,null,null,null,null,null,null,"",{"$f":"IF(AND(F496>0,G496>0,H496>0,I496>0,J496>0),AVERAGE($K$12:K496),\"\")","v":""},"","","","","","","","","",null,null,"",{"$error":"#UNKNOWN!"},"",""]
[486,null,null,null,null,null,null,null,null,null,"",{"$f":"IF(AND(F497>0,G497>0,H497>0,I497>0,J497>0),AVERAGE($K$12:K497),\"\")","v":""},"","","","","","","","","",null,null,"",{"$error":"#UNKNOWN!"},"",""]
[487,null,null,null,null,null,null,null,null,null,"",{"$f":"IF(AND(F498>0,G498>0,H498>0,I498>0,J498>0),AVERAGE($K$12:K498),\"\")","v":""},"","","","","","","","","",null,null,"",{"$error":"#UNKNOWN!"},"",""]
[488,null,null,null,null,null,null,null,null,null,"",{"$f":"IF(AND(F499>0,G499>0,H499>0,I499>0,J499>0),AVERAGE($K$12:K499),\"\")","v":""},"","","","","","","","","",null,null,"",{"$error":"#UNKNOWN!"},"",""]
[489,null,null,null,null,null,null,null,null,null,"",{"$f":"IF(AND(F500>0,G500>0,H500>0,I500>0,J500>0),AVERAGE($K$12:K500),\"\")","v":""},"","","","","","","","","",null,null,"",{"$error":"#UNKNOWN!"},"",""]
[490,null,null,null,null,null,null,null,null,null,"",{"$f":"IF(AND(F501>0,G501>0,H501>0,I501>0,J501>0),AVERAGE($K$12:K501),\"\")","v":""},"","","","","","","","","",null,null,"",{"$error":"#UNKNOWN!"},"",""]
[491,null,null,null,null,null,null,null,null,null,"",{"$f":"IF(AND(F502>0,G502>0,H502>0,I502>0,J502>0),AVERAGE($K$12:K502),\"\")","v":""},"","","","","","","","","",null,null,"",{"$error":"#UNKNOWN!"},"",""]
[492,null,null,null,null,null,null,null,null,null,"",{"$f":"IF(AND(F503>0,G503>0,H503>0,I503>0,J503>0),AVERAGE($K$12:K503),\"\")","v":""},"","","","","","","","","",null,null,"",{"$error":"#UNKNOWN!"},"",""]
[493,null,null,null,null,null,null,null,null,null,"",{"$f":"IF(AND(F504>0,G504>0,H504>0,I504>0,J504>0),AVERAGE($K$12:K504),\"\")","v":""},"","","","","","","","","",null,null,"",{"$error":"#UNKNOWN!"},"",""]
[494,null,null,null,null,null,null,null,null,null,"",{"$f":"IF(AND(F505>0,G505>0,H505>0,I505>0,J505>0),AVERAGE($K$12:K505),\"\")","v":""},"","","","","","","","","",null,null,"",{"$error":"#UNKNOWN!"},"",""]
[495,null,null,null,null,null,null,null,null,null,"",{"$f":"IF(AND(F506>0,G506>0,H506>0,I506>0,J506>0),AVERAGE($K$12:K506),\"\")","v":""},"","","","","","","","","",null,null,"",{"$error":"#UNKNOWN!"},"",""]
[496,null,null,null,null,null,null,null,null,null,"",{"$f":"IF(AND(F507>0,G507>0,H507>0,I507>0,J507>0),AVERAGE($K$12:K507),\"\")","v":""},"","","","","","","","","",null,null,"",{"$error":"#UNKNOWN!"},"",""]
[497,null,null,null,null,null,null,null,null,null,"",{"$f":"IF(AND(F508>0,G508>0,H508>0,I508>0,J508>0),AVERAGE($K$12:K508),\"\")","v":""},"","","","","","","","","",null,null,"",{"$error":"#UNKNOWN!"},"",""]
[498,null,null,null,null,null,null,null,null,null,"",{"$f":"IF(AND(F509>0,G509>0,H509>0,I509>0,J509>0),AVERAGE($K$12:K509),\"\")","v":""},"","","","","","","","","",null,null,"",{"$error":"#UNKNOWN!"},"",""]
[499,null,null,null,null,null,null,null,null,null,"",{"$f":"IF(AND(F510>0,G510>0,H510>0,I510>0,J510>0),AVERAGE($K$12:K510),\"\")","v":""},"","","","","","","","","",null,null,"",{"$error":"#UNKNOWN!"},"",""]
[500,null,null,null,null,null,null,null,null,null,"",{"$f":"IF(AND(F511>0,G511>0,H511>0,I511>0,J511>0),AVERAGE($K$12:K511),\"\")","v":""},"","","","","","","","","",null,null,"",{"$error":"#UNKNOWN!"},"",""]
[501,null,null,null,null,null,null,null,null,null,"",{"$f":"IF(AND(F512>0,G512>0,H512>0,I512>0,J512>0),AVERAGE($K$12:K512),\"\")","v":""},"","","","","","","","","",null,null,"",{"$error":"#UNKNOWN!"},"",""]
[502,null,null,null,null,null,null,null,null,null,"",{"$f":"IF(AND(F513>0,G513>0,H513>0,I513>0,J513>0),AVERAGE($K$12:K513),\"\")","v":""},"","","","","","","","","",null,null,"",{"$error":"#UNKNOWN!"},"",""]
[503,null,null,null,null,null,null,null,null,null,"",{"$f":"IF(AND(F514>0,G514>0,H514>0,I514>0,J514>0),AVERAGE($K$12:K514),\"\")","v":""},"","","","","","","","","",null,null,"",{"$error":"#UNKNOWN!"},"",""]
[504,null,null,null,null,null,null,null,null,null,"",{"$f":"IF(AND(F515>0,G515>0,H515>0,I515>0,J515>0),AVERAGE($K$12:K515),\"\")","v":""},"","","","","","","","","",null,null,"",{"$error":"#UNKNOWN!"},"",""]
[505,null,null,null,null,null,null,null,null,null,"",{"$f":"IF(AND(F516>0,G516>0,H516>0,I516>0,J516>0),AVERAGE($K$12:K516),\"\")","v":""},"","","","","","","","","",null,null,"",{"$error":"#UNKNOWN!"},"",""]
[506,null,null,null,null,null,null,null,null,null,"",{"$f":"IF(AND(F517>0,G517>0,H517>0,I517>0,J517>0),AVERAGE($K$12:K517),\"\")","v":""},"","","","","","","","","",null,null,"",{"$error":"#UNKNOWN!"},"",""]
[507,null,null,null,null,null,null,null,null,null,"",{"$f":"IF(AND(F518>0,G518>0,H518>0,I518>0,J518>0),AVERAGE($K$12:K518),\"\")","v":""},"","","","","","","","","",null,null,"",{"$error":"#UNKNOWN!"},"",""]
[508,null,null,null,null,null,null,null,null,null,"",{"$f":"IF(AND(F519>0,G519>0,H519>0,I519>0,J519>0),AVERAGE($K$12:K519),\"\")","v":""},"","","","","","","","","",null,null,"",{"$error":"#UNKNOWN!"},"",""]
[509,null,null,null,null,null,null,null,null,null,"",{"$f":"IF(AND(F520>0,G520>0,H520>0,I520>0,J520>0),AVERAGE($K$12:K520),\"\")","v":""},"","","","","","","","","",null,null,"",{"$error":"#UNKNOWN!"},"",""]
[510,null,null,null,null,null,null,null,null,null,"",{"$f":"IF(AND(F521>0,G521>0,H521>0,I521>0,J521>0),AVERAGE($K$12:K521),\"\")","v":""},"","","","","","","","","",null,null,"",{"$error":"#UNKNOWN!"},"",""]
[511,null,null,null,null,null,null,null,null,null,"",{"$f":"IF(AND(F522>0,G522>0,H522>0,I522>0,J522>0),AVERAGE($K$12:K522),\"\")","v":""},"","","","","","","","","",null,null,"",{"$error":"#UNKNOWN!"},{"$f":"IF($P$1=1,S522,Q522)","v":""},""]
[512,null,null,null,null,null,null,null,null,null,"",{"$f":"IF(AND(F523>0,G523>0,H523>0,I523>0,J523>0),AVERAGE($K$12:K523),\"\")","v":""},"","","","",{"$f":"IF(AND(F523>0,G523>0,H523>0,I523>0,J523>0),$E$5,\"\")","v":""},{"$f":"IF(AND(F523>0,G523>0,H523>0,I523>0,J523>0),$E$5*(-1),\"\")","v":""},{"$f":"IF(AND(F523>0,G523>0,H523>0,I523>0,J523>0),$E$6,\"\")","v":""},"",{"$f":"IFERROR(IF(ABS(M523)<=$E$5,TRUE,FALSE),\"\")","v":""},null,null,"",{"$f":"IF($P$1=1,#N/A,R523)","v":{"$error":"#UNKNOWN!"}},"",""]
[513,null,null,null,null,null,null,null,null,null,{"$f":"IF(AND(F524>0,G524>0,H524>0,I524>0,J524>0),AVERAGE(F524:J524),\"\")","v":""},{"$f":"IF(AND(F524>0,G524>0,H524>0,I524>0,J524>0),AVERAGE($K$12:K524),\"\")","v":""},{"$f":"IF(AND(F524>0,G524>0,H524>0,I524>0,J524>0),(K524-$E$4),\"\")","v":""},"",{"$f":"IF(AND(F524>0,G524>0,H524>0,I524>0,J524>0),ROUND(STDEV(F524:J524),2),\"\")","v":""},"","","","",{"$f":"IFERROR(IF(OR((ABS(N524)<=$E$6),(N524<1)),TRUE,FALSE),\"\")","v":""},"",null,null,{"$f":"IFERROR(MID(C524,SEARCH(\":\",C524)+1,10),\"\")","v":""},{"$error":"#UNKNOWN!"},"",{"$f":"IF($P$1=1,N524,M524)","v":""}]
[514,null,null,null,null,null,null,null,null,null,"",{"$f":"IF(AND(F525>0,G525>0,H525>0,I525>0,J525>0),AVERAGE($K$12:K525),\"\")","v":""},"",{"$f":"IF(AND(F525>0,G525>0,H525>0,I525>0,J525>0),MAX(F525:J525)-MIN(F525:J525),\"\")","v":""},"",{"$f":"IF(F525>0,IF(T525=FALSE,IF(U525=FALSE,\"<GA+WHP>\",\"<WHP>\"),IF(U525=FALSE,\"<GA>\",\"\")) & IF(V525=TRUE,\"<Trend>\",\"\") & IF(W525=TRUE,\"<Run>\",\"\")& IF(AND(ABS(T525+U525=2),V525+W525=0),\"OK\",\"\"),\"\")","v":""},"","","","","",null,null,"",{"$error":"#UNKNOWN!"},"",""]
[515,null,null,null,null,null,null,null,null,null,"",{"$f":"IF(AND(F526>0,G526>0,H526>0,I526>0,J526>0),AVERAGE($K$12:K526),\"\")","v":""},"","","","","","","","","",null,null,"",{"$error":"#UNKNOWN!"},"",""]
[516,null,null,null,null,null,null,null,null,null,"",{"$f":"IF(AND(F527>0,G527>0,H527>0,I527>0,J527>0),AVERAGE($K$12:K527),\"\")","v":""},"","","","","","","","","",null,null,"",{"$error":"#UNKNOWN!"},"",""]
[517,null,null,null,null,null,null,null,null,null,"",{"$f":"IF(AND(F528>0,G528>0,H528>0,I528>0,J528>0),AVERAGE($K$12:K528),\"\")","v":""},"","","","","","","","","",null,null,"",{"$error":"#UNKNOWN!"},"",""]
[518,null,null,null,null,null,null,null,null,null,"",{"$f":"IF(AND(F529>0,G529>0,H529>0,I529>0,J529>0),AVERAGE($K$12:K529),\"\")","v":""},"","","","","","","","","",{"$f":"OR(AND(K529>K528,K528>K527,K527>K526,K526>K525,K525>K524,K524>K523),AND(K529<K528,K528<K527,K527<K526,K526<K525,K525<K524,K524<K523))","v":null},{"$f":"OR(AND(K529>L529,K528>L529,K527>L529,K526>L529,K525>L529,K524>L529,K523>L529),AND(K529<L529,K528<L529,K527<L529,K526<L529,K525<L529,K524<L529,K523<L529))","v":null},"",{"$error":"#UNKNOWN!"},"",""]
[519,null,null,null,null,null,null,null,null,null,"",{"$f":"IF(AND(F530>0,G530>0,H530>0,I530>0,J530>0),AVERAGE($K$12:K530),\"\")","v":""},"","","","","","","","","",null,null,"",{"$error":"#UNKNOWN!"},"",""]
[520,null,null,null,null,null,null,null,null,null,"",{"$f":"IF(AND(F531>0,G531>0,H531>0,I531>0,J531>0),AVERAGE($K$12:K531),\"\")","v":""},"","","","","","","","","",null,null,"",{"$error":"#UNKNOWN!"},"",""]
[521,null,null,null,null,null,null,null,null,null,"",{"$f":"IF(AND(F532>0,G532>0,H532>0,I532>0,J532>0),AVERAGE($K$12:K532),\"\")","v":""},"","","","","","","","","",null,null,"",{"$error":"#UNKNOWN!"},"",""]
[522,null,null,null,null,null,null,null,null,null,"",{"$f":"IF(AND(F533>0,G533>0,H533>0,I533>0,J533>0),AVERAGE($K$12:K533),\"\")","v":""},"","","","","","","","","",null,null,"",{"$error":"#UNKNOWN!"},"",""]
[523,null,null,null,null,null,null,null,null,null,"",{"$f":"IF(AND(F534>0,G534>0,H534>0,I534>0,J534>0),AVERAGE($K$12:K534),\"\")","v":""},"","","","","","","","","",null,null,"",{"$error":"#UNKNOWN!"},"",""]
[524,null,null,null,null,null,null,null,null,null,"",{"$f":"IF(AND(F535>0,G535>0,H535>0,I535>0,J535>0),AVERAGE($K$12:K535),\"\")","v":""},"","","","","","","","","",null,null,"",{"$error":"#UNKNOWN!"},"",""]
[525,null,null,null,null,null,null,null,null,null,"",{"$f":"IF(AND(F536>0,G536>0,H536>0,I536>0,J536>0),AVERAGE($K$12:K536),\"\")","v":""},"","","","","","","","","",null,null,"",{"$error":"#UNKNOWN!"},"",""]
[526,null,null,null,null,null,null,null,null,null,"",{"$f":"IF(AND(F537>0,G537>0,H537>0,I537>0,J537>0),AVERAGE($K$12:K537),\"\")","v":""},"","","","","","","","","",null,null,"",{"$error":"#UNKNOWN!"},"",""]
[527,null,null,null,null,null,null,null,null,null,"",{"$f":"IF(AND(F538>0,G538>0,H538>0,I538>0,J538>0),AVERAGE($K$12:K538),\"\")","v":""},"","","","","","","","","",null,null,"",{"$error":"#UNKNOWN!"},"",""]
[528,null,null,null,null,null,null,null,null,null,"",{"$f":"IF(AND(F539>0,G539>0,H539>0,I539>0,J539>0),AVERAGE($K$12:K539),\"\")","v":""},"","","","","","","","","",null,null,"",{"$error":"#UNKNOWN!"},"",""]
[529,null,null,null,null,null,null,null,null,null,"",{"$f":"IF(AND(F540>0,G540>0,H540>0,I540>0,J540>0),AVERAGE($K$12:K540),\"\")","v":""},"","","","","","","","","",null,null,"",{"$error":"#UNKNOWN!"},"",""]
[530,null,null,null,null,null,null,null,null,null,"",{"$f":"IF(AND(F541>0,G541>0,H541>0,I541>0,J541>0),AVERAGE($K$12:K541),\"\")","v":""},"","","","","","","","","",null,null,"",{"$error":"#UNKNOWN!"},"",""]
[531,null,null,null,null,null,null,null,null,null,"",{"$f":"IF(AND(F542>0,G542>0,H542>0,I542>0,J542>0),AVERAGE($K$12:K542),\"\")","v":""},"","","","","","","","","",null,null,"",{"$error":"#UNKNOWN!"},"",""]
[532,null,null,null,null,null,null,null,null,null,"",{"$f":"IF(AND(F543>0,G543>0,H543>0,I543>0,J543>0),AVERAGE($K$12:K543),\"\")","v":""},"","","","","","","","","",null,null,"",{"$error":"#UNKNOWN!"},"",""]
[533,null,null,null,null,null,null,null,null,null,"",{"$f":"IF(AND(F544>0,G544>0,H544>0,I544>0,J544>0),AVERAGE($K$12:K544),\"\")","v":""},"","","","","","","","","",null,null,"",{"$error":"#UNKNOWN!"},"",""]
[534,null,null,null,null,null,null,null,null,null,"",{"$f":"IF(AND(F545>0,G545>0,H545>0,I545>0,J545>0),AVERAGE($K$12:K545),\"\")","v":""},"","","","","","","","","",null,null,"",{"$error":"#UNKNOWN!"},"",""]
[535,null,null,null,null,null,null,null,null,null,"",{"$f":"IF(AND(F546>0,G546>0,H546>0,I546>0,J546>0),AVERAGE($K$12:K546),\"\")","v":""},"","","","","","","","","",null,null,"",{"$error":"#UNKNOWN!"},"",""]
[536,null,null,null,null,null,null,null,null,null,"",{"$f":"IF(AND(F547>0,G547>0,H547>0,I547>0,J547>0),AVERAGE($K$12:K547),\"\")","v":""},"","","","","","","","","",null,null,"",{"$error":"#UNKNOWN!"},"",""]
[537,null,null,null,null,null,null,null,null,null,"",{"$f":"IF(AND(F548>0,G548>0,H548>0,I548>0,J548>0),AVERAGE($K$12:K548),\"\")","v":""},"","","","","","","","","",null,null,"",{"$error":"#UNKNOWN!"},"",""]
[538,null,null,null,null,null,null,null,null,null,"",{"$f":"IF(AND(F549>0,G549>0,H549>0,I549>0,J549>0),AVERAGE($K$12:K549),\"\")","v":""},"","","","","","","","","",null,null,"",{"$error":"#UNKNOWN!"},"",""]
[539,null,null,null,null,null,null,null,null,null,"",{"$f":"IF(AND(F550>0,G550>0,H550>0,I550>0,J550>0),AVERAGE($K$12:K550),\"\")","v":""},"","","","","","","","","",null,null,"",{"$error":"#UNKNOWN!"},"",""]
[540,null,null,null,null,null,null,null,null,null,"",{"$f":"IF(AND(F551>0,G551>0,H551>0,I551>0,J551>0),AVERAGE($K$12:K551),\"\")","v":""},"","","","","","","","","",null,null,"",{"$error":"#UNKNOWN!"},"",""]
[541,null,null,null,null,null,null,null,null,null,"",{"$f":"IF(AND(F552>0,G552>0,H552>0,I552>0,J552>0),AVERAGE($K$12:K552),\"\")","v":""},"","","","","","","","","",null,null,"",{"$error":"#UNKNOWN!"},"",""]
[542,null,null,null,null,null,null,null,null,null,"",{"$f":"IF(AND(F553>0,G553>0,H553>0,I553>0,J553>0),AVERAGE($K$12:K553),\"\")","v":""},"","","","","","","","","",null,null,"",{"$error":"#UNKNOWN!"},"",""]
[543,null,null,null,null,null,null,null,null,null,"",{"$f":"IF(AND(F554>0,G554>0,H554>0,I554>0,J554>0),AVERAGE($K$12:K554),\"\")","v":""},"","","","","","","","","",null,null,"",{"$error":"#UNKNOWN!"},"",""]
[544,null,null,null,null,null,null,null,null,null,"",{"$f":"IF(AND(F555>0,G555>0,H555>0,I555>0,J555>0),AVERAGE($K$12:K555),\"\")","v":""},"","","","","","","","","",null,null,"",{"$error":"#UNKNOWN!"},"",""]
[545,null,null,null,null,null,null,null,null,null,"",{"$f":"IF(AND(F556>0,G556>0,H556>0,I556>0,J556>0),AVERAGE($K$12:K556),\"\")","v":""},"","","","","","","","","",null,null,"",{"$error":"#UNKNOWN!"},"",""]
[546,null,null,null,null,null,null,null,null,null,"",{"$f":"IF(AND(F557>0,G557>0,H557>0,I557>0,J557>0),AVERAGE($K$12:K557),\"\")","v":""},"","","","","","","","","",null,null,"",{"$error":"#UNKNOWN!"},"",""]
[547,null,null,null,null,null,null,null,null,null,"",{"$f":"IF(AND(F558>0,G558>0,H558>0,I558>0,J558>0),AVERAGE($K$12:K558),\"\")","v":""},"","","","","","","","","",null,null,"",{"$error":"#UNKNOWN!"},"",""]
[548,null,null,null,null,null,null,null,null,null,"",{"$f":"IF(AND(F559>0,G559>0,H559>0,I559>0,J559>0),AVERAGE($K$12:K559),\"\")","v":""},"","","","","","","","","",null,null,"",{"$error":"#UNKNOWN!"},"",""]
[549,null,null,null,null,null,null,null,null,null,"",{"$f":"IF(AND(F560>0,G560>0,H560>0,I560>0,J560>0),AVERAGE($K$12:K560),\"\")","v":""},"","","","","","","","","",null,null,"",{"$error":"#UNKNOWN!"},"",""]
[550,null,null,null,null,null,null,null,null,null,"",{"$f":"IF(AND(F561>0,G561>0,H561>0,I561>0,J561>0),AVERAGE($K$12:K561),\"\")","v":""},"","","","","","","","","",null,null,"",{"$error":"#UNKNOWN!"},"",""]
[551,null,null,null,null,null,null,null,null,null,"",{"$f":"IF(AND(F562>0,G562>0,H562>0,I562>0,J562>0),AVERAGE($K$12:K562),\"\")","v":""},"","","","","","","","","",null,null,"",{"$error":"#UNKNOWN!"},"",""]
[552,null,null,null,null,null,null,null,null,null,"",{"$f":"IF(AND(F563>0,G563>0,H563>0,I563>0,J563>0),AVERAGE($K$12:K563),\"\")","v":""},"","","","","","","","","",null,null,"",{"$error":"#UNKNOWN!"},"",""]
[553,null,null,null,null,null,null,null,null,null,"",{"$f":"IF(AND(F564>0,G564>0,H564>0,I564>0,J564>0),AVERAGE($K$12:K564),\"\")","v":""},"","","","","","","","","",null,null,"",{"$error":"#UNKNOWN!"},"",""]
[554,null,null,null,null,null,null,null,null,null,"",{"$f":"IF(AND(F565>0,G565>0,H565>0,I565>0,J565>0),AVERAGE($K$12:K565),\"\")","v":""},"","","","","","","","","",null,null,"",{"$error":"#UNKNOWN!"},"",""]
[555,null,null,null,null,null,null,null,null,null,"",{"$f":"IF(AND(F566>0,G566>0,H566>0,I566>0,J566>0),AVERAGE($K$12:K566),\"\")","v":""},"","","","","","","","","",null,null,"",{"$error":"#UNKNOWN!"},"",""]
[556,null,null,null,null,null,null,null,null,null,"",{"$f":"IF(AND(F567>0,G567>0,H567>0,I567>0,J567>0),AVERAGE($K$12:K567),\"\")","v":""},"","","","","","","","","",null,null,"",{"$error":"#UNKNOWN!"},"",""]
[557,null,null,null,null,null,null,null,null,null,"",{"$f":"IF(AND(F568>0,G568>0,H568>0,I568>0,J568>0),AVERAGE($K$12:K568),\"\")","v":""},"","","","","","","","","",null,null,"",{"$error":"#UNKNOWN!"},"",""]
[558,null,null,null,null,null,null,null,null,null,"",{"$f":"IF(AND(F569>0,G569>0,H569>0,I569>0,J569>0),AVERAGE($K$12:K569),\"\")","v":""},"","","","","","","","","",null,null,"",{"$error":"#UNKNOWN!"},"",""]
[559,null,null,null,null,null,null,null,null,null,"",{"$f":"IF(AND(F570>0,G570>0,H570>0,I570>0,J570>0),AVERAGE($K$12:K570),\"\")","v":""},"","","","","","","","","",null,null,"",{"$error":"#UNKNOWN!"},"",""]
[560,null,null,null,null,null,null,null,null,null,"",{"$f":"IF(AND(F571>0,G571>0,H571>0,I571>0,J571>0),AVERAGE($K$12:K571),\"\")","v":""},"","","","","","","","","",null,null,"",{"$error":"#UNKNOWN!"},"",""]
[561,null,null,null,null,null,null,null,null,null,"",{"$f":"IF(AND(F572>0,G572>0,H572>0,I572>0,J572>0),AVERAGE($K$12:K572),\"\")","v":""},"","","","","","","","","",null,null,"",{"$error":"#UNKNOWN!"},"",""]
[562,null,null,null,null,null,null,null,null,null,"",{"$f":"IF(AND(F573>0,G573>0,H573>0,I573>0,J573>0),AVERAGE($K$12:K573),\"\")","v":""},"","","","","","","","","",null,null,"",{"$error":"#UNKNOWN!"},"",""]
[563,null,null,null,null,null,null,null,null,null,"",{"$f":"IF(AND(F574>0,G574>0,H574>0,I574>0,J574>0),AVERAGE($K$12:K574),\"\")","v":""},"","","","","","","","","",null,null,"",{"$error":"#UNKNOWN!"},"",""]
[564,null,null,null,null,null,null,null,null,null,"",{"$f":"IF(AND(F575>0,G575>0,H575>0,I575>0,J575>0),AVERAGE($K$12:K575),\"\")","v":""},"","","","","","","","","",null,null,"",{"$error":"#UNKNOWN!"},"",""]
[565,null,null,null,null,null,null,null,null,null,"",{"$f":"IF(AND(F576>0,G576>0,H576>0,I576>0,J576>0),AVERAGE($K$12:K576),\"\")","v":""},"","","","","","","","","",null,null,"",{"$error":"#UNKNOWN!"},"",""]
[566,null,null,null,null,null,null,null,null,null,"",{"$f":"IF(AND(F577>0,G577>0,H577>0,I577>0,J577>0),AVERAGE($K$12:K577),\"\")","v":""},"","","","","","","","","",null,null,"",{"$error":"#UNKNOWN!"},"",""]
[567,null,null,null,null,null,null,null,null,null,"",{"$f":"IF(AND(F578>0,G578>0,H578>0,I578>0,J578>0),AVERAGE($K$12:K578),\"\")","v":""},"","","","","","","","","",null,null,"",{"$error":"#UNKNOWN!"},"",""]
[568,null,null,null,null,null,null,null,null,null,"",{"$f":"IF(AND(F579>0,G579>0,H579>0,I579>0,J579>0),AVERAGE($K$12:K579),\"\")","v":""},"","","","","","","","","",null,null,"",{"$error":"#UNKNOWN!"},"",""]
[569,null,null,null,null,null,null,null,null,null,"",{"$f":"IF(AND(F580>0,G580>0,H580>0,I580>0,J580>0),AVERAGE($K$12:K580),\"\")","v":""},"","","","","","","","","",null,null,"",{"$error":"#UNKNOWN!"},"",""]
[570,null,null,null,null,null,null,null,null,null,"",{"$f":"IF(AND(F581>0,G581>0,H581>0,I581>0,J581>0),AVERAGE($K$12:K581),\"\")","v":""},"","","","","","","","","",null,null,"",{"$error":"#UNKNOWN!"},"",""]
[571,null,null,null,null,null,null,null,null,null,"",{"$f":"IF(AND(F582>0,G582>0,H582>0,I582>0,J582>0),AVERAGE($K$12:K582),\"\")","v":""},"","","","","","","","","",null,null,"",{"$error":"#UNKNOWN!"},"",""]
[572,null,null,null,null,null,null,null,null,null,"",{"$f":"IF(AND(F583>0,G583>0,H583>0,I583>0,J583>0),AVERAGE($K$12:K583),\"\")","v":""},"","","","","","","","","",null,null,"",{"$error":"#UNKNOWN!"},"",""]
[573,null,null,null,null,null,null,null,null,null,"",{"$f":"IF(AND(F584>0,G584>0,H584>0,I584>0,J584>0),AVERAGE($K$12:K584),\"\")","v":""},"","","","","","","","","",null,null,"",{"$error":"#UNKNOWN!"},"",""]
[574,null,null,null,null,null,null,null,null,null,"",{"$f":"IF(AND(F585>0,G585>0,H585>0,I585>0,J585>0),AVERAGE($K$12:K585),\"\")","v":""},"","","","","","","","","",null,null,"",{"$error":"#UNKNOWN!"},"",""]
[575,null,null,null,null,null,null,null,null,null,"",{"$f":"IF(AND(F586>0,G586>0,H586>0,I586>0,J586>0),AVERAGE($K$12:K586),\"\")","v":""},"","","","","","","","","",null,null,"",{"$error":"#UNKNOWN!"},{"$f":"IF($P$1=1,S586,Q586)","v":""},""]
[576,null,null,null,null,null,null,null,null,null,"",{"$f":"IF(AND(F587>0,G587>0,H587>0,I587>0,J587>0),AVERAGE($K$12:K587),\"\")","v":""},"","","","",{"$f":"IF(AND(F587>0,G587>0,H587>0,I587>0,J587>0),$E$5,\"\")","v":""},{"$f":"IF(AND(F587>0,G587>0,H587>0,I587>0,J587>0),$E$5*(-1),\"\")","v":""},{"$f":"IF(AND(F587>0,G587>0,H587>0,I587>0,J587>0),$E$6,\"\")","v":""},"",{"$f":"IFERROR(IF(ABS(M587)<=$E$5,TRUE,FALSE),\"\")","v":""},null,null,"",{"$f":"IF($P$1=1,#N/A,R587)","v":{"$error":"#UNKNOWN!"}},"",""]
[577,null,null,null,null,null,null,null,null,null,{"$f":"IF(AND(F588>0,G588>0,H588>0,I588>0,J588>0),AVERAGE(F588:J588),\"\")","v":""},{"$f":"IF(AND(F588>0,G588>0,H588>0,I588>0,J588>0),AVERAGE($K$12:K588),\"\")","v":""},{"$f":"IF(AND(F588>0,G588>0,H588>0,I588>0,J588>0),(K588-$E$4),\"\")","v":""},"",{"$f":"IF(AND(F588>0,G588>0,H588>0,I588>0,J588>0),ROUND(STDEV(F588:J588),2),\"\")","v":""},"","","","",{"$f":"IFERROR(IF(OR((ABS(N588)<=$E$6),(N588<1)),TRUE,FALSE),\"\")","v":""},"",null,null,{"$f":"IFERROR(MID(C588,SEARCH(\":\",C588)+1,10),\"\")","v":""},{"$error":"#UNKNOWN!"},"",{"$f":"IF($P$1=1,N588,M588)","v":""}]
[578,null,null,null,null,null,null,null,null,null,"",{"$f":"IF(AND(F589>0,G589>0,H589>0,I589>0,J589>0),AVERAGE($K$12:K589),\"\")","v":""},"",{"$f":"IF(AND(F589>0,G589>0,H589>0,I589>0,J589>0),MAX(F589:J589)-MIN(F589:J589),\"\")","v":""},"",{"$f":"IF(F589>0,IF(T589=FALSE,IF(U589=FALSE,\"<GA+WHP>\",\"<WHP>\"),IF(U589=FALSE,\"<GA>\",\"\")) & IF(V589=TRUE,\"<Trend>\",\"\") & IF(W589=TRUE,\"<Run>\",\"\")& IF(AND(ABS(T589+U589=2),V589+W589=0),\"OK\",\"\"),\"\")","v":""},"","","","","",null,null,"",{"$error":"#UNKNOWN!"},"",""]
[579,null,null,null,null,null,null,null,null,null,"",{"$f":"IF(AND(F590>0,G590>0,H590>0,I590>0,J590>0),AVERAGE($K$12:K590),\"\")","v":""},"","","","","","","","","",null,null,"",{"$error":"#UNKNOWN!"},"",""]
[580,null,null,null,null,null,null,null,null,null,"",{"$f":"IF(AND(F591>0,G591>0,H591>0,I591>0,J591>0),AVERAGE($K$12:K591),\"\")","v":""},"","","","","","","","","",null,null,"",{"$error":"#UNKNOWN!"},"",""]
[581,null,null,null,null,null,null,null,null,null,"",{"$f":"IF(AND(F592>0,G592>0,H592>0,I592>0,J592>0),AVERAGE($K$12:K592),\"\")","v":""},"","","","","","","","","",null,null,"",{"$error":"#UNKNOWN!"},"",""]
[582,null,null,null,null,null,null,null,null,null,"",{"$f":"IF(AND(F593>0,G593>0,H593>0,I593>0,J593>0),AVERAGE($K$12:K593),\"\")","v":""},"","","","","","","","","",{"$f":"OR(AND(K593>K592,K592>K591,K591>K590,K590>K589,K589>K588,K588>K587),AND(K593<K592,K592<K591,K591<K590,K590<K589,K589<K588,K588<K587))","v":null},{"$f":"OR(AND(K593>L593,K592>L593,K591>L593,K590>L593,K589>L593,K588>L593,K587>L593),AND(K593<L593,K592<L593,K591<L593,K590<L593,K589<L593,K588<L593,K587<L593))","v":null},"",{"$error":"#UNKNOWN!"},"",""]
[583,null,null,null,null,null,null,null,null,null,"",{"$f":"IF(AND(F594>0,G594>0,H594>0,I594>0,J594>0),AVERAGE($K$12:K594),\"\")","v":""},"","","","","","","","","",null,null,"",{"$error":"#UNKNOWN!"},"",""]
[584,null,null,null,null,null,null,null,null,null,"",{"$f":"IF(AND(F595>0,G595>0,H595>0,I595>0,J595>0),AVERAGE($K$12:K595),\"\")","v":""},"","","","","","","","","",null,null,"",{"$error":"#UNKNOWN!"},"",""]
[585,null,null,null,null,null,null,null,null,null,"",{"$f":"IF(AND(F596>0,G596>0,H596>0,I596>0,J596>0),AVERAGE($K$12:K596),\"\")","v":""},"","","","","","","","","",null,null,"",{"$error":"#UNKNOWN!"},"",""]
[586,null,null,null,null,null,null,null,null,null,"",{"$f":"IF(AND(F597>0,G597>0,H597>0,I597>0,J597>0),AVERAGE($K$12:K597),\"\")","v":""},"","","","","","","","","",null,null,"",{"$error":"#UNKNOWN!"},"",""]
[587,null,null,null,null,null,null,null,null,null,"",{"$f":"IF(AND(F598>0,G598>0,H598>0,I598>0,J598>0),AVERAGE($K$12:K598),\"\")","v":""},"","","","","","","","","",null,null,"",{"$error":"#UNKNOWN!"},"",""]
[588,null,null,null,null,null,null,null,null,null,"",{"$f":"IF(AND(F599>0,G599>0,H599>0,I599>0,J599>0),AVERAGE($K$12:K599),\"\")","v":""},"","","","","","","","","",null,null,"",{"$error":"#UNKNOWN!"},"",""]
[589,null,null,null,null,null,null,null,null,null,"",{"$f":"IF(AND(F600>0,G600>0,H600>0,I600>0,J600>0),AVERAGE($K$12:K600),\"\")","v":""},"","","","","","","","","",null,null,"",{"$error":"#UNKNOWN!"},"",""]
[590,null,null,null,null,null,null,null,null,null,"",{"$f":"IF(AND(F601>0,G601>0,H601>0,I601>0,J601>0),AVERAGE($K$12:K601),\"\")","v":""},"","","","","","","","","",null,null,"",{"$error":"#UNKNOWN!"},"",""]
[591,null,null,null,null,null,null,null,null,null,"",{"$f":"IF(AND(F602>0,G602>0,H602>0,I602>0,J602>0),AVERAGE($K$12:K602),\"\")","v":""},"","","","","","","","","",null,null,"",{"$error":"#UNKNOWN!"},"",""]
[592,null,null,null,null,null,null,null,null,null,"",{"$f":"IF(AND(F603>0,G603>0,H603>0,I603>0,J603>0),AVERAGE($K$12:K603),\"\")","v":""},"","","","","","","","","",null,null,"",{"$error":"#UNKNOWN!"},"",""]
[593,null,null,null,null,null,null,null,null,null,"",{"$f":"IF(AND(F604>0,G604>0,H604>0,I604>0,J604>0),AVERAGE($K$12:K604),\"\")","v":""},"","","","","","","","","",null,null,"",{"$error":"#UNKNOWN!"},"",""]
[594,null,null,null,null,null,null,null,null,null,"",{"$f":"IF(AND(F605>0,G605>0,H605>0,I605>0,J605>0),AVERAGE($K$12:K605),\"\")","v":""},"","","","","","","","","",null,null,"",{"$error":"#UNKNOWN!"},"",""]
[595,null,null,null,null,null,null,null,null,null,"",{"$f":"IF(AND(F606>0,G606>0,H606>0,I606>0,J606>0),AVERAGE($K$12:K606),\"\")","v":""},"","","","","","","","","",null,null,"",{"$error":"#UNKNOWN!"},"",""]
[596,null,null,null,null,null,null,null,null,null,"",{"$f":"IF(AND(F607>0,G607>0,H607>0,I607>0,J607>0),AVERAGE($K$12:K607),\"\")","v":""},"","","","","","","","","",null,null,"",{"$error":"#UNKNOWN!"},"",""]
[597,null,null,null,null,null,null,null,null,null,"",{"$f":"IF(AND(F608>0,G608>0,H608>0,I608>0,J608>0),AVERAGE($K$12:K608),\"\")","v":""},"","","","","","","","","",null,null,"",{"$error":"#UNKNOWN!"},"",""]
[598,null,null,null,null,null,null,null,null,null,"",{"$f":"IF(AND(F609>0,G609>0,H609>0,I609>0,J609>0),AVERAGE($K$12:K609),\"\")","v":""},"","","","","","","","","",null,null,"",{"$error":"#UNKNOWN!"},"",""]
[599,null,null,null,null,null,null,null,null,null,"",{"$f":"IF(AND(F610>0,G610>0,H610>0,I610>0,J610>0),AVERAGE($K$12:K610),\"\")","v":""},"","","","","","","","","",null,null,"",{"$error":"#UNKNOWN!"},"",""]
[600,null,null,null,null,null,null,null,null,null,"",{"$f":"IF(AND(F611>0,G611>0,H611>0,I611>0,J611>0),AVERAGE($K$12:K611),\"\")","v":""},"","","","","","","","","",null,null,"",{"$error":"#UNKNOWN!"},"",""]
[601,null,null,null,null,null,null,null,null,null,"",{"$f":"IF(AND(F612>0,G612>0,H612>0,I612>0,J612>0),AVERAGE($K$12:K612),\"\")","v":""},"","","","","","","","","",null,null,"",{"$error":"#UNKNOWN!"},"",""]
[602,null,null,null,null,null,null,null,null,null,"",{"$f":"IF(AND(F613>0,G613>0,H613>0,I613>0,J613>0),AVERAGE($K$12:K613),\"\")","v":""},"","","","","","","","","",null,null,"",{"$error":"#UNKNOWN!"},"",""]
[603,null,null,null,null,null,null,null,null,null,"",{"$f":"IF(AND(F614>0,G614>0,H614>0,I614>0,J614>0),AVERAGE($K$12:K614),\"\")","v":""},"","","","","","","","","",null,null,"",{"$error":"#UNKNOWN!"},"",""]
[604,null,null,null,null,null,null,null,null,null,"",{"$f":"IF(AND(F615>0,G615>0,H615>0,I615>0,J615>0),AVERAGE($K$12:K615),\"\")","v":""},"","","","","","","","","",null,null,"",{"$error":"#UNKNOWN!"},"",""]
[605,null,null,null,null,null,null,null,null,null,"",{"$f":"IF(AND(F616>0,G616>0,H616>0,I616>0,J616>0),AVERAGE($K$12:K616),\"\")","v":""},"","","","","","","","","",null,null,"",{"$error":"#UNKNOWN!"},"",""]
[606,null,null,null,null,null,null,null,null,null,"",{"$f":"IF(AND(F617>0,G617>0,H617>0,I617>0,J617>0),AVERAGE($K$12:K617),\"\")","v":""},"","","","","","","","","",null,null,"",{"$error":"#UNKNOWN!"},"",""]
[607,null,null,null,null,null,null,null,null,null,"",{"$f":"IF(AND(F618>0,G618>0,H618>0,I618>0,J618>0),AVERAGE($K$12:K618),\"\")","v":""},"","","","","","","","","",null,null,"",{"$error":"#UNKNOWN!"},"",""]
[608,null,null,null,null,null,null,null,null,null,"",{"$f":"IF(AND(F619>0,G619>0,H619>0,I619>0,J619>0),AVERAGE($K$12:K619),\"\")","v":""},"","","","","","","","","",null,null,"",{"$error":"#UNKNOWN!"},"",""]
[609,null,null,null,null,null,null,null,null,null,"",{"$f":"IF(AND(F620>0,G620>0,H620>0,I620>0,J620>0),AVERAGE($K$12:K620),\"\")","v":""},"","","","","","","","","",null,null,"",{"$error":"#UNKNOWN!"},"",""]
[610,null,null,null,null,null,null,null,null,null,"",{"$f":"IF(AND(F621>0,G621>0,H621>0,I621>0,J621>0),AVERAGE($K$12:K621),\"\")","v":""},"","","","","","","","","",null,null,"",{"$error":"#UNKNOWN!"},"",""]
[611,null,null,null,null,null,null,null,null,null,"",{"$f":"IF(AND(F622>0,G622>0,H622>0,I622>0,J622>0),AVERAGE($K$12:K622),\"\")","v":""},"","","","","","","","","",null,null,"",{"$error":"#UNKNOWN!"},"",""]
[612,null,null,null,null,null,null,null,null,null,"",{"$f":"IF(AND(F623>0,G623>0,H623>0,I623>0,J623>0),AVERAGE($K$12:K623),\"\")","v":""},"","","","","","","","","",null,null,"",{"$error":"#UNKNOWN!"},"",""]
[613,null,null,null,null,null,null,null,null,null,"",{"$f":"IF(AND(F624>0,G624>0,H624>0,I624>0,J624>0),AVERAGE($K$12:K624),\"\")","v":""},"","","","","","","","","",null,null,"",{"$error":"#UNKNOWN!"},"",""]
[614,null,null,null,null,null,null,null,null,null,"",{"$f":"IF(AND(F625>0,G625>0,H625>0,I625>0,J625>0),AVERAGE($K$12:K625),\"\")","v":""},"","","","","","","","","",null,null,"",{"$error":"#UNKNOWN!"},"",""]
[615,null,null,null,null,null,null,null,null,null,"",{"$f":"IF(AND(F626>0,G626>0,H626>0,I626>0,J626>0),AVERAGE($K$12:K626),\"\")","v":""},"","","","","","","","","",null,null,"",{"$error":"#UNKNOWN!"},"",""]
[616,null,null,null,null,null,null,null,null,null,"",{"$f":"IF(AND(F627>0,G627>0,H627>0,I627>0,J627>0),AVERAGE($K$12:K627),\"\")","v":""},"","","","","","","","","",null,null,"",{"$error":"#UNKNOWN!"},"",""]
[617,null,null,null,null,null,null,null,null,null,"",{"$f":"IF(AND(F628>0,G628>0,H628>0,I628>0,J628>0),AVERAGE($K$12:K628),\"\")","v":""},"","","","","","","","","",null,null,"",{"$error":"#UNKNOWN!"},"",""]
[618,null,null,null,null,null,null,null,null,null,"",{"$f":"IF(AND(F629>0,G629>0,H629>0,I629>0,J629>0),AVERAGE($K$12:K629),\"\")","v":""},"","","","","","","","","",null,null,"",{"$error":"#UNKNOWN!"},"",""]
[619,null,null,null,null,null,null,null,null,null,"",{"$f":"IF(AND(F630>0,G630>0,H630>0,I630>0,J630>0),AVERAGE($K$12:K630),\"\")","v":""},"","","","","","","","","",null,null,"",{"$error":"#UNKNOWN!"},"",""]
[620,null,null,null,null,null,null,null,null,null,"",{"$f":"IF(AND(F631>0,G631>0,H631>0,I631>0,J631>0),AVERAGE($K$12:K631),\"\")","v":""},"","","","","","","","","",null,null,"",{"$error":"#UNKNOWN!"},"",""]
[621,null,null,null,null,null,null,null,null,null,"",{"$f":"IF(AND(F632>0,G632>0,H632>0,I632>0,J632>0),AVERAGE($K$12:K632),\"\")","v":""},"","","","","","","","","",null,null,"",{"$error":"#UNKNOWN!"},"",""]
[622,null,null,null,null,null,null,null,null,null,"",{"$f":"IF(AND(F633>0,G633>0,H633>0,I633>0,J633>0),AVERAGE($K$12:K633),\"\")","v":""},"","","","","","","","","",null,null,"",{"$error":"#UNKNOWN!"},"",""]
[623,null,null,null,null,null,null,null,null,null,"",{"$f":"IF(AND(F634>0,G634>0,H634>0,I634>0,J634>0),AVERAGE($K$12:K634),\"\")","v":""},"","","","","","","","","",null,null,"",{"$error":"#UNKNOWN!"},"",""]
[624,null,null,null,null,null,null,null,null,null,"",{"$f":"IF(AND(F635>0,G635>0,H635>0,I635>0,J635>0),AVERAGE($K$12:K635),\"\")","v":""},"","","","","","","","","",null,null,"",{"$error":"#UNKNOWN!"},"",""]
[625,null,null,null,null,null,null,null,null,null,"",{"$f":"IF(AND(F636>0,G636>0,H636>0,I636>0,J636>0),AVERAGE($K$12:K636),\"\")","v":""},"","","","","","","","","",null,null,"",{"$error":"#UNKNOWN!"},"",""]
[626,null,null,null,null,null,null,null,null,null,"",{"$f":"IF(AND(F637>0,G637>0,H637>0,I637>0,J637>0),AVERAGE($K$12:K637),\"\")","v":""},"","","","","","","","","",null,null,"",{"$error":"#UNKNOWN!"},"",""]
[627,null,null,null,null,null,null,null,null,null,"",{"$f":"IF(AND(F638>0,G638>0,H638>0,I638>0,J638>0),AVERAGE($K$12:K638),\"\")","v":""},"","","","","","","","","",null,null,"",{"$error":"#UNKNOWN!"},"",""]
[628,null,null,null,null,null,null,null,null,null,"",{"$f":"IF(AND(F639>0,G639>0,H639>0,I639>0,J639>0),AVERAGE($K$12:K639),\"\")","v":""},"","","","","","","","","",null,null,"",{"$error":"#UNKNOWN!"},"",""]
[629,null,null,null,null,null,null,null,null,null,"",{"$f":"IF(AND(F640>0,G640>0,H640>0,I640>0,J640>0),AVERAGE($K$12:K640),\"\")","v":""},"","","","","","","","","",null,null,"",{"$error":"#UNKNOWN!"},"",""]
[630,null,null,null,null,null,null,null,null,null,"",{"$f":"IF(AND(F641>0,G641>0,H641>0,I641>0,J641>0),AVERAGE($K$12:K641),\"\")","v":""},"","","","","","","","","",null,null,"",{"$error":"#UNKNOWN!"},"",""]
[631,null,null,null,null,null,null,null,null,null,"",{"$f":"IF(AND(F642>0,G642>0,H642>0,I642>0,J642>0),AVERAGE($K$12:K642),\"\")","v":""},"","","","","","","","","",null,null,"",{"$error":"#UNKNOWN!"},"",""]
[632,null,null,null,null,null,null,null,null,null,"",{"$f":"IF(AND(F643>0,G643>0,H643>0,I643>0,J643>0),AVERAGE($K$12:K643),\"\")","v":""},"","","","","","","","","",null,null,"",{"$error":"#UNKNOWN!"},"",""]
[633,null,null,null,null,null,null,null,null,null,"",{"$f":"IF(AND(F644>0,G644>0,H644>0,I644>0,J644>0),AVERAGE($K$12:K644),\"\")","v":""},"","","","","","","","","",null,null,"",{"$error":"#UNKNOWN!"},"",""]
[634,null,null,null,null,null,null,null,null,null,"",{"$f":"IF(AND(F645>0,G645>0,H645>0,I645>0,J645>0),AVERAGE($K$12:K645),\"\")","v":""},"","","","","","","","","",null,null,"",{"$error":"#UNKNOWN!"},"",""]
[635,null,null,null,null,null,null,null,null,null,"",{"$f":"IF(AND(F646>0,G646>0,H646>0,I646>0,J646>0),AVERAGE($K$12:K646),\"\")","v":""},"","","","","","","","","",null,null,"",{"$error":"#UNKNOWN!"},"",""]
[636,null,null,null,null,null,null,null,null,null,"",{"$f":"IF(AND(F647>0,G647>0,H647>0,I647>0,J647>0),AVERAGE($K$12:K647),\"\")","v":""},"","","","","","","","","",null,null,"",{"$error":"#UNKNOWN!"},"",""]
[637,null,null,null,null,null,null,null,null,null,"",{"$f":"IF(AND(F648>0,G648>0,H648>0,I648>0,J648>0),AVERAGE($K$12:K648),\"\")","v":""},"","","","","","","","","",null,null,"",{"$error":"#UNKNOWN!"},"",""]
[638,null,null,null,null,null,null,null,null,null,"",{"$f":"IF(AND(F649>0,G649>0,H649>0,I649>0,J649>0),AVERAGE($K$12:K649),\"\")","v":""},"","","","","","","","","",null,null,"",{"$error":"#UNKNOWN!"},"",""]
[639,null,null,null,null,null,null,null,null,null,"",{"$f":"IF(AND(F650>0,G650>0,H650>0,I650>0,J650>0),AVERAGE($K$12:K650),\"\")","v":""},"","","","","","","","","",null,null,"",{"$error":"#UNKNOWN!"},{"$f":"IF($P$1=1,S650,Q650)","v":""},""]
[640,null,null,null,null,null,null,null,null,null,"",{"$f":"IF(AND(F651>0,G651>0,H651>0,I651>0,J651>0),AVERAGE($K$12:K651),\"\")","v":""},"","","","",{"$f":"IF(AND(F651>0,G651>0,H651>0,I651>0,J651>0),$E$5,\"\")","v":""},{"$f":"IF(AND(F651>0,G651>0,H651>0,I651>0,J651>0),$E$5*(-1),\"\")","v":""},{"$f":"IF(AND(F651>0,G651>0,H651>0,I651>0,J651>0),$E$6,\"\")","v":""},"",{"$f":"IFERROR(IF(ABS(M651)<=$E$5,TRUE,FALSE),\"\")","v":""},null,null,"",{"$f":"IF($P$1=1,#N/A,R651)","v":{"$error":"#UNKNOWN!"}},"",""]
[641,null,null,null,null,null,null,null,null,null,{"$f":"IF(AND(F652>0,G652>0,H652>0,I652>0,J652>0),AVERAGE(F652:J652),\"\")","v":""},{"$f":"IF(AND(F652>0,G652>0,H652>0,I652>0,J652>0),AVERAGE($K$12:K652),\"\")","v":""},{"$f":"IF(AND(F652>0,G652>0,H652>0,I652>0,J652>0),(K652-$E$4),\"\")","v":""},"",{"$f":"IF(AND(F652>0,G652>0,H652>0,I652>0,J652>0),ROUND(STDEV(F652:J652),2),\"\")","v":""},"","","","",{"$f":"IFERROR(IF(OR((ABS(N652)<=$E$6),(N652<1)),TRUE,FALSE),\"\")","v":""},"",null,null,{"$f":"IFERROR(MID(C652,SEARCH(\":\",C652)+1,10),\"\")","v":""},{"$error":"#UNKNOWN!"},"",{"$f":"IF($P$1=1,N652,M652)","v":""}]
[642,null,null,null,null,null,null,null,null,null,"",{"$f":"IF(AND(F653>0,G653>0,H653>0,I653>0,J653>0),AVERAGE($K$12:K653),\"\")","v":""},"",{"$f":"IF(AND(F653>0,G653>0,H653>0,I653>0,J653>0),MAX(F653:J653)-MIN(F653:J653),\"\")","v":""},"",{"$f":"IF(F653>0,IF(T653=FALSE,IF(U653=FALSE,\"<GA+WHP>\",\"<WHP>\"),IF(U653=FALSE,\"<GA>\",\"\")) & IF(V653=TRUE,\"<Trend>\",\"\") & IF(W653=TRUE,\"<Run>\",\"\")& IF(AND(ABS(T653+U653=2),V653+W653=0),\"OK\",\"\"),\"\")","v":""},"","","","","",null,null,"",{"$error":"#UNKNOWN!"},"",""]
[643,null,null,null,null,null,null,null,null,null,"",{"$f":"IF(AND(F654>0,G654>0,H654>0,I654>0,J654>0),AVERAGE($K$12:K654),\"\")","v":""},"","","","","","","","","",null,null,"",{"$error":"#UNKNOWN!"},"",""]
[644,null,null,null,null,null,null,null,null,null,"",{"$f":"IF(AND(F655>0,G655>0,H655>0,I655>0,J655>0),AVERAGE($K$12:K655),\"\")","v":""},"","","","","","","","","",null,null,"",{"$error":"#UNKNOWN!"},"",""]
[645,null,null,null,null,null,null,null,null,null,"",{"$f":"IF(AND(F656>0,G656>0,H656>0,I656>0,J656>0),AVERAGE($K$12:K656),\"\")","v":""},"","","","","","","","","",null,null,"",{"$error":"#UNKNOWN!"},"",""]
[646,null,null,null,null,null,null,null,null,null,"",{"$f":"IF(AND(F657>0,G657>0,H657>0,I657>0,J657>0),AVERAGE($K$12:K657),\"\")","v":""},"","","","","","","","","",{"$f":"OR(AND(K657>K656,K656>K655,K655>K654,K654>K653,K653>K652,K652>K651),AND(K657<K656,K656<K655,K655<K654,K654<K653,K653<K652,K652<K651))","v":null},{"$f":"OR(AND(K657>L657,K656>L657,K655>L657,K654>L657,K653>L657,K652>L657,K651>L657),AND(K657<L657,K656<L657,K655<L657,K654<L657,K653<L657,K652<L657,K651<L657))","v":null},"",{"$error":"#UNKNOWN!"},"",""]
[647,null,null,null,null,null,null,null,null,null,"",{"$f":"IF(AND(F658>0,G658>0,H658>0,I658>0,J658>0),AVERAGE($K$12:K658),\"\")","v":""},"","","","","","","","","",null,null,"",{"$error":"#UNKNOWN!"},"",""]
[648,null,null,null,null,null,null,null,null,null,"",{"$f":"IF(AND(F659>0,G659>0,H659>0,I659>0,J659>0),AVERAGE($K$12:K659),\"\")","v":""},"","","","","","","","","",null,null,"",{"$error":"#UNKNOWN!"},"",""]
[649,null,null,null,null,null,null,null,null,null,"",{"$f":"IF(AND(F660>0,G660>0,H660>0,I660>0,J660>0),AVERAGE($K$12:K660),\"\")","v":""},"","","","","","","","","",null,null,"",{"$error":"#UNKNOWN!"},"",""]
[650,null,null,null,null,null,null,null,null,null,"",{"$f":"IF(AND(F661>0,G661>0,H661>0,I661>0,J661>0),AVERAGE($K$12:K661),\"\")","v":""},"","","","","","","","","",null,null,"",{"$error":"#UNKNOWN!"},"",""]
[651,null,null,null,null,null,null,null,null,null,"",{"$f":"IF(AND(F662>0,G662>0,H662>0,I662>0,J662>0),AVERAGE($K$12:K662),\"\")","v":""},"","","","","","","","","",null,null,"",{"$error":"#UNKNOWN!"},"",""]
[652,null,null,null,null,null,null,null,null,null,"",{"$f":"IF(AND(F663>0,G663>0,H663>0,I663>0,J663>0),AVERAGE($K$12:K663),\"\")","v":""},"","","","","","","","","",null,null,"",{"$error":"#UNKNOWN!"},"",""]
[653,null,null,null,null,null,null,null,null,null,"",{"$f":"IF(AND(F664>0,G664>0,H664>0,I664>0,J664>0),AVERAGE($K$12:K664),\"\")","v":""},"","","","","","","","","",null,null,"",{"$error":"#UNKNOWN!"},"",""]
[654,null,null,null,null,null,null,null,null,null,"",{"$f":"IF(AND(F665>0,G665>0,H665>0,I665>0,J665>0),AVERAGE($K$12:K665),\"\")","v":""},"","","","","","","","","",null,null,"",{"$error":"#UNKNOWN!"},"",""]
[655,null,null,null,null,null,null,null,null,null,"",{"$f":"IF(AND(F666>0,G666>0,H666>0,I666>0,J666>0),AVERAGE($K$12:K666),\"\")","v":""},"","","","","","","","","",null,null,"",{"$error":"#UNKNOWN!"},"",""]
[656,null,null,null,null,null,null,null,null,null,"",{"$f":"IF(AND(F667>0,G667>0,H667>0,I667>0,J667>0),AVERAGE($K$12:K667),\"\")","v":""},"","","","","","","","","",null,null,"",{"$error":"#UNKNOWN!"},"",""]
[657,null,null,null,null,null,null,null,null,null,"",{"$f":"IF(AND(F668>0,G668>0,H668>0,I668>0,J668>0),AVERAGE($K$12:K668),\"\")","v":""},"","","","","","","","","",null,null,"",{"$error":"#UNKNOWN!"},"",""]
[658,null,null,null,null,null,null,null,null,null,"",{"$f":"IF(AND(F669>0,G669>0,H669>0,I669>0,J669>0),AVERAGE($K$12:K669),\"\")","v":""},"","","","","","","","","",null,null,"",{"$error":"#UNKNOWN!"},"",""]
[659,null,null,null,null,null,null,null,null,null,"",{"$f":"IF(AND(F670>0,G670>0,H670>0,I670>0,J670>0),AVERAGE($K$12:K670),\"\")","v":""},"","","","","","","","","",null,null,"",{"$error":"#UNKNOWN!"},"",""]
[660,null,null,null,null,null,null,null,null,null,"",{"$f":"IF(AND(F671>0,G671>0,H671>0,I671>0,J671>0),AVERAGE($K$12:K671),\"\")","v":""},"","","","","","","","","",null,null,"",{"$error":"#UNKNOWN!"},"",""]
[661,null,null,null,null,null,null,null,null,null,"",{"$f":"IF(AND(F672>0,G672>0,H672>0,I672>0,J672>0),AVERAGE($K$12:K672),\"\")","v":""},"","","","","","","","","",null,null,"",{"$error":"#UNKNOWN!"},"",""]
[662,null,null,null,null,null,null,null,null,null,"",{"$f":"IF(AND(F673>0,G673>0,H673>0,I673>0,J673>0),AVERAGE($K$12:K673),\"\")","v":""},"","","","","","","","","",null,null,"",{"$error":"#UNKNOWN!"},"",""]
[663,null,null,null,null,null,null,null,null,null,"",{"$f":"IF(AND(F674>0,G674>0,H674>0,I674>0,J674>0),AVERAGE($K$12:K674),\"\")","v":""},"","","","","","","","","",null,null,"",{"$error":"#UNKNOWN!"},"",""]
[664,null,null,null,null,null,null,null,null,null,"",{"$f":"IF(AND(F675>0,G675>0,H675>0,I675>0,J675>0),AVERAGE($K$12:K675),\"\")","v":""},"","","","","","","","","",null,null,"",{"$error":"#UNKNOWN!"},"",""]
[665,null,null,null,null,null,null,null,null,null,"",{"$f":"IF(AND(F676>0,G676>0,H676>0,I676>0,J676>0),AVERAGE($K$12:K676),\"\")","v":""},"","","","","","","","","",null,null,"",{"$error":"#UNKNOWN!"},"",""]
[666,null,null,null,null,null,null,null,null,null,"",{"$f":"IF(AND(F677>0,G677>0,H677>0,I677>0,J677>0),AVERAGE($K$12:K677),\"\")","v":""},"","","","","","","","","",null,null,"",{"$error":"#UNKNOWN!"},"",""]
[667,null,null,null,null,null,null,null,null,null,"",{"$f":"IF(AND(F678>0,G678>0,H678>0,I678>0,J678>0),AVERAGE($K$12:K678),\"\")","v":""},"","","","","","","","","",null,null,"",{"$error":"#UNKNOWN!"},"",""]
[668,null,null,null,null,null,null,null,null,null,"",{"$f":"IF(AND(F679>0,G679>0,H679>0,I679>0,J679>0),AVERAGE($K$12:K679),\"\")","v":""},"","","","","","","","","",null,null,"",{"$error":"#UNKNOWN!"},"",""]
[669,null,null,null,null,null,null,null,null,null,"",{"$f":"IF(AND(F680>0,G680>0,H680>0,I680>0,J680>0),AVERAGE($K$12:K680),\"\")","v":""},"","","","","","","","","",null,null,"",{"$error":"#UNKNOWN!"},"",""]
[670,null,null,null,null,null,null,null,null,null,"",{"$f":"IF(AND(F681>0,G681>0,H681>0,I681>0,J681>0),AVERAGE($K$12:K681),\"\")","v":""},"","","","","","","","","",null,null,"",{"$error":"#UNKNOWN!"},"",""]
[671,null,null,null,null,null,null,null,null,null,"",{"$f":"IF(AND(F682>0,G682>0,H682>0,I682>0,J682>0),AVERAGE($K$12:K682),\"\")","v":""},"","","","","","","","","",null,null,"",{"$error":"#UNKNOWN!"},"",""]
[672,null,null,null,null,null,null,null,null,null,"",{"$f":"IF(AND(F683>0,G683>0,H683>0,I683>0,J683>0),AVERAGE($K$12:K683),\"\")","v":""},"","","","","","","","","",null,null,"",{"$error":"#UNKNOWN!"},"",""]
[673,null,null,null,null,null,null,null,null,null,"",{"$f":"IF(AND(F684>0,G684>0,H684>0,I684>0,J684>0),AVERAGE($K$12:K684),\"\")","v":""},"","","","","","","","","",null,null,"",{"$error":"#UNKNOWN!"},"",""]
[674,null,null,null,null,null,null,null,null,null,"",{"$f":"IF(AND(F685>0,G685>0,H685>0,I685>0,J685>0),AVERAGE($K$12:K685),\"\")","v":""},"","","","","","","","","",null,null,"",{"$error":"#UNKNOWN!"},"",""]
[675,null,null,null,null,null,null,null,null,null,"",{"$f":"IF(AND(F686>0,G686>0,H686>0,I686>0,J686>0),AVERAGE($K$12:K686),\"\")","v":""},"","","","","","","","","",null,null,"",{"$error":"#UNKNOWN!"},"",""]
[676,null,null,null,null,null,null,null,null,null,"",{"$f":"IF(AND(F687>0,G687>0,H687>0,I687>0,J687>0),AVERAGE($K$12:K687),\"\")","v":""},"","","","","","","","","",null,null,"",{"$error":"#UNKNOWN!"},"",""]
[677,null,null,null,null,null,null,null,null,null,"",{"$f":"IF(AND(F688>0,G688>0,H688>0,I688>0,J688>0),AVERAGE($K$12:K688),\"\")","v":""},"","","","","","","","","",null,null,"",{"$error":"#UNKNOWN!"},"",""]
[678,null,null,null,null,null,null,null,null,null,"",{"$f":"IF(AND(F689>0,G689>0,H689>0,I689>0,J689>0),AVERAGE($K$12:K689),\"\")","v":""},"","","","","","","","","",null,null,"",{"$error":"#UNKNOWN!"},"",""]
[679,null,null,null,null,null,null,null,null,null,"",{"$f":"IF(AND(F690>0,G690>0,H690>0,I690>0,J690>0),AVERAGE($K$12:K690),\"\")","v":""},"","","","","","","","","",null,null,"",{"$error":"#UNKNOWN!"},"",""]
[680,null,null,null,null,null,null,null,null,null,"",{"$f":"IF(AND(F691>0,G691>0,H691>0,I691>0,J691>0),AVERAGE($K$12:K691),\"\")","v":""},"","","","","","","","","",null,null,"",{"$error":"#UNKNOWN!"},"",""]
[681,null,null,null,null,null,null,null,null,null,"",{"$f":"IF(AND(F692>0,G692>0,H692>0,I692>0,J692>0),AVERAGE($K$12:K692),\"\")","v":""},"","","","","","","","","",null,null,"",{"$error":"#UNKNOWN!"},"",""]
[682,null,null,null,null,null,null,null,null,null,"",{"$f":"IF(AND(F693>0,G693>0,H693>0,I693>0,J693>0),AVERAGE($K$12:K693),\"\")","v":""},"","","","","","","","","",null,null,"",{"$error":"#UNKNOWN!"},"",""]
[683,null,null,null,null,null,null,null,null,null,"",{"$f":"IF(AND(F694>0,G694>0,H694>0,I694>0,J694>0),AVERAGE($K$12:K694),\"\")","v":""},"","","","","","","","","",null,null,"",{"$error":"#UNKNOWN!"},"",""]
[684,null,null,null,null,null,null,null,null,null,"",{"$f":"IF(AND(F695>0,G695>0,H695>0,I695>0,J695>0),AVERAGE($K$12:K695),\"\")","v":""},"","","","","","","","","",null,null,"",{"$error":"#UNKNOWN!"},"",""]
[685,null,null,null,null,null,null,null,null,null,"",{"$f":"IF(AND(F696>0,G696>0,H696>0,I696>0,J696>0),AVERAGE($K$12:K696),\"\")","v":""},"","","","","","","","","",null,null,"",{"$error":"#UNKNOWN!"},"",""]
[686,null,null,null,null,null,null,null,null,null,"",{"$f":"IF(AND(F697>0,G697>0,H697>0,I697>0,J697>0),AVERAGE($K$12:K697),\"\")","v":""},"","","","","","","","","",null,null,"",{"$error":"#UNKNOWN!"},"",""]
[687,null,null,null,null,null,null,null,null,null,"",{"$f":"IF(AND(F698>0,G698>0,H698>0,I698>0,J698>0),AVERAGE($K$12:K698),\"\")","v":""},"","","","","","","","","",null,null,"",{"$error":"#UNKNOWN!"},"",""]
[688,null,null,null,null,null,null,null,null,null,"",{"$f":"IF(AND(F699>0,G699>0,H699>0,I699>0,J699>0),AVERAGE($K$12:K699),\"\")","v":""},"","","","","","","","","",null,null,"",{"$error":"#UNKNOWN!"},"",""]
[689,null,null,null,null,null,null,null,null,null,"",{"$f":"IF(AND(F700>0,G700>0,H700>0,I700>0,J700>0),AVERAGE($K$12:K700),\"\")","v":""},"","","","","","","","","",null,null,"",{"$error":"#UNKNOWN!"},"",""]
[690,null,null,null,null,null,null,null,null,null,"",{"$f":"IF(AND(F701>0,G701>0,H701>0,I701>0,J701>0),AVERAGE($K$12:K701),\"\")","v":""},"","","","","","","","","",null,null,"",{"$error":"#UNKNOWN!"},"",""]
[691,null,null,null,null,null,null,null,null,null,"",{"$f":"IF(AND(F702>0,G702>0,H702>0,I702>0,J702>0),AVERAGE($K$12:K702),\"\")","v":""},"","","","","","","","","",null,null,"",{"$error":"#UNKNOWN!"},"",""]
[692,null,null,null,null,null,null,null,null,null,"",{"$f":"IF(AND(F703>0,G703>0,H703>0,I703>0,J703>0),AVERAGE($K$12:K703),\"\")","v":""},"","","","","","","","","",null,null,"",{"$error":"#UNKNOWN!"},"",""]
[693,null,null,null,null,null,null,null,null,null,"",{"$f":"IF(AND(F704>0,G704>0,H704>0,I704>0,J704>0),AVERAGE($K$12:K704),\"\")","v":""},"","","","","","","","","",null,null,"",{"$error":"#UNKNOWN!"},"",""]
[694,null,null,null,null,null,null,null,null,null,"",{"$f":"IF(AND(F705>0,G705>0,H705>0,I705>0,J705>0),AVERAGE($K$12:K705),\"\")","v":""},"","","","","","","","","",null,null,"",{"$error":"#UNKNOWN!"},"",""]
[695,null,null,null,null,null,null,null,null,null,"",{"$f":"IF(AND(F706>0,G706>0,H706>0,I706>0,J706>0),AVERAGE($K$12:K706),\"\")","v":""},"","","","","","","","","",null,null,"",{"$error":"#UNKNOWN!"},"",""]
[696,null,null,null,null,null,null,null,null,null,"",{"$f":"IF(AND(F707>0,G707>0,H707>0,I707>0,J707>0),AVERAGE($K$12:K707),\"\")","v":""},"","","","","","","","","",null,null,"",{"$error":"#UNKNOWN!"},"",""]
[697,null,null,null,null,null,null,null,null,null,"",{"$f":"IF(AND(F708>0,G708>0,H708>0,I708>0,J708>0),AVERAGE($K$12:K708),\"\")","v":""},"","","","","","","","","",null,null,"",{"$error":"#UNKNOWN!"},"",""]
[698,null,null,null,null,null,null,null,null,null,"",{"$f":"IF(AND(F709>0,G709>0,H709>0,I709>0,J709>0),AVERAGE($K$12:K709),\"\")","v":""},"","","","","","","","","",null,null,"",{"$error":"#UNKNOWN!"},"",""]
[699,null,null,null,null,null,null,null,null,null,"",{"$f":"IF(AND(F710>0,G710>0,H710>0,I710>0,J710>0),AVERAGE($K$12:K710),\"\")","v":""},"","","","","","","","","",null,null,"",{"$error":"#UNKNOWN!"},"",""]
[700,null,null,null,null,null,null,null,null,null,"",{"$f":"IF(AND(F711>0,G711>0,H711>0,I711>0,J711>0),AVERAGE($K$12:K711),\"\")","v":""},"","","","","","","","","",null,null,"",{"$error":"#UNKNOWN!"},"",""]
[701,null,null,null,null,null,null,null,null,null,"",{"$f":"IF(AND(F712>0,G712>0,H712>0,I712>0,J712>0),AVERAGE($K$12:K712),\"\")","v":""},"","","","","","","","","",null,null,"",{"$error":"#UNKNOWN!"},"",""]
[702,null,null,null,null,null,null,null,null,null,"",{"$f":"IF(AND(F713>0,G713>0,H713>0,I713>0,J713>0),AVERAGE($K$12:K713),\"\")","v":""},"","","","","","","","","",null,null,"",{"$error":"#UNKNOWN!"},"",""]
[703,null,null,null,null,null,null,null,null,null,"",{"$f":"IF(AND(F714>0,G714>0,H714>0,I714>0,J714>0),AVERAGE($K$12:K714),\"\")","v":""},"","","","","","","","","",null,null,"",{"$error":"#UNKNOWN!"},{"$f":"IF($P$1=1,S714,Q714)","v":""},""]
[704,null,null,null,null,null,null,null,null,null,"",{"$f":"IF(AND(F715>0,G715>0,H715>0,I715>0,J715>0),AVERAGE($K$12:K715),\"\")","v":""},"","","","",{"$f":"IF(AND(F715>0,G715>0,H715>0,I715>0,J715>0),$E$5,\"\")","v":""},{"$f":"IF(AND(F715>0,G715>0,H715>0,I715>0,J715>0),$E$5*(-1),\"\")","v":""},{"$f":"IF(AND(F715>0,G715>0,H715>0,I715>0,J715>0),$E$6,\"\")","v":""},"",{"$f":"IFERROR(IF(ABS(M715)<=$E$5,TRUE,FALSE),\"\")","v":""},null,null,"",{"$f":"IF($P$1=1,#N/A,R715)","v":{"$error":"#UNKNOWN!"}},"",""]
[705,null,null,null,null,null,null,null,null,null,{"$f":"IF(AND(F716>0,G716>0,H716>0,I716>0,J716>0),AVERAGE(F716:J716),\"\")","v":""},{"$f":"IF(AND(F716>0,G716>0,H716>0,I716>0,J716>0),AVERAGE($K$12:K716),\"\")","v":""},{"$f":"IF(AND(F716>0,G716>0,H716>0,I716>0,J716>0),(K716-$E$4),\"\")","v":""},"",{"$f":"IF(AND(F716>0,G716>0,H716>0,I716>0,J716>0),ROUND(STDEV(F716:J716),2),\"\")","v":""},"","","","",{"$f":"IFERROR(IF(OR((ABS(N716)<=$E$6),(N716<1)),TRUE,FALSE),\"\")","v":""},"",null,null,{"$f":"IFERROR(MID(C716,SEARCH(\":\",C716)+1,10),\"\")","v":""},{"$error":"#UNKNOWN!"},"",{"$f":"IF($P$1=1,N716,M716)","v":""}]
[706,null,null,null,null,null,null,null,null,null,"",{"$f":"IF(AND(F717>0,G717>0,H717>0,I717>0,J717>0),AVERAGE($K$12:K717),\"\")","v":""},"",{"$f":"IF(AND(F717>0,G717>0,H717>0,I717>0,J717>0),MAX(F717:J717)-MIN(F717:J717),\"\")","v":""},"",{"$f":"IF(F717>0,IF(T717=FALSE,IF(U717=FALSE,\"<GA+WHP>\",\"<WHP>\"),IF(U717=FALSE,\"<GA>\",\"\")) & IF(V717=TRUE,\"<Trend>\",\"\") & IF(W717=TRUE,\"<Run>\",\"\")& IF(AND(ABS(T717+U717=2),V717+W717=0),\"OK\",\"\"),\"\")","v":""},"","","","","",null,null,"",{"$error":"#UNKNOWN!"},"",""]
[707,null,null,null,null,null,null,null,null,null,"",{"$f":"IF(AND(F718>0,G718>0,H718>0,I718>0,J718>0),AVERAGE($K$12:K718),\"\")","v":""},"","","","","","","","","",null,null,"",{"$error":"#UNKNOWN!"},"",""]
[708,null,null,null,null,null,null,null,null,null,"",{"$f":"IF(AND(F719>0,G719>0,H719>0,I719>0,J719>0),AVERAGE($K$12:K719),\"\")","v":""},"","","","","","","","","",null,null,"",{"$error":"#UNKNOWN!"},"",""]
[709,null,null,null,null,null,null,null,null,null,"",{"$f":"IF(AND(F720>0,G720>0,H720>0,I720>0,J720>0),AVERAGE($K$12:K720),\"\")","v":""},"","","","","","","","","",null,null,"",{"$error":"#UNKNOWN!"},"",""]
[710,null,null,null,null,null,null,null,null,null,"",{"$f":"IF(AND(F721>0,G721>0,H721>0,I721>0,J721>0),AVERAGE($K$12:K721),\"\")","v":""},"","","","","","","","","",{"$f":"OR(AND(K721>K720,K720>K719,K719>K718,K718>K717,K717>K716,K716>K715),AND(K721<K720,K720<K719,K719<K718,K718<K717,K717<K716,K716<K715))","v":null},{"$f":"OR(AND(K721>L721,K720>L721,K719>L721,K718>L721,K717>L721,K716>L721,K715>L721),AND(K721<L721,K720<L721,K719<L721,K718<L721,K717<L721,K716<L721,K715<L721))","v":null},"",{"$error":"#UNKNOWN!"},"",""]
[711,null,null,null,null,null,null,null,null,null,"",{"$f":"IF(AND(F722>0,G722>0,H722>0,I722>0,J722>0),AVERAGE($K$12:K722),\"\")","v":""},"","","","","","","","","",null,null,"",{"$error":"#UNKNOWN!"},"",""]
[712,null,null,null,null,null,null,null,null,null,"",{"$f":"IF(AND(F723>0,G723>0,H723>0,I723>0,J723>0),AVERAGE($K$12:K723),\"\")","v":""},"","","","","","","","","",null,null,"",{"$error":"#UNKNOWN!"},"",""]
[713,null,null,null,null,null,null,null,null,null,"",{"$f":"IF(AND(F724>0,G724>0,H724>0,I724>0,J724>0),AVERAGE($K$12:K724),\"\")","v":""},"","","","","","","","","",null,null,"",{"$error":"#UNKNOWN!"},"",""]
[714,null,null,null,null,null,null,null,null,null,"",{"$f":"IF(AND(F725>0,G725>0,H725>0,I725>0,J725>0),AVERAGE($K$12:K725),\"\")","v":""},"","","","","","","","","",null,null,"",{"$error":"#UNKNOWN!"},"",""]
[715,null,null,null,null,null,null,null,null,null,"",{"$f":"IF(AND(F726>0,G726>0,H726>0,I726>0,J726>0),AVERAGE($K$12:K726),\"\")","v":""},"","","","","","","","","",null,null,"",{"$error":"#UNKNOWN!"},"",""]
[716,null,null,null,null,null,null,null,null,null,"",{"$f":"IF(AND(F727>0,G727>0,H727>0,I727>0,J727>0),AVERAGE($K$12:K727),\"\")","v":""},"","","","","","","","","",null,null,"",{"$error":"#UNKNOWN!"},"",""]
[717,null,null,null,null,null,null,null,null,null,"",{"$f":"IF(AND(F728>0,G728>0,H728>0,I728>0,J728>0),AVERAGE($K$12:K728),\"\")","v":""},"","","","","","","","","",null,null,"",{"$error":"#UNKNOWN!"},"",""]
[718,null,null,null,null,null,null,null,null,null,"",{"$f":"IF(AND(F729>0,G729>0,H729>0,I729>0,J729>0),AVERAGE($K$12:K729),\"\")","v":""},"","","","","","","","","",null,null,"",{"$error":"#UNKNOWN!"},"",""]
[719,null,null,null,null,null,null,null,null,null,"",{"$f":"IF(AND(F730>0,G730>0,H730>0,I730>0,J730>0),AVERAGE($K$12:K730),\"\")","v":""},"","","","","","","","","",null,null,"",{"$error":"#UNKNOWN!"},"",""]
[720,null,null,null,null,null,null,null,null,null,"",{"$f":"IF(AND(F731>0,G731>0,H731>0,I731>0,J731>0),AVERAGE($K$12:K731),\"\")","v":""},"","","","","","","","","",null,null,"",{"$error":"#UNKNOWN!"},"",""]
[721,null,null,null,null,null,null,null,null,null,"",{"$f":"IF(AND(F732>0,G732>0,H732>0,I732>0,J732>0),AVERAGE($K$12:K732),\"\")","v":""},"","","","","","","","","",null,null,"",{"$error":"#UNKNOWN!"},"",""]
[722,null,null,null,null,null,null,null,null,null,"",{"$f":"IF(AND(F733>0,G733>0,H733>0,I733>0,J733>0),AVERAGE($K$12:K733),\"\")","v":""},"","","","","","","","","",null,null,"",{"$error":"#UNKNOWN!"},"",""]
[723,null,null,null,null,null,null,null,null,null,"",{"$f":"IF(AND(F734>0,G734>0,H734>0,I734>0,J734>0),AVERAGE($K$12:K734),\"\")","v":""},"","","","","","","","","",null,null,"",{"$error":"#UNKNOWN!"},"",""]
[724,null,null,null,null,null,null,null,null,null,"",{"$f":"IF(AND(F735>0,G735>0,H735>0,I735>0,J735>0),AVERAGE($K$12:K735),\"\")","v":""},"","","","","","","","","",null,null,"",{"$error":"#UNKNOWN!"},"",""]
[725,null,null,null,null,null,null,null,null,null,"",{"$f":"IF(AND(F736>0,G736>0,H736>0,I736>0,J736>0),AVERAGE($K$12:K736),\"\")","v":""},"","","","","","","","","",null,null,"",{"$error":"#UNKNOWN!"},"",""]
[726,null,null,null,null,null,null,null,null,null,"",{"$f":"IF(AND(F737>0,G737>0,H737>0,I737>0,J737>0),AVERAGE($K$12:K737),\"\")","v":""},"","","","","","","","","",null,null,"",{"$error":"#UNKNOWN!"},"",""]
[727,null,null,null,null,null,null,null,null,null,"",{"$f":"IF(AND(F738>0,G738>0,H738>0,I738>0,J738>0),AVERAGE($K$12:K738),\"\")","v":""},"","","","","","","","","",null,null,"",{"$error":"#UNKNOWN!"},"",""]
[728,null,null,null,null,null,null,null,null,null,"",{"$f":"IF(AND(F739>0,G739>0,H739>0,I739>0,J739>0),AVERAGE($K$12:K739),\"\")","v":""},"","","","","","","","","",null,null,"",{"$error":"#UNKNOWN!"},"",""]
[729,null,null,null,null,null,null,null,null,null,"",{"$f":"IF(AND(F740>0,G740>0,H740>0,I740>0,J740>0),AVERAGE($K$12:K740),\"\")","v":""},"","","","","","","","","",null,null,"",{"$error":"#UNKNOWN!"},"",""]
[730,null,null,null,null,null,null,null,null,null,"",{"$f":"IF(AND(F741>0,G741>0,H741>0,I741>0,J741>0),AVERAGE($K$12:K741),\"\")","v":""},"","","","","","","","","",null,null,"",{"$error":"#UNKNOWN!"},"",""]
[731,null,null,null,null,null,null,null,null,null,"",{"$f":"IF(AND(F742>0,G742>0,H742>0,I742>0,J742>0),AVERAGE($K$12:K742),\"\")","v":""},"","","","","","","","","",null,null,"",{"$error":"#UNKNOWN!"},"",""]
[732,null,null,null,null,null,null,null,null,null,"",{"$f":"IF(AND(F743>0,G743>0,H743>0,I743>0,J743>0),AVERAGE($K$12:K743),\"\")","v":""},"","","","","","","","","",null,null,"",{"$error":"#UNKNOWN!"},"",""]
[733,null,null,null,null,null,null,null,null,null,"",{"$f":"IF(AND(F744>0,G744>0,H744>0,I744>0,J744>0),AVERAGE($K$12:K744),\"\")","v":""},"","","","","","","","","",null,null,"",{"$error":"#UNKNOWN!"},"",""]
[734,null,null,null,null,null,null,null,null,null,"",{"$f":"IF(AND(F745>0,G745>0,H745>0,I745>0,J745>0),AVERAGE($K$12:K745),\"\")","v":""},"","","","","","","","","",null,null,"",{"$error":"#UNKNOWN!"},"",""]
[735,null,null,null,null,null,null,null,null,null,"",{"$f":"IF(AND(F746>0,G746>0,H746>0,I746>0,J746>0),AVERAGE($K$12:K746),\"\")","v":""},"","","","","","","","","",null,null,"",{"$error":"#UNKNOWN!"},"",""]
[736,null,null,null,null,null,null,null,null,null,"",{"$f":"IF(AND(F747>0,G747>0,H747>0,I747>0,J747>0),AVERAGE($K$12:K747),\"\")","v":""},"","","","","","","","","",null,null,"",{"$error":"#UNKNOWN!"},"",""]
[737,null,null,null,null,null,null,null,null,null,"",{"$f":"IF(AND(F748>0,G748>0,H748>0,I748>0,J748>0),AVERAGE($K$12:K748),\"\")","v":""},"","","","","","","","","",null,null,"",{"$error":"#UNKNOWN!"},"",""]
[738,null,null,null,null,null,null,null,null,null,"",{"$f":"IF(AND(F749>0,G749>0,H749>0,I749>0,J749>0),AVERAGE($K$12:K749),\"\")","v":""},"","","","","","","","","",null,null,"",{"$error":"#UNKNOWN!"},"",""]
[739,null,null,null,null,null,null,null,null,null,"",{"$f":"IF(AND(F750>0,G750>0,H750>0,I750>0,J750>0),AVERAGE($K$12:K750),\"\")","v":""},"","","","","","","","","",null,null,"",{"$error":"#UNKNOWN!"},"",""]
[740,null,null,null,null,null,null,null,null,null,"",{"$f":"IF(AND(F751>0,G751>0,H751>0,I751>0,J751>0),AVERAGE($K$12:K751),\"\")","v":""},"","","","","","","","","",null,null,"",{"$error":"#UNKNOWN!"},"",""]
[741,null,null,null,null,null,null,null,null,null,"",{"$f":"IF(AND(F752>0,G752>0,H752>0,I752>0,J752>0),AVERAGE($K$12:K752),\"\")","v":""},"","","","","","","","","",null,null,"",{"$error":"#UNKNOWN!"},"",""]
[742,null,null,null,null,null,null,null,null,null,"",{"$f":"IF(AND(F753>0,G753>0,H753>0,I753>0,J753>0),AVERAGE($K$12:K753),\"\")","v":""},"","","","","","","","","",null,null,"",{"$error":"#UNKNOWN!"},"",""]
[743,null,null,null,null,null,null,null,null,null,"",{"$f":"IF(AND(F754>0,G754>0,H754>0,I754>0,J754>0),AVERAGE($K$12:K754),\"\")","v":""},"","","","","","","","","",null,null,"",{"$error":"#UNKNOWN!"},"",""]
[744,null,null,null,null,null,null,null,null,null,"",{"$f":"IF(AND(F755>0,G755>0,H755>0,I755>0,J755>0),AVERAGE($K$12:K755),\"\")","v":""},"","","","","","","","","",null,null,"",{"$error":"#UNKNOWN!"},"",""]
[745,null,null,null,null,null,null,null,null,null,"",{"$f":"IF(AND(F756>0,G756>0,H756>0,I756>0,J756>0),AVERAGE($K$12:K756),\"\")","v":""},"","","","","","","","","",null,null,"",{"$error":"#UNKNOWN!"},"",""]
[746,null,null,null,null,null,null,null,null,null,"",{"$f":"IF(AND(F757>0,G757>0,H757>0,I757>0,J757>0),AVERAGE($K$12:K757),\"\")","v":""},"","","","","","","","","",null,null,"",{"$error":"#UNKNOWN!"},"",""]
[747,null,null,null,null,null,null,null,null,null,"",{"$f":"IF(AND(F758>0,G758>0,H758>0,I758>0,J758>0),AVERAGE($K$12:K758),\"\")","v":""},"","","","","","","","","",null,null,"",{"$error":"#UNKNOWN!"},"",""]
[748,null,null,null,null,null,null,null,null,null,"",{"$f":"IF(AND(F759>0,G759>0,H759>0,I759>0,J759>0),AVERAGE($K$12:K759),\"\")","v":""},"","","","","","","","","",null,null,"",{"$error":"#UNKNOWN!"},"",""]
[749,null,null,null,null,null,null,null,null,null,"",{"$f":"IF(AND(F760>0,G760>0,H760>0,I760>0,J760>0),AVERAGE($K$12:K760),\"\")","v":""},"","","","","","","","","",null,null,"",{"$error":"#UNKNOWN!"},"",""]
[750,null,null,null,null,null,null,null,null,null,"",{"$f":"IF(AND(F761>0,G761>0,H761>0,I761>0,J761>0),AVERAGE($K$12:K761),\"\")","v":""},"","","","","","","","","",null,null,"",{"$error":"#UNKNOWN!"},"",""]
[751,null,null,null,null,null,null,null,null,null,"",{"$f":"IF(AND(F762>0,G762>0,H762>0,I762>0,J762>0),AVERAGE($K$12:K762),\"\")","v":""},"","","","","","","","","",null,null,"",{"$error":"#UNKNOWN!"},"",""]
[752,null,null,null,null,null,null,null,null,null,"",{"$f":"IF(AND(F763>0,G763>0,H763>0,I763>0,J763>0),AVERAGE($K$12:K763),\"\")","v":""},"","","","","","","","","",null,null,"",{"$error":"#UNKNOWN!"},"",""]
[753,null,null,null,null,null,null,null,null,null,"",{"$f":"IF(AND(F764>0,G764>0,H764>0,I764>0,J764>0),AVERAGE($K$12:K764),\"\")","v":""},"","","","","","","","","",null,null,"",{"$error":"#UNKNOWN!"},"",""]
[754,null,null,null,null,null,null,null,null,null,"",{"$f":"IF(AND(F765>0,G765>0,H765>0,I765>0,J765>0),AVERAGE($K$12:K765),\"\")","v":""},"","","","","","","","","",null,null,"",{"$error":"#UNKNOWN!"},"",""]
[755,null,null,null,null,null,null,null,null,null,"",{"$f":"IF(AND(F766>0,G766>0,H766>0,I766>0,J766>0),AVERAGE($K$12:K766),\"\")","v":""},"","","","","","","","","",null,null,"",{"$error":"#UNKNOWN!"},"",""]
[756,null,null,null,null,null,null,null,null,null,"",{"$f":"IF(AND(F767>0,G767>0,H767>0,I767>0,J767>0),AVERAGE($K$12:K767),\"\")","v":""},"","","","","","","","","",null,null,"",{"$error":"#UNKNOWN!"},"",""]
[757,null,null,null,null,null,null,null,null,null,"",{"$f":"IF(AND(F768>0,G768>0,H768>0,I768>0,J768>0),AVERAGE($K$12:K768),\"\")","v":""},"","","","","","","","","",null,null,"",{"$error":"#UNKNOWN!"},"",""]
[758,null,null,null,null,null,null,null,null,null,"",{"$f":"IF(AND(F769>0,G769>0,H769>0,I769>0,J769>0),AVERAGE($K$12:K769),\"\")","v":""},"","","","","","","","","",null,null,"",{"$error":"#UNKNOWN!"},"",""]
[759,null,null,null,null,null,null,null,null,null,"",{"$f":"IF(AND(F770>0,G770>0,H770>0,I770>0,J770>0),AVERAGE($K$12:K770),\"\")","v":""},"","","","","","","","","",null,null,"",{"$error":"#UNKNOWN!"},"",""]
[760,null,null,null,null,null,null,null,null,null,"",{"$f":"IF(AND(F771>0,G771>0,H771>0,I771>0,J771>0),AVERAGE($K$12:K771),\"\")","v":""},"","","","","","","","","",null,null,"",{"$error":"#UNKNOWN!"},"",""]
[761,null,null,null,null,null,null,null,null,null,"",{"$f":"IF(AND(F772>0,G772>0,H772>0,I772>0,J772>0),AVERAGE($K$12:K772),\"\")","v":""},"","","","","","","","","",null,null,"",{"$error":"#UNKNOWN!"},"",""]
[762,null,null,null,null,null,null,null,null,null,"",{"$f":"IF(AND(F773>0,G773>0,H773>0,I773>0,J773>0),AVERAGE($K$12:K773),\"\")","v":""},"","","","","","","","","",null,null,"",{"$error":"#UNKNOWN!"},"",""]
[763,null,null,null,null,null,null,null,null,null,"",{"$f":"IF(AND(F774>0,G774>0,H774>0,I774>0,J774>0),AVERAGE($K$12:K774),\"\")","v":""},"","","","","","","","","",null,null,"",{"$error":"#UNKNOWN!"},"",""]
[764,null,null,null,null,null,null,null,null,null,"",{"$f":"IF(AND(F775>0,G775>0,H775>0,I775>0,J775>0),AVERAGE($K$12:K775),\"\")","v":""},"","","","","","","","","",null,null,"",{"$error":"#UNKNOWN!"},"",""]
[765,null,null,null,null,null,null,null,null,null,"",{"$f":"IF(AND(F776>0,G776>0,H776>0,I776>0,J776>0),AVERAGE($K$12:K776),\"\")","v":""},"","","","","","","","","",null,null,"",{"$error":"#UNKNOWN!"},"",""]
[766,null,null,null,null,null,null,null,null,null,"",{"$f":"IF(AND(F777>0,G777>0,H777>0,I777>0,J777>0),AVERAGE($K$12:K777),\"\")","v":""},"","","","","","","","","",null,null,"",{"$error":"#UNKNOWN!"},"",""]
[767,null,null,null,null,null,null,null,null,null,"",{"$f":"IF(AND(F778>0,G778>0,H778>0,I778>0,J778>0),AVERAGE($K$12:K778),\"\")","v":""},"","","","","","","","","",null,null,"",{"$error":"#UNKNOWN!"},{"$f":"IF($P$1=1,S778,Q778)","v":""},""]
[768,null,null,null,null,null,null,null,null,null,"",{"$f":"IF(AND(F779>0,G779>0,H779>0,I779>0,J779>0),AVERAGE($K$12:K779),\"\")","v":""},"","","","",{"$f":"IF(AND(F779>0,G779>0,H779>0,I779>0,J779>0),$E$5,\"\")","v":""},{"$f":"IF(AND(F779>0,G779>0,H779>0,I779>0,J779>0),$E$5*(-1),\"\")","v":""},{"$f":"IF(AND(F779>0,G779>0,H779>0,I779>0,J779>0),$E$6,\"\")","v":""},"",{"$f":"IFERROR(IF(ABS(M779)<=$E$5,TRUE,FALSE),\"\")","v":""},null,null,"",{"$f":"IF($P$1=1,#N/A,R779)","v":{"$error":"#UNKNOWN!"}},"",""]
[769,null,null,null,null,null,null,null,null,null,{"$f":"IF(AND(F780>0,G780>0,H780>0,I780>0,J780>0),AVERAGE(F780:J780),\"\")","v":""},{"$f":"IF(AND(F780>0,G780>0,H780>0,I780>0,J780>0),AVERAGE($K$12:K780),\"\")","v":""},{"$f":"IF(AND(F780>0,G780>0,H780>0,I780>0,J780>0),(K780-$E$4),\"\")","v":""},"",{"$f":"IF(AND(F780>0,G780>0,H780>0,I780>0,J780>0),ROUND(STDEV(F780:J780),2),\"\")","v":""},"","","","",{"$f":"IFERROR(IF(OR((ABS(N780)<=$E$6),(N780<1)),TRUE,FALSE),\"\")","v":""},"",null,null,{"$f":"IFERROR(MID(C780,SEARCH(\":\",C780)+1,10),\"\")","v":""},{"$error":"#UNKNOWN!"},"",{"$f":"IF($P$1=1,N780,M780)","v":""}]
[770,null,null,null,null,null,null,null,null,null,"",{"$f":"IF(AND(F781>0,G781>0,H781>0,I781>0,J781>0),AVERAGE($K$12:K781),\"\")","v":""},"",{"$f":"IF(AND(F781>0,G781>0,H781>0,I781>0,J781>0),MAX(F781:J781)-MIN(F781:J781),\"\")","v":""},"",{"$f":"IF(F781>0,IF(T781=FALSE,IF(U781=FALSE,\"<GA+WHP>\",\"<WHP>\"),IF(U781=FALSE,\"<GA>\",\"\")) & IF(V781=TRUE,\"<Trend>\",\"\") & IF(W781=TRUE,\"<Run>\",\"\")& IF(AND(ABS(T781+U781=2),V781+W781=0),\"OK\",\"\"),\"\")","v":""},"","","","","",null,null,"",{"$error":"#UNKNOWN!"},"",""]
[771,null,null,null,null,null,null,null,null,null,"",{"$f":"IF(AND(F782>0,G782>0,H782>0,I782>0,J782>0),AVERAGE($K$12:K782),\"\")","v":""},"","","","","","","","","",null,null,"",{"$error":"#UNKNOWN!"},"",""]
[772,null,null,null,null,null,null,null,null,null,"",{"$f":"IF(AND(F783>0,G783>0,H783>0,I783>0,J783>0),AVERAGE($K$12:K783),\"\")","v":""},"","","","","","","","","",null,null,"",{"$error":"#UNKNOWN!"},"",""]
[773,null,null,null,null,null,null,null,null,null,"",{"$f":"IF(AND(F784>0,G784>0,H784>0,I784>0,J784>0),AVERAGE($K$12:K784),\"\")","v":""},"","","","","","","","","",null,null,"",{"$error":"#UNKNOWN!"},"",""]
[774,null,null,null,null,null,null,null,null,null,"",{"$f":"IF(AND(F785>0,G785>0,H785>0,I785>0,J785>0),AVERAGE($K$12:K785),\"\")","v":""},"","","","","","","","","",{"$f":"OR(AND(K785>K784,K784>K783,K783>K782,K782>K781,K781>K780,K780>K779),AND(K785<K784,K784<K783,K783<K782,K782<K781,K781<K780,K780<K779))","v":null},{"$f":"OR(AND(K785>L785,K784>L785,K783>L785,K782>L785,K781>L785,K780>L785,K779>L785),AND(K785<L785,K784<L785,K783<L785,K782<L785,K781<L785,K780<L785,K779<L785))","v":null},"",{"$error":"#UNKNOWN!"},"",""]
[775,null,null,null,null,null,null,null,null,null,"",{"$f":"IF(AND(F786>0,G786>0,H786>0,I786>0,J786>0),AVERAGE($K$12:K786),\"\")","v":""},"","","","","","","","","",null,null,"",{"$error":"#UNKNOWN!"},"",""]
[776,null,null,null,null,null,null,null,null,null,"",{"$f":"IF(AND(F787>0,G787>0,H787>0,I787>0,J787>0),AVERAGE($K$12:K787),\"\")","v":""},"","","","","","","","","",null,null,"",{"$error":"#UNKNOWN!"},"",""]
[777,null,null,null,null,null,null,null,null,null,"",{"$f":"IF(AND(F788>0,G788>0,H788>0,I788>0,J788>0),AVERAGE($K$12:K788),\"\")","v":""},"","","","","","","","","",null,null,"",{"$error":"#UNKNOWN!"},"",""]
[778,null,null,null,null,null,null,null,null,null,"",{"$f":"IF(AND(F789>0,G789>0,H789>0,I789>0,J789>0),AVERAGE($K$12:K789),\"\")","v":""},"","","","","","","","","",null,null,"",{"$error":"#UNKNOWN!"},"",""]
[779,null,null,null,null,null,null,null,null,null,"",{"$f":"IF(AND(F790>0,G790>0,H790>0,I790>0,J790>0),AVERAGE($K$12:K790),\"\")","v":""},"","","","","","","","","",null,null,"",{"$error":"#UNKNOWN!"},"",""]
[780,null,null,null,null,null,null,null,null,null,"",{"$f":"IF(AND(F791>0,G791>0,H791>0,I791>0,J791>0),AVERAGE($K$12:K791),\"\")","v":""},"","","","","","","","","",null,null,"",{"$error":"#UNKNOWN!"},"",""]
[781,null,null,null,null,null,null,null,null,null,"",{"$f":"IF(AND(F792>0,G792>0,H792>0,I792>0,J792>0),AVERAGE($K$12:K792),\"\")","v":""},"","","","","","","","","",null,null,"",{"$error":"#UNKNOWN!"},"",""]
[782,null,null,null,null,null,null,null,null,null,"",{"$f":"IF(AND(F793>0,G793>0,H793>0,I793>0,J793>0),AVERAGE($K$12:K793),\"\")","v":""},"","","","","","","","","",null,null,"",{"$error":"#UNKNOWN!"},"",""]
[783,null,null,null,null,null,null,null,null,null,"",{"$f":"IF(AND(F794>0,G794>0,H794>0,I794>0,J794>0),AVERAGE($K$12:K794),\"\")","v":""},"","","","","","","","","",null,null,"",{"$error":"#UNKNOWN!"},"",""]
[784,null,null,null,null,null,null,null,null,null,"",{"$f":"IF(AND(F795>0,G795>0,H795>0,I795>0,J795>0),AVERAGE($K$12:K795),\"\")","v":""},"","","","","","","","","",null,null,"",{"$error":"#UNKNOWN!"},"",""]
[785,null,null,null,null,null,null,null,null,null,"",{"$f":"IF(AND(F796>0,G796>0,H796>0,I796>0,J796>0),AVERAGE($K$12:K796),\"\")","v":""},"","","","","","","","","",null,null,"",{"$error":"#UNKNOWN!"},"",""]
[786,null,null,null,null,null,null,null,null,null,"",{"$f":"IF(AND(F797>0,G797>0,H797>0,I797>0,J797>0),AVERAGE($K$12:K797),\"\")","v":""},"","","","","","","","","",null,null,"",{"$error":"#UNKNOWN!"},"",""]
[787,null,null,null,null,null,null,null,null,null,"",{"$f":"IF(AND(F798>0,G798>0,H798>0,I798>0,J798>0),AVERAGE($K$12:K798),\"\")","v":""},"","","","","","","","","",null,null,"",{"$error":"#UNKNOWN!"},"",""]
[788,null,null,null,null,null,null,null,null,null,"",{"$f":"IF(AND(F799>0,G799>0,H799>0,I799>0,J799>0),AVERAGE($K$12:K799),\"\")","v":""},"","","","","","","","","",null,null,"",{"$error":"#UNKNOWN!"},"",""]
[789,null,null,null,null,null,null,null,null,null,"",{"$f":"IF(AND(F800>0,G800>0,H800>0,I800>0,J800>0),AVERAGE($K$12:K800),\"\")","v":""},"","","","","","","","","",null,null,"",{"$error":"#UNKNOWN!"},"",""]
[790,null,null,null,null,null,null,null,null,null,"",{"$f":"IF(AND(F801>0,G801>0,H801>0,I801>0,J801>0),AVERAGE($K$12:K801),\"\")","v":""},"","","","","","","","","",null,null,"",{"$error":"#UNKNOWN!"},"",""]
[791,null,null,null,null,null,null,null,null,null,"",{"$f":"IF(AND(F802>0,G802>0,H802>0,I802>0,J802>0),AVERAGE($K$12:K802),\"\")","v":""},"","","","","","","","","",null,null,"",{"$error":"#UNKNOWN!"},"",""]
[792,null,null,null,null,null,null,null,null,null,"",{"$f":"IF(AND(F803>0,G803>0,H803>0,I803>0,J803>0),AVERAGE($K$12:K803),\"\")","v":""},"","","","","","","","","",null,null,"",{"$error":"#UNKNOWN!"},"",""]
[793,null,null,null,null,null,null,null,null,null,"",{"$f":"IF(AND(F804>0,G804>0,H804>0,I804>0,J804>0),AVERAGE($K$12:K804),\"\")","v":""},"","","","","","","","","",null,null,"",{"$error":"#UNKNOWN!"},"",""]
[794,null,null,null,null,null,null,null,null,null,"",{"$f":"IF(AND(F805>0,G805>0,H805>0,I805>0,J805>0),AVERAGE($K$12:K805),\"\")","v":""},"","","","","","","","","",null,null,"",{"$error":"#UNKNOWN!"},"",""]
[795,null,null,null,null,null,null,null,null,null,"",{"$f":"IF(AND(F806>0,G806>0,H806>0,I806>0,J806>0),AVERAGE($K$12:K806),\"\")","v":""},"","","","","","","","","",null,null,"",{"$error":"#UNKNOWN!"},"",""]
[796,null,null,null,null,null,null,null,null,null,"",{"$f":"IF(AND(F807>0,G807>0,H807>0,I807>0,J807>0),AVERAGE($K$12:K807),\"\")","v":""},"","","","","","","","","",null,null,"",{"$error":"#UNKNOWN!"},"",""]
[797,null,null,null,null,null,null,null,null,null,"",{"$f":"IF(AND(F808>0,G808>0,H808>0,I808>0,J808>0),AVERAGE($K$12:K808),\"\")","v":""},"","","","","","","","","",null,null,"",{"$error":"#UNKNOWN!"},"",""]
[798,null,null,null,null,null,null,null,null,null,"",{"$f":"IF(AND(F809>0,G809>0,H809>0,I809>0,J809>0),AVERAGE($K$12:K809),\"\")","v":""},"","","","","","","","","",null,null,"",{"$error":"#UNKNOWN!"},"",""]
[799,null,null,null,null,null,null,null,null,null,"",{"$f":"IF(AND(F810>0,G810>0,H810>0,I810>0,J810>0),AVERAGE($K$12:K810),\"\")","v":""},"","","","","","","","","",null,null,"",{"$error":"#UNKNOWN!"},"",""]
[800,null,null,null,null,null,null,null,null,null,"",{"$f":"IF(AND(F811>0,G811>0,H811>0,I811>0,J811>0),AVERAGE($K$12:K811),\"\")","v":""},"","","","","","","","","",null,null,"",{"$error":"#UNKNOWN!"},"",""]
[801,null,null,null,null,null,null,null,null,null,"",{"$f":"IF(AND(F812>0,G812>0,H812>0,I812>0,J812>0),AVERAGE($K$12:K812),\"\")","v":""},"","","","","","","","","",null,null,"",{"$error":"#UNKNOWN!"},"",""]
[802,null,null,null,null,null,null,null,null,null,"",{"$f":"IF(AND(F813>0,G813>0,H813>0,I813>0,J813>0),AVERAGE($K$12:K813),\"\")","v":""},"","","","","","","","","",null,null,"",{"$error":"#UNKNOWN!"},"",""]
[803,null,null,null,null,null,null,null,null,null,"",{"$f":"IF(AND(F814>0,G814>0,H814>0,I814>0,J814>0),AVERAGE($K$12:K814),\"\")","v":""},"","","","","","","","","",null,null,"",{"$error":"#UNKNOWN!"},"",""]
[804,null,null,null,null,null,null,null,null,null,"",{"$f":"IF(AND(F815>0,G815>0,H815>0,I815>0,J815>0),AVERAGE($K$12:K815),\"\")","v":""},"","","","","","","","","",null,null,"",{"$error":"#UNKNOWN!"},"",""]
[805,null,null,null,null,null,null,null,null,null,"",{"$f":"IF(AND(F816>0,G816>0,H816>0,I816>0,J816>0),AVERAGE($K$12:K816),\"\")","v":""},"","","","","","","","","",null,null,"",{"$error":"#UNKNOWN!"},"",""]
[806,null,null,null,null,null,null,null,null,null,"",{"$f":"IF(AND(F817>0,G817>0,H817>0,I817>0,J817>0),AVERAGE($K$12:K817),\"\")","v":""},"","","","","","","","","",null,null,"",{"$error":"#UNKNOWN!"},"",""]
[807,null,null,null,null,null,null,null,null,null,"",{"$f":"IF(AND(F818>0,G818>0,H818>0,I818>0,J818>0),AVERAGE($K$12:K818),\"\")","v":""},"","","","","","","","","",null,null,"",{"$error":"#UNKNOWN!"},"",""]
[808,null,null,null,null,null,null,null,null,null,"",{"$f":"IF(AND(F819>0,G819>0,H819>0,I819>0,J819>0),AVERAGE($K$12:K819),\"\")","v":""},"","","","","","","","","",null,null,"",{"$error":"#UNKNOWN!"},"",""]
[809,null,null,null,null,null,null,null,null,null,"",{"$f":"IF(AND(F820>0,G820>0,H820>0,I820>0,J820>0),AVERAGE($K$12:K820),\"\")","v":""},"","","","","","","","","",null,null,"",{"$error":"#UNKNOWN!"},"",""]
[810,null,null,null,null,null,null,null,null,null,"",{"$f":"IF(AND(F821>0,G821>0,H821>0,I821>0,J821>0),AVERAGE($K$12:K821),\"\")","v":""},"","","","","","","","","",null,null,"",{"$error":"#UNKNOWN!"},"",""]
[811,null,null,null,null,null,null,null,null,null,"",{"$f":"IF(AND(F822>0,G822>0,H822>0,I822>0,J822>0),AVERAGE($K$12:K822),\"\")","v":""},"","","","","","","","","",null,null,"",{"$error":"#UNKNOWN!"},"",""]
[812,null,null,null,null,null,null,null,null,null,"",{"$f":"IF(AND(F823>0,G823>0,H823>0,I823>0,J823>0),AVERAGE($K$12:K823),\"\")","v":""},"","","","","","","","","",null,null,"",{"$error":"#UNKNOWN!"},"",""]
[813,null,null,null,null,null,null,null,null,null,"",{"$f":"IF(AND(F824>0,G824>0,H824>0,I824>0,J824>0),AVERAGE($K$12:K824),\"\")","v":""},"","","","","","","","","",null,null,"",{"$error":"#UNKNOWN!"},"",""]
[814,null,null,null,null,null,null,null,null,null,"",{"$f":"IF(AND(F825>0,G825>0,H825>0,I825>0,J825>0),AVERAGE($K$12:K825),\"\")","v":""},"","","","","","","","","",null,null,"",{"$error":"#UNKNOWN!"},"",""]
[815,null,null,null,null,null,null,null,null,null,"",{"$f":"IF(AND(F826>0,G826>0,H826>0,I826>0,J826>0),AVERAGE($K$12:K826),\"\")","v":""},"","","","","","","","","",null,null,"",{"$error":"#UNKNOWN!"},"",""]
[816,null,null,null,null,null,null,null,null,null,"",{"$f":"IF(AND(F827>0,G827>0,H827>0,I827>0,J827>0),AVERAGE($K$12:K827),\"\")","v":""},"","","","","","","","","",null,null,"",{"$error":"#UNKNOWN!"},"",""]
[817,null,null,null,null,null,null,null,null,null,"",{"$f":"IF(AND(F828>0,G828>0,H828>0,I828>0,J828>0),AVERAGE($K$12:K828),\"\")","v":""},"","","","","","","","","",null,null,"",{"$error":"#UNKNOWN!"},"",""]
[818,null,null,null,null,null,null,null,null,null,"",{"$f":"IF(AND(F829>0,G829>0,H829>0,I829>0,J829>0),AVERAGE($K$12:K829),\"\")","v":""},"","","","","","","","","",null,null,"",{"$error":"#UNKNOWN!"},"",""]
[819,null,null,null,null,null,null,null,null,null,"",{"$f":"IF(AND(F830>0,G830>0,H830>0,I830>0,J830>0),AVERAGE($K$12:K830),\"\")","v":""},"","","","","","","","","",null,null,"",{"$error":"#UNKNOWN!"},"",""]
[820,null,null,null,null,null,null,null,null,null,"",{"$f":"IF(AND(F831>0,G831>0,H831>0,I831>0,J831>0),AVERAGE($K$12:K831),\"\")","v":""},"","","","","","","","","",null,null,"",{"$error":"#UNKNOWN!"},"",""]
[821,null,null,null,null,null,null,null,null,null,"",{"$f":"IF(AND(F832>0,G832>0,H832>0,I832>0,J832>0),AVERAGE($K$12:K832),\"\")","v":""},"","","","","","","","","",null,null,"",{"$error":"#UNKNOWN!"},"",""]
[822,null,null,null,null,null,null,null,null,null,"",{"$f":"IF(AND(F833>0,G833>0,H833>0,I833>0,J833>0),AVERAGE($K$12:K833),\"\")","v":""},"","","","","","","","","",null,null,"",{"$error":"#UNKNOWN!"},"",""]
[823,null,null,null,null,null,null,null,null,null,"",{"$f":"IF(AND(F834>0,G834>0,H834>0,I834>0,J834>0),AVERAGE($K$12:K834),\"\")","v":""},"","","","","","","","","",null,null,"",{"$error":"#UNKNOWN!"},"",""]
[824,null,null,null,null,null,null,null,null,null,"",{"$f":"IF(AND(F835>0,G835>0,H835>0,I835>0,J835>0),AVERAGE($K$12:K835),\"\")","v":""},"","","","","","","","","",null,null,"",{"$error":"#UNKNOWN!"},"",""]
[825,null,null,null,null,null,null,null,null,null,"",{"$f":"IF(AND(F836>0,G836>0,H836>0,I836>0,J836>0),AVERAGE($K$12:K836),\"\")","v":""},"","","","","","","","","",null,null,"",{"$error":"#UNKNOWN!"},"",""]
[826,null,null,null,null,null,null,null,null,null,"",{"$f":"IF(AND(F837>0,G837>0,H837>0,I837>0,J837>0),AVERAGE($K$12:K837),\"\")","v":""},"","","","","","","","","",null,null,"",{"$error":"#UNKNOWN!"},"",""]
[827,null,null,null,null,null,null,null,null,null,"",{"$f":"IF(AND(F838>0,G838>0,H838>0,I838>0,J838>0),AVERAGE($K$12:K838),\"\")","v":""},"","","","","","","","","",null,null,"",{"$error":"#UNKNOWN!"},"",""]
[828,null,null,null,null,null,null,null,null,null,"",{"$f":"IF(AND(F839>0,G839>0,H839>0,I839>0,J839>0),AVERAGE($K$12:K839),\"\")","v":""},"","","","","","","","","",null,null,"",{"$error":"#UNKNOWN!"},"",""]
[829,null,null,null,null,null,null,null,null,null,"",{"$f":"IF(AND(F840>0,G840>0,H840>0,I840>0,J840>0),AVERAGE($K$12:K840),\"\")","v":""},"","","","","","","","","",null,null,"",{"$error":"#UNKNOWN!"},"",""]
[830,null,null,null,null,null,null,null,null,null,"",{"$f":"IF(AND(F841>0,G841>0,H841>0,I841>0,J841>0),AVERAGE($K$12:K841),\"\")","v":""},"","","","","","","","","",null,null,"",{"$error":"#UNKNOWN!"},"",""]
[831,null,null,null,null,null,null,null,null,null,"",{"$f":"IF(AND(F842>0,G842>0,H842>0,I842>0,J842>0),AVERAGE($K$12:K842),\"\")","v":""},"","","","","","","","","",null,null,"",{"$error":"#UNKNOWN!"},{"$f":"IF($P$1=1,S842,Q842)","v":""},""]
[832,null,null,null,null,null,null,null,null,null,"",{"$f":"IF(AND(F843>0,G843>0,H843>0,I843>0,J843>0),AVERAGE($K$12:K843),\"\")","v":""},"","","","",{"$f":"IF(AND(F843>0,G843>0,H843>0,I843>0,J843>0),$E$5,\"\")","v":""},{"$f":"IF(AND(F843>0,G843>0,H843>0,I843>0,J843>0),$E$5*(-1),\"\")","v":""},{"$f":"IF(AND(F843>0,G843>0,H843>0,I843>0,J843>0),$E$6,\"\")","v":""},"",{"$f":"IFERROR(IF(ABS(M843)<=$E$5,TRUE,FALSE),\"\")","v":""},null,null,"",{"$f":"IF($P$1=1,#N/A,R843)","v":{"$error":"#UNKNOWN!"}},"",""]
[833,null,null,null,null,null,null,null,null,null,{"$f":"IF(AND(F844>0,G844>0,H844>0,I844>0,J844>0),AVERAGE(F844:J844),\"\")","v":""},{"$f":"IF(AND(F844>0,G844>0,H844>0,I844>0,J844>0),AVERAGE($K$12:K844),\"\")","v":""},{"$f":"IF(AND(F844>0,G844>0,H844>0,I844>0,J844>0),(K844-$E$4),\"\")","v":""},"",{"$f":"IF(AND(F844>0,G844>0,H844>0,I844>0,J844>0),ROUND(STDEV(F844:J844),2),\"\")","v":""},"","","","",{"$f":"IFERROR(IF(OR((ABS(N844)<=$E$6),(N844<1)),TRUE,FALSE),\"\")","v":""},"",null,null,{"$f":"IFERROR(MID(C844,SEARCH(\":\",C844)+1,10),\"\")","v":""},{"$error":"#UNKNOWN!"},"",{"$f":"IF($P$1=1,N844,M844)","v":""}]
[834,null,null,null,null,null,null,null,null,null,"",{"$f":"IF(AND(F845>0,G845>0,H845>0,I845>0,J845>0),AVERAGE($K$12:K845),\"\")","v":""},"",{"$f":"IF(AND(F845>0,G845>0,H845>0,I845>0,J845>0),MAX(F845:J845)-MIN(F845:J845),\"\")","v":""},"",{"$f":"IF(F845>0,IF(T845=FALSE,IF(U845=FALSE,\"<GA+WHP>\",\"<WHP>\"),IF(U845=FALSE,\"<GA>\",\"\")) & IF(V845=TRUE,\"<Trend>\",\"\") & IF(W845=TRUE,\"<Run>\",\"\")& IF(AND(ABS(T845+U845=2),V845+W845=0),\"OK\",\"\"),\"\")","v":""},"","","","","",null,null,"",{"$error":"#UNKNOWN!"},"",""]
[835,null,null,null,null,null,null,null,null,null,"",{"$f":"IF(AND(F846>0,G846>0,H846>0,I846>0,J846>0),AVERAGE($K$12:K846),\"\")","v":""},"","","","","","","","","",null,null,"",{"$error":"#UNKNOWN!"},"",""]
[836,null,null,null,null,null,null,null,null,null,"",{"$f":"IF(AND(F847>0,G847>0,H847>0,I847>0,J847>0),AVERAGE($K$12:K847),\"\")","v":""},"","","","","","","","","",null,null,"",{"$error":"#UNKNOWN!"},"",""]
[837,null,null,null,null,null,null,null,null,null,"",{"$f":"IF(AND(F848>0,G848>0,H848>0,I848>0,J848>0),AVERAGE($K$12:K848),\"\")","v":""},"","","","","","","","","",null,null,"",{"$error":"#UNKNOWN!"},"",""]
[838,null,null,null,null,null,null,null,null,null,"",{"$f":"IF(AND(F849>0,G849>0,H849>0,I849>0,J849>0),AVERAGE($K$12:K849),\"\")","v":""},"","","","","","","","","",{"$f":"OR(AND(K849>K848,K848>K847,K847>K846,K846>K845,K845>K844,K844>K843),AND(K849<K848,K848<K847,K847<K846,K846<K845,K845<K844,K844<K843))","v":null},{"$f":"OR(AND(K849>L849,K848>L849,K847>L849,K846>L849,K845>L849,K844>L849,K843>L849),AND(K849<L849,K848<L849,K847<L849,K846<L849,K845<L849,K844<L849,K843<L849))","v":null},"",{"$error":"#UNKNOWN!"},"",""]
[839,null,null,null,null,null,null,null,null,null,"",{"$f":"IF(AND(F850>0,G850>0,H850>0,I850>0,J850>0),AVERAGE($K$12:K850),\"\")","v":""},"","","","","","","","","",null,null,"",{"$error":"#UNKNOWN!"},"",""]
[840,null,null,null,null,null,null,null,null,null,"",{"$f":"IF(AND(F851>0,G851>0,H851>0,I851>0,J851>0),AVERAGE($K$12:K851),\"\")","v":""},"","","","","","","","","",null,null,"",{"$error":"#UNKNOWN!"},"",""]
[841,null,null,null,null,null,null,null,null,null,"",{"$f":"IF(AND(F852>0,G852>0,H852>0,I852>0,J852>0),AVERAGE($K$12:K852),\"\")","v":""},"","","","","","","","","",null,null,"",{"$error":"#UNKNOWN!"},"",""]
[842,null,null,null,null,null,null,null,null,null,"",{"$f":"IF(AND(F853>0,G853>0,H853>0,I853>0,J853>0),AVERAGE($K$12:K853),\"\")","v":""},"","","","","","","","","",null,null,"",{"$error":"#UNKNOWN!"},"",""]
[843,null,null,null,null,null,null,null,null,null,"",{"$f":"IF(AND(F854>0,G854>0,H854>0,I854>0,J854>0),AVERAGE($K$12:K854),\"\")","v":""},"","","","","","","","","",null,null,"",{"$error":"#UNKNOWN!"},"",""]
[844,null,null,null,null,null,null,null,null,null,"",{"$f":"IF(AND(F855>0,G855>0,H855>0,I855>0,J855>0),AVERAGE($K$12:K855),\"\")","v":""},"","","","","","","","","",null,null,"",{"$error":"#UNKNOWN!"},"",""]
[845,null,null,null,null,null,null,null,null,null,"",{"$f":"IF(AND(F856>0,G856>0,H856>0,I856>0,J856>0),AVERAGE($K$12:K856),\"\")","v":""},"","","","","","","","","",null,null,"",{"$error":"#UNKNOWN!"},"",""]
[846,null,null,null,null,null,null,null,null,null,"",{"$f":"IF(AND(F857>0,G857>0,H857>0,I857>0,J857>0),AVERAGE($K$12:K857),\"\")","v":""},"","","","","","","","","",null,null,"",{"$error":"#UNKNOWN!"},"",""]
[847,null,null,null,null,null,null,null,null,null,"",{"$f":"IF(AND(F858>0,G858>0,H858>0,I858>0,J858>0),AVERAGE($K$12:K858),\"\")","v":""},"","","","","","","","","",null,null,"",{"$error":"#UNKNOWN!"},"",""]
[848,null,null,null,null,null,null,null,null,null,"",{"$f":"IF(AND(F859>0,G859>0,H859>0,I859>0,J859>0),AVERAGE($K$12:K859),\"\")","v":""},"","","","","","","","","",null,null,"",{"$error":"#UNKNOWN!"},"",""]
[849,null,null,null,null,null,null,null,null,null,"",{"$f":"IF(AND(F860>0,G860>0,H860>0,I860>0,J860>0),AVERAGE($K$12:K860),\"\")","v":""},"","","","","","","","","",null,null,"",{"$error":"#UNKNOWN!"},"",""]
[850,null,null,null,null,null,null,null,null,null,"",{"$f":"IF(AND(F861>0,G861>0,H861>0,I861>0,J861>0),AVERAGE($K$12:K861),\"\")","v":""},"","","","","","","","","",null,null,"",{"$error":"#UNKNOWN!"},"",""]
[851,null,null,null,null,null,null,null,null,null,"",{"$f":"IF(AND(F862>0,G862>0,H862>0,I862>0,J862>0),AVERAGE($K$12:K862),\"\")","v":""},"","","","","","","","","",null,null,"",{"$error":"#UNKNOWN!"},"",""]
[852,null,null,null,null,null,null,null,null,null,"",{"$f":"IF(AND(F863>0,G863>0,H863>0,I863>0,J863>0),AVERAGE($K$12:K863),\"\")","v":""},"","","","","","","","","",null,null,"",{"$error":"#UNKNOWN!"},"",""]
[853,null,null,null,null,null,null,null,null,null,"",{"$f":"IF(AND(F864>0,G864>0,H864>0,I864>0,J864>0),AVERAGE($K$12:K864),\"\")","v":""},"","","","","","","","","",null,null,"",{"$error":"#UNKNOWN!"},"",""]
[854,null,null,null,null,null,null,null,null,null,"",{"$f":"IF(AND(F865>0,G865>0,H865>0,I865>0,J865>0),AVERAGE($K$12:K865),\"\")","v":""},"","","","","","","","","",null,null,"",{"$error":"#UNKNOWN!"},"",""]
[855,null,null,null,null,null,null,null,null,null,"",{"$f":"IF(AND(F866>0,G866>0,H866>0,I866>0,J866>0),AVERAGE($K$12:K866),\"\")","v":""},"","","","","","","","","",null,null,"",{"$error":"#UNKNOWN!"},"",""]
[856,null,null,null,null,null,null,null,null,null,"",{"$f":"IF(AND(F867>0,G867>0,H867>0,I867>0,J867>0),AVERAGE($K$12:K867),\"\")","v":""},"","","","","","","","","",null,null,"",{"$error":"#UNKNOWN!"},"",""]
[857,null,null,null,null,null,null,null,null,null,"",{"$f":"IF(AND(F868>0,G868>0,H868>0,I868>0,J868>0),AVERAGE($K$12:K868),\"\")","v":""},"","","","","","","","","",null,null,"",{"$error":"#UNKNOWN!"},"",""]
[858,null,null,null,null,null,null,null,null,null,"",{"$f":"IF(AND(F869>0,G869>0,H869>0,I869>0,J869>0),AVERAGE($K$12:K869),\"\")","v":""},"","","","","","","","","",null,null,"",{"$error":"#UNKNOWN!"},"",""]
[859,null,null,null,null,null,null,null,null,null,"",{"$f":"IF(AND(F870>0,G870>0,H870>0,I870>0,J870>0),AVERAGE($K$12:K870),\"\")","v":""},"","","","","","","","","",null,null,"",{"$error":"#UNKNOWN!"},"",""]
[860,null,null,null,null,null,null,null,null,null,"",{"$f":"IF(AND(F871>0,G871>0,H871>0,I871>0,J871>0),AVERAGE($K$12:K871),\"\")","v":""},"","","","","","","","","",null,null,"",{"$error":"#UNKNOWN!"},"",""]
[861,null,null,null,null,null,null,null,null,null,"",{"$f":"IF(AND(F872>0,G872>0,H872>0,I872>0,J872>0),AVERAGE($K$12:K872),\"\")","v":""},"","","","","","","","","",null,null,"",{"$error":"#UNKNOWN!"},"",""]
[862,null,null,null,null,null,null,null,null,null,"",{"$f":"IF(AND(F873>0,G873>0,H873>0,I873>0,J873>0),AVERAGE($K$12:K873),\"\")","v":""},"","","","","","","","","",null,null,"",{"$error":"#UNKNOWN!"},"",""]
[863,null,null,null,null,null,null,null,null,null,"",{"$f":"IF(AND(F874>0,G874>0,H874>0,I874>0,J874>0),AVERAGE($K$12:K874),\"\")","v":""},"","","","","","","","","",null,null,"",{"$error":"#UNKNOWN!"},"",""]
[864,null,null,null,null,null,null,null,null,null,"",{"$f":"IF(AND(F875>0,G875>0,H875>0,I875>0,J875>0),AVERAGE($K$12:K875),\"\")","v":""},"","","","","","","","","",null,null,"",{"$error":"#UNKNOWN!"},"",""]
[865,null,null,null,null,null,null,null,null,null,"",{"$f":"IF(AND(F876>0,G876>0,H876>0,I876>0,J876>0),AVERAGE($K$12:K876),\"\")","v":""},"","","","","","","","","",null,null,"",{"$error":"#UNKNOWN!"},"",""]
[866,null,null,null,null,null,null,null,null,null,"",{"$f":"IF(AND(F877>0,G877>0,H877>0,I877>0,J877>0),AVERAGE($K$12:K877),\"\")","v":""},"","","","","","","","","",null,null,"",{"$error":"#UNKNOWN!"},"",""]
[867,null,null,null,null,null,null,null,null,null,"",{"$f":"IF(AND(F878>0,G878>0,H878>0,I878>0,J878>0),AVERAGE($K$12:K878),\"\")","v":""},"","","","","","","","","",null,null,"",{"$error":"#UNKNOWN!"},"",""]
[868,null,null,null,null,null,null,null,null,null,"",{"$f":"IF(AND(F879>0,G879>0,H879>0,I879>0,J879>0),AVERAGE($K$12:K879),\"\")","v":""},"","","","","","","","","",null,null,"",{"$error":"#UNKNOWN!"},"",""]
[869,null,null,null,null,null,null,null,null,null,"",{"$f":"IF(AND(F880>0,G880>0,H880>0,I880>0,J880>0),AVERAGE($K$12:K880),\"\")","v":""},"","","","","","","","","",null,null,"",{"$error":"#UNKNOWN!"},"",""]
[870,null,null,null,null,null,null,null,null,null,"",{"$f":"IF(AND(F881>0,G881>0,H881>0,I881>0,J881>0),AVERAGE($K$12:K881),\"\")","v":""},"","","","","","","","","",null,null,"",{"$error":"#UNKNOWN!"},"",""]
[871,null,null,null,null,null,null,null,null,null,"",{"$f":"IF(AND(F882>0,G882>0,H882>0,I882>0,J882>0),AVERAGE($K$12:K882),\"\")","v":""},"","","","","","","","","",null,null,"",{"$error":"#UNKNOWN!"},"",""]
[872,null,null,null,null,null,null,null,null,null,"",{"$f":"IF(AND(F883>0,G883>0,H883>0,I883>0,J883>0),AVERAGE($K$12:K883),\"\")","v":""},"","","","","","","","","",null,null,"",{"$error":"#UNKNOWN!"},"",""]
[873,null,null,null,null,null,null,null,null,null,"",{"$f":"IF(AND(F884>0,G884>0,H884>0,I884>0,J884>0),AVERAGE($K$12:K884),\"\")","v":""},"","","","","","","","","",null,null,"",{"$error":"#UNKNOWN!"},"",""]
[874,null,null,null,null,null,null,null,null,null,"",{"$f":"IF(AND(F885>0,G885>0,H885>0,I885>0,J885>0),AVERAGE($K$12:K885),\"\")","v":""},"","","","","","","","","",null,null,"",{"$error":"#UNKNOWN!"},"",""]
[875,null,null,null,null,null,null,null,null,null,"",{"$f":"IF(AND(F886>0,G886>0,H886>0,I886>0,J886>0),AVERAGE($K$12:K886),\"\")","v":""},"","","","","","","","","",null,null,"",{"$error":"#UNKNOWN!"},"",""]
[876,null,null,null,null,null,null,null,null,null,"",{"$f":"IF(AND(F887>0,G887>0,H887>0,I887>0,J887>0),AVERAGE($K$12:K887),\"\")","v":""},"","","","","","","","","",null,null,"",{"$error":"#UNKNOWN!"},"",""]
[877,null,null,null,null,null,null,null,null,null,"",{"$f":"IF(AND(F888>0,G888>0,H888>0,I888>0,J888>0),AVERAGE($K$12:K888),\"\")","v":""},"","","","","","","","","",null,null,"",{"$error":"#UNKNOWN!"},"",""]
[878,null,null,null,null,null,null,null,null,null,"",{"$f":"IF(AND(F889>0,G889>0,H889>0,I889>0,J889>0),AVERAGE($K$12:K889),\"\")","v":""},"","","","","","","","","",null,null,"",{"$error":"#UNKNOWN!"},"",""]
[879,null,null,null,null,null,null,null,null,null,"",{"$f":"IF(AND(F890>0,G890>0,H890>0,I890>0,J890>0),AVERAGE($K$12:K890),\"\")","v":""},"","","","","","","","","",null,null,"",{"$error":"#UNKNOWN!"},"",""]
[880,null,null,null,null,null,null,null,null,null,"",{"$f":"IF(AND(F891>0,G891>0,H891>0,I891>0,J891>0),AVERAGE($K$12:K891),\"\")","v":""},"","","","","","","","","",null,null,"",{"$error":"#UNKNOWN!"},"",""]
[881,null,null,null,null,null,null,null,null,null,"",{"$f":"IF(AND(F892>0,G892>0,H892>0,I892>0,J892>0),AVERAGE($K$12:K892),\"\")","v":""},"","","","","","","","","",null,null,"",{"$error":"#UNKNOWN!"},"",""]
[882,null,null,null,null,null,null,null,null,null,"",{"$f":"IF(AND(F893>0,G893>0,H893>0,I893>0,J893>0),AVERAGE($K$12:K893),\"\")","v":""},"","","","","","","","","",null,null,"",{"$error":"#UNKNOWN!"},"",""]
[883,null,null,null,null,null,null,null,null,null,"",{"$f":"IF(AND(F894>0,G894>0,H894>0,I894>0,J894>0),AVERAGE($K$12:K894),\"\")","v":""},"","","","","","","","","",null,null,"",{"$error":"#UNKNOWN!"},"",""]
[884,null,null,null,null,null,null,null,null,null,"",{"$f":"IF(AND(F895>0,G895>0,H895>0,I895>0,J895>0),AVERAGE($K$12:K895),\"\")","v":""},"","","","","","","","","",null,null,"",{"$error":"#UNKNOWN!"},"",""]
[885,null,null,null,null,null,null,null,null,null,"",{"$f":"IF(AND(F896>0,G896>0,H896>0,I896>0,J896>0),AVERAGE($K$12:K896),\"\")","v":""},"","","","","","","","","",null,null,"",{"$error":"#UNKNOWN!"},"",""]
[886,null,null,null,null,null,null,null,null,null,"",{"$f":"IF(AND(F897>0,G897>0,H897>0,I897>0,J897>0),AVERAGE($K$12:K897),\"\")","v":""},"","","","","","","","","",null,null,"",{"$error":"#UNKNOWN!"},"",""]
[887,null,null,null,null,null,null,null,null,null,"",{"$f":"IF(AND(F898>0,G898>0,H898>0,I898>0,J898>0),AVERAGE($K$12:K898),\"\")","v":""},"","","","","","","","","",null,null,"",{"$error":"#UNKNOWN!"},"",""]
[888,null,null,null,null,null,null,null,null,null,"",{"$f":"IF(AND(F899>0,G899>0,H899>0,I899>0,J899>0),AVERAGE($K$12:K899),\"\")","v":""},"","","","","","","","","",null,null,"",{"$error":"#UNKNOWN!"},"",""]
[889,null,null,null,null,null,null,null,null,null,"",{"$f":"IF(AND(F900>0,G900>0,H900>0,I900>0,J900>0),AVERAGE($K$12:K900),\"\")","v":""},"","","","","","","","","",null,null,"",{"$error":"#UNKNOWN!"},"",""]
[890,null,null,null,null,null,null,null,null,null,"",{"$f":"IF(AND(F901>0,G901>0,H901>0,I901>0,J901>0),AVERAGE($K$12:K901),\"\")","v":""},"","","","","","","","","",null,null,"",{"$error":"#UNKNOWN!"},"",""]
[891,null,null,null,null,null,null,null,null,null,"",{"$f":"IF(AND(F902>0,G902>0,H902>0,I902>0,J902>0),AVERAGE($K$12:K902),\"\")","v":""},"","","","","","","","","",null,null,"",{"$error":"#UNKNOWN!"},"",""]
[892,null,null,null,null,null,null,null,null,null,"",{"$f":"IF(AND(F903>0,G903>0,H903>0,I903>0,J903>0),AVERAGE($K$12:K903),\"\")","v":""},"","","","","","","","","",null,null,"",{"$error":"#UNKNOWN!"},"",""]
[893,null,null,null,null,null,null,null,null,null,"",{"$f":"IF(AND(F904>0,G904>0,H904>0,I904>0,J904>0),AVERAGE($K$12:K904),\"\")","v":""},"","","","","","","","","",null,null,"",{"$error":"#UNKNOWN!"},"",""]
[894,null,null,null,null,null,null,null,null,null,"",{"$f":"IF(AND(F905>0,G905>0,H905>0,I905>0,J905>0),AVERAGE($K$12:K905),\"\")","v":""},"","","","","","","","","",null,null,"",{"$error":"#UNKNOWN!"},"",""]
[895,null,null,null,null,null,null,null,null,null,"",{"$f":"IF(AND(F906>0,G906>0,H906>0,I906>0,J906>0),AVERAGE($K$12:K906),\"\")","v":""},"","","","","","","","","",null,null,"",{"$error":"#UNKNOWN!"},{"$f":"IF($P$1=1,S906,Q906)","v":""},""]
[896,null,null,null,null,null,null,null,null,null,"",{"$f":"IF(AND(F907>0,G907>0,H907>0,I907>0,J907>0),AVERAGE($K$12:K907),\"\")","v":""},"","","","",{"$f":"IF(AND(F907>0,G907>0,H907>0,I907>0,J907>0),$E$5,\"\")","v":""},{"$f":"IF(AND(F907>0,G907>0,H907>0,I907>0,J907>0),$E$5*(-1),\"\")","v":""},{"$f":"IF(AND(F907>0,G907>0,H907>0,I907>0,J907>0),$E$6,\"\")","v":""},"",{"$f":"IFERROR(IF(ABS(M907)<=$E$5,TRUE,FALSE),\"\")","v":""},null,null,"",{"$f":"IF($P$1=1,#N/A,R907)","v":{"$error":"#UNKNOWN!"}},"",""]
[897,null,null,null,null,null,null,null,null,null,{"$f":"IF(AND(F908>0,G908>0,H908>0,I908>0,J908>0),AVERAGE(F908:J908),\"\")","v":""},{"$f":"IF(AND(F908>0,G908>0,H908>0,I908>0,J908>0),AVERAGE($K$12:K908),\"\")","v":""},{"$f":"IF(AND(F908>0,G908>0,H908>0,I908>0,J908>0),(K908-$E$4),\"\")","v":""},"",{"$f":"IF(AND(F908>0,G908>0,H908>0,I908>0,J908>0),ROUND(STDEV(F908:J908),2),\"\")","v":""},"","","","",{"$f":"IFERROR(IF(OR((ABS(N908)<=$E$6),(N908<1)),TRUE,FALSE),\"\")","v":""},"",null,null,{"$f":"IFERROR(MID(C908,SEARCH(\":\",C908)+1,10),\"\")","v":""},{"$error":"#UNKNOWN!"},"",{"$f":"IF($P$1=1,N908,M908)","v":""}]
[898,null,null,null,null,null,null,null,null,null,"",{"$f":"IF(AND(F909>0,G909>0,H909>0,I909>0,J909>0),AVERAGE($K$12:K909),\"\")","v":""},"",{"$f":"IF(AND(F909>0,G909>0,H909>0,I909>0,J909>0),MAX(F909:J909)-MIN(F909:J909),\"\")","v":""},"",{"$f":"IF(F909>0,IF(T909=FALSE,IF(U909=FALSE,\"<GA+WHP>\",\"<WHP>\"),IF(U909=FALSE,\"<GA>\",\"\")) & IF(V909=TRUE,\"<Trend>\",\"\") & IF(W909=TRUE,\"<Run>\",\"\")& IF(AND(ABS(T909+U909=2),V909+W909=0),\"OK\",\"\"),\"\")","v":""},"","","","","",null,null,"",{"$error":"#UNKNOWN!"},"",""]
[899,null,null,null,null,null,null,null,null,null,"",{"$f":"IF(AND(F910>0,G910>0,H910>0,I910>0,J910>0),AVERAGE($K$12:K910),\"\")","v":""},"","","","","","","","","",null,null,"",{"$error":"#UNKNOWN!"},"",""]
[900,null,null,null,null,null,null,null,null,null,"",{"$f":"IF(AND(F911>0,G911>0,H911>0,I911>0,J911>0),AVERAGE($K$12:K911),\"\")","v":""},"","","","","","","","","",null,null,"",{"$error":"#UNKNOWN!"},"",""]
[901,null,null,null,null,null,null,null,null,null,"",{"$f":"IF(AND(F912>0,G912>0,H912>0,I912>0,J912>0),AVERAGE($K$12:K912),\"\")","v":""},"","","","","","","","","",null,null,"",{"$error":"#UNKNOWN!"},"",""]
[902,null,null,null,null,null,null,null,null,null,"",{"$f":"IF(AND(F913>0,G913>0,H913>0,I913>0,J913>0),AVERAGE($K$12:K913),\"\")","v":""},"","","","","","","","","",{"$f":"OR(AND(K913>K912,K912>K911,K911>K910,K910>K909,K909>K908,K908>K907),AND(K913<K912,K912<K911,K911<K910,K910<K909,K909<K908,K908<K907))","v":null},{"$f":"OR(AND(K913>L913,K912>L913,K911>L913,K910>L913,K909>L913,K908>L913,K907>L913),AND(K913<L913,K912<L913,K911<L913,K910<L913,K909<L913,K908<L913,K907<L913))","v":null},"",{"$error":"#UNKNOWN!"},"",""]
[903,null,null,null,null,null,null,null,null,null,"",{"$f":"IF(AND(F914>0,G914>0,H914>0,I914>0,J914>0),AVERAGE($K$12:K914),\"\")","v":""},"","","","","","","","","",null,null,"",{"$error":"#UNKNOWN!"},"",""]
[904,null,null,null,null,null,null,null,null,null,"",{"$f":"IF(AND(F915>0,G915>0,H915>0,I915>0,J915>0),AVERAGE($K$12:K915),\"\")","v":""},"","","","","","","","","",null,null,"",{"$error":"#UNKNOWN!"},"",""]
[905,null,null,null,null,null,null,null,null,null,"",{"$f":"IF(AND(F916>0,G916>0,H916>0,I916>0,J916>0),AVERAGE($K$12:K916),\"\")","v":""},"","","","","","","","","",null,null,"",{"$error":"#UNKNOWN!"},"",""]
[906,null,null,null,null,null,null,null,null,null,"",{"$f":"IF(AND(F917>0,G917>0,H917>0,I917>0,J917>0),AVERAGE($K$12:K917),\"\")","v":""},"","","","","","","","","",null,null,"",{"$error":"#UNKNOWN!"},"",""]
[907,null,null,null,null,null,null,null,null,null,"",{"$f":"IF(AND(F918>0,G918>0,H918>0,I918>0,J918>0),AVERAGE($K$12:K918),\"\")","v":""},"","","","","","","","","",null,null,"",{"$error":"#UNKNOWN!"},"",""]
[908,null,null,null,null,null,null,null,null,null,"",{"$f":"IF(AND(F919>0,G919>0,H919>0,I919>0,J919>0),AVERAGE($K$12:K919),\"\")","v":""},"","","","","","","","","",null,null,"",{"$error":"#UNKNOWN!"},"",""]
[909,null,null,null,null,null,null,null,null,null,"",{"$f":"IF(AND(F920>0,G920>0,H920>0,I920>0,J920>0),AVERAGE($K$12:K920),\"\")","v":""},"","","","","","","","","",null,null,"",{"$error":"#UNKNOWN!"},"",""]
[910,null,null,null,null,null,null,null,null,null,"",{"$f":"IF(AND(F921>0,G921>0,H921>0,I921>0,J921>0),AVERAGE($K$12:K921),\"\")","v":""},"","","","","","","","","",null,null,"",{"$error":"#UNKNOWN!"},"",""]
[911,null,null,null,null,null,null,null,null,null,"",{"$f":"IF(AND(F922>0,G922>0,H922>0,I922>0,J922>0),AVERAGE($K$12:K922),\"\")","v":""},"","","","","","","","","",null,null,"",{"$error":"#UNKNOWN!"},"",""]
[912,null,null,null,null,null,null,null,null,null,"",{"$f":"IF(AND(F923>0,G923>0,H923>0,I923>0,J923>0),AVERAGE($K$12:K923),\"\")","v":""},"","","","","","","","","",null,null,"",{"$error":"#UNKNOWN!"},"",""]
[913,null,null,null,null,null,null,null,null,null,"",{"$f":"IF(AND(F924>0,G924>0,H924>0,I924>0,J924>0),AVERAGE($K$12:K924),\"\")","v":""},"","","","","","","","","",null,null,"",{"$error":"#UNKNOWN!"},"",""]
[914,null,null,null,null,null,null,null,null,null,"",{"$f":"IF(AND(F925>0,G925>0,H925>0,I925>0,J925>0),AVERAGE($K$12:K925),\"\")","v":""},"","","","","","","","","",null,null,"",{"$error":"#UNKNOWN!"},"",""]
[915,null,null,null,null,null,null,null,null,null,"",{"$f":"IF(AND(F926>0,G926>0,H926>0,I926>0,J926>0),AVERAGE($K$12:K926),\"\")","v":""},"","","","","","","","","",null,null,"",{"$error":"#UNKNOWN!"},"",""]
[916,null,null,null,null,null,null,null,null,null,"",{"$f":"IF(AND(F927>0,G927>0,H927>0,I927>0,J927>0),AVERAGE($K$12:K927),\"\")","v":""},"","","","","","","","","",null,null,"",{"$error":"#UNKNOWN!"},"",""]
[917,null,null,null,null,null,null,null,null,null,"",{"$f":"IF(AND(F928>0,G928>0,H928>0,I928>0,J928>0),AVERAGE($K$12:K928),\"\")","v":""},"","","","","","","","","",null,null,"",{"$error":"#UNKNOWN!"},"",""]
[918,null,null,null,null,null,null,null,null,null,"",{"$f":"IF(AND(F929>0,G929>0,H929>0,I929>0,J929>0),AVERAGE($K$12:K929),\"\")","v":""},"","","","","","","","","",null,null,"",{"$error":"#UNKNOWN!"},"",""]
[919,null,null,null,null,null,null,null,null,null,"",{"$f":"IF(AND(F930>0,G930>0,H930>0,I930>0,J930>0),AVERAGE($K$12:K930),\"\")","v":""},"","","","","","","","","",null,null,"",{"$error":"#UNKNOWN!"},"",""]
[920,null,null,null,null,null,null,null,null,null,"",{"$f":"IF(AND(F931>0,G931>0,H931>0,I931>0,J931>0),AVERAGE($K$12:K931),\"\")","v":""},"","","","","","","","","",null,null,"",{"$error":"#UNKNOWN!"},"",""]
[921,null,null,null,null,null,null,null,null,null,"",{"$f":"IF(AND(F932>0,G932>0,H932>0,I932>0,J932>0),AVERAGE($K$12:K932),\"\")","v":""},"","","","","","","","","",null,null,"",{"$error":"#UNKNOWN!"},"",""]
[922,null,null,null,null,null,null,null,null,null,"",{"$f":"IF(AND(F933>0,G933>0,H933>0,I933>0,J933>0),AVERAGE($K$12:K933),\"\")","v":""},"","","","","","","","","",null,null,"",{"$error":"#UNKNOWN!"},"",""]
[923,null,null,null,null,null,null,null,null,null,"",{"$f":"IF(AND(F934>0,G934>0,H934>0,I934>0,J934>0),AVERAGE($K$12:K934),\"\")","v":""},"","","","","","","","","",null,null,"",{"$error":"#UNKNOWN!"},"",""]
[924,null,null,null,null,null,null,null,null,null,"",{"$f":"IF(AND(F935>0,G935>0,H935>0,I935>0,J935>0),AVERAGE($K$12:K935),\"\")","v":""},"","","","","","","","","",null,null,"",{"$error":"#UNKNOWN!"},"",""]
[925,null,null,null,null,null,null,null,null,null,"",{"$f":"IF(AND(F936>0,G936>0,H936>0,I936>0,J936>0),AVERAGE($K$12:K936),\"\")","v":""},"","","","","","","","","",null,null,"",{"$error":"#UNKNOWN!"},"",""]
[926,null,null,null,null,null,null,null,null,null,"",{"$f":"IF(AND(F937>0,G937>0,H937>0,I937>0,J937>0),AVERAGE($K$12:K937),\"\")","v":""},"","","","","","","","","",null,null,"",{"$error":"#UNKNOWN!"},"",""]
[927,null,null,null,null,null,null,null,null,null,"",{"$f":"IF(AND(F938>0,G938>0,H938>0,I938>0,J938>0),AVERAGE($K$12:K938),\"\")","v":""},"","","","","","","","","",null,null,"",{"$error":"#UNKNOWN!"},"",""]
[928,null,null,null,null,null,null,null,null,null,"",{"$f":"IF(AND(F939>0,G939>0,H939>0,I939>0,J939>0),AVERAGE($K$12:K939),\"\")","v":""},"","","","","","","","","",null,null,"",{"$error":"#UNKNOWN!"},"",""]
[929,null,null,null,null,null,null,null,null,null,"",{"$f":"IF(AND(F940>0,G940>0,H940>0,I940>0,J940>0),AVERAGE($K$12:K940),\"\")","v":""},"","","","","","","","","",null,null,"",{"$error":"#UNKNOWN!"},"",""]
[930,null,null,null,null,null,null,null,null,null,"",{"$f":"IF(AND(F941>0,G941>0,H941>0,I941>0,J941>0),AVERAGE($K$12:K941),\"\")","v":""},"","","","","","","","","",null,null,"",{"$error":"#UNKNOWN!"},"",""]
[931,null,null,null,null,null,null,null,null,null,"",{"$f":"IF(AND(F942>0,G942>0,H942>0,I942>0,J942>0),AVERAGE($K$12:K942),\"\")","v":""},"","","","","","","","","",null,null,"",{"$error":"#UNKNOWN!"},"",""]
[932,null,null,null,null,null,null,null,null,null,"",{"$f":"IF(AND(F943>0,G943>0,H943>0,I943>0,J943>0),AVERAGE($K$12:K943),\"\")","v":""},"","","","","","","","","",null,null,"",{"$error":"#UNKNOWN!"},"",""]
[933,null,null,null,null,null,null,null,null,null,"",{"$f":"IF(AND(F944>0,G944>0,H944>0,I944>0,J944>0),AVERAGE($K$12:K944),\"\")","v":""},"","","","","","","","","",null,null,"",{"$error":"#UNKNOWN!"},"",""]
[934,null,null,null,null,null,null,null,null,null,"",{"$f":"IF(AND(F945>0,G945>0,H945>0,I945>0,J945>0),AVERAGE($K$12:K945),\"\")","v":""},"","","","","","","","","",null,null,"",{"$error":"#UNKNOWN!"},"",""]
[935,null,null,null,null,null,null,null,null,null,"",{"$f":"IF(AND(F946>0,G946>0,H946>0,I946>0,J946>0),AVERAGE($K$12:K946),\"\")","v":""},"","","","","","","","","",null,null,"",{"$error":"#UNKNOWN!"},"",""]
[936,null,null,null,null,null,null,null,null,null,"",{"$f":"IF(AND(F947>0,G947>0,H947>0,I947>0,J947>0),AVERAGE($K$12:K947),\"\")","v":""},"","","","","","","","","",null,null,"",{"$error":"#UNKNOWN!"},"",""]
[937,null,null,null,null,null,null,null,null,null,"",{"$f":"IF(AND(F948>0,G948>0,H948>0,I948>0,J948>0),AVERAGE($K$12:K948),\"\")","v":""},"","","","","","","","","",null,null,"",{"$error":"#UNKNOWN!"},"",""]
[938,null,null,null,null,null,null,null,null,null,"",{"$f":"IF(AND(F949>0,G949>0,H949>0,I949>0,J949>0),AVERAGE($K$12:K949),\"\")","v":""},"","","","","","","","","",null,null,"",{"$error":"#UNKNOWN!"},"",""]
[939,null,null,null,null,null,null,null,null,null,"",{"$f":"IF(AND(F950>0,G950>0,H950>0,I950>0,J950>0),AVERAGE($K$12:K950),\"\")","v":""},"","","","","","","","","",null,null,"",{"$error":"#UNKNOWN!"},"",""]
[940,null,null,null,null,null,null,null,null,null,"",{"$f":"IF(AND(F951>0,G951>0,H951>0,I951>0,J951>0),AVERAGE($K$12:K951),\"\")","v":""},"","","","","","","","","",null,null,"",{"$error":"#UNKNOWN!"},"",""]
[941,null,null,null,null,null,null,null,null,null,"",{"$f":"IF(AND(F952>0,G952>0,H952>0,I952>0,J952>0),AVERAGE($K$12:K952),\"\")","v":""},"","","","","","","","","",null,null,"",{"$error":"#UNKNOWN!"},"",""]
[942,null,null,null,null,null,null,null,null,null,"",{"$f":"IF(AND(F953>0,G953>0,H953>0,I953>0,J953>0),AVERAGE($K$12:K953),\"\")","v":""},"","","","","","","","","",null,null,"",{"$error":"#UNKNOWN!"},"",""]
[943,null,null,null,null,null,null,null,null,null,"",{"$f":"IF(AND(F954>0,G954>0,H954>0,I954>0,J954>0),AVERAGE($K$12:K954),\"\")","v":""},"","","","","","","","","",null,null,"",{"$error":"#UNKNOWN!"},"",""]
[944,null,null,null,null,null,null,null,null,null,"",{"$f":"IF(AND(F955>0,G955>0,H955>0,I955>0,J955>0),AVERAGE($K$12:K955),\"\")","v":""},"","","","","","","","","",null,null,"",{"$error":"#UNKNOWN!"},"",""]
[945,null,null,null,null,null,null,null,null,null,"",{"$f":"IF(AND(F956>0,G956>0,H956>0,I956>0,J956>0),AVERAGE($K$12:K956),\"\")","v":""},"","","","","","","","","",null,null,"",{"$error":"#UNKNOWN!"},"",""]
[946,null,null,null,null,null,null,null,null,null,"",{"$f":"IF(AND(F957>0,G957>0,H957>0,I957>0,J957>0),AVERAGE($K$12:K957),\"\")","v":""},"","","","","","","","","",null,null,"",{"$error":"#UNKNOWN!"},"",""]
[947,null,null,null,null,null,null,null,null,null,"",{"$f":"IF(AND(F958>0,G958>0,H958>0,I958>0,J958>0),AVERAGE($K$12:K958),\"\")","v":""},"","","","","","","","","",null,null,"",{"$error":"#UNKNOWN!"},"",""]
[948,null,null,null,null,null,null,null,null,null,"",{"$f":"IF(AND(F959>0,G959>0,H959>0,I959>0,J959>0),AVERAGE($K$12:K959),\"\")","v":""},"","","","","","","","","",null,null,"",{"$error":"#UNKNOWN!"},"",""]
[949,null,null,null,null,null,null,null,null,null,"",{"$f":"IF(AND(F960>0,G960>0,H960>0,I960>0,J960>0),AVERAGE($K$12:K960),\"\")","v":""},"","","","","","","","","",null,null,"",{"$error":"#UNKNOWN!"},"",""]
[950,null,null,null,null,null,null,null,null,null,"",{"$f":"IF(AND(F961>0,G961>0,H961>0,I961>0,J961>0),AVERAGE($K$12:K961),\"\")","v":""},"","","","","","","","","",null,null,"",{"$error":"#UNKNOWN!"},"",""]
[951,null,null,null,null,null,null,null,null,null,"",{"$f":"IF(AND(F962>0,G962>0,H962>0,I962>0,J962>0),AVERAGE($K$12:K962),\"\")","v":""},"","","","","","","","","",null,null,"",{"$error":"#UNKNOWN!"},"",""]
[952,null,null,null,null,null,null,null,null,null,"",{"$f":"IF(AND(F963>0,G963>0,H963>0,I963>0,J963>0),AVERAGE($K$12:K963),\"\")","v":""},"","","","","","","","","",null,null,"",{"$error":"#UNKNOWN!"},"",""]
[953,null,null,null,null,null,null,null,null,null,"",{"$f":"IF(AND(F964>0,G964>0,H964>0,I964>0,J964>0),AVERAGE($K$12:K964),\"\")","v":""},"","","","","","","","","",null,null,"",{"$error":"#UNKNOWN!"},"",""]
[954,null,null,null,null,null,null,null,null,null,"",{"$f":"IF(AND(F965>0,G965>0,H965>0,I965>0,J965>0),AVERAGE($K$12:K965),\"\")","v":""},"","","","","","","","","",null,null,"",{"$error":"#UNKNOWN!"},"",""]
[955,null,null,null,null,null,null,null,null,null,"",{"$f":"IF(AND(F966>0,G966>0,H966>0,I966>0,J966>0),AVERAGE($K$12:K966),\"\")","v":""},"","","","","","","","","",null,null,"",{"$error":"#UNKNOWN!"},"",""]
[956,null,null,null,null,null,null,null,null,null,"",{"$f":"IF(AND(F967>0,G967>0,H967>0,I967>0,J967>0),AVERAGE($K$12:K967),\"\")","v":""},"","","","","","","","","",null,null,"",{"$error":"#UNKNOWN!"},"",""]
[957,null,null,null,null,null,null,null,null,null,"",{"$f":"IF(AND(F968>0,G968>0,H968>0,I968>0,J968>0),AVERAGE($K$12:K968),\"\")","v":""},"","","","","","","","","",null,null,"",{"$error":"#UNKNOWN!"},"",""]
[958,null,null,null,null,null,null,null,null,null,"",{"$f":"IF(AND(F969>0,G969>0,H969>0,I969>0,J969>0),AVERAGE($K$12:K969),\"\")","v":""},"","","","","","","","","",null,null,"",{"$error":"#UNKNOWN!"},"",""]
[959,null,null,null,null,null,null,null,null,null,"",{"$f":"IF(AND(F970>0,G970>0,H970>0,I970>0,J970>0),AVERAGE($K$12:K970),\"\")","v":""},"","","","","","","","","",null,null,"",{"$error":"#UNKNOWN!"},{"$f":"IF($P$1=1,S970,Q970)","v":""},""]
[960,null,null,null,null,null,null,null,null,null,"",{"$f":"IF(AND(F971>0,G971>0,H971>0,I971>0,J971>0),AVERAGE($K$12:K971),\"\")","v":""},"","","","",{"$f":"IF(AND(F971>0,G971>0,H971>0,I971>0,J971>0),$E$5,\"\")","v":""},{"$f":"IF(AND(F971>0,G971>0,H971>0,I971>0,J971>0),$E$5*(-1),\"\")","v":""},{"$f":"IF(AND(F971>0,G971>0,H971>0,I971>0,J971>0),$E$6,\"\")","v":""},"",{"$f":"IFERROR(IF(ABS(M971)<=$E$5,TRUE,FALSE),\"\")","v":""},null,null,"",{"$f":"IF($P$1=1,#N/A,R971)","v":{"$error":"#UNKNOWN!"}},"",""]
[961,null,null,null,null,null,null,null,null,null,{"$f":"IF(AND(F972>0,G972>0,H972>0,I972>0,J972>0),AVERAGE(F972:J972),\"\")","v":""},{"$f":"IF(AND(F972>0,G972>0,H972>0,I972>0,J972>0),AVERAGE($K$12:K972),\"\")","v":""},{"$f":"IF(AND(F972>0,G972>0,H972>0,I972>0,J972>0),(K972-$E$4),\"\")","v":""},"",{"$f":"IF(AND(F972>0,G972>0,H972>0,I972>0,J972>0),ROUND(STDEV(F972:J972),2),\"\")","v":""},"","","","",{"$f":"IFERROR(IF(OR((ABS(N972)<=$E$6),(N972<1)),TRUE,FALSE),\"\")","v":""},"",null,null,{"$f":"IFERROR(MID(C972,SEARCH(\":\",C972)+1,10),\"\")","v":""},{"$error":"#UNKNOWN!"},"",{"$f":"IF($P$1=1,N972,M972)","v":""}]
[962,null,null,null,null,null,null,null,null,null,"",{"$f":"IF(AND(F973>0,G973>0,H973>0,I973>0,J973>0),AVERAGE($K$12:K973),\"\")","v":""},"",{"$f":"IF(AND(F973>0,G973>0,H973>0,I973>0,J973>0),MAX(F973:J973)-MIN(F973:J973),\"\")","v":""},"",{"$f":"IF(F973>0,IF(T973=FALSE,IF(U973=FALSE,\"<GA+WHP>\",\"<WHP>\"),IF(U973=FALSE,\"<GA>\",\"\")) & IF(V973=TRUE,\"<Trend>\",\"\") & IF(W973=TRUE,\"<Run>\",\"\")& IF(AND(ABS(T973+U973=2),V973+W973=0),\"OK\",\"\"),\"\")","v":""},"","","","","",null,null,"",{"$error":"#UNKNOWN!"},"",""]
[963,null,null,null,null,null,null,null,null,null,"",{"$f":"IF(AND(F974>0,G974>0,H974>0,I974>0,J974>0),AVERAGE($K$12:K974),\"\")","v":""},"","","","","","","","","",null,null,"",{"$error":"#UNKNOWN!"},"",""]
[964,null,null,null,null,null,null,null,null,null,"",{"$f":"IF(AND(F975>0,G975>0,H975>0,I975>0,J975>0),AVERAGE($K$12:K975),\"\")","v":""},"","","","","","","","","",null,null,"",{"$error":"#UNKNOWN!"},"",""]
[965,null,null,null,null,null,null,null,null,null,"",{"$f":"IF(AND(F976>0,G976>0,H976>0,I976>0,J976>0),AVERAGE($K$12:K976),\"\")","v":""},"","","","","","","","","",null,null,"",{"$error":"#UNKNOWN!"},"",""]
[966,null,null,null,null,null,null,null,null,null,"",{"$f":"IF(AND(F977>0,G977>0,H977>0,I977>0,J977>0),AVERAGE($K$12:K977),\"\")","v":""},"","","","","","","","","",{"$f":"OR(AND(K977>K976,K976>K975,K975>K974,K974>K973,K973>K972,K972>K971),AND(K977<K976,K976<K975,K975<K974,K974<K973,K973<K972,K972<K971))","v":null},{"$f":"OR(AND(K977>L977,K976>L977,K975>L977,K974>L977,K973>L977,K972>L977,K971>L977),AND(K977<L977,K976<L977,K975<L977,K974<L977,K973<L977,K972<L977,K971<L977))","v":null},"",{"$error":"#UNKNOWN!"},"",""]
[967,null,null,null,null,null,null,null,null,null,"",{"$f":"IF(AND(F978>0,G978>0,H978>0,I978>0,J978>0),AVERAGE($K$12:K978),\"\")","v":""},"","","","","","","","","",null,null,"",{"$error":"#UNKNOWN!"},"",""]
[968,null,null,null,null,null,null,null,null,null,"",{"$f":"IF(AND(F979>0,G979>0,H979>0,I979>0,J979>0),AVERAGE($K$12:K979),\"\")","v":""},"","","","","","","","","",null,null,"",{"$error":"#UNKNOWN!"},"",""]
[969,null,null,null,null,null,null,null,null,null,"",{"$f":"IF(AND(F980>0,G980>0,H980>0,I980>0,J980>0),AVERAGE($K$12:K980),\"\")","v":""},"","","","","","","","","",null,null,"",{"$error":"#UNKNOWN!"},"",""]
[970,null,null,null,null,null,null,null,null,null,"",{"$f":"IF(AND(F981>0,G981>0,H981>0,I981>0,J981>0),AVERAGE($K$12:K981),\"\")","v":""},"","","","","","","","","",null,null,"",{"$error":"#UNKNOWN!"},"",""]
[971,null,null,null,null,null,null,null,null,null,"",{"$f":"IF(AND(F982>0,G982>0,H982>0,I982>0,J982>0),AVERAGE($K$12:K982),\"\")","v":""},"","","","","","","","","",null,null,"",{"$error":"#UNKNOWN!"},"",""]
[972,null,null,null,null,null,null,null,null,null,"",{"$f":"IF(AND(F983>0,G983>0,H983>0,I983>0,J983>0),AVERAGE($K$12:K983),\"\")","v":""},"","","","","","","","","",null,null,"",{"$error":"#UNKNOWN!"},"",""]
[973,null,null,null,null,null,null,null,null,null,"",{"$f":"IF(AND(F984>0,G984>0,H984>0,I984>0,J984>0),AVERAGE($K$12:K984),\"\")","v":""},"","","","","","","","","",null,null,"",{"$error":"#UNKNOWN!"},"",""]
[974,null,null,null,null,null,null,null,null,null,"",{"$f":"IF(AND(F985>0,G985>0,H985>0,I985>0,J985>0),AVERAGE($K$12:K985),\"\")","v":""},"","","","","","","","","",null,null,"",{"$error":"#UNKNOWN!"},"",""]
[975,null,null,null,null,null,null,null,null,null,"",{"$f":"IF(AND(F986>0,G986>0,H986>0,I986>0,J986>0),AVERAGE($K$12:K986),\"\")","v":""},"","","","","","","","","",null,null,"",{"$error":"#UNKNOWN!"},"",""]
[976,null,null,null,null,null,null,null,null,null,"",{"$f":"IF(AND(F987>0,G987>0,H987>0,I987>0,J987>0),AVERAGE($K$12:K987),\"\")","v":""},"","","","","","","","","",null,null,"",{"$error":"#UNKNOWN!"},"",""]
[977,null,null,null,null,null,null,null,null,null,"",{"$f":"IF(AND(F988>0,G988>0,H988>0,I988>0,J988>0),AVERAGE($K$12:K988),\"\")","v":""},"","","","","","","","","",null,null,"",{"$error":"#UNKNOWN!"},"",""]
[978,null,null,null,null,null,null,null,null,null,"",{"$f":"IF(AND(F989>0,G989>0,H989>0,I989>0,J989>0),AVERAGE($K$12:K989),\"\")","v":""},"","","","","","","","","",null,null,"",{"$error":"#UNKNOWN!"},"",""]
[979,null,null,null,null,null,null,null,null,null,"",{"$f":"IF(AND(F990>0,G990>0,H990>0,I990>0,J990>0),AVERAGE($K$12:K990),\"\")","v":""},"","","","","","","","","",null,null,"",{"$error":"#UNKNOWN!"},"",""]
[980,null,null,null,null,null,null,null,null,null,"",{"$f":"IF(AND(F991>0,G991>0,H991>0,I991>0,J991>0),AVERAGE($K$12:K991),\"\")","v":""},"","","","","","","","","",null,null,"",{"$error":"#UNKNOWN!"},"",""]
[981,null,null,null,null,null,null,null,null,null,"",{"$f":"IF(AND(F992>0,G992>0,H992>0,I992>0,J992>0),AVERAGE($K$12:K992),\"\")","v":""},"","","","","","","","","",null,null,"",{"$error":"#UNKNOWN!"},"",""]
[982,null,null,null,null,null,null,null,null,null,"",{"$f":"IF(AND(F993>0,G993>0,H993>0,I993>0,J993>0),AVERAGE($K$12:K993),\"\")","v":""},"","","","","","","","","",null,null,"",{"$error":"#UNKNOWN!"},"",""]
[983,null,null,null,null,null,null,null,null,null,"",{"$f":"IF(AND(F994>0,G994>0,H994>0,I994>0,J994>0),AVERAGE($K$12:K994),\"\")","v":""},"","","","","","","","","",null,null,"",{"$error":"#UNKNOWN!"},"",""]
[984,null,null,null,null,null,null,null,null,null,"",{"$f":"IF(AND(F995>0,G995>0,H995>0,I995>0,J995>0),AVERAGE($K$12:K995),\"\")","v":""},"","","","","","","","","",null,null,"",{"$error":"#UNKNOWN!"},"",""]
[985,null,null,null,null,null,null,null,null,null,"",{"$f":"IF(AND(F996>0,G996>0,H996>0,I996>0,J996>0),AVERAGE($K$12:K996),\"\")","v":""},"","","","","","","","","",null,null,"",{"$error":"#UNKNOWN!"},"",""]
[986,null,null,null,null,null,null,null,null,null,"",{"$f":"IF(AND(F997>0,G997>0,H997>0,I997>0,J997>0),AVERAGE($K$12:K997),\"\")","v":""},"","","","","","","","","",null,null,"",{"$error":"#UNKNOWN!"},"",""]
[987,null,null,null,null,null,null,null,null,null,"",{"$f":"IF(AND(F998>0,G998>0,H998>0,I998>0,J998>0),AVERAGE($K$12:K998),\"\")","v":""},"","","","","","","","","",null,null,"",{"$error":"#UNKNOWN!"},"",""]
[988,null,null,null,null,null,null,null,null,null,"",{"$f":"IF(AND(F999>0,G999>0,H999>0,I999>0,J999>0),AVERAGE($K$12:K999),\"\")","v":""},"","","","","","","","","",null,null,"",{"$error":"#UNKNOWN!"},"",""]
[989,null,null,null,null,null,null,null,null,null,"",{"$f":"IF(AND(F1000>0,G1000>0,H1000>0,I1000>0,J1000>0),AVERAGE($K$12:K1000),\"\")","v":""},"","","","","","","","","",null,null,"",{"$error":"#UNKNOWN!"},"",""]
[990,null,null,null,null,null,null,null,null,null,"",{"$f":"IF(AND(F1001>0,G1001>0,H1001>0,I1001>0,J1001>0),AVERAGE($K$12:K1001),\"\")","v":""},"","","","","","","","","",null,null,"",{"$error":"#UNKNOWN!"},"",""]
[991,null,null,null,null,null,null,null,null,null,"",{"$f":"IF(AND(F1002>0,G1002>0,H1002>0,I1002>0,J1002>0),AVERAGE($K$12:K1002),\"\")","v":""},"","","","","","","","","",null,null,"",{"$error":"#UNKNOWN!"},"",""]
[992,null,null,null,null,null,null,null,null,null,"",{"$f":"IF(AND(F1003>0,G1003>0,H1003>0,I1003>0,J1003>0),AVERAGE($K$12:K1003),\"\")","v":""},"","","","","","","","","",null,null,"",{"$error":"#UNKNOWN!"},"",""]
[993,null,null,null,null,null,null,null,null,null,"",{"$f":"IF(AND(F1004>0,G1004>0,H1004>0,I1004>0,J1004>0),AVERAGE($K$12:K1004),\"\")","v":""},"","","","","","","","","",null,null,"",{"$error":"#UNKNOWN!"},"",""]
[994,null,null,null,null,null,null,null,null,null,"",{"$f":"IF(AND(F1005>0,G1005>0,H1005>0,I1005>0,J1005>0),AVERAGE($K$12:K1005),\"\")","v":""},"","","","","","","","","",null,null,"",{"$error":"#UNKNOWN!"},"",""]
[995,null,null,null,null,null,null,null,null,null,"",{"$f":"IF(AND(F1006>0,G1006>0,H1006>0,I1006>0,J1006>0),AVERAGE($K$12:K1006),\"\")","v":""},"","","","","","","","","",null,null,"",{"$error":"#UNKNOWN!"},"",""]
[996,null,null,null,null,null,null,null,null,null,"",{"$f":"IF(AND(F1007>0,G1007>0,H1007>0,I1007>0,J1007>0),AVERAGE($K$12:K1007),\"\")","v":""},"","","","","","","","","",null,null,"",{"$error":"#UNKNOWN!"},"",""]
[997,null,null,null,null,null,null,null,null,null,"",{"$f":"IF(AND(F1008>0,G1008>0,H1008>0,I1008>0,J1008>0),AVERAGE($K$12:K1008),\"\")","v":""},"","","","","","","","","",null,null,"",{"$error":"#UNKNOWN!"},"",""]
[998,null,null,null,null,null,null,null,null,null,"",{"$f":"IF(AND(F1009>0,G1009>0,H1009>0,I1009>0,J1009>0),AVERAGE($K$12:K1009),\"\")","v":""},"","","","","","","","","",null,null,"",{"$error":"#UNKNOWN!"},"",""]
[999,null,null,null,null,null,null,null,null,null,"",{"$f":"IF(AND(F1010>0,G1010>0,H1010>0,I1010>0,J1010>0),AVERAGE($K$12:K1010),\"\")","v":""},"","","","","","","","","",null,null,"",{"$error":"#UNKNOWN!"},"",""]
[1000,null,null,null,null,null,null,null,null,null,"",{"$f":"IF(AND(F1011>0,G1011>0,H1011>0,I1011>0,J1011>0),AVERAGE($K$12:K1011),\"\")","v":""},"","","","","","","","","",null,null,"",{"$error":"#UNKNOWN!"},"",""]
[1001,null,null,null,null,null,null,null,null,null,"",{"$f":"IF(AND(F1012>0,G1012>0,H1012>0,I1012>0,J1012>0),AVERAGE($K$12:K1012),\"\")","v":""},"","","","","","","","","",null,null,"",{"$error":"#UNKNOWN!"},"",""]
[1002,null,null,null,null,null,null,null,null,null,"",{"$f":"IF(AND(F1013>0,G1013>0,H1013>0,I1013>0,J1013>0),AVERAGE($K$12:K1013),\"\")","v":""},"","","","","","","","","",null,null,"",{"$error":"#UNKNOWN!"},"",""]
[1003,null,null,null,null,null,null,null,null,null,"",{"$f":"IF(AND(F1014>0,G1014>0,H1014>0,I1014>0,J1014>0),AVERAGE($K$12:K1014),\"\")","v":""},"","","","","","","","","",null,null,"",{"$error":"#UNKNOWN!"},"",""]
[1004,null,null,null,null,null,null,null,null,null,"",{"$f":"IF(AND(F1015>0,G1015>0,H1015>0,I1015>0,J1015>0),AVERAGE($K$12:K1015),\"\")","v":""},"","","","","","","","","",null,null,"",{"$error":"#UNKNOWN!"},"",""]
[1005,null,null,null,null,null,null,null,null,null,"",{"$f":"IF(AND(F1016>0,G1016>0,H1016>0,I1016>0,J1016>0),AVERAGE($K$12:K1016),\"\")","v":""},"","","","","","","","","",null,null,"",{"$error":"#UNKNOWN!"},"",""]
[1006,null,null,null,null,null,null,null,null,null,"",{"$f":"IF(AND(F1017>0,G1017>0,H1017>0,I1017>0,J1017>0),AVERAGE($K$12:K1017),\"\")","v":""},"","","","","","","","","",null,null,"",{"$error":"#UNKNOWN!"},"",""]
[1007,null,null,null,null,null,null,null,null,null,"",{"$f":"IF(AND(F1018>0,G1018>0,H1018>0,I1018>0,J1018>0),AVERAGE($K$12:K1018),\"\")","v":""},"","","","","","","","","",null,null,"",{"$error":"#UNKNOWN!"},"",""]
[1008,null,null,null,null,null,null,null,null,null,"",{"$f":"IF(AND(F1019>0,G1019>0,H1019>0,I1019>0,J1019>0),AVERAGE($K$12:K1019),\"\")","v":""},"","","","","","","","","",null,null,"",{"$error":"#UNKNOWN!"},"",""]
[1009,null,null,null,null,null,null,null,null,null,"",{"$f":"IF(AND(F1020>0,G1020>0,H1020>0,I1020>0,J1020>0),AVERAGE($K$12:K1020),\"\")","v":""},"","","","","","","","","",null,null,"",{"$error":"#UNKNOWN!"},"",""]
[1010,null,null,null,null,null,null,null,null,null,"",{"$f":"IF(AND(F1021>0,G1021>0,H1021>0,I1021>0,J1021>0),AVERAGE($K$12:K1021),\"\")","v":""},"","","","","","","","","",null,null,"",{"$error":"#UNKNOWN!"},"",""]
[1011,null,null,null,null,null,null,null,null,null,"",{"$f":"IF(AND(F1022>0,G1022>0,H1022>0,I1022>0,J1022>0),AVERAGE($K$12:K1022),\"\")","v":""},"","","","","","","","","",null,null,"",{"$error":"#UNKNOWN!"},"",""]
[1012,null,null,null,null,null,null,null,null,null,"",{"$f":"IF(AND(F1023>0,G1023>0,H1023>0,I1023>0,J1023>0),AVERAGE($K$12:K1023),\"\")","v":""},"","","","","","","","","",null,null,"",{"$error":"#UNKNOWN!"},"",""]
[1013,null,null,null,null,null,null,null,null,null,"",{"$f":"IF(AND(F1024>0,G1024>0,H1024>0,I1024>0,J1024>0),AVERAGE($K$12:K1024),\"\")","v":""},"","","","","","","","","",null,null,"",{"$error":"#UNKNOWN!"},"",""]
[1014,null,null,null,null,null,null,null,null,null,"",{"$f":"IF(AND(F1025>0,G1025>0,H1025>0,I1025>0,J1025>0),AVERAGE($K$12:K1025),\"\")","v":""},"","","","","","","","","",null,null,"",{"$error":"#UNKNOWN!"},"",""]
[1015,null,null,null,null,null,null,null,null,null,"",{"$f":"IF(AND(F1026>0,G1026>0,H1026>0,I1026>0,J1026>0),AVERAGE($K$12:K1026),\"\")","v":""},"","","","","","","","","",null,null,"",{"$error":"#UNKNOWN!"},"",""]
[1016,null,null,null,null,null,null,null,null,null,"",{"$f":"IF(AND(F1027>0,G1027>0,H1027>0,I1027>0,J1027>0),AVERAGE($K$12:K1027),\"\")","v":""},"","","","","","","","","",null,null,"",{"$error":"#UNKNOWN!"},"",""]
[1017,null,null,null,null,null,null,null,null,null,"",{"$f":"IF(AND(F1028>0,G1028>0,H1028>0,I1028>0,J1028>0),AVERAGE($K$12:K1028),\"\")","v":""},"","","","","","","","","",null,null,"",{"$error":"#UNKNOWN!"},"",""]
[1018,null,null,null,null,null,null,null,null,null,"",{"$f":"IF(AND(F1029>0,G1029>0,H1029>0,I1029>0,J1029>0),AVERAGE($K$12:K1029),\"\")","v":""},"","","","","","","","","",null,null,"",{"$error":"#UNKNOWN!"},"",""]
[1019,null,null,null,null,null,null,null,null,null,"",{"$f":"IF(AND(F1030>0,G1030>0,H1030>0,I1030>0,J1030>0),AVERAGE($K$12:K1030),\"\")","v":""},"","","","","","","","","",null,null,"",{"$error":"#UNKNOWN!"},"",""]
[1020,null,null,null,null,null,null,null,null,null,"",{"$f":"IF(AND(F1031>0,G1031>0,H1031>0,I1031>0,J1031>0),AVERAGE($K$12:K1031),\"\")","v":""},"","","","","","","","","",null,null,"",{"$error":"#UNKNOWN!"},"",""]
[1021,null,null,null,null,null,null,null,null,null,"",{"$f":"IF(AND(F1032>0,G1032>0,H1032>0,I1032>0,J1032>0),AVERAGE($K$12:K1032),\"\")","v":""},"","","","","","","","","",null,null,"",{"$error":"#UNKNOWN!"},"",""]
[1022,null,null,null,null,null,null,null,null,null,"",{"$f":"IF(AND(F1033>0,G1033>0,H1033>0,I1033>0,J1033>0),AVERAGE($K$12:K1033),\"\")","v":""},"","","","","","","","","",null,null,"",{"$error":"#UNKNOWN!"},"",""]
[1023,null,null,null,null,null,null,null,null,null,"",{"$f":"IF(AND(F1034>0,G1034>0,H1034>0,I1034>0,J1034>0),AVERAGE($K$12:K1034),\"\")","v":""},"","","","","","","","","",null,null,"",{"$error":"#UNKNOWN!"},{"$f":"IF($P$1=1,S1034,Q1034)","v":""},""]
[1024,null,null,null,null,null,null,null,null,null,"",{"$f":"IF(AND(F1035>0,G1035>0,H1035>0,I1035>0,J1035>0),AVERAGE($K$12:K1035),\"\")","v":""},"","","","",{"$f":"IF(AND(F1035>0,G1035>0,H1035>0,I1035>0,J1035>0),$E$5,\"\")","v":""},{"$f":"IF(AND(F1035>0,G1035>0,H1035>0,I1035>0,J1035>0),$E$5*(-1),\"\")","v":""},{"$f":"IF(AND(F1035>0,G1035>0,H1035>0,I1035>0,J1035>0),$E$6,\"\")","v":""},"",{"$f":"IFERROR(IF(ABS(M1035)<=$E$5,TRUE,FALSE),\"\")","v":""},null,null,"",{"$f":"IF($P$1=1,#N/A,R1035)","v":{"$error":"#UNKNOWN!"}},"",""]
[1025,null,null,null,null,null,null,null,null,null,{"$f":"IF(AND(F1036>0,G1036>0,H1036>0,I1036>0,J1036>0),AVERAGE(F1036:J1036),\"\")","v":""},{"$f":"IF(AND(F1036>0,G1036>0,H1036>0,I1036>0,J1036>0),AVERAGE($K$12:K1036),\"\")","v":""},{"$f":"IF(AND(F1036>0,G1036>0,H1036>0,I1036>0,J1036>0),(K1036-$E$4),\"\")","v":""},"",{"$f":"IF(AND(F1036>0,G1036>0,H1036>0,I1036>0,J1036>0),ROUND(STDEV(F1036:J1036),2),\"\")","v":""},"","","","",{"$f":"IFERROR(IF(OR((ABS(N1036)<=$E$6),(N1036<1)),TRUE,FALSE),\"\")","v":""},"",null,null,{"$f":"IFERROR(MID(C1036,SEARCH(\":\",C1036)+1,10),\"\")","v":""},{"$error":"#UNKNOWN!"},"",{"$f":"IF($P$1=1,N1036,M1036)","v":""}]
[1026,null,null,null,null,null,null,null,null,null,"",{"$f":"IF(AND(F1037>0,G1037>0,H1037>0,I1037>0,J1037>0),AVERAGE($K$12:K1037),\"\")","v":""},"",{"$f":"IF(AND(F1037>0,G1037>0,H1037>0,I1037>0,J1037>0),MAX(F1037:J1037)-MIN(F1037:J1037),\"\")","v":""},"",{"$f":"IF(F1037>0,IF(T1037=FALSE,IF(U1037=FALSE,\"<GA+WHP>\",\"<WHP>\"),IF(U1037=FALSE,\"<GA>\",\"\")) & IF(V1037=TRUE,\"<Trend>\",\"\") & IF(W1037=TRUE,\"<Run>\",\"\")& IF(AND(ABS(T1037+U1037=2),V1037+W1037=0),\"OK\",\"\"),\"\")","v":""},"","","","","",null,null,"",{"$error":"#UNKNOWN!"},"",""]
[1027,null,null,null,null,null,null,null,null,null,"",{"$f":"IF(AND(F1038>0,G1038>0,H1038>0,I1038>0,J1038>0),AVERAGE($K$12:K1038),\"\")","v":""},"","","","","","","","","",null,null,"",{"$error":"#UNKNOWN!"},"",""]
[1028,null,null,null,null,null,null,null,null,null,"",{"$f":"IF(AND(F1039>0,G1039>0,H1039>0,I1039>0,J1039>0),AVERAGE($K$12:K1039),\"\")","v":""},"","","","","","","","","",null,null,"",{"$error":"#UNKNOWN!"},"",""]
[1029,null,null,null,null,null,null,null,null,null,"",{"$f":"IF(AND(F1040>0,G1040>0,H1040>0,I1040>0,J1040>0),AVERAGE($K$12:K1040),\"\")","v":""},"","","","","","","","","",null,null,"",{"$error":"#UNKNOWN!"},"",""]
[1030,null,null,null,null,null,null,null,null,null,"",{"$f":"IF(AND(F1041>0,G1041>0,H1041>0,I1041>0,J1041>0),AVERAGE($K$12:K1041),\"\")","v":""},"","","","","","","","","",{"$f":"OR(AND(K1041>K1040,K1040>K1039,K1039>K1038,K1038>K1037,K1037>K1036,K1036>K1035),AND(K1041<K1040,K1040<K1039,K1039<K1038,K1038<K1037,K1037<K1036,K1036<K1035))","v":null},{"$f":"OR(AND(K1041>L1041,K1040>L1041,K1039>L1041,K1038>L1041,K1037>L1041,K1036>L1041,K1035>L1041),AND(K1041<L1041,K1040<L1041,K1039<L1041,K1038<L1041,K1037<L1041,K1036<L1041,K1035<L1041))","v":null},"",{"$error":"#UNKNOWN!"},"",""]
[1031,null,null,null,null,null,null,null,null,null,"",{"$f":"IF(AND(F1042>0,G1042>0,H1042>0,I1042>0,J1042>0),AVERAGE($K$12:K1042),\"\")","v":""},"","","","","","","","","",null,null,"",{"$error":"#UNKNOWN!"},"",""]
[1032,null,null,null,null,null,null,null,null,null,"",{"$f":"IF(AND(F1043>0,G1043>0,H1043>0,I1043>0,J1043>0),AVERAGE($K$12:K1043),\"\")","v":""},"","","","","","","","","",null,null,"",{"$error":"#UNKNOWN!"},"",""]
[1033,null,null,null,null,null,null,null,null,null,"",{"$f":"IF(AND(F1044>0,G1044>0,H1044>0,I1044>0,J1044>0),AVERAGE($K$12:K1044),\"\")","v":""},"","","","","","","","","",null,null,"",{"$error":"#UNKNOWN!"},"",""]
[1034,null,null,null,null,null,null,null,null,null,"",{"$f":"IF(AND(F1045>0,G1045>0,H1045>0,I1045>0,J1045>0),AVERAGE($K$12:K1045),\"\")","v":""},"","","","","","","","","",null,null,"",{"$error":"#UNKNOWN!"},"",""]
[1035,null,null,null,null,null,null,null,null,null,"",{"$f":"IF(AND(F1046>0,G1046>0,H1046>0,I1046>0,J1046>0),AVERAGE($K$12:K1046),\"\")","v":""},"","","","","","","","","",null,null,"",{"$error":"#UNKNOWN!"},"",""]
[1036,null,null,null,null,null,null,null,null,null,"",{"$f":"IF(AND(F1047>0,G1047>0,H1047>0,I1047>0,J1047>0),AVERAGE($K$12:K1047),\"\")","v":""},"","","","","","","","","",null,null,"",{"$error":"#UNKNOWN!"},"",""]
[1037,null,null,null,null,null,null,null,null,null,"",{"$f":"IF(AND(F1048>0,G1048>0,H1048>0,I1048>0,J1048>0),AVERAGE($K$12:K1048),\"\")","v":""},"","","","","","","","","",null,null,"",{"$error":"#UNKNOWN!"},"",""]
[1038,null,null,null,null,null,null,null,null,null,"",{"$f":"IF(AND(F1049>0,G1049>0,H1049>0,I1049>0,J1049>0),AVERAGE($K$12:K1049),\"\")","v":""},"","","","","","","","","",null,null,"",{"$error":"#UNKNOWN!"},"",""]
[1039,null,null,null,null,null,null,null,null,null,"",{"$f":"IF(AND(F1050>0,G1050>0,H1050>0,I1050>0,J1050>0),AVERAGE($K$12:K1050),\"\")","v":""},"","","","","","","","","",null,null,"",{"$error":"#UNKNOWN!"},"",""]
[1040,null,null,null,null,null,null,null,null,null,"",{"$f":"IF(AND(F1051>0,G1051>0,H1051>0,I1051>0,J1051>0),AVERAGE($K$12:K1051),\"\")","v":""},"","","","","","","","","",null,null,"",{"$error":"#UNKNOWN!"},"",""]
[1041,null,null,null,null,null,null,null,null,null,"",{"$f":"IF(AND(F1052>0,G1052>0,H1052>0,I1052>0,J1052>0),AVERAGE($K$12:K1052),\"\")","v":""},"","","","","","","","","",null,null,"",{"$error":"#UNKNOWN!"},"",""]
[1042,null,null,null,null,null,null,null,null,null,"",{"$f":"IF(AND(F1053>0,G1053>0,H1053>0,I1053>0,J1053>0),AVERAGE($K$12:K1053),\"\")","v":""},"","","","","","","","","",null,null,"",{"$error":"#UNKNOWN!"},"",""]
[1043,null,null,null,null,null,null,null,null,null,"",{"$f":"IF(AND(F1054>0,G1054>0,H1054>0,I1054>0,J1054>0),AVERAGE($K$12:K1054),\"\")","v":""},"","","","","","","","","",null,null,"",{"$error":"#UNKNOWN!"},"",""]
[1044,null,null,null,null,null,null,null,null,null,"",{"$f":"IF(AND(F1055>0,G1055>0,H1055>0,I1055>0,J1055>0),AVERAGE($K$12:K1055),\"\")","v":""},"","","","","","","","","",null,null,"",{"$error":"#UNKNOWN!"},"",""]
[1045,null,null,null,null,null,null,null,null,null,"",{"$f":"IF(AND(F1056>0,G1056>0,H1056>0,I1056>0,J1056>0),AVERAGE($K$12:K1056),\"\")","v":""},"","","","","","","","","",null,null,"",{"$error":"#UNKNOWN!"},"",""]
[1046,null,null,null,null,null,null,null,null,null,"",{"$f":"IF(AND(F1057>0,G1057>0,H1057>0,I1057>0,J1057>0),AVERAGE($K$12:K1057),\"\")","v":""},"","","","","","","","","",null,null,"",{"$error":"#UNKNOWN!"},"",""]
[1047,null,null,null,null,null,null,null,null,null,"",{"$f":"IF(AND(F1058>0,G1058>0,H1058>0,I1058>0,J1058>0),AVERAGE($K$12:K1058),\"\")","v":""},"","","","","","","","","",null,null,"",{"$error":"#UNKNOWN!"},"",""]
[1048,null,null,null,null,null,null,null,null,null,"",{"$f":"IF(AND(F1059>0,G1059>0,H1059>0,I1059>0,J1059>0),AVERAGE($K$12:K1059),\"\")","v":""},"","","","","","","","","",null,null,"",{"$error":"#UNKNOWN!"},"",""]
[1049,null,null,null,null,null,null,null,null,null,"",{"$f":"IF(AND(F1060>0,G1060>0,H1060>0,I1060>0,J1060>0),AVERAGE($K$12:K1060),\"\")","v":""},"","","","","","","","","",null,null,"",{"$error":"#UNKNOWN!"},"",""]
[1050,null,null,null,null,null,null,null,null,null,"",{"$f":"IF(AND(F1061>0,G1061>0,H1061>0,I1061>0,J1061>0),AVERAGE($K$12:K1061),\"\")","v":""},"","","","","","","","","",null,null,"",{"$error":"#UNKNOWN!"},"",""]
[1051,null,null,null,null,null,null,null,null,null,"",{"$f":"IF(AND(F1062>0,G1062>0,H1062>0,I1062>0,J1062>0),AVERAGE($K$12:K1062),\"\")","v":""},"","","","","","","","","",null,null,"",{"$error":"#UNKNOWN!"},"",""]
[1052,null,null,null,null,null,null,null,null,null,"",{"$f":"IF(AND(F1063>0,G1063>0,H1063>0,I1063>0,J1063>0),AVERAGE($K$12:K1063),\"\")","v":""},"","","","","","","","","",null,null,"",{"$error":"#UNKNOWN!"},"",""]
[1053,null,null,null,null,null,null,null,null,null,"",{"$f":"IF(AND(F1064>0,G1064>0,H1064>0,I1064>0,J1064>0),AVERAGE($K$12:K1064),\"\")","v":""},"","","","","","","","","",null,null,"",{"$error":"#UNKNOWN!"},"",""]
[1054,null,null,null,null,null,null,null,null,null,"",{"$f":"IF(AND(F1065>0,G1065>0,H1065>0,I1065>0,J1065>0),AVERAGE($K$12:K1065),\"\")","v":""},"","","","","","","","","",null,null,"",{"$error":"#UNKNOWN!"},"",""]
[1055,null,null,null,null,null,null,null,null,null,"",{"$f":"IF(AND(F1066>0,G1066>0,H1066>0,I1066>0,J1066>0),AVERAGE($K$12:K1066),\"\")","v":""},"","","","","","","","","",null,null,"",{"$error":"#UNKNOWN!"},"",""]
[1056,null,null,null,null,null,null,null,null,null,"",{"$f":"IF(AND(F1067>0,G1067>0,H1067>0,I1067>0,J1067>0),AVERAGE($K$12:K1067),\"\")","v":""},"","","","","","","","","",null,null,"",{"$error":"#UNKNOWN!"},"",""]
[1057,null,null,null,null,null,null,null,null,null,"",{"$f":"IF(AND(F1068>0,G1068>0,H1068>0,I1068>0,J1068>0),AVERAGE($K$12:K1068),\"\")","v":""},"","","","","","","","","",null,null,"",{"$error":"#UNKNOWN!"},"",""]
[1058,null,null,null,null,null,null,null,null,null,"",{"$f":"IF(AND(F1069>0,G1069>0,H1069>0,I1069>0,J1069>0),AVERAGE($K$12:K1069),\"\")","v":""},"","","","","","","","","",null,null,"",{"$error":"#UNKNOWN!"},"",""]
[1059,null,null,null,null,null,null,null,null,null,"",{"$f":"IF(AND(F1070>0,G1070>0,H1070>0,I1070>0,J1070>0),AVERAGE($K$12:K1070),\"\")","v":""},"","","","","","","","","",null,null,"",{"$error":"#UNKNOWN!"},"",""]
[1060,null,null,null,null,null,null,null,null,null,"",{"$f":"IF(AND(F1071>0,G1071>0,H1071>0,I1071>0,J1071>0),AVERAGE($K$12:K1071),\"\")","v":""},"","","","","","","","","",null,null,"",{"$error":"#UNKNOWN!"},"",""]
[1061,null,null,null,null,null,null,null,null,null,"",{"$f":"IF(AND(F1072>0,G1072>0,H1072>0,I1072>0,J1072>0),AVERAGE($K$12:K1072),\"\")","v":""},"","","","","","","","","",null,null,"",{"$error":"#UNKNOWN!"},"",""]
[1062,null,null,null,null,null,null,null,null,null,"",{"$f":"IF(AND(F1073>0,G1073>0,H1073>0,I1073>0,J1073>0),AVERAGE($K$12:K1073),\"\")","v":""},"","","","","","","","","",null,null,"",{"$error":"#UNKNOWN!"},"",""]
[1063,null,null,null,null,null,null,null,null,null,"",{"$f":"IF(AND(F1074>0,G1074>0,H1074>0,I1074>0,J1074>0),AVERAGE($K$12:K1074),\"\")","v":""},"","","","","","","","","",null,null,"",{"$error":"#UNKNOWN!"},"",""]
[1064,null,null,null,null,null,null,null,null,null,"",{"$f":"IF(AND(F1075>0,G1075>0,H1075>0,I1075>0,J1075>0),AVERAGE($K$12:K1075),\"\")","v":""},"","","","","","","","","",null,null,"",{"$error":"#UNKNOWN!"},"",""]
[1065,null,null,null,null,null,null,null,null,null,"",{"$f":"IF(AND(F1076>0,G1076>0,H1076>0,I1076>0,J1076>0),AVERAGE($K$12:K1076),\"\")","v":""},"","","","","","","","","",null,null,"",{"$error":"#UNKNOWN!"},"",""]
[1066,null,null,null,null,null,null,null,null,null,"",{"$f":"IF(AND(F1077>0,G1077>0,H1077>0,I1077>0,J1077>0),AVERAGE($K$12:K1077),\"\")","v":""},"","","","","","","","","",null,null,"",{"$error":"#UNKNOWN!"},"",""]
[1067,null,null,null,null,null,null,null,null,null,"",{"$f":"IF(AND(F1078>0,G1078>0,H1078>0,I1078>0,J1078>0),AVERAGE($K$12:K1078),\"\")","v":""},"","","","","","","","","",null,null,"",{"$error":"#UNKNOWN!"},"",""]
[1068,null,null,null,null,null,null,null,null,null,"",{"$f":"IF(AND(F1079>0,G1079>0,H1079>0,I1079>0,J1079>0),AVERAGE($K$12:K1079),\"\")","v":""},"","","","","","","","","",null,null,"",{"$error":"#UNKNOWN!"},"",""]
[1069,null,null,null,null,null,null,null,null,null,"",{"$f":"IF(AND(F1080>0,G1080>0,H1080>0,I1080>0,J1080>0),AVERAGE($K$12:K1080),\"\")","v":""},"","","","","","","","","",null,null,"",{"$error":"#UNKNOWN!"},"",""]
[1070,null,null,null,null,null,null,null,null,null,"",{"$f":"IF(AND(F1081>0,G1081>0,H1081>0,I1081>0,J1081>0),AVERAGE($K$12:K1081),\"\")","v":""},"","","","","","","","","",null,null,"",{"$error":"#UNKNOWN!"},"",""]
[1071,null,null,null,null,null,null,null,null,null,"",{"$f":"IF(AND(F1082>0,G1082>0,H1082>0,I1082>0,J1082>0),AVERAGE($K$12:K1082),\"\")","v":""},"","","","","","","","","",null,null,"",{"$error":"#UNKNOWN!"},"",""]
[1072,null,null,null,null,null,null,null,null,null,"",{"$f":"IF(AND(F1083>0,G1083>0,H1083>0,I1083>0,J1083>0),AVERAGE($K$12:K1083),\"\")","v":""},"","","","","","","","","",null,null,"",{"$error":"#UNKNOWN!"},"",""]
[1073,null,null,null,null,null,null,null,null,null,"",{"$f":"IF(AND(F1084>0,G1084>0,H1084>0,I1084>0,J1084>0),AVERAGE($K$12:K1084),\"\")","v":""},"","","","","","","","","",null,null,"",{"$error":"#UNKNOWN!"},"",""]
[1074,null,null,null,null,null,null,null,null,null,"",{"$f":"IF(AND(F1085>0,G1085>0,H1085>0,I1085>0,J1085>0),AVERAGE($K$12:K1085),\"\")","v":""},"","","","","","","","","",null,null,"",{"$error":"#UNKNOWN!"},"",""]
[1075,null,null,null,null,null,null,null,null,null,"",{"$f":"IF(AND(F1086>0,G1086>0,H1086>0,I1086>0,J1086>0),AVERAGE($K$12:K1086),\"\")","v":""},"","","","","","","","","",null,null,"",{"$error":"#UNKNOWN!"},"",""]
[1076,null,null,null,null,null,null,null,null,null,"",{"$f":"IF(AND(F1087>0,G1087>0,H1087>0,I1087>0,J1087>0),AVERAGE($K$12:K1087),\"\")","v":""},"","","","","","","","","",null,null,"",{"$error":"#UNKNOWN!"},"",""]
[1077,null,null,null,null,null,null,null,null,null,"",{"$f":"IF(AND(F1088>0,G1088>0,H1088>0,I1088>0,J1088>0),AVERAGE($K$12:K1088),\"\")","v":""},"","","","","","","","","",null,null,"",{"$error":"#UNKNOWN!"},"",""]
[1078,null,null,null,null,null,null,null,null,null,"",{"$f":"IF(AND(F1089>0,G1089>0,H1089>0,I1089>0,J1089>0),AVERAGE($K$12:K1089),\"\")","v":""},"","","","","","","","","",null,null,"",{"$error":"#UNKNOWN!"},"",""]
[1079,null,null,null,null,null,null,null,null,null,"",{"$f":"IF(AND(F1090>0,G1090>0,H1090>0,I1090>0,J1090>0),AVERAGE($K$12:K1090),\"\")","v":""},"","","","","","","","","",null,null,"",{"$error":"#UNKNOWN!"},"",""]
[1080,null,null,null,null,null,null,null,null,null,"",{"$f":"IF(AND(F1091>0,G1091>0,H1091>0,I1091>0,J1091>0),AVERAGE($K$12:K1091),\"\")","v":""},"","","","","","","","","",null,null,"",{"$error":"#UNKNOWN!"},"",""]
[1081,null,null,null,null,null,null,null,null,null,"",{"$f":"IF(AND(F1092>0,G1092>0,H1092>0,I1092>0,J1092>0),AVERAGE($K$12:K1092),\"\")","v":""},"","","","","","","","","",null,null,"",{"$error":"#UNKNOWN!"},"",""]
[1082,null,null,null,null,null,null,null,null,null,"",{"$f":"IF(AND(F1093>0,G1093>0,H1093>0,I1093>0,J1093>0),AVERAGE($K$12:K1093),\"\")","v":""},"","","","","","","","","",null,null,"",{"$error":"#UNKNOWN!"},"",""]
[1083,null,null,null,null,null,null,null,null,null,"",{"$f":"IF(AND(F1094>0,G1094>0,H1094>0,I1094>0,J1094>0),AVERAGE($K$12:K1094),\"\")","v":""},"","","","","","","","","",null,null,"",{"$error":"#UNKNOWN!"},"",""]
[1084,null,null,null,null,null,null,null,null,null,"",{"$f":"IF(AND(F1095>0,G1095>0,H1095>0,I1095>0,J1095>0),AVERAGE($K$12:K1095),\"\")","v":""},"","","","","","","","","",null,null,"",{"$error":"#UNKNOWN!"},"",""]
[1085,null,null,null,null,null,null,null,null,null,"",{"$f":"IF(AND(F1096>0,G1096>0,H1096>0,I1096>0,J1096>0),AVERAGE($K$12:K1096),\"\")","v":""},"","","","","","","","","",null,null,"",{"$error":"#UNKNOWN!"},"",""]
[1086,null,null,null,null,null,null,null,null,null,"",{"$f":"IF(AND(F1097>0,G1097>0,H1097>0,I1097>0,J1097>0),AVERAGE($K$12:K1097),\"\")","v":""},"","","","","","","","","",null,null,"",{"$error":"#UNKNOWN!"},"",""]
[1087,null,null,null,null,null,null,null,null,null,"",{"$f":"IF(AND(F1098>0,G1098>0,H1098>0,I1098>0,J1098>0),AVERAGE($K$12:K1098),\"\")","v":""},"","","","","","","","","",null,null,"",{"$error":"#UNKNOWN!"},{"$f":"IF($P$1=1,S1098,Q1098)","v":""},""]
[1088,null,null,null,null,null,null,null,null,null,"",{"$f":"IF(AND(F1099>0,G1099>0,H1099>0,I1099>0,J1099>0),AVERAGE($K$12:K1099),\"\")","v":""},"","","","",{"$f":"IF(AND(F1099>0,G1099>0,H1099>0,I1099>0,J1099>0),$E$5,\"\")","v":""},{"$f":"IF(AND(F1099>0,G1099>0,H1099>0,I1099>0,J1099>0),$E$5*(-1),\"\")","v":""},{"$f":"IF(AND(F1099>0,G1099>0,H1099>0,I1099>0,J1099>0),$E$6,\"\")","v":""},"",{"$f":"IFERROR(IF(ABS(M1099)<=$E$5,TRUE,FALSE),\"\")","v":""},null,null,"",{"$f":"IF($P$1=1,#N/A,R1099)","v":{"$error":"#UNKNOWN!"}},"",""]
[1089,null,null,null,null,null,null,null,null,null,{"$f":"IF(AND(F1100>0,G1100>0,H1100>0,I1100>0,J1100>0),AVERAGE(F1100:J1100),\"\")","v":""},{"$f":"IF(AND(F1100>0,G1100>0,H1100>0,I1100>0,J1100>0),AVERAGE($K$12:K1100),\"\")","v":""},{"$f":"IF(AND(F1100>0,G1100>0,H1100>0,I1100>0,J1100>0),(K1100-$E$4),\"\")","v":""},"",{"$f":"IF(AND(F1100>0,G1100>0,H1100>0,I1100>0,J1100>0),ROUND(STDEV(F1100:J1100),2),\"\")","v":""},"","","","",{"$f":"IFERROR(IF(OR((ABS(N1100)<=$E$6),(N1100<1)),TRUE,FALSE),\"\")","v":""},"",null,null,{"$f":"IFERROR(MID(C1100,SEARCH(\":\",C1100)+1,10),\"\")","v":""},{"$error":"#UNKNOWN!"},"",{"$f":"IF($P$1=1,N1100,M1100)","v":""}]
[1090,null,null,null,null,null,null,null,null,null,"",{"$f":"IF(AND(F1101>0,G1101>0,H1101>0,I1101>0,J1101>0),AVERAGE($K$12:K1101),\"\")","v":""},"",{"$f":"IF(AND(F1101>0,G1101>0,H1101>0,I1101>0,J1101>0),MAX(F1101:J1101)-MIN(F1101:J1101),\"\")","v":""},"",{"$f":"IF(F1101>0,IF(T1101=FALSE,IF(U1101=FALSE,\"<GA+WHP>\",\"<WHP>\"),IF(U1101=FALSE,\"<GA>\",\"\")) & IF(V1101=TRUE,\"<Trend>\",\"\") & IF(W1101=TRUE,\"<Run>\",\"\")& IF(AND(ABS(T1101+U1101=2),V1101+W1101=0),\"OK\",\"\"),\"\")","v":""},"","","","","",null,null,"",{"$error":"#UNKNOWN!"},"",""]
[1091,null,null,null,null,null,null,null,null,null,"",{"$f":"IF(AND(F1102>0,G1102>0,H1102>0,I1102>0,J1102>0),AVERAGE($K$12:K1102),\"\")","v":""},"","","","","","","","","",null,null,"",{"$error":"#UNKNOWN!"},"",""]
[1092,null,null,null,null,null,null,null,null,null,"",{"$f":"IF(AND(F1103>0,G1103>0,H1103>0,I1103>0,J1103>0),AVERAGE($K$12:K1103),\"\")","v":""},"","","","","","","","","",null,null,"",{"$error":"#UNKNOWN!"},"",""]
[1093,null,null,null,null,null,null,null,null,null,"",{"$f":"IF(AND(F1104>0,G1104>0,H1104>0,I1104>0,J1104>0),AVERAGE($K$12:K1104),\"\")","v":""},"","","","","","","","","",null,null,"",{"$error":"#UNKNOWN!"},"",""]
[1094,null,null,null,null,null,null,null,null,null,"",{"$f":"IF(AND(F1105>0,G1105>0,H1105>0,I1105>0,J1105>0),AVERAGE($K$12:K1105),\"\")","v":""},"","","","","","","","","",{"$f":"OR(AND(K1105>K1104,K1104>K1103,K1103>K1102,K1102>K1101,K1101>K1100,K1100>K1099),AND(K1105<K1104,K1104<K1103,K1103<K1102,K1102<K1101,K1101<K1100,K1100<K1099))","v":null},{"$f":"OR(AND(K1105>L1105,K1104>L1105,K1103>L1105,K1102>L1105,K1101>L1105,K1100>L1105,K1099>L1105),AND(K1105<L1105,K1104<L1105,K1103<L1105,K1102<L1105,K1101<L1105,K1100<L1105,K1099<L1105))","v":null},"",{"$error":"#UNKNOWN!"},"",""]
[1095,null,null,null,null,null,null,null,null,null,"",{"$f":"IF(AND(F1106>0,G1106>0,H1106>0,I1106>0,J1106>0),AVERAGE($K$12:K1106),\"\")","v":""},"","","","","","","","","",null,null,"",{"$error":"#UNKNOWN!"},"",""]
[1096,null,null,null,null,null,null,null,null,null,"",{"$f":"IF(AND(F1107>0,G1107>0,H1107>0,I1107>0,J1107>0),AVERAGE($K$12:K1107),\"\")","v":""},"","","","","","","","","",null,null,"",{"$error":"#UNKNOWN!"},"",""]
[1097,null,null,null,null,null,null,null,null,null,"",{"$f":"IF(AND(F1108>0,G1108>0,H1108>0,I1108>0,J1108>0),AVERAGE($K$12:K1108),\"\")","v":""},"","","","","","","","","",null,null,"",{"$error":"#UNKNOWN!"},"",""]
[1098,null,null,null,null,null,null,null,null,null,"",{"$f":"IF(AND(F1109>0,G1109>0,H1109>0,I1109>0,J1109>0),AVERAGE($K$12:K1109),\"\")","v":""},"","","","","","","","","",null,null,"",{"$error":"#UNKNOWN!"},"",""]
[1099,null,null,null,null,null,null,null,null,null,"",{"$f":"IF(AND(F1110>0,G1110>0,H1110>0,I1110>0,J1110>0),AVERAGE($K$12:K1110),\"\")","v":""},"","","","","","","","","",null,null,"",{"$error":"#UNKNOWN!"},"",""]
[1100,null,null,null,null,null,null,null,null,null,"",{"$f":"IF(AND(F1111>0,G1111>0,H1111>0,I1111>0,J1111>0),AVERAGE($K$12:K1111),\"\")","v":""},"","","","","","","","","",null,null,"",{"$error":"#UNKNOWN!"},"",""]
[1101,null,null,null,null,null,null,null,null,null,"",{"$f":"IF(AND(F1112>0,G1112>0,H1112>0,I1112>0,J1112>0),AVERAGE($K$12:K1112),\"\")","v":""},"","","","","","","","","",null,null,"",{"$error":"#UNKNOWN!"},"",""]
[1102,null,null,null,null,null,null,null,null,null,"",{"$f":"IF(AND(F1113>0,G1113>0,H1113>0,I1113>0,J1113>0),AVERAGE($K$12:K1113),\"\")","v":""},"","","","","","","","","",null,null,"",{"$error":"#UNKNOWN!"},"",""]
[1103,null,null,null,null,null,null,null,null,null,"",{"$f":"IF(AND(F1114>0,G1114>0,H1114>0,I1114>0,J1114>0),AVERAGE($K$12:K1114),\"\")","v":""},"","","","","","","","","",null,null,"",{"$error":"#UNKNOWN!"},"",""]
[1104,null,null,null,null,null,null,null,null,null,"",{"$f":"IF(AND(F1115>0,G1115>0,H1115>0,I1115>0,J1115>0),AVERAGE($K$12:K1115),\"\")","v":""},"","","","","","","","","",null,null,"",{"$error":"#UNKNOWN!"},"",""]
[1105,null,null,null,null,null,null,null,null,null,"",{"$f":"IF(AND(F1116>0,G1116>0,H1116>0,I1116>0,J1116>0),AVERAGE($K$12:K1116),\"\")","v":""},"","","","","","","","","",null,null,"",{"$error":"#UNKNOWN!"},"",""]
[1106,null,null,null,null,null,null,null,null,null,"",{"$f":"IF(AND(F1117>0,G1117>0,H1117>0,I1117>0,J1117>0),AVERAGE($K$12:K1117),\"\")","v":""},"","","","","","","","","",null,null,"",{"$error":"#UNKNOWN!"},"",""]
[1107,null,null,null,null,null,null,null,null,null,"",{"$f":"IF(AND(F1118>0,G1118>0,H1118>0,I1118>0,J1118>0),AVERAGE($K$12:K1118),\"\")","v":""},"","","","","","","","","",null,null,"",{"$error":"#UNKNOWN!"},"",""]
[1108,null,null,null,null,null,null,null,null,null,"",{"$f":"IF(AND(F1119>0,G1119>0,H1119>0,I1119>0,J1119>0),AVERAGE($K$12:K1119),\"\")","v":""},"","","","","","","","","",null,null,"",{"$error":"#UNKNOWN!"},"",""]
[1109,null,null,null,null,null,null,null,null,null,"",{"$f":"IF(AND(F1120>0,G1120>0,H1120>0,I1120>0,J1120>0),AVERAGE($K$12:K1120),\"\")","v":""},"","","","","","","","","",null,null,"",{"$error":"#UNKNOWN!"},"",""]
[1110,null,null,null,null,null,null,null,null,null,"",{"$f":"IF(AND(F1121>0,G1121>0,H1121>0,I1121>0,J1121>0),AVERAGE($K$12:K1121),\"\")","v":""},"","","","","","","","","",null,null,"",{"$error":"#UNKNOWN!"},"",""]
[1111,null,null,null,null,null,null,null,null,null,"",{"$f":"IF(AND(F1122>0,G1122>0,H1122>0,I1122>0,J1122>0),AVERAGE($K$12:K1122),\"\")","v":""},"","","","","","","","","",null,null,"",{"$error":"#UNKNOWN!"},"",""]
[1112,null,null,null,null,null,null,null,null,null,"",{"$f":"IF(AND(F1123>0,G1123>0,H1123>0,I1123>0,J1123>0),AVERAGE($K$12:K1123),\"\")","v":""},"","","","","","","","","",null,null,"",{"$error":"#UNKNOWN!"},"",""]
[1113,null,null,null,null,null,null,null,null,null,"",{"$f":"IF(AND(F1124>0,G1124>0,H1124>0,I1124>0,J1124>0),AVERAGE($K$12:K1124),\"\")","v":""},"","","","","","","","","",null,null,"",{"$error":"#UNKNOWN!"},"",""]
[1114,null,null,null,null,null,null,null,null,null,"",{"$f":"IF(AND(F1125>0,G1125>0,H1125>0,I1125>0,J1125>0),AVERAGE($K$12:K1125),\"\")","v":""},"","","","","","","","","",null,null,"",{"$error":"#UNKNOWN!"},"",""]
[1115,null,null,null,null,null,null,null,null,null,"",{"$f":"IF(AND(F1126>0,G1126>0,H1126>0,I1126>0,J1126>0),AVERAGE($K$12:K1126),\"\")","v":""},"","","","","","","","","",null,null,"",{"$error":"#UNKNOWN!"},"",""]
[1116,null,null,null,null,null,null,null,null,null,"",{"$f":"IF(AND(F1127>0,G1127>0,H1127>0,I1127>0,J1127>0),AVERAGE($K$12:K1127),\"\")","v":""},"","","","","","","","","",null,null,"",{"$error":"#UNKNOWN!"},"",""]
[1117,null,null,null,null,null,null,null,null,null,"",{"$f":"IF(AND(F1128>0,G1128>0,H1128>0,I1128>0,J1128>0),AVERAGE($K$12:K1128),\"\")","v":""},"","","","","","","","","",null,null,"",{"$error":"#UNKNOWN!"},"",""]
[1118,null,null,null,null,null,null,null,null,null,"",{"$f":"IF(AND(F1129>0,G1129>0,H1129>0,I1129>0,J1129>0),AVERAGE($K$12:K1129),\"\")","v":""},"","","","","","","","","",null,null,"",{"$error":"#UNKNOWN!"},"",""]
[1119,null,null,null,null,null,null,null,null,null,"",{"$f":"IF(AND(F1130>0,G1130>0,H1130>0,I1130>0,J1130>0),AVERAGE($K$12:K1130),\"\")","v":""},"","","","","","","","","",null,null,"",{"$error":"#UNKNOWN!"},"",""]
[1120,null,null,null,null,null,null,null,null,null,"",{"$f":"IF(AND(F1131>0,G1131>0,H1131>0,I1131>0,J1131>0),AVERAGE($K$12:K1131),\"\")","v":""},"","","","","","","","","",null,null,"",{"$error":"#UNKNOWN!"},"",""]
[1121,null,null,null,null,null,null,null,null,null,"",{"$f":"IF(AND(F1132>0,G1132>0,H1132>0,I1132>0,J1132>0),AVERAGE($K$12:K1132),\"\")","v":""},"","","","","","","","","",null,null,"",{"$error":"#UNKNOWN!"},"",""]
[1122,null,null,null,null,null,null,null,null,null,"",{"$f":"IF(AND(F1133>0,G1133>0,H1133>0,I1133>0,J1133>0),AVERAGE($K$12:K1133),\"\")","v":""},"","","","","","","","","",null,null,"",{"$error":"#UNKNOWN!"},"",""]
[1123,null,null,null,null,null,null,null,null,null,"",{"$f":"IF(AND(F1134>0,G1134>0,H1134>0,I1134>0,J1134>0),AVERAGE($K$12:K1134),\"\")","v":""},"","","","","","","","","",null,null,"",{"$error":"#UNKNOWN!"},"",""]
[1124,null,null,null,null,null,null,null,null,null,"",{"$f":"IF(AND(F1135>0,G1135>0,H1135>0,I1135>0,J1135>0),AVERAGE($K$12:K1135),\"\")","v":""},"","","","","","","","","",null,null,"",{"$error":"#UNKNOWN!"},"",""]
[1125,null,null,null,null,null,null,null,null,null,"",{"$f":"IF(AND(F1136>0,G1136>0,H1136>0,I1136>0,J1136>0),AVERAGE($K$12:K1136),\"\")","v":""},"","","","","","","","","",null,null,"",{"$error":"#UNKNOWN!"},"",""]
[1126,null,null,null,null,null,null,null,null,null,"",{"$f":"IF(AND(F1137>0,G1137>0,H1137>0,I1137>0,J1137>0),AVERAGE($K$12:K1137),\"\")","v":""},"","","","","","","","","",null,null,"",{"$error":"#UNKNOWN!"},"",""]
[1127,null,null,null,null,null,null,null,null,null,"",{"$f":"IF(AND(F1138>0,G1138>0,H1138>0,I1138>0,J1138>0),AVERAGE($K$12:K1138),\"\")","v":""},"","","","","","","","","",null,null,"",{"$error":"#UNKNOWN!"},"",""]
[1128,null,null,null,null,null,null,null,null,null,"",{"$f":"IF(AND(F1139>0,G1139>0,H1139>0,I1139>0,J1139>0),AVERAGE($K$12:K1139),\"\")","v":""},"","","","","","","","","",null,null,"",{"$error":"#UNKNOWN!"},"",""]
[1129,null,null,null,null,null,null,null,null,null,"",{"$f":"IF(AND(F1140>0,G1140>0,H1140>0,I1140>0,J1140>0),AVERAGE($K$12:K1140),\"\")","v":""},"","","","","","","","","",null,null,"",{"$error":"#UNKNOWN!"},"",""]
[1130,null,null,null,null,null,null,null,null,null,"",{"$f":"IF(AND(F1141>0,G1141>0,H1141>0,I1141>0,J1141>0),AVERAGE($K$12:K1141),\"\")","v":""},"","","","","","","","","",null,null,"",{"$error":"#UNKNOWN!"},"",""]
[1131,null,null,null,null,null,null,null,null,null,"",{"$f":"IF(AND(F1142>0,G1142>0,H1142>0,I1142>0,J1142>0),AVERAGE($K$12:K1142),\"\")","v":""},"","","","","","","","","",null,null,"",{"$error":"#UNKNOWN!"},"",""]
[1132,null,null,null,null,null,null,null,null,null,"",{"$f":"IF(AND(F1143>0,G1143>0,H1143>0,I1143>0,J1143>0),AVERAGE($K$12:K1143),\"\")","v":""},"","","","","","","","","",null,null,"",{"$error":"#UNKNOWN!"},"",""]
[1133,null,null,null,null,null,null,null,null,null,"",{"$f":"IF(AND(F1144>0,G1144>0,H1144>0,I1144>0,J1144>0),AVERAGE($K$12:K1144),\"\")","v":""},"","","","","","","","","",null,null,"",{"$error":"#UNKNOWN!"},"",""]
[1134,null,null,null,null,null,null,null,null,null,"",{"$f":"IF(AND(F1145>0,G1145>0,H1145>0,I1145>0,J1145>0),AVERAGE($K$12:K1145),\"\")","v":""},"","","","","","","","","",null,null,"",{"$error":"#UNKNOWN!"},"",""]
[1135,null,null,null,null,null,null,null,null,null,"",{"$f":"IF(AND(F1146>0,G1146>0,H1146>0,I1146>0,J1146>0),AVERAGE($K$12:K1146),\"\")","v":""},"","","","","","","","","",null,null,"",{"$error":"#UNKNOWN!"},"",""]
[1136,null,null,null,null,null,null,null,null,null,"",{"$f":"IF(AND(F1147>0,G1147>0,H1147>0,I1147>0,J1147>0),AVERAGE($K$12:K1147),\"\")","v":""},"","","","","","","","","",null,null,"",{"$error":"#UNKNOWN!"},"",""]
[1137,null,null,null,null,null,null,null,null,null,"",{"$f":"IF(AND(F1148>0,G1148>0,H1148>0,I1148>0,J1148>0),AVERAGE($K$12:K1148),\"\")","v":""},"","","","","","","","","",null,null,"",{"$error":"#UNKNOWN!"},"",""]
[1138,null,null,null,null,null,null,null,null,null,"",{"$f":"IF(AND(F1149>0,G1149>0,H1149>0,I1149>0,J1149>0),AVERAGE($K$12:K1149),\"\")","v":""},"","","","","","","","","",null,null,"",{"$error":"#UNKNOWN!"},"",""]
[1139,null,null,null,null,null,null,null,null,null,"",{"$f":"IF(AND(F1150>0,G1150>0,H1150>0,I1150>0,J1150>0),AVERAGE($K$12:K1150),\"\")","v":""},"","","","","","","","","",null,null,"",{"$error":"#UNKNOWN!"},"",""]
[1140,null,null,null,null,null,null,null,null,null,"",{"$f":"IF(AND(F1151>0,G1151>0,H1151>0,I1151>0,J1151>0),AVERAGE($K$12:K1151),\"\")","v":""},"","","","","","","","","",null,null,"",{"$error":"#UNKNOWN!"},"",""]
[1141,null,null,null,null,null,null,null,null,null,"",{"$f":"IF(AND(F1152>0,G1152>0,H1152>0,I1152>0,J1152>0),AVERAGE($K$12:K1152),\"\")","v":""},"","","","","","","","","",null,null,"",{"$error":"#UNKNOWN!"},"",""]
[1142,null,null,null,null,null,null,null,null,null,"",{"$f":"IF(AND(F1153>0,G1153>0,H1153>0,I1153>0,J1153>0),AVERAGE($K$12:K1153),\"\")","v":""},"","","","","","","","","",null,null,"",{"$error":"#UNKNOWN!"},"",""]
[1143,null,null,null,null,null,null,null,null,null,"",{"$f":"IF(AND(F1154>0,G1154>0,H1154>0,I1154>0,J1154>0),AVERAGE($K$12:K1154),\"\")","v":""},"","","","","","","","","",null,null,"",{"$error":"#UNKNOWN!"},"",""]
[1144,null,null,null,null,null,null,null,null,null,"",{"$f":"IF(AND(F1155>0,G1155>0,H1155>0,I1155>0,J1155>0),AVERAGE($K$12:K1155),\"\")","v":""},"","","","","","","","","",null,null,"",{"$error":"#UNKNOWN!"},"",""]
[1145,null,null,null,null,null,null,null,null,null,"",{"$f":"IF(AND(F1156>0,G1156>0,H1156>0,I1156>0,J1156>0),AVERAGE($K$12:K1156),\"\")","v":""},"","","","","","","","","",null,null,"",{"$error":"#UNKNOWN!"},"",""]
[1146,null,null,null,null,null,null,null,null,null,"",{"$f":"IF(AND(F1157>0,G1157>0,H1157>0,I1157>0,J1157>0),AVERAGE($K$12:K1157),\"\")","v":""},"","","","","","","","","",null,null,"",{"$error":"#UNKNOWN!"},"",""]
[1147,null,null,null,null,null,null,null,null,null,"",{"$f":"IF(AND(F1158>0,G1158>0,H1158>0,I1158>0,J1158>0),AVERAGE($K$12:K1158),\"\")","v":""},"","","","","","","","","",null,null,"",{"$error":"#UNKNOWN!"},"",""]
[1148,null,null,null,null,null,null,null,null,null,"",{"$f":"IF(AND(F1159>0,G1159>0,H1159>0,I1159>0,J1159>0),AVERAGE($K$12:K1159),\"\")","v":""},"","","","","","","","","",null,null,"",{"$error":"#UNKNOWN!"},"",""]
[1149,null,null,null,null,null,null,null,null,null,"",{"$f":"IF(AND(F1160>0,G1160>0,H1160>0,I1160>0,J1160>0),AVERAGE($K$12:K1160),\"\")","v":""},"","","","","","","","","",null,null,"",{"$error":"#UNKNOWN!"},"",""]
[1150,null,null,null,null,null,null,null,null,null,"",{"$f":"IF(AND(F1161>0,G1161>0,H1161>0,I1161>0,J1161>0),AVERAGE($K$12:K1161),\"\")","v":""},"","","","","","","","","",null,null,"",{"$error":"#UNKNOWN!"},"",""]
[1151,null,null,null,null,null,null,null,null,null,"",{"$f":"IF(AND(F1162>0,G1162>0,H1162>0,I1162>0,J1162>0),AVERAGE($K$12:K1162),\"\")","v":""},"","","","","","","","","",null,null,"",{"$error":"#UNKNOWN!"},{"$f":"IF($P$1=1,S1162,Q1162)","v":""},""]
[1152,null,null,null,null,null,null,null,null,null,"",{"$f":"IF(AND(F1163>0,G1163>0,H1163>0,I1163>0,J1163>0),AVERAGE($K$12:K1163),\"\")","v":""},"","","","",{"$f":"IF(AND(F1163>0,G1163>0,H1163>0,I1163>0,J1163>0),$E$5,\"\")","v":""},{"$f":"IF(AND(F1163>0,G1163>0,H1163>0,I1163>0,J1163>0),$E$5*(-1),\"\")","v":""},{"$f":"IF(AND(F1163>0,G1163>0,H1163>0,I1163>0,J1163>0),$E$6,\"\")","v":""},"",{"$f":"IFERROR(IF(ABS(M1163)<=$E$5,TRUE,FALSE),\"\")","v":""},null,null,"",{"$f":"IF($P$1=1,#N/A,R1163)","v":{"$error":"#UNKNOWN!"}},"",""]
[1153,null,null,null,null,null,null,null,null,null,{"$f":"IF(AND(F1164>0,G1164>0,H1164>0,I1164>0,J1164>0),AVERAGE(F1164:J1164),\"\")","v":""},{"$f":"IF(AND(F1164>0,G1164>0,H1164>0,I1164>0,J1164>0),AVERAGE($K$12:K1164),\"\")","v":""},{"$f":"IF(AND(F1164>0,G1164>0,H1164>0,I1164>0,J1164>0),(K1164-$E$4),\"\")","v":""},"",{"$f":"IF(AND(F1164>0,G1164>0,H1164>0,I1164>0,J1164>0),ROUND(STDEV(F1164:J1164),2),\"\")","v":""},"","","","",{"$f":"IFERROR(IF(OR((ABS(N1164)<=$E$6),(N1164<1)),TRUE,FALSE),\"\")","v":""},"",null,null,{"$f":"IFERROR(MID(C1164,SEARCH(\":\",C1164)+1,10),\"\")","v":""},{"$error":"#UNKNOWN!"},"",{"$f":"IF($P$1=1,N1164,M1164)","v":""}]
[1154,null,null,null,null,null,null,null,null,null,"",{"$f":"IF(AND(F1165>0,G1165>0,H1165>0,I1165>0,J1165>0),AVERAGE($K$12:K1165),\"\")","v":""},"",{"$f":"IF(AND(F1165>0,G1165>0,H1165>0,I1165>0,J1165>0),MAX(F1165:J1165)-MIN(F1165:J1165),\"\")","v":""},"",{"$f":"IF(F1165>0,IF(T1165=FALSE,IF(U1165=FALSE,\"<GA+WHP>\",\"<WHP>\"),IF(U1165=FALSE,\"<GA>\",\"\")) & IF(V1165=TRUE,\"<Trend>\",\"\") & IF(W1165=TRUE,\"<Run>\",\"\")& IF(AND(ABS(T1165+U1165=2),V1165+W1165=0),\"OK\",\"\"),\"\")","v":""},"","","","","",null,null,"",{"$error":"#UNKNOWN!"},"",""]
[1155,null,null,null,null,null,null,null,null,null,"",{"$f":"IF(AND(F1166>0,G1166>0,H1166>0,I1166>0,J1166>0),AVERAGE($K$12:K1166),\"\")","v":""},"","","","","","","","","",null,null,"",{"$error":"#UNKNOWN!"},"",""]
[1156,null,null,null,null,null,null,null,null,null,"",{"$f":"IF(AND(F1167>0,G1167>0,H1167>0,I1167>0,J1167>0),AVERAGE($K$12:K1167),\"\")","v":""},"","","","","","","","","",null,null,"",{"$error":"#UNKNOWN!"},"",""]
[1157,null,null,null,null,null,null,null,null,null,"",{"$f":"IF(AND(F1168>0,G1168>0,H1168>0,I1168>0,J1168>0),AVERAGE($K$12:K1168),\"\")","v":""},"","","","","","","","","",null,null,"",{"$error":"#UNKNOWN!"},"",""]
[1158,null,null,null,null,null,null,null,null,null,"",{"$f":"IF(AND(F1169>0,G1169>0,H1169>0,I1169>0,J1169>0),AVERAGE($K$12:K1169),\"\")","v":""},"","","","","","","","","",{"$f":"OR(AND(K1169>K1168,K1168>K1167,K1167>K1166,K1166>K1165,K1165>K1164,K1164>K1163),AND(K1169<K1168,K1168<K1167,K1167<K1166,K1166<K1165,K1165<K1164,K1164<K1163))","v":null},{"$f":"OR(AND(K1169>L1169,K1168>L1169,K1167>L1169,K1166>L1169,K1165>L1169,K1164>L1169,K1163>L1169),AND(K1169<L1169,K1168<L1169,K1167<L1169,K1166<L1169,K1165<L1169,K1164<L1169,K1163<L1169))","v":null},"",{"$error":"#UNKNOWN!"},"",""]
[1159,null,null,null,null,null,null,null,null,null,"",{"$f":"IF(AND(F1170>0,G1170>0,H1170>0,I1170>0,J1170>0),AVERAGE($K$12:K1170),\"\")","v":""},"","","","","","","","","",null,null,"",{"$error":"#UNKNOWN!"},"",""]
[1160,null,null,null,null,null,null,null,null,null,"",{"$f":"IF(AND(F1171>0,G1171>0,H1171>0,I1171>0,J1171>0),AVERAGE($K$12:K1171),\"\")","v":""},"","","","","","","","","",null,null,"",{"$error":"#UNKNOWN!"},"",""]
[1161,null,null,null,null,null,null,null,null,null,"",{"$f":"IF(AND(F1172>0,G1172>0,H1172>0,I1172>0,J1172>0),AVERAGE($K$12:K1172),\"\")","v":""},"","","","","","","","","",null,null,"",{"$error":"#UNKNOWN!"},"",""]
[1162,null,null,null,null,null,null,null,null,null,"",{"$f":"IF(AND(F1173>0,G1173>0,H1173>0,I1173>0,J1173>0),AVERAGE($K$12:K1173),\"\")","v":""},"","","","","","","","","",null,null,"",{"$error":"#UNKNOWN!"},"",""]
[1163,null,null,null,null,null,null,null,null,null,"",{"$f":"IF(AND(F1174>0,G1174>0,H1174>0,I1174>0,J1174>0),AVERAGE($K$12:K1174),\"\")","v":""},"","","","","","","","","",null,null,"",{"$error":"#UNKNOWN!"},"",""]
[1164,null,null,null,null,null,null,null,null,null,"",{"$f":"IF(AND(F1175>0,G1175>0,H1175>0,I1175>0,J1175>0),AVERAGE($K$12:K1175),\"\")","v":""},"","","","","","","","","",null,null,"",{"$error":"#UNKNOWN!"},"",""]
[1165,null,null,null,null,null,null,null,null,null,"",{"$f":"IF(AND(F1176>0,G1176>0,H1176>0,I1176>0,J1176>0),AVERAGE($K$12:K1176),\"\")","v":""},"","","","","","","","","",null,null,"",{"$error":"#UNKNOWN!"},"",""]
[1166,null,null,null,null,null,null,null,null,null,"",{"$f":"IF(AND(F1177>0,G1177>0,H1177>0,I1177>0,J1177>0),AVERAGE($K$12:K1177),\"\")","v":""},"","","","","","","","","",null,null,"",{"$error":"#UNKNOWN!"},"",""]
[1167,null,null,null,null,null,null,null,null,null,"",{"$f":"IF(AND(F1178>0,G1178>0,H1178>0,I1178>0,J1178>0),AVERAGE($K$12:K1178),\"\")","v":""},"","","","","","","","","",null,null,"",{"$error":"#UNKNOWN!"},"",""]
[1168,null,null,null,null,null,null,null,null,null,"",{"$f":"IF(AND(F1179>0,G1179>0,H1179>0,I1179>0,J1179>0),AVERAGE($K$12:K1179),\"\")","v":""},"","","","","","","","","",null,null,"",{"$error":"#UNKNOWN!"},"",""]
[1169,null,null,null,null,null,null,null,null,null,"",{"$f":"IF(AND(F1180>0,G1180>0,H1180>0,I1180>0,J1180>0),AVERAGE($K$12:K1180),\"\")","v":""},"","","","","","","","","",null,null,"",{"$error":"#UNKNOWN!"},"",""]
[1170,null,null,null,null,null,null,null,null,null,"",{"$f":"IF(AND(F1181>0,G1181>0,H1181>0,I1181>0,J1181>0),AVERAGE($K$12:K1181),\"\")","v":""},"","","","","","","","","",null,null,"",{"$error":"#UNKNOWN!"},"",""]
[1171,null,null,null,null,null,null,null,null,null,"",{"$f":"IF(AND(F1182>0,G1182>0,H1182>0,I1182>0,J1182>0),AVERAGE($K$12:K1182),\"\")","v":""},"","","","","","","","","",null,null,"",{"$error":"#UNKNOWN!"},"",""]
[1172,null,null,null,null,null,null,null,null,null,"",{"$f":"IF(AND(F1183>0,G1183>0,H1183>0,I1183>0,J1183>0),AVERAGE($K$12:K1183),\"\")","v":""},"","","","","","","","","",null,null,"",{"$error":"#UNKNOWN!"},"",""]
[1173,null,null,null,null,null,null,null,null,null,"",{"$f":"IF(AND(F1184>0,G1184>0,H1184>0,I1184>0,J1184>0),AVERAGE($K$12:K1184),\"\")","v":""},"","","","","","","","","",null,null,"",{"$error":"#UNKNOWN!"},"",""]
[1174,null,null,null,null,null,null,null,null,null,"",{"$f":"IF(AND(F1185>0,G1185>0,H1185>0,I1185>0,J1185>0),AVERAGE($K$12:K1185),\"\")","v":""},"","","","","","","","","",null,null,"",{"$error":"#UNKNOWN!"},"",""]
[1175,null,null,null,null,null,null,null,null,null,"",{"$f":"IF(AND(F1186>0,G1186>0,H1186>0,I1186>0,J1186>0),AVERAGE($K$12:K1186),\"\")","v":""},"","","","","","","","","",null,null,"",{"$error":"#UNKNOWN!"},"",""]
[1176,null,null,null,null,null,null,null,null,null,"",{"$f":"IF(AND(F1187>0,G1187>0,H1187>0,I1187>0,J1187>0),AVERAGE($K$12:K1187),\"\")","v":""},"","","","","","","","","",null,null,"",{"$error":"#UNKNOWN!"},"",""]
[1177,null,null,null,null,null,null,null,null,null,"",{"$f":"IF(AND(F1188>0,G1188>0,H1188>0,I1188>0,J1188>0),AVERAGE($K$12:K1188),\"\")","v":""},"","","","","","","","","",null,null,"",{"$error":"#UNKNOWN!"},"",""]
[1178,null,null,null,null,null,null,null,null,null,"",{"$f":"IF(AND(F1189>0,G1189>0,H1189>0,I1189>0,J1189>0),AVERAGE($K$12:K1189),\"\")","v":""},"","","","","","","","","",null,null,"",{"$error":"#UNKNOWN!"},"",""]
[1179,null,null,null,null,null,null,null,null,null,"",{"$f":"IF(AND(F1190>0,G1190>0,H1190>0,I1190>0,J1190>0),AVERAGE($K$12:K1190),\"\")","v":""},"","","","","","","","","",null,null,"",{"$error":"#UNKNOWN!"},"",""]
[1180,null,null,null,null,null,null,null,null,null,"",{"$f":"IF(AND(F1191>0,G1191>0,H1191>0,I1191>0,J1191>0),AVERAGE($K$12:K1191),\"\")","v":""},"","","","","","","","","",null,null,"",{"$error":"#UNKNOWN!"},"",""]
[1181,null,null,null,null,null,null,null,null,null,"",{"$f":"IF(AND(F1192>0,G1192>0,H1192>0,I1192>0,J1192>0),AVERAGE($K$12:K1192),\"\")","v":""},"","","","","","","","","",null,null,"",{"$error":"#UNKNOWN!"},"",""]
[1182,null,null,null,null,null,null,null,null,null,"",{"$f":"IF(AND(F1193>0,G1193>0,H1193>0,I1193>0,J1193>0),AVERAGE($K$12:K1193),\"\")","v":""},"","","","","","","","","",null,null,"",{"$error":"#UNKNOWN!"},"",""]
[1183,null,null,null,null,null,null,null,null,null,"",{"$f":"IF(AND(F1194>0,G1194>0,H1194>0,I1194>0,J1194>0),AVERAGE($K$12:K1194),\"\")","v":""},"","","","","","","","","",null,null,"",{"$error":"#UNKNOWN!"},"",""]
[1184,null,null,null,null,null,null,null,null,null,"",{"$f":"IF(AND(F1195>0,G1195>0,H1195>0,I1195>0,J1195>0),AVERAGE($K$12:K1195),\"\")","v":""},"","","","","","","","","",null,null,"",{"$error":"#UNKNOWN!"},"",""]
[1185,null,null,null,null,null,null,null,null,null,"",{"$f":"IF(AND(F1196>0,G1196>0,H1196>0,I1196>0,J1196>0),AVERAGE($K$12:K1196),\"\")","v":""},"","","","","","","","","",null,null,"",{"$error":"#UNKNOWN!"},"",""]
[1186,null,null,null,null,null,null,null,null,null,"",{"$f":"IF(AND(F1197>0,G1197>0,H1197>0,I1197>0,J1197>0),AVERAGE($K$12:K1197),\"\")","v":""},"","","","","","","","","",null,null,"",{"$error":"#UNKNOWN!"},"",""]
[1187,null,null,null,null,null,null,null,null,null,"",{"$f":"IF(AND(F1198>0,G1198>0,H1198>0,I1198>0,J1198>0),AVERAGE($K$12:K1198),\"\")","v":""},"","","","","","","","","",null,null,"",{"$error":"#UNKNOWN!"},"",""]
[1188,null,null,null,null,null,null,null,null,null,"",{"$f":"IF(AND(F1199>0,G1199>0,H1199>0,I1199>0,J1199>0),AVERAGE($K$12:K1199),\"\")","v":""},"","","","","","","","","",null,null,"",{"$error":"#UNKNOWN!"},"",""]
[1189,null,null,null,null,null,null,null,null,null,"",{"$f":"IF(AND(F1200>0,G1200>0,H1200>0,I1200>0,J1200>0),AVERAGE($K$12:K1200),\"\")","v":""},"","","","","","","","","",null,null,"",{"$error":"#UNKNOWN!"},"",""]
[1190,null,null,null,null,null,null,null,null,null,"",{"$f":"IF(AND(F1201>0,G1201>0,H1201>0,I1201>0,J1201>0),AVERAGE($K$12:K1201),\"\")","v":""},"","","","","","","","","",null,null,"",{"$error":"#UNKNOWN!"},"",""]
[1191,null,null,null,null,null,null,null,null,null,"",{"$f":"IF(AND(F1202>0,G1202>0,H1202>0,I1202>0,J1202>0),AVERAGE($K$12:K1202),\"\")","v":""},"","","","","","","","","",null,null,"",{"$error":"#UNKNOWN!"},"",""]
[1192,null,null,null,null,null,null,null,null,null,"",{"$f":"IF(AND(F1203>0,G1203>0,H1203>0,I1203>0,J1203>0),AVERAGE($K$12:K1203),\"\")","v":""},"","","","","","","","","",null,null,"",{"$error":"#UNKNOWN!"},"",""]
[1193,null,null,null,null,null,null,null,null,null,"",{"$f":"IF(AND(F1204>0,G1204>0,H1204>0,I1204>0,J1204>0),AVERAGE($K$12:K1204),\"\")","v":""},"","","","","","","","","",null,null,"",{"$error":"#UNKNOWN!"},"",""]
[1194,null,null,null,null,null,null,null,null,null,"",{"$f":"IF(AND(F1205>0,G1205>0,H1205>0,I1205>0,J1205>0),AVERAGE($K$12:K1205),\"\")","v":""},"","","","","","","","","",null,null,"",{"$error":"#UNKNOWN!"},"",""]
[1195,null,null,null,null,null,null,null,null,null,"",{"$f":"IF(AND(F1206>0,G1206>0,H1206>0,I1206>0,J1206>0),AVERAGE($K$12:K1206),\"\")","v":""},"","","","","","","","","",null,null,"",{"$error":"#UNKNOWN!"},"",""]
[1196,null,null,null,null,null,null,null,null,null,"",{"$f":"IF(AND(F1207>0,G1207>0,H1207>0,I1207>0,J1207>0),AVERAGE($K$12:K1207),\"\")","v":""},"","","","","","","","","",null,null,"",{"$error":"#UNKNOWN!"},"",""]
[1197,null,null,null,null,null,null,null,null,null,"",{"$f":"IF(AND(F1208>0,G1208>0,H1208>0,I1208>0,J1208>0),AVERAGE($K$12:K1208),\"\")","v":""},"","","","","","","","","",null,null,"",{"$error":"#UNKNOWN!"},"",""]
[1198,null,null,null,null,null,null,null,null,null,"",{"$f":"IF(AND(F1209>0,G1209>0,H1209>0,I1209>0,J1209>0),AVERAGE($K$12:K1209),\"\")","v":""},"","","","","","","","","",null,null,"",{"$error":"#UNKNOWN!"},"",""]
[1199,null,null,null,null,null,null,null,null,null,"",{"$f":"IF(AND(F1210>0,G1210>0,H1210>0,I1210>0,J1210>0),AVERAGE($K$12:K1210),\"\")","v":""},"","","","","","","","","",null,null,"",{"$error":"#UNKNOWN!"},"",""]
[1200,null,null,null,null,null,null,null,null,null,"",{"$f":"IF(AND(F1211>0,G1211>0,H1211>0,I1211>0,J1211>0),AVERAGE($K$12:K1211),\"\")","v":""},"","","","","","","","","",null,null,"",{"$error":"#UNKNOWN!"},"",""]
[1201,null,null,null,null,null,null,null,null,null,"",{"$f":"IF(AND(F1212>0,G1212>0,H1212>0,I1212>0,J1212>0),AVERAGE($K$12:K1212),\"\")","v":""},"","","","","","","","","",null,null,"",{"$error":"#UNKNOWN!"},"",""]
[1202,null,null,null,null,null,null,null,null,null,"",{"$f":"IF(AND(F1213>0,G1213>0,H1213>0,I1213>0,J1213>0),AVERAGE($K$12:K1213),\"\")","v":""},"","","","","","","","","",null,null,"",{"$error":"#UNKNOWN!"},"",""]
[1203,null,null,null,null,null,null,null,null,null,"",{"$f":"IF(AND(F1214>0,G1214>0,H1214>0,I1214>0,J1214>0),AVERAGE($K$12:K1214),\"\")","v":""},"","","","","","","","","",null,null,"",{"$error":"#UNKNOWN!"},"",""]
[1204,null,null,null,null,null,null,null,null,null,"",{"$f":"IF(AND(F1215>0,G1215>0,H1215>0,I1215>0,J1215>0),AVERAGE($K$12:K1215),\"\")","v":""},"","","","","","","","","",null,null,"",{"$error":"#UNKNOWN!"},"",""]
[1205,null,null,null,null,null,null,null,null,null,"",{"$f":"IF(AND(F1216>0,G1216>0,H1216>0,I1216>0,J1216>0),AVERAGE($K$12:K1216),\"\")","v":""},"","","","","","","","","",null,null,"",{"$error":"#UNKNOWN!"},"",""]
[1206,null,null,null,null,null,null,null,null,null,"",{"$f":"IF(AND(F1217>0,G1217>0,H1217>0,I1217>0,J1217>0),AVERAGE($K$12:K1217),\"\")","v":""},"","","","","","","","","",null,null,"",{"$error":"#UNKNOWN!"},"",""]
[1207,null,null,null,null,null,null,null,null,null,"",{"$f":"IF(AND(F1218>0,G1218>0,H1218>0,I1218>0,J1218>0),AVERAGE($K$12:K1218),\"\")","v":""},"","","","","","","","","",null,null,"",{"$error":"#UNKNOWN!"},"",""]
[1208,null,null,null,null,null,null,null,null,null,"",{"$f":"IF(AND(F1219>0,G1219>0,H1219>0,I1219>0,J1219>0),AVERAGE($K$12:K1219),\"\")","v":""},"","","","","","","","","",null,null,"",{"$error":"#UNKNOWN!"},"",""]
[1209,null,null,null,null,null,null,null,null,null,"",{"$f":"IF(AND(F1220>0,G1220>0,H1220>0,I1220>0,J1220>0),AVERAGE($K$12:K1220),\"\")","v":""},"","","","","","","","","",null,null,"",{"$error":"#UNKNOWN!"},"",""]
[1210,null,null,null,null,null,null,null,null,null,"",{"$f":"IF(AND(F1221>0,G1221>0,H1221>0,I1221>0,J1221>0),AVERAGE($K$12:K1221),\"\")","v":""},"","","","","","","","","",null,null,"",{"$error":"#UNKNOWN!"},"",""]
[1211,null,null,null,null,null,null,null,null,null,"",{"$f":"IF(AND(F1222>0,G1222>0,H1222>0,I1222>0,J1222>0),AVERAGE($K$12:K1222),\"\")","v":""},"","","","","","","","","",null,null,"",{"$error":"#UNKNOWN!"},"",""]
[1212,null,null,null,null,null,null,null,null,null,"",{"$f":"IF(AND(F1223>0,G1223>0,H1223>0,I1223>0,J1223>0),AVERAGE($K$12:K1223),\"\")","v":""},"","","","","","","","","",null,null,"",{"$error":"#UNKNOWN!"},"",""]
[1213,null,null,null,null,null,null,null,null,null,"",{"$f":"IF(AND(F1224>0,G1224>0,H1224>0,I1224>0,J1224>0),AVERAGE($K$12:K1224),\"\")","v":""},"","","","","","","","","",null,null,"",{"$error":"#UNKNOWN!"},"",""]
[1214,null,null,null,null,null,null,null,null,null,"",{"$f":"IF(AND(F1225>0,G1225>0,H1225>0,I1225>0,J1225>0),AVERAGE($K$12:K1225),\"\")","v":""},"","","","","","","","","",null,null,"",{"$error":"#UNKNOWN!"},"",""]
[1215,null,null,null,null,null,null,null,null,null,"",{"$f":"IF(AND(F1226>0,G1226>0,H1226>0,I1226>0,J1226>0),AVERAGE($K$12:K1226),\"\")","v":""},"","","","","","","","","",null,null,"",{"$error":"#UNKNOWN!"},{"$f":"IF($P$1=1,S1226,Q1226)","v":""},""]
[1216,null,null,null,null,null,null,null,null,null,"",{"$f":"IF(AND(F1227>0,G1227>0,H1227>0,I1227>0,J1227>0),AVERAGE($K$12:K1227),\"\")","v":""},"","","","",{"$f":"IF(AND(F1227>0,G1227>0,H1227>0,I1227>0,J1227>0),$E$5,\"\")","v":""},{"$f":"IF(AND(F1227>0,G1227>0,H1227>0,I1227>0,J1227>0),$E$5*(-1),\"\")","v":""},{"$f":"IF(AND(F1227>0,G1227>0,H1227>0,I1227>0,J1227>0),$E$6,\"\")","v":""},"",{"$f":"IFERROR(IF(ABS(M1227)<=$E$5,TRUE,FALSE),\"\")","v":""},null,null,"",{"$f":"IF($P$1=1,#N/A,R1227)","v":{"$error":"#UNKNOWN!"}},"",""]
[1217,null,null,null,null,null,null,null,null,null,{"$f":"IF(AND(F1228>0,G1228>0,H1228>0,I1228>0,J1228>0),AVERAGE(F1228:J1228),\"\")","v":""},{"$f":"IF(AND(F1228>0,G1228>0,H1228>0,I1228>0,J1228>0),AVERAGE($K$12:K1228),\"\")","v":""},{"$f":"IF(AND(F1228>0,G1228>0,H1228>0,I1228>0,J1228>0),(K1228-$E$4),\"\")","v":""},"",{"$f":"IF(AND(F1228>0,G1228>0,H1228>0,I1228>0,J1228>0),ROUND(STDEV(F1228:J1228),2),\"\")","v":""},"","","","",{"$f":"IFERROR(IF(OR((ABS(N1228)<=$E$6),(N1228<1)),TRUE,FALSE),\"\")","v":""},"",null,null,{"$f":"IFERROR(MID(C1228,SEARCH(\":\",C1228)+1,10),\"\")","v":""},{"$error":"#UNKNOWN!"},"",{"$f":"IF($P$1=1,N1228,M1228)","v":""}]
[1218,null,null,null,null,null,null,null,null,null,"",{"$f":"IF(AND(F1229>0,G1229>0,H1229>0,I1229>0,J1229>0),AVERAGE($K$12:K1229),\"\")","v":""},"",{"$f":"IF(AND(F1229>0,G1229>0,H1229>0,I1229>0,J1229>0),MAX(F1229:J1229)-MIN(F1229:J1229),\"\")","v":""},"",{"$f":"IF(F1229>0,IF(T1229=FALSE,IF(U1229=FALSE,\"<GA+WHP>\",\"<WHP>\"),IF(U1229=FALSE,\"<GA>\",\"\")) & IF(V1229=TRUE,\"<Trend>\",\"\") & IF(W1229=TRUE,\"<Run>\",\"\")& IF(AND(ABS(T1229+U1229=2),V1229+W1229=0),\"OK\",\"\"),\"\")","v":""},"","","","","",null,null,"",{"$error":"#UNKNOWN!"},"",""]
[1219,null,null,null,null,null,null,null,null,null,"",{"$f":"IF(AND(F1230>0,G1230>0,H1230>0,I1230>0,J1230>0),AVERAGE($K$12:K1230),\"\")","v":""},"","","","","","","","","",null,null,"",{"$error":"#UNKNOWN!"},"",""]
[1220,null,null,null,null,null,null,null,null,null,"",{"$f":"IF(AND(F1231>0,G1231>0,H1231>0,I1231>0,J1231>0),AVERAGE($K$12:K1231),\"\")","v":""},"","","","","","","","","",null,null,"",{"$error":"#UNKNOWN!"},"",""]
[1221,null,null,null,null,null,null,null,null,null,"",{"$f":"IF(AND(F1232>0,G1232>0,H1232>0,I1232>0,J1232>0),AVERAGE($K$12:K1232),\"\")","v":""},"","","","","","","","","",null,null,"",{"$error":"#UNKNOWN!"},"",""]
[1222,null,null,null,null,null,null,null,null,null,"",{"$f":"IF(AND(F1233>0,G1233>0,H1233>0,I1233>0,J1233>0),AVERAGE($K$12:K1233),\"\")","v":""},"","","","","","","","","",{"$f":"OR(AND(K1233>K1232,K1232>K1231,K1231>K1230,K1230>K1229,K1229>K1228,K1228>K1227),AND(K1233<K1232,K1232<K1231,K1231<K1230,K1230<K1229,K1229<K1228,K1228<K1227))","v":null},{"$f":"OR(AND(K1233>L1233,K1232>L1233,K1231>L1233,K1230>L1233,K1229>L1233,K1228>L1233,K1227>L1233),AND(K1233<L1233,K1232<L1233,K1231<L1233,K1230<L1233,K1229<L1233,K1228<L1233,K1227<L1233))","v":null},"",{"$error":"#UNKNOWN!"},"",""]
[1223,null,null,null,null,null,null,null,null,null,"",{"$f":"IF(AND(F1234>0,G1234>0,H1234>0,I1234>0,J1234>0),AVERAGE($K$12:K1234),\"\")","v":""},"","","","","","","","","",null,null,"",{"$error":"#UNKNOWN!"},"",""]
[1224,null,null,null,null,null,null,null,null,null,"",{"$f":"IF(AND(F1235>0,G1235>0,H1235>0,I1235>0,J1235>0),AVERAGE($K$12:K1235),\"\")","v":""},"","","","","","","","","",null,null,"",{"$error":"#UNKNOWN!"},"",""]
[1225,null,null,null,null,null,null,null,null,null,"",{"$f":"IF(AND(F1236>0,G1236>0,H1236>0,I1236>0,J1236>0),AVERAGE($K$12:K1236),\"\")","v":""},"","","","","","","","","",null,null,"",{"$error":"#UNKNOWN!"},"",""]
[1226,null,null,null,null,null,null,null,null,null,"",{"$f":"IF(AND(F1237>0,G1237>0,H1237>0,I1237>0,J1237>0),AVERAGE($K$12:K1237),\"\")","v":""},"","","","","","","","","",null,null,"",{"$error":"#UNKNOWN!"},"",""]
[1227,null,null,null,null,null,null,null,null,null,"",{"$f":"IF(AND(F1238>0,G1238>0,H1238>0,I1238>0,J1238>0),AVERAGE($K$12:K1238),\"\")","v":""},"","","","","","","","","",null,null,"",{"$error":"#UNKNOWN!"},"",""]
[1228,null,null,null,null,null,null,null,null,null,"",{"$f":"IF(AND(F1239>0,G1239>0,H1239>0,I1239>0,J1239>0),AVERAGE($K$12:K1239),\"\")","v":""},"","","","","","","","","",null,null,"",{"$error":"#UNKNOWN!"},"",""]
[1229,null,null,null,null,null,null,null,null,null,"",{"$f":"IF(AND(F1240>0,G1240>0,H1240>0,I1240>0,J1240>0),AVERAGE($K$12:K1240),\"\")","v":""},"","","","","","","","","",null,null,"",{"$error":"#UNKNOWN!"},"",""]
[1230,null,null,null,null,null,null,null,null,null,"",{"$f":"IF(AND(F1241>0,G1241>0,H1241>0,I1241>0,J1241>0),AVERAGE($K$12:K1241),\"\")","v":""},"","","","","","","","","",null,null,"",{"$error":"#UNKNOWN!"},"",""]
[1231,null,null,null,null,null,null,null,null,null,"",{"$f":"IF(AND(F1242>0,G1242>0,H1242>0,I1242>0,J1242>0),AVERAGE($K$12:K1242),\"\")","v":""},"","","","","","","","","",null,null,"",{"$error":"#UNKNOWN!"},"",""]
[1232,null,null,null,null,null,null,null,null,null,"",{"$f":"IF(AND(F1243>0,G1243>0,H1243>0,I1243>0,J1243>0),AVERAGE($K$12:K1243),\"\")","v":""},"","","","","","","","","",null,null,"",{"$error":"#UNKNOWN!"},"",""]
[1233,null,null,null,null,null,null,null,null,null,"",{"$f":"IF(AND(F1244>0,G1244>0,H1244>0,I1244>0,J1244>0),AVERAGE($K$12:K1244),\"\")","v":""},"","","","","","","","","",null,null,"",{"$error":"#UNKNOWN!"},"",""]
[1234,null,null,null,null,null,null,null,null,null,"",{"$f":"IF(AND(F1245>0,G1245>0,H1245>0,I1245>0,J1245>0),AVERAGE($K$12:K1245),\"\")","v":""},"","","","","","","","","",null,null,"",{"$error":"#UNKNOWN!"},"",""]
[1235,null,null,null,null,null,null,null,null,null,"",{"$f":"IF(AND(F1246>0,G1246>0,H1246>0,I1246>0,J1246>0),AVERAGE($K$12:K1246),\"\")","v":""},"","","","","","","","","",null,null,"",{"$error":"#UNKNOWN!"},"",""]
[1236,null,null,null,null,null,null,null,null,null,"",{"$f":"IF(AND(F1247>0,G1247>0,H1247>0,I1247>0,J1247>0),AVERAGE($K$12:K1247),\"\")","v":""},"","","","","","","","","",null,null,"",{"$error":"#UNKNOWN!"},"",""]
[1237,null,null,null,null,null,null,null,null,null,"",{"$f":"IF(AND(F1248>0,G1248>0,H1248>0,I1248>0,J1248>0),AVERAGE($K$12:K1248),\"\")","v":""},"","","","","","","","","",null,null,"",{"$error":"#UNKNOWN!"},"",""]
[1238,null,null,null,null,null,null,null,null,null,"",{"$f":"IF(AND(F1249>0,G1249>0,H1249>0,I1249>0,J1249>0),AVERAGE($K$12:K1249),\"\")","v":""},"","","","","","","","","",null,null,"",{"$error":"#UNKNOWN!"},"",""]
[1239,null,null,null,null,null,null,null,null,null,"",{"$f":"IF(AND(F1250>0,G1250>0,H1250>0,I1250>0,J1250>0),AVERAGE($K$12:K1250),\"\")","v":""},"","","","","","","","","",null,null,"",{"$error":"#UNKNOWN!"},"",""]
[1240,null,null,null,null,null,null,null,null,null,"",{"$f":"IF(AND(F1251>0,G1251>0,H1251>0,I1251>0,J1251>0),AVERAGE($K$12:K1251),\"\")","v":""},"","","","","","","","","",null,null,"",{"$error":"#UNKNOWN!"},"",""]
[1241,null,null,null,null,null,null,null,null,null,"",{"$f":"IF(AND(F1252>0,G1252>0,H1252>0,I1252>0,J1252>0),AVERAGE($K$12:K1252),\"\")","v":""},"","","","","","","","","",null,null,"",{"$error":"#UNKNOWN!"},"",""]
[1242,null,null,null,null,null,null,null,null,null,"",{"$f":"IF(AND(F1253>0,G1253>0,H1253>0,I1253>0,J1253>0),AVERAGE($K$12:K1253),\"\")","v":""},"","","","","","","","","",null,null,"",{"$error":"#UNKNOWN!"},"",""]
[1243,null,null,null,null,null,null,null,null,null,"",{"$f":"IF(AND(F1254>0,G1254>0,H1254>0,I1254>0,J1254>0),AVERAGE($K$12:K1254),\"\")","v":""},"","","","","","","","","",null,null,"",{"$error":"#UNKNOWN!"},"",""]
[1244,null,null,null,null,null,null,null,null,null,"",{"$f":"IF(AND(F1255>0,G1255>0,H1255>0,I1255>0,J1255>0),AVERAGE($K$12:K1255),\"\")","v":""},"","","","","","","","","",null,null,"",{"$error":"#UNKNOWN!"},"",""]
[1245,null,null,null,null,null,null,null,null,null,"",{"$f":"IF(AND(F1256>0,G1256>0,H1256>0,I1256>0,J1256>0),AVERAGE($K$12:K1256),\"\")","v":""},"","","","","","","","","",null,null,"",{"$error":"#UNKNOWN!"},"",""]
[1246,null,null,null,null,null,null,null,null,null,"",{"$f":"IF(AND(F1257>0,G1257>0,H1257>0,I1257>0,J1257>0),AVERAGE($K$12:K1257),\"\")","v":""},"","","","","","","","","",null,null,"",{"$error":"#UNKNOWN!"},"",""]
[1247,null,null,null,null,null,null,null,null,null,"",{"$f":"IF(AND(F1258>0,G1258>0,H1258>0,I1258>0,J1258>0),AVERAGE($K$12:K1258),\"\")","v":""},"","","","","","","","","",null,null,"",{"$error":"#UNKNOWN!"},"",""]
[1248,null,null,null,null,null,null,null,null,null,"",{"$f":"IF(AND(F1259>0,G1259>0,H1259>0,I1259>0,J1259>0),AVERAGE($K$12:K1259),\"\")","v":""},"","","","","","","","","",null,null,"",{"$error":"#UNKNOWN!"},"",""]
[1249,null,null,null,null,null,null,null,null,null,"",{"$f":"IF(AND(F1260>0,G1260>0,H1260>0,I1260>0,J1260>0),AVERAGE($K$12:K1260),\"\")","v":""},"","","","","","","","","",null,null,"",{"$error":"#UNKNOWN!"},"",""]
[1250,null,null,null,null,null,null,null,null,null,"",{"$f":"IF(AND(F1261>0,G1261>0,H1261>0,I1261>0,J1261>0),AVERAGE($K$12:K1261),\"\")","v":""},"","","","","","","","","",null,null,"",{"$error":"#UNKNOWN!"},"",""]
[1251,null,null,null,null,null,null,null,null,null,"",{"$f":"IF(AND(F1262>0,G1262>0,H1262>0,I1262>0,J1262>0),AVERAGE($K$12:K1262),\"\")","v":""},"","","","","","","","","",null,null,"",{"$error":"#UNKNOWN!"},"",""]
[1252,null,null,null,null,null,null,null,null,null,"",{"$f":"IF(AND(F1263>0,G1263>0,H1263>0,I1263>0,J1263>0),AVERAGE($K$12:K1263),\"\")","v":""},"","","","","","","","","",null,null,"",{"$error":"#UNKNOWN!"},"",""]
[1253,null,null,null,null,null,null,null,null,null,"",{"$f":"IF(AND(F1264>0,G1264>0,H1264>0,I1264>0,J1264>0),AVERAGE($K$12:K1264),\"\")","v":""},"","","","","","","","","",null,null,"",{"$error":"#UNKNOWN!"},"",""]
[1254,null,null,null,null,null,null,null,null,null,"",{"$f":"IF(AND(F1265>0,G1265>0,H1265>0,I1265>0,J1265>0),AVERAGE($K$12:K1265),\"\")","v":""},"","","","","","","","","",null,null,"",{"$error":"#UNKNOWN!"},"",""]
[1255,null,null,null,null,null,null,null,null,null,"",{"$f":"IF(AND(F1266>0,G1266>0,H1266>0,I1266>0,J1266>0),AVERAGE($K$12:K1266),\"\")","v":""},"","","","","","","","","",null,null,"",{"$error":"#UNKNOWN!"},"",""]
[1256,null,null,null,null,null,null,null,null,null,"",{"$f":"IF(AND(F1267>0,G1267>0,H1267>0,I1267>0,J1267>0),AVERAGE($K$12:K1267),\"\")","v":""},"","","","","","","","","",null,null,"",{"$error":"#UNKNOWN!"},"",""]
[1257,null,null,null,null,null,null,null,null,null,"",{"$f":"IF(AND(F1268>0,G1268>0,H1268>0,I1268>0,J1268>0),AVERAGE($K$12:K1268),\"\")","v":""},"","","","","","","","","",null,null,"",{"$error":"#UNKNOWN!"},"",""]
[1258,null,null,null,null,null,null,null,null,null,"",{"$f":"IF(AND(F1269>0,G1269>0,H1269>0,I1269>0,J1269>0),AVERAGE($K$12:K1269),\"\")","v":""},"","","","","","","","","",null,null,"",{"$error":"#UNKNOWN!"},"",""]
[1259,null,null,null,null,null,null,null,null,null,"",{"$f":"IF(AND(F1270>0,G1270>0,H1270>0,I1270>0,J1270>0),AVERAGE($K$12:K1270),\"\")","v":""},"","","","","","","","","",null,null,"",{"$error":"#UNKNOWN!"},"",""]
[1260,null,null,null,null,null,null,null,null,null,"",{"$f":"IF(AND(F1271>0,G1271>0,H1271>0,I1271>0,J1271>0),AVERAGE($K$12:K1271),\"\")","v":""},"","","","","","","","","",null,null,"",{"$error":"#UNKNOWN!"},"",""]
[1261,null,null,null,null,null,null,null,null,null,"",{"$f":"IF(AND(F1272>0,G1272>0,H1272>0,I1272>0,J1272>0),AVERAGE($K$12:K1272),\"\")","v":""},"","","","","","","","","",null,null,"",{"$error":"#UNKNOWN!"},"",""]
[1262,null,null,null,null,null,null,null,null,null,"",{"$f":"IF(AND(F1273>0,G1273>0,H1273>0,I1273>0,J1273>0),AVERAGE($K$12:K1273),\"\")","v":""},"","","","","","","","","",null,null,"",{"$error":"#UNKNOWN!"},"",""]
[1263,null,null,null,null,null,null,null,null,null,"",{"$f":"IF(AND(F1274>0,G1274>0,H1274>0,I1274>0,J1274>0),AVERAGE($K$12:K1274),\"\")","v":""},"","","","","","","","","",null,null,"",{"$error":"#UNKNOWN!"},"",""]
[1264,null,null,null,null,null,null,null,null,null,"",{"$f":"IF(AND(F1275>0,G1275>0,H1275>0,I1275>0,J1275>0),AVERAGE($K$12:K1275),\"\")","v":""},"","","","","","","","","",null,null,"",{"$error":"#UNKNOWN!"},"",""]
[1265,null,null,null,null,null,null,null,null,null,"",{"$f":"IF(AND(F1276>0,G1276>0,H1276>0,I1276>0,J1276>0),AVERAGE($K$12:K1276),\"\")","v":""},"","","","","","","","","",null,null,"",{"$error":"#UNKNOWN!"},"",""]
[1266,null,null,null,null,null,null,null,null,null,"",{"$f":"IF(AND(F1277>0,G1277>0,H1277>0,I1277>0,J1277>0),AVERAGE($K$12:K1277),\"\")","v":""},"","","","","","","","","",null,null,"",{"$error":"#UNKNOWN!"},"",""]
[1267,null,null,null,null,null,null,null,null,null,"",{"$f":"IF(AND(F1278>0,G1278>0,H1278>0,I1278>0,J1278>0),AVERAGE($K$12:K1278),\"\")","v":""},"","","","","","","","","",null,null,"",{"$error":"#UNKNOWN!"},"",""]
[1268,null,null,null,null,null,null,null,null,null,"",{"$f":"IF(AND(F1279>0,G1279>0,H1279>0,I1279>0,J1279>0),AVERAGE($K$12:K1279),\"\")","v":""},"","","","","","","","","",null,null,"",{"$error":"#UNKNOWN!"},"",""]
[1269,null,null,null,null,null,null,null,null,null,"",{"$f":"IF(AND(F1280>0,G1280>0,H1280>0,I1280>0,J1280>0),AVERAGE($K$12:K1280),\"\")","v":""},"","","","","","","","","",null,null,"",{"$error":"#UNKNOWN!"},"",""]
[1270,null,null,null,null,null,null,null,null,null,"",{"$f":"IF(AND(F1281>0,G1281>0,H1281>0,I1281>0,J1281>0),AVERAGE($K$12:K1281),\"\")","v":""},"","","","","","","","","",null,null,"",{"$error":"#UNKNOWN!"},"",""]
[1271,null,null,null,null,null,null,null,null,null,"",{"$f":"IF(AND(F1282>0,G1282>0,H1282>0,I1282>0,J1282>0),AVERAGE($K$12:K1282),\"\")","v":""},"","","","","","","","","",null,null,"",{"$error":"#UNKNOWN!"},"",""]
[1272,null,null,null,null,null,null,null,null,null,"",{"$f":"IF(AND(F1283>0,G1283>0,H1283>0,I1283>0,J1283>0),AVERAGE($K$12:K1283),\"\")","v":""},"","","","","","","","","",null,null,"",{"$error":"#UNKNOWN!"},"",""]
[1273,null,null,null,null,null,null,null,null,null,"",{"$f":"IF(AND(F1284>0,G1284>0,H1284>0,I1284>0,J1284>0),AVERAGE($K$12:K1284),\"\")","v":""},"","","","","","","","","",null,null,"",{"$error":"#UNKNOWN!"},"",""]
[1274,null,null,null,null,null,null,null,null,null,"",{"$f":"IF(AND(F1285>0,G1285>0,H1285>0,I1285>0,J1285>0),AVERAGE($K$12:K1285),\"\")","v":""},"","","","","","","","","",null,null,"",{"$error":"#UNKNOWN!"},"",""]
[1275,null,null,null,null,null,null,null,null,null,"",{"$f":"IF(AND(F1286>0,G1286>0,H1286>0,I1286>0,J1286>0),AVERAGE($K$12:K1286),\"\")","v":""},"","","","","","","","","",null,null,"",{"$error":"#UNKNOWN!"},"",""]
[1276,null,null,null,null,null,null,null,null,null,"",{"$f":"IF(AND(F1287>0,G1287>0,H1287>0,I1287>0,J1287>0),AVERAGE($K$12:K1287),\"\")","v":""},"","","","","","","","","",null,null,"",{"$error":"#UNKNOWN!"},"",""]
[1277,null,null,null,null,null,null,null,null,null,"",{"$f":"IF(AND(F1288>0,G1288>0,H1288>0,I1288>0,J1288>0),AVERAGE($K$12:K1288),\"\")","v":""},"","","","","","","","","",null,null,"",{"$error":"#UNKNOWN!"},"",""]
[1278,null,null,null,null,null,null,null,null,null,"",{"$f":"IF(AND(F1289>0,G1289>0,H1289>0,I1289>0,J1289>0),AVERAGE($K$12:K1289),\"\")","v":""},"","","","","","","","","",null,null,"",{"$error":"#UNKNOWN!"},"",""]
[1279,null,null,null,null,null,null,null,null,null,"",{"$f":"IF(AND(F1290>0,G1290>0,H1290>0,I1290>0,J1290>0),AVERAGE($K$12:K1290),\"\")","v":""},"","","","","","","","","",null,null,"",{"$error":"#UNKNOWN!"},{"$f":"IF($P$1=1,S1290,Q1290)","v":""},""]
[1280,null,null,null,null,null,null,null,null,null,"",{"$f":"IF(AND(F1291>0,G1291>0,H1291>0,I1291>0,J1291>0),AVERAGE($K$12:K1291),\"\")","v":""},"","","","",{"$f":"IF(AND(F1291>0,G1291>0,H1291>0,I1291>0,J1291>0),$E$5,\"\")","v":""},{"$f":"IF(AND(F1291>0,G1291>0,H1291>0,I1291>0,J1291>0),$E$5*(-1),\"\")","v":""},{"$f":"IF(AND(F1291>0,G1291>0,H1291>0,I1291>0,J1291>0),$E$6,\"\")","v":""},"",{"$f":"IFERROR(IF(ABS(M1291)<=$E$5,TRUE,FALSE),\"\")","v":""},null,null,"",{"$f":"IF($P$1=1,#N/A,R1291)","v":{"$error":"#UNKNOWN!"}},"",""]
[1281,null,null,null,null,null,null,null,null,null,{"$f":"IF(AND(F1292>0,G1292>0,H1292>0,I1292>0,J1292>0),AVERAGE(F1292:J1292),\"\")","v":""},{"$f":"IF(AND(F1292>0,G1292>0,H1292>0,I1292>0,J1292>0),AVERAGE($K$12:K1292),\"\")","v":""},{"$f":"IF(AND(F1292>0,G1292>0,H1292>0,I1292>0,J1292>0),(K1292-$E$4),\"\")","v":""},"",{"$f":"IF(AND(F1292>0,G1292>0,H1292>0,I1292>0,J1292>0),ROUND(STDEV(F1292:J1292),2),\"\")","v":""},"","","","",{"$f":"IFERROR(IF(OR((ABS(N1292)<=$E$6),(N1292<1)),TRUE,FALSE),\"\")","v":""},"",null,null,{"$f":"IFERROR(MID(C1292,SEARCH(\":\",C1292)+1,10),\"\")","v":""},{"$error":"#UNKNOWN!"},"",{"$f":"IF($P$1=1,N1292,M1292)","v":""}]
[1282,null,null,null,null,null,null,null,null,null,"",{"$f":"IF(AND(F1293>0,G1293>0,H1293>0,I1293>0,J1293>0),AVERAGE($K$12:K1293),\"\")","v":""},"",{"$f":"IF(AND(F1293>0,G1293>0,H1293>0,I1293>0,J1293>0),MAX(F1293:J1293)-MIN(F1293:J1293),\"\")","v":""},"",{"$f":"IF(F1293>0,IF(T1293=FALSE,IF(U1293=FALSE,\"<GA+WHP>\",\"<WHP>\"),IF(U1293=FALSE,\"<GA>\",\"\")) & IF(V1293=TRUE,\"<Trend>\",\"\") & IF(W1293=TRUE,\"<Run>\",\"\")& IF(AND(ABS(T1293+U1293=2),V1293+W1293=0),\"OK\",\"\"),\"\")","v":""},"","","","","",null,null,"",{"$error":"#UNKNOWN!"},"",""]
[1283,null,null,null,null,null,null,null,null,null,"",{"$f":"IF(AND(F1294>0,G1294>0,H1294>0,I1294>0,J1294>0),AVERAGE($K$12:K1294),\"\")","v":""},"","","","","","","","","",null,null,"",{"$error":"#UNKNOWN!"},"",""]
[1284,null,null,null,null,null,null,null,null,null,"",{"$f":"IF(AND(F1295>0,G1295>0,H1295>0,I1295>0,J1295>0),AVERAGE($K$12:K1295),\"\")","v":""},"","","","","","","","","",null,null,"",{"$error":"#UNKNOWN!"},"",""]
[1285,null,null,null,null,null,null,null,null,null,"",{"$f":"IF(AND(F1296>0,G1296>0,H1296>0,I1296>0,J1296>0),AVERAGE($K$12:K1296),\"\")","v":""},"","","","","","","","","",null,null,"",{"$error":"#UNKNOWN!"},"",""]
[1286,null,null,null,null,null,null,null,null,null,"",{"$f":"IF(AND(F1297>0,G1297>0,H1297>0,I1297>0,J1297>0),AVERAGE($K$12:K1297),\"\")","v":""},"","","","","","","","","",{"$f":"OR(AND(K1297>K1296,K1296>K1295,K1295>K1294,K1294>K1293,K1293>K1292,K1292>K1291),AND(K1297<K1296,K1296<K1295,K1295<K1294,K1294<K1293,K1293<K1292,K1292<K1291))","v":null},{"$f":"OR(AND(K1297>L1297,K1296>L1297,K1295>L1297,K1294>L1297,K1293>L1297,K1292>L1297,K1291>L1297),AND(K1297<L1297,K1296<L1297,K1295<L1297,K1294<L1297,K1293<L1297,K1292<L1297,K1291<L1297))","v":null},"",{"$error":"#UNKNOWN!"},"",""]
[1287,null,null,null,null,null,null,null,null,null,"",{"$f":"IF(AND(F1298>0,G1298>0,H1298>0,I1298>0,J1298>0),AVERAGE($K$12:K1298),\"\")","v":""},"","","","","","","","","",null,null,"",{"$error":"#UNKNOWN!"},"",""]
[1288,null,null,null,null,null,null,null,null,null,"",{"$f":"IF(AND(F1299>0,G1299>0,H1299>0,I1299>0,J1299>0),AVERAGE($K$12:K1299),\"\")","v":""},"","","","","","","","","",null,null,"",{"$error":"#UNKNOWN!"},"",""]
[1289,null,null,null,null,null,null,null,null,null,"",{"$f":"IF(AND(F1300>0,G1300>0,H1300>0,I1300>0,J1300>0),AVERAGE($K$12:K1300),\"\")","v":""},"","","","","","","","","",null,null,"",{"$error":"#UNKNOWN!"},"",""]
[1290,null,null,null,null,null,null,null,null,null,"",{"$f":"IF(AND(F1301>0,G1301>0,H1301>0,I1301>0,J1301>0),AVERAGE($K$12:K1301),\"\")","v":""},"","","","","","","","","",null,null,"",{"$error":"#UNKNOWN!"},"",""]
[1291,null,null,null,null,null,null,null,null,null,"",{"$f":"IF(AND(F1302>0,G1302>0,H1302>0,I1302>0,J1302>0),AVERAGE($K$12:K1302),\"\")","v":""},"","","","","","","","","",null,null,"",{"$error":"#UNKNOWN!"},"",""]
[1292,null,null,null,null,null,null,null,null,null,"",{"$f":"IF(AND(F1303>0,G1303>0,H1303>0,I1303>0,J1303>0),AVERAGE($K$12:K1303),\"\")","v":""},"","","","","","","","","",null,null,"",{"$error":"#UNKNOWN!"},"",""]
[1293,null,null,null,null,null,null,null,null,null,"",{"$f":"IF(AND(F1304>0,G1304>0,H1304>0,I1304>0,J1304>0),AVERAGE($K$12:K1304),\"\")","v":""},"","","","","","","","","",null,null,"",{"$error":"#UNKNOWN!"},"",""]
[1294,null,null,null,null,null,null,null,null,null,"",{"$f":"IF(AND(F1305>0,G1305>0,H1305>0,I1305>0,J1305>0),AVERAGE($K$12:K1305),\"\")","v":""},"","","","","","","","","",null,null,"",{"$error":"#UNKNOWN!"},"",""]
[1295,null,null,null,null,null,null,null,null,null,"",{"$f":"IF(AND(F1306>0,G1306>0,H1306>0,I1306>0,J1306>0),AVERAGE($K$12:K1306),\"\")","v":""},"","","","","","","","","",null,null,"",{"$error":"#UNKNOWN!"},"",""]
[1296,null,null,null,null,null,null,null,null,null,"",{"$f":"IF(AND(F1307>0,G1307>0,H1307>0,I1307>0,J1307>0),AVERAGE($K$12:K1307),\"\")","v":""},"","","","","","","","","",null,null,"",{"$error":"#UNKNOWN!"},"",""]
[1297,null,null,null,null,null,null,null,null,null,"",{"$f":"IF(AND(F1308>0,G1308>0,H1308>0,I1308>0,J1308>0),AVERAGE($K$12:K1308),\"\")","v":""},"","","","","","","","","",null,null,"",{"$error":"#UNKNOWN!"},"",""]
[1298,null,null,null,null,null,null,null,null,null,"",{"$f":"IF(AND(F1309>0,G1309>0,H1309>0,I1309>0,J1309>0),AVERAGE($K$12:K1309),\"\")","v":""},"","","","","","","","","",null,null,"",{"$error":"#UNKNOWN!"},"",""]
[1299,null,null,null,null,null,null,null,null,null,"",{"$f":"IF(AND(F1310>0,G1310>0,H1310>0,I1310>0,J1310>0),AVERAGE($K$12:K1310),\"\")","v":""},"","","","","","","","","",null,null,"",{"$error":"#UNKNOWN!"},"",""]
[1300,null,null,null,null,null,null,null,null,null,"",{"$f":"IF(AND(F1311>0,G1311>0,H1311>0,I1311>0,J1311>0),AVERAGE($K$12:K1311),\"\")","v":""},"","","","","","","","","",null,null,"",{"$error":"#UNKNOWN!"},"",""]
[1301,null,null,null,null,null,null,null,null,null,"",{"$f":"IF(AND(F1312>0,G1312>0,H1312>0,I1312>0,J1312>0),AVERAGE($K$12:K1312),\"\")","v":""},"","","","","","","","","",null,null,"",{"$error":"#UNKNOWN!"},"",""]
[1302,null,null,null,null,null,null,null,null,null,"",{"$f":"IF(AND(F1313>0,G1313>0,H1313>0,I1313>0,J1313>0),AVERAGE($K$12:K1313),\"\")","v":""},"","","","","","","","","",null,null,"",{"$error":"#UNKNOWN!"},"",""]
[1303,null,null,null,null,null,null,null,null,null,"",{"$f":"IF(AND(F1314>0,G1314>0,H1314>0,I1314>0,J1314>0),AVERAGE($K$12:K1314),\"\")","v":""},"","","","","","","","","",null,null,"",{"$error":"#UNKNOWN!"},"",""]
[1304,null,null,null,null,null,null,null,null,null,"",{"$f":"IF(AND(F1315>0,G1315>0,H1315>0,I1315>0,J1315>0),AVERAGE($K$12:K1315),\"\")","v":""},"","","","","","","","","",null,null,"",{"$error":"#UNKNOWN!"},"",""]
[1305,null,null,null,null,null,null,null,null,null,"",{"$f":"IF(AND(F1316>0,G1316>0,H1316>0,I1316>0,J1316>0),AVERAGE($K$12:K1316),\"\")","v":""},"","","","","","","","","",null,null,"",{"$error":"#UNKNOWN!"},"",""]
[1306,null,null,null,null,null,null,null,null,null,"",{"$f":"IF(AND(F1317>0,G1317>0,H1317>0,I1317>0,J1317>0),AVERAGE($K$12:K1317),\"\")","v":""},"","","","","","","","","",null,null,"",{"$error":"#UNKNOWN!"},"",""]
[1307,null,null,null,null,null,null,null,null,null,"",{"$f":"IF(AND(F1318>0,G1318>0,H1318>0,I1318>0,J1318>0),AVERAGE($K$12:K1318),\"\")","v":""},"","","","","","","","","",null,null,"",{"$error":"#UNKNOWN!"},"",""]
[1308,null,null,null,null,null,null,null,null,null,"",{"$f":"IF(AND(F1319>0,G1319>0,H1319>0,I1319>0,J1319>0),AVERAGE($K$12:K1319),\"\")","v":""},"","","","","","","","","",null,null,"",{"$error":"#UNKNOWN!"},"",""]
[1309,null,null,null,null,null,null,null,null,null,"",{"$f":"IF(AND(F1320>0,G1320>0,H1320>0,I1320>0,J1320>0),AVERAGE($K$12:K1320),\"\")","v":""},"","","","","","","","","",null,null,"",{"$error":"#UNKNOWN!"},"",""]
[1310,null,null,null,null,null,null,null,null,null,"",{"$f":"IF(AND(F1321>0,G1321>0,H1321>0,I1321>0,J1321>0),AVERAGE($K$12:K1321),\"\")","v":""},"","","","","","","","","",null,null,"",{"$error":"#UNKNOWN!"},"",""]
[1311,null,null,null,null,null,null,null,null,null,"",{"$f":"IF(AND(F1322>0,G1322>0,H1322>0,I1322>0,J1322>0),AVERAGE($K$12:K1322),\"\")","v":""},"","","","","","","","","",null,null,"",{"$error":"#UNKNOWN!"},"",""]
[1312,null,null,null,null,null,null,null,null,null,"",{"$f":"IF(AND(F1323>0,G1323>0,H1323>0,I1323>0,J1323>0),AVERAGE($K$12:K1323),\"\")","v":""},"","","","","","","","","",null,null,"",{"$error":"#UNKNOWN!"},"",""]
[1313,null,null,null,null,null,null,null,null,null,"",{"$f":"IF(AND(F1324>0,G1324>0,H1324>0,I1324>0,J1324>0),AVERAGE($K$12:K1324),\"\")","v":""},"","","","","","","","","",null,null,"",{"$error":"#UNKNOWN!"},"",""]
[1314,null,null,null,null,null,null,null,null,null,"",{"$f":"IF(AND(F1325>0,G1325>0,H1325>0,I1325>0,J1325>0),AVERAGE($K$12:K1325),\"\")","v":""},"","","","","","","","","",null,null,"",{"$error":"#UNKNOWN!"},"",""]
[1315,null,null,null,null,null,null,null,null,null,"",{"$f":"IF(AND(F1326>0,G1326>0,H1326>0,I1326>0,J1326>0),AVERAGE($K$12:K1326),\"\")","v":""},"","","","","","","","","",null,null,"",{"$error":"#UNKNOWN!"},"",""]
[1316,null,null,null,null,null,null,null,null,null,"",{"$f":"IF(AND(F1327>0,G1327>0,H1327>0,I1327>0,J1327>0),AVERAGE($K$12:K1327),\"\")","v":""},"","","","","","","","","",null,null,"",{"$error":"#UNKNOWN!"},"",""]
[1317,null,null,null,null,null,null,null,null,null,"",{"$f":"IF(AND(F1328>0,G1328>0,H1328>0,I1328>0,J1328>0),AVERAGE($K$12:K1328),\"\")","v":""},"","","","","","","","","",null,null,"",{"$error":"#UNKNOWN!"},"",""]
[1318,null,null,null,null,null,null,null,null,null,"",{"$f":"IF(AND(F1329>0,G1329>0,H1329>0,I1329>0,J1329>0),AVERAGE($K$12:K1329),\"\")","v":""},"","","","","","","","","",null,null,"",{"$error":"#UNKNOWN!"},"",""]
[1319,null,null,null,null,null,null,null,null,null,"",{"$f":"IF(AND(F1330>0,G1330>0,H1330>0,I1330>0,J1330>0),AVERAGE($K$12:K1330),\"\")","v":""},"","","","","","","","","",null,null,"",{"$error":"#UNKNOWN!"},"",""]
[1320,null,null,null,null,null,null,null,null,null,"",{"$f":"IF(AND(F1331>0,G1331>0,H1331>0,I1331>0,J1331>0),AVERAGE($K$12:K1331),\"\")","v":""},"","","","","","","","","",null,null,"",{"$error":"#UNKNOWN!"},"",""]
[1321,null,null,null,null,null,null,null,null,null,"",{"$f":"IF(AND(F1332>0,G1332>0,H1332>0,I1332>0,J1332>0),AVERAGE($K$12:K1332),\"\")","v":""},"","","","","","","","","",null,null,"",{"$error":"#UNKNOWN!"},"",""]
[1322,null,null,null,null,null,null,null,null,null,"",{"$f":"IF(AND(F1333>0,G1333>0,H1333>0,I1333>0,J1333>0),AVERAGE($K$12:K1333),\"\")","v":""},"","","","","","","","","",null,null,"",{"$error":"#UNKNOWN!"},"",""]
[1323,null,null,null,null,null,null,null,null,null,"",{"$f":"IF(AND(F1334>0,G1334>0,H1334>0,I1334>0,J1334>0),AVERAGE($K$12:K1334),\"\")","v":""},"","","","","","","","","",null,null,"",{"$error":"#UNKNOWN!"},"",""]
[1324,null,null,null,null,null,null,null,null,null,"",{"$f":"IF(AND(F1335>0,G1335>0,H1335>0,I1335>0,J1335>0),AVERAGE($K$12:K1335),\"\")","v":""},"","","","","","","","","",null,null,"",{"$error":"#UNKNOWN!"},"",""]
[1325,null,null,null,null,null,null,null,null,null,"",{"$f":"IF(AND(F1336>0,G1336>0,H1336>0,I1336>0,J1336>0),AVERAGE($K$12:K1336),\"\")","v":""},"","","","","","","","","",null,null,"",{"$error":"#UNKNOWN!"},"",""]
[1326,null,null,null,null,null,null,null,null,null,"",{"$f":"IF(AND(F1337>0,G1337>0,H1337>0,I1337>0,J1337>0),AVERAGE($K$12:K1337),\"\")","v":""},"","","","","","","","","",null,null,"",{"$error":"#UNKNOWN!"},"",""]
[1327,null,null,null,null,null,null,null,null,null,"",{"$f":"IF(AND(F1338>0,G1338>0,H1338>0,I1338>0,J1338>0),AVERAGE($K$12:K1338),\"\")","v":""},"","","","","","","","","",null,null,"",{"$error":"#UNKNOWN!"},"",""]
[1328,null,null,null,null,null,null,null,null,null,"",{"$f":"IF(AND(F1339>0,G1339>0,H1339>0,I1339>0,J1339>0),AVERAGE($K$12:K1339),\"\")","v":""},"","","","","","","","","",null,null,"",{"$error":"#UNKNOWN!"},"",""]
[1329,null,null,null,null,null,null,null,null,null,"",{"$f":"IF(AND(F1340>0,G1340>0,H1340>0,I1340>0,J1340>0),AVERAGE($K$12:K1340),\"\")","v":""},"","","","","","","","","",null,null,"",{"$error":"#UNKNOWN!"},"",""]
[1330,null,null,null,null,null,null,null,null,null,"",{"$f":"IF(AND(F1341>0,G1341>0,H1341>0,I1341>0,J1341>0),AVERAGE($K$12:K1341),\"\")","v":""},"","","","","","","","","",null,null,"",{"$error":"#UNKNOWN!"},"",""]
[1331,null,null,null,null,null,null,null,null,null,"",{"$f":"IF(AND(F1342>0,G1342>0,H1342>0,I1342>0,J1342>0),AVERAGE($K$12:K1342),\"\")","v":""},"","","","","","","","","",null,null,"",{"$error":"#UNKNOWN!"},"",""]
[1332,null,null,null,null,null,null,null,null,null,"",{"$f":"IF(AND(F1343>0,G1343>0,H1343>0,I1343>0,J1343>0),AVERAGE($K$12:K1343),\"\")","v":""},"","","","","","","","","",null,null,"",{"$error":"#UNKNOWN!"},"",""]
[1333,null,null,null,null,null,null,null,null,null,"",{"$f":"IF(AND(F1344>0,G1344>0,H1344>0,I1344>0,J1344>0),AVERAGE($K$12:K1344),\"\")","v":""},"","","","","","","","","",null,null,"",{"$error":"#UNKNOWN!"},"",""]
[1334,null,null,null,null,null,null,null,null,null,"",{"$f":"IF(AND(F1345>0,G1345>0,H1345>0,I1345>0,J1345>0),AVERAGE($K$12:K1345),\"\")","v":""},"","","","","","","","","",null,null,"",{"$error":"#UNKNOWN!"},"",""]
[1335,null,null,null,null,null,null,null,null,null,"",{"$f":"IF(AND(F1346>0,G1346>0,H1346>0,I1346>0,J1346>0),AVERAGE($K$12:K1346),\"\")","v":""},"","","","","","","","","",null,null,"",{"$error":"#UNKNOWN!"},"",""]
[1336,null,null,null,null,null,null,null,null,null,"",{"$f":"IF(AND(F1347>0,G1347>0,H1347>0,I1347>0,J1347>0),AVERAGE($K$12:K1347),\"\")","v":""},"","","","","","","","","",null,null,"",{"$error":"#UNKNOWN!"},"",""]
[1337,null,null,null,null,null,null,null,null,null,"",{"$f":"IF(AND(F1348>0,G1348>0,H1348>0,I1348>0,J1348>0),AVERAGE($K$12:K1348),\"\")","v":""},"","","","","","","","","",null,null,"",{"$error":"#UNKNOWN!"},"",""]
[1338,null,null,null,null,null,null,null,null,null,"",{"$f":"IF(AND(F1349>0,G1349>0,H1349>0,I1349>0,J1349>0),AVERAGE($K$12:K1349),\"\")","v":""},"","","","","","","","","",null,null,"",{"$error":"#UNKNOWN!"},"",""]
[1339,null,null,null,null,null,null,null,null,null,"",{"$f":"IF(AND(F1350>0,G1350>0,H1350>0,I1350>0,J1350>0),AVERAGE($K$12:K1350),\"\")","v":""},"","","","","","","","","",null,null,"",{"$error":"#UNKNOWN!"},"",""]
[1340,null,null,null,null,null,null,null,null,null,"",{"$f":"IF(AND(F1351>0,G1351>0,H1351>0,I1351>0,J1351>0),AVERAGE($K$12:K1351),\"\")","v":""},"","","","","","","","","",null,null,"",{"$error":"#UNKNOWN!"},"",""]
[1341,null,null,null,null,null,null,null,null,null,"",{"$f":"IF(AND(F1352>0,G1352>0,H1352>0,I1352>0,J1352>0),AVERAGE($K$12:K1352),\"\")","v":""},"","","","","","","","","",null,null,"",{"$error":"#UNKNOWN!"},"",""]
[1342,null,null,null,null,null,null,null,null,null,"",{"$f":"IF(AND(F1353>0,G1353>0,H1353>0,I1353>0,J1353>0),AVERAGE($K$12:K1353),\"\")","v":""},"","","","","","","","","",null,null,"",{"$error":"#UNKNOWN!"},"",""]
[1343,null,null,null,null,null,null,null,null,null,"",{"$f":"IF(AND(F1354>0,G1354>0,H1354>0,I1354>0,J1354>0),AVERAGE($K$12:K1354),\"\")","v":""},"","","","","","","","","",null,null,"",{"$error":"#UNKNOWN!"},{"$f":"IF($P$1=1,S1354,Q1354)","v":""},""]
[1344,null,null,null,null,null,null,null,null,null,"",{"$f":"IF(AND(F1355>0,G1355>0,H1355>0,I1355>0,J1355>0),AVERAGE($K$12:K1355),\"\")","v":""},"","","","",{"$f":"IF(AND(F1355>0,G1355>0,H1355>0,I1355>0,J1355>0),$E$5,\"\")","v":""},{"$f":"IF(AND(F1355>0,G1355>0,H1355>0,I1355>0,J1355>0),$E$5*(-1),\"\")","v":""},{"$f":"IF(AND(F1355>0,G1355>0,H1355>0,I1355>0,J1355>0),$E$6,\"\")","v":""},"",{"$f":"IFERROR(IF(ABS(M1355)<=$E$5,TRUE,FALSE),\"\")","v":""},null,null,"",{"$f":"IF($P$1=1,#N/A,R1355)","v":{"$error":"#UNKNOWN!"}},"",""]
[1345,null,null,null,null,null,null,null,null,null,{"$f":"IF(AND(F1356>0,G1356>0,H1356>0,I1356>0,J1356>0),AVERAGE(F1356:J1356),\"\")","v":""},{"$f":"IF(AND(F1356>0,G1356>0,H1356>0,I1356>0,J1356>0),AVERAGE($K$12:K1356),\"\")","v":""},{"$f":"IF(AND(F1356>0,G1356>0,H1356>0,I1356>0,J1356>0),(K1356-$E$4),\"\")","v":""},"",{"$f":"IF(AND(F1356>0,G1356>0,H1356>0,I1356>0,J1356>0),ROUND(STDEV(F1356:J1356),2),\"\")","v":""},"","","","",{"$f":"IFERROR(IF(OR((ABS(N1356)<=$E$6),(N1356<1)),TRUE,FALSE),\"\")","v":""},"",null,null,{"$f":"IFERROR(MID(C1356,SEARCH(\":\",C1356)+1,10),\"\")","v":""},{"$error":"#UNKNOWN!"},"",{"$f":"IF($P$1=1,N1356,M1356)","v":""}]
[1346,null,null,null,null,null,null,null,null,null,"",{"$f":"IF(AND(F1357>0,G1357>0,H1357>0,I1357>0,J1357>0),AVERAGE($K$12:K1357),\"\")","v":""},"",{"$f":"IF(AND(F1357>0,G1357>0,H1357>0,I1357>0,J1357>0),MAX(F1357:J1357)-MIN(F1357:J1357),\"\")","v":""},"",{"$f":"IF(F1357>0,IF(T1357=FALSE,IF(U1357=FALSE,\"<GA+WHP>\",\"<WHP>\"),IF(U1357=FALSE,\"<GA>\",\"\")) & IF(V1357=TRUE,\"<Trend>\",\"\") & IF(W1357=TRUE,\"<Run>\",\"\")& IF(AND(ABS(T1357+U1357=2),V1357+W1357=0),\"OK\",\"\"),\"\")","v":""},"","","","","",null,null,"",{"$error":"#UNKNOWN!"},"",""]
[1347,null,null,null,null,null,null,null,null,null,"",{"$f":"IF(AND(F1358>0,G1358>0,H1358>0,I1358>0,J1358>0),AVERAGE($K$12:K1358),\"\")","v":""},"","","","","","","","","",null,null,"",{"$error":"#UNKNOWN!"},"",""]
[1348,null,null,null,null,null,null,null,null,null,"",{"$f":"IF(AND(F1359>0,G1359>0,H1359>0,I1359>0,J1359>0),AVERAGE($K$12:K1359),\"\")","v":""},"","","","","","","","","",null,null,"",{"$error":"#UNKNOWN!"},"",""]
[1349,null,null,null,null,null,null,null,null,null,"",{"$f":"IF(AND(F1360>0,G1360>0,H1360>0,I1360>0,J1360>0),AVERAGE($K$12:K1360),\"\")","v":""},"","","","","","","","","",null,null,"",{"$error":"#UNKNOWN!"},"",""]
[1350,null,null,null,null,null,null,null,null,null,"",{"$f":"IF(AND(F1361>0,G1361>0,H1361>0,I1361>0,J1361>0),AVERAGE($K$12:K1361),\"\")","v":""},"","","","","","","","","",{"$f":"OR(AND(K1361>K1360,K1360>K1359,K1359>K1358,K1358>K1357,K1357>K1356,K1356>K1355),AND(K1361<K1360,K1360<K1359,K1359<K1358,K1358<K1357,K1357<K1356,K1356<K1355))","v":null},{"$f":"OR(AND(K1361>L1361,K1360>L1361,K1359>L1361,K1358>L1361,K1357>L1361,K1356>L1361,K1355>L1361),AND(K1361<L1361,K1360<L1361,K1359<L1361,K1358<L1361,K1357<L1361,K1356<L1361,K1355<L1361))","v":null},"",{"$error":"#UNKNOWN!"},"",""]
[1351,null,null,null,null,null,null,null,null,null,"",{"$f":"IF(AND(F1362>0,G1362>0,H1362>0,I1362>0,J1362>0),AVERAGE($K$12:K1362),\"\")","v":""},"","","","","","","","","",null,null,"",{"$error":"#UNKNOWN!"},"",""]
[1352,null,null,null,null,null,null,null,null,null,"",{"$f":"IF(AND(F1363>0,G1363>0,H1363>0,I1363>0,J1363>0),AVERAGE($K$12:K1363),\"\")","v":""},"","","","","","","","","",null,null,"",{"$error":"#UNKNOWN!"},"",""]
[1353,null,null,null,null,null,null,null,null,null,"",{"$f":"IF(AND(F1364>0,G1364>0,H1364>0,I1364>0,J1364>0),AVERAGE($K$12:K1364),\"\")","v":""},"","","","","","","","","",null,null,"",{"$error":"#UNKNOWN!"},"",""]
[1354,null,null,null,null,null,null,null,null,null,"",{"$f":"IF(AND(F1365>0,G1365>0,H1365>0,I1365>0,J1365>0),AVERAGE($K$12:K1365),\"\")","v":""},"","","","","","","","","",null,null,"",{"$error":"#UNKNOWN!"},"",""]
[1355,null,null,null,null,null,null,null,null,null,"",{"$f":"IF(AND(F1366>0,G1366>0,H1366>0,I1366>0,J1366>0),AVERAGE($K$12:K1366),\"\")","v":""},"","","","","","","","","",null,null,"",{"$error":"#UNKNOWN!"},"",""]
[1356,null,null,null,null,null,null,null,null,null,"",{"$f":"IF(AND(F1367>0,G1367>0,H1367>0,I1367>0,J1367>0),AVERAGE($K$12:K1367),\"\")","v":""},"","","","","","","","","",null,null,"",{"$error":"#UNKNOWN!"},"",""]
[1357,null,null,null,null,null,null,null,null,null,"",{"$f":"IF(AND(F1368>0,G1368>0,H1368>0,I1368>0,J1368>0),AVERAGE($K$12:K1368),\"\")","v":""},"","","","","","","","","",null,null,"",{"$error":"#UNKNOWN!"},"",""]
[1358,null,null,null,null,null,null,null,null,null,"",{"$f":"IF(AND(F1369>0,G1369>0,H1369>0,I1369>0,J1369>0),AVERAGE($K$12:K1369),\"\")","v":""},"","","","","","","","","",null,null,"",{"$error":"#UNKNOWN!"},"",""]
[1359,null,null,null,null,null,null,null,null,null,"",{"$f":"IF(AND(F1370>0,G1370>0,H1370>0,I1370>0,J1370>0),AVERAGE($K$12:K1370),\"\")","v":""},"","","","","","","","","",null,null,"",{"$error":"#UNKNOWN!"},"",""]
[1360,null,null,null,null,null,null,null,null,null,"",{"$f":"IF(AND(F1371>0,G1371>0,H1371>0,I1371>0,J1371>0),AVERAGE($K$12:K1371),\"\")","v":""},"","","","","","","","","",null,null,"",{"$error":"#UNKNOWN!"},"",""]
[1361,null,null,null,null,null,null,null,null,null,"",{"$f":"IF(AND(F1372>0,G1372>0,H1372>0,I1372>0,J1372>0),AVERAGE($K$12:K1372),\"\")","v":""},"","","","","","","","","",null,null,"",{"$error":"#UNKNOWN!"},"",""]
[1362,null,null,null,null,null,null,null,null,null,"",{"$f":"IF(AND(F1373>0,G1373>0,H1373>0,I1373>0,J1373>0),AVERAGE($K$12:K1373),\"\")","v":""},"","","","","","","","","",null,null,"",{"$error":"#UNKNOWN!"},"",""]
[1363,null,null,null,null,null,null,null,null,null,"",{"$f":"IF(AND(F1374>0,G1374>0,H1374>0,I1374>0,J1374>0),AVERAGE($K$12:K1374),\"\")","v":""},"","","","","","","","","",null,null,"",{"$error":"#UNKNOWN!"},"",""]
[1364,null,null,null,null,null,null,null,null,null,"",{"$f":"IF(AND(F1375>0,G1375>0,H1375>0,I1375>0,J1375>0),AVERAGE($K$12:K1375),\"\")","v":""},"","","","","","","","","",null,null,"",{"$error":"#UNKNOWN!"},"",""]
[1365,null,null,null,null,null,null,null,null,null,"",{"$f":"IF(AND(F1376>0,G1376>0,H1376>0,I1376>0,J1376>0),AVERAGE($K$12:K1376),\"\")","v":""},"","","","","","","","","",null,null,"",{"$error":"#UNKNOWN!"},"",""]
[1366,null,null,null,null,null,null,null,null,null,"",{"$f":"IF(AND(F1377>0,G1377>0,H1377>0,I1377>0,J1377>0),AVERAGE($K$12:K1377),\"\")","v":""},"","","","","","","","","",null,null,"",{"$error":"#UNKNOWN!"},"",""]
[1367,null,null,null,null,null,null,null,null,null,"",{"$f":"IF(AND(F1378>0,G1378>0,H1378>0,I1378>0,J1378>0),AVERAGE($K$12:K1378),\"\")","v":""},"","","","","","","","","",null,null,"",{"$error":"#UNKNOWN!"},"",""]
[1368,null,null,null,null,null,null,null,null,null,"",{"$f":"IF(AND(F1379>0,G1379>0,H1379>0,I1379>0,J1379>0),AVERAGE($K$12:K1379),\"\")","v":""},"","","","","","","","","",null,null,"",{"$error":"#UNKNOWN!"},"",""]
[1369,null,null,null,null,null,null,null,null,null,"",{"$f":"IF(AND(F1380>0,G1380>0,H1380>0,I1380>0,J1380>0),AVERAGE($K$12:K1380),\"\")","v":""},"","","","","","","","","",null,null,"",{"$error":"#UNKNOWN!"},"",""]
[1370,null,null,null,null,null,null,null,null,null,"",{"$f":"IF(AND(F1381>0,G1381>0,H1381>0,I1381>0,J1381>0),AVERAGE($K$12:K1381),\"\")","v":""},"","","","","","","","","",null,null,"",{"$error":"#UNKNOWN!"},"",""]
[1371,null,null,null,null,null,null,null,null,null,"",{"$f":"IF(AND(F1382>0,G1382>0,H1382>0,I1382>0,J1382>0),AVERAGE($K$12:K1382),\"\")","v":""},"","","","","","","","","",null,null,"",{"$error":"#UNKNOWN!"},"",""]
[1372,null,null,null,null,null,null,null,null,null,"",{"$f":"IF(AND(F1383>0,G1383>0,H1383>0,I1383>0,J1383>0),AVERAGE($K$12:K1383),\"\")","v":""},"","","","","","","","","",null,null,"",{"$error":"#UNKNOWN!"},"",""]
[1373,null,null,null,null,null,null,null,null,null,"",{"$f":"IF(AND(F1384>0,G1384>0,H1384>0,I1384>0,J1384>0),AVERAGE($K$12:K1384),\"\")","v":""},"","","","","","","","","",null,null,"",{"$error":"#UNKNOWN!"},"",""]
[1374,null,null,null,null,null,null,null,null,null,"",{"$f":"IF(AND(F1385>0,G1385>0,H1385>0,I1385>0,J1385>0),AVERAGE($K$12:K1385),\"\")","v":""},"","","","","","","","","",null,null,"",{"$error":"#UNKNOWN!"},"",""]
[1375,null,null,null,null,null,null,null,null,null,"",{"$f":"IF(AND(F1386>0,G1386>0,H1386>0,I1386>0,J1386>0),AVERAGE($K$12:K1386),\"\")","v":""},"","","","","","","","","",null,null,"",{"$error":"#UNKNOWN!"},"",""]
[1376,null,null,null,null,null,null,null,null,null,"",{"$f":"IF(AND(F1387>0,G1387>0,H1387>0,I1387>0,J1387>0),AVERAGE($K$12:K1387),\"\")","v":""},"","","","","","","","","",null,null,"",{"$error":"#UNKNOWN!"},"",""]
[1377,null,null,null,null,null,null,null,null,null,"",{"$f":"IF(AND(F1388>0,G1388>0,H1388>0,I1388>0,J1388>0),AVERAGE($K$12:K1388),\"\")","v":""},"","","","","","","","","",null,null,"",{"$error":"#UNKNOWN!"},"",""]
[1378,null,null,null,null,null,null,null,null,null,"",{"$f":"IF(AND(F1389>0,G1389>0,H1389>0,I1389>0,J1389>0),AVERAGE($K$12:K1389),\"\")","v":""},"","","","","","","","","",null,null,"",{"$error":"#UNKNOWN!"},"",""]
[1379,null,null,null,null,null,null,null,null,null,"",{"$f":"IF(AND(F1390>0,G1390>0,H1390>0,I1390>0,J1390>0),AVERAGE($K$12:K1390),\"\")","v":""},"","","","","","","","","",null,null,"",{"$error":"#UNKNOWN!"},"",""]
[1380,null,null,null,null,null,null,null,null,null,"",{"$f":"IF(AND(F1391>0,G1391>0,H1391>0,I1391>0,J1391>0),AVERAGE($K$12:K1391),\"\")","v":""},"","","","","","","","","",null,null,"",{"$error":"#UNKNOWN!"},"",""]
[1381,null,null,null,null,null,null,null,null,null,"",{"$f":"IF(AND(F1392>0,G1392>0,H1392>0,I1392>0,J1392>0),AVERAGE($K$12:K1392),\"\")","v":""},"","","","","","","","","",null,null,"",{"$error":"#UNKNOWN!"},"",""]
[1382,null,null,null,null,null,null,null,null,null,"",{"$f":"IF(AND(F1393>0,G1393>0,H1393>0,I1393>0,J1393>0),AVERAGE($K$12:K1393),\"\")","v":""},"","","","","","","","","",null,null,"",{"$error":"#UNKNOWN!"},"",""]
[1383,null,null,null,null,null,null,null,null,null,"",{"$f":"IF(AND(F1394>0,G1394>0,H1394>0,I1394>0,J1394>0),AVERAGE($K$12:K1394),\"\")","v":""},"","","","","","","","","",null,null,"",{"$error":"#UNKNOWN!"},"",""]
[1384,null,null,null,null,null,null,null,null,null,"",{"$f":"IF(AND(F1395>0,G1395>0,H1395>0,I1395>0,J1395>0),AVERAGE($K$12:K1395),\"\")","v":""},"","","","","","","","","",null,null,"",{"$error":"#UNKNOWN!"},"",""]
[1385,null,null,null,null,null,null,null,null,null,"",{"$f":"IF(AND(F1396>0,G1396>0,H1396>0,I1396>0,J1396>0),AVERAGE($K$12:K1396),\"\")","v":""},"","","","","","","","","",null,null,"",{"$error":"#UNKNOWN!"},"",""]
[1386,null,null,null,null,null,null,null,null,null,"",{"$f":"IF(AND(F1397>0,G1397>0,H1397>0,I1397>0,J1397>0),AVERAGE($K$12:K1397),\"\")","v":""},"","","","","","","","","",null,null,"",{"$error":"#UNKNOWN!"},"",""]
[1387,null,null,null,null,null,null,null,null,null,"",{"$f":"IF(AND(F1398>0,G1398>0,H1398>0,I1398>0,J1398>0),AVERAGE($K$12:K1398),\"\")","v":""},"","","","","","","","","",null,null,"",{"$error":"#UNKNOWN!"},"",""]
[1388,null,null,null,null,null,null,null,null,null,"",{"$f":"IF(AND(F1399>0,G1399>0,H1399>0,I1399>0,J1399>0),AVERAGE($K$12:K1399),\"\")","v":""},"","","","","","","","","",null,null,"",{"$error":"#UNKNOWN!"},"",""]
[1389,null,null,null,null,null,null,null,null,null,"",{"$f":"IF(AND(F1400>0,G1400>0,H1400>0,I1400>0,J1400>0),AVERAGE($K$12:K1400),\"\")","v":""},"","","","","","","","","",null,null,"",{"$error":"#UNKNOWN!"},"",""]
[1390,null,null,null,null,null,null,null,null,null,"",{"$f":"IF(AND(F1401>0,G1401>0,H1401>0,I1401>0,J1401>0),AVERAGE($K$12:K1401),\"\")","v":""},"","","","","","","","","",null,null,"",{"$error":"#UNKNOWN!"},"",""]
[1391,null,null,null,null,null,null,null,null,null,"",{"$f":"IF(AND(F1402>0,G1402>0,H1402>0,I1402>0,J1402>0),AVERAGE($K$12:K1402),\"\")","v":""},"","","","","","","","","",null,null,"",{"$error":"#UNKNOWN!"},"",""]
[1392,null,null,null,null,null,null,null,null,null,"",{"$f":"IF(AND(F1403>0,G1403>0,H1403>0,I1403>0,J1403>0),AVERAGE($K$12:K1403),\"\")","v":""},"","","","","","","","","",null,null,"",{"$error":"#UNKNOWN!"},"",""]
[1393,null,null,null,null,null,null,null,null,null,"",{"$f":"IF(AND(F1404>0,G1404>0,H1404>0,I1404>0,J1404>0),AVERAGE($K$12:K1404),\"\")","v":""},"","","","","","","","","",null,null,"",{"$error":"#UNKNOWN!"},"",""]
[1394,null,null,null,null,null,null,null,null,null,"",{"$f":"IF(AND(F1405>0,G1405>0,H1405>0,I1405>0,J1405>0),AVERAGE($K$12:K1405),\"\")","v":""},"","","","","","","","","",null,null,"",{"$error":"#UNKNOWN!"},"",""]
[1395,null,null,null,null,null,null,null,null,null,"",{"$f":"IF(AND(F1406>0,G1406>0,H1406>0,I1406>0,J1406>0),AVERAGE($K$12:K1406),\"\")","v":""},"","","","","","","","","",null,null,"",{"$error":"#UNKNOWN!"},"",""]
[1396,null,null,null,null,null,null,null,null,null,"",{"$f":"IF(AND(F1407>0,G1407>0,H1407>0,I1407>0,J1407>0),AVERAGE($K$12:K1407),\"\")","v":""},"","","","","","","","","",null,null,"",{"$error":"#UNKNOWN!"},"",""]
[1397,null,null,null,null,null,null,null,null,null,"",{"$f":"IF(AND(F1408>0,G1408>0,H1408>0,I1408>0,J1408>0),AVERAGE($K$12:K1408),\"\")","v":""},"","","","","","","","","",null,null,"",{"$error":"#UNKNOWN!"},"",""]
[1398,null,null,null,null,null,null,null,null,null,"",{"$f":"IF(AND(F1409>0,G1409>0,H1409>0,I1409>0,J1409>0),AVERAGE($K$12:K1409),\"\")","v":""},"","","","","","","","","",null,null,"",{"$error":"#UNKNOWN!"},"",""]
[1399,null,null,null,null,null,null,null,null,null,"",{"$f":"IF(AND(F1410>0,G1410>0,H1410>0,I1410>0,J1410>0),AVERAGE($K$12:K1410),\"\")","v":""},"","","","","","","","","",null,null,"",{"$error":"#UNKNOWN!"},"",""]
[1400,null,null,null,null,null,null,null,null,null,"",{"$f":"IF(AND(F1411>0,G1411>0,H1411>0,I1411>0,J1411>0),AVERAGE($K$12:K1411),\"\")","v":""},"","","","","","","","","",null,null,"",{"$error":"#UNKNOWN!"},"",""]
[1401,null,null,null,null,null,null,null,null,null,"",{"$f":"IF(AND(F1412>0,G1412>0,H1412>0,I1412>0,J1412>0),AVERAGE($K$12:K1412),\"\")","v":""},"","","","","","","","","",null,null,"",{"$error":"#UNKNOWN!"},"",""]
[1402,null,null,null,null,null,null,null,null,null,"",{"$f":"IF(AND(F1413>0,G1413>0,H1413>0,I1413>0,J1413>0),AVERAGE($K$12:K1413),\"\")","v":""},"","","","","","","","","",null,null,"",{"$error":"#UNKNOWN!"},"",""]
[1403,null,null,null,null,null,null,null,null,null,"",{"$f":"IF(AND(F1414>0,G1414>0,H1414>0,I1414>0,J1414>0),AVERAGE($K$12:K1414),\"\")","v":""},"","","","","","","","","",null,null,"",{"$error":"#UNKNOWN!"},"",""]
[1404,null,null,null,null,null,null,null,null,null,"",{"$f":"IF(AND(F1415>0,G1415>0,H1415>0,I1415>0,J1415>0),AVERAGE($K$12:K1415),\"\")","v":""},"","","","","","","","","",null,null,"",{"$error":"#UNKNOWN!"},"",""]
[1405,null,null,null,null,null,null,null,null,null,"",{"$f":"IF(AND(F1416>0,G1416>0,H1416>0,I1416>0,J1416>0),AVERAGE($K$12:K1416),\"\")","v":""},"","","","","","","","","",null,null,"",{"$error":"#UNKNOWN!"},"",""]
[1406,null,null,null,null,null,null,null,null,null,"",{"$f":"IF(AND(F1417>0,G1417>0,H1417>0,I1417>0,J1417>0),AVERAGE($K$12:K1417),\"\")","v":""},"","","","","","","","","",null,null,"",{"$error":"#UNKNOWN!"},"",""]
[1407,null,null,null,null,null,null,null,null,null,"",{"$f":"IF(AND(F1418>0,G1418>0,H1418>0,I1418>0,J1418>0),AVERAGE($K$12:K1418),\"\")","v":""},"","","","","","","","","",null,null,"",{"$error":"#UNKNOWN!"},{"$f":"IF($P$1=1,S1418,Q1418)","v":""},""]
[1408,null,null,null,null,null,null,null,null,null,"",{"$f":"IF(AND(F1419>0,G1419>0,H1419>0,I1419>0,J1419>0),AVERAGE($K$12:K1419),\"\")","v":""},"","","","",{"$f":"IF(AND(F1419>0,G1419>0,H1419>0,I1419>0,J1419>0),$E$5,\"\")","v":""},{"$f":"IF(AND(F1419>0,G1419>0,H1419>0,I1419>0,J1419>0),$E$5*(-1),\"\")","v":""},{"$f":"IF(AND(F1419>0,G1419>0,H1419>0,I1419>0,J1419>0),$E$6,\"\")","v":""},"",{"$f":"IFERROR(IF(ABS(M1419)<=$E$5,TRUE,FALSE),\"\")","v":""},null,null,"",{"$f":"IF($P$1=1,#N/A,R1419)","v":{"$error":"#UNKNOWN!"}},"",""]
[1409,null,null,null,null,null,null,null,null,null,{"$f":"IF(AND(F1420>0,G1420>0,H1420>0,I1420>0,J1420>0),AVERAGE(F1420:J1420),\"\")","v":""},{"$f":"IF(AND(F1420>0,G1420>0,H1420>0,I1420>0,J1420>0),AVERAGE($K$12:K1420),\"\")","v":""},{"$f":"IF(AND(F1420>0,G1420>0,H1420>0,I1420>0,J1420>0),(K1420-$E$4),\"\")","v":""},"",{"$f":"IF(AND(F1420>0,G1420>0,H1420>0,I1420>0,J1420>0),ROUND(STDEV(F1420:J1420),2),\"\")","v":""},"","","","",{"$f":"IFERROR(IF(OR((ABS(N1420)<=$E$6),(N1420<1)),TRUE,FALSE),\"\")","v":""},"",null,null,{"$f":"IFERROR(MID(C1420,SEARCH(\":\",C1420)+1,10),\"\")","v":""},{"$error":"#UNKNOWN!"},"",{"$f":"IF($P$1=1,N1420,M1420)","v":""}]
[1410,null,null,null,null,null,null,null,null,null,"",{"$f":"IF(AND(F1421>0,G1421>0,H1421>0,I1421>0,J1421>0),AVERAGE($K$12:K1421),\"\")","v":""},"",{"$f":"IF(AND(F1421>0,G1421>0,H1421>0,I1421>0,J1421>0),MAX(F1421:J1421)-MIN(F1421:J1421),\"\")","v":""},"",{"$f":"IF(F1421>0,IF(T1421=FALSE,IF(U1421=FALSE,\"<GA+WHP>\",\"<WHP>\"),IF(U1421=FALSE,\"<GA>\",\"\")) & IF(V1421=TRUE,\"<Trend>\",\"\") & IF(W1421=TRUE,\"<Run>\",\"\")& IF(AND(ABS(T1421+U1421=2),V1421+W1421=0),\"OK\",\"\"),\"\")","v":""},"","","","","",null,null,"",{"$error":"#UNKNOWN!"},"",""]
[1411,null,null,null,null,null,null,null,null,null,"",{"$f":"IF(AND(F1422>0,G1422>0,H1422>0,I1422>0,J1422>0),AVERAGE($K$12:K1422),\"\")","v":""},"","","","","","","","","",null,null,"",{"$error":"#UNKNOWN!"},"",""]
[1412,null,null,null,null,null,null,null,null,null,"",{"$f":"IF(AND(F1423>0,G1423>0,H1423>0,I1423>0,J1423>0),AVERAGE($K$12:K1423),\"\")","v":""},"","","","","","","","","",null,null,"",{"$error":"#UNKNOWN!"},"",""]
[1413,null,null,null,null,null,null,null,null,null,"",{"$f":"IF(AND(F1424>0,G1424>0,H1424>0,I1424>0,J1424>0),AVERAGE($K$12:K1424),\"\")","v":""},"","","","","","","","","",null,null,"",{"$error":"#UNKNOWN!"},"",""]
[1414,null,null,null,null,null,null,null,null,null,"",{"$f":"IF(AND(F1425>0,G1425>0,H1425>0,I1425>0,J1425>0),AVERAGE($K$12:K1425),\"\")","v":""},"","","","","","","","","",{"$f":"OR(AND(K1425>K1424,K1424>K1423,K1423>K1422,K1422>K1421,K1421>K1420,K1420>K1419),AND(K1425<K1424,K1424<K1423,K1423<K1422,K1422<K1421,K1421<K1420,K1420<K1419))","v":null},{"$f":"OR(AND(K1425>L1425,K1424>L1425,K1423>L1425,K1422>L1425,K1421>L1425,K1420>L1425,K1419>L1425),AND(K1425<L1425,K1424<L1425,K1423<L1425,K1422<L1425,K1421<L1425,K1420<L1425,K1419<L1425))","v":null},"",{"$error":"#UNKNOWN!"},"",""]
[1415,null,null,null,null,null,null,null,null,null,"",{"$f":"IF(AND(F1426>0,G1426>0,H1426>0,I1426>0,J1426>0),AVERAGE($K$12:K1426),\"\")","v":""},"","","","","","","","","",null,null,"",{"$error":"#UNKNOWN!"},"",""]
[1416,null,null,null,null,null,null,null,null,null,"",{"$f":"IF(AND(F1427>0,G1427>0,H1427>0,I1427>0,J1427>0),AVERAGE($K$12:K1427),\"\")","v":""},"","","","","","","","","",null,null,"",{"$error":"#UNKNOWN!"},"",""]
[1417,null,null,null,null,null,null,null,null,null,"",{"$f":"IF(AND(F1428>0,G1428>0,H1428>0,I1428>0,J1428>0),AVERAGE($K$12:K1428),\"\")","v":""},"","","","","","","","","",null,null,"",{"$error":"#UNKNOWN!"},"",""]
[1418,null,null,null,null,null,null,null,null,null,"",{"$f":"IF(AND(F1429>0,G1429>0,H1429>0,I1429>0,J1429>0),AVERAGE($K$12:K1429),\"\")","v":""},"","","","","","","","","",null,null,"",{"$error":"#UNKNOWN!"},"",""]
[1419,null,null,null,null,null,null,null,null,null,"",{"$f":"IF(AND(F1430>0,G1430>0,H1430>0,I1430>0,J1430>0),AVERAGE($K$12:K1430),\"\")","v":""},"","","","","","","","","",null,null,"",{"$error":"#UNKNOWN!"},"",""]
[1420,null,null,null,null,null,null,null,null,null,"",{"$f":"IF(AND(F1431>0,G1431>0,H1431>0,I1431>0,J1431>0),AVERAGE($K$12:K1431),\"\")","v":""},"","","","","","","","","",null,null,"",{"$error":"#UNKNOWN!"},"",""]
[1421,null,null,null,null,null,null,null,null,null,"",{"$f":"IF(AND(F1432>0,G1432>0,H1432>0,I1432>0,J1432>0),AVERAGE($K$12:K1432),\"\")","v":""},"","","","","","","","","",null,null,"",{"$error":"#UNKNOWN!"},"",""]
[1422,null,null,null,null,null,null,null,null,null,"",{"$f":"IF(AND(F1433>0,G1433>0,H1433>0,I1433>0,J1433>0),AVERAGE($K$12:K1433),\"\")","v":""},"","","","","","","","","",null,null,"",{"$error":"#UNKNOWN!"},"",""]
[1423,null,null,null,null,null,null,null,null,null,"",{"$f":"IF(AND(F1434>0,G1434>0,H1434>0,I1434>0,J1434>0),AVERAGE($K$12:K1434),\"\")","v":""},"","","","","","","","","",null,null,"",{"$error":"#UNKNOWN!"},"",""]
[1424,null,null,null,null,null,null,null,null,null,"",{"$f":"IF(AND(F1435>0,G1435>0,H1435>0,I1435>0,J1435>0),AVERAGE($K$12:K1435),\"\")","v":""},"","","","","","","","","",null,null,"",{"$error":"#UNKNOWN!"},"",""]
[1425,null,null,null,null,null,null,null,null,null,"",{"$f":"IF(AND(F1436>0,G1436>0,H1436>0,I1436>0,J1436>0),AVERAGE($K$12:K1436),\"\")","v":""},"","","","","","","","","",null,null,"",{"$error":"#UNKNOWN!"},"",""]
[1426,null,null,null,null,null,null,null,null,null,"",{"$f":"IF(AND(F1437>0,G1437>0,H1437>0,I1437>0,J1437>0),AVERAGE($K$12:K1437),\"\")","v":""},"","","","","","","","","",null,null,"",{"$error":"#UNKNOWN!"},"",""]
[1427,null,null,null,null,null,null,null,null,null,"",{"$f":"IF(AND(F1438>0,G1438>0,H1438>0,I1438>0,J1438>0),AVERAGE($K$12:K1438),\"\")","v":""},"","","","","","","","","",null,null,"",{"$error":"#UNKNOWN!"},"",""]
[1428,null,null,null,null,null,null,null,null,null,"",{"$f":"IF(AND(F1439>0,G1439>0,H1439>0,I1439>0,J1439>0),AVERAGE($K$12:K1439),\"\")","v":""},"","","","","","","","","",null,null,"",{"$error":"#UNKNOWN!"},"",""]
[1429,null,null,null,null,null,null,null,null,null,"",{"$f":"IF(AND(F1440>0,G1440>0,H1440>0,I1440>0,J1440>0),AVERAGE($K$12:K1440),\"\")","v":""},"","","","","","","","","",null,null,"",{"$error":"#UNKNOWN!"},"",""]
[1430,null,null,null,null,null,null,null,null,null,"",{"$f":"IF(AND(F1441>0,G1441>0,H1441>0,I1441>0,J1441>0),AVERAGE($K$12:K1441),\"\")","v":""},"","","","","","","","","",null,null,"",{"$error":"#UNKNOWN!"},"",""]
[1431,null,null,null,null,null,null,null,null,null,"",{"$f":"IF(AND(F1442>0,G1442>0,H1442>0,I1442>0,J1442>0),AVERAGE($K$12:K1442),\"\")","v":""},"","","","","","","","","",null,null,"",{"$error":"#UNKNOWN!"},"",""]
[1432,null,null,null,null,null,null,null,null,null,"",{"$f":"IF(AND(F1443>0,G1443>0,H1443>0,I1443>0,J1443>0),AVERAGE($K$12:K1443),\"\")","v":""},"","","","","","","","","",null,null,"",{"$error":"#UNKNOWN!"},"",""]
[1433,null,null,null,null,null,null,null,null,null,"",{"$f":"IF(AND(F1444>0,G1444>0,H1444>0,I1444>0,J1444>0),AVERAGE($K$12:K1444),\"\")","v":""},"","","","","","","","","",null,null,"",{"$error":"#UNKNOWN!"},"",""]
[1434,null,null,null,null,null,null,null,null,null,"",{"$f":"IF(AND(F1445>0,G1445>0,H1445>0,I1445>0,J1445>0),AVERAGE($K$12:K1445),\"\")","v":""},"","","","","","","","","",null,null,"",{"$error":"#UNKNOWN!"},"",""]
[1435,null,null,null,null,null,null,null,null,null,"",{"$f":"IF(AND(F1446>0,G1446>0,H1446>0,I1446>0,J1446>0),AVERAGE($K$12:K1446),\"\")","v":""},"","","","","","","","","",null,null,"",{"$error":"#UNKNOWN!"},"",""]
[1436,null,null,null,null,null,null,null,null,null,"",{"$f":"IF(AND(F1447>0,G1447>0,H1447>0,I1447>0,J1447>0),AVERAGE($K$12:K1447),\"\")","v":""},"","","","","","","","","",null,null,"",{"$error":"#UNKNOWN!"},"",""]
[1437,null,null,null,null,null,null,null,null,null,"",{"$f":"IF(AND(F1448>0,G1448>0,H1448>0,I1448>0,J1448>0),AVERAGE($K$12:K1448),\"\")","v":""},"","","","","","","","","",null,null,"",{"$error":"#UNKNOWN!"},"",""]
[1438,null,null,null,null,null,null,null,null,null,"",{"$f":"IF(AND(F1449>0,G1449>0,H1449>0,I1449>0,J1449>0),AVERAGE($K$12:K1449),\"\")","v":""},"","","","","","","","","",null,null,"",{"$error":"#UNKNOWN!"},"",""]
[1439,null,null,null,null,null,null,null,null,null,"",{"$f":"IF(AND(F1450>0,G1450>0,H1450>0,I1450>0,J1450>0),AVERAGE($K$12:K1450),\"\")","v":""},"","","","","","","","","",null,null,"",{"$error":"#UNKNOWN!"},"",""]
[1440,null,null,null,null,null,null,null,null,null,"",{"$f":"IF(AND(F1451>0,G1451>0,H1451>0,I1451>0,J1451>0),AVERAGE($K$12:K1451),\"\")","v":""},"","","","","","","","","",null,null,"",{"$error":"#UNKNOWN!"},"",""]
[1441,null,null,null,null,null,null,null,null,null,"",{"$f":"IF(AND(F1452>0,G1452>0,H1452>0,I1452>0,J1452>0),AVERAGE($K$12:K1452),\"\")","v":""},"","","","","","","","","",null,null,"",{"$error":"#UNKNOWN!"},"",""]
[1442,null,null,null,null,null,null,null,null,null,"",{"$f":"IF(AND(F1453>0,G1453>0,H1453>0,I1453>0,J1453>0),AVERAGE($K$12:K1453),\"\")","v":""},"","","","","","","","","",null,null,"",{"$error":"#UNKNOWN!"},"",""]
[1443,null,null,null,null,null,null,null,null,null,"",{"$f":"IF(AND(F1454>0,G1454>0,H1454>0,I1454>0,J1454>0),AVERAGE($K$12:K1454),\"\")","v":""},"","","","","","","","","",null,null,"",{"$error":"#UNKNOWN!"},"",""]
[1444,null,null,null,null,null,null,null,null,null,"",{"$f":"IF(AND(F1455>0,G1455>0,H1455>0,I1455>0,J1455>0),AVERAGE($K$12:K1455),\"\")","v":""},"","","","","","","","","",null,null,"",{"$error":"#UNKNOWN!"},"",""]
[1445,null,null,null,null,null,null,null,null,null,"",{"$f":"IF(AND(F1456>0,G1456>0,H1456>0,I1456>0,J1456>0),AVERAGE($K$12:K1456),\"\")","v":""},"","","","","","","","","",null,null,"",{"$error":"#UNKNOWN!"},"",""]
[1446,null,null,null,null,null,null,null,null,null,"",{"$f":"IF(AND(F1457>0,G1457>0,H1457>0,I1457>0,J1457>0),AVERAGE($K$12:K1457),\"\")","v":""},"","","","","","","","","",null,null,"",{"$error":"#UNKNOWN!"},"",""]
[1447,null,null,null,null,null,null,null,null,null,"",{"$f":"IF(AND(F1458>0,G1458>0,H1458>0,I1458>0,J1458>0),AVERAGE($K$12:K1458),\"\")","v":""},"","","","","","","","","",null,null,"",{"$error":"#UNKNOWN!"},"",""]
[1448,null,null,null,null,null,null,null,null,null,"",{"$f":"IF(AND(F1459>0,G1459>0,H1459>0,I1459>0,J1459>0),AVERAGE($K$12:K1459),\"\")","v":""},"","","","","","","","","",null,null,"",{"$error":"#UNKNOWN!"},"",""]
[1449,null,null,null,null,null,null,null,null,null,"",{"$f":"IF(AND(F1460>0,G1460>0,H1460>0,I1460>0,J1460>0),AVERAGE($K$12:K1460),\"\")","v":""},"","","","","","","","","",null,null,"",{"$error":"#UNKNOWN!"},"",""]
[1450,null,null,null,null,null,null,null,null,null,"",{"$f":"IF(AND(F1461>0,G1461>0,H1461>0,I1461>0,J1461>0),AVERAGE($K$12:K1461),\"\")","v":""},"","","","","","","","","",null,null,"",{"$error":"#UNKNOWN!"},"",""]
[1451,null,null,null,null,null,null,null,null,null,"",{"$f":"IF(AND(F1462>0,G1462>0,H1462>0,I1462>0,J1462>0),AVERAGE($K$12:K1462),\"\")","v":""},"","","","","","","","","",null,null,"",{"$error":"#UNKNOWN!"},"",""]
[1452,null,null,null,null,null,null,null,null,null,"",{"$f":"IF(AND(F1463>0,G1463>0,H1463>0,I1463>0,J1463>0),AVERAGE($K$12:K1463),\"\")","v":""},"","","","","","","","","",null,null,"",{"$error":"#UNKNOWN!"},"",""]
[1453,null,null,null,null,null,null,null,null,null,"",{"$f":"IF(AND(F1464>0,G1464>0,H1464>0,I1464>0,J1464>0),AVERAGE($K$12:K1464),\"\")","v":""},"","","","","","","","","",null,null,"",{"$error":"#UNKNOWN!"},"",""]
[1454,null,null,null,null,null,null,null,null,null,"",{"$f":"IF(AND(F1465>0,G1465>0,H1465>0,I1465>0,J1465>0),AVERAGE($K$12:K1465),\"\")","v":""},"","","","","","","","","",null,null,"",{"$error":"#UNKNOWN!"},"",""]
[1455,null,null,null,null,null,null,null,null,null,"",{"$f":"IF(AND(F1466>0,G1466>0,H1466>0,I1466>0,J1466>0),AVERAGE($K$12:K1466),\"\")","v":""},"","","","","","","","","",null,null,"",{"$error":"#UNKNOWN!"},"",""]
[1456,null,null,null,null,null,null,null,null,null,"",{"$f":"IF(AND(F1467>0,G1467>0,H1467>0,I1467>0,J1467>0),AVERAGE($K$12:K1467),\"\")","v":""},"","","","","","","","","",null,null,"",{"$error":"#UNKNOWN!"},"",""]
[1457,null,null,null,null,null,null,null,null,null,"",{"$f":"IF(AND(F1468>0,G1468>0,H1468>0,I1468>0,J1468>0),AVERAGE($K$12:K1468),\"\")","v":""},"","","","","","","","","",null,null,"",{"$error":"#UNKNOWN!"},"",""]
[1458,null,null,null,null,null,null,null,null,null,"",{"$f":"IF(AND(F1469>0,G1469>0,H1469>0,I1469>0,J1469>0),AVERAGE($K$12:K1469),\"\")","v":""},"","","","","","","","","",null,null,"",{"$error":"#UNKNOWN!"},"",""]
[1459,null,null,null,null,null,null,null,null,null,"",{"$f":"IF(AND(F1470>0,G1470>0,H1470>0,I1470>0,J1470>0),AVERAGE($K$12:K1470),\"\")","v":""},"","","","","","","","","",null,null,"",{"$error":"#UNKNOWN!"},"",""]
[1460,null,null,null,null,null,null,null,null,null,"",{"$f":"IF(AND(F1471>0,G1471>0,H1471>0,I1471>0,J1471>0),AVERAGE($K$12:K1471),\"\")","v":""},"","","","","","","","","",null,null,"",{"$error":"#UNKNOWN!"},"",""]
[1461,null,null,null,null,null,null,null,null,null,"",{"$f":"IF(AND(F1472>0,G1472>0,H1472>0,I1472>0,J1472>0),AVERAGE($K$12:K1472),\"\")","v":""},"","","","","","","","","",null,null,"",{"$error":"#UNKNOWN!"},"",""]
[1462,null,null,null,null,null,null,null,null,null,"",{"$f":"IF(AND(F1473>0,G1473>0,H1473>0,I1473>0,J1473>0),AVERAGE($K$12:K1473),\"\")","v":""},"","","","","","","","","",null,null,"",{"$error":"#UNKNOWN!"},"",""]
[1463,null,null,null,null,null,null,null,null,null,"",{"$f":"IF(AND(F1474>0,G1474>0,H1474>0,I1474>0,J1474>0),AVERAGE($K$12:K1474),\"\")","v":""},"","","","","","","","","",null,null,"",{"$error":"#UNKNOWN!"},"",""]
[1464,null,null,null,null,null,null,null,null,null,"",{"$f":"IF(AND(F1475>0,G1475>0,H1475>0,I1475>0,J1475>0),AVERAGE($K$12:K1475),\"\")","v":""},"","","","","","","","","",null,null,"",{"$error":"#UNKNOWN!"},"",""]
[1465,null,null,null,null,null,null,null,null,null,"",{"$f":"IF(AND(F1476>0,G1476>0,H1476>0,I1476>0,J1476>0),AVERAGE($K$12:K1476),\"\")","v":""},"","","","","","","","","",null,null,"",{"$error":"#UNKNOWN!"},"",""]
[1466,null,null,null,null,null,null,null,null,null,"",{"$f":"IF(AND(F1477>0,G1477>0,H1477>0,I1477>0,J1477>0),AVERAGE($K$12:K1477),\"\")","v":""},"","","","","","","","","",null,null,"",{"$error":"#UNKNOWN!"},"",""]
[1467,null,null,null,null,null,null,null,null,null,"",{"$f":"IF(AND(F1478>0,G1478>0,H1478>0,I1478>0,J1478>0),AVERAGE($K$12:K1478),\"\")","v":""},"","","","","","","","","",null,null,"",{"$error":"#UNKNOWN!"},"",""]
[1468,null,null,null,null,null,null,null,null,null,"",{"$f":"IF(AND(F1479>0,G1479>0,H1479>0,I1479>0,J1479>0),AVERAGE($K$12:K1479),\"\")","v":""},"","","","","","","","","",null,null,"",{"$error":"#UNKNOWN!"},"",""]
[1469,null,null,null,null,null,null,null,null,null,"",{"$f":"IF(AND(F1480>0,G1480>0,H1480>0,I1480>0,J1480>0),AVERAGE($K$12:K1480),\"\")","v":""},"","","","","","","","","",null,null,"",{"$error":"#UNKNOWN!"},"",""]
[1470,null,null,null,null,null,null,null,null,null,"",{"$f":"IF(AND(F1481>0,G1481>0,H1481>0,I1481>0,J1481>0),AVERAGE($K$12:K1481),\"\")","v":""},"","","","","","","","","",null,null,"",{"$error":"#UNKNOWN!"},"",""]
[1471,null,null,null,null,null,null,null,null,null,"",{"$f":"IF(AND(F1482>0,G1482>0,H1482>0,I1482>0,J1482>0),AVERAGE($K$12:K1482),\"\")","v":""},"","","","","","","","","",null,null,"",{"$error":"#UNKNOWN!"},{"$f":"IF($P$1=1,S1482,Q1482)","v":""},""]
[1472,null,null,null,null,null,null,null,null,null,"",{"$f":"IF(AND(F1483>0,G1483>0,H1483>0,I1483>0,J1483>0),AVERAGE($K$12:K1483),\"\")","v":""},"","","","",{"$f":"IF(AND(F1483>0,G1483>0,H1483>0,I1483>0,J1483>0),$E$5,\"\")","v":""},{"$f":"IF(AND(F1483>0,G1483>0,H1483>0,I1483>0,J1483>0),$E$5*(-1),\"\")","v":""},{"$f":"IF(AND(F1483>0,G1483>0,H1483>0,I1483>0,J1483>0),$E$6,\"\")","v":""},"",{"$f":"IFERROR(IF(ABS(M1483)<=$E$5,TRUE,FALSE),\"\")","v":""},null,null,"",{"$f":"IF($P$1=1,#N/A,R1483)","v":{"$error":"#UNKNOWN!"}},"",""]
[1473,null,null,null,null,null,null,null,null,null,{"$f":"IF(AND(F1484>0,G1484>0,H1484>0,I1484>0,J1484>0),AVERAGE(F1484:J1484),\"\")","v":""},{"$f":"IF(AND(F1484>0,G1484>0,H1484>0,I1484>0,J1484>0),AVERAGE($K$12:K1484),\"\")","v":""},{"$f":"IF(AND(F1484>0,G1484>0,H1484>0,I1484>0,J1484>0),(K1484-$E$4),\"\")","v":""},"",{"$f":"IF(AND(F1484>0,G1484>0,H1484>0,I1484>0,J1484>0),ROUND(STDEV(F1484:J1484),2),\"\")","v":""},"","","","",{"$f":"IFERROR(IF(OR((ABS(N1484)<=$E$6),(N1484<1)),TRUE,FALSE),\"\")","v":""},"",null,null,{"$f":"IFERROR(MID(C1484,SEARCH(\":\",C1484)+1,10),\"\")","v":""},{"$error":"#UNKNOWN!"},"",{"$f":"IF($P$1=1,N1484,M1484)","v":""}]
[1474,null,null,null,null,null,null,null,null,null,"",{"$f":"IF(AND(F1485>0,G1485>0,H1485>0,I1485>0,J1485>0),AVERAGE($K$12:K1485),\"\")","v":""},"",{"$f":"IF(AND(F1485>0,G1485>0,H1485>0,I1485>0,J1485>0),MAX(F1485:J1485)-MIN(F1485:J1485),\"\")","v":""},"",{"$f":"IF(F1485>0,IF(T1485=FALSE,IF(U1485=FALSE,\"<GA+WHP>\",\"<WHP>\"),IF(U1485=FALSE,\"<GA>\",\"\")) & IF(V1485=TRUE,\"<Trend>\",\"\") & IF(W1485=TRUE,\"<Run>\",\"\")& IF(AND(ABS(T1485+U1485=2),V1485+W1485=0),\"OK\",\"\"),\"\")","v":""},"","","","","",null,null,"",{"$error":"#UNKNOWN!"},"",""]
[1475,null,null,null,null,null,null,null,null,null,"",{"$f":"IF(AND(F1486>0,G1486>0,H1486>0,I1486>0,J1486>0),AVERAGE($K$12:K1486),\"\")","v":""},"","","","","","","","","",null,null,"",{"$error":"#UNKNOWN!"},"",""]
[1476,null,null,null,null,null,null,null,null,null,"",{"$f":"IF(AND(F1487>0,G1487>0,H1487>0,I1487>0,J1487>0),AVERAGE($K$12:K1487),\"\")","v":""},"","","","","","","","","",null,null,"",{"$error":"#UNKNOWN!"},"",""]
[1477,null,null,null,null,null,null,null,null,null,"",{"$f":"IF(AND(F1488>0,G1488>0,H1488>0,I1488>0,J1488>0),AVERAGE($K$12:K1488),\"\")","v":""},"","","","","","","","","",null,null,"",{"$error":"#UNKNOWN!"},"",""]
[1478,null,null,null,null,null,null,null,null,null,"",{"$f":"IF(AND(F1489>0,G1489>0,H1489>0,I1489>0,J1489>0),AVERAGE($K$12:K1489),\"\")","v":""},"","","","","","","","","",{"$f":"OR(AND(K1489>K1488,K1488>K1487,K1487>K1486,K1486>K1485,K1485>K1484,K1484>K1483),AND(K1489<K1488,K1488<K1487,K1487<K1486,K1486<K1485,K1485<K1484,K1484<K1483))","v":null},{"$f":"OR(AND(K1489>L1489,K1488>L1489,K1487>L1489,K1486>L1489,K1485>L1489,K1484>L1489,K1483>L1489),AND(K1489<L1489,K1488<L1489,K1487<L1489,K1486<L1489,K1485<L1489,K1484<L1489,K1483<L1489))","v":null},"",{"$error":"#UNKNOWN!"},"",""]
[1479,null,null,null,null,null,null,null,null,null,"",{"$f":"IF(AND(F1490>0,G1490>0,H1490>0,I1490>0,J1490>0),AVERAGE($K$12:K1490),\"\")","v":""},"","","","","","","","","",null,{"$f":"OR(AND(K1490>L1490,K1489>L1490,K1488>L1490,K1487>L1490,K1486>L1490,K1485>L1490,K1484>L1490),AND(K1490<L1490,K1489<L1490,K1488<L1490,K1487<L1490,K1486<L1490,K1485<L1490,K1484<L1490))","v":null},"",{"$error":"#UNKNOWN!"},"",""]
[1480,null,null,null,null,null,null,null,null,null,"",{"$f":"IF(AND(F1491>0,G1491>0,H1491>0,I1491>0,J1491>0),AVERAGE($K$12:K1491),\"\")","v":""},"","","","","","","","","",null,null,"",{"$error":"#UNKNOWN!"},"",""]
[1481,null,null,null,null,null,null,null,null,null,"",{"$f":"IF(AND(F1492>0,G1492>0,H1492>0,I1492>0,J1492>0),AVERAGE($K$12:K1492),\"\")","v":""},"","","","","","","","","",null,null,"",{"$error":"#UNKNOWN!"},"",""]
[1482,null,null,null,null,null,null,null,null,null,"",{"$f":"IF(AND(F1493>0,G1493>0,H1493>0,I1493>0,J1493>0),AVERAGE($K$12:K1493),\"\")","v":""},"","","","","","","","","",null,null,"",{"$error":"#UNKNOWN!"},"",""]
[1483,null,null,null,null,null,null,null,null,null,"",{"$f":"IF(AND(F1494>0,G1494>0,H1494>0,I1494>0,J1494>0),AVERAGE($K$12:K1494),\"\")","v":""},"","","","","","","","","",null,null,"",{"$error":"#UNKNOWN!"},"",""]
[1484,null,null,null,null,null,null,null,null,null,"",{"$f":"IF(AND(F1495>0,G1495>0,H1495>0,I1495>0,J1495>0),AVERAGE($K$12:K1495),\"\")","v":""},"","","","","","","","","",null,null,"",{"$error":"#UNKNOWN!"},"",""]
[1485,null,null,null,null,null,null,null,null,null,"",{"$f":"IF(AND(F1496>0,G1496>0,H1496>0,I1496>0,J1496>0),AVERAGE($K$12:K1496),\"\")","v":""},"","","","","","","","","",null,null,"",{"$error":"#UNKNOWN!"},"",""]
[1486,null,null,null,null,null,null,null,null,null,"",{"$f":"IF(AND(F1497>0,G1497>0,H1497>0,I1497>0,J1497>0),AVERAGE($K$12:K1497),\"\")","v":""},"","","","","","","","","",null,null,"",{"$error":"#UNKNOWN!"},"",""]
[1487,null,null,null,null,null,null,null,null,null,"",{"$f":"IF(AND(F1498>0,G1498>0,H1498>0,I1498>0,J1498>0),AVERAGE($K$12:K1498),\"\")","v":""},"","","","","","","","","",null,null,"",{"$error":"#UNKNOWN!"},"",""]
[1488,null,null,null,null,null,null,null,null,null,"",{"$f":"IF(AND(F1499>0,G1499>0,H1499>0,I1499>0,J1499>0),AVERAGE($K$12:K1499),\"\")","v":""},"","","","","","","","","",null,null,"",{"$error":"#UNKNOWN!"},"",""]
[1489,null,null,null,null,null,null,null,null,null,"",{"$f":"IF(AND(F1500>0,G1500>0,H1500>0,I1500>0,J1500>0),AVERAGE($K$12:K1500),\"\")","v":""},"","","","","","","","","",null,null,"",{"$error":"#UNKNOWN!"},"",""]
[1490,null,null,null,null,null,null,null,null,null,"",{"$f":"IF(AND(F1501>0,G1501>0,H1501>0,I1501>0,J1501>0),AVERAGE($K$12:K1501),\"\")","v":""},"","","","","","","","","",null,null,"",{"$error":"#UNKNOWN!"},"",""]
[1491,null,null,null,null,null,null,null,null,null,"",{"$f":"IF(AND(F1502>0,G1502>0,H1502>0,I1502>0,J1502>0),AVERAGE($K$12:K1502),\"\")","v":""},"","","","","","","","","",null,null,"",{"$error":"#UNKNOWN!"},"",""]
[1492,null,null,null,null,null,null,null,null,null,"",{"$f":"IF(AND(F1503>0,G1503>0,H1503>0,I1503>0,J1503>0),AVERAGE($K$12:K1503),\"\")","v":""},"","","","","","","","","",null,null,"",{"$error":"#UNKNOWN!"},"",""]
[1493,null,null,null,null,null,null,null,null,null,"",{"$f":"IF(AND(F1504>0,G1504>0,H1504>0,I1504>0,J1504>0),AVERAGE($K$12:K1504),\"\")","v":""},"","","","","","","","","",null,null,"",{"$error":"#UNKNOWN!"},"",""]
[1494,null,null,null,null,null,null,null,null,null,"",{"$f":"IF(AND(F1505>0,G1505>0,H1505>0,I1505>0,J1505>0),AVERAGE($K$12:K1505),\"\")","v":""},"","","","","","","","","",null,null,"",{"$error":"#UNKNOWN!"},"",""]
[1495,null,null,null,null,null,null,null,null,null,"",{"$f":"IF(AND(F1506>0,G1506>0,H1506>0,I1506>0,J1506>0),AVERAGE($K$12:K1506),\"\")","v":""},"","","","","","","","","",null,null,"",{"$error":"#UNKNOWN!"},"",""]
[1496,null,null,null,null,null,null,null,null,null,"",{"$f":"IF(AND(F1507>0,G1507>0,H1507>0,I1507>0,J1507>0),AVERAGE($K$12:K1507),\"\")","v":""},"","","","","","","","","",null,null,"",{"$error":"#UNKNOWN!"},"",""]
[1497,null,null,null,null,null,null,null,null,null,"",{"$f":"IF(AND(F1508>0,G1508>0,H1508>0,I1508>0,J1508>0),AVERAGE($K$12:K1508),\"\")","v":""},"","","","","","","","","",null,null,"",{"$error":"#UNKNOWN!"},"",""]
[1498,null,null,null,null,null,null,null,null,null,"",{"$f":"IF(AND(F1509>0,G1509>0,H1509>0,I1509>0,J1509>0),AVERAGE($K$12:K1509),\"\")","v":""},"","","","","","","","","",null,null,"",{"$error":"#UNKNOWN!"},"",""]
[1499,null,null,null,null,null,null,null,null,null,"",{"$f":"IF(AND(F1510>0,G1510>0,H1510>0,I1510>0,J1510>0),AVERAGE($K$12:K1510),\"\")","v":""},"","","","","","","","","",null,null,"",{"$error":"#UNKNOWN!"},"",""]
[1500,null,null,null,null,null,null,null,null,null,"",{"$f":"IF(AND(F1511>0,G1511>0,H1511>0,I1511>0,J1511>0),AVERAGE($K$12:K1511),\"\")","v":""},"","","","","","","","","",null,null,"",{"$error":"#UNKNOWN!"},"",""]

{"sheet":"Uncertainty","index":4,"n_rows":1511,"n_cols":249,"rows_kept":1511,"cut":false,"hidden":false,"merged":[[0,0,0,19],[1,0,1,20]]}
["Messunsicherheit Methode M2 nach DIN EN ISO / Uncertainty of measurement method M2  according ISO"]
[]
[null,null,null,null,"Härtevergleichsplatte / Hardness reference block: ",null,null,null,"Firma / Company:",{"$f":"IF(Setup!H5<>\"\",Setup!H5,\"\")","v":""},null,null,null,null,null,null,"Werksbezeichnung / Factory identification:",{"$f":"IF(Setup!H10<>\"\",Setup!H10,\"\")","v":""},null,"t:",1.1399999999999999]
[null,null,null,null,"Kalibrierte Härte / Calibrated hardness value:",{"$f":"IF(Setup!H21<>\"\",Setup!H21,\"\")","v":null},null,null,"Abteilung / Department:",{"$f":"IF(Setup!H6<>\"\",Setup!H6,\"\")","v":""},null,null,null,null,null,null,"Herstellungsjahr / Year of the production:",{"$f":"IF(Setup!H11<>\"\",Setup!H11,\"\")","v":""},null,"k:",2]
[null,null,null,null,null,null,null,null,"Spezifikation / Specification:",{"$f":"IF(Setup!H7<>\"\",Setup!H7,\"\")","v":""},null,null,null,null,null,null,"Hersteller / Producer:",{"$f":"IF(Setup!H12<>\"\",Setup!H12,\"\")","v":""},null,"ums:",{"$f":"IFERROR(SQRT(J6^2/3)/2,\"\")","v":null}]
[null,null,null,null,null,null,null,null,"Skalenauflösung / Mimimal step:",{"$f":"IF(Setup!H8<>\"\",Setup!H8,\"\")","v":null},null,null,null,null,null,null,"Typ / Type:",{"$f":"IF(Setup!H13<>\"\",Setup!H13,\"\")","v":""},null,"UCRM:",{"$f":"IF(Setup!H22<>\"\",Setup!H22,\"\")","v":null}]
[null,null,null,null,null,null,null,null,"Stichprobenhäufigkeit / Frequency of inspection:",{"$f":"IF(Setup!H9<>\"\",Setup!H9,\"\")","v":""},null,null,null,null,null,null,null,null,null,"uCRM:",{"$f":"IFERROR(U6/2,\"\")","v":null}]
[null,null,null,null,null,null,null,null,null,null,null,null,null,null,null,null,null,null,null,null,null,null,null,null,"Spalte 25","Spalte 26","Spalte 27","Spalte 28","Spalte 29","Spalte 30","Spalte 31","Spalte 32","Spalte 33","Spalte 34","Spalte 35","Spalte 36","Spalte 37","Spalte 38","Spalte 39","Spalte 40","Spalte 41","Spalte 42","Spalte 43","Spalte 44","Spalte 45","Spalte 46","Spalte 47","Spalte 48","Spalte 49","Spalte 50","Spalte 51","Spalte 52","Spalte 53","Spalte 54","Spalte 55","Spalte 56","Spalte 57","Spalte 58","Spalte 59","Spalte 60","Spalte 61","Spalte 62","Spalte 63","Spalte 64","Spalte 65","Spalte 66","Spalte 67","Spalte 68","Spalte 69","Spalte 70","Spalte 71","Spalte 72","Spalte 73","Spalte 74","Spalte 75","Spalte 76","Spalte 77","Spalte 78","Spalte 79","Spalte 80","Spalte 81","Spalte 82","Spalte 83","Spalte 84","Spalte 85","Spalte 86","Spalte 87","Spalte 88","Spalte 89","Spalte 90","Spalte 91","Spalte 92","Spalte 93","Spalte 94","Spalte 95","Spalte 96","Spalte 97","Spalte 98","Spalte 99","Spalte 100","Spalte 101","Spalte 102","Spalte 103","Spalte 104","Spalte 105","Spalte 106","Spalte 107","Spalte 108","Spalte 109","Spalte 110","Spalte 111","Spalte 112","Spalte 113","Spalte 114","Spalte 115","Spalte 116","Spalte 117","Spalte 118","Spalte 119","Spalte 120","Spalte 121","Spalte 122","Spalte 123","Spalte 124","Spalte 125","Spalte 126","Spalte 127","Spalte 128","Spalte 129","Spalte 130","Spalte 131","Spalte 132","Spalte 133","Spalte 134","Spalte 135","Spalte 136","Spalte 137","Spalte 138","Spalte 139","Spalte 140","Spalte 141","Spalte 142","Spalte 143","Spalte 144","Spalte 145","Spalte 146","Spalte 147","Spalte 148","Spalte 149","Spalte 150","Spalte 151","Spalte 152","Spalte 153","Spalte 154","Spalte 155","Spalte 156","Spalte 157","Spalte 158","Spalte 159","Spalte 160","Spalte 161","Spalte 162","Spalte 163","Spalte 164","Spalte 165","Spalte 166","Spalte 167","Spalte 168","Spalte 169","Spalte 170","Spalte 171","Spalte 172","Spalte 173","Spalte 174","Spalte 175","Spalte 176","Spalte 177","Spalte 178","Spalte 179","Spalte 180","Spalte 181","Spalte 182","Spalte 183","Spalte 184","Spalte 185","Spalte 186","Spalte 187","Spalte 188","Spalte 189","Spalte 190","Spalte 191","Spalte 192","Spalte 193","Spalte 194","Spalte 195","Spalte 196","Spalte 197","Spalte 198","Spalte 199","Spalte 200","Spalte 201","Spalte 202","Spalte 203","Spalte 204","Spalte 205","Spalte 206","Spalte 207","Spalte 208","Spalte 209","Spalte 210","Spalte 211","Spalte 212","Spalte 213","Spalte 214","Spalte 215","Spalte 216","Spalte 217","Spalte 218","Spalte 219","Spalte 220","Spalte 221","Spalte 222","Spalte 223","Spalte 224","Spalte 225","Spalte 226","Spalte 227","Spalte 228","Spalte 229","Spalte 230","Spalte 231","Spalte 232","Spalte 233","Spalte 234","Spalte 235","Spalte 236","Spalte 237","Spalte 238","Spalte 239","Spalte 240","Spalte 241","Spalte 242","Spalte 243","Spalte 244","Spalte 245","Spalte 246","Spalte 247","Spalte 248","Spalte 249"]
[null,null,null,null,null,null,null,null,null,null,null,null,null,null,null,null,null,null,null,null,null,"t=Studentsfaktor\nStandartabweichung aus der Mittelwerte",null,null,1,1,1,1,1,1,1,1,{"$f":"Y9+1","v":null},{"$f":"Z9+1","v":null},null,null,null,null,null,null,null,null,null,null,null,null,null,null,null,null,null,null,null,null,null,null,null,null,null,null,null,null,null,null,null,null,null,null,null,null,null,null,null,null,null,null,null,null,null,null,null,null,null,null,null,null,null,null,null,null,null,null,null,null,null,null,null,{"$f":"CL9+1","v":null},null,null,null,null,null,null,null,null,null,null,null,null,null,null,null,null,null,null,null,null,null,null,null,null,null,null,null,null,null,null,null,null,null,null,null,null,null,null,null,null,null,null,null,null,null,null,null,null,null,null,null,null,null,null,null,null,null,null,null,null,null,null,null,{"$f":"EX9+1","v":null},null,null,null,null,null,null,null,null,null,null,null,null,null,null,null,null,null,null,null,null,null,null,null,null,null,null,null,null,null,null,null,null,null,null,null,null,null,null,null,null,null,null,null,null,null,null,null,null,null,null,null,null,null,null,null,null,null,null,null,null,null,null,null,{"$f":"HJ9+1","v":null}]
["Nummer / No","Prüfer /\nOperator","Datum /\nDate","Bemerkungen,\nMaterialien /\nRemarks,\nmaterials","Proben-nummer / Sample number","Probe Messung / Sample Test\n1","Probe Messung / Sample Test\n2","Probe Messung / Sample Test\n3","Probe Messung / Sample Test\n4","Probe Messung / Sample Test\n5",null,null,null,null,null,"Probe\nMittelwert /\nMean\nof sample","Messabweichung /\nDeviation of the hardness (bias)","Messabwei-\nchung\nüber alle Werte /\nBias of all values","Ergebnis ohne Korrektur /\nResult without correction","Ergebnis mit Korrektur /\nResult with correction","Anzahl Zusatz-\nmessungen /\nCount of\nadditional measurements max. 28","Studentsfaktor\n\nt","Sb","Mittelwert der Probe Messung xquer","Prüfer /\nOperator","Bemerkungen,\nMaterialien /\nRemarks,\nmaterials","Proben-nummer / Sample number ","Probe Messung / Sample Test\n1","Probe Messung / Sample Test\n2","Probe Messung / Sample Test\n3","Probe Messung / Sample Test\n4","Probe Messung / Sample Test\n5","Prüfer /\nOperator","Bemerkungen,\nMaterialien /\nRemarks,\nmaterials","Proben-nummer / Sample number ","Probe Messung / Sample Test\n1","Probe Messung / Sample Test\n2","Probe Messung / Sample Test\n3","Probe Messung / Sample Test\n4","Probe Messung / Sample Test\n5","Prüfer /\nOperator","Bemerkungen,\nMaterialien /\nRemarks,\nmaterials","Proben-nummer / Sample number ","Probe Messung / Sample Test\n1","Probe Messung / Sample Test\n2","Probe Messung / Sample Test\n3","Probe Messung / Sample Test\n4","Probe Messung / Sample Test\n5","Prüfer /\nOperator","Bemerkungen,\nMaterialien /\nRemarks,\nmaterials","Proben-nummer / Sample number ","Probe Messung / Sample Test\n1","Probe Messung / Sample Test\n2","Probe Messung / Sample Test\n3","Probe Messung / Sample Test\n4","Probe Messung / Sample Test\n5","Prüfer /\nOperator","Bemerkungen,\nMaterialien /\nRemarks,\nmaterials","Proben-nummer / Sample number ","Probe Messung / Sample Test\n1","Probe Messung / Sample Test\n2","Probe Messung / Sample Test\n3","Probe Messung / Sample Test\n4","Probe Messung / Sample Test\n5","Prüfer /\nOperator","Bemerkungen,\nMaterialien /\nRemarks,\nmaterials","Proben-nummer / Sample number ","Probe Messung / Sample Test\n1","Probe Messung / Sample Test\n2","Probe Messung / Sample Test\n3","Probe Messung / Sample Test\n4","Probe Messung / Sample Test\n5","Prüfer /\nOperator","Bemerkungen,\nMaterialien /\nRemarks,\nmaterials","Proben-nummer / Sample number ","Probe Messung / Sample Test\n1","Probe Messung / Sample Test\n2","Probe Messung / Sample Test\n3","Probe Messung / Sample Test\n4","Probe Messung / Sample Test\n5","Prüfer /\nOperator","Bemerkungen,\nMaterialien /\nRemarks,\nmaterials","Proben-nummer / Sample number ","Probe Messung / Sample Test\n1","Probe Messung / Sample Test\n2","Probe Messung / Sample Test\n3","Probe Messung / Sample Test\n4","Probe Messung / Sample Test\n5","Prüfer /\nOperator","Bemerkungen,\nMaterialien /\nRemarks,\nmaterials","Proben-nummer / Sample number ","Probe Messung / Sample Test\n1","Probe Messung / Sample Test\n2","Probe Messung / Sample Test\n3","Probe Messung / Sample Test\n4","Probe Messung / Sample Test\n5","Prüfer /\nOperator","Bemerkungen,\nMaterialien /\nRemarks,\nmaterials","Proben-nummer / Sample number ","Probe Messung / Sample Test\n1","Probe Messung / Sample Test\n2","Probe Messung / Sample Test\n3","Probe Messung / Sample Test\n4","Probe Messung / Sample Test\n5","Prüfer /\nOperator","Bemerkungen,\nMaterialien /\nRemarks,\nmaterials","Proben-nummer / Sample number ","Probe Messung / Sample Test\n1","Probe Messung / Sample Test\n2","Probe Messung / Sample Test\n3","Probe Messung / Sample Test\n4","Probe Messung / Sample Test\n5","Prüfer /\nOperator","Bemerkungen,\nMaterialien /\nRemarks,\nmaterials","Proben-nummer / Sample number ","Probe Messung / Sample Test\n1","Probe Messung / Sample Test\n2","Probe Messung / Sample Test\n3","Probe Messung / Sample Test\n4","Probe Messung / Sample Test\n5","Prüfer /\nOperator","Bemerkungen,\nMaterialien /\nRemarks,\nmaterials","Proben-nummer / Sample number ","Probe Messung / Sample Test\n1","Probe Messung / Sample Test\n2","Probe Messung / Sample Test\n3","Probe Messung / Sample Test\n4","Probe Messung / Sample Test\n5","Prüfer /\nOperator","Bemerkungen,\nMaterialien /\nRemarks,\nmaterials","Proben-nummer / Sample number ","Probe Messung / Sample Test\n1","Probe Messung / Sample Test\n2","Probe Messung / Sample Test\n3","Probe Messung / Sample Test\n4","Probe Messung / Sample Test\n5","Prüfer /\nOperator","Bemerkungen,\nMaterialien /\nRemarks,\nmaterials","Proben-nummer / Sample number ","Probe Messung / Sample Test\n1","Probe Messung / Sample Test\n2","Probe Messung / Sample Test\n3","Probe Messung / Sample Test\n4","Probe Messung / Sample Test\n5","Prüfer /\nOperator","Bemerkungen,\nMaterialien /\nRemarks,\nmaterials","Proben-nummer / Sample number ","Probe Messung / Sample Test\n1","Probe Messung / Sample Test\n2","Probe Messung / Sample Test\n3","Probe Messung / Sample Test\n4","Probe Messung / Sample Test\n5","Prüfer /\nOperator","Bemerkungen,\nMaterialien /\nRemarks,\nmaterials","Proben-nummer / Sample number ","Probe Messung / Sample Test\n1","Probe Messung / Sample Test\n2","Probe Messung / Sample Test\n3","Probe Messung / Sample Test\n4","Probe Messung / Sample Test\n5","Prüfer /\nOperator","Bemerkungen,\nMaterialien /\nRemarks,\nmaterials","Proben-nummer / Sample number ","Probe Messung / Sample Test\n1","Probe Messung / Sample Test\n2","Probe Messung / Sample Test\n3","Probe Messung / Sample Test\n4","Probe Messung / Sample Test\n5","Prüfer /\nOperator","Bemerkungen,\nMaterialien /\nRemarks,\nmaterials","Proben-nummer / Sample number ","Probe Messung / Sample Test\n1","Probe Messung / Sample Test\n2","Probe Messung / Sample Test\n3","Probe Messung / Sample Test\n4","Probe Messung / Sample Test\n5","Prüfer /\nOperator","Bemerkungen,\nMaterialien /\nRemarks,\nmaterials","Proben-nummer / Sample number ","Probe Messung / Sample Test\n1","Probe Messung / Sample Test\n2","Probe Messung / Sample Test\n3","Probe Messung / Sample Test\n4","Probe Messung / Sample Test\n5","Prüfer /\nOperator","Bemerkungen,\nMaterialien /\nRemarks,\nmaterials","Proben-nummer / Sample number ","Probe Messung / Sample Test\n1","Probe Messung / Sample Test\n2","Probe Messung / Sample Test\n3","Probe Messung / Sample Test\n4","Probe Messung / Sample Test\n5","Prüfer /\nOperator","Bemerkungen,\nMaterialien /\nRemarks,\nmaterials","Proben-nummer / Sample number ","Probe Messung / Sample Test\n1","Probe Messung / Sample Test\n2","Probe Messung / Sample Test\n3","Probe Messung / Sample Test\n4","Probe Messung / Sample Test\n5","Prüfer /\nOperator","Bemerkungen,\nMaterialien /\nRemarks,\nmaterials","Proben-nummer / Sample number ","Probe Messung / Sample Test\n1","Probe Messung / Sample Test\n2","Probe Messung / Sample Test\n3","Probe Messung / Sample Test\n4","Probe Messung / Sample Test\n5","Prüfer /\nOperator","Bemerkungen,\nMaterialien /\nRemarks,\nmaterials","Proben-nummer / Sample number ","Probe Messung / Sample Test\n1","Probe Messung / Sample Test\n2","Probe Messung / Sample Test\n3","Probe Messung / Sample Test\n4","Probe Messung / Sample Test\n5","Prüfer /\nOperator","Bemerkungen,\nMaterialien /\nRemarks,\nmaterials","Proben-nummer / Sample number ","Probe Messung / Sample Test\n1","Probe Messung / Sample Test\n2","Probe Messung / Sample Test\n3","Probe Messung / Sample Test\n4","Probe Messung / Sample Test\n5","Prüfer /\nOperator","Bemerkungen,\nMaterialien /\nRemarks,\nmaterials","Proben-nummer / Sample number ","Probe Messung / Sample Test\n1","Probe Messung / Sample Test\n2","Probe Messung / Sample Test\n3","Probe Messung / Sample Test\n4","Probe Messung / Sample Test\n5","Prüfer /\nOperator","Bemerkungen,\nMaterialien /\nRemarks,\nmaterials","Proben-nummer / Sample number ","Probe Messung / Sample Test\n1","Probe Messung / Sample Test\n2","Probe Messung / Sample Test\n3","Probe Messung / Sample Test\n4","Probe Messung / Sample Test\n5","Prüfer /\nOperator","Bemerkungen,\nMaterialien /\nRemarks,\nmaterials","Proben-nummer / Sample number ","Probe Messung / Sample Test\n1","Probe Messung / Sample Test\n2","Probe Messung / Sample Test\n3","Probe Messung / Sample Test\n4","Probe Messung / Sample Test\n5","Nummer der nächst möglichen Zusatzprüfung"]
[]
[1,null,{"$f":"RIGHT(Data!C12,10)","v":""},null,null,null,null,null,null,null,{"$f":"IFERROR($U$3*Data!O12/SQRT(COUNT(Data!F12:J12)),\"\")","v":""},"-","-",{"$f":"IF(COUNT(F12:J12)>=5,STDEV(F12:J12)*$U$3/SQRT((COUNT(F12:J12))),\"\")","v":""},"-",{"$f":"IF(AND(F12<>\"\",G12<>\"\",H12<>\"\",I12<>\"\",J12<>\"\"),AVERAGE(F12:J12),\"\")","v":""},{"$f":"IFERROR((Data!K12-$F$4),\"\")","v":""},{"$f":"IF(AND(F12<>\"\",G12<>\"\",H12<>\"\",I12<>\"\",J12<>\"\"),Data!L12-$F$4,\"\")","v":""},"-","-",{"$f":"IF(IO12=\"\",\"\",IO12-1)","v":""},"-","-",{"$f":"IF(F12<>\"\",AVERAGE(F12:J12),\"\")","v":""}]
[2,null,{"$f":"RIGHT(Data!C13,10)","v":""},null,null,null,null,null,null,null,{"$f":"IFERROR($U$3*Data!O13/SQRT(COUNT(Data!F13:J13)),\"\")","v":""},{"$f":"IF(F13<>\"\",V13*W13/SQRT(A13),\"\")","v":""},{"$f":"IF(F13<>\"\",$U$4*SQRT($U$7^2+L13^2+K13^2+$U$5^2),\"\")","v":""},"",{"$f":"IFERROR($U$4*SQRT($U$7^2+L13^2+K13^2+$U$5^2+N13^2),\"\")","v":""},{"$f":"IF(AND(F13<>\"\",G13<>\"\",H13<>\"\",I13<>\"\",J13<>\"\"),AVERAGE(F13:J13),\"\")","v":""},{"$f":"IFERROR((Data!K13-$F$4),\"\")","v":""},{"$f":"IF(AND(F13<>\"\",G13<>\"\",H13<>\"\",I13<>\"\",J13<>\"\"),Data!L13-$F$4,\"\")","v":""},{"$f":"IF(O13<>\"\",FIXED(X13,1) & \" ± \" & FIXED(O13+ABS(R13),2),\"\")","v":""},{"$f":"IF(F13<>\"\",FIXED(AVERAGE(F13:J13)-R13,1) & \" ± \" & FIXED(O13,2),\"\")","v":""},{"$f":"IF(IO13=\"\",\"\",IO13-1)","v":""},{"$f":"IF(F13<>\"\",TINV(1-0.68,A13-1),\"\")","v":""},{"$f":"IF(F13<>\"\",STDEV($Q$12:Q13),\"\")","v":""},""]
[3,null,{"$f":"RIGHT(Data!C14,10)","v":""},null,null,null,null,null,null,null,{"$f":"IFERROR($U$3*Data!O14/SQRT(COUNT(Data!F14:J14)),\"\")","v":""},"","","","","",{"$f":"IFERROR((Data!K14-$F$4),\"\")","v":""},{"$f":"IF(AND(F14<>\"\",G14<>\"\",H14<>\"\",I14<>\"\",J14<>\"\"),Data!L14-$F$4,\"\")","v":""},"","","","",{"$f":"IF(F14<>\"\",STDEV($Q$12:Q14),\"\")","v":""},""]
[4,null,{"$f":"RIGHT(Data!C15,10)","v":""},null,null,null,null,null,null,null,{"$f":"IFERROR($U$3*Data!O15/SQRT(COUNT(Data!F15:J15)),\"\")","v":""},"","","","","",{"$f":"IFERROR((Data!K15-$F$4),\"\")","v":""},{"$f":"IF(AND(F15<>\"\",G15<>\"\",H15<>\"\",I15<>\"\",J15<>\"\"),Data!L15-$F$4,\"\")","v":""},"","","","",{"$f":"IF(F15<>\"\",STDEV($Q$12:Q15),\"\")","v":""},""]
[5,null,{"$f":"RIGHT(Data!C16,10)","v":""},null,null,null,null,null,null,null,{"$f":"IFERROR($U$3*Data!O16/SQRT(COUNT(Data!F16:J16)),\"\")","v":""},"","","","","",{"$f":"IFERROR((Data!K16-$F$4),\"\")","v":""},{"$f":"IF(AND(F16<>\"\",G16<>\"\",H16<>\"\",I16<>\"\",J16<>\"\"),Data!L16-$F$4,\"\")","v":""},"","","","",{"$f":"IF(F16<>\"\",STDEV($Q$12:Q16),\"\")","v":""},""]
[6,null,{"$f":"RIGHT(Data!C17,10)","v":""},null,null,null,null,null,null,null,{"$f":"IFERROR($U$3*Data!O17/SQRT(COUNT(Data!F17:J17)),\"\")","v":""},"","","","","",{"$f":"IFERROR((Data!K17-$F$4),\"\")","v":""},{"$f":"IF(AND(F17<>\"\",G17<>\"\",H17<>\"\",I17<>\"\",J17<>\"\"),Data!L17-$F$4,\"\")","v":""},"","","","",{"$f":"IF(F17<>\"\",STDEV($Q$12:Q17),\"\")","v":""},""]
[7,null,{"$f":"RIGHT(Data!C18,10)","v":""},null,null,null,null,null,null,null,{"$f":"IFERROR($U$3*Data!O18/SQRT(COUNT(Data!F18:J18)),\"\")","v":""},"","","","","",{"$f":"IFERROR((Data!K18-$F$4),\"\")","v":""},{"$f":"IF(AND(F18<>\"\",G18<>\"\",H18<>\"\",I18<>\"\",J18<>\"\"),Data!L18-$F$4,\"\")","v":""},"","","","",{"$f":"IF(F18<>\"\",STDEV($Q$12:Q18),\"\")","v":""},""]
[8,null,{"$f":"RIGHT(Data!C19,10)","v":""},null,null,null,null,null,null,null,{"$f":"IFERROR($U$3*Data!O19/SQRT(COUNT(Data!F19:J19)),\"\")","v":""},"","","","","",{"$f":"IFERROR((Data!K19-$F$4),\"\")","v":""},{"$f":"IF(AND(F19<>\"\",G19<>\"\",H19<>\"\",I19<>\"\",J19<>\"\"),Data!L19-$F$4,\"\")","v":""},"","","","",{"$f":"IF(F19<>\"\",STDEV($Q$12:Q19),\"\")","v":""},""]
[9,null,{"$f":"RIGHT(Data!C20,10)","v":""},null,null,null,null,null,null,null,{"$f":"IFERROR($U$3*Data!O20/SQRT(COUNT(Data!F20:J20)),\"\")","v":""},"","","","","",{"$f":"IFERROR((Data!K20-$F$4),\"\")","v":""},{"$f":"IF(AND(F20<>\"\",G20<>\"\",H20<>\"\",I20<>\"\",J20<>\"\"),Data!L20-$F$4,\"\")","v":""},"","","","",{"$f":"IF(F20<>\"\",STDEV($Q$12:Q20),\"\")","v":""},""]
[10,null,{"$f":"RIGHT(Data!C21,10)","v":""},null,null,null,null,null,null,null,{"$f":"IFERROR($U$3*Data!O21/SQRT(COUNT(Data!F21:J21)),\"\")","v":""},"","","","","",{"$f":"IFERROR((Data!K21-$F$4),\"\")","v":""},{"$f":"IF(AND(F21<>\"\",G21<>\"\",H21<>\"\",I21<>\"\",J21<>\"\"),Data!L21-$F$4,\"\")","v":""},"","","","",{"$f":"IF(F21<>\"\",STDEV($Q$12:Q21),\"\")","v":""},""]
[11,null,{"$f":"RIGHT(Data!C22,10)","v":""},null,null,null,null,null,null,null,{"$f":"IFERROR($U$3*Data!O22/SQRT(COUNT(Data!F22:J22)),\"\")","v":""},"","","","","",{"$f":"IFERROR((Data!K22-$F$4),\"\")","v":""},{"$f":"IF(AND(F22<>\"\",G22<>\"\",H22<>\"\",I22<>\"\",J22<>\"\"),Data!L22-$F$4,\"\")","v":""},"","","","",{"$f":"IF(F22<>\"\",STDEV($Q$12:Q22),\"\")","v":""},""]
[12,null,{"$f":"RIGHT(Data!C23,10)","v":""},null,null,null,null,null,null,null,{"$f":"IFERROR($U$3*Data!O23/SQRT(COUNT(Data!F23:J23)),\"\")","v":""},"","","","","",{"$f":"IFERROR((Data!K23-$F$4),\"\")","v":""},{"$f":"IF(AND(F23<>\"\",G23<>\"\",H23<>\"\",I23<>\"\",J23<>\"\"),Data!L23-$F$4,\"\")","v":""},"","","","",{"$f":"IF(F23<>\"\",STDEV($Q$12:Q23),\"\")","v":""},""]
[13,null,{"$f":"RIGHT(Data!C24,10)","v":""},null,null,null,null,null,null,null,{"$f":"IFERROR($U$3*Data!O24/SQRT(COUNT(Data!F24:J24)),\"\")","v":""},"","","","","",{"$f":"IFERROR((Data!K24-$F$4),\"\")","v":""},{"$f":"IF(AND(F24<>\"\",G24<>\"\",H24<>\"\",I24<>\"\",J24<>\"\"),Data!L24-$F$4,\"\")","v":""},"","","","",{"$f":"IF(F24<>\"\",STDEV($Q$12:Q24),\"\")","v":""},""]
[14,null,{"$f":"RIGHT(Data!C25,10)","v":""},null,null,null,null,null,null,null,{"$f":"IFERROR($U$3*Data!O25/SQRT(COUNT(Data!F25:J25)),\"\")","v":""},"","","","","",{"$f":"IFERROR((Data!K25-$F$4),\"\")","v":""},{"$f":"IF(AND(F25<>\"\",G25<>\"\",H25<>\"\",I25<>\"\",J25<>\"\"),Data!L25-$F$4,\"\")","v":""},"","","","",{"$f":"IF(F25<>\"\",STDEV($Q$12:Q25),\"\")","v":""},""]
[15,null,{"$f":"RIGHT(Data!C26,10)","v":""},null,null,null,null,null,null,null,{"$f":"IFERROR($U$3*Data!O26/SQRT(COUNT(Data!F26:J26)),\"\")","v":""},"","","","","",{"$f":"IFERROR((Data!K26-$F$4),\"\")","v":""},{"$f":"IF(AND(F26<>\"\",G26<>\"\",H26<>\"\",I26<>\"\",J26<>\"\"),Data!L26-$F$4,\"\")","v":""},"","","","",{"$f":"IF(F26<>\"\",STDEV($Q$12:Q26),\"\")","v":""},""]
[16,null,{"$f":"RIGHT(Data!C27,10)","v":""},null,null,null,null,null,null,null,{"$f":"IFERROR($U$3*Data!O27/SQRT(COUNT(Data!F27:J27)),\"\")","v":""},"","","","","",{"$f":"IFERROR((Data!K27-$F$4),\"\")","v":""},{"$f":"IF(AND(F27<>\"\",G27<>\"\",H27<>\"\",I27<>\"\",J27<>\"\"),Data!L27-$F$4,\"\")","v":""},"","","","",{"$f":"IF(F27<>\"\",STDEV($Q$12:Q27),\"\")","v":""},""]
[17,null,{"$f":"RIGHT(Data!C28,10)","v":""},null,null,null,null,null,null,null,{"$f":"IFERROR($U$3*Data!O28/SQRT(COUNT(Data!F28:J28)),\"\")","v":""},"","","","","",{"$f":"IFERROR((Data!K28-$F$4),\"\")","v":""},{"$f":"IF(AND(F28<>\"\",G28<>\"\",H28<>\"\",I28<>\"\",J28<>\"\"),Data!L28-$F$4,\"\")","v":""},"","","","",{"$f":"IF(F28<>\"\",STDEV($Q$12:Q28),\"\")","v":""},""]
[18,null,{"$f":"RIGHT(Data!C29,10)","v":""},null,null,null,null,null,null,null,{"$f":"IFERROR($U$3*Data!O29/SQRT(COUNT(Data!F29:J29)),\"\")","v":""},"","","","","",{"$f":"IFERROR((Data!K29-$F$4),\"\")","v":""},{"$f":"IF(AND(F29<>\"\",G29<>\"\",H29<>\"\",I29<>\"\",J29<>\"\"),Data!L29-$F$4,\"\")","v":""},"","","","",{"$f":"IF(F29<>\"\",STDEV($Q$12:Q29),\"\")","v":""},""]
[19,null,{"$f":"RIGHT(Data!C30,10)","v":""},null,null,null,null,null,null,null,{"$f":"IFERROR($U$3*Data!O30/SQRT(COUNT(Data!F30:J30)),\"\")","v":""},"","","","","",{"$f":"IFERROR((Data!K30-$F$4),\"\")","v":""},{"$f":"IF(AND(F30<>\"\",G30<>\"\",H30<>\"\",I30<>\"\",J30<>\"\"),Data!L30-$F$4,\"\")","v":""},"","","","",{"$f":"IF(F30<>\"\",STDEV($Q$12:Q30),\"\")","v":""},""]
[20,null,{"$f":"RIGHT(Data!C31,10)","v":""},null,null,null,null,null,null,null,{"$f":"IFERROR($U$3*Data!O31/SQRT(COUNT(Data!F31:J31)),\"\")","v":""},"","","","","",{"$f":"IFERROR((Data!K31-$F$4),\"\")","v":""},{"$f":"IF(AND(F31<>\"\",G31<>\"\",H31<>\"\",I31<>\"\",J31<>\"\"),Data!L31-$F$4,\"\")","v":""},"","","","",{"$f":"IF(F31<>\"\",STDEV($Q$12:Q31),\"\")","v":""},""]
[21,null,{"$f":"RIGHT(Data!C32,10)","v":""},null,null,null,null,null,null,null,{"$f":"IFERROR($U$3*Data!O32/SQRT(COUNT(Data!F32:J32)),\"\")","v":""},"","","","","",{"$f":"IFERROR((Data!K32-$F$4),\"\")","v":""},{"$f":"IF(AND(F32<>\"\",G32<>\"\",H32<>\"\",I32<>\"\",J32<>\"\"),Data!L32-$F$4,\"\")","v":""},"","","","",{"$f":"IF(F32<>\"\",STDEV($Q$12:Q32),\"\")","v":""},""]
[22,null,{"$f":"RIGHT(Data!C33,10)","v":""},null,null,null,null,null,null,null,{"$f":"IFERROR($U$3*Data!O33/SQRT(COUNT(Data!F33:J33)),\"\")","v":""},"","","","","",{"$f":"IFERROR((Data!K33-$F$4),\"\")","v":""},{"$f":"IF(AND(F33<>\"\",G33<>\"\",H33<>\"\",I33<>\"\",J33<>\"\"),Data!L33-$F$4,\"\")","v":""},"","","","",{"$f":"IF(F33<>\"\",STDEV($Q$12:Q33),\"\")","v":""},""]
[23,null,{"$f":"RIGHT(Data!C34,10)","v":""},null,null,null,null,null,null,null,{"$f":"IFERROR($U$3*Data!O34/SQRT(COUNT(Data!F34:J34)),\"\")","v":""},"","","","","",{"$f":"IFERROR((Data!K34-$F$4),\"\")","v":""},{"$f":"IF(AND(F34<>\"\",G34<>\"\",H34<>\"\",I34<>\"\",J34<>\"\"),Data!L34-$F$4,\"\")","v":""},"","","","",{"$f":"IF(F34<>\"\",STDEV($Q$12:Q34),\"\")","v":""},""]
[24,null,{"$f":"RIGHT(Data!C35,10)","v":""},null,null,null,null,null,null,null,{"$f":"IFERROR($U$3*Data!O35/SQRT(COUNT(Data!F35:J35)),\"\")","v":""},"","","","","",{"$f":"IFERROR((Data!K35-$F$4),\"\")","v":""},{"$f":"IF(AND(F35<>\"\",G35<>\"\",H35<>\"\",I35<>\"\",J35<>\"\"),Data!L35-$F$4,\"\")","v":""},"","","","",{"$f":"IF(F35<>\"\",STDEV($Q$12:Q35),\"\")","v":""},""]
[25,null,{"$f":"RIGHT(Data!C36,10)","v":""},null,null,null,null,null,null,null,{"$f":"IFERROR($U$3*Data!O36/SQRT(COUNT(Data!F36:J36)),\"\")","v":""},"","","","","",{"$f":"IFERROR((Data!K36-$F$4),\"\")","v":""},{"$f":"IF(AND(F36<>\"\",G36<>\"\",H36<>\"\",I36<>\"\",J36<>\"\"),Data!L36-$F$4,\"\")","v":""},"","","","",{"$f":"IF(F36<>\"\",STDEV($Q$12:Q36),\"\")","v":""},""]
[26,null,{"$f":"RIGHT(Data!C37,10)","v":""},null,null,null,null,null,null,null,{"$f":"IFERROR($U$3*Data!O37/SQRT(COUNT(Data!F37:J37)),\"\")","v":""},"","","","","",{"$f":"IFERROR((Data!K37-$F$4),\"\")","v":""},{"$f":"IF(AND(F37<>\"\",G37<>\"\",H37<>\"\",I37<>\"\",J37<>\"\"),Data!L37-$F$4,\"\")","v":""},"","","","",{"$f":"IF(F37<>\"\",STDEV($Q$12:Q37),\"\")","v":""},""]
[27,null,{"$f":"RIGHT(Data!C38,10)","v":""},null,null,null,null,null,null,null,{"$f":"IFERROR($U$3*Data!O38/SQRT(COUNT(Data!F38:J38)),\"\")","v":""},"","","","","",{"$f":"IFERROR((Data!K38-$F$4),\"\")","v":""},{"$f":"IF(AND(F38<>\"\",G38<>\"\",H38<>\"\",I38<>\"\",J38<>\"\"),Data!L38-$F$4,\"\")","v":""},"","","","",{"$f":"IF(F38<>\"\",STDEV($Q$12:Q38),\"\")","v":""},""]
[28,null,{"$f":"RIGHT(Data!C39,10)","v":""},null,null,null,null,null,null,null,{"$f":"IFERROR($U$3*Data!O39/SQRT(COUNT(Data!F39:J39)),\"\")","v":""},"","","","","",{"$f":"IFERROR((Data!K39-$F$4),\"\")","v":""},{"$f":"IF(AND(F39<>\"\",G39<>\"\",H39<>\"\",I39<>\"\",J39<>\"\"),Data!L39-$F$4,\"\")","v":""},"","","","",{"$f":"IF(F39<>\"\",STDEV($Q$12:Q39),\"\")","v":""},""]
[29,null,{"$f":"RIGHT(Data!C40,10)","v":""},null,null,null,null,null,null,null,{"$f":"IFERROR($U$3*Data!O40/SQRT(COUNT(Data!F40:J40)),\"\")","v":""},"","","","","",{"$f":"IFERROR((Data!K40-$F$4),\"\")","v":""},{"$f":"IF(AND(F40<>\"\",G40<>\"\",H40<>\"\",I40<>\"\",J40<>\"\"),Data!L40-$F$4,\"\")","v":""},"","","","",{"$f":"IF(F40<>\"\",STDEV($Q$12:Q40),\"\")","v":""},""]
[30,null,{"$f":"RIGHT(Data!C41,10)","v":""},null,null,null,null,null,null,null,{"$f":"IFERROR($U$3*Data!O41/SQRT(COUNT(Data!F41:J41)),\"\")","v":""},"","","","","",{"$f":"IFERROR((Data!K41-$F$4),\"\")","v":""},{"$f":"IF(AND(F41<>\"\",G41<>\"\",H41<>\"\",I41<>\"\",J41<>\"\"),Data!L41-$F$4,\"\")","v":""},"","","","",{"$f":"IF(F41<>\"\",STDEV($Q$12:Q41),\"\")","v":""},""]
[31,null,{"$f":"RIGHT(Data!C42,10)","v":""},null,null,null,null,null,null,null,{"$f":"IFERROR($U$3*Data!O42/SQRT(COUNT(Data!F42:J42)),\"\")","v":""},"","","","","",{"$f":"IFERROR((Data!K42-$F$4),\"\")","v":""},{"$f":"IF(AND(F42<>\"\",G42<>\"\",H42<>\"\",I42<>\"\",J42<>\"\"),Data!L42-$F$4,\"\")","v":""},"","","","",{"$f":"IF(F42<>\"\",STDEV($Q$12:Q42),\"\")","v":""},""]
[32,null,{"$f":"RIGHT(Data!C43,10)","v":""},null,null,null,null,null,null,null,{"$f":"IFERROR($U$3*Data!O43/SQRT(COUNT(Data!F43:J43)),\"\")","v":""},"","","","","",{"$f":"IFERROR((Data!K43-$F$4),\"\")","v":""},{"$f":"IF(AND(F43<>\"\",G43<>\"\",H43<>\"\",I43<>\"\",J43<>\"\"),Data!L43-$F$4,\"\")","v":""},"","","","",{"$f":"IF(F43<>\"\",STDEV($Q$12:Q43),\"\")","v":""},""]
[33,null,{"$f":"RIGHT(Data!C44,10)","v":""},null,null,null,null,null,null,null,{"$f":"IFERROR($U$3*Data!O44/SQRT(COUNT(Data!F44:J44)),\"\")","v":""},"","","","","",{"$f":"IFERROR((Data!K44-$F$4),\"\")","v":""},{"$f":"IF(AND(F44<>\"\",G44<>\"\",H44<>\"\",I44<>\"\",J44<>\"\"),Data!L44-$F$4,\"\")","v":""},"","","","",{"$f":"IF(F44<>\"\",STDEV($Q$12:Q44),\"\")","v":""},""]
[34,null,{"$f":"RIGHT(Data!C45,10)","v":""},null,null,null,null,null,null,null,{"$f":"IFERROR($U$3*Data!O45/SQRT(COUNT(Data!F45:J45)),\"\")","v":""},"","","","","",{"$f":"IFERROR((Data!K45-$F$4),\"\")","v":""},{"$f":"IF(AND(F45<>\"\",G45<>\"\",H45<>\"\",I45<>\"\",J45<>\"\"),Data!L45-$F$4,\"\")","v":""},"","","","",{"$f":"IF(F45<>\"\",STDEV($Q$12:Q45),\"\")","v":""},""]
[35,null,{"$f":"RIGHT(Data!C46,10)","v":""},null,null,null,null,null,null,null,{"$f":"IFERROR($U$3*Data!O46/SQRT(COUNT(Data!F46:J46)),\"\")","v":""},"","","","","",{"$f":"IFERROR((Data!K46-$F$4),\"\")","v":""},{"$f":"IF(AND(F46<>\"\",G46<>\"\",H46<>\"\",I46<>\"\",J46<>\"\"),Data!L46-$F$4,\"\")","v":""},"","","","",{"$f":"IF(F46<>\"\",STDEV($Q$12:Q46),\"\")","v":""},""]
[36,null,{"$f":"RIGHT(Data!C47,10)","v":""},null,null,null,null,null,null,null,{"$f":"IFERROR($U$3*Data!O47/SQRT(COUNT(Data!F47:J47)),\"\")","v":""},"","","","","",{"$f":"IFERROR((Data!K47-$F$4),\"\")","v":""},{"$f":"IF(AND(F47<>\"\",G47<>\"\",H47<>\"\",I47<>\"\",J47<>\"\"),Data!L47-$F$4,\"\")","v":""},"","","","",{"$f":"IF(F47<>\"\",STDEV($Q$12:Q47),\"\")","v":""},""]
[37,null,{"$f":"RIGHT(Data!C48,10)","v":""},null,null,null,null,null,null,null,{"$f":"IFERROR($U$3*Data!O48/SQRT(COUNT(Data!F48:J48)),\"\")","v":""},"","","","","",{"$f":"IFERROR((Data!K48-$F$4),\"\")","v":""},{"$f":"IF(AND(F48<>\"\",G48<>\"\",H48<>\"\",I48<>\"\",J48<>\"\"),Data!L48-$F$4,\"\")","v":""},"","","","",{"$f":"IF(F48<>\"\",STDEV($Q$12:Q48),\"\")","v":""},""]
[38,null,{"$f":"RIGHT(Data!C49,10)","v":""},null,null,null,null,null,null,null,{"$f":"IFERROR($U$3*Data!O49/SQRT(COUNT(Data!F49:J49)),\"\")","v":""},"","","","","",{"$f":"IFERROR((Data!K49-$F$4),\"\")","v":""},{"$f":"IF(AND(F49<>\"\",G49<>\"\",H49<>\"\",I49<>\"\",J49<>\"\"),Data!L49-$F$4,\"\")","v":""},"","","","",{"$f":"IF(F49<>\"\",STDEV($Q$12:Q49),\"\")","v":""},""]
[39,null,{"$f":"RIGHT(Data!C50,10)","v":""},null,null,null,null,null,null,null,{"$f":"IFERROR($U$3*Data!O50/SQRT(COUNT(Data!F50:J50)),\"\")","v":""},"","","","","",{"$f":"IFERROR((Data!K50-$F$4),\"\")","v":""},{"$f":"IF(AND(F50<>\"\",G50<>\"\",H50<>\"\",I50<>\"\",J50<>\"\"),Data!L50-$F$4,\"\")","v":""},"","","","",{"$f":"IF(F50<>\"\",STDEV($Q$12:Q50),\"\")","v":""},""]
[40,null,{"$f":"RIGHT(Data!C51,10)","v":""},null,null,null,null,null,null,null,{"$f":"IFERROR($U$3*Data!O51/SQRT(COUNT(Data!F51:J51)),\"\")","v":""},"","","","","",{"$f":"IFERROR((Data!K51-$F$4),\"\")","v":""},{"$f":"IF(AND(F51<>\"\",G51<>\"\",H51<>\"\",I51<>\"\",J51<>\"\"),Data!L51-$F$4,\"\")","v":""},"","","","",{"$f":"IF(F51<>\"\",STDEV($Q$12:Q51),\"\")","v":""},""]
[41,null,{"$f":"RIGHT(Data!C52,10)","v":""},null,null,null,null,null,null,null,{"$f":"IFERROR($U$3*Data!O52/SQRT(COUNT(Data!F52:J52)),\"\")","v":""},"","","","","",{"$f":"IFERROR((Data!K52-$F$4),\"\")","v":""},{"$f":"IF(AND(F52<>\"\",G52<>\"\",H52<>\"\",I52<>\"\",J52<>\"\"),Data!L52-$F$4,\"\")","v":""},"","","","",{"$f":"IF(F52<>\"\",STDEV($Q$12:Q52),\"\")","v":""},""]
[42,null,{"$f":"RIGHT(Data!C53,10)","v":""},null,null,null,null,null,null,null,{"$f":"IFERROR($U$3*Data!O53/SQRT(COUNT(Data!F53:J53)),\"\")","v":""},"","","","","",{"$f":"IFERROR((Data!K53-$F$4),\"\")","v":""},{"$f":"IF(AND(F53<>\"\",G53<>\"\",H53<>\"\",I53<>\"\",J53<>\"\"),Data!L53-$F$4,\"\")","v":""},"","","","",{"$f":"IF(F53<>\"\",STDEV($Q$12:Q53),\"\")","v":""},""]
[43,null,{"$f":"RIGHT(Data!C54,10)","v":""},null,null,null,null,null,null,null,{"$f":"IFERROR($U$3*Data!O54/SQRT(COUNT(Data!F54:J54)),\"\")","v":""},"","","","","",{"$f":"IFERROR((Data!K54-$F$4),\"\")","v":""},{"$f":"IF(AND(F54<>\"\",G54<>\"\",H54<>\"\",I54<>\"\",J54<>\"\"),Data!L54-$F$4,\"\")","v":""},"","","","",{"$f":"IF(F54<>\"\",STDEV($Q$12:Q54),\"\")","v":""},""]
[44,null,{"$f":"RIGHT(Data!C55,10)","v":""},null,null,null,null,null,null,null,{"$f":"IFERROR($U$3*Data!O55/SQRT(COUNT(Data!F55:J55)),\"\")","v":""},"","","","","",{"$f":"IFERROR((Data!K55-$F$4),\"\")","v":""},{"$f":"IF(AND(F55<>\"\",G55<>\"\",H55<>\"\",I55<>\"\",J55<>\"\"),Data!L55-$F$4,\"\")","v":""},"","","","",{"$f":"IF(F55<>\"\",STDEV($Q$12:Q55),\"\")","v":""},""]
[45,null,{"$f":"RIGHT(Data!C56,10)","v":""},null,null,null,null,null,null,null,{"$f":"IFERROR($U$3*Data!O56/SQRT(COUNT(Data!F56:J56)),\"\")","v":""},"","","","","",{"$f":"IFERROR((Data!K56-$F$4),\"\")","v":""},{"$f":"IF(AND(F56<>\"\",G56<>\"\",H56<>\"\",I56<>\"\",J56<>\"\"),Data!L56-$F$4,\"\")","v":""},"","","","",{"$f":"IF(F56<>\"\",STDEV($Q$12:Q56),\"\")","v":""},""]
[46,null,{"$f":"RIGHT(Data!C57,10)","v":""},null,null,null,null,null,null,null,{"$f":"IFERROR($U$3*Data!O57/SQRT(COUNT(Data!F57:J57)),\"\")","v":""},"","","","","",{"$f":"IFERROR((Data!K57-$F$4),\"\")","v":""},{"$f":"IF(AND(F57<>\"\",G57<>\"\",H57<>\"\",I57<>\"\",J57<>\"\"),Data!L57-$F$4,\"\")","v":""},"","","","",{"$f":"IF(F57<>\"\",STDEV($Q$12:Q57),\"\")","v":""},""]
[47,null,{"$f":"RIGHT(Data!C58,10)","v":""},null,null,null,null,null,null,null,{"$f":"IFERROR($U$3*Data!O58/SQRT(COUNT(Data!F58:J58)),\"\")","v":""},"","","","","",{"$f":"IFERROR((Data!K58-$F$4),\"\")","v":""},{"$f":"IF(AND(F58<>\"\",G58<>\"\",H58<>\"\",I58<>\"\",J58<>\"\"),Data!L58-$F$4,\"\")","v":""},"","","","",{"$f":"IF(F58<>\"\",STDEV($Q$12:Q58),\"\")","v":""},""]
[48,null,{"$f":"RIGHT(Data!C59,10)","v":""},null,null,null,null,null,null,null,{"$f":"IFERROR($U$3*Data!O59/SQRT(COUNT(Data!F59:J59)),\"\")","v":""},"","","","","",{"$f":"IFERROR((Data!K59-$F$4),\"\")","v":""},{"$f":"IF(AND(F59<>\"\",G59<>\"\",H59<>\"\",I59<>\"\",J59<>\"\"),Data!L59-$F$4,\"\")","v":""},"","","","",{"$f":"IF(F59<>\"\",STDEV($Q$12:Q59),\"\")","v":""},""]
[49,null,{"$f":"RIGHT(Data!C60,10)","v":""},null,null,null,null,null,null,null,{"$f":"IFERROR($U$3*Data!O60/SQRT(COUNT(Data!F60:J60)),\"\")","v":""},"","","","","",{"$f":"IFERROR((Data!K60-$F$4),\"\")","v":""},{"$f":"IF(AND(F60<>\"\",G60<>\"\",H60<>\"\",I60<>\"\",J60<>\"\"),Data!L60-$F$4,\"\")","v":""},"","","","",{"$f":"IF(F60<>\"\",STDEV($Q$12:Q60),\"\")","v":""},""]
[50,null,{"$f":"RIGHT(Data!C61,10)","v":""},null,null,null,null,null,null,null,{"$f":"IFERROR($U$3*Data!O61/SQRT(COUNT(Data!F61:J61)),\"\")","v":""},"","","","","",{"$f":"IFERROR((Data!K61-$F$4),\"\")","v":""},{"$f":"IF(AND(F61<>\"\",G61<>\"\",H61<>\"\",I61<>\"\",J61<>\"\"),Data!L61-$F$4,\"\")","v":""},"","","","",{"$f":"IF(F61<>\"\",STDEV($Q$12:Q61),\"\")","v":""},""]
[51,null,{"$f":"RIGHT(Data!C62,10)","v":""},null,null,null,null,null,null,null,{"$f":"IFERROR($U$3*Data!O62/SQRT(COUNT(Data!F62:J62)),\"\")","v":""},"","","","","",{"$f":"IFERROR((Data!K62-$F$4),\"\")","v":""},{"$f":"IF(AND(F62<>\"\",G62<>\"\",H62<>\"\",I62<>\"\",J62<>\"\"),Data!L62-$F$4,\"\")","v":""},"","","","",{"$f":"IF(F62<>\"\",STDEV($Q$12:Q62),\"\")","v":""},""]
[52,null,{"$f":"RIGHT(Data!C63,10)","v":""},null,null,null,null,null,null,null,{"$f":"IFERROR($U$3*Data!O63/SQRT(COUNT(Data!F63:J63)),\"\")","v":""},"","","","","",{"$f":"IFERROR((Data!K63-$F$4),\"\")","v":""},{"$f":"IF(AND(F63<>\"\",G63<>\"\",H63<>\"\",I63<>\"\",J63<>\"\"),Data!L63-$F$4,\"\")","v":""},"","","","",{"$f":"IF(F63<>\"\",STDEV($Q$12:Q63),\"\")","v":""},""]
[53,null,{"$f":"RIGHT(Data!C64,10)","v":""},null,null,null,null,null,null,null,{"$f":"IFERROR($U$3*Data!O64/SQRT(COUNT(Data!F64:J64)),\"\")","v":""},"","","","","",{"$f":"IFERROR((Data!K64-$F$4),\"\")","v":""},{"$f":"IF(AND(F64<>\"\",G64<>\"\",H64<>\"\",I64<>\"\",J64<>\"\"),Data!L64-$F$4,\"\")","v":""},"","","","",{"$f":"IF(F64<>\"\",STDEV($Q$12:Q64),\"\")","v":""},""]
[54,null,{"$f":"RIGHT(Data!C65,10)","v":""},null,null,null,null,null,null,null,{"$f":"IFERROR($U$3*Data!O65/SQRT(COUNT(Data!F65:J65)),\"\")","v":""},"","","","","",{"$f":"IFERROR((Data!K65-$F$4),\"\")","v":""},{"$f":"IF(AND(F65<>\"\",G65<>\"\",H65<>\"\",I65<>\"\",J65<>\"\"),Data!L65-$F$4,\"\")","v":""},"","","","",{"$f":"IF(F65<>\"\",STDEV($Q$12:Q65),\"\")","v":""},""]
[55,null,{"$f":"RIGHT(Data!C66,10)","v":""},null,null,null,null,null,null,null,{"$f":"IFERROR($U$3*Data!O66/SQRT(COUNT(Data!F66:J66)),\"\")","v":""},"","","","","",{"$f":"IFERROR((Data!K66-$F$4),\"\")","v":""},{"$f":"IF(AND(F66<>\"\",G66<>\"\",H66<>\"\",I66<>\"\",J66<>\"\"),Data!L66-$F$4,\"\")","v":""},"","","","",{"$f":"IF(F66<>\"\",STDEV($Q$12:Q66),\"\")","v":""},""]
[56,null,{"$f":"RIGHT(Data!C67,10)","v":""},null,null,null,null,null,null,null,{"$f":"IFERROR($U$3*Data!O67/SQRT(COUNT(Data!F67:J67)),\"\")","v":""},"","","","","",{"$f":"IFERROR((Data!K67-$F$4),\"\")","v":""},{"$f":"IF(AND(F67<>\"\",G67<>\"\",H67<>\"\",I67<>\"\",J67<>\"\"),Data!L67-$F$4,\"\")","v":""},"","","","",{"$f":"IF(F67<>\"\",STDEV($Q$12:Q67),\"\")","v":""},""]
[57,null,{"$f":"RIGHT(Data!C68,10)","v":""},null,null,null,null,null,null,null,{"$f":"IFERROR($U$3*Data!O68/SQRT(COUNT(Data!F68:J68)),\"\")","v":""},"","","","","",{"$f":"IFERROR((Data!K68-$F$4),\"\")","v":""},{"$f":"IF(AND(F68<>\"\",G68<>\"\",H68<>\"\",I68<>\"\",J68<>\"\"),Data!L68-$F$4,\"\")","v":""},"","","","",{"$f":"IF(F68<>\"\",STDEV($Q$12:Q68),\"\")","v":""},""]
[58,null,{"$f":"RIGHT(Data!C69,10)","v":""},null,null,null,null,null,null,null,{"$f":"IFERROR($U$3*Data!O69/SQRT(COUNT(Data!F69:J69)),\"\")","v":""},"","","","","",{"$f":"IFERROR((Data!K69-$F$4),\"\")","v":""},{"$f":"IF(AND(F69<>\"\",G69<>\"\",H69<>\"\",I69<>\"\",J69<>\"\"),Data!L69-$F$4,\"\")","v":""},"","","","",{"$f":"IF(F69<>\"\",STDEV($Q$12:Q69),\"\")","v":""},""]
[59,null,{"$f":"RIGHT(Data!C70,10)","v":""},null,null,null,null,null,null,null,{"$f":"IFERROR($U$3*Data!O70/SQRT(COUNT(Data!F70:J70)),\"\")","v":""},"","","","","",{"$f":"IFERROR((Data!K70-$F$4),\"\")","v":""},{"$f":"IF(AND(F70<>\"\",G70<>\"\",H70<>\"\",I70<>\"\",J70<>\"\"),Data!L70-$F$4,\"\")","v":""},"","","","",{"$f":"IF(F70<>\"\",STDEV($Q$12:Q70),\"\")","v":""},""]
[60,null,{"$f":"RIGHT(Data!C71,10)","v":""},null,null,null,null,null,null,null,{"$f":"IFERROR($U$3*Data!O71/SQRT(COUNT(Data!F71:J71)),\"\")","v":""},"","","","","",{"$f":"IFERROR((Data!K71-$F$4),\"\")","v":""},{"$f":"IF(AND(F71<>\"\",G71<>\"\",H71<>\"\",I71<>\"\",J71<>\"\"),Data!L71-$F$4,\"\")","v":""},"","","","",{"$f":"IF(F71<>\"\",STDEV($Q$12:Q71),\"\")","v":""},""]
[61,null,{"$f":"RIGHT(Data!C72,10)","v":""},null,null,null,null,null,null,null,{"$f":"IFERROR($U$3*Data!O72/SQRT(COUNT(Data!F72:J72)),\"\")","v":""},"","","","","",{"$f":"IFERROR((Data!K72-$F$4),\"\")","v":""},{"$f":"IF(AND(F72<>\"\",G72<>\"\",H72<>\"\",I72<>\"\",J72<>\"\"),Data!L72-$F$4,\"\")","v":""},"","","","",{"$f":"IF(F72<>\"\",STDEV($Q$12:Q72),\"\")","v":""},""]
[62,null,{"$f":"RIGHT(Data!C73,10)","v":""},null,null,null,null,null,null,null,{"$f":"IFERROR($U$3*Data!O73/SQRT(COUNT(Data!F73:J73)),\"\")","v":""},"","","","","",{"$f":"IFERROR((Data!K73-$F$4),\"\")","v":""},{"$f":"IF(AND(F73<>\"\",G73<>\"\",H73<>\"\",I73<>\"\",J73<>\"\"),Data!L73-$F$4,\"\")","v":""},"","","","",{"$f":"IF(F73<>\"\",STDEV($Q$12:Q73),\"\")","v":""},""]
[63,null,{"$f":"RIGHT(Data!C74,10)","v":""},null,null,null,null,null,null,null,{"$f":"IFERROR($U$3*Data!O74/SQRT(COUNT(Data!F74:J74)),\"\")","v":""},"","","","","",{"$f":"IFERROR((Data!K74-$F$4),\"\")","v":""},{"$f":"IF(AND(F74<>\"\",G74<>\"\",H74<>\"\",I74<>\"\",J74<>\"\"),Data!L74-$F$4,\"\")","v":""},"","","","",{"$f":"IF(F74<>\"\",STDEV($Q$12:Q74),\"\")","v":""},""]
[64,null,{"$f":"RIGHT(Data!C75,10)","v":""},null,null,null,null,null,null,null,{"$f":"IFERROR($U$3*Data!O75/SQRT(COUNT(Data!F75:J75)),\"\")","v":""},"","","","","",{"$f":"IFERROR((Data!K75-$F$4),\"\")","v":""},{"$f":"IF(AND(F75<>\"\",G75<>\"\",H75<>\"\",I75<>\"\",J75<>\"\"),Data!L75-$F$4,\"\")","v":""},"","","","",{"$f":"IF(F75<>\"\",STDEV($Q$12:Q75),\"\")","v":""},""]
[65,null,{"$f":"RIGHT(Data!C76,10)","v":""},null,null,null,null,null,null,null,{"$f":"IFERROR($U$3*Data!O76/SQRT(COUNT(Data!F76:J76)),\"\")","v":""},"","",{"$f":"IF(COUNT(F76:J76)>=5,STDEV(F76:J76)*$U$3/SQRT((COUNT(F76:J76))),\"\")","v":""},"","",{"$f":"IFERROR((Data!K76-$F$4),\"\")","v":""},{"$f":"IF(AND(F76<>\"\",G76<>\"\",H76<>\"\",I76<>\"\",J76<>\"\"),Data!L76-$F$4,\"\")","v":""},{"$f":"IF(O76<>\"\",FIXED(X76,1) & \" ± \" & FIXED(O76+ABS(R76),2),\"\")","v":""},"","","",{"$f":"IF(F76<>\"\",STDEV($Q$12:Q76),\"\")","v":""},{"$f":"IF(F76<>\"\",AVERAGE(F76:J76),\"\")","v":""}]
[66,null,{"$f":"RIGHT(Data!C77,10)","v":""},null,null,null,null,null,null,null,{"$f":"IFERROR($U$3*Data!O77/SQRT(COUNT(Data!F77:J77)),\"\")","v":""},{"$f":"IF(F77<>\"\",V77*W77/SQRT(A77),\"\")","v":""},{"$f":"IF(F77<>\"\",$U$4*SQRT($U$7^2+L77^2+K77^2+$U$5^2),\"\")","v":""},"",{"$f":"IFERROR($U$4*SQRT($U$7^2+L77^2+K77^2+$U$5^2+N77^2),\"\")","v":""},{"$f":"IF(AND(F77<>\"\",G77<>\"\",H77<>\"\",I77<>\"\",J77<>\"\"),AVERAGE(F77:J77),\"\")","v":""},{"$f":"IFERROR((Data!K77-$F$4),\"\")","v":""},{"$f":"IF(AND(F77<>\"\",G77<>\"\",H77<>\"\",I77<>\"\",J77<>\"\"),Data!L77-$F$4,\"\")","v":""},"",{"$f":"IF(F77<>\"\",FIXED(AVERAGE(F77:J77)-R77,1) & \" ± \" & FIXED(O77,2),\"\")","v":""},{"$f":"IF(IO77=\"\",\"\",IO77-1)","v":""},{"$f":"IF(F77<>\"\",TINV(1-0.68,A77-1),\"\")","v":""},{"$f":"IF(F77<>\"\",STDEV($Q$12:Q77),\"\")","v":""},""]
[67,null,{"$f":"RIGHT(Data!C78,10)","v":""},null,null,null,null,null,null,null,{"$f":"IFERROR($U$3*Data!O78/SQRT(COUNT(Data!F78:J78)),\"\")","v":""},"","","","","",{"$f":"IFERROR((Data!K78-$F$4),\"\")","v":""},{"$f":"IF(AND(F78<>\"\",G78<>\"\",H78<>\"\",I78<>\"\",J78<>\"\"),Data!L78-$F$4,\"\")","v":""},"","","","",{"$f":"IF(F78<>\"\",STDEV($Q$12:Q78),\"\")","v":""},""]
[68,null,{"$f":"RIGHT(Data!C79,10)","v":""},null,null,null,null,null,null,null,{"$f":"IFERROR($U$3*Data!O79/SQRT(COUNT(Data!F79:J79)),\"\")","v":""},"","","","","",{"$f":"IFERROR((Data!K79-$F$4),\"\")","v":""},{"$f":"IF(AND(F79<>\"\",G79<>\"\",H79<>\"\",I79<>\"\",J79<>\"\"),Data!L79-$F$4,\"\")","v":""},"","","","",{"$f":"IF(F79<>\"\",STDEV($Q$12:Q79),\"\")","v":""},""]
[69,null,{"$f":"RIGHT(Data!C80,10)","v":""},null,null,null,null,null,null,null,{"$f":"IFERROR($U$3*Data!O80/SQRT(COUNT(Data!F80:J80)),\"\")","v":""},"","","","","",{"$f":"IFERROR((Data!K80-$F$4),\"\")","v":""},{"$f":"IF(AND(F80<>\"\",G80<>\"\",H80<>\"\",I80<>\"\",J80<>\"\"),Data!L80-$F$4,\"\")","v":""},"","","","",{"$f":"IF(F80<>\"\",STDEV($Q$12:Q80),\"\")","v":""},""]
[70,null,{"$f":"RIGHT(Data!C81,10)","v":""},null,null,null,null,null,null,null,{"$f":"IFERROR($U$3*Data!O81/SQRT(COUNT(Data!F81:J81)),\"\")","v":""},"","","","","",{"$f":"IFERROR((Data!K81-$F$4),\"\")","v":""},{"$f":"IF(AND(F81<>\"\",G81<>\"\",H81<>\"\",I81<>\"\",J81<>\"\"),Data!L81-$F$4,\"\")","v":""},"","","","",{"$f":"IF(F81<>\"\",STDEV($Q$12:Q81),\"\")","v":""},""]
[71,null,{"$f":"RIGHT(Data!C82,10)","v":""},null,null,null,null,null,null,null,{"$f":"IFERROR($U$3*Data!O82/SQRT(COUNT(Data!F82:J82)),\"\")","v":""},"","","","","",{"$f":"IFERROR((Data!K82-$F$4),\"\")","v":""},{"$f":"IF(AND(F82<>\"\",G82<>\"\",H82<>\"\",I82<>\"\",J82<>\"\"),Data!L82-$F$4,\"\")","v":""},"","","","",{"$f":"IF(F82<>\"\",STDEV($Q$12:Q82),\"\")","v":""},""]
[72,null,{"$f":"RIGHT(Data!C83,10)","v":""},null,null,null,null,null,null,null,{"$f":"IFERROR($U$3*Data!O83/SQRT(COUNT(Data!F83:J83)),\"\")","v":""},"","","","","",{"$f":"IFERROR((Data!K83-$F$4),\"\")","v":""},{"$f":"IF(AND(F83<>\"\",G83<>\"\",H83<>\"\",I83<>\"\",J83<>\"\"),Data!L83-$F$4,\"\")","v":""},"","","","",{"$f":"IF(F83<>\"\",STDEV($Q$12:Q83),\"\")","v":""},""]
[73,null,{"$f":"RIGHT(Data!C84,10)","v":""},null,null,null,null,null,null,null,{"$f":"IFERROR($U$3*Data!O84/SQRT(COUNT(Data!F84:J84)),\"\")","v":""},"","","","","",{"$f":"IFERROR((Data!K84-$F$4),\"\")","v":""},{"$f":"IF(AND(F84<>\"\",G84<>\"\",H84<>\"\",I84<>\"\",J84<>\"\"),Data!L84-$F$4,\"\")","v":""},"","","","",{"$f":"IF(F84<>\"\",STDEV($Q$12:Q84),\"\")","v":""},""]
[74,null,{"$f":"RIGHT(Data!C85,10)","v":""},null,null,null,null,null,null,null,{"$f":"IFERROR($U$3*Data!O85/SQRT(COUNT(Data!F85:J85)),\"\")","v":""},"","","","","",{"$f":"IFERROR((Data!K85-$F$4),\"\")","v":""},{"$f":"IF(AND(F85<>\"\",G85<>\"\",H85<>\"\",I85<>\"\",J85<>\"\"),Data!L85-$F$4,\"\")","v":""},"","","","",{"$f":"IF(F85<>\"\",STDEV($Q$12:Q85),\"\")","v":""},""]
[75,null,{"$f":"RIGHT(Data!C86,10)","v":""},null,null,null,null,null,null,null,{"$f":"IFERROR($U$3*Data!O86/SQRT(COUNT(Data!F86:J86)),\"\")","v":""},"","","","","",{"$f":"IFERROR((Data!K86-$F$4),\"\")","v":""},{"$f":"IF(AND(F86<>\"\",G86<>\"\",H86<>\"\",I86<>\"\",J86<>\"\"),Data!L86-$F$4,\"\")","v":""},"","","","",{"$f":"IF(F86<>\"\",STDEV($Q$12:Q86),\"\")","v":""},""]
[76,null,{"$f":"RIGHT(Data!C87,10)","v":""},null,null,null,null,null,null,null,{"$f":"IFERROR($U$3*Data!O87/SQRT(COUNT(Data!F87:J87)),\"\")","v":""},"","","","","",{"$f":"IFERROR((Data!K87-$F$4),\"\")","v":""},{"$f":"IF(AND(F87<>\"\",G87<>\"\",H87<>\"\",I87<>\"\",J87<>\"\"),Data!L87-$F$4,\"\")","v":""},"","","","",{"$f":"IF(F87<>\"\",STDEV($Q$12:Q87),\"\")","v":""},""]
[77,null,{"$f":"RIGHT(Data!C88,10)","v":""},null,null,null,null,null,null,null,{"$f":"IFERROR($U$3*Data!O88/SQRT(COUNT(Data!F88:J88)),\"\")","v":""},"","","","","",{"$f":"IFERROR((Data!K88-$F$4),\"\")","v":""},{"$f":"IF(AND(F88<>\"\",G88<>\"\",H88<>\"\",I88<>\"\",J88<>\"\"),Data!L88-$F$4,\"\")","v":""},"","","","",{"$f":"IF(F88<>\"\",STDEV($Q$12:Q88),\"\")","v":""},""]
[78,null,{"$f":"RIGHT(Data!C89,10)","v":""},null,null,null,null,null,null,null,{"$f":"IFERROR($U$3*Data!O89/SQRT(COUNT(Data!F89:J89)),\"\")","v":""},"","","","","",{"$f":"IFERROR((Data!K89-$F$4),\"\")","v":""},{"$f":"IF(AND(F89<>\"\",G89<>\"\",H89<>\"\",I89<>\"\",J89<>\"\"),Data!L89-$F$4,\"\")","v":""},"","","","",{"$f":"IF(F89<>\"\",STDEV($Q$12:Q89),\"\")","v":""},""]
[79,null,{"$f":"RIGHT(Data!C90,10)","v":""},null,null,null,null,null,null,null,{"$f":"IFERROR($U$3*Data!O90/SQRT(COUNT(Data!F90:J90)),\"\")","v":""},"","","","","",{"$f":"IFERROR((Data!K90-$F$4),\"\")","v":""},{"$f":"IF(AND(F90<>\"\",G90<>\"\",H90<>\"\",I90<>\"\",J90<>\"\"),Data!L90-$F$4,\"\")","v":""},"","","","",{"$f":"IF(F90<>\"\",STDEV($Q$12:Q90),\"\")","v":""},""]
[80,null,{"$f":"RIGHT(Data!C91,10)","v":""},null,null,null,null,null,null,null,{"$f":"IFERROR($U$3*Data!O91/SQRT(COUNT(Data!F91:J91)),\"\")","v":""},"","","","","",{"$f":"IFERROR((Data!K91-$F$4),\"\")","v":""},{"$f":"IF(AND(F91<>\"\",G91<>\"\",H91<>\"\",I91<>\"\",J91<>\"\"),Data!L91-$F$4,\"\")","v":""},"","","","",{"$f":"IF(F91<>\"\",STDEV($Q$12:Q91),\"\")","v":""},""]
[81,null,{"$f":"RIGHT(Data!C92,10)","v":""},null,null,null,null,null,null,null,{"$f":"IFERROR($U$3*Data!O92/SQRT(COUNT(Data!F92:J92)),\"\")","v":""},"","","","","",{"$f":"IFERROR((Data!K92-$F$4),\"\")","v":""},{"$f":"IF(AND(F92<>\"\",G92<>\"\",H92<>\"\",I92<>\"\",J92<>\"\"),Data!L92-$F$4,\"\")","v":""},"","","","",{"$f":"IF(F92<>\"\",STDEV($Q$12:Q92),\"\")","v":""},""]
[82,null,{"$f":"RIGHT(Data!C93,10)","v":""},null,null,null,null,null,null,null,{"$f":"IFERROR($U$3*Data!O93/SQRT(COUNT(Data!F93:J93)),\"\")","v":""},"","","","","",{"$f":"IFERROR((Data!K93-$F$4),\"\")","v":""},{"$f":"IF(AND(F93<>\"\",G93<>\"\",H93<>\"\",I93<>\"\",J93<>\"\"),Data!L93-$F$4,\"\")","v":""},"","","","",{"$f":"IF(F93<>\"\",STDEV($Q$12:Q93),\"\")","v":""},""]
[83,null,{"$f":"RIGHT(Data!C94,10)","v":""},null,null,null,null,null,null,null,{"$f":"IFERROR($U$3*Data!O94/SQRT(COUNT(Data!F94:J94)),\"\")","v":""},"","","","","",{"$f":"IFERROR((Data!K94-$F$4),\"\")","v":""},{"$f":"IF(AND(F94<>\"\",G94<>\"\",H94<>\"\",I94<>\"\",J94<>\"\"),Data!L94-$F$4,\"\")","v":""},"","","","",{"$f":"IF(F94<>\"\",STDEV($Q$12:Q94),\"\")","v":""},""]
[84,null,{"$f":"RIGHT(Data!C95,10)","v":""},null,null,null,null,null,null,null,{"$f":"IFERROR($U$3*Data!O95/SQRT(COUNT(Data!F95:J95)),\"\")","v":""},"","","","","",{"$f":"IFERROR((Data!K95-$F$4),\"\")","v":""},{"$f":"IF(AND(F95<>\"\",G95<>\"\",H95<>\"\",I95<>\"\",J95<>\"\"),Data!L95-$F$4,\"\")","v":""},"","","","",{"$f":"IF(F95<>\"\",STDEV($Q$12:Q95),\"\")","v":""},""]
[85,null,{"$f":"RIGHT(Data!C96,10)","v":""},null,null,null,null,null,null,null,{"$f":"IFERROR($U$3*Data!O96/SQRT(COUNT(Data!F96:J96)),\"\")","v":""},"","","","","",{"$f":"IFERROR((Data!K96-$F$4),\"\")","v":""},{"$f":"IF(AND(F96<>\"\",G96<>\"\",H96<>\"\",I96<>\"\",J96<>\"\"),Data!L96-$F$4,\"\")","v":""},"","","","",{"$f":"IF(F96<>\"\",STDEV($Q$12:Q96),\"\")","v":""},""]
[86,null,{"$f":"RIGHT(Data!C97,10)","v":""},null,null,null,null,null,null,null,{"$f":"IFERROR($U$3*Data!O97/SQRT(COUNT(Data!F97:J97)),\"\")","v":""},"","","","","",{"$f":"IFERROR((Data!K97-$F$4),\"\")","v":""},{"$f":"IF(AND(F97<>\"\",G97<>\"\",H97<>\"\",I97<>\"\",J97<>\"\"),Data!L97-$F$4,\"\")","v":""},"","","","",{"$f":"IF(F97<>\"\",STDEV($Q$12:Q97),\"\")","v":""},""]
[87,null,{"$f":"RIGHT(Data!C98,10)","v":""},null,null,null,null,null,null,null,{"$f":"IFERROR($U$3*Data!O98/SQRT(COUNT(Data!F98:J98)),\"\")","v":""},"","","","","",{"$f":"IFERROR((Data!K98-$F$4),\"\")","v":""},{"$f":"IF(AND(F98<>\"\",G98<>\"\",H98<>\"\",I98<>\"\",J98<>\"\"),Data!L98-$F$4,\"\")","v":""},"","","","",{"$f":"IF(F98<>\"\",STDEV($Q$12:Q98),\"\")","v":""},""]
[88,null,{"$f":"RIGHT(Data!C99,10)","v":""},null,null,null,null,null,null,null,{"$f":"IFERROR($U$3*Data!O99/SQRT(COUNT(Data!F99:J99)),\"\")","v":""},"","","","","",{"$f":"IFERROR((Data!K99-$F$4),\"\")","v":""},{"$f":"IF(AND(F99<>\"\",G99<>\"\",H99<>\"\",I99<>\"\",J99<>\"\"),Data!L99-$F$4,\"\")","v":""},"","","","",{"$f":"IF(F99<>\"\",STDEV($Q$12:Q99),\"\")","v":""},""]
[89,null,{"$f":"RIGHT(Data!C100,10)","v":""},null,null,null,null,null,null,null,{"$f":"IFERROR($U$3*Data!O100/SQRT(COUNT(Data!F100:J100)),\"\")","v":""},"","","","","",{"$f":"IFERROR((Data!K100-$F$4),\"\")","v":""},{"$f":"IF(AND(F100<>\"\",G100<>\"\",H100<>\"\",I100<>\"\",J100<>\"\"),Data!L100-$F$4,\"\")","v":""},"","","","",{"$f":"IF(F100<>\"\",STDEV($Q$12:Q100),\"\")","v":""},""]
[90,null,{"$f":"RIGHT(Data!C101,10)","v":""},null,null,null,null,null,null,null,{"$f":"IFERROR($U$3*Data!O101/SQRT(COUNT(Data!F101:J101)),\"\")","v":""},"","","","","",{"$f":"IFERROR((Data!K101-$F$4),\"\")","v":""},{"$f":"IF(AND(F101<>\"\",G101<>\"\",H101<>\"\",I101<>\"\",J101<>\"\"),Data!L101-$F$4,\"\")","v":""},"","","","",{"$f":"IF(F101<>\"\",STDEV($Q$12:Q101),\"\")","v":""},""]
[91,null,{"$f":"RIGHT(Data!C102,10)","v":""},null,null,null,null,null,null,null,{"$f":"IFERROR($U$3*Data!O102/SQRT(COUNT(Data!F102:J102)),\"\")","v":""},"","","","","",{"$f":"IFERROR((Data!K102-$F$4),\"\")","v":""},{"$f":"IF(AND(F102<>\"\",G102<>\"\",H102<>\"\",I102<>\"\",J102<>\"\"),Data!L102-$F$4,\"\")","v":""},"","","","",{"$f":"IF(F102<>\"\",STDEV($Q$12:Q102),\"\")","v":""},""]
[92,null,{"$f":"RIGHT(Data!C103,10)","v":""},null,null,null,null,null,null,null,{"$f":"IFERROR($U$3*Data!O103/SQRT(COUNT(Data!F103:J103)),\"\")","v":""},"","","","","",{"$f":"IFERROR((Data!K103-$F$4),\"\")","v":""},{"$f":"IF(AND(F103<>\"\",G103<>\"\",H103<>\"\",I103<>\"\",J103<>\"\"),Data!L103-$F$4,\"\")","v":""},"","","","",{"$f":"IF(F103<>\"\",STDEV($Q$12:Q103),\"\")","v":""},""]
[93,null,{"$f":"RIGHT(Data!C104,10)","v":""},null,null,null,null,null,null,null,{"$f":"IFERROR($U$3*Data!O104/SQRT(COUNT(Data!F104:J104)),\"\")","v":""},"","","","","",{"$f":"IFERROR((Data!K104-$F$4),\"\")","v":""},{"$f":"IF(AND(F104<>\"\",G104<>\"\",H104<>\"\",I104<>\"\",J104<>\"\"),Data!L104-$F$4,\"\")","v":""},"","","","",{"$f":"IF(F104<>\"\",STDEV($Q$12:Q104),\"\")","v":""},""]
[94,null,{"$f":"RIGHT(Data!C105,10)","v":""},null,null,null,null,null,null,null,{"$f":"IFERROR($U$3*Data!O105/SQRT(COUNT(Data!F105:J105)),\"\")","v":""},"","","","","",{"$f":"IFERROR((Data!K105-$F$4),\"\")","v":""},{"$f":"IF(AND(F105<>\"\",G105<>\"\",H105<>\"\",I105<>\"\",J105<>\"\"),Data!L105-$F$4,\"\")","v":""},"","","","",{"$f":"IF(F105<>\"\",STDEV($Q$12:Q105),\"\")","v":""},""]
[95,null,{"$f":"RIGHT(Data!C106,10)","v":""},null,null,null,null,null,null,null,{"$f":"IFERROR($U$3*Data!O106/SQRT(COUNT(Data!F106:J106)),\"\")","v":""},"","","","","",{"$f":"IFERROR((Data!K106-$F$4),\"\")","v":""},{"$f":"IF(AND(F106<>\"\",G106<>\"\",H106<>\"\",I106<>\"\",J106<>\"\"),Data!L106-$F$4,\"\")","v":""},"","","","",{"$f":"IF(F106<>\"\",STDEV($Q$12:Q106),\"\")","v":""},""]
[96,null,{"$f":"RIGHT(Data!C107,10)","v":""},null,null,null,null,null,null,null,{"$f":"IFERROR($U$3*Data!O107/SQRT(COUNT(Data!F107:J107)),\"\")","v":""},"","","","","",{"$f":"IFERROR((Data!K107-$F$4),\"\")","v":""},{"$f":"IF(AND(F107<>\"\",G107<>\"\",H107<>\"\",I107<>\"\",J107<>\"\"),Data!L107-$F$4,\"\")","v":""},"","","","",{"$f":"IF(F107<>\"\",STDEV($Q$12:Q107),\"\")","v":""},""]
[97,null,{"$f":"RIGHT(Data!C108,10)","v":""},null,null,null,null,null,null,null,{"$f":"IFERROR($U$3*Data!O108/SQRT(COUNT(Data!F108:J108)),\"\")","v":""},"","","","","",{"$f":"IFERROR((Data!K108-$F$4),\"\")","v":""},{"$f":"IF(AND(F108<>\"\",G108<>\"\",H108<>\"\",I108<>\"\",J108<>\"\"),Data!L108-$F$4,\"\")","v":""},"","","","",{"$f":"IF(F108<>\"\",STDEV($Q$12:Q108),\"\")","v":""},""]
[98,null,{"$f":"RIGHT(Data!C109,10)","v":""},null,null,null,null,null,null,null,{"$f":"IFERROR($U$3*Data!O109/SQRT(COUNT(Data!F109:J109)),\"\")","v":""},"","","","","",{"$f":"IFERROR((Data!K109-$F$4),\"\")","v":""},{"$f":"IF(AND(F109<>\"\",G109<>\"\",H109<>\"\",I109<>\"\",J109<>\"\"),Data!L109-$F$4,\"\")","v":""},"","","","",{"$f":"IF(F109<>\"\",STDEV($Q$12:Q109),\"\")","v":""},""]
[99,null,{"$f":"RIGHT(Data!C110,10)","v":""},null,null,null,null,null,null,null,{"$f":"IFERROR($U$3*Data!O110/SQRT(COUNT(Data!F110:J110)),\"\")","v":""},"","","","","",{"$f":"IFERROR((Data!K110-$F$4),\"\")","v":""},{"$f":"IF(AND(F110<>\"\",G110<>\"\",H110<>\"\",I110<>\"\",J110<>\"\"),Data!L110-$F$4,\"\")","v":""},"","","","",{"$f":"IF(F110<>\"\",STDEV($Q$12:Q110),\"\")","v":""},""]
[100,null,{"$f":"RIGHT(Data!C111,10)","v":""},null,null,null,null,null,null,null,{"$f":"IFERROR($U$3*Data!O111/SQRT(COUNT(Data!F111:J111)),\"\")","v":""},"","","","","",{"$f":"IFERROR((Data!K111-$F$4),\"\")","v":""},{"$f":"IF(AND(F111<>\"\",G111<>\"\",H111<>\"\",I111<>\"\",J111<>\"\"),Data!L111-$F$4,\"\")","v":""},"","","","",{"$f":"IF(F111<>\"\",STDEV($Q$12:Q111),\"\")","v":""},""]
[101,null,{"$f":"RIGHT(Data!C112,10)","v":""},null,null,null,null,null,null,null,{"$f":"IFERROR($U$3*Data!O112/SQRT(COUNT(Data!F112:J112)),\"\")","v":""},"","","","","",{"$f":"IFERROR((Data!K112-$F$4),\"\")","v":""},{"$f":"IF(AND(F112<>\"\",G112<>\"\",H112<>\"\",I112<>\"\",J112<>\"\"),Data!L112-$F$4,\"\")","v":""},"","","","",{"$f":"IF(F112<>\"\",STDEV($Q$12:Q112),\"\")","v":""},""]
[102,null,{"$f":"RIGHT(Data!C113,10)","v":""},null,null,null,null,null,null,null,{"$f":"IFERROR($U$3*Data!O113/SQRT(COUNT(Data!F113:J113)),\"\")","v":""},"","","","","",{"$f":"IFERROR((Data!K113-$F$4),\"\")","v":""},{"$f":"IF(AND(F113<>\"\",G113<>\"\",H113<>\"\",I113<>\"\",J113<>\"\"),Data!L113-$F$4,\"\")","v":""},"","","","",{"$f":"IF(F113<>\"\",STDEV($Q$12:Q113),\"\")","v":""},""]
[103,null,{"$f":"RIGHT(Data!C114,10)","v":""},null,null,null,null,null,null,null,{"$f":"IFERROR($U$3*Data!O114/SQRT(COUNT(Data!F114:J114)),\"\")","v":""},"","","","","",{"$f":"IFERROR((Data!K114-$F$4),\"\")","v":""},{"$f":"IF(AND(F114<>\"\",G114<>\"\",H114<>\"\",I114<>\"\",J114<>\"\"),Data!L114-$F$4,\"\")","v":""},"","","","",{"$f":"IF(F114<>\"\",STDEV($Q$12:Q114),\"\")","v":""},""]
[104,null,{"$f":"RIGHT(Data!C115,10)","v":""},null,null,null,null,null,null,null,{"$f":"IFERROR($U$3*Data!O115/SQRT(COUNT(Data!F115:J115)),\"\")","v":""},"","","","","",{"$f":"IFERROR((Data!K115-$F$4),\"\")","v":""},{"$f":"IF(AND(F115<>\"\",G115<>\"\",H115<>\"\",I115<>\"\",J115<>\"\"),Data!L115-$F$4,\"\")","v":""},"","","","",{"$f":"IF(F115<>\"\",STDEV($Q$12:Q115),\"\")","v":""},""]
[105,null,{"$f":"RIGHT(Data!C116,10)","v":""},null,null,null,null,null,null,null,{"$f":"IFERROR($U$3*Data!O116/SQRT(COUNT(Data!F116:J116)),\"\")","v":""},"","","","","",{"$f":"IFERROR((Data!K116-$F$4),\"\")","v":""},{"$f":"IF(AND(F116<>\"\",G116<>\"\",H116<>\"\",I116<>\"\",J116<>\"\"),Data!L116-$F$4,\"\")","v":""},"","","","",{"$f":"IF(F116<>\"\",STDEV($Q$12:Q116),\"\")","v":""},""]
[106,null,{"$f":"RIGHT(Data!C117,10)","v":""},null,null,null,null,null,null,null,{"$f":"IFERROR($U$3*Data!O117/SQRT(COUNT(Data!F117:J117)),\"\")","v":""},"","","","","",{"$f":"IFERROR((Data!K117-$F$4),\"\")","v":""},{"$f":"IF(AND(F117<>\"\",G117<>\"\",H117<>\"\",I117<>\"\",J117<>\"\"),Data!L117-$F$4,\"\")","v":""},"","","","",{"$f":"IF(F117<>\"\",STDEV($Q$12:Q117),\"\")","v":""},""]
[107,null,{"$f":"RIGHT(Data!C118,10)","v":""},null,null,null,null,null,null,null,{"$f":"IFERROR($U$3*Data!O118/SQRT(COUNT(Data!F118:J118)),\"\")","v":""},"","","","","",{"$f":"IFERROR((Data!K118-$F$4),\"\")","v":""},{"$f":"IF(AND(F118<>\"\",G118<>\"\",H118<>\"\",I118<>\"\",J118<>\"\"),Data!L118-$F$4,\"\")","v":""},"","","","",{"$f":"IF(F118<>\"\",STDEV($Q$12:Q118),\"\")","v":""},""]
[108,null,{"$f":"RIGHT(Data!C119,10)","v":""},null,null,null,null,null,null,null,{"$f":"IFERROR($U$3*Data!O119/SQRT(COUNT(Data!F119:J119)),\"\")","v":""},"","","","","",{"$f":"IFERROR((Data!K119-$F$4),\"\")","v":""},{"$f":"IF(AND(F119<>\"\",G119<>\"\",H119<>\"\",I119<>\"\",J119<>\"\"),Data!L119-$F$4,\"\")","v":""},"","","","",{"$f":"IF(F119<>\"\",STDEV($Q$12:Q119),\"\")","v":""},""]
[109,null,{"$f":"RIGHT(Data!C120,10)","v":""},null,null,null,null,null,null,null,{"$f":"IFERROR($U$3*Data!O120/SQRT(COUNT(Data!F120:J120)),\"\")","v":""},"","","","","",{"$f":"IFERROR((Data!K120-$F$4),\"\")","v":""},{"$f":"IF(AND(F120<>\"\",G120<>\"\",H120<>\"\",I120<>\"\",J120<>\"\"),Data!L120-$F$4,\"\")","v":""},"","","","",{"$f":"IF(F120<>\"\",STDEV($Q$12:Q120),\"\")","v":""},""]
[110,null,{"$f":"RIGHT(Data!C121,10)","v":""},null,null,null,null,null,null,null,{"$f":"IFERROR($U$3*Data!O121/SQRT(COUNT(Data!F121:J121)),\"\")","v":""},"","","","","",{"$f":"IFERROR((Data!K121-$F$4),\"\")","v":""},{"$f":"IF(AND(F121<>\"\",G121<>\"\",H121<>\"\",I121<>\"\",J121<>\"\"),Data!L121-$F$4,\"\")","v":""},"","","","",{"$f":"IF(F121<>\"\",STDEV($Q$12:Q121),\"\")","v":""},""]
[111,null,{"$f":"RIGHT(Data!C122,10)","v":""},null,null,null,null,null,null,null,{"$f":"IFERROR($U$3*Data!O122/SQRT(COUNT(Data!F122:J122)),\"\")","v":""},"","","","","",{"$f":"IFERROR((Data!K122-$F$4),\"\")","v":""},{"$f":"IF(AND(F122<>\"\",G122<>\"\",H122<>\"\",I122<>\"\",J122<>\"\"),Data!L122-$F$4,\"\")","v":""},"","","","",{"$f":"IF(F122<>\"\",STDEV($Q$12:Q122),\"\")","v":""},""]
[112,null,{"$f":"RIGHT(Data!C123,10)","v":""},null,null,null,null,null,null,null,{"$f":"IFERROR($U$3*Data!O123/SQRT(COUNT(Data!F123:J123)),\"\")","v":""},"","","","","",{"$f":"IFERROR((Data!K123-$F$4),\"\")","v":""},{"$f":"IF(AND(F123<>\"\",G123<>\"\",H123<>\"\",I123<>\"\",J123<>\"\"),Data!L123-$F$4,\"\")","v":""},"","","","",{"$f":"IF(F123<>\"\",STDEV($Q$12:Q123),\"\")","v":""},""]
[113,null,{"$f":"RIGHT(Data!C124,10)","v":""},null,null,null,null,null,null,null,{"$f":"IFERROR($U$3*Data!O124/SQRT(COUNT(Data!F124:J124)),\"\")","v":""},"","","","","",{"$f":"IFERROR((Data!K124-$F$4),\"\")","v":""},{"$f":"IF(AND(F124<>\"\",G124<>\"\",H124<>\"\",I124<>\"\",J124<>\"\"),Data!L124-$F$4,\"\")","v":""},"","","","",{"$f":"IF(F124<>\"\",STDEV($Q$12:Q124),\"\")","v":""},""]
[114,null,{"$f":"RIGHT(Data!C125,10)","v":""},null,null,null,null,null,null,null,{"$f":"IFERROR($U$3*Data!O125/SQRT(COUNT(Data!F125:J125)),\"\")","v":""},"","","","","",{"$f":"IFERROR((Data!K125-$F$4),\"\")","v":""},{"$f":"IF(AND(F125<>\"\",G125<>\"\",H125<>\"\",I125<>\"\",J125<>\"\"),Data!L125-$F$4,\"\")","v":""},"","","","",{"$f":"IF(F125<>\"\",STDEV($Q$12:Q125),\"\")","v":""},""]
[115,null,{"$f":"RIGHT(Data!C126,10)","v":""},null,null,null,null,null,null,null,{"$f":"IFERROR($U$3*Data!O126/SQRT(COUNT(Data!F126:J126)),\"\")","v":""},"","","","","",{"$f":"IFERROR((Data!K126-$F$4),\"\")","v":""},{"$f":"IF(AND(F126<>\"\",G126<>\"\",H126<>\"\",I126<>\"\",J126<>\"\"),Data!L126-$F$4,\"\")","v":""},"","","","",{"$f":"IF(F126<>\"\",STDEV($Q$12:Q126),\"\")","v":""},""]
[116,null,{"$f":"RIGHT(Data!C127,10)","v":""},null,null,null,null,null,null,null,{"$f":"IFERROR($U$3*Data!O127/SQRT(COUNT(Data!F127:J127)),\"\")","v":""},"","","","","",{"$f":"IFERROR((Data!K127-$F$4),\"\")","v":""},{"$f":"IF(AND(F127<>\"\",G127<>\"\",H127<>\"\",I127<>\"\",J127<>\"\"),Data!L127-$F$4,\"\")","v":""},"","","","",{"$f":"IF(F127<>\"\",STDEV($Q$12:Q127),\"\")","v":""},""]
[117,null,{"$f":"RIGHT(Data!C128,10)","v":""},null,null,null,null,null,null,null,{"$f":"IFERROR($U$3*Data!O128/SQRT(COUNT(Data!F128:J128)),\"\")","v":""},"","","","","",{"$f":"IFERROR((Data!K128-$F$4),\"\")","v":""},{"$f":"IF(AND(F128<>\"\",G128<>\"\",H128<>\"\",I128<>\"\",J128<>\"\"),Data!L128-$F$4,\"\")","v":""},"","","","",{"$f":"IF(F128<>\"\",STDEV($Q$12:Q128),\"\")","v":""},""]
[118,null,{"$f":"RIGHT(Data!C129,10)","v":""},null,null,null,null,null,null,null,{"$f":"IFERROR($U$3*Data!O129/SQRT(COUNT(Data!F129:J129)),\"\")","v":""},"","","","","",{"$f":"IFERROR((Data!K129-$F$4),\"\")","v":""},{"$f":"IF(AND(F129<>\"\",G129<>\"\",H129<>\"\",I129<>\"\",J129<>\"\"),Data!L129-$F$4,\"\")","v":""},"","","","",{"$f":"IF(F129<>\"\",STDEV($Q$12:Q129),\"\")","v":""},""]
[119,null,{"$f":"RIGHT(Data!C130,10)","v":""},null,null,null,null,null,null,null,{"$f":"IFERROR($U$3*Data!O130/SQRT(COUNT(Data!F130:J130)),\"\")","v":""},"","","","","",{"$f":"IFERROR((Data!K130-$F$4),\"\")","v":""},{"$f":"IF(AND(F130<>\"\",G130<>\"\",H130<>\"\",I130<>\"\",J130<>\"\"),Data!L130-$F$4,\"\")","v":""},"","","","",{"$f":"IF(F130<>\"\",STDEV($Q$12:Q130),\"\")","v":""},""]
[120,null,{"$f":"RIGHT(Data!C131,10)","v":""},null,null,null,null,null,null,null,{"$f":"IFERROR($U$3*Data!O131/SQRT(COUNT(Data!F131:J131)),\"\")","v":""},"","","","","",{"$f":"IFERROR((Data!K131-$F$4),\"\")","v":""},{"$f":"IF(AND(F131<>\"\",G131<>\"\",H131<>\"\",I131<>\"\",J131<>\"\"),Data!L131-$F$4,\"\")","v":""},"","","","",{"$f":"IF(F131<>\"\",STDEV($Q$12:Q131),\"\")","v":""},""]
[121,null,{"$f":"RIGHT(Data!C132,10)","v":""},null,null,null,null,null,null,null,{"$f":"IFERROR($U$3*Data!O132/SQRT(COUNT(Data!F132:J132)),\"\")","v":""},"","","","","",{"$f":"IFERROR((Data!K132-$F$4),\"\")","v":""},{"$f":"IF(AND(F132<>\"\",G132<>\"\",H132<>\"\",I132<>\"\",J132<>\"\"),Data!L132-$F$4,\"\")","v":""},"","","","",{"$f":"IF(F132<>\"\",STDEV($Q$12:Q132),\"\")","v":""},""]
[122,null,{"$f":"RIGHT(Data!C133,10)","v":""},null,null,null,null,null,null,null,{"$f":"IFERROR($U$3*Data!O133/SQRT(COUNT(Data!F133:J133)),\"\")","v":""},"","","","","",{"$f":"IFERROR((Data!K133-$F$4),\"\")","v":""},{"$f":"IF(AND(F133<>\"\",G133<>\"\",H133<>\"\",I133<>\"\",J133<>\"\"),Data!L133-$F$4,\"\")","v":""},"","","","",{"$f":"IF(F133<>\"\",STDEV($Q$12:Q133),\"\")","v":""},""]
[123,null,{"$f":"RIGHT(Data!C134,10)","v":""},null,null,null,null,null,null,null,{"$f":"IFERROR($U$3*Data!O134/SQRT(COUNT(Data!F134:J134)),\"\")","v":""},"","","","","",{"$f":"IFERROR((Data!K134-$F$4),\"\")","v":""},{"$f":"IF(AND(F134<>\"\",G134<>\"\",H134<>\"\",I134<>\"\",J134<>\"\"),Data!L134-$F$4,\"\")","v":""},"","","","",{"$f":"IF(F134<>\"\",STDEV($Q$12:Q134),\"\")","v":""},""]
[124,null,{"$f":"RIGHT(Data!C135,10)","v":""},null,null,null,null,null,null,null,{"$f":"IFERROR($U$3*Data!O135/SQRT(COUNT(Data!F135:J135)),\"\")","v":""},"","","","","",{"$f":"IFERROR((Data!K135-$F$4),\"\")","v":""},{"$f":"IF(AND(F135<>\"\",G135<>\"\",H135<>\"\",I135<>\"\",J135<>\"\"),Data!L135-$F$4,\"\")","v":""},"","","","",{"$f":"IF(F135<>\"\",STDEV($Q$12:Q135),\"\")","v":""},""]
[125,null,{"$f":"RIGHT(Data!C136,10)","v":""},null,null,null,null,null,null,null,{"$f":"IFERROR($U$3*Data!O136/SQRT(COUNT(Data!F136:J136)),\"\")","v":""},"","","","","",{"$f":"IFERROR((Data!K136-$F$4),\"\")","v":""},{"$f":"IF(AND(F136<>\"\",G136<>\"\",H136<>\"\",I136<>\"\",J136<>\"\"),Data!L136-$F$4,\"\")","v":""},"","","","",{"$f":"IF(F136<>\"\",STDEV($Q$12:Q136),\"\")","v":""},""]
[126,null,{"$f":"RIGHT(Data!C137,10)","v":""},null,null,null,null,null,null,null,{"$f":"IFERROR($U$3*Data!O137/SQRT(COUNT(Data!F137:J137)),\"\")","v":""},"","","","","",{"$f":"IFERROR((Data!K137-$F$4),\"\")","v":""},{"$f":"IF(AND(F137<>\"\",G137<>\"\",H137<>\"\",I137<>\"\",J137<>\"\"),Data!L137-$F$4,\"\")","v":""},"","","","",{"$f":"IF(F137<>\"\",STDEV($Q$12:Q137),\"\")","v":""},""]
[127,null,{"$f":"RIGHT(Data!C138,10)","v":""},null,null,null,null,null,null,null,{"$f":"IFERROR($U$3*Data!O138/SQRT(COUNT(Data!F138:J138)),\"\")","v":""},"","","","","",{"$f":"IFERROR((Data!K138-$F$4),\"\")","v":""},{"$f":"IF(AND(F138<>\"\",G138<>\"\",H138<>\"\",I138<>\"\",J138<>\"\"),Data!L138-$F$4,\"\")","v":""},"","","","",{"$f":"IF(F138<>\"\",STDEV($Q$12:Q138),\"\")","v":""},""]
[128,null,{"$f":"RIGHT(Data!C139,10)","v":""},null,null,null,null,null,null,null,{"$f":"IFERROR($U$3*Data!O139/SQRT(COUNT(Data!F139:J139)),\"\")","v":""},"","","","","",{"$f":"IFERROR((Data!K139-$F$4),\"\")","v":""},{"$f":"IF(AND(F139<>\"\",G139<>\"\",H139<>\"\",I139<>\"\",J139<>\"\"),Data!L139-$F$4,\"\")","v":""},"","","","",{"$f":"IF(F139<>\"\",STDEV($Q$12:Q139),\"\")","v":""},""]
[129,null,{"$f":"RIGHT(Data!C140,10)","v":""},null,null,null,null,null,null,null,{"$f":"IFERROR($U$3*Data!O140/SQRT(COUNT(Data!F140:J140)),\"\")","v":""},"","",{"$f":"IF(COUNT(F140:J140)>=5,STDEV(F140:J140)*$U$3/SQRT((COUNT(F140:J140))),\"\")","v":""},"","",{"$f":"IFERROR((Data!K140-$F$4),\"\")","v":""},{"$f":"IF(AND(F140<>\"\",G140<>\"\",H140<>\"\",I140<>\"\",J140<>\"\"),Data!L140-$F$4,\"\")","v":""},{"$f":"IF(O140<>\"\",FIXED(X140,1) & \" ± \" & FIXED(O140+ABS(R140),2),\"\")","v":""},"","","",{"$f":"IF(F140<>\"\",STDEV($Q$12:Q140),\"\")","v":""},{"$f":"IF(F140<>\"\",AVERAGE(F140:J140),\"\")","v":""}]
[130,null,{"$f":"RIGHT(Data!C141,10)","v":""},null,null,null,null,null,null,null,{"$f":"IFERROR($U$3*Data!O141/SQRT(COUNT(Data!F141:J141)),\"\")","v":""},{"$f":"IF(F141<>\"\",V141*W141/SQRT(A141),\"\")","v":""},{"$f":"IF(F141<>\"\",$U$4*SQRT($U$7^2+L141^2+K141^2+$U$5^2),\"\")","v":""},"",{"$f":"IFERROR($U$4*SQRT($U$7^2+L141^2+K141^2+$U$5^2+N141^2),\"\")","v":""},{"$f":"IF(AND(F141<>\"\",G141<>\"\",H141<>\"\",I141<>\"\",J141<>\"\"),AVERAGE(F141:J141),\"\")","v":""},{"$f":"IFERROR((Data!K141-$F$4),\"\")","v":""},{"$f":"IF(AND(F141<>\"\",G141<>\"\",H141<>\"\",I141<>\"\",J141<>\"\"),Data!L141-$F$4,\"\")","v":""},"",{"$f":"IF(F141<>\"\",FIXED(AVERAGE(F141:J141)-R141,1) & \" ± \" & FIXED(O141,2),\"\")","v":""},{"$f":"IF(IO141=\"\",\"\",IO141-1)","v":""},{"$f":"IF(F141<>\"\",TINV(1-0.68,A141-1),\"\")","v":""},{"$f":"IF(F141<>\"\",STDEV($Q$12:Q141),\"\")","v":""},""]
[131,null,{"$f":"RIGHT(Data!C142,10)","v":""},null,null,null,null,null,null,null,{"$f":"IFERROR($U$3*Data!O142/SQRT(COUNT(Data!F142:J142)),\"\")","v":""},"","","","","",{"$f":"IFERROR((Data!K142-$F$4),\"\")","v":""},{"$f":"IF(AND(F142<>\"\",G142<>\"\",H142<>\"\",I142<>\"\",J142<>\"\"),Data!L142-$F$4,\"\")","v":""},"","","","",{"$f":"IF(F142<>\"\",STDEV($Q$12:Q142),\"\")","v":""},""]
[132,null,{"$f":"RIGHT(Data!C143,10)","v":""},null,null,null,null,null,null,null,{"$f":"IFERROR($U$3*Data!O143/SQRT(COUNT(Data!F143:J143)),\"\")","v":""},"","","","","",{"$f":"IFERROR((Data!K143-$F$4),\"\")","v":""},{"$f":"IF(AND(F143<>\"\",G143<>\"\",H143<>\"\",I143<>\"\",J143<>\"\"),Data!L143-$F$4,\"\")","v":""},"","","","",{"$f":"IF(F143<>\"\",STDEV($Q$12:Q143),\"\")","v":""},""]
[133,null,{"$f":"RIGHT(Data!C144,10)","v":""},null,null,null,null,null,null,null,{"$f":"IFERROR($U$3*Data!O144/SQRT(COUNT(Data!F144:J144)),\"\")","v":""},"","","","","",{"$f":"IFERROR((Data!K144-$F$4),\"\")","v":""},{"$f":"IF(AND(F144<>\"\",G144<>\"\",H144<>\"\",I144<>\"\",J144<>\"\"),Data!L144-$F$4,\"\")","v":""},"","","","",{"$f":"IF(F144<>\"\",STDEV($Q$12:Q144),\"\")","v":""},""]
[134,null,{"$f":"RIGHT(Data!C145,10)","v":""},null,null,null,null,null,null,null,{"$f":"IFERROR($U$3*Data!O145/SQRT(COUNT(Data!F145:J145)),\"\")","v":""},"","","","","",{"$f":"IFERROR((Data!K145-$F$4),\"\")","v":""},{"$f":"IF(AND(F145<>\"\",G145<>\"\",H145<>\"\",I145<>\"\",J145<>\"\"),Data!L145-$F$4,\"\")","v":""},"","","","",{"$f":"IF(F145<>\"\",STDEV($Q$12:Q145),\"\")","v":""},""]
[135,null,{"$f":"RIGHT(Data!C146,10)","v":""},null,null,null,null,null,null,null,{"$f":"IFERROR($U$3*Data!O146/SQRT(COUNT(Data!F146:J146)),\"\")","v":""},"","","","","",{"$f":"IFERROR((Data!K146-$F$4),\"\")","v":""},{"$f":"IF(AND(F146<>\"\",G146<>\"\",H146<>\"\",I146<>\"\",J146<>\"\"),Data!L146-$F$4,\"\")","v":""},"","","","",{"$f":"IF(F146<>\"\",STDEV($Q$12:Q146),\"\")","v":""},""]
[136,null,{"$f":"RIGHT(Data!C147,10)","v":""},null,null,null,null,null,null,null,{"$f":"IFERROR($U$3*Data!O147/SQRT(COUNT(Data!F147:J147)),\"\")","v":""},"","","","","",{"$f":"IFERROR((Data!K147-$F$4),\"\")","v":""},{"$f":"IF(AND(F147<>\"\",G147<>\"\",H147<>\"\",I147<>\"\",J147<>\"\"),Data!L147-$F$4,\"\")","v":""},"","","","",{"$f":"IF(F147<>\"\",STDEV($Q$12:Q147),\"\")","v":""},""]
[137,null,{"$f":"RIGHT(Data!C148,10)","v":""},null,null,null,null,null,null,null,{"$f":"IFERROR($U$3*Data!O148/SQRT(COUNT(Data!F148:J148)),\"\")","v":""},"","","","","",{"$f":"IFERROR((Data!K148-$F$4),\"\")","v":""},{"$f":"IF(AND(F148<>\"\",G148<>\"\",H148<>\"\",I148<>\"\",J148<>\"\"),Data!L148-$F$4,\"\")","v":""},"","","","",{"$f":"IF(F148<>\"\",STDEV($Q$12:Q148),\"\")","v":""},""]
[138,null,{"$f":"RIGHT(Data!C149,10)","v":""},null,null,null,null,null,null,null,{"$f":"IFERROR($U$3*Data!O149/SQRT(COUNT(Data!F149:J149)),\"\")","v":""},"","","","","",{"$f":"IFERROR((Data!K149-$F$4),\"\")","v":""},{"$f":"IF(AND(F149<>\"\",G149<>\"\",H149<>\"\",I149<>\"\",J149<>\"\"),Data!L149-$F$4,\"\")","v":""},"","","","",{"$f":"IF(F149<>\"\",STDEV($Q$12:Q149),\"\")","v":""},""]
[139,null,{"$f":"RIGHT(Data!C150,10)","v":""},null,null,null,null,null,null,null,{"$f":"IFERROR($U$3*Data!O150/SQRT(COUNT(Data!F150:J150)),\"\")","v":""},"","","","","",{"$f":"IFERROR((Data!K150-$F$4),\"\")","v":""},{"$f":"IF(AND(F150<>\"\",G150<>\"\",H150<>\"\",I150<>\"\",J150<>\"\"),Data!L150-$F$4,\"\")","v":""},"","","","",{"$f":"IF(F150<>\"\",STDEV($Q$12:Q150),\"\")","v":""},""]
[140,null,{"$f":"RIGHT(Data!C151,10)","v":""},null,null,null,null,null,null,null,{"$f":"IFERROR($U$3*Data!O151/SQRT(COUNT(Data!F151:J151)),\"\")","v":""},"","","","","",{"$f":"IFERROR((Data!K151-$F$4),\"\")","v":""},{"$f":"IF(AND(F151<>\"\",G151<>\"\",H151<>\"\",I151<>\"\",J151<>\"\"),Data!L151-$F$4,\"\")","v":""},"","","","",{"$f":"IF(F151<>\"\",STDEV($Q$12:Q151),\"\")","v":""},""]
[141,null,{"$f":"RIGHT(Data!C152,10)","v":""},null,null,null,null,null,null,null,{"$f":"IFERROR($U$3*Data!O152/SQRT(COUNT(Data!F152:J152)),\"\")","v":""},"","","","","",{"$f":"IFERROR((Data!K152-$F$4),\"\")","v":""},{"$f":"IF(AND(F152<>\"\",G152<>\"\",H152<>\"\",I152<>\"\",J152<>\"\"),Data!L152-$F$4,\"\")","v":""},"","","","",{"$f":"IF(F152<>\"\",STDEV($Q$12:Q152),\"\")","v":""},""]
[142,null,{"$f":"RIGHT(Data!C153,10)","v":""},null,null,null,null,null,null,null,{"$f":"IFERROR($U$3*Data!O153/SQRT(COUNT(Data!F153:J153)),\"\")","v":""},"","","","","",{"$f":"IFERROR((Data!K153-$F$4),\"\")","v":""},{"$f":"IF(AND(F153<>\"\",G153<>\"\",H153<>\"\",I153<>\"\",J153<>\"\"),Data!L153-$F$4,\"\")","v":""},"","","","",{"$f":"IF(F153<>\"\",STDEV($Q$12:Q153),\"\")","v":""},""]
[143,null,{"$f":"RIGHT(Data!C154,10)","v":""},null,null,null,null,null,null,null,{"$f":"IFERROR($U$3*Data!O154/SQRT(COUNT(Data!F154:J154)),\"\")","v":""},"","","","","",{"$f":"IFERROR((Data!K154-$F$4),\"\")","v":""},{"$f":"IF(AND(F154<>\"\",G154<>\"\",H154<>\"\",I154<>\"\",J154<>\"\"),Data!L154-$F$4,\"\")","v":""},"","","","",{"$f":"IF(F154<>\"\",STDEV($Q$12:Q154),\"\")","v":""},""]
[144,null,{"$f":"RIGHT(Data!C155,10)","v":""},null,null,null,null,null,null,null,{"$f":"IFERROR($U$3*Data!O155/SQRT(COUNT(Data!F155:J155)),\"\")","v":""},"","","","","",{"$f":"IFERROR((Data!K155-$F$4),\"\")","v":""},{"$f":"IF(AND(F155<>\"\",G155<>\"\",H155<>\"\",I155<>\"\",J155<>\"\"),Data!L155-$F$4,\"\")","v":""},"","","","",{"$f":"IF(F155<>\"\",STDEV($Q$12:Q155),\"\")","v":""},""]
[145,null,{"$f":"RIGHT(Data!C156,10)","v":""},null,null,null,null,null,null,null,{"$f":"IFERROR($U$3*Data!O156/SQRT(COUNT(Data!F156:J156)),\"\")","v":""},"","","","","",{"$f":"IFERROR((Data!K156-$F$4),\"\")","v":""},{"$f":"IF(AND(F156<>\"\",G156<>\"\",H156<>\"\",I156<>\"\",J156<>\"\"),Data!L156-$F$4,\"\")","v":""},"","","","",{"$f":"IF(F156<>\"\",STDEV($Q$12:Q156),\"\")","v":""},""]
[146,null,{"$f":"RIGHT(Data!C157,10)","v":""},null,null,null,null,null,null,null,{"$f":"IFERROR($U$3*Data!O157/SQRT(COUNT(Data!F157:J157)),\"\")","v":""},"","","","","",{"$f":"IFERROR((Data!K157-$F$4),\"\")","v":""},{"$f":"IF(AND(F157<>\"\",G157<>\"\",H157<>\"\",I157<>\"\",J157<>\"\"),Data!L157-$F$4,\"\")","v":""},"","","","",{"$f":"IF(F157<>\"\",STDEV($Q$12:Q157),\"\")","v":""},""]
[147,null,{"$f":"RIGHT(Data!C158,10)","v":""},null,null,null,null,null,null,null,{"$f":"IFERROR($U$3*Data!O158/SQRT(COUNT(Data!F158:J158)),\"\")","v":""},"","","","","",{"$f":"IFERROR((Data!K158-$F$4),\"\")","v":""},{"$f":"IF(AND(F158<>\"\",G158<>\"\",H158<>\"\",I158<>\"\",J158<>\"\"),Data!L158-$F$4,\"\")","v":""},"","","","",{"$f":"IF(F158<>\"\",STDEV($Q$12:Q158),\"\")","v":""},""]
[148,null,{"$f":"RIGHT(Data!C159,10)","v":""},null,null,null,null,null,null,null,{"$f":"IFERROR($U$3*Data!O159/SQRT(COUNT(Data!F159:J159)),\"\")","v":""},"","","","","",{"$f":"IFERROR((Data!K159-$F$4),\"\")","v":""},{"$f":"IF(AND(F159<>\"\",G159<>\"\",H159<>\"\",I159<>\"\",J159<>\"\"),Data!L159-$F$4,\"\")","v":""},"","","","",{"$f":"IF(F159<>\"\",STDEV($Q$12:Q159),\"\")","v":""},""]
[149,null,{"$f":"RIGHT(Data!C160,10)","v":""},null,null,null,null,null,null,null,{"$f":"IFERROR($U$3*Data!O160/SQRT(COUNT(Data!F160:J160)),\"\")","v":""},"","","","","",{"$f":"IFERROR((Data!K160-$F$4),\"\")","v":""},{"$f":"IF(AND(F160<>\"\",G160<>\"\",H160<>\"\",I160<>\"\",J160<>\"\"),Data!L160-$F$4,\"\")","v":""},"","","","",{"$f":"IF(F160<>\"\",STDEV($Q$12:Q160),\"\")","v":""},""]
[150,null,{"$f":"RIGHT(Data!C161,10)","v":""},null,null,null,null,null,null,null,{"$f":"IFERROR($U$3*Data!O161/SQRT(COUNT(Data!F161:J161)),\"\")","v":""},"","","","","",{"$f":"IFERROR((Data!K161-$F$4),\"\")","v":""},{"$f":"IF(AND(F161<>\"\",G161<>\"\",H161<>\"\",I161<>\"\",J161<>\"\"),Data!L161-$F$4,\"\")","v":""},"","","","",{"$f":"IF(F161<>\"\",STDEV($Q$12:Q161),\"\")","v":""},""]
[151,null,{"$f":"RIGHT(Data!C162,10)","v":""},null,null,null,null,null,null,null,{"$f":"IFERROR($U$3*Data!O162/SQRT(COUNT(Data!F162:J162)),\"\")","v":""},"","","","","",{"$f":"IFERROR((Data!K162-$F$4),\"\")","v":""},{"$f":"IF(AND(F162<>\"\",G162<>\"\",H162<>\"\",I162<>\"\",J162<>\"\"),Data!L162-$F$4,\"\")","v":""},"","","","",{"$f":"IF(F162<>\"\",STDEV($Q$12:Q162),\"\")","v":""},""]
[152,null,{"$f":"RIGHT(Data!C163,10)","v":""},null,null,null,null,null,null,null,{"$f":"IFERROR($U$3*Data!O163/SQRT(COUNT(Data!F163:J163)),\"\")","v":""},"","","","","",{"$f":"IFERROR((Data!K163-$F$4),\"\")","v":""},{"$f":"IF(AND(F163<>\"\",G163<>\"\",H163<>\"\",I163<>\"\",J163<>\"\"),Data!L163-$F$4,\"\")","v":""},"","","","",{"$f":"IF(F163<>\"\",STDEV($Q$12:Q163),\"\")","v":""},""]
[153,null,{"$f":"RIGHT(Data!C164,10)","v":""},null,null,null,null,null,null,null,{"$f":"IFERROR($U$3*Data!O164/SQRT(COUNT(Data!F164:J164)),\"\")","v":""},"","","","","",{"$f":"IFERROR((Data!K164-$F$4),\"\")","v":""},{"$f":"IF(AND(F164<>\"\",G164<>\"\",H164<>\"\",I164<>\"\",J164<>\"\"),Data!L164-$F$4,\"\")","v":""},"","","","",{"$f":"IF(F164<>\"\",STDEV($Q$12:Q164),\"\")","v":""},""]
[154,null,{"$f":"RIGHT(Data!C165,10)","v":""},null,null,null,null,null,null,null,{"$f":"IFERROR($U$3*Data!O165/SQRT(COUNT(Data!F165:J165)),\"\")","v":""},"","","","","",{"$f":"IFERROR((Data!K165-$F$4),\"\")","v":""},{"$f":"IF(AND(F165<>\"\",G165<>\"\",H165<>\"\",I165<>\"\",J165<>\"\"),Data!L165-$F$4,\"\")","v":""},"","","","",{"$f":"IF(F165<>\"\",STDEV($Q$12:Q165),\"\")","v":""},""]
[155,null,{"$f":"RIGHT(Data!C166,10)","v":""},null,null,null,null,null,null,null,{"$f":"IFERROR($U$3*Data!O166/SQRT(COUNT(Data!F166:J166)),\"\")","v":""},"","","","","",{"$f":"IFERROR((Data!K166-$F$4),\"\")","v":""},{"$f":"IF(AND(F166<>\"\",G166<>\"\",H166<>\"\",I166<>\"\",J166<>\"\"),Data!L166-$F$4,\"\")","v":""},"","","","",{"$f":"IF(F166<>\"\",STDEV($Q$12:Q166),\"\")","v":""},""]
[156,null,{"$f":"RIGHT(Data!C167,10)","v":""},null,null,null,null,null,null,null,{"$f":"IFERROR($U$3*Data!O167/SQRT(COUNT(Data!F167:J167)),\"\")","v":""},"","","","","",{"$f":"IFERROR((Data!K167-$F$4),\"\")","v":""},{"$f":"IF(AND(F167<>\"\",G167<>\"\",H167<>\"\",I167<>\"\",J167<>\"\"),Data!L167-$F$4,\"\")","v":""},"","","","",{"$f":"IF(F167<>\"\",STDEV($Q$12:Q167),\"\")","v":""},""]
[157,null,{"$f":"RIGHT(Data!C168,10)","v":""},null,null,null,null,null,null,null,{"$f":"IFERROR($U$3*Data!O168/SQRT(COUNT(Data!F168:J168)),\"\")","v":""},"","","","","",{"$f":"IFERROR((Data!K168-$F$4),\"\")","v":""},{"$f":"IF(AND(F168<>\"\",G168<>\"\",H168<>\"\",I168<>\"\",J168<>\"\"),Data!L168-$F$4,\"\")","v":""},"","","","",{"$f":"IF(F168<>\"\",STDEV($Q$12:Q168),\"\")","v":""},""]
[158,null,{"$f":"RIGHT(Data!C169,10)","v":""},null,null,null,null,null,null,null,{"$f":"IFERROR($U$3*Data!O169/SQRT(COUNT(Data!F169:J169)),\"\")","v":""},"","","","","",{"$f":"IFERROR((Data!K169-$F$4),\"\")","v":""},{"$f":"IF(AND(F169<>\"\",G169<>\"\",H169<>\"\",I169<>\"\",J169<>\"\"),Data!L169-$F$4,\"\")","v":""},"","","","",{"$f":"IF(F169<>\"\",STDEV($Q$12:Q169),\"\")","v":""},""]
[159,null,{"$f":"RIGHT(Data!C170,10)","v":""},null,null,null,null,null,null,null,{"$f":"IFERROR($U$3*Data!O170/SQRT(COUNT(Data!F170:J170)),\"\")","v":""},"","","","","",{"$f":"IFERROR((Data!K170-$F$4),\"\")","v":""},{"$f":"IF(AND(F170<>\"\",G170<>\"\",H170<>\"\",I170<>\"\",J170<>\"\"),Data!L170-$F$4,\"\")","v":""},"","","","",{"$f":"IF(F170<>\"\",STDEV($Q$12:Q170),\"\")","v":""},""]
[160,null,{"$f":"RIGHT(Data!C171,10)","v":""},null,null,null,null,null,null,null,{"$f":"IFERROR($U$3*Data!O171/SQRT(COUNT(Data!F171:J171)),\"\")","v":""},"","","","","",{"$f":"IFERROR((Data!K171-$F$4),\"\")","v":""},{"$f":"IF(AND(F171<>\"\",G171<>\"\",H171<>\"\",I171<>\"\",J171<>\"\"),Data!L171-$F$4,\"\")","v":""},"","","","",{"$f":"IF(F171<>\"\",STDEV($Q$12:Q171),\"\")","v":""},""]
[161,null,{"$f":"RIGHT(Data!C172,10)","v":""},null,null,null,null,null,null,null,{"$f":"IFERROR($U$3*Data!O172/SQRT(COUNT(Data!F172:J172)),\"\")","v":""},"","","","","",{"$f":"IFERROR((Data!K172-$F$4),\"\")","v":""},{"$f":"IF(AND(F172<>\"\",G172<>\"\",H172<>\"\",I172<>\"\",J172<>\"\"),Data!L172-$F$4,\"\")","v":""},"","","","",{"$f":"IF(F172<>\"\",STDEV($Q$12:Q172),\"\")","v":""},""]
[162,null,{"$f":"RIGHT(Data!C173,10)","v":""},null,null,null,null,null,null,null,{"$f":"IFERROR($U$3*Data!O173/SQRT(COUNT(Data!F173:J173)),\"\")","v":""},"","","","","",{"$f":"IFERROR((Data!K173-$F$4),\"\")","v":""},{"$f":"IF(AND(F173<>\"\",G173<>\"\",H173<>\"\",I173<>\"\",J173<>\"\"),Data!L173-$F$4,\"\")","v":""},"","","","",{"$f":"IF(F173<>\"\",STDEV($Q$12:Q173),\"\")","v":""},""]
[163,null,{"$f":"RIGHT(Data!C174,10)","v":""},null,null,null,null,null,null,null,{"$f":"IFERROR($U$3*Data!O174/SQRT(COUNT(Data!F174:J174)),\"\")","v":""},"","","","","",{"$f":"IFERROR((Data!K174-$F$4),\"\")","v":""},{"$f":"IF(AND(F174<>\"\",G174<>\"\",H174<>\"\",I174<>\"\",J174<>\"\"),Data!L174-$F$4,\"\")","v":""},"","","","",{"$f":"IF(F174<>\"\",STDEV($Q$12:Q174),\"\")","v":""},""]
[164,null,{"$f":"RIGHT(Data!C175,10)","v":""},null,null,null,null,null,null,null,{"$f":"IFERROR($U$3*Data!O175/SQRT(COUNT(Data!F175:J175)),\"\")","v":""},"","","","","",{"$f":"IFERROR((Data!K175-$F$4),\"\")","v":""},{"$f":"IF(AND(F175<>\"\",G175<>\"\",H175<>\"\",I175<>\"\",J175<>\"\"),Data!L175-$F$4,\"\")","v":""},"","","","",{"$f":"IF(F175<>\"\",STDEV($Q$12:Q175),\"\")","v":""},""]
[165,null,{"$f":"RIGHT(Data!C176,10)","v":""},null,null,null,null,null,null,null,{"$f":"IFERROR($U$3*Data!O176/SQRT(COUNT(Data!F176:J176)),\"\")","v":""},"","","","","",{"$f":"IFERROR((Data!K176-$F$4),\"\")","v":""},{"$f":"IF(AND(F176<>\"\",G176<>\"\",H176<>\"\",I176<>\"\",J176<>\"\"),Data!L176-$F$4,\"\")","v":""},"","","","",{"$f":"IF(F176<>\"\",STDEV($Q$12:Q176),\"\")","v":""},""]
[166,null,{"$f":"RIGHT(Data!C177,10)","v":""},null,null,null,null,null,null,null,{"$f":"IFERROR($U$3*Data!O177/SQRT(COUNT(Data!F177:J177)),\"\")","v":""},"","","","","",{"$f":"IFERROR((Data!K177-$F$4),\"\")","v":""},{"$f":"IF(AND(F177<>\"\",G177<>\"\",H177<>\"\",I177<>\"\",J177<>\"\"),Data!L177-$F$4,\"\")","v":""},"","","","",{"$f":"IF(F177<>\"\",STDEV($Q$12:Q177),\"\")","v":""},""]
[167,null,{"$f":"RIGHT(Data!C178,10)","v":""},null,null,null,null,null,null,null,{"$f":"IFERROR($U$3*Data!O178/SQRT(COUNT(Data!F178:J178)),\"\")","v":""},"","","","","",{"$f":"IFERROR((Data!K178-$F$4),\"\")","v":""},{"$f":"IF(AND(F178<>\"\",G178<>\"\",H178<>\"\",I178<>\"\",J178<>\"\"),Data!L178-$F$4,\"\")","v":""},"","","","",{"$f":"IF(F178<>\"\",STDEV($Q$12:Q178),\"\")","v":""},""]
[168,null,{"$f":"RIGHT(Data!C179,10)","v":""},null,null,null,null,null,null,null,{"$f":"IFERROR($U$3*Data!O179/SQRT(COUNT(Data!F179:J179)),\"\")","v":""},"","","","","",{"$f":"IFERROR((Data!K179-$F$4),\"\")","v":""},{"$f":"IF(AND(F179<>\"\",G179<>\"\",H179<>\"\",I179<>\"\",J179<>\"\"),Data!L179-$F$4,\"\")","v":""},"","","","",{"$f":"IF(F179<>\"\",STDEV($Q$12:Q179),\"\")","v":""},""]
[169,null,{"$f":"RIGHT(Data!C180,10)","v":""},null,null,null,null,null,null,null,{"$f":"IFERROR($U$3*Data!O180/SQRT(COUNT(Data!F180:J180)),\"\")","v":""},"","","","","",{"$f":"IFERROR((Data!K180-$F$4),\"\")","v":""},{"$f":"IF(AND(F180<>\"\",G180<>\"\",H180<>\"\",I180<>\"\",J180<>\"\"),Data!L180-$F$4,\"\")","v":""},"","","","",{"$f":"IF(F180<>\"\",STDEV($Q$12:Q180),\"\")","v":""},""]
[170,null,{"$f":"RIGHT(Data!C181,10)","v":""},null,null,null,null,null,null,null,{"$f":"IFERROR($U$3*Data!O181/SQRT(COUNT(Data!F181:J181)),\"\")","v":""},"","","","","",{"$f":"IFERROR((Data!K181-$F$4),\"\")","v":""},{"$f":"IF(AND(F181<>\"\",G181<>\"\",H181<>\"\",I181<>\"\",J181<>\"\"),Data!L181-$F$4,\"\")","v":""},"","","","",{"$f":"IF(F181<>\"\",STDEV($Q$12:Q181),\"\")","v":""},""]
[171,null,{"$f":"RIGHT(Data!C182,10)","v":""},null,null,null,null,null,null,null,{"$f":"IFERROR($U$3*Data!O182/SQRT(COUNT(Data!F182:J182)),\"\")","v":""},"","","","","",{"$f":"IFERROR((Data!K182-$F$4),\"\")","v":""},{"$f":"IF(AND(F182<>\"\",G182<>\"\",H182<>\"\",I182<>\"\",J182<>\"\"),Data!L182-$F$4,\"\")","v":""},"","","","",{"$f":"IF(F182<>\"\",STDEV($Q$12:Q182),\"\")","v":""},""]
[172,null,{"$f":"RIGHT(Data!C183,10)","v":""},null,null,null,null,null,null,null,{"$f":"IFERROR($U$3*Data!O183/SQRT(COUNT(Data!F183:J183)),\"\")","v":""},"","","","","",{"$f":"IFERROR((Data!K183-$F$4),\"\")","v":""},{"$f":"IF(AND(F183<>\"\",G183<>\"\",H183<>\"\",I183<>\"\",J183<>\"\"),Data!L183-$F$4,\"\")","v":""},"","","","",{"$f":"IF(F183<>\"\",STDEV($Q$12:Q183),\"\")","v":""},""]
[173,null,{"$f":"RIGHT(Data!C184,10)","v":""},null,null,null,null,null,null,null,{"$f":"IFERROR($U$3*Data!O184/SQRT(COUNT(Data!F184:J184)),\"\")","v":""},"","","","","",{"$f":"IFERROR((Data!K184-$F$4),\"\")","v":""},{"$f":"IF(AND(F184<>\"\",G184<>\"\",H184<>\"\",I184<>\"\",J184<>\"\"),Data!L184-$F$4,\"\")","v":""},"","","","",{"$f":"IF(F184<>\"\",STDEV($Q$12:Q184),\"\")","v":""},""]
[174,null,{"$f":"RIGHT(Data!C185,10)","v":""},null,null,null,null,null,null,null,{"$f":"IFERROR($U$3*Data!O185/SQRT(COUNT(Data!F185:J185)),\"\")","v":""},"","","","","",{"$f":"IFERROR((Data!K185-$F$4),\"\")","v":""},{"$f":"IF(AND(F185<>\"\",G185<>\"\",H185<>\"\",I185<>\"\",J185<>\"\"),Data!L185-$F$4,\"\")","v":""},"","","","",{"$f":"IF(F185<>\"\",STDEV($Q$12:Q185),\"\")","v":""},""]
[175,null,{"$f":"RIGHT(Data!C186,10)","v":""},null,null,null,null,null,null,null,{"$f":"IFERROR($U$3*Data!O186/SQRT(COUNT(Data!F186:J186)),\"\")","v":""},"","","","","",{"$f":"IFERROR((Data!K186-$F$4),\"\")","v":""},{"$f":"IF(AND(F186<>\"\",G186<>\"\",H186<>\"\",I186<>\"\",J186<>\"\"),Data!L186-$F$4,\"\")","v":""},"","","","",{"$f":"IF(F186<>\"\",STDEV($Q$12:Q186),\"\")","v":""},""]
[176,null,{"$f":"RIGHT(Data!C187,10)","v":""},null,null,null,null,null,null,null,{"$f":"IFERROR($U$3*Data!O187/SQRT(COUNT(Data!F187:J187)),\"\")","v":""},"","","","","",{"$f":"IFERROR((Data!K187-$F$4),\"\")","v":""},{"$f":"IF(AND(F187<>\"\",G187<>\"\",H187<>\"\",I187<>\"\",J187<>\"\"),Data!L187-$F$4,\"\")","v":""},"","","","",{"$f":"IF(F187<>\"\",STDEV($Q$12:Q187),\"\")","v":""},""]
[177,null,{"$f":"RIGHT(Data!C188,10)","v":""},null,null,null,null,null,null,null,{"$f":"IFERROR($U$3*Data!O188/SQRT(COUNT(Data!F188:J188)),\"\")","v":""},"","","","","",{"$f":"IFERROR((Data!K188-$F$4),\"\")","v":""},{"$f":"IF(AND(F188<>\"\",G188<>\"\",H188<>\"\",I188<>\"\",J188<>\"\"),Data!L188-$F$4,\"\")","v":""},"","","","",{"$f":"IF(F188<>\"\",STDEV($Q$12:Q188),\"\")","v":""},""]
[178,null,{"$f":"RIGHT(Data!C189,10)","v":""},null,null,null,null,null,null,null,{"$f":"IFERROR($U$3*Data!O189/SQRT(COUNT(Data!F189:J189)),\"\")","v":""},"","","","","",{"$f":"IFERROR((Data!K189-$F$4),\"\")","v":""},{"$f":"IF(AND(F189<>\"\",G189<>\"\",H189<>\"\",I189<>\"\",J189<>\"\"),Data!L189-$F$4,\"\")","v":""},"","","","",{"$f":"IF(F189<>\"\",STDEV($Q$12:Q189),\"\")","v":""},""]
[179,null,{"$f":"RIGHT(Data!C190,10)","v":""},null,null,null,null,null,null,null,{"$f":"IFERROR($U$3*Data!O190/SQRT(COUNT(Data!F190:J190)),\"\")","v":""},"","","","","",{"$f":"IFERROR((Data!K190-$F$4),\"\")","v":""},{"$f":"IF(AND(F190<>\"\",G190<>\"\",H190<>\"\",I190<>\"\",J190<>\"\"),Data!L190-$F$4,\"\")","v":""},"","","","",{"$f":"IF(F190<>\"\",STDEV($Q$12:Q190),\"\")","v":""},""]
[180,null,{"$f":"RIGHT(Data!C191,10)","v":""},null,null,null,null,null,null,null,{"$f":"IFERROR($U$3*Data!O191/SQRT(COUNT(Data!F191:J191)),\"\")","v":""},"","","","","",{"$f":"IFERROR((Data!K191-$F$4),\"\")","v":""},{"$f":"IF(AND(F191<>\"\",G191<>\"\",H191<>\"\",I191<>\"\",J191<>\"\"),Data!L191-$F$4,\"\")","v":""},"","","","",{"$f":"IF(F191<>\"\",STDEV($Q$12:Q191),\"\")","v":""},""]
[181,null,{"$f":"RIGHT(Data!C192,10)","v":""},null,null,null,null,null,null,null,{"$f":"IFERROR($U$3*Data!O192/SQRT(COUNT(Data!F192:J192)),\"\")","v":""},"","","","","",{"$f":"IFERROR((Data!K192-$F$4),\"\")","v":""},{"$f":"IF(AND(F192<>\"\",G192<>\"\",H192<>\"\",I192<>\"\",J192<>\"\"),Data!L192-$F$4,\"\")","v":""},"","","","",{"$f":"IF(F192<>\"\",STDEV($Q$12:Q192),\"\")","v":""},""]
[182,null,{"$f":"RIGHT(Data!C193,10)","v":""},null,null,null,null,null,null,null,{"$f":"IFERROR($U$3*Data!O193/SQRT(COUNT(Data!F193:J193)),\"\")","v":""},"","","","","",{"$f":"IFERROR((Data!K193-$F$4),\"\")","v":""},{"$f":"IF(AND(F193<>\"\",G193<>\"\",H193<>\"\",I193<>\"\",J193<>\"\"),Data!L193-$F$4,\"\")","v":""},"","","","",{"$f":"IF(F193<>\"\",STDEV($Q$12:Q193),\"\")","v":""},""]
[183,null,{"$f":"RIGHT(Data!C194,10)","v":""},null,null,null,null,null,null,null,{"$f":"IFERROR($U$3*Data!O194/SQRT(COUNT(Data!F194:J194)),\"\")","v":""},"","","","","",{"$f":"IFERROR((Data!K194-$F$4),\"\")","v":""},{"$f":"IF(AND(F194<>\"\",G194<>\"\",H194<>\"\",I194<>\"\",J194<>\"\"),Data!L194-$F$4,\"\")","v":""},"","","","",{"$f":"IF(F194<>\"\",STDEV($Q$12:Q194),\"\")","v":""},""]
[184,null,{"$f":"RIGHT(Data!C195,10)","v":""},null,null,null,null,null,null,null,{"$f":"IFERROR($U$3*Data!O195/SQRT(COUNT(Data!F195:J195)),\"\")","v":""},"","","","","",{"$f":"IFERROR((Data!K195-$F$4),\"\")","v":""},{"$f":"IF(AND(F195<>\"\",G195<>\"\",H195<>\"\",I195<>\"\",J195<>\"\"),Data!L195-$F$4,\"\")","v":""},"","","","",{"$f":"IF(F195<>\"\",STDEV($Q$12:Q195),\"\")","v":""},""]
[185,null,{"$f":"RIGHT(Data!C196,10)","v":""},null,null,null,null,null,null,null,{"$f":"IFERROR($U$3*Data!O196/SQRT(COUNT(Data!F196:J196)),\"\")","v":""},"","","","","",{"$f":"IFERROR((Data!K196-$F$4),\"\")","v":""},{"$f":"IF(AND(F196<>\"\",G196<>\"\",H196<>\"\",I196<>\"\",J196<>\"\"),Data!L196-$F$4,\"\")","v":""},"","","","",{"$f":"IF(F196<>\"\",STDEV($Q$12:Q196),\"\")","v":""},""]
[186,null,{"$f":"RIGHT(Data!C197,10)","v":""},null,null,null,null,null,null,null,{"$f":"IFERROR($U$3*Data!O197/SQRT(COUNT(Data!F197:J197)),\"\")","v":""},"","","","","",{"$f":"IFERROR((Data!K197-$F$4),\"\")","v":""},{"$f":"IF(AND(F197<>\"\",G197<>\"\",H197<>\"\",I197<>\"\",J197<>\"\"),Data!L197-$F$4,\"\")","v":""},"","","","",{"$f":"IF(F197<>\"\",STDEV($Q$12:Q197),\"\")","v":""},""]
[187,null,{"$f":"RIGHT(Data!C198,10)","v":""},null,null,null,null,null,null,null,{"$f":"IFERROR($U$3*Data!O198/SQRT(COUNT(Data!F198:J198)),\"\")","v":""},"","","","","",{"$f":"IFERROR((Data!K198-$F$4),\"\")","v":""},{"$f":"IF(AND(F198<>\"\",G198<>\"\",H198<>\"\",I198<>\"\",J198<>\"\"),Data!L198-$F$4,\"\")","v":""},"","","","",{"$f":"IF(F198<>\"\",STDEV($Q$12:Q198),\"\")","v":""},""]
[188,null,{"$f":"RIGHT(Data!C199,10)","v":""},null,null,null,null,null,null,null,{"$f":"IFERROR($U$3*Data!O199/SQRT(COUNT(Data!F199:J199)),\"\")","v":""},"","","","","",{"$f":"IFERROR((Data!K199-$F$4),\"\")","v":""},{"$f":"IF(AND(F199<>\"\",G199<>\"\",H199<>\"\",I199<>\"\",J199<>\"\"),Data!L199-$F$4,\"\")","v":""},"","","","",{"$f":"IF(F199<>\"\",STDEV($Q$12:Q199),\"\")","v":""},""]
[189,null,{"$f":"RIGHT(Data!C200,10)","v":""},null,null,null,null,null,null,null,{"$f":"IFERROR($U$3*Data!O200/SQRT(COUNT(Data!F200:J200)),\"\")","v":""},"","","","","",{"$f":"IFERROR((Data!K200-$F$4),\"\")","v":""},{"$f":"IF(AND(F200<>\"\",G200<>\"\",H200<>\"\",I200<>\"\",J200<>\"\"),Data!L200-$F$4,\"\")","v":""},"","","","",{"$f":"IF(F200<>\"\",STDEV($Q$12:Q200),\"\")","v":""},""]
[190,null,{"$f":"RIGHT(Data!C201,10)","v":""},null,null,null,null,null,null,null,{"$f":"IFERROR($U$3*Data!O201/SQRT(COUNT(Data!F201:J201)),\"\")","v":""},"","","","","",{"$f":"IFERROR((Data!K201-$F$4),\"\")","v":""},{"$f":"IF(AND(F201<>\"\",G201<>\"\",H201<>\"\",I201<>\"\",J201<>\"\"),Data!L201-$F$4,\"\")","v":""},"","","","",{"$f":"IF(F201<>\"\",STDEV($Q$12:Q201),\"\")","v":""},""]
[191,null,{"$f":"RIGHT(Data!C202,10)","v":""},null,null,null,null,null,null,null,{"$f":"IFERROR($U$3*Data!O202/SQRT(COUNT(Data!F202:J202)),\"\")","v":""},"","","","","",{"$f":"IFERROR((Data!K202-$F$4),\"\")","v":""},{"$f":"IF(AND(F202<>\"\",G202<>\"\",H202<>\"\",I202<>\"\",J202<>\"\"),Data!L202-$F$4,\"\")","v":""},"","","","",{"$f":"IF(F202<>\"\",STDEV($Q$12:Q202),\"\")","v":""},""]
[192,null,{"$f":"RIGHT(Data!C203,10)","v":""},null,null,null,null,null,null,null,{"$f":"IFERROR($U$3*Data!O203/SQRT(COUNT(Data!F203:J203)),\"\")","v":""},"","","","","",{"$f":"IFERROR((Data!K203-$F$4),\"\")","v":""},{"$f":"IF(AND(F203<>\"\",G203<>\"\",H203<>\"\",I203<>\"\",J203<>\"\"),Data!L203-$F$4,\"\")","v":""},"","","","",{"$f":"IF(F203<>\"\",STDEV($Q$12:Q203),\"\")","v":""},""]
[193,null,{"$f":"RIGHT(Data!C204,10)","v":""},null,null,null,null,null,null,null,{"$f":"IFERROR($U$3*Data!O204/SQRT(COUNT(Data!F204:J204)),\"\")","v":""},"","",{"$f":"IF(COUNT(F204:J204)>=5,STDEV(F204:J204)*$U$3/SQRT((COUNT(F204:J204))),\"\")","v":""},"","",{"$f":"IFERROR((Data!K204-$F$4),\"\")","v":""},{"$f":"IF(AND(F204<>\"\",G204<>\"\",H204<>\"\",I204<>\"\",J204<>\"\"),Data!L204-$F$4,\"\")","v":""},{"$f":"IF(O204<>\"\",FIXED(X204,1) & \" ± \" & FIXED(O204+ABS(R204),2),\"\")","v":""},"","","",{"$f":"IF(F204<>\"\",STDEV($Q$12:Q204),\"\")","v":""},{"$f":"IF(F204<>\"\",AVERAGE(F204:J204),\"\")","v":""}]
[194,null,{"$f":"RIGHT(Data!C205,10)","v":""},null,null,null,null,null,null,null,{"$f":"IFERROR($U$3*Data!O205/SQRT(COUNT(Data!F205:J205)),\"\")","v":""},{"$f":"IF(F205<>\"\",V205*W205/SQRT(A205),\"\")","v":""},{"$f":"IF(F205<>\"\",$U$4*SQRT($U$7^2+L205^2+K205^2+$U$5^2),\"\")","v":""},"",{"$f":"IFERROR($U$4*SQRT($U$7^2+L205^2+K205^2+$U$5^2+N205^2),\"\")","v":""},{"$f":"IF(AND(F205<>\"\",G205<>\"\",H205<>\"\",I205<>\"\",J205<>\"\"),AVERAGE(F205:J205),\"\")","v":""},{"$f":"IFERROR((Data!K205-$F$4),\"\")","v":""},{"$f":"IF(AND(F205<>\"\",G205<>\"\",H205<>\"\",I205<>\"\",J205<>\"\"),Data!L205-$F$4,\"\")","v":""},"",{"$f":"IF(F205<>\"\",FIXED(AVERAGE(F205:J205)-R205,1) & \" ± \" & FIXED(O205,2),\"\")","v":""},{"$f":"IF(IO205=\"\",\"\",IO205-1)","v":""},{"$f":"IF(F205<>\"\",TINV(1-0.68,A205-1),\"\")","v":""},{"$f":"IF(F205<>\"\",STDEV($Q$12:Q205),\"\")","v":""},""]
[195,null,{"$f":"RIGHT(Data!C206,10)","v":""},null,null,null,null,null,null,null,{"$f":"IFERROR($U$3*Data!O206/SQRT(COUNT(Data!F206:J206)),\"\")","v":""},"","","","","",{"$f":"IFERROR((Data!K206-$F$4),\"\")","v":""},{"$f":"IF(AND(F206<>\"\",G206<>\"\",H206<>\"\",I206<>\"\",J206<>\"\"),Data!L206-$F$4,\"\")","v":""},"","","","",{"$f":"IF(F206<>\"\",STDEV($Q$12:Q206),\"\")","v":""},""]
[196,null,{"$f":"RIGHT(Data!C207,10)","v":""},null,null,null,null,null,null,null,{"$f":"IFERROR($U$3*Data!O207/SQRT(COUNT(Data!F207:J207)),\"\")","v":""},"","","","","",{"$f":"IFERROR((Data!K207-$F$4),\"\")","v":""},{"$f":"IF(AND(F207<>\"\",G207<>\"\",H207<>\"\",I207<>\"\",J207<>\"\"),Data!L207-$F$4,\"\")","v":""},"","","","",{"$f":"IF(F207<>\"\",STDEV($Q$12:Q207),\"\")","v":""},""]
[197,null,{"$f":"RIGHT(Data!C208,10)","v":""},null,null,null,null,null,null,null,{"$f":"IFERROR($U$3*Data!O208/SQRT(COUNT(Data!F208:J208)),\"\")","v":""},"","","","","",{"$f":"IFERROR((Data!K208-$F$4),\"\")","v":""},{"$f":"IF(AND(F208<>\"\",G208<>\"\",H208<>\"\",I208<>\"\",J208<>\"\"),Data!L208-$F$4,\"\")","v":""},"","","","",{"$f":"IF(F208<>\"\",STDEV($Q$12:Q208),\"\")","v":""},""]
[198,null,{"$f":"RIGHT(Data!C209,10)","v":""},null,null,null,null,null,null,null,{"$f":"IFERROR($U$3*Data!O209/SQRT(COUNT(Data!F209:J209)),\"\")","v":""},"","","","","",{"$f":"IFERROR((Data!K209-$F$4),\"\")","v":""},{"$f":"IF(AND(F209<>\"\",G209<>\"\",H209<>\"\",I209<>\"\",J209<>\"\"),Data!L209-$F$4,\"\")","v":""},"","","","",{"$f":"IF(F209<>\"\",STDEV($Q$12:Q209),\"\")","v":""},""]
[199,null,{"$f":"RIGHT(Data!C210,10)","v":""},null,null,null,null,null,null,null,{"$f":"IFERROR($U$3*Data!O210/SQRT(COUNT(Data!F210:J210)),\"\")","v":""},"","","","","",{"$f":"IFERROR((Data!K210-$F$4),\"\")","v":""},{"$f":"IF(AND(F210<>\"\",G210<>\"\",H210<>\"\",I210<>\"\",J210<>\"\"),Data!L210-$F$4,\"\")","v":""},"","","","",{"$f":"IF(F210<>\"\",STDEV($Q$12:Q210),\"\")","v":""},""]
[200,null,{"$f":"RIGHT(Data!C211,10)","v":""},null,null,null,null,null,null,null,{"$f":"IFERROR($U$3*Data!O211/SQRT(COUNT(Data!F211:J211)),\"\")","v":""},"","","","","",{"$f":"IFERROR((Data!K211-$F$4),\"\")","v":""},{"$f":"IF(AND(F211<>\"\",G211<>\"\",H211<>\"\",I211<>\"\",J211<>\"\"),Data!L211-$F$4,\"\")","v":""},"","","","",{"$f":"IF(F211<>\"\",STDEV($Q$12:Q211),\"\")","v":""},""]
[201,null,{"$f":"RIGHT(Data!C212,10)","v":""},null,null,null,null,null,null,null,{"$f":"IFERROR($U$3*Data!O212/SQRT(COUNT(Data!F212:J212)),\"\")","v":""},"","","","","",{"$f":"IFERROR((Data!K212-$F$4),\"\")","v":""},{"$f":"IF(AND(F212<>\"\",G212<>\"\",H212<>\"\",I212<>\"\",J212<>\"\"),Data!L212-$F$4,\"\")","v":""},"","","","",{"$f":"IF(F212<>\"\",STDEV($Q$12:Q212),\"\")","v":""},""]
[202,null,{"$f":"RIGHT(Data!C213,10)","v":""},null,null,null,null,null,null,null,{"$f":"IFERROR($U$3*Data!O213/SQRT(COUNT(Data!F213:J213)),\"\")","v":""},"","","","","",{"$f":"IFERROR((Data!K213-$F$4),\"\")","v":""},{"$f":"IF(AND(F213<>\"\",G213<>\"\",H213<>\"\",I213<>\"\",J213<>\"\"),Data!L213-$F$4,\"\")","v":""},"","","","",{"$f":"IF(F213<>\"\",STDEV($Q$12:Q213),\"\")","v":""},""]
[203,null,{"$f":"RIGHT(Data!C214,10)","v":""},null,null,null,null,null,null,null,{"$f":"IFERROR($U$3*Data!O214/SQRT(COUNT(Data!F214:J214)),\"\")","v":""},"","","","","",{"$f":"IFERROR((Data!K214-$F$4),\"\")","v":""},{"$f":"IF(AND(F214<>\"\",G214<>\"\",H214<>\"\",I214<>\"\",J214<>\"\"),Data!L214-$F$4,\"\")","v":""},"","","","",{"$f":"IF(F214<>\"\",STDEV($Q$12:Q214),\"\")","v":""},""]
[204,null,{"$f":"RIGHT(Data!C215,10)","v":""},null,null,null,null,null,null,null,{"$f":"IFERROR($U$3*Data!O215/SQRT(COUNT(Data!F215:J215)),\"\")","v":""},"","","","","",{"$f":"IFERROR((Data!K215-$F$4),\"\")","v":""},{"$f":"IF(AND(F215<>\"\",G215<>\"\",H215<>\"\",I215<>\"\",J215<>\"\"),Data!L215-$F$4,\"\")","v":""},"","","","",{"$f":"IF(F215<>\"\",STDEV($Q$12:Q215),\"\")","v":""},""]
[205,null,{"$f":"RIGHT(Data!C216,10)","v":""},null,null,null,null,null,null,null,{"$f":"IFERROR($U$3*Data!O216/SQRT(COUNT(Data!F216:J216)),\"\")","v":""},"","","","","",{"$f":"IFERROR((Data!K216-$F$4),\"\")","v":""},{"$f":"IF(AND(F216<>\"\",G216<>\"\",H216<>\"\",I216<>\"\",J216<>\"\"),Data!L216-$F$4,\"\")","v":""},"","","","",{"$f":"IF(F216<>\"\",STDEV($Q$12:Q216),\"\")","v":""},""]
[206,null,{"$f":"RIGHT(Data!C217,10)","v":""},null,null,null,null,null,null,null,{"$f":"IFERROR($U$3*Data!O217/SQRT(COUNT(Data!F217:J217)),\"\")","v":""},"","","","","",{"$f":"IFERROR((Data!K217-$F$4),\"\")","v":""},{"$f":"IF(AND(F217<>\"\",G217<>\"\",H217<>\"\",I217<>\"\",J217<>\"\"),Data!L217-$F$4,\"\")","v":""},"","","","",{"$f":"IF(F217<>\"\",STDEV($Q$12:Q217),\"\")","v":""},""]
[207,null,{"$f":"RIGHT(Data!C218,10)","v":""},null,null,null,null,null,null,null,{"$f":"IFERROR($U$3*Data!O218/SQRT(COUNT(Data!F218:J218)),\"\")","v":""},"","","","","",{"$f":"IFERROR((Data!K218-$F$4),\"\")","v":""},{"$f":"IF(AND(F218<>\"\",G218<>\"\",H218<>\"\",I218<>\"\",J218<>\"\"),Data!L218-$F$4,\"\")","v":""},"","","","",{"$f":"IF(F218<>\"\",STDEV($Q$12:Q218),\"\")","v":""},""]
[208,null,{"$f":"RIGHT(Data!C219,10)","v":""},null,null,null,null,null,null,null,{"$f":"IFERROR($U$3*Data!O219/SQRT(COUNT(Data!F219:J219)),\"\")","v":""},"","","","","",{"$f":"IFERROR((Data!K219-$F$4),\"\")","v":""},{"$f":"IF(AND(F219<>\"\",G219<>\"\",H219<>\"\",I219<>\"\",J219<>\"\"),Data!L219-$F$4,\"\")","v":""},"","","","",{"$f":"IF(F219<>\"\",STDEV($Q$12:Q219),\"\")","v":""},""]
[209,null,{"$f":"RIGHT(Data!C220,10)","v":""},null,null,null,null,null,null,null,{"$f":"IFERROR($U$3*Data!O220/SQRT(COUNT(Data!F220:J220)),\"\")","v":""},"","","","","",{"$f":"IFERROR((Data!K220-$F$4),\"\")","v":""},{"$f":"IF(AND(F220<>\"\",G220<>\"\",H220<>\"\",I220<>\"\",J220<>\"\"),Data!L220-$F$4,\"\")","v":""},"","","","",{"$f":"IF(F220<>\"\",STDEV($Q$12:Q220),\"\")","v":""},""]
[210,null,{"$f":"RIGHT(Data!C221,10)","v":""},null,null,null,null,null,null,null,{"$f":"IFERROR($U$3*Data!O221/SQRT(COUNT(Data!F221:J221)),\"\")","v":""},"","","","","",{"$f":"IFERROR((Data!K221-$F$4),\"\")","v":""},{"$f":"IF(AND(F221<>\"\",G221<>\"\",H221<>\"\",I221<>\"\",J221<>\"\"),Data!L221-$F$4,\"\")","v":""},"","","","",{"$f":"IF(F221<>\"\",STDEV($Q$12:Q221),\"\")","v":""},""]
[211,null,{"$f":"RIGHT(Data!C222,10)","v":""},null,null,null,null,null,null,null,{"$f":"IFERROR($U$3*Data!O222/SQRT(COUNT(Data!F222:J222)),\"\")","v":""},"","","","","",{"$f":"IFERROR((Data!K222-$F$4),\"\")","v":""},{"$f":"IF(AND(F222<>\"\",G222<>\"\",H222<>\"\",I222<>\"\",J222<>\"\"),Data!L222-$F$4,\"\")","v":""},"","","","",{"$f":"IF(F222<>\"\",STDEV($Q$12:Q222),\"\")","v":""},""]
[212,null,{"$f":"RIGHT(Data!C223,10)","v":""},null,null,null,null,null,null,null,{"$f":"IFERROR($U$3*Data!O223/SQRT(COUNT(Data!F223:J223)),\"\")","v":""},"","","","","",{"$f":"IFERROR((Data!K223-$F$4),\"\")","v":""},{"$f":"IF(AND(F223<>\"\",G223<>\"\",H223<>\"\",I223<>\"\",J223<>\"\"),Data!L223-$F$4,\"\")","v":""},"","","","",{"$f":"IF(F223<>\"\",STDEV($Q$12:Q223),\"\")","v":""},""]
[213,null,{"$f":"RIGHT(Data!C224,10)","v":""},null,null,null,null,null,null,null,{"$f":"IFERROR($U$3*Data!O224/SQRT(COUNT(Data!F224:J224)),\"\")","v":""},"","","","","",{"$f":"IFERROR((Data!K224-$F$4),\"\")","v":""},{"$f":"IF(AND(F224<>\"\",G224<>\"\",H224<>\"\",I224<>\"\",J224<>\"\"),Data!L224-$F$4,\"\")","v":""},"","","","",{"$f":"IF(F224<>\"\",STDEV($Q$12:Q224),\"\")","v":""},""]
[214,null,{"$f":"RIGHT(Data!C225,10)","v":""},null,null,null,null,null,null,null,{"$f":"IFERROR($U$3*Data!O225/SQRT(COUNT(Data!F225:J225)),\"\")","v":""},"","","","","",{"$f":"IFERROR((Data!K225-$F$4),\"\")","v":""},{"$f":"IF(AND(F225<>\"\",G225<>\"\",H225<>\"\",I225<>\"\",J225<>\"\"),Data!L225-$F$4,\"\")","v":""},"","","","",{"$f":"IF(F225<>\"\",STDEV($Q$12:Q225),\"\")","v":""},""]
[215,null,{"$f":"RIGHT(Data!C226,10)","v":""},null,null,null,null,null,null,null,{"$f":"IFERROR($U$3*Data!O226/SQRT(COUNT(Data!F226:J226)),\"\")","v":""},"","","","","",{"$f":"IFERROR((Data!K226-$F$4),\"\")","v":""},{"$f":"IF(AND(F226<>\"\",G226<>\"\",H226<>\"\",I226<>\"\",J226<>\"\"),Data!L226-$F$4,\"\")","v":""},"","","","",{"$f":"IF(F226<>\"\",STDEV($Q$12:Q226),\"\")","v":""},""]
[216,null,{"$f":"RIGHT(Data!C227,10)","v":""},null,null,null,null,null,null,null,{"$f":"IFERROR($U$3*Data!O227/SQRT(COUNT(Data!F227:J227)),\"\")","v":""},"","","","","",{"$f":"IFERROR((Data!K227-$F$4),\"\")","v":""},{"$f":"IF(AND(F227<>\"\",G227<>\"\",H227<>\"\",I227<>\"\",J227<>\"\"),Data!L227-$F$4,\"\")","v":""},"","","","",{"$f":"IF(F227<>\"\",STDEV($Q$12:Q227),\"\")","v":""},""]
[217,null,{"$f":"RIGHT(Data!C228,10)","v":""},null,null,null,null,null,null,null,{"$f":"IFERROR($U$3*Data!O228/SQRT(COUNT(Data!F228:J228)),\"\")","v":""},"","","","","",{"$f":"IFERROR((Data!K228-$F$4),\"\")","v":""},{"$f":"IF(AND(F228<>\"\",G228<>\"\",H228<>\"\",I228<>\"\",J228<>\"\"),Data!L228-$F$4,\"\")","v":""},"","","","",{"$f":"IF(F228<>\"\",STDEV($Q$12:Q228),\"\")","v":""},""]
[218,null,{"$f":"RIGHT(Data!C229,10)","v":""},null,null,null,null,null,null,null,{"$f":"IFERROR($U$3*Data!O229/SQRT(COUNT(Data!F229:J229)),\"\")","v":""},"","","","","",{"$f":"IFERROR((Data!K229-$F$4),\"\")","v":""},{"$f":"IF(AND(F229<>\"\",G229<>\"\",H229<>\"\",I229<>\"\",J229<>\"\"),Data!L229-$F$4,\"\")","v":""},"","","","",{"$f":"IF(F229<>\"\",STDEV($Q$12:Q229),\"\")","v":""},""]
[219,null,{"$f":"RIGHT(Data!C230,10)","v":""},null,null,null,null,null,null,null,{"$f":"IFERROR($U$3*Data!O230/SQRT(COUNT(Data!F230:J230)),\"\")","v":""},"","","","","",{"$f":"IFERROR((Data!K230-$F$4),\"\")","v":""},{"$f":"IF(AND(F230<>\"\",G230<>\"\",H230<>\"\",I230<>\"\",J230<>\"\"),Data!L230-$F$4,\"\")","v":""},"","","","",{"$f":"IF(F230<>\"\",STDEV($Q$12:Q230),\"\")","v":""},""]
[220,null,{"$f":"RIGHT(Data!C231,10)","v":""},null,null,null,null,null,null,null,{"$f":"IFERROR($U$3*Data!O231/SQRT(COUNT(Data!F231:J231)),\"\")","v":""},"","","","","",{"$f":"IFERROR((Data!K231-$F$4),\"\")","v":""},{"$f":"IF(AND(F231<>\"\",G231<>\"\",H231<>\"\",I231<>\"\",J231<>\"\"),Data!L231-$F$4,\"\")","v":""},"","","","",{"$f":"IF(F231<>\"\",STDEV($Q$12:Q231),\"\")","v":""},""]
[221,null,{"$f":"RIGHT(Data!C232,10)","v":""},null,null,null,null,null,null,null,{"$f":"IFERROR($U$3*Data!O232/SQRT(COUNT(Data!F232:J232)),\"\")","v":""},"","","","","",{"$f":"IFERROR((Data!K232-$F$4),\"\")","v":""},{"$f":"IF(AND(F232<>\"\",G232<>\"\",H232<>\"\",I232<>\"\",J232<>\"\"),Data!L232-$F$4,\"\")","v":""},"","","","",{"$f":"IF(F232<>\"\",STDEV($Q$12:Q232),\"\")","v":""},""]
[222,null,{"$f":"RIGHT(Data!C233,10)","v":""},null,null,null,null,null,null,null,{"$f":"IFERROR($U$3*Data!O233/SQRT(COUNT(Data!F233:J233)),\"\")","v":""},"","","","","",{"$f":"IFERROR((Data!K233-$F$4),\"\")","v":""},{"$f":"IF(AND(F233<>\"\",G233<>\"\",H233<>\"\",I233<>\"\",J233<>\"\"),Data!L233-$F$4,\"\")","v":""},"","","","",{"$f":"IF(F233<>\"\",STDEV($Q$12:Q233),\"\")","v":""},""]
[223,null,{"$f":"RIGHT(Data!C234,10)","v":""},null,null,null,null,null,null,null,{"$f":"IFERROR($U$3*Data!O234/SQRT(COUNT(Data!F234:J234)),\"\")","v":""},"","","","","",{"$f":"IFERROR((Data!K234-$F$4),\"\")","v":""},{"$f":"IF(AND(F234<>\"\",G234<>\"\",H234<>\"\",I234<>\"\",J234<>\"\"),Data!L234-$F$4,\"\")","v":""},"","","","",{"$f":"IF(F234<>\"\",STDEV($Q$12:Q234),\"\")","v":""},""]
[224,null,{"$f":"RIGHT(Data!C235,10)","v":""},null,null,null,null,null,null,null,{"$f":"IFERROR($U$3*Data!O235/SQRT(COUNT(Data!F235:J235)),\"\")","v":""},"","","","","",{"$f":"IFERROR((Data!K235-$F$4),\"\")","v":""},{"$f":"IF(AND(F235<>\"\",G235<>\"\",H235<>\"\",I235<>\"\",J235<>\"\"),Data!L235-$F$4,\"\")","v":""},"","","","",{"$f":"IF(F235<>\"\",STDEV($Q$12:Q235),\"\")","v":""},""]
[225,null,{"$f":"RIGHT(Data!C236,10)","v":""},null,null,null,null,null,null,null,{"$f":"IFERROR($U$3*Data!O236/SQRT(COUNT(Data!F236:J236)),\"\")","v":""},"","","","","",{"$f":"IFERROR((Data!K236-$F$4),\"\")","v":""},{"$f":"IF(AND(F236<>\"\",G236<>\"\",H236<>\"\",I236<>\"\",J236<>\"\"),Data!L236-$F$4,\"\")","v":""},"","","","",{"$f":"IF(F236<>\"\",STDEV($Q$12:Q236),\"\")","v":""},""]
[226,null,{"$f":"RIGHT(Data!C237,10)","v":""},null,null,null,null,null,null,null,{"$f":"IFERROR($U$3*Data!O237/SQRT(COUNT(Data!F237:J237)),\"\")","v":""},"","","","","",{"$f":"IFERROR((Data!K237-$F$4),\"\")","v":""},{"$f":"IF(AND(F237<>\"\",G237<>\"\",H237<>\"\",I237<>\"\",J237<>\"\"),Data!L237-$F$4,\"\")","v":""},"","","","",{"$f":"IF(F237<>\"\",STDEV($Q$12:Q237),\"\")","v":""},""]
[227,null,{"$f":"RIGHT(Data!C238,10)","v":""},null,null,null,null,null,null,null,{"$f":"IFERROR($U$3*Data!O238/SQRT(COUNT(Data!F238:J238)),\"\")","v":""},"","","","","",{"$f":"IFERROR((Data!K238-$F$4),\"\")","v":""},{"$f":"IF(AND(F238<>\"\",G238<>\"\",H238<>\"\",I238<>\"\",J238<>\"\"),Data!L238-$F$4,\"\")","v":""},"","","","",{"$f":"IF(F238<>\"\",STDEV($Q$12:Q238),\"\")","v":""},""]
[228,null,{"$f":"RIGHT(Data!C239,10)","v":""},null,null,null,null,null,null,null,{"$f":"IFERROR($U$3*Data!O239/SQRT(COUNT(Data!F239:J239)),\"\")","v":""},"","","","","",{"$f":"IFERROR((Data!K239-$F$4),\"\")","v":""},{"$f":"IF(AND(F239<>\"\",G239<>\"\",H239<>\"\",I239<>\"\",J239<>\"\"),Data!L239-$F$4,\"\")","v":""},"","","","",{"$f":"IF(F239<>\"\",STDEV($Q$12:Q239),\"\")","v":""},""]
[229,null,{"$f":"RIGHT(Data!C240,10)","v":""},null,null,null,null,null,null,null,{"$f":"IFERROR($U$3*Data!O240/SQRT(COUNT(Data!F240:J240)),\"\")","v":""},"","","","","",{"$f":"IFERROR((Data!K240-$F$4),\"\")","v":""},{"$f":"IF(AND(F240<>\"\",G240<>\"\",H240<>\"\",I240<>\"\",J240<>\"\"),Data!L240-$F$4,\"\")","v":""},"","","","",{"$f":"IF(F240<>\"\",STDEV($Q$12:Q240),\"\")","v":""},""]
[230,null,{"$f":"RIGHT(Data!C241,10)","v":""},null,null,null,null,null,null,null,{"$f":"IFERROR($U$3*Data!O241/SQRT(COUNT(Data!F241:J241)),\"\")","v":""},"","","","","",{"$f":"IFERROR((Data!K241-$F$4),\"\")","v":""},{"$f":"IF(AND(F241<>\"\",G241<>\"\",H241<>\"\",I241<>\"\",J241<>\"\"),Data!L241-$F$4,\"\")","v":""},"","","","",{"$f":"IF(F241<>\"\",STDEV($Q$12:Q241),\"\")","v":""},""]
[231,null,{"$f":"RIGHT(Data!C242,10)","v":""},null,null,null,null,null,null,null,{"$f":"IFERROR($U$3*Data!O242/SQRT(COUNT(Data!F242:J242)),\"\")","v":""},"","","","","",{"$f":"IFERROR((Data!K242-$F$4),\"\")","v":""},{"$f":"IF(AND(F242<>\"\",G242<>\"\",H242<>\"\",I242<>\"\",J242<>\"\"),Data!L242-$F$4,\"\")","v":""},"","","","",{"$f":"IF(F242<>\"\",STDEV($Q$12:Q242),\"\")","v":""},""]
[232,null,{"$f":"RIGHT(Data!C243,10)","v":""},null,null,null,null,null,null,null,{"$f":"IFERROR($U$3*Data!O243/SQRT(COUNT(Data!F243:J243)),\"\")","v":""},"","","","","",{"$f":"IFERROR((Data!K243-$F$4),\"\")","v":""},{"$f":"IF(AND(F243<>\"\",G243<>\"\",H243<>\"\",I243<>\"\",J243<>\"\"),Data!L243-$F$4,\"\")","v":""},"","","","",{"$f":"IF(F243<>\"\",STDEV($Q$12:Q243),\"\")","v":""},""]
[233,null,{"$f":"RIGHT(Data!C244,10)","v":""},null,null,null,null,null,null,null,{"$f":"IFERROR($U$3*Data!O244/SQRT(COUNT(Data!F244:J244)),\"\")","v":""},"","","","","",{"$f":"IFERROR((Data!K244-$F$4),\"\")","v":""},{"$f":"IF(AND(F244<>\"\",G244<>\"\",H244<>\"\",I244<>\"\",J244<>\"\"),Data!L244-$F$4,\"\")","v":""},"","","","",{"$f":"IF(F244<>\"\",STDEV($Q$12:Q244),\"\")","v":""},""]
[234,null,{"$f":"RIGHT(Data!C245,10)","v":""},null,null,null,null,null,null,null,{"$f":"IFERROR($U$3*Data!O245/SQRT(COUNT(Data!F245:J245)),\"\")","v":""},"","","","","",{"$f":"IFERROR((Data!K245-$F$4),\"\")","v":""},{"$f":"IF(AND(F245<>\"\",G245<>\"\",H245<>\"\",I245<>\"\",J245<>\"\"),Data!L245-$F$4,\"\")","v":""},"","","","",{"$f":"IF(F245<>\"\",STDEV($Q$12:Q245),\"\")","v":""},""]
[235,null,{"$f":"RIGHT(Data!C246,10)","v":""},null,null,null,null,null,null,null,{"$f":"IFERROR($U$3*Data!O246/SQRT(COUNT(Data!F246:J246)),\"\")","v":""},"","","","","",{"$f":"IFERROR((Data!K246-$F$4),\"\")","v":""},{"$f":"IF(AND(F246<>\"\",G246<>\"\",H246<>\"\",I246<>\"\",J246<>\"\"),Data!L246-$F$4,\"\")","v":""},"","","","",{"$f":"IF(F246<>\"\",STDEV($Q$12:Q246),\"\")","v":""},""]
[236,null,{"$f":"RIGHT(Data!C247,10)","v":""},null,null,null,null,null,null,null,{"$f":"IFERROR($U$3*Data!O247/SQRT(COUNT(Data!F247:J247)),\"\")","v":""},"","","","","",{"$f":"IFERROR((Data!K247-$F$4),\"\")","v":""},{"$f":"IF(AND(F247<>\"\",G247<>\"\",H247<>\"\",I247<>\"\",J247<>\"\"),Data!L247-$F$4,\"\")","v":""},"","","","",{"$f":"IF(F247<>\"\",STDEV($Q$12:Q247),\"\")","v":""},""]
[237,null,{"$f":"RIGHT(Data!C248,10)","v":""},null,null,null,null,null,null,null,{"$f":"IFERROR($U$3*Data!O248/SQRT(COUNT(Data!F248:J248)),\"\")","v":""},"","","","","",{"$f":"IFERROR((Data!K248-$F$4),\"\")","v":""},{"$f":"IF(AND(F248<>\"\",G248<>\"\",H248<>\"\",I248<>\"\",J248<>\"\"),Data!L248-$F$4,\"\")","v":""},"","","","",{"$f":"IF(F248<>\"\",STDEV($Q$12:Q248),\"\")","v":""},""]
[238,null,{"$f":"RIGHT(Data!C249,10)","v":""},null,null,null,null,null,null,null,{"$f":"IFERROR($U$3*Data!O249/SQRT(COUNT(Data!F249:J249)),\"\")","v":""},"","","","","",{"$f":"IFERROR((Data!K249-$F$4),\"\")","v":""},{"$f":"IF(AND(F249<>\"\",G249<>\"\",H249<>\"\",I249<>\"\",J249<>\"\"),Data!L249-$F$4,\"\")","v":""},"","","","",{"$f":"IF(F249<>\"\",STDEV($Q$12:Q249),\"\")","v":""},""]
[239,null,{"$f":"RIGHT(Data!C250,10)","v":""},null,null,null,null,null,null,null,{"$f":"IFERROR($U$3*Data!O250/SQRT(COUNT(Data!F250:J250)),\"\")","v":""},"","","","","",{"$f":"IFERROR((Data!K250-$F$4),\"\")","v":""},{"$f":"IF(AND(F250<>\"\",G250<>\"\",H250<>\"\",I250<>\"\",J250<>\"\"),Data!L250-$F$4,\"\")","v":""},"","","","",{"$f":"IF(F250<>\"\",STDEV($Q$12:Q250),\"\")","v":""},""]
[240,null,{"$f":"RIGHT(Data!C251,10)","v":""},null,null,null,null,null,null,null,{"$f":"IFERROR($U$3*Data!O251/SQRT(COUNT(Data!F251:J251)),\"\")","v":""},"","","","","",{"$f":"IFERROR((Data!K251-$F$4),\"\")","v":""},{"$f":"IF(AND(F251<>\"\",G251<>\"\",H251<>\"\",I251<>\"\",J251<>\"\"),Data!L251-$F$4,\"\")","v":""},"","","","",{"$f":"IF(F251<>\"\",STDEV($Q$12:Q251),\"\")","v":""},""]
[241,null,{"$f":"RIGHT(Data!C252,10)","v":""},null,null,null,null,null,null,null,{"$f":"IFERROR($U$3*Data!O252/SQRT(COUNT(Data!F252:J252)),\"\")","v":""},"","","","","",{"$f":"IFERROR((Data!K252-$F$4),\"\")","v":""},{"$f":"IF(AND(F252<>\"\",G252<>\"\",H252<>\"\",I252<>\"\",J252<>\"\"),Data!L252-$F$4,\"\")","v":""},"","","","",{"$f":"IF(F252<>\"\",STDEV($Q$12:Q252),\"\")","v":""},""]
[242,null,{"$f":"RIGHT(Data!C253,10)","v":""},null,null,null,null,null,null,null,{"$f":"IFERROR($U$3*Data!O253/SQRT(COUNT(Data!F253:J253)),\"\")","v":""},"","","","","",{"$f":"IFERROR((Data!K253-$F$4),\"\")","v":""},{"$f":"IF(AND(F253<>\"\",G253<>\"\",H253<>\"\",I253<>\"\",J253<>\"\"),Data!L253-$F$4,\"\")","v":""},"","","","",{"$f":"IF(F253<>\"\",STDEV($Q$12:Q253),\"\")","v":""},""]
[243,null,{"$f":"RIGHT(Data!C254,10)","v":""},null,null,null,null,null,null,null,{"$f":"IFERROR($U$3*Data!O254/SQRT(COUNT(Data!F254:J254)),\"\")","v":""},"","","","","",{"$f":"IFERROR((Data!K254-$F$4),\"\")","v":""},{"$f":"IF(AND(F254<>\"\",G254<>\"\",H254<>\"\",I254<>\"\",J254<>\"\"),Data!L254-$F$4,\"\")","v":""},"","","","",{"$f":"IF(F254<>\"\",STDEV($Q$12:Q254),\"\")","v":""},""]
[244,null,{"$f":"RIGHT(Data!C255,10)","v":""},null,null,null,null,null,null,null,{"$f":"IFERROR($U$3*Data!O255/SQRT(COUNT(Data!F255:J255)),\"\")","v":""},"","","","","",{"$f":"IFERROR((Data!K255-$F$4),\"\")","v":""},{"$f":"IF(AND(F255<>\"\",G255<>\"\",H255<>\"\",I255<>\"\",J255<>\"\"),Data!L255-$F$4,\"\")","v":""},"","","","",{"$f":"IF(F255<>\"\",STDEV($Q$12:Q255),\"\")","v":""},""]
[245,null,{"$f":"RIGHT(Data!C256,10)","v":""},null,null,null,null,null,null,null,{"$f":"IFERROR($U$3*Data!O256/SQRT(COUNT(Data!F256:J256)),\"\")","v":""},"","","","","",{"$f":"IFERROR((Data!K256-$F$4),\"\")","v":""},{"$f":"IF(AND(F256<>\"\",G256<>\"\",H256<>\"\",I256<>\"\",J256<>\"\"),Data!L256-$F$4,\"\")","v":""},"","","","",{"$f":"IF(F256<>\"\",STDEV($Q$12:Q256),\"\")","v":""},""]
[246,null,{"$f":"RIGHT(Data!C257,10)","v":""},null,null,null,null,null,null,null,{"$f":"IFERROR($U$3*Data!O257/SQRT(COUNT(Data!F257:J257)),\"\")","v":""},"","","","","",{"$f":"IFERROR((Data!K257-$F$4),\"\")","v":""},{"$f":"IF(AND(F257<>\"\",G257<>\"\",H257<>\"\",I257<>\"\",J257<>\"\"),Data!L257-$F$4,\"\")","v":""},"","","","",{"$f":"IF(F257<>\"\",STDEV($Q$12:Q257),\"\")","v":""},""]
[247,null,{"$f":"RIGHT(Data!C258,10)","v":""},null,null,null,null,null,null,null,{"$f":"IFERROR($U$3*Data!O258/SQRT(COUNT(Data!F258:J258)),\"\")","v":""},"","","","","",{"$f":"IFERROR((Data!K258-$F$4),\"\")","v":""},{"$f":"IF(AND(F258<>\"\",G258<>\"\",H258<>\"\",I258<>\"\",J258<>\"\"),Data!L258-$F$4,\"\")","v":""},"","","","",{"$f":"IF(F258<>\"\",STDEV($Q$12:Q258),\"\")","v":""},""]
[248,null,{"$f":"RIGHT(Data!C259,10)","v":""},null,null,null,null,null,null,null,{"$f":"IFERROR($U$3*Data!O259/SQRT(COUNT(Data!F259:J259)),\"\")","v":""},"","","","","",{"$f":"IFERROR((Data!K259-$F$4),\"\")","v":""},{"$f":"IF(AND(F259<>\"\",G259<>\"\",H259<>\"\",I259<>\"\",J259<>\"\"),Data!L259-$F$4,\"\")","v":""},"","","","",{"$f":"IF(F259<>\"\",STDEV($Q$12:Q259),\"\")","v":""},""]
[249,null,{"$f":"RIGHT(Data!C260,10)","v":""},null,null,null,null,null,null,null,{"$f":"IFERROR($U$3*Data!O260/SQRT(COUNT(Data!F260:J260)),\"\")","v":""},"","","","","",{"$f":"IFERROR((Data!K260-$F$4),\"\")","v":""},{"$f":"IF(AND(F260<>\"\",G260<>\"\",H260<>\"\",I260<>\"\",J260<>\"\"),Data!L260-$F$4,\"\")","v":""},"","","","",{"$f":"IF(F260<>\"\",STDEV($Q$12:Q260),\"\")","v":""},""]
[250,null,{"$f":"RIGHT(Data!C261,10)","v":""},null,null,null,null,null,null,null,{"$f":"IFERROR($U$3*Data!O261/SQRT(COUNT(Data!F261:J261)),\"\")","v":""},"","","","","",{"$f":"IFERROR((Data!K261-$F$4),\"\")","v":""},{"$f":"IF(AND(F261<>\"\",G261<>\"\",H261<>\"\",I261<>\"\",J261<>\"\"),Data!L261-$F$4,\"\")","v":""},"","","","",{"$f":"IF(F261<>\"\",STDEV($Q$12:Q261),\"\")","v":""},""]
[251,null,{"$f":"RIGHT(Data!C262,10)","v":""},null,null,null,null,null,null,null,{"$f":"IFERROR($U$3*Data!O262/SQRT(COUNT(Data!F262:J262)),\"\")","v":""},"","","","","",{"$f":"IFERROR((Data!K262-$F$4),\"\")","v":""},{"$f":"IF(AND(F262<>\"\",G262<>\"\",H262<>\"\",I262<>\"\",J262<>\"\"),Data!L262-$F$4,\"\")","v":""},"","","","",{"$f":"IF(F262<>\"\",STDEV($Q$12:Q262),\"\")","v":""},""]
[252,null,{"$f":"RIGHT(Data!C263,10)","v":""},null,null,null,null,null,null,null,{"$f":"IFERROR($U$3*Data!O263/SQRT(COUNT(Data!F263:J263)),\"\")","v":""},"","","","","",{"$f":"IFERROR((Data!K263-$F$4),\"\")","v":""},{"$f":"IF(AND(F263<>\"\",G263<>\"\",H263<>\"\",I263<>\"\",J263<>\"\"),Data!L263-$F$4,\"\")","v":""},"","","","",{"$f":"IF(F263<>\"\",STDEV($Q$12:Q263),\"\")","v":""},""]
[253,null,{"$f":"RIGHT(Data!C264,10)","v":""},null,null,null,null,null,null,null,{"$f":"IFERROR($U$3*Data!O264/SQRT(COUNT(Data!F264:J264)),\"\")","v":""},"","","","","",{"$f":"IFERROR((Data!K264-$F$4),\"\")","v":""},{"$f":"IF(AND(F264<>\"\",G264<>\"\",H264<>\"\",I264<>\"\",J264<>\"\"),Data!L264-$F$4,\"\")","v":""},"","","","",{"$f":"IF(F264<>\"\",STDEV($Q$12:Q264),\"\")","v":""},""]
[254,null,{"$f":"RIGHT(Data!C265,10)","v":""},null,null,null,null,null,null,null,{"$f":"IFERROR($U$3*Data!O265/SQRT(COUNT(Data!F265:J265)),\"\")","v":""},"","","","","",{"$f":"IFERROR((Data!K265-$F$4),\"\")","v":""},{"$f":"IF(AND(F265<>\"\",G265<>\"\",H265<>\"\",I265<>\"\",J265<>\"\"),Data!L265-$F$4,\"\")","v":""},"","","","",{"$f":"IF(F265<>\"\",STDEV($Q$12:Q265),\"\")","v":""},""]
[255,null,{"$f":"RIGHT(Data!C266,10)","v":""},null,null,null,null,null,null,null,{"$f":"IFERROR($U$3*Data!O266/SQRT(COUNT(Data!F266:J266)),\"\")","v":""},"","","","","",{"$f":"IFERROR((Data!K266-$F$4),\"\")","v":""},{"$f":"IF(AND(F266<>\"\",G266<>\"\",H266<>\"\",I266<>\"\",J266<>\"\"),Data!L266-$F$4,\"\")","v":""},"","","","",{"$f":"IF(F266<>\"\",STDEV($Q$12:Q266),\"\")","v":""},""]
[256,null,{"$f":"RIGHT(Data!C267,10)","v":""},null,null,null,null,null,null,null,{"$f":"IFERROR($U$3*Data!O267/SQRT(COUNT(Data!F267:J267)),\"\")","v":""},"","","","","",{"$f":"IFERROR((Data!K267-$F$4),\"\")","v":""},{"$f":"IF(AND(F267<>\"\",G267<>\"\",H267<>\"\",I267<>\"\",J267<>\"\"),Data!L267-$F$4,\"\")","v":""},"","","","",{"$f":"IF(F267<>\"\",STDEV($Q$12:Q267),\"\")","v":""},""]
[257,null,{"$f":"RIGHT(Data!C268,10)","v":""},null,null,null,null,null,null,null,{"$f":"IFERROR($U$3*Data!O268/SQRT(COUNT(Data!F268:J268)),\"\")","v":""},"","",{"$f":"IF(COUNT(F268:J268)>=5,STDEV(F268:J268)*$U$3/SQRT((COUNT(F268:J268))),\"\")","v":""},"","",{"$f":"IFERROR((Data!K268-$F$4),\"\")","v":""},{"$f":"IF(AND(F268<>\"\",G268<>\"\",H268<>\"\",I268<>\"\",J268<>\"\"),Data!L268-$F$4,\"\")","v":""},{"$f":"IF(O268<>\"\",FIXED(X268,1) & \" ± \" & FIXED(O268+ABS(R268),2),\"\")","v":""},"","","",{"$f":"IF(F268<>\"\",STDEV($Q$12:Q268),\"\")","v":""},{"$f":"IF(F268<>\"\",AVERAGE(F268:J268),\"\")","v":""}]
[258,null,{"$f":"RIGHT(Data!C269,10)","v":""},null,null,null,null,null,null,null,{"$f":"IFERROR($U$3*Data!O269/SQRT(COUNT(Data!F269:J269)),\"\")","v":""},{"$f":"IF(F269<>\"\",V269*W269/SQRT(A269),\"\")","v":""},{"$f":"IF(F269<>\"\",$U$4*SQRT($U$7^2+L269^2+K269^2+$U$5^2),\"\")","v":""},"",{"$f":"IFERROR($U$4*SQRT($U$7^2+L269^2+K269^2+$U$5^2+N269^2),\"\")","v":""},{"$f":"IF(AND(F269<>\"\",G269<>\"\",H269<>\"\",I269<>\"\",J269<>\"\"),AVERAGE(F269:J269),\"\")","v":""},{"$f":"IFERROR((Data!K269-$F$4),\"\")","v":""},{"$f":"IF(AND(F269<>\"\",G269<>\"\",H269<>\"\",I269<>\"\",J269<>\"\"),Data!L269-$F$4,\"\")","v":""},"",{"$f":"IF(F269<>\"\",FIXED(AVERAGE(F269:J269)-R269,1) & \" ± \" & FIXED(O269,2),\"\")","v":""},{"$f":"IF(IO269=\"\",\"\",IO269-1)","v":""},{"$f":"IF(F269<>\"\",TINV(1-0.68,A269-1),\"\")","v":""},{"$f":"IF(F269<>\"\",STDEV($Q$12:Q269),\"\")","v":""},""]
[259,null,{"$f":"RIGHT(Data!C270,10)","v":""},null,null,null,null,null,null,null,{"$f":"IFERROR($U$3*Data!O270/SQRT(COUNT(Data!F270:J270)),\"\")","v":""},"","","","","",{"$f":"IFERROR((Data!K270-$F$4),\"\")","v":""},{"$f":"IF(AND(F270<>\"\",G270<>\"\",H270<>\"\",I270<>\"\",J270<>\"\"),Data!L270-$F$4,\"\")","v":""},"","","","",{"$f":"IF(F270<>\"\",STDEV($Q$12:Q270),\"\")","v":""},""]
[260,null,{"$f":"RIGHT(Data!C271,10)","v":""},null,null,null,null,null,null,null,{"$f":"IFERROR($U$3*Data!O271/SQRT(COUNT(Data!F271:J271)),\"\")","v":""},"","","","","",{"$f":"IFERROR((Data!K271-$F$4),\"\")","v":""},{"$f":"IF(AND(F271<>\"\",G271<>\"\",H271<>\"\",I271<>\"\",J271<>\"\"),Data!L271-$F$4,\"\")","v":""},"","","","",{"$f":"IF(F271<>\"\",STDEV($Q$12:Q271),\"\")","v":""},""]
[261,null,{"$f":"RIGHT(Data!C272,10)","v":""},null,null,null,null,null,null,null,{"$f":"IFERROR($U$3*Data!O272/SQRT(COUNT(Data!F272:J272)),\"\")","v":""},"","","","","",{"$f":"IFERROR((Data!K272-$F$4),\"\")","v":""},{"$f":"IF(AND(F272<>\"\",G272<>\"\",H272<>\"\",I272<>\"\",J272<>\"\"),Data!L272-$F$4,\"\")","v":""},"","","","",{"$f":"IF(F272<>\"\",STDEV($Q$12:Q272),\"\")","v":""},""]
[262,null,{"$f":"RIGHT(Data!C273,10)","v":""},null,null,null,null,null,null,null,{"$f":"IFERROR($U$3*Data!O273/SQRT(COUNT(Data!F273:J273)),\"\")","v":""},"","","","","",{"$f":"IFERROR((Data!K273-$F$4),\"\")","v":""},{"$f":"IF(AND(F273<>\"\",G273<>\"\",H273<>\"\",I273<>\"\",J273<>\"\"),Data!L273-$F$4,\"\")","v":""},"","","","",{"$f":"IF(F273<>\"\",STDEV($Q$12:Q273),\"\")","v":""},""]
[263,null,{"$f":"RIGHT(Data!C274,10)","v":""},null,null,null,null,null,null,null,{"$f":"IFERROR($U$3*Data!O274/SQRT(COUNT(Data!F274:J274)),\"\")","v":""},"","","","","",{"$f":"IFERROR((Data!K274-$F$4),\"\")","v":""},{"$f":"IF(AND(F274<>\"\",G274<>\"\",H274<>\"\",I274<>\"\",J274<>\"\"),Data!L274-$F$4,\"\")","v":""},"","","","",{"$f":"IF(F274<>\"\",STDEV($Q$12:Q274),\"\")","v":""},""]
[264,null,{"$f":"RIGHT(Data!C275,10)","v":""},null,null,null,null,null,null,null,{"$f":"IFERROR($U$3*Data!O275/SQRT(COUNT(Data!F275:J275)),\"\")","v":""},"","","","","",{"$f":"IFERROR((Data!K275-$F$4),\"\")","v":""},{"$f":"IF(AND(F275<>\"\",G275<>\"\",H275<>\"\",I275<>\"\",J275<>\"\"),Data!L275-$F$4,\"\")","v":""},"","","","",{"$f":"IF(F275<>\"\",STDEV($Q$12:Q275),\"\")","v":""},""]
[265,null,{"$f":"RIGHT(Data!C276,10)","v":""},null,null,null,null,null,null,null,{"$f":"IFERROR($U$3*Data!O276/SQRT(COUNT(Data!F276:J276)),\"\")","v":""},"","","","","",{"$f":"IFERROR((Data!K276-$F$4),\"\")","v":""},{"$f":"IF(AND(F276<>\"\",G276<>\"\",H276<>\"\",I276<>\"\",J276<>\"\"),Data!L276-$F$4,\"\")","v":""},"","","","",{"$f":"IF(F276<>\"\",STDEV($Q$12:Q276),\"\")","v":""},""]
[266,null,{"$f":"RIGHT(Data!C277,10)","v":""},null,null,null,null,null,null,null,{"$f":"IFERROR($U$3*Data!O277/SQRT(COUNT(Data!F277:J277)),\"\")","v":""},"","","","","",{"$f":"IFERROR((Data!K277-$F$4),\"\")","v":""},{"$f":"IF(AND(F277<>\"\",G277<>\"\",H277<>\"\",I277<>\"\",J277<>\"\"),Data!L277-$F$4,\"\")","v":""},"","","","",{"$f":"IF(F277<>\"\",STDEV($Q$12:Q277),\"\")","v":""},""]
[267,null,{"$f":"RIGHT(Data!C278,10)","v":""},null,null,null,null,null,null,null,{"$f":"IFERROR($U$3*Data!O278/SQRT(COUNT(Data!F278:J278)),\"\")","v":""},"","","","","",{"$f":"IFERROR((Data!K278-$F$4),\"\")","v":""},{"$f":"IF(AND(F278<>\"\",G278<>\"\",H278<>\"\",I278<>\"\",J278<>\"\"),Data!L278-$F$4,\"\")","v":""},"","","","",{"$f":"IF(F278<>\"\",STDEV($Q$12:Q278),\"\")","v":""},""]
[268,null,{"$f":"RIGHT(Data!C279,10)","v":""},null,null,null,null,null,null,null,{"$f":"IFERROR($U$3*Data!O279/SQRT(COUNT(Data!F279:J279)),\"\")","v":""},"","","","","",{"$f":"IFERROR((Data!K279-$F$4),\"\")","v":""},{"$f":"IF(AND(F279<>\"\",G279<>\"\",H279<>\"\",I279<>\"\",J279<>\"\"),Data!L279-$F$4,\"\")","v":""},"","","","",{"$f":"IF(F279<>\"\",STDEV($Q$12:Q279),\"\")","v":""},""]
[269,null,{"$f":"RIGHT(Data!C280,10)","v":""},null,null,null,null,null,null,null,{"$f":"IFERROR($U$3*Data!O280/SQRT(COUNT(Data!F280:J280)),\"\")","v":""},"","","","","",{"$f":"IFERROR((Data!K280-$F$4),\"\")","v":""},{"$f":"IF(AND(F280<>\"\",G280<>\"\",H280<>\"\",I280<>\"\",J280<>\"\"),Data!L280-$F$4,\"\")","v":""},"","","","",{"$f":"IF(F280<>\"\",STDEV($Q$12:Q280),\"\")","v":""},""]
[270,null,{"$f":"RIGHT(Data!C281,10)","v":""},null,null,null,null,null,null,null,{"$f":"IFERROR($U$3*Data!O281/SQRT(COUNT(Data!F281:J281)),\"\")","v":""},"","","","","",{"$f":"IFERROR((Data!K281-$F$4),\"\")","v":""},{"$f":"IF(AND(F281<>\"\",G281<>\"\",H281<>\"\",I281<>\"\",J281<>\"\"),Data!L281-$F$4,\"\")","v":""},"","","","",{"$f":"IF(F281<>\"\",STDEV($Q$12:Q281),\"\")","v":""},""]
[271,null,{"$f":"RIGHT(Data!C282,10)","v":""},null,null,null,null,null,null,null,{"$f":"IFERROR($U$3*Data!O282/SQRT(COUNT(Data!F282:J282)),\"\")","v":""},"","","","","",{"$f":"IFERROR((Data!K282-$F$4),\"\")","v":""},{"$f":"IF(AND(F282<>\"\",G282<>\"\",H282<>\"\",I282<>\"\",J282<>\"\"),Data!L282-$F$4,\"\")","v":""},"","","","",{"$f":"IF(F282<>\"\",STDEV($Q$12:Q282),\"\")","v":""},""]
[272,null,{"$f":"RIGHT(Data!C283,10)","v":""},null,null,null,null,null,null,null,{"$f":"IFERROR($U$3*Data!O283/SQRT(COUNT(Data!F283:J283)),\"\")","v":""},"","","","","",{"$f":"IFERROR((Data!K283-$F$4),\"\")","v":""},{"$f":"IF(AND(F283<>\"\",G283<>\"\",H283<>\"\",I283<>\"\",J283<>\"\"),Data!L283-$F$4,\"\")","v":""},"","","","",{"$f":"IF(F283<>\"\",STDEV($Q$12:Q283),\"\")","v":""},""]
[273,null,{"$f":"RIGHT(Data!C284,10)","v":""},null,null,null,null,null,null,null,{"$f":"IFERROR($U$3*Data!O284/SQRT(COUNT(Data!F284:J284)),\"\")","v":""},"","","","","",{"$f":"IFERROR((Data!K284-$F$4),\"\")","v":""},{"$f":"IF(AND(F284<>\"\",G284<>\"\",H284<>\"\",I284<>\"\",J284<>\"\"),Data!L284-$F$4,\"\")","v":""},"","","","",{"$f":"IF(F284<>\"\",STDEV($Q$12:Q284),\"\")","v":""},""]
[274,null,{"$f":"RIGHT(Data!C285,10)","v":""},null,null,null,null,null,null,null,{"$f":"IFERROR($U$3*Data!O285/SQRT(COUNT(Data!F285:J285)),\"\")","v":""},"","","","","",{"$f":"IFERROR((Data!K285-$F$4),\"\")","v":""},{"$f":"IF(AND(F285<>\"\",G285<>\"\",H285<>\"\",I285<>\"\",J285<>\"\"),Data!L285-$F$4,\"\")","v":""},"","","","",{"$f":"IF(F285<>\"\",STDEV($Q$12:Q285),\"\")","v":""},""]
[275,null,{"$f":"RIGHT(Data!C286,10)","v":""},null,null,null,null,null,null,null,{"$f":"IFERROR($U$3*Data!O286/SQRT(COUNT(Data!F286:J286)),\"\")","v":""},"","","","","",{"$f":"IFERROR((Data!K286-$F$4),\"\")","v":""},{"$f":"IF(AND(F286<>\"\",G286<>\"\",H286<>\"\",I286<>\"\",J286<>\"\"),Data!L286-$F$4,\"\")","v":""},"","","","",{"$f":"IF(F286<>\"\",STDEV($Q$12:Q286),\"\")","v":""},""]
[276,null,{"$f":"RIGHT(Data!C287,10)","v":""},null,null,null,null,null,null,null,{"$f":"IFERROR($U$3*Data!O287/SQRT(COUNT(Data!F287:J287)),\"\")","v":""},"","","","","",{"$f":"IFERROR((Data!K287-$F$4),\"\")","v":""},{"$f":"IF(AND(F287<>\"\",G287<>\"\",H287<>\"\",I287<>\"\",J287<>\"\"),Data!L287-$F$4,\"\")","v":""},"","","","",{"$f":"IF(F287<>\"\",STDEV($Q$12:Q287),\"\")","v":""},""]
[277,null,{"$f":"RIGHT(Data!C288,10)","v":""},null,null,null,null,null,null,null,{"$f":"IFERROR($U$3*Data!O288/SQRT(COUNT(Data!F288:J288)),\"\")","v":""},"","","","","",{"$f":"IFERROR((Data!K288-$F$4),\"\")","v":""},{"$f":"IF(AND(F288<>\"\",G288<>\"\",H288<>\"\",I288<>\"\",J288<>\"\"),Data!L288-$F$4,\"\")","v":""},"","","","",{"$f":"IF(F288<>\"\",STDEV($Q$12:Q288),\"\")","v":""},""]
[278,null,{"$f":"RIGHT(Data!C289,10)","v":""},null,null,null,null,null,null,null,{"$f":"IFERROR($U$3*Data!O289/SQRT(COUNT(Data!F289:J289)),\"\")","v":""},"","","","","",{"$f":"IFERROR((Data!K289-$F$4),\"\")","v":""},{"$f":"IF(AND(F289<>\"\",G289<>\"\",H289<>\"\",I289<>\"\",J289<>\"\"),Data!L289-$F$4,\"\")","v":""},"","","","",{"$f":"IF(F289<>\"\",STDEV($Q$12:Q289),\"\")","v":""},""]
[279,null,{"$f":"RIGHT(Data!C290,10)","v":""},null,null,null,null,null,null,null,{"$f":"IFERROR($U$3*Data!O290/SQRT(COUNT(Data!F290:J290)),\"\")","v":""},"","","","","",{"$f":"IFERROR((Data!K290-$F$4),\"\")","v":""},{"$f":"IF(AND(F290<>\"\",G290<>\"\",H290<>\"\",I290<>\"\",J290<>\"\"),Data!L290-$F$4,\"\")","v":""},"","","","",{"$f":"IF(F290<>\"\",STDEV($Q$12:Q290),\"\")","v":""},""]
[280,null,{"$f":"RIGHT(Data!C291,10)","v":""},null,null,null,null,null,null,null,{"$f":"IFERROR($U$3*Data!O291/SQRT(COUNT(Data!F291:J291)),\"\")","v":""},"","","","","",{"$f":"IFERROR((Data!K291-$F$4),\"\")","v":""},{"$f":"IF(AND(F291<>\"\",G291<>\"\",H291<>\"\",I291<>\"\",J291<>\"\"),Data!L291-$F$4,\"\")","v":""},"","","","",{"$f":"IF(F291<>\"\",STDEV($Q$12:Q291),\"\")","v":""},""]
[281,null,{"$f":"RIGHT(Data!C292,10)","v":""},null,null,null,null,null,null,null,{"$f":"IFERROR($U$3*Data!O292/SQRT(COUNT(Data!F292:J292)),\"\")","v":""},"","","","","",{"$f":"IFERROR((Data!K292-$F$4),\"\")","v":""},{"$f":"IF(AND(F292<>\"\",G292<>\"\",H292<>\"\",I292<>\"\",J292<>\"\"),Data!L292-$F$4,\"\")","v":""},"","","","",{"$f":"IF(F292<>\"\",STDEV($Q$12:Q292),\"\")","v":""},""]
[282,null,{"$f":"RIGHT(Data!C293,10)","v":""},null,null,null,null,null,null,null,{"$f":"IFERROR($U$3*Data!O293/SQRT(COUNT(Data!F293:J293)),\"\")","v":""},"","","","","",{"$f":"IFERROR((Data!K293-$F$4),\"\")","v":""},{"$f":"IF(AND(F293<>\"\",G293<>\"\",H293<>\"\",I293<>\"\",J293<>\"\"),Data!L293-$F$4,\"\")","v":""},"","","","",{"$f":"IF(F293<>\"\",STDEV($Q$12:Q293),\"\")","v":""},""]
[283,null,{"$f":"RIGHT(Data!C294,10)","v":""},null,null,null,null,null,null,null,{"$f":"IFERROR($U$3*Data!O294/SQRT(COUNT(Data!F294:J294)),\"\")","v":""},"","","","","",{"$f":"IFERROR((Data!K294-$F$4),\"\")","v":""},{"$f":"IF(AND(F294<>\"\",G294<>\"\",H294<>\"\",I294<>\"\",J294<>\"\"),Data!L294-$F$4,\"\")","v":""},"","","","",{"$f":"IF(F294<>\"\",STDEV($Q$12:Q294),\"\")","v":""},""]
[284,null,{"$f":"RIGHT(Data!C295,10)","v":""},null,null,null,null,null,null,null,{"$f":"IFERROR($U$3*Data!O295/SQRT(COUNT(Data!F295:J295)),\"\")","v":""},"","","","","",{"$f":"IFERROR((Data!K295-$F$4),\"\")","v":""},{"$f":"IF(AND(F295<>\"\",G295<>\"\",H295<>\"\",I295<>\"\",J295<>\"\"),Data!L295-$F$4,\"\")","v":""},"","","","",{"$f":"IF(F295<>\"\",STDEV($Q$12:Q295),\"\")","v":""},""]
[285,null,{"$f":"RIGHT(Data!C296,10)","v":""},null,null,null,null,null,null,null,{"$f":"IFERROR($U$3*Data!O296/SQRT(COUNT(Data!F296:J296)),\"\")","v":""},"","","","","",{"$f":"IFERROR((Data!K296-$F$4),\"\")","v":""},{"$f":"IF(AND(F296<>\"\",G296<>\"\",H296<>\"\",I296<>\"\",J296<>\"\"),Data!L296-$F$4,\"\")","v":""},"","","","",{"$f":"IF(F296<>\"\",STDEV($Q$12:Q296),\"\")","v":""},""]
[286,null,{"$f":"RIGHT(Data!C297,10)","v":""},null,null,null,null,null,null,null,{"$f":"IFERROR($U$3*Data!O297/SQRT(COUNT(Data!F297:J297)),\"\")","v":""},"","","","","",{"$f":"IFERROR((Data!K297-$F$4),\"\")","v":""},{"$f":"IF(AND(F297<>\"\",G297<>\"\",H297<>\"\",I297<>\"\",J297<>\"\"),Data!L297-$F$4,\"\")","v":""},"","","","",{"$f":"IF(F297<>\"\",STDEV($Q$12:Q297),\"\")","v":""},""]
[287,null,{"$f":"RIGHT(Data!C298,10)","v":""},null,null,null,null,null,null,null,{"$f":"IFERROR($U$3*Data!O298/SQRT(COUNT(Data!F298:J298)),\"\")","v":""},"","","","","",{"$f":"IFERROR((Data!K298-$F$4),\"\")","v":""},{"$f":"IF(AND(F298<>\"\",G298<>\"\",H298<>\"\",I298<>\"\",J298<>\"\"),Data!L298-$F$4,\"\")","v":""},"","","","",{"$f":"IF(F298<>\"\",STDEV($Q$12:Q298),\"\")","v":""},""]
[288,null,{"$f":"RIGHT(Data!C299,10)","v":""},null,null,null,null,null,null,null,{"$f":"IFERROR($U$3*Data!O299/SQRT(COUNT(Data!F299:J299)),\"\")","v":""},"","","","","",{"$f":"IFERROR((Data!K299-$F$4),\"\")","v":""},{"$f":"IF(AND(F299<>\"\",G299<>\"\",H299<>\"\",I299<>\"\",J299<>\"\"),Data!L299-$F$4,\"\")","v":""},"","","","",{"$f":"IF(F299<>\"\",STDEV($Q$12:Q299),\"\")","v":""},""]
[289,null,{"$f":"RIGHT(Data!C300,10)","v":""},null,null,null,null,null,null,null,{"$f":"IFERROR($U$3*Data!O300/SQRT(COUNT(Data!F300:J300)),\"\")","v":""},"","","","","",{"$f":"IFERROR((Data!K300-$F$4),\"\")","v":""},{"$f":"IF(AND(F300<>\"\",G300<>\"\",H300<>\"\",I300<>\"\",J300<>\"\"),Data!L300-$F$4,\"\")","v":""},"","","","",{"$f":"IF(F300<>\"\",STDEV($Q$12:Q300),\"\")","v":""},""]
[290,null,{"$f":"RIGHT(Data!C301,10)","v":""},null,null,null,null,null,null,null,{"$f":"IFERROR($U$3*Data!O301/SQRT(COUNT(Data!F301:J301)),\"\")","v":""},"","","","","",{"$f":"IFERROR((Data!K301-$F$4),\"\")","v":""},{"$f":"IF(AND(F301<>\"\",G301<>\"\",H301<>\"\",I301<>\"\",J301<>\"\"),Data!L301-$F$4,\"\")","v":""},"","","","",{"$f":"IF(F301<>\"\",STDEV($Q$12:Q301),\"\")","v":""},""]
[291,null,{"$f":"RIGHT(Data!C302,10)","v":""},null,null,null,null,null,null,null,{"$f":"IFERROR($U$3*Data!O302/SQRT(COUNT(Data!F302:J302)),\"\")","v":""},"","","","","",{"$f":"IFERROR((Data!K302-$F$4),\"\")","v":""},{"$f":"IF(AND(F302<>\"\",G302<>\"\",H302<>\"\",I302<>\"\",J302<>\"\"),Data!L302-$F$4,\"\")","v":""},"","","","",{"$f":"IF(F302<>\"\",STDEV($Q$12:Q302),\"\")","v":""},""]
[292,null,{"$f":"RIGHT(Data!C303,10)","v":""},null,null,null,null,null,null,null,{"$f":"IFERROR($U$3*Data!O303/SQRT(COUNT(Data!F303:J303)),\"\")","v":""},"","","","","",{"$f":"IFERROR((Data!K303-$F$4),\"\")","v":""},{"$f":"IF(AND(F303<>\"\",G303<>\"\",H303<>\"\",I303<>\"\",J303<>\"\"),Data!L303-$F$4,\"\")","v":""},"","","","",{"$f":"IF(F303<>\"\",STDEV($Q$12:Q303),\"\")","v":""},""]
[293,null,{"$f":"RIGHT(Data!C304,10)","v":""},null,null,null,null,null,null,null,{"$f":"IFERROR($U$3*Data!O304/SQRT(COUNT(Data!F304:J304)),\"\")","v":""},"","","","","",{"$f":"IFERROR((Data!K304-$F$4),\"\")","v":""},{"$f":"IF(AND(F304<>\"\",G304<>\"\",H304<>\"\",I304<>\"\",J304<>\"\"),Data!L304-$F$4,\"\")","v":""},"","","","",{"$f":"IF(F304<>\"\",STDEV($Q$12:Q304),\"\")","v":""},""]
[294,null,{"$f":"RIGHT(Data!C305,10)","v":""},null,null,null,null,null,null,null,{"$f":"IFERROR($U$3*Data!O305/SQRT(COUNT(Data!F305:J305)),\"\")","v":""},"","","","","",{"$f":"IFERROR((Data!K305-$F$4),\"\")","v":""},{"$f":"IF(AND(F305<>\"\",G305<>\"\",H305<>\"\",I305<>\"\",J305<>\"\"),Data!L305-$F$4,\"\")","v":""},"","","","",{"$f":"IF(F305<>\"\",STDEV($Q$12:Q305),\"\")","v":""},""]
[295,null,{"$f":"RIGHT(Data!C306,10)","v":""},null,null,null,null,null,null,null,{"$f":"IFERROR($U$3*Data!O306/SQRT(COUNT(Data!F306:J306)),\"\")","v":""},"","","","","",{"$f":"IFERROR((Data!K306-$F$4),\"\")","v":""},{"$f":"IF(AND(F306<>\"\",G306<>\"\",H306<>\"\",I306<>\"\",J306<>\"\"),Data!L306-$F$4,\"\")","v":""},"","","","",{"$f":"IF(F306<>\"\",STDEV($Q$12:Q306),\"\")","v":""},""]
[296,null,{"$f":"RIGHT(Data!C307,10)","v":""},null,null,null,null,null,null,null,{"$f":"IFERROR($U$3*Data!O307/SQRT(COUNT(Data!F307:J307)),\"\")","v":""},"","","","","",{"$f":"IFERROR((Data!K307-$F$4),\"\")","v":""},{"$f":"IF(AND(F307<>\"\",G307<>\"\",H307<>\"\",I307<>\"\",J307<>\"\"),Data!L307-$F$4,\"\")","v":""},"","","","",{"$f":"IF(F307<>\"\",STDEV($Q$12:Q307),\"\")","v":""},""]
[297,null,{"$f":"RIGHT(Data!C308,10)","v":""},null,null,null,null,null,null,null,{"$f":"IFERROR($U$3*Data!O308/SQRT(COUNT(Data!F308:J308)),\"\")","v":""},"","","","","",{"$f":"IFERROR((Data!K308-$F$4),\"\")","v":""},{"$f":"IF(AND(F308<>\"\",G308<>\"\",H308<>\"\",I308<>\"\",J308<>\"\"),Data!L308-$F$4,\"\")","v":""},"","","","",{"$f":"IF(F308<>\"\",STDEV($Q$12:Q308),\"\")","v":""},""]
[298,null,{"$f":"RIGHT(Data!C309,10)","v":""},null,null,null,null,null,null,null,{"$f":"IFERROR($U$3*Data!O309/SQRT(COUNT(Data!F309:J309)),\"\")","v":""},"","","","","",{"$f":"IFERROR((Data!K309-$F$4),\"\")","v":""},{"$f":"IF(AND(F309<>\"\",G309<>\"\",H309<>\"\",I309<>\"\",J309<>\"\"),Data!L309-$F$4,\"\")","v":""},"","","","",{"$f":"IF(F309<>\"\",STDEV($Q$12:Q309),\"\")","v":""},""]
[299,null,{"$f":"RIGHT(Data!C310,10)","v":""},null,null,null,null,null,null,null,{"$f":"IFERROR($U$3*Data!O310/SQRT(COUNT(Data!F310:J310)),\"\")","v":""},"","","","","",{"$f":"IFERROR((Data!K310-$F$4),\"\")","v":""},{"$f":"IF(AND(F310<>\"\",G310<>\"\",H310<>\"\",I310<>\"\",J310<>\"\"),Data!L310-$F$4,\"\")","v":""},"","","","",{"$f":"IF(F310<>\"\",STDEV($Q$12:Q310),\"\")","v":""},""]
[300,null,{"$f":"RIGHT(Data!C311,10)","v":""},null,null,null,null,null,null,null,{"$f":"IFERROR($U$3*Data!O311/SQRT(COUNT(Data!F311:J311)),\"\")","v":""},"","","","","",{"$f":"IFERROR((Data!K311-$F$4),\"\")","v":""},{"$f":"IF(AND(F311<>\"\",G311<>\"\",H311<>\"\",I311<>\"\",J311<>\"\"),Data!L311-$F$4,\"\")","v":""},"","","","",{"$f":"IF(F311<>\"\",STDEV($Q$12:Q311),\"\")","v":""},""]
[301,null,{"$f":"RIGHT(Data!C312,10)","v":""},null,null,null,null,null,null,null,{"$f":"IFERROR($U$3*Data!O312/SQRT(COUNT(Data!F312:J312)),\"\")","v":""},"","","","","",{"$f":"IFERROR((Data!K312-$F$4),\"\")","v":""},{"$f":"IF(AND(F312<>\"\",G312<>\"\",H312<>\"\",I312<>\"\",J312<>\"\"),Data!L312-$F$4,\"\")","v":""},"","","","",{"$f":"IF(F312<>\"\",STDEV($Q$12:Q312),\"\")","v":""},""]
[302,null,{"$f":"RIGHT(Data!C313,10)","v":""},null,null,null,null,null,null,null,{"$f":"IFERROR($U$3*Data!O313/SQRT(COUNT(Data!F313:J313)),\"\")","v":""},"","","","","",{"$f":"IFERROR((Data!K313-$F$4),\"\")","v":""},{"$f":"IF(AND(F313<>\"\",G313<>\"\",H313<>\"\",I313<>\"\",J313<>\"\"),Data!L313-$F$4,\"\")","v":""},"","","","",{"$f":"IF(F313<>\"\",STDEV($Q$12:Q313),\"\")","v":""},""]
[303,null,{"$f":"RIGHT(Data!C314,10)","v":""},null,null,null,null,null,null,null,{"$f":"IFERROR($U$3*Data!O314/SQRT(COUNT(Data!F314:J314)),\"\")","v":""},"","","","","",{"$f":"IFERROR((Data!K314-$F$4),\"\")","v":""},{"$f":"IF(AND(F314<>\"\",G314<>\"\",H314<>\"\",I314<>\"\",J314<>\"\"),Data!L314-$F$4,\"\")","v":""},"","","","",{"$f":"IF(F314<>\"\",STDEV($Q$12:Q314),\"\")","v":""},""]
[304,null,{"$f":"RIGHT(Data!C315,10)","v":""},null,null,null,null,null,null,null,{"$f":"IFERROR($U$3*Data!O315/SQRT(COUNT(Data!F315:J315)),\"\")","v":""},"","","","","",{"$f":"IFERROR((Data!K315-$F$4),\"\")","v":""},{"$f":"IF(AND(F315<>\"\",G315<>\"\",H315<>\"\",I315<>\"\",J315<>\"\"),Data!L315-$F$4,\"\")","v":""},"","","","",{"$f":"IF(F315<>\"\",STDEV($Q$12:Q315),\"\")","v":""},""]
[305,null,{"$f":"RIGHT(Data!C316,10)","v":""},null,null,null,null,null,null,null,{"$f":"IFERROR($U$3*Data!O316/SQRT(COUNT(Data!F316:J316)),\"\")","v":""},"","","","","",{"$f":"IFERROR((Data!K316-$F$4),\"\")","v":""},{"$f":"IF(AND(F316<>\"\",G316<>\"\",H316<>\"\",I316<>\"\",J316<>\"\"),Data!L316-$F$4,\"\")","v":""},"","","","",{"$f":"IF(F316<>\"\",STDEV($Q$12:Q316),\"\")","v":""},""]
[306,null,{"$f":"RIGHT(Data!C317,10)","v":""},null,null,null,null,null,null,null,{"$f":"IFERROR($U$3*Data!O317/SQRT(COUNT(Data!F317:J317)),\"\")","v":""},"","","","","",{"$f":"IFERROR((Data!K317-$F$4),\"\")","v":""},{"$f":"IF(AND(F317<>\"\",G317<>\"\",H317<>\"\",I317<>\"\",J317<>\"\"),Data!L317-$F$4,\"\")","v":""},"","","","",{"$f":"IF(F317<>\"\",STDEV($Q$12:Q317),\"\")","v":""},""]
[307,null,{"$f":"RIGHT(Data!C318,10)","v":""},null,null,null,null,null,null,null,{"$f":"IFERROR($U$3*Data!O318/SQRT(COUNT(Data!F318:J318)),\"\")","v":""},"","","","","",{"$f":"IFERROR((Data!K318-$F$4),\"\")","v":""},{"$f":"IF(AND(F318<>\"\",G318<>\"\",H318<>\"\",I318<>\"\",J318<>\"\"),Data!L318-$F$4,\"\")","v":""},"","","","",{"$f":"IF(F318<>\"\",STDEV($Q$12:Q318),\"\")","v":""},""]
[308,null,{"$f":"RIGHT(Data!C319,10)","v":""},null,null,null,null,null,null,null,{"$f":"IFERROR($U$3*Data!O319/SQRT(COUNT(Data!F319:J319)),\"\")","v":""},"","","","","",{"$f":"IFERROR((Data!K319-$F$4),\"\")","v":""},{"$f":"IF(AND(F319<>\"\",G319<>\"\",H319<>\"\",I319<>\"\",J319<>\"\"),Data!L319-$F$4,\"\")","v":""},"","","","",{"$f":"IF(F319<>\"\",STDEV($Q$12:Q319),\"\")","v":""},""]
[309,null,{"$f":"RIGHT(Data!C320,10)","v":""},null,null,null,null,null,null,null,{"$f":"IFERROR($U$3*Data!O320/SQRT(COUNT(Data!F320:J320)),\"\")","v":""},"","","","","",{"$f":"IFERROR((Data!K320-$F$4),\"\")","v":""},{"$f":"IF(AND(F320<>\"\",G320<>\"\",H320<>\"\",I320<>\"\",J320<>\"\"),Data!L320-$F$4,\"\")","v":""},"","","","",{"$f":"IF(F320<>\"\",STDEV($Q$12:Q320),\"\")","v":""},""]
[310,null,{"$f":"RIGHT(Data!C321,10)","v":""},null,null,null,null,null,null,null,{"$f":"IFERROR($U$3*Data!O321/SQRT(COUNT(Data!F321:J321)),\"\")","v":""},"","","","","",{"$f":"IFERROR((Data!K321-$F$4),\"\")","v":""},{"$f":"IF(AND(F321<>\"\",G321<>\"\",H321<>\"\",I321<>\"\",J321<>\"\"),Data!L321-$F$4,\"\")","v":""},"","","","",{"$f":"IF(F321<>\"\",STDEV($Q$12:Q321),\"\")","v":""},""]
[311,null,{"$f":"RIGHT(Data!C322,10)","v":""},null,null,null,null,null,null,null,{"$f":"IFERROR($U$3*Data!O322/SQRT(COUNT(Data!F322:J322)),\"\")","v":""},"","","","","",{"$f":"IFERROR((Data!K322-$F$4),\"\")","v":""},{"$f":"IF(AND(F322<>\"\",G322<>\"\",H322<>\"\",I322<>\"\",J322<>\"\"),Data!L322-$F$4,\"\")","v":""},"","","","",{"$f":"IF(F322<>\"\",STDEV($Q$12:Q322),\"\")","v":""},""]
[312,null,{"$f":"RIGHT(Data!C323,10)","v":""},null,null,null,null,null,null,null,{"$f":"IFERROR($U$3*Data!O323/SQRT(COUNT(Data!F323:J323)),\"\")","v":""},"","","","","",{"$f":"IFERROR((Data!K323-$F$4),\"\")","v":""},{"$f":"IF(AND(F323<>\"\",G323<>\"\",H323<>\"\",I323<>\"\",J323<>\"\"),Data!L323-$F$4,\"\")","v":""},"","","","",{"$f":"IF(F323<>\"\",STDEV($Q$12:Q323),\"\")","v":""},""]
[313,null,{"$f":"RIGHT(Data!C324,10)","v":""},null,null,null,null,null,null,null,{"$f":"IFERROR($U$3*Data!O324/SQRT(COUNT(Data!F324:J324)),\"\")","v":""},"","","","","",{"$f":"IFERROR((Data!K324-$F$4),\"\")","v":""},{"$f":"IF(AND(F324<>\"\",G324<>\"\",H324<>\"\",I324<>\"\",J324<>\"\"),Data!L324-$F$4,\"\")","v":""},"","","","",{"$f":"IF(F324<>\"\",STDEV($Q$12:Q324),\"\")","v":""},""]
[314,null,{"$f":"RIGHT(Data!C325,10)","v":""},null,null,null,null,null,null,null,{"$f":"IFERROR($U$3*Data!O325/SQRT(COUNT(Data!F325:J325)),\"\")","v":""},"","","","","",{"$f":"IFERROR((Data!K325-$F$4),\"\")","v":""},{"$f":"IF(AND(F325<>\"\",G325<>\"\",H325<>\"\",I325<>\"\",J325<>\"\"),Data!L325-$F$4,\"\")","v":""},"","","","",{"$f":"IF(F325<>\"\",STDEV($Q$12:Q325),\"\")","v":""},""]
[315,null,{"$f":"RIGHT(Data!C326,10)","v":""},null,null,null,null,null,null,null,{"$f":"IFERROR($U$3*Data!O326/SQRT(COUNT(Data!F326:J326)),\"\")","v":""},"","","","","",{"$f":"IFERROR((Data!K326-$F$4),\"\")","v":""},{"$f":"IF(AND(F326<>\"\",G326<>\"\",H326<>\"\",I326<>\"\",J326<>\"\"),Data!L326-$F$4,\"\")","v":""},"","","","",{"$f":"IF(F326<>\"\",STDEV($Q$12:Q326),\"\")","v":""},""]
[316,null,{"$f":"RIGHT(Data!C327,10)","v":""},null,null,null,null,null,null,null,{"$f":"IFERROR($U$3*Data!O327/SQRT(COUNT(Data!F327:J327)),\"\")","v":""},"","","","","",{"$f":"IFERROR((Data!K327-$F$4),\"\")","v":""},{"$f":"IF(AND(F327<>\"\",G327<>\"\",H327<>\"\",I327<>\"\",J327<>\"\"),Data!L327-$F$4,\"\")","v":""},"","","","",{"$f":"IF(F327<>\"\",STDEV($Q$12:Q327),\"\")","v":""},""]
[317,null,{"$f":"RIGHT(Data!C328,10)","v":""},null,null,null,null,null,null,null,{"$f":"IFERROR($U$3*Data!O328/SQRT(COUNT(Data!F328:J328)),\"\")","v":""},"","","","","",{"$f":"IFERROR((Data!K328-$F$4),\"\")","v":""},{"$f":"IF(AND(F328<>\"\",G328<>\"\",H328<>\"\",I328<>\"\",J328<>\"\"),Data!L328-$F$4,\"\")","v":""},"","","","",{"$f":"IF(F328<>\"\",STDEV($Q$12:Q328),\"\")","v":""},""]
[318,null,{"$f":"RIGHT(Data!C329,10)","v":""},null,null,null,null,null,null,null,{"$f":"IFERROR($U$3*Data!O329/SQRT(COUNT(Data!F329:J329)),\"\")","v":""},"","","","","",{"$f":"IFERROR((Data!K329-$F$4),\"\")","v":""},{"$f":"IF(AND(F329<>\"\",G329<>\"\",H329<>\"\",I329<>\"\",J329<>\"\"),Data!L329-$F$4,\"\")","v":""},"","","","",{"$f":"IF(F329<>\"\",STDEV($Q$12:Q329),\"\")","v":""},""]
[319,null,{"$f":"RIGHT(Data!C330,10)","v":""},null,null,null,null,null,null,null,{"$f":"IFERROR($U$3*Data!O330/SQRT(COUNT(Data!F330:J330)),\"\")","v":""},"","","","","",{"$f":"IFERROR((Data!K330-$F$4),\"\")","v":""},{"$f":"IF(AND(F330<>\"\",G330<>\"\",H330<>\"\",I330<>\"\",J330<>\"\"),Data!L330-$F$4,\"\")","v":""},"","","","",{"$f":"IF(F330<>\"\",STDEV($Q$12:Q330),\"\")","v":""},""]
[320,null,{"$f":"RIGHT(Data!C331,10)","v":""},null,null,null,null,null,null,null,{"$f":"IFERROR($U$3*Data!O331/SQRT(COUNT(Data!F331:J331)),\"\")","v":""},"","","","","",{"$f":"IFERROR((Data!K331-$F$4),\"\")","v":""},{"$f":"IF(AND(F331<>\"\",G331<>\"\",H331<>\"\",I331<>\"\",J331<>\"\"),Data!L331-$F$4,\"\")","v":""},"","","","",{"$f":"IF(F331<>\"\",STDEV($Q$12:Q331),\"\")","v":""},""]
[321,null,{"$f":"RIGHT(Data!C332,10)","v":""},null,null,null,null,null,null,null,{"$f":"IFERROR($U$3*Data!O332/SQRT(COUNT(Data!F332:J332)),\"\")","v":""},"","",{"$f":"IF(COUNT(F332:J332)>=5,STDEV(F332:J332)*$U$3/SQRT((COUNT(F332:J332))),\"\")","v":""},"","",{"$f":"IFERROR((Data!K332-$F$4),\"\")","v":""},{"$f":"IF(AND(F332<>\"\",G332<>\"\",H332<>\"\",I332<>\"\",J332<>\"\"),Data!L332-$F$4,\"\")","v":""},{"$f":"IF(O332<>\"\",FIXED(X332,1) & \" ± \" & FIXED(O332+ABS(R332),2),\"\")","v":""},"","","",{"$f":"IF(F332<>\"\",STDEV($Q$12:Q332),\"\")","v":""},{"$f":"IF(F332<>\"\",AVERAGE(F332:J332),\"\")","v":""}]
[322,null,{"$f":"RIGHT(Data!C333,10)","v":""},null,null,null,null,null,null,null,{"$f":"IFERROR($U$3*Data!O333/SQRT(COUNT(Data!F333:J333)),\"\")","v":""},{"$f":"IF(F333<>\"\",V333*W333/SQRT(A333),\"\")","v":""},{"$f":"IF(F333<>\"\",$U$4*SQRT($U$7^2+L333^2+K333^2+$U$5^2),\"\")","v":""},"",{"$f":"IFERROR($U$4*SQRT($U$7^2+L333^2+K333^2+$U$5^2+N333^2),\"\")","v":""},{"$f":"IF(AND(F333<>\"\",G333<>\"\",H333<>\"\",I333<>\"\",J333<>\"\"),AVERAGE(F333:J333),\"\")","v":""},{"$f":"IFERROR((Data!K333-$F$4),\"\")","v":""},{"$f":"IF(AND(F333<>\"\",G333<>\"\",H333<>\"\",I333<>\"\",J333<>\"\"),Data!L333-$F$4,\"\")","v":""},"",{"$f":"IF(F333<>\"\",FIXED(AVERAGE(F333:J333)-R333,1) & \" ± \" & FIXED(O333,2),\"\")","v":""},{"$f":"IF(IO333=\"\",\"\",IO333-1)","v":""},{"$f":"IF(F333<>\"\",TINV(1-0.68,A333-1),\"\")","v":""},{"$f":"IF(F333<>\"\",STDEV($Q$12:Q333),\"\")","v":""},""]
[323,null,{"$f":"RIGHT(Data!C334,10)","v":""},null,null,null,null,null,null,null,{"$f":"IFERROR($U$3*Data!O334/SQRT(COUNT(Data!F334:J334)),\"\")","v":""},"","","","","",{"$f":"IFERROR((Data!K334-$F$4),\"\")","v":""},{"$f":"IF(AND(F334<>\"\",G334<>\"\",H334<>\"\",I334<>\"\",J334<>\"\"),Data!L334-$F$4,\"\")","v":""},"","","","",{"$f":"IF(F334<>\"\",STDEV($Q$12:Q334),\"\")","v":""},""]
[324,null,{"$f":"RIGHT(Data!C335,10)","v":""},null,null,null,null,null,null,null,{"$f":"IFERROR($U$3*Data!O335/SQRT(COUNT(Data!F335:J335)),\"\")","v":""},"","","","","",{"$f":"IFERROR((Data!K335-$F$4),\"\")","v":""},{"$f":"IF(AND(F335<>\"\",G335<>\"\",H335<>\"\",I335<>\"\",J335<>\"\"),Data!L335-$F$4,\"\")","v":""},"","","","",{"$f":"IF(F335<>\"\",STDEV($Q$12:Q335),\"\")","v":""},""]
[325,null,{"$f":"RIGHT(Data!C336,10)","v":""},null,null,null,null,null,null,null,{"$f":"IFERROR($U$3*Data!O336/SQRT(COUNT(Data!F336:J336)),\"\")","v":""},"","","","","",{"$f":"IFERROR((Data!K336-$F$4),\"\")","v":""},{"$f":"IF(AND(F336<>\"\",G336<>\"\",H336<>\"\",I336<>\"\",J336<>\"\"),Data!L336-$F$4,\"\")","v":""},"","","","",{"$f":"IF(F336<>\"\",STDEV($Q$12:Q336),\"\")","v":""},""]
[326,null,{"$f":"RIGHT(Data!C337,10)","v":""},null,null,null,null,null,null,null,{"$f":"IFERROR($U$3*Data!O337/SQRT(COUNT(Data!F337:J337)),\"\")","v":""},"","","","","",{"$f":"IFERROR((Data!K337-$F$4),\"\")","v":""},{"$f":"IF(AND(F337<>\"\",G337<>\"\",H337<>\"\",I337<>\"\",J337<>\"\"),Data!L337-$F$4,\"\")","v":""},"","","","",{"$f":"IF(F337<>\"\",STDEV($Q$12:Q337),\"\")","v":""},""]
[327,null,{"$f":"RIGHT(Data!C338,10)","v":""},null,null,null,null,null,null,null,{"$f":"IFERROR($U$3*Data!O338/SQRT(COUNT(Data!F338:J338)),\"\")","v":""},"","","","","",{"$f":"IFERROR((Data!K338-$F$4),\"\")","v":""},{"$f":"IF(AND(F338<>\"\",G338<>\"\",H338<>\"\",I338<>\"\",J338<>\"\"),Data!L338-$F$4,\"\")","v":""},"","","","",{"$f":"IF(F338<>\"\",STDEV($Q$12:Q338),\"\")","v":""},""]
[328,null,{"$f":"RIGHT(Data!C339,10)","v":""},null,null,null,null,null,null,null,{"$f":"IFERROR($U$3*Data!O339/SQRT(COUNT(Data!F339:J339)),\"\")","v":""},"","","","","",{"$f":"IFERROR((Data!K339-$F$4),\"\")","v":""},{"$f":"IF(AND(F339<>\"\",G339<>\"\",H339<>\"\",I339<>\"\",J339<>\"\"),Data!L339-$F$4,\"\")","v":""},"","","","",{"$f":"IF(F339<>\"\",STDEV($Q$12:Q339),\"\")","v":""},""]
[329,null,{"$f":"RIGHT(Data!C340,10)","v":""},null,null,null,null,null,null,null,{"$f":"IFERROR($U$3*Data!O340/SQRT(COUNT(Data!F340:J340)),\"\")","v":""},"","","","","",{"$f":"IFERROR((Data!K340-$F$4),\"\")","v":""},{"$f":"IF(AND(F340<>\"\",G340<>\"\",H340<>\"\",I340<>\"\",J340<>\"\"),Data!L340-$F$4,\"\")","v":""},"","","","",{"$f":"IF(F340<>\"\",STDEV($Q$12:Q340),\"\")","v":""},""]
[330,null,{"$f":"RIGHT(Data!C341,10)","v":""},null,null,null,null,null,null,null,{"$f":"IFERROR($U$3*Data!O341/SQRT(COUNT(Data!F341:J341)),\"\")","v":""},"","","","","",{"$f":"IFERROR((Data!K341-$F$4),\"\")","v":""},{"$f":"IF(AND(F341<>\"\",G341<>\"\",H341<>\"\",I341<>\"\",J341<>\"\"),Data!L341-$F$4,\"\")","v":""},"","","","",{"$f":"IF(F341<>\"\",STDEV($Q$12:Q341),\"\")","v":""},""]
[331,null,{"$f":"RIGHT(Data!C342,10)","v":""},null,null,null,null,null,null,null,{"$f":"IFERROR($U$3*Data!O342/SQRT(COUNT(Data!F342:J342)),\"\")","v":""},"","","","","",{"$f":"IFERROR((Data!K342-$F$4),\"\")","v":""},{"$f":"IF(AND(F342<>\"\",G342<>\"\",H342<>\"\",I342<>\"\",J342<>\"\"),Data!L342-$F$4,\"\")","v":""},"","","","",{"$f":"IF(F342<>\"\",STDEV($Q$12:Q342),\"\")","v":""},""]
[332,null,{"$f":"RIGHT(Data!C343,10)","v":""},null,null,null,null,null,null,null,{"$f":"IFERROR($U$3*Data!O343/SQRT(COUNT(Data!F343:J343)),\"\")","v":""},"","","","","",{"$f":"IFERROR((Data!K343-$F$4),\"\")","v":""},{"$f":"IF(AND(F343<>\"\",G343<>\"\",H343<>\"\",I343<>\"\",J343<>\"\"),Data!L343-$F$4,\"\")","v":""},"","","","",{"$f":"IF(F343<>\"\",STDEV($Q$12:Q343),\"\")","v":""},""]
[333,null,{"$f":"RIGHT(Data!C344,10)","v":""},null,null,null,null,null,null,null,{"$f":"IFERROR($U$3*Data!O344/SQRT(COUNT(Data!F344:J344)),\"\")","v":""},"","","","","",{"$f":"IFERROR((Data!K344-$F$4),\"\")","v":""},{"$f":"IF(AND(F344<>\"\",G344<>\"\",H344<>\"\",I344<>\"\",J344<>\"\"),Data!L344-$F$4,\"\")","v":""},"","","","",{"$f":"IF(F344<>\"\",STDEV($Q$12:Q344),\"\")","v":""},""]
[334,null,{"$f":"RIGHT(Data!C345,10)","v":""},null,null,null,null,null,null,null,{"$f":"IFERROR($U$3*Data!O345/SQRT(COUNT(Data!F345:J345)),\"\")","v":""},"","","","","",{"$f":"IFERROR((Data!K345-$F$4),\"\")","v":""},{"$f":"IF(AND(F345<>\"\",G345<>\"\",H345<>\"\",I345<>\"\",J345<>\"\"),Data!L345-$F$4,\"\")","v":""},"","","","",{"$f":"IF(F345<>\"\",STDEV($Q$12:Q345),\"\")","v":""},""]
[335,null,{"$f":"RIGHT(Data!C346,10)","v":""},null,null,null,null,null,null,null,{"$f":"IFERROR($U$3*Data!O346/SQRT(COUNT(Data!F346:J346)),\"\")","v":""},"","","","","",{"$f":"IFERROR((Data!K346-$F$4),\"\")","v":""},{"$f":"IF(AND(F346<>\"\",G346<>\"\",H346<>\"\",I346<>\"\",J346<>\"\"),Data!L346-$F$4,\"\")","v":""},"","","","",{"$f":"IF(F346<>\"\",STDEV($Q$12:Q346),\"\")","v":""},""]
[336,null,{"$f":"RIGHT(Data!C347,10)","v":""},null,null,null,null,null,null,null,{"$f":"IFERROR($U$3*Data!O347/SQRT(COUNT(Data!F347:J347)),\"\")","v":""},"","","","","",{"$f":"IFERROR((Data!K347-$F$4),\"\")","v":""},{"$f":"IF(AND(F347<>\"\",G347<>\"\",H347<>\"\",I347<>\"\",J347<>\"\"),Data!L347-$F$4,\"\")","v":""},"","","","",{"$f":"IF(F347<>\"\",STDEV($Q$12:Q347),\"\")","v":""},""]
[337,null,{"$f":"RIGHT(Data!C348,10)","v":""},null,null,null,null,null,null,null,{"$f":"IFERROR($U$3*Data!O348/SQRT(COUNT(Data!F348:J348)),\"\")","v":""},"","","","","",{"$f":"IFERROR((Data!K348-$F$4),\"\")","v":""},{"$f":"IF(AND(F348<>\"\",G348<>\"\",H348<>\"\",I348<>\"\",J348<>\"\"),Data!L348-$F$4,\"\")","v":""},"","","","",{"$f":"IF(F348<>\"\",STDEV($Q$12:Q348),\"\")","v":""},""]
[338,null,{"$f":"RIGHT(Data!C349,10)","v":""},null,null,null,null,null,null,null,{"$f":"IFERROR($U$3*Data!O349/SQRT(COUNT(Data!F349:J349)),\"\")","v":""},"","","","","",{"$f":"IFERROR((Data!K349-$F$4),\"\")","v":""},{"$f":"IF(AND(F349<>\"\",G349<>\"\",H349<>\"\",I349<>\"\",J349<>\"\"),Data!L349-$F$4,\"\")","v":""},"","","","",{"$f":"IF(F349<>\"\",STDEV($Q$12:Q349),\"\")","v":""},""]
[339,null,{"$f":"RIGHT(Data!C350,10)","v":""},null,null,null,null,null,null,null,{"$f":"IFERROR($U$3*Data!O350/SQRT(COUNT(Data!F350:J350)),\"\")","v":""},"","","","","",{"$f":"IFERROR((Data!K350-$F$4),\"\")","v":""},{"$f":"IF(AND(F350<>\"\",G350<>\"\",H350<>\"\",I350<>\"\",J350<>\"\"),Data!L350-$F$4,\"\")","v":""},"","","","",{"$f":"IF(F350<>\"\",STDEV($Q$12:Q350),\"\")","v":""},""]
[340,null,{"$f":"RIGHT(Data!C351,10)","v":""},null,null,null,null,null,null,null,{"$f":"IFERROR($U$3*Data!O351/SQRT(COUNT(Data!F351:J351)),\"\")","v":""},"","","","","",{"$f":"IFERROR((Data!K351-$F$4),\"\")","v":""},{"$f":"IF(AND(F351<>\"\",G351<>\"\",H351<>\"\",I351<>\"\",J351<>\"\"),Data!L351-$F$4,\"\")","v":""},"","","","",{"$f":"IF(F351<>\"\",STDEV($Q$12:Q351),\"\")","v":""},""]
[341,null,{"$f":"RIGHT(Data!C352,10)","v":""},null,null,null,null,null,null,null,{"$f":"IFERROR($U$3*Data!O352/SQRT(COUNT(Data!F352:J352)),\"\")","v":""},"","","","","",{"$f":"IFERROR((Data!K352-$F$4),\"\")","v":""},{"$f":"IF(AND(F352<>\"\",G352<>\"\",H352<>\"\",I352<>\"\",J352<>\"\"),Data!L352-$F$4,\"\")","v":""},"","","","",{"$f":"IF(F352<>\"\",STDEV($Q$12:Q352),\"\")","v":""},""]
[342,null,{"$f":"RIGHT(Data!C353,10)","v":""},null,null,null,null,null,null,null,{"$f":"IFERROR($U$3*Data!O353/SQRT(COUNT(Data!F353:J353)),\"\")","v":""},"","","","","",{"$f":"IFERROR((Data!K353-$F$4),\"\")","v":""},{"$f":"IF(AND(F353<>\"\",G353<>\"\",H353<>\"\",I353<>\"\",J353<>\"\"),Data!L353-$F$4,\"\")","v":""},"","","","",{"$f":"IF(F353<>\"\",STDEV($Q$12:Q353),\"\")","v":""},""]
[343,null,{"$f":"RIGHT(Data!C354,10)","v":""},null,null,null,null,null,null,null,{"$f":"IFERROR($U$3*Data!O354/SQRT(COUNT(Data!F354:J354)),\"\")","v":""},"","","","","",{"$f":"IFERROR((Data!K354-$F$4),\"\")","v":""},{"$f":"IF(AND(F354<>\"\",G354<>\"\",H354<>\"\",I354<>\"\",J354<>\"\"),Data!L354-$F$4,\"\")","v":""},"","","","",{"$f":"IF(F354<>\"\",STDEV($Q$12:Q354),\"\")","v":""},""]
[344,null,{"$f":"RIGHT(Data!C355,10)","v":""},null,null,null,null,null,null,null,{"$f":"IFERROR($U$3*Data!O355/SQRT(COUNT(Data!F355:J355)),\"\")","v":""},"","","","","",{"$f":"IFERROR((Data!K355-$F$4),\"\")","v":""},{"$f":"IF(AND(F355<>\"\",G355<>\"\",H355<>\"\",I355<>\"\",J355<>\"\"),Data!L355-$F$4,\"\")","v":""},"","","","",{"$f":"IF(F355<>\"\",STDEV($Q$12:Q355),\"\")","v":""},""]
[345,null,{"$f":"RIGHT(Data!C356,10)","v":""},null,null,null,null,null,null,null,{"$f":"IFERROR($U$3*Data!O356/SQRT(COUNT(Data!F356:J356)),\"\")","v":""},"","","","","",{"$f":"IFERROR((Data!K356-$F$4),\"\")","v":""},{"$f":"IF(AND(F356<>\"\",G356<>\"\",H356<>\"\",I356<>\"\",J356<>\"\"),Data!L356-$F$4,\"\")","v":""},"","","","",{"$f":"IF(F356<>\"\",STDEV($Q$12:Q356),\"\")","v":""},""]
[346,null,{"$f":"RIGHT(Data!C357,10)","v":""},null,null,null,null,null,null,null,{"$f":"IFERROR($U$3*Data!O357/SQRT(COUNT(Data!F357:J357)),\"\")","v":""},"","","","","",{"$f":"IFERROR((Data!K357-$F$4),\"\")","v":""},{"$f":"IF(AND(F357<>\"\",G357<>\"\",H357<>\"\",I357<>\"\",J357<>\"\"),Data!L357-$F$4,\"\")","v":""},"","","","",{"$f":"IF(F357<>\"\",STDEV($Q$12:Q357),\"\")","v":""},""]
[347,null,{"$f":"RIGHT(Data!C358,10)","v":""},null,null,null,null,null,null,null,{"$f":"IFERROR($U$3*Data!O358/SQRT(COUNT(Data!F358:J358)),\"\")","v":""},"","","","","",{"$f":"IFERROR((Data!K358-$F$4),\"\")","v":""},{"$f":"IF(AND(F358<>\"\",G358<>\"\",H358<>\"\",I358<>\"\",J358<>\"\"),Data!L358-$F$4,\"\")","v":""},"","","","",{"$f":"IF(F358<>\"\",STDEV($Q$12:Q358),\"\")","v":""},""]
[348,null,{"$f":"RIGHT(Data!C359,10)","v":""},null,null,null,null,null,null,null,{"$f":"IFERROR($U$3*Data!O359/SQRT(COUNT(Data!F359:J359)),\"\")","v":""},"","","","","",{"$f":"IFERROR((Data!K359-$F$4),\"\")","v":""},{"$f":"IF(AND(F359<>\"\",G359<>\"\",H359<>\"\",I359<>\"\",J359<>\"\"),Data!L359-$F$4,\"\")","v":""},"","","","",{"$f":"IF(F359<>\"\",STDEV($Q$12:Q359),\"\")","v":""},""]
[349,null,{"$f":"RIGHT(Data!C360,10)","v":""},null,null,null,null,null,null,null,{"$f":"IFERROR($U$3*Data!O360/SQRT(COUNT(Data!F360:J360)),\"\")","v":""},"","","","","",{"$f":"IFERROR((Data!K360-$F$4),\"\")","v":""},{"$f":"IF(AND(F360<>\"\",G360<>\"\",H360<>\"\",I360<>\"\",J360<>\"\"),Data!L360-$F$4,\"\")","v":""},"","","","",{"$f":"IF(F360<>\"\",STDEV($Q$12:Q360),\"\")","v":""},""]
[350,null,{"$f":"RIGHT(Data!C361,10)","v":""},null,null,null,null,null,null,null,{"$f":"IFERROR($U$3*Data!O361/SQRT(COUNT(Data!F361:J361)),\"\")","v":""},"","","","","",{"$f":"IFERROR((Data!K361-$F$4),\"\")","v":""},{"$f":"IF(AND(F361<>\"\",G361<>\"\",H361<>\"\",I361<>\"\",J361<>\"\"),Data!L361-$F$4,\"\")","v":""},"","","","",{"$f":"IF(F361<>\"\",STDEV($Q$12:Q361),\"\")","v":""},""]
[351,null,{"$f":"RIGHT(Data!C362,10)","v":""},null,null,null,null,null,null,null,{"$f":"IFERROR($U$3*Data!O362/SQRT(COUNT(Data!F362:J362)),\"\")","v":""},"","","","","",{"$f":"IFERROR((Data!K362-$F$4),\"\")","v":""},{"$f":"IF(AND(F362<>\"\",G362<>\"\",H362<>\"\",I362<>\"\",J362<>\"\"),Data!L362-$F$4,\"\")","v":""},"","","","",{"$f":"IF(F362<>\"\",STDEV($Q$12:Q362),\"\")","v":""},""]
[352,null,{"$f":"RIGHT(Data!C363,10)","v":""},null,null,null,null,null,null,null,{"$f":"IFERROR($U$3*Data!O363/SQRT(COUNT(Data!F363:J363)),\"\")","v":""},"","","","","",{"$f":"IFERROR((Data!K363-$F$4),\"\")","v":""},{"$f":"IF(AND(F363<>\"\",G363<>\"\",H363<>\"\",I363<>\"\",J363<>\"\"),Data!L363-$F$4,\"\")","v":""},"","","","",{"$f":"IF(F363<>\"\",STDEV($Q$12:Q363),\"\")","v":""},""]
[353,null,{"$f":"RIGHT(Data!C364,10)","v":""},null,null,null,null,null,null,null,{"$f":"IFERROR($U$3*Data!O364/SQRT(COUNT(Data!F364:J364)),\"\")","v":""},"","","","","",{"$f":"IFERROR((Data!K364-$F$4),\"\")","v":""},{"$f":"IF(AND(F364<>\"\",G364<>\"\",H364<>\"\",I364<>\"\",J364<>\"\"),Data!L364-$F$4,\"\")","v":""},"","","","",{"$f":"IF(F364<>\"\",STDEV($Q$12:Q364),\"\")","v":""},""]
[354,null,{"$f":"RIGHT(Data!C365,10)","v":""},null,null,null,null,null,null,null,{"$f":"IFERROR($U$3*Data!O365/SQRT(COUNT(Data!F365:J365)),\"\")","v":""},"","","","","",{"$f":"IFERROR((Data!K365-$F$4),\"\")","v":""},{"$f":"IF(AND(F365<>\"\",G365<>\"\",H365<>\"\",I365<>\"\",J365<>\"\"),Data!L365-$F$4,\"\")","v":""},"","","","",{"$f":"IF(F365<>\"\",STDEV($Q$12:Q365),\"\")","v":""},""]
[355,null,{"$f":"RIGHT(Data!C366,10)","v":""},null,null,null,null,null,null,null,{"$f":"IFERROR($U$3*Data!O366/SQRT(COUNT(Data!F366:J366)),\"\")","v":""},"","","","","",{"$f":"IFERROR((Data!K366-$F$4),\"\")","v":""},{"$f":"IF(AND(F366<>\"\",G366<>\"\",H366<>\"\",I366<>\"\",J366<>\"\"),Data!L366-$F$4,\"\")","v":""},"","","","",{"$f":"IF(F366<>\"\",STDEV($Q$12:Q366),\"\")","v":""},""]
[356,null,{"$f":"RIGHT(Data!C367,10)","v":""},null,null,null,null,null,null,null,{"$f":"IFERROR($U$3*Data!O367/SQRT(COUNT(Data!F367:J367)),\"\")","v":""},"","","","","",{"$f":"IFERROR((Data!K367-$F$4),\"\")","v":""},{"$f":"IF(AND(F367<>\"\",G367<>\"\",H367<>\"\",I367<>\"\",J367<>\"\"),Data!L367-$F$4,\"\")","v":""},"","","","",{"$f":"IF(F367<>\"\",STDEV($Q$12:Q367),\"\")","v":""},""]
[357,null,{"$f":"RIGHT(Data!C368,10)","v":""},null,null,null,null,null,null,null,{"$f":"IFERROR($U$3*Data!O368/SQRT(COUNT(Data!F368:J368)),\"\")","v":""},"","","","","",{"$f":"IFERROR((Data!K368-$F$4),\"\")","v":""},{"$f":"IF(AND(F368<>\"\",G368<>\"\",H368<>\"\",I368<>\"\",J368<>\"\"),Data!L368-$F$4,\"\")","v":""},"","","","",{"$f":"IF(F368<>\"\",STDEV($Q$12:Q368),\"\")","v":""},""]
[358,null,{"$f":"RIGHT(Data!C369,10)","v":""},null,null,null,null,null,null,null,{"$f":"IFERROR($U$3*Data!O369/SQRT(COUNT(Data!F369:J369)),\"\")","v":""},"","","","","",{"$f":"IFERROR((Data!K369-$F$4),\"\")","v":""},{"$f":"IF(AND(F369<>\"\",G369<>\"\",H369<>\"\",I369<>\"\",J369<>\"\"),Data!L369-$F$4,\"\")","v":""},"","","","",{"$f":"IF(F369<>\"\",STDEV($Q$12:Q369),\"\")","v":""},""]
[359,null,{"$f":"RIGHT(Data!C370,10)","v":""},null,null,null,null,null,null,null,{"$f":"IFERROR($U$3*Data!O370/SQRT(COUNT(Data!F370:J370)),\"\")","v":""},"","","","","",{"$f":"IFERROR((Data!K370-$F$4),\"\")","v":""},{"$f":"IF(AND(F370<>\"\",G370<>\"\",H370<>\"\",I370<>\"\",J370<>\"\"),Data!L370-$F$4,\"\")","v":""},"","","","",{"$f":"IF(F370<>\"\",STDEV($Q$12:Q370),\"\")","v":""},""]
[360,null,{"$f":"RIGHT(Data!C371,10)","v":""},null,null,null,null,null,null,null,{"$f":"IFERROR($U$3*Data!O371/SQRT(COUNT(Data!F371:J371)),\"\")","v":""},"","","","","",{"$f":"IFERROR((Data!K371-$F$4),\"\")","v":""},{"$f":"IF(AND(F371<>\"\",G371<>\"\",H371<>\"\",I371<>\"\",J371<>\"\"),Data!L371-$F$4,\"\")","v":""},"","","","",{"$f":"IF(F371<>\"\",STDEV($Q$12:Q371),\"\")","v":""},""]
[361,null,{"$f":"RIGHT(Data!C372,10)","v":""},null,null,null,null,null,null,null,{"$f":"IFERROR($U$3*Data!O372/SQRT(COUNT(Data!F372:J372)),\"\")","v":""},"","","","","",{"$f":"IFERROR((Data!K372-$F$4),\"\")","v":""},{"$f":"IF(AND(F372<>\"\",G372<>\"\",H372<>\"\",I372<>\"\",J372<>\"\"),Data!L372-$F$4,\"\")","v":""},"","","","",{"$f":"IF(F372<>\"\",STDEV($Q$12:Q372),\"\")","v":""},""]
[362,null,{"$f":"RIGHT(Data!C373,10)","v":""},null,null,null,null,null,null,null,{"$f":"IFERROR($U$3*Data!O373/SQRT(COUNT(Data!F373:J373)),\"\")","v":""},"","","","","",{"$f":"IFERROR((Data!K373-$F$4),\"\")","v":""},{"$f":"IF(AND(F373<>\"\",G373<>\"\",H373<>\"\",I373<>\"\",J373<>\"\"),Data!L373-$F$4,\"\")","v":""},"","","","",{"$f":"IF(F373<>\"\",STDEV($Q$12:Q373),\"\")","v":""},""]
[363,null,{"$f":"RIGHT(Data!C374,10)","v":""},null,null,null,null,null,null,null,{"$f":"IFERROR($U$3*Data!O374/SQRT(COUNT(Data!F374:J374)),\"\")","v":""},"","","","","",{"$f":"IFERROR((Data!K374-$F$4),\"\")","v":""},{"$f":"IF(AND(F374<>\"\",G374<>\"\",H374<>\"\",I374<>\"\",J374<>\"\"),Data!L374-$F$4,\"\")","v":""},"","","","",{"$f":"IF(F374<>\"\",STDEV($Q$12:Q374),\"\")","v":""},""]
[364,null,{"$f":"RIGHT(Data!C375,10)","v":""},null,null,null,null,null,null,null,{"$f":"IFERROR($U$3*Data!O375/SQRT(COUNT(Data!F375:J375)),\"\")","v":""},"","","","","",{"$f":"IFERROR((Data!K375-$F$4),\"\")","v":""},{"$f":"IF(AND(F375<>\"\",G375<>\"\",H375<>\"\",I375<>\"\",J375<>\"\"),Data!L375-$F$4,\"\")","v":""},"","","","",{"$f":"IF(F375<>\"\",STDEV($Q$12:Q375),\"\")","v":""},""]
[365,null,{"$f":"RIGHT(Data!C376,10)","v":""},null,null,null,null,null,null,null,{"$f":"IFERROR($U$3*Data!O376/SQRT(COUNT(Data!F376:J376)),\"\")","v":""},"","","","","",{"$f":"IFERROR((Data!K376-$F$4),\"\")","v":""},{"$f":"IF(AND(F376<>\"\",G376<>\"\",H376<>\"\",I376<>\"\",J376<>\"\"),Data!L376-$F$4,\"\")","v":""},"","","","",{"$f":"IF(F376<>\"\",STDEV($Q$12:Q376),\"\")","v":""},""]
[366,null,{"$f":"RIGHT(Data!C377,10)","v":""},null,null,null,null,null,null,null,{"$f":"IFERROR($U$3*Data!O377/SQRT(COUNT(Data!F377:J377)),\"\")","v":""},"","","","","",{"$f":"IFERROR((Data!K377-$F$4),\"\")","v":""},{"$f":"IF(AND(F377<>\"\",G377<>\"\",H377<>\"\",I377<>\"\",J377<>\"\"),Data!L377-$F$4,\"\")","v":""},"","","","",{"$f":"IF(F377<>\"\",STDEV($Q$12:Q377),\"\")","v":""},""]
[367,null,{"$f":"RIGHT(Data!C378,10)","v":""},null,null,null,null,null,null,null,{"$f":"IFERROR($U$3*Data!O378/SQRT(COUNT(Data!F378:J378)),\"\")","v":""},"","","","","",{"$f":"IFERROR((Data!K378-$F$4),\"\")","v":""},{"$f":"IF(AND(F378<>\"\",G378<>\"\",H378<>\"\",I378<>\"\",J378<>\"\"),Data!L378-$F$4,\"\")","v":""},"","","","",{"$f":"IF(F378<>\"\",STDEV($Q$12:Q378),\"\")","v":""},""]
[368,null,{"$f":"RIGHT(Data!C379,10)","v":""},null,null,null,null,null,null,null,{"$f":"IFERROR($U$3*Data!O379/SQRT(COUNT(Data!F379:J379)),\"\")","v":""},"","","","","",{"$f":"IFERROR((Data!K379-$F$4),\"\")","v":""},{"$f":"IF(AND(F379<>\"\",G379<>\"\",H379<>\"\",I379<>\"\",J379<>\"\"),Data!L379-$F$4,\"\")","v":""},"","","","",{"$f":"IF(F379<>\"\",STDEV($Q$12:Q379),\"\")","v":""},""]
[369,null,{"$f":"RIGHT(Data!C380,10)","v":""},null,null,null,null,null,null,null,{"$f":"IFERROR($U$3*Data!O380/SQRT(COUNT(Data!F380:J380)),\"\")","v":""},"","","","","",{"$f":"IFERROR((Data!K380-$F$4),\"\")","v":""},{"$f":"IF(AND(F380<>\"\",G380<>\"\",H380<>\"\",I380<>\"\",J380<>\"\"),Data!L380-$F$4,\"\")","v":""},"","","","",{"$f":"IF(F380<>\"\",STDEV($Q$12:Q380),\"\")","v":""},""]
[370,null,{"$f":"RIGHT(Data!C381,10)","v":""},null,null,null,null,null,null,null,{"$f":"IFERROR($U$3*Data!O381/SQRT(COUNT(Data!F381:J381)),\"\")","v":""},"","","","","",{"$f":"IFERROR((Data!K381-$F$4),\"\")","v":""},{"$f":"IF(AND(F381<>\"\",G381<>\"\",H381<>\"\",I381<>\"\",J381<>\"\"),Data!L381-$F$4,\"\")","v":""},"","","","",{"$f":"IF(F381<>\"\",STDEV($Q$12:Q381),\"\")","v":""},""]
[371,null,{"$f":"RIGHT(Data!C382,10)","v":""},null,null,null,null,null,null,null,{"$f":"IFERROR($U$3*Data!O382/SQRT(COUNT(Data!F382:J382)),\"\")","v":""},"","","","","",{"$f":"IFERROR((Data!K382-$F$4),\"\")","v":""},{"$f":"IF(AND(F382<>\"\",G382<>\"\",H382<>\"\",I382<>\"\",J382<>\"\"),Data!L382-$F$4,\"\")","v":""},"","","","",{"$f":"IF(F382<>\"\",STDEV($Q$12:Q382),\"\")","v":""},""]
[372,null,{"$f":"RIGHT(Data!C383,10)","v":""},null,null,null,null,null,null,null,{"$f":"IFERROR($U$3*Data!O383/SQRT(COUNT(Data!F383:J383)),\"\")","v":""},"","","","","",{"$f":"IFERROR((Data!K383-$F$4),\"\")","v":""},{"$f":"IF(AND(F383<>\"\",G383<>\"\",H383<>\"\",I383<>\"\",J383<>\"\"),Data!L383-$F$4,\"\")","v":""},"","","","",{"$f":"IF(F383<>\"\",STDEV($Q$12:Q383),\"\")","v":""},""]
[373,null,{"$f":"RIGHT(Data!C384,10)","v":""},null,null,null,null,null,null,null,{"$f":"IFERROR($U$3*Data!O384/SQRT(COUNT(Data!F384:J384)),\"\")","v":""},"","","","","",{"$f":"IFERROR((Data!K384-$F$4),\"\")","v":""},{"$f":"IF(AND(F384<>\"\",G384<>\"\",H384<>\"\",I384<>\"\",J384<>\"\"),Data!L384-$F$4,\"\")","v":""},"","","","",{"$f":"IF(F384<>\"\",STDEV($Q$12:Q384),\"\")","v":""},""]
[374,null,{"$f":"RIGHT(Data!C385,10)","v":""},null,null,null,null,null,null,null,{"$f":"IFERROR($U$3*Data!O385/SQRT(COUNT(Data!F385:J385)),\"\")","v":""},"","","","","",{"$f":"IFERROR((Data!K385-$F$4),\"\")","v":""},{"$f":"IF(AND(F385<>\"\",G385<>\"\",H385<>\"\",I385<>\"\",J385<>\"\"),Data!L385-$F$4,\"\")","v":""},"","","","",{"$f":"IF(F385<>\"\",STDEV($Q$12:Q385),\"\")","v":""},""]
[375,null,{"$f":"RIGHT(Data!C386,10)","v":""},null,null,null,null,null,null,null,{"$f":"IFERROR($U$3*Data!O386/SQRT(COUNT(Data!F386:J386)),\"\")","v":""},"","","","","",{"$f":"IFERROR((Data!K386-$F$4),\"\")","v":""},{"$f":"IF(AND(F386<>\"\",G386<>\"\",H386<>\"\",I386<>\"\",J386<>\"\"),Data!L386-$F$4,\"\")","v":""},"","","","",{"$f":"IF(F386<>\"\",STDEV($Q$12:Q386),\"\")","v":""},""]
[376,null,{"$f":"RIGHT(Data!C387,10)","v":""},null,null,null,null,null,null,null,{"$f":"IFERROR($U$3*Data!O387/SQRT(COUNT(Data!F387:J387)),\"\")","v":""},"","","","","",{"$f":"IFERROR((Data!K387-$F$4),\"\")","v":""},{"$f":"IF(AND(F387<>\"\",G387<>\"\",H387<>\"\",I387<>\"\",J387<>\"\"),Data!L387-$F$4,\"\")","v":""},"","","","",{"$f":"IF(F387<>\"\",STDEV($Q$12:Q387),\"\")","v":""},""]
[377,null,{"$f":"RIGHT(Data!C388,10)","v":""},null,null,null,null,null,null,null,{"$f":"IFERROR($U$3*Data!O388/SQRT(COUNT(Data!F388:J388)),\"\")","v":""},"","","","","",{"$f":"IFERROR((Data!K388-$F$4),\"\")","v":""},{"$f":"IF(AND(F388<>\"\",G388<>\"\",H388<>\"\",I388<>\"\",J388<>\"\"),Data!L388-$F$4,\"\")","v":""},"","","","",{"$f":"IF(F388<>\"\",STDEV($Q$12:Q388),\"\")","v":""},""]
[378,null,{"$f":"RIGHT(Data!C389,10)","v":""},null,null,null,null,null,null,null,{"$f":"IFERROR($U$3*Data!O389/SQRT(COUNT(Data!F389:J389)),\"\")","v":""},"","","","","",{"$f":"IFERROR((Data!K389-$F$4),\"\")","v":""},{"$f":"IF(AND(F389<>\"\",G389<>\"\",H389<>\"\",I389<>\"\",J389<>\"\"),Data!L389-$F$4,\"\")","v":""},"","","","",{"$f":"IF(F389<>\"\",STDEV($Q$12:Q389),\"\")","v":""},""]
[379,null,{"$f":"RIGHT(Data!C390,10)","v":""},null,null,null,null,null,null,null,{"$f":"IFERROR($U$3*Data!O390/SQRT(COUNT(Data!F390:J390)),\"\")","v":""},"","","","","",{"$f":"IFERROR((Data!K390-$F$4),\"\")","v":""},{"$f":"IF(AND(F390<>\"\",G390<>\"\",H390<>\"\",I390<>\"\",J390<>\"\"),Data!L390-$F$4,\"\")","v":""},"","","","",{"$f":"IF(F390<>\"\",STDEV($Q$12:Q390),\"\")","v":""},""]
[380,null,{"$f":"RIGHT(Data!C391,10)","v":""},null,null,null,null,null,null,null,{"$f":"IFERROR($U$3*Data!O391/SQRT(COUNT(Data!F391:J391)),\"\")","v":""},"","","","","",{"$f":"IFERROR((Data!K391-$F$4),\"\")","v":""},{"$f":"IF(AND(F391<>\"\",G391<>\"\",H391<>\"\",I391<>\"\",J391<>\"\"),Data!L391-$F$4,\"\")","v":""},"","","","",{"$f":"IF(F391<>\"\",STDEV($Q$12:Q391),\"\")","v":""},""]
[381,null,{"$f":"RIGHT(Data!C392,10)","v":""},null,null,null,null,null,null,null,{"$f":"IFERROR($U$3*Data!O392/SQRT(COUNT(Data!F392:J392)),\"\")","v":""},"","","","","",{"$f":"IFERROR((Data!K392-$F$4),\"\")","v":""},{"$f":"IF(AND(F392<>\"\",G392<>\"\",H392<>\"\",I392<>\"\",J392<>\"\"),Data!L392-$F$4,\"\")","v":""},"","","","",{"$f":"IF(F392<>\"\",STDEV($Q$12:Q392),\"\")","v":""},""]
[382,null,{"$f":"RIGHT(Data!C393,10)","v":""},null,null,null,null,null,null,null,{"$f":"IFERROR($U$3*Data!O393/SQRT(COUNT(Data!F393:J393)),\"\")","v":""},"","","","","",{"$f":"IFERROR((Data!K393-$F$4),\"\")","v":""},{"$f":"IF(AND(F393<>\"\",G393<>\"\",H393<>\"\",I393<>\"\",J393<>\"\"),Data!L393-$F$4,\"\")","v":""},"","","","",{"$f":"IF(F393<>\"\",STDEV($Q$12:Q393),\"\")","v":""},""]
[383,null,{"$f":"RIGHT(Data!C394,10)","v":""},null,null,null,null,null,null,null,{"$f":"IFERROR($U$3*Data!O394/SQRT(COUNT(Data!F394:J394)),\"\")","v":""},"","","","","",{"$f":"IFERROR((Data!K394-$F$4),\"\")","v":""},{"$f":"IF(AND(F394<>\"\",G394<>\"\",H394<>\"\",I394<>\"\",J394<>\"\"),Data!L394-$F$4,\"\")","v":""},"","","","",{"$f":"IF(F394<>\"\",STDEV($Q$12:Q394),\"\")","v":""},""]
[384,null,{"$f":"RIGHT(Data!C395,10)","v":""},null,null,null,null,null,null,null,{"$f":"IFERROR($U$3*Data!O395/SQRT(COUNT(Data!F395:J395)),\"\")","v":""},"","","","","",{"$f":"IFERROR((Data!K395-$F$4),\"\")","v":""},{"$f":"IF(AND(F395<>\"\",G395<>\"\",H395<>\"\",I395<>\"\",J395<>\"\"),Data!L395-$F$4,\"\")","v":""},"","","","",{"$f":"IF(F395<>\"\",STDEV($Q$12:Q395),\"\")","v":""},""]
[385,null,{"$f":"RIGHT(Data!C396,10)","v":""},null,null,null,null,null,null,null,{"$f":"IFERROR($U$3*Data!O396/SQRT(COUNT(Data!F396:J396)),\"\")","v":""},"","",{"$f":"IF(COUNT(F396:J396)>=5,STDEV(F396:J396)*$U$3/SQRT((COUNT(F396:J396))),\"\")","v":""},"","",{"$f":"IFERROR((Data!K396-$F$4),\"\")","v":""},{"$f":"IF(AND(F396<>\"\",G396<>\"\",H396<>\"\",I396<>\"\",J396<>\"\"),Data!L396-$F$4,\"\")","v":""},{"$f":"IF(O396<>\"\",FIXED(X396,1) & \" ± \" & FIXED(O396+ABS(R396),2),\"\")","v":""},"","","",{"$f":"IF(F396<>\"\",STDEV($Q$12:Q396),\"\")","v":""},{"$f":"IF(F396<>\"\",AVERAGE(F396:J396),\"\")","v":""}]
[386,null,{"$f":"RIGHT(Data!C397,10)","v":""},null,null,null,null,null,null,null,{"$f":"IFERROR($U$3*Data!O397/SQRT(COUNT(Data!F397:J397)),\"\")","v":""},{"$f":"IF(F397<>\"\",V397*W397/SQRT(A397),\"\")","v":""},{"$f":"IF(F397<>\"\",$U$4*SQRT($U$7^2+L397^2+K397^2+$U$5^2),\"\")","v":""},"",{"$f":"IFERROR($U$4*SQRT($U$7^2+L397^2+K397^2+$U$5^2+N397^2),\"\")","v":""},{"$f":"IF(AND(F397<>\"\",G397<>\"\",H397<>\"\",I397<>\"\",J397<>\"\"),AVERAGE(F397:J397),\"\")","v":""},{"$f":"IFERROR((Data!K397-$F$4),\"\")","v":""},{"$f":"IF(AND(F397<>\"\",G397<>\"\",H397<>\"\",I397<>\"\",J397<>\"\"),Data!L397-$F$4,\"\")","v":""},"",{"$f":"IF(F397<>\"\",FIXED(AVERAGE(F397:J397)-R397,1) & \" ± \" & FIXED(O397,2),\"\")","v":""},{"$f":"IF(IO397=\"\",\"\",IO397-1)","v":""},{"$f":"IF(F397<>\"\",TINV(1-0.68,A397-1),\"\")","v":""},{"$f":"IF(F397<>\"\",STDEV($Q$12:Q397),\"\")","v":""},""]
[387,null,{"$f":"RIGHT(Data!C398,10)","v":""},null,null,null,null,null,null,null,{"$f":"IFERROR($U$3*Data!O398/SQRT(COUNT(Data!F398:J398)),\"\")","v":""},"","","","","",{"$f":"IFERROR((Data!K398-$F$4),\"\")","v":""},{"$f":"IF(AND(F398<>\"\",G398<>\"\",H398<>\"\",I398<>\"\",J398<>\"\"),Data!L398-$F$4,\"\")","v":""},"","","","",{"$f":"IF(F398<>\"\",STDEV($Q$12:Q398),\"\")","v":""},""]
[388,null,{"$f":"RIGHT(Data!C399,10)","v":""},null,null,null,null,null,null,null,{"$f":"IFERROR($U$3*Data!O399/SQRT(COUNT(Data!F399:J399)),\"\")","v":""},"","","","","",{"$f":"IFERROR((Data!K399-$F$4),\"\")","v":""},{"$f":"IF(AND(F399<>\"\",G399<>\"\",H399<>\"\",I399<>\"\",J399<>\"\"),Data!L399-$F$4,\"\")","v":""},"","","","",{"$f":"IF(F399<>\"\",STDEV($Q$12:Q399),\"\")","v":""},""]
[389,null,{"$f":"RIGHT(Data!C400,10)","v":""},null,null,null,null,null,null,null,{"$f":"IFERROR($U$3*Data!O400/SQRT(COUNT(Data!F400:J400)),\"\")","v":""},"","","","","",{"$f":"IFERROR((Data!K400-$F$4),\"\")","v":""},{"$f":"IF(AND(F400<>\"\",G400<>\"\",H400<>\"\",I400<>\"\",J400<>\"\"),Data!L400-$F$4,\"\")","v":""},"","","","",{"$f":"IF(F400<>\"\",STDEV($Q$12:Q400),\"\")","v":""},""]
[390,null,{"$f":"RIGHT(Data!C401,10)","v":""},null,null,null,null,null,null,null,{"$f":"IFERROR($U$3*Data!O401/SQRT(COUNT(Data!F401:J401)),\"\")","v":""},"","","","","",{"$f":"IFERROR((Data!K401-$F$4),\"\")","v":""},{"$f":"IF(AND(F401<>\"\",G401<>\"\",H401<>\"\",I401<>\"\",J401<>\"\"),Data!L401-$F$4,\"\")","v":""},"","","","",{"$f":"IF(F401<>\"\",STDEV($Q$12:Q401),\"\")","v":""},""]
[391,null,{"$f":"RIGHT(Data!C402,10)","v":""},null,null,null,null,null,null,null,{"$f":"IFERROR($U$3*Data!O402/SQRT(COUNT(Data!F402:J402)),\"\")","v":""},"","","","","",{"$f":"IFERROR((Data!K402-$F$4),\"\")","v":""},{"$f":"IF(AND(F402<>\"\",G402<>\"\",H402<>\"\",I402<>\"\",J402<>\"\"),Data!L402-$F$4,\"\")","v":""},"","","","",{"$f":"IF(F402<>\"\",STDEV($Q$12:Q402),\"\")","v":""},""]
[392,null,{"$f":"RIGHT(Data!C403,10)","v":""},null,null,null,null,null,null,null,{"$f":"IFERROR($U$3*Data!O403/SQRT(COUNT(Data!F403:J403)),\"\")","v":""},"","","","","",{"$f":"IFERROR((Data!K403-$F$4),\"\")","v":""},{"$f":"IF(AND(F403<>\"\",G403<>\"\",H403<>\"\",I403<>\"\",J403<>\"\"),Data!L403-$F$4,\"\")","v":""},"","","","",{"$f":"IF(F403<>\"\",STDEV($Q$12:Q403),\"\")","v":""},""]
[393,null,{"$f":"RIGHT(Data!C404,10)","v":""},null,null,null,null,null,null,null,{"$f":"IFERROR($U$3*Data!O404/SQRT(COUNT(Data!F404:J404)),\"\")","v":""},"","","","","",{"$f":"IFERROR((Data!K404-$F$4),\"\")","v":""},{"$f":"IF(AND(F404<>\"\",G404<>\"\",H404<>\"\",I404<>\"\",J404<>\"\"),Data!L404-$F$4,\"\")","v":""},"","","","",{"$f":"IF(F404<>\"\",STDEV($Q$12:Q404),\"\")","v":""},""]
[394,null,{"$f":"RIGHT(Data!C405,10)","v":""},null,null,null,null,null,null,null,{"$f":"IFERROR($U$3*Data!O405/SQRT(COUNT(Data!F405:J405)),\"\")","v":""},"","","","","",{"$f":"IFERROR((Data!K405-$F$4),\"\")","v":""},{"$f":"IF(AND(F405<>\"\",G405<>\"\",H405<>\"\",I405<>\"\",J405<>\"\"),Data!L405-$F$4,\"\")","v":""},"","","","",{"$f":"IF(F405<>\"\",STDEV($Q$12:Q405),\"\")","v":""},""]
[395,null,{"$f":"RIGHT(Data!C406,10)","v":""},null,null,null,null,null,null,null,{"$f":"IFERROR($U$3*Data!O406/SQRT(COUNT(Data!F406:J406)),\"\")","v":""},"","","","","",{"$f":"IFERROR((Data!K406-$F$4),\"\")","v":""},{"$f":"IF(AND(F406<>\"\",G406<>\"\",H406<>\"\",I406<>\"\",J406<>\"\"),Data!L406-$F$4,\"\")","v":""},"","","","",{"$f":"IF(F406<>\"\",STDEV($Q$12:Q406),\"\")","v":""},""]
[396,null,{"$f":"RIGHT(Data!C407,10)","v":""},null,null,null,null,null,null,null,{"$f":"IFERROR($U$3*Data!O407/SQRT(COUNT(Data!F407:J407)),\"\")","v":""},"","","","","",{"$f":"IFERROR((Data!K407-$F$4),\"\")","v":""},{"$f":"IF(AND(F407<>\"\",G407<>\"\",H407<>\"\",I407<>\"\",J407<>\"\"),Data!L407-$F$4,\"\")","v":""},"","","","",{"$f":"IF(F407<>\"\",STDEV($Q$12:Q407),\"\")","v":""},""]
[397,null,{"$f":"RIGHT(Data!C408,10)","v":""},null,null,null,null,null,null,null,{"$f":"IFERROR($U$3*Data!O408/SQRT(COUNT(Data!F408:J408)),\"\")","v":""},"","","","","",{"$f":"IFERROR((Data!K408-$F$4),\"\")","v":""},{"$f":"IF(AND(F408<>\"\",G408<>\"\",H408<>\"\",I408<>\"\",J408<>\"\"),Data!L408-$F$4,\"\")","v":""},"","","","",{"$f":"IF(F408<>\"\",STDEV($Q$12:Q408),\"\")","v":""},""]
[398,null,{"$f":"RIGHT(Data!C409,10)","v":""},null,null,null,null,null,null,null,{"$f":"IFERROR($U$3*Data!O409/SQRT(COUNT(Data!F409:J409)),\"\")","v":""},"","","","","",{"$f":"IFERROR((Data!K409-$F$4),\"\")","v":""},{"$f":"IF(AND(F409<>\"\",G409<>\"\",H409<>\"\",I409<>\"\",J409<>\"\"),Data!L409-$F$4,\"\")","v":""},"","","","",{"$f":"IF(F409<>\"\",STDEV($Q$12:Q409),\"\")","v":""},""]
[399,null,{"$f":"RIGHT(Data!C410,10)","v":""},null,null,null,null,null,null,null,{"$f":"IFERROR($U$3*Data!O410/SQRT(COUNT(Data!F410:J410)),\"\")","v":""},"","","","","",{"$f":"IFERROR((Data!K410-$F$4),\"\")","v":""},{"$f":"IF(AND(F410<>\"\",G410<>\"\",H410<>\"\",I410<>\"\",J410<>\"\"),Data!L410-$F$4,\"\")","v":""},"","","","",{"$f":"IF(F410<>\"\",STDEV($Q$12:Q410),\"\")","v":""},""]
[400,null,{"$f":"RIGHT(Data!C411,10)","v":""},null,null,null,null,null,null,null,{"$f":"IFERROR($U$3*Data!O411/SQRT(COUNT(Data!F411:J411)),\"\")","v":""},"","","","","",{"$f":"IFERROR((Data!K411-$F$4),\"\")","v":""},{"$f":"IF(AND(F411<>\"\",G411<>\"\",H411<>\"\",I411<>\"\",J411<>\"\"),Data!L411-$F$4,\"\")","v":""},"","","","",{"$f":"IF(F411<>\"\",STDEV($Q$12:Q411),\"\")","v":""},""]
[401,null,{"$f":"RIGHT(Data!C412,10)","v":""},null,null,null,null,null,null,null,{"$f":"IFERROR($U$3*Data!O412/SQRT(COUNT(Data!F412:J412)),\"\")","v":""},"","","","","",{"$f":"IFERROR((Data!K412-$F$4),\"\")","v":""},{"$f":"IF(AND(F412<>\"\",G412<>\"\",H412<>\"\",I412<>\"\",J412<>\"\"),Data!L412-$F$4,\"\")","v":""},"","","","",{"$f":"IF(F412<>\"\",STDEV($Q$12:Q412),\"\")","v":""},""]
[402,null,{"$f":"RIGHT(Data!C413,10)","v":""},null,null,null,null,null,null,null,{"$f":"IFERROR($U$3*Data!O413/SQRT(COUNT(Data!F413:J413)),\"\")","v":""},"","","","","",{"$f":"IFERROR((Data!K413-$F$4),\"\")","v":""},{"$f":"IF(AND(F413<>\"\",G413<>\"\",H413<>\"\",I413<>\"\",J413<>\"\"),Data!L413-$F$4,\"\")","v":""},"","","","",{"$f":"IF(F413<>\"\",STDEV($Q$12:Q413),\"\")","v":""},""]
[403,null,{"$f":"RIGHT(Data!C414,10)","v":""},null,null,null,null,null,null,null,{"$f":"IFERROR($U$3*Data!O414/SQRT(COUNT(Data!F414:J414)),\"\")","v":""},"","","","","",{"$f":"IFERROR((Data!K414-$F$4),\"\")","v":""},{"$f":"IF(AND(F414<>\"\",G414<>\"\",H414<>\"\",I414<>\"\",J414<>\"\"),Data!L414-$F$4,\"\")","v":""},"","","","",{"$f":"IF(F414<>\"\",STDEV($Q$12:Q414),\"\")","v":""},""]
[404,null,{"$f":"RIGHT(Data!C415,10)","v":""},null,null,null,null,null,null,null,{"$f":"IFERROR($U$3*Data!O415/SQRT(COUNT(Data!F415:J415)),\"\")","v":""},"","","","","",{"$f":"IFERROR((Data!K415-$F$4),\"\")","v":""},{"$f":"IF(AND(F415<>\"\",G415<>\"\",H415<>\"\",I415<>\"\",J415<>\"\"),Data!L415-$F$4,\"\")","v":""},"","","","",{"$f":"IF(F415<>\"\",STDEV($Q$12:Q415),\"\")","v":""},""]
[405,null,{"$f":"RIGHT(Data!C416,10)","v":""},null,null,null,null,null,null,null,{"$f":"IFERROR($U$3*Data!O416/SQRT(COUNT(Data!F416:J416)),\"\")","v":""},"","","","","",{"$f":"IFERROR((Data!K416-$F$4),\"\")","v":""},{"$f":"IF(AND(F416<>\"\",G416<>\"\",H416<>\"\",I416<>\"\",J416<>\"\"),Data!L416-$F$4,\"\")","v":""},"","","","",{"$f":"IF(F416<>\"\",STDEV($Q$12:Q416),\"\")","v":""},""]
[406,null,{"$f":"RIGHT(Data!C417,10)","v":""},null,null,null,null,null,null,null,{"$f":"IFERROR($U$3*Data!O417/SQRT(COUNT(Data!F417:J417)),\"\")","v":""},"","","","","",{"$f":"IFERROR((Data!K417-$F$4),\"\")","v":""},{"$f":"IF(AND(F417<>\"\",G417<>\"\",H417<>\"\",I417<>\"\",J417<>\"\"),Data!L417-$F$4,\"\")","v":""},"","","","",{"$f":"IF(F417<>\"\",STDEV($Q$12:Q417),\"\")","v":""},""]
[407,null,{"$f":"RIGHT(Data!C418,10)","v":""},null,null,null,null,null,null,null,{"$f":"IFERROR($U$3*Data!O418/SQRT(COUNT(Data!F418:J418)),\"\")","v":""},"","","","","",{"$f":"IFERROR((Data!K418-$F$4),\"\")","v":""},{"$f":"IF(AND(F418<>\"\",G418<>\"\",H418<>\"\",I418<>\"\",J418<>\"\"),Data!L418-$F$4,\"\")","v":""},"","","","",{"$f":"IF(F418<>\"\",STDEV($Q$12:Q418),\"\")","v":""},""]
[408,null,{"$f":"RIGHT(Data!C419,10)","v":""},null,null,null,null,null,null,null,{"$f":"IFERROR($U$3*Data!O419/SQRT(COUNT(Data!F419:J419)),\"\")","v":""},"","","","","",{"$f":"IFERROR((Data!K419-$F$4),\"\")","v":""},{"$f":"IF(AND(F419<>\"\",G419<>\"\",H419<>\"\",I419<>\"\",J419<>\"\"),Data!L419-$F$4,\"\")","v":""},"","","","",{"$f":"IF(F419<>\"\",STDEV($Q$12:Q419),\"\")","v":""},""]
[409,null,{"$f":"RIGHT(Data!C420,10)","v":""},null,null,null,null,null,null,null,{"$f":"IFERROR($U$3*Data!O420/SQRT(COUNT(Data!F420:J420)),\"\")","v":""},"","","","","",{"$f":"IFERROR((Data!K420-$F$4),\"\")","v":""},{"$f":"IF(AND(F420<>\"\",G420<>\"\",H420<>\"\",I420<>\"\",J420<>\"\"),Data!L420-$F$4,\"\")","v":""},"","","","",{"$f":"IF(F420<>\"\",STDEV($Q$12:Q420),\"\")","v":""},""]
[410,null,{"$f":"RIGHT(Data!C421,10)","v":""},null,null,null,null,null,null,null,{"$f":"IFERROR($U$3*Data!O421/SQRT(COUNT(Data!F421:J421)),\"\")","v":""},"","","","","",{"$f":"IFERROR((Data!K421-$F$4),\"\")","v":""},{"$f":"IF(AND(F421<>\"\",G421<>\"\",H421<>\"\",I421<>\"\",J421<>\"\"),Data!L421-$F$4,\"\")","v":""},"","","","",{"$f":"IF(F421<>\"\",STDEV($Q$12:Q421),\"\")","v":""},""]
[411,null,{"$f":"RIGHT(Data!C422,10)","v":""},null,null,null,null,null,null,null,{"$f":"IFERROR($U$3*Data!O422/SQRT(COUNT(Data!F422:J422)),\"\")","v":""},"","","","","",{"$f":"IFERROR((Data!K422-$F$4),\"\")","v":""},{"$f":"IF(AND(F422<>\"\",G422<>\"\",H422<>\"\",I422<>\"\",J422<>\"\"),Data!L422-$F$4,\"\")","v":""},"","","","",{"$f":"IF(F422<>\"\",STDEV($Q$12:Q422),\"\")","v":""},""]
[412,null,{"$f":"RIGHT(Data!C423,10)","v":""},null,null,null,null,null,null,null,{"$f":"IFERROR($U$3*Data!O423/SQRT(COUNT(Data!F423:J423)),\"\")","v":""},"","","","","",{"$f":"IFERROR((Data!K423-$F$4),\"\")","v":""},{"$f":"IF(AND(F423<>\"\",G423<>\"\",H423<>\"\",I423<>\"\",J423<>\"\"),Data!L423-$F$4,\"\")","v":""},"","","","",{"$f":"IF(F423<>\"\",STDEV($Q$12:Q423),\"\")","v":""},""]
[413,null,{"$f":"RIGHT(Data!C424,10)","v":""},null,null,null,null,null,null,null,{"$f":"IFERROR($U$3*Data!O424/SQRT(COUNT(Data!F424:J424)),\"\")","v":""},"","","","","",{"$f":"IFERROR((Data!K424-$F$4),\"\")","v":""},{"$f":"IF(AND(F424<>\"\",G424<>\"\",H424<>\"\",I424<>\"\",J424<>\"\"),Data!L424-$F$4,\"\")","v":""},"","","","",{"$f":"IF(F424<>\"\",STDEV($Q$12:Q424),\"\")","v":""},""]
[414,null,{"$f":"RIGHT(Data!C425,10)","v":""},null,null,null,null,null,null,null,{"$f":"IFERROR($U$3*Data!O425/SQRT(COUNT(Data!F425:J425)),\"\")","v":""},"","","","","",{"$f":"IFERROR((Data!K425-$F$4),\"\")","v":""},{"$f":"IF(AND(F425<>\"\",G425<>\"\",H425<>\"\",I425<>\"\",J425<>\"\"),Data!L425-$F$4,\"\")","v":""},"","","","",{"$f":"IF(F425<>\"\",STDEV($Q$12:Q425),\"\")","v":""},""]
[415,null,{"$f":"RIGHT(Data!C426,10)","v":""},null,null,null,null,null,null,null,{"$f":"IFERROR($U$3*Data!O426/SQRT(COUNT(Data!F426:J426)),\"\")","v":""},"","","","","",{"$f":"IFERROR((Data!K426-$F$4),\"\")","v":""},{"$f":"IF(AND(F426<>\"\",G426<>\"\",H426<>\"\",I426<>\"\",J426<>\"\"),Data!L426-$F$4,\"\")","v":""},"","","","",{"$f":"IF(F426<>\"\",STDEV($Q$12:Q426),\"\")","v":""},""]
[416,null,{"$f":"RIGHT(Data!C427,10)","v":""},null,null,null,null,null,null,null,{"$f":"IFERROR($U$3*Data!O427/SQRT(COUNT(Data!F427:J427)),\"\")","v":""},"","","","","",{"$f":"IFERROR((Data!K427-$F$4),\"\")","v":""},{"$f":"IF(AND(F427<>\"\",G427<>\"\",H427<>\"\",I427<>\"\",J427<>\"\"),Data!L427-$F$4,\"\")","v":""},"","","","",{"$f":"IF(F427<>\"\",STDEV($Q$12:Q427),\"\")","v":""},""]
[417,null,{"$f":"RIGHT(Data!C428,10)","v":""},null,null,null,null,null,null,null,{"$f":"IFERROR($U$3*Data!O428/SQRT(COUNT(Data!F428:J428)),\"\")","v":""},"","","","","",{"$f":"IFERROR((Data!K428-$F$4),\"\")","v":""},{"$f":"IF(AND(F428<>\"\",G428<>\"\",H428<>\"\",I428<>\"\",J428<>\"\"),Data!L428-$F$4,\"\")","v":""},"","","","",{"$f":"IF(F428<>\"\",STDEV($Q$12:Q428),\"\")","v":""},""]
[418,null,{"$f":"RIGHT(Data!C429,10)","v":""},null,null,null,null,null,null,null,{"$f":"IFERROR($U$3*Data!O429/SQRT(COUNT(Data!F429:J429)),\"\")","v":""},"","","","","",{"$f":"IFERROR((Data!K429-$F$4),\"\")","v":""},{"$f":"IF(AND(F429<>\"\",G429<>\"\",H429<>\"\",I429<>\"\",J429<>\"\"),Data!L429-$F$4,\"\")","v":""},"","","","",{"$f":"IF(F429<>\"\",STDEV($Q$12:Q429),\"\")","v":""},""]
[419,null,{"$f":"RIGHT(Data!C430,10)","v":""},null,null,null,null,null,null,null,{"$f":"IFERROR($U$3*Data!O430/SQRT(COUNT(Data!F430:J430)),\"\")","v":""},"","","","","",{"$f":"IFERROR((Data!K430-$F$4),\"\")","v":""},{"$f":"IF(AND(F430<>\"\",G430<>\"\",H430<>\"\",I430<>\"\",J430<>\"\"),Data!L430-$F$4,\"\")","v":""},"","","","",{"$f":"IF(F430<>\"\",STDEV($Q$12:Q430),\"\")","v":""},""]
[420,null,{"$f":"RIGHT(Data!C431,10)","v":""},null,null,null,null,null,null,null,{"$f":"IFERROR($U$3*Data!O431/SQRT(COUNT(Data!F431:J431)),\"\")","v":""},"","","","","",{"$f":"IFERROR((Data!K431-$F$4),\"\")","v":""},{"$f":"IF(AND(F431<>\"\",G431<>\"\",H431<>\"\",I431<>\"\",J431<>\"\"),Data!L431-$F$4,\"\")","v":""},"","","","",{"$f":"IF(F431<>\"\",STDEV($Q$12:Q431),\"\")","v":""},""]
[421,null,{"$f":"RIGHT(Data!C432,10)","v":""},null,null,null,null,null,null,null,{"$f":"IFERROR($U$3*Data!O432/SQRT(COUNT(Data!F432:J432)),\"\")","v":""},"","","","","",{"$f":"IFERROR((Data!K432-$F$4),\"\")","v":""},{"$f":"IF(AND(F432<>\"\",G432<>\"\",H432<>\"\",I432<>\"\",J432<>\"\"),Data!L432-$F$4,\"\")","v":""},"","","","",{"$f":"IF(F432<>\"\",STDEV($Q$12:Q432),\"\")","v":""},""]
[422,null,{"$f":"RIGHT(Data!C433,10)","v":""},null,null,null,null,null,null,null,{"$f":"IFERROR($U$3*Data!O433/SQRT(COUNT(Data!F433:J433)),\"\")","v":""},"","","","","",{"$f":"IFERROR((Data!K433-$F$4),\"\")","v":""},{"$f":"IF(AND(F433<>\"\",G433<>\"\",H433<>\"\",I433<>\"\",J433<>\"\"),Data!L433-$F$4,\"\")","v":""},"","","","",{"$f":"IF(F433<>\"\",STDEV($Q$12:Q433),\"\")","v":""},""]
[423,null,{"$f":"RIGHT(Data!C434,10)","v":""},null,null,null,null,null,null,null,{"$f":"IFERROR($U$3*Data!O434/SQRT(COUNT(Data!F434:J434)),\"\")","v":""},"","","","","",{"$f":"IFERROR((Data!K434-$F$4),\"\")","v":""},{"$f":"IF(AND(F434<>\"\",G434<>\"\",H434<>\"\",I434<>\"\",J434<>\"\"),Data!L434-$F$4,\"\")","v":""},"","","","",{"$f":"IF(F434<>\"\",STDEV($Q$12:Q434),\"\")","v":""},""]
[424,null,{"$f":"RIGHT(Data!C435,10)","v":""},null,null,null,null,null,null,null,{"$f":"IFERROR($U$3*Data!O435/SQRT(COUNT(Data!F435:J435)),\"\")","v":""},"","","","","",{"$f":"IFERROR((Data!K435-$F$4),\"\")","v":""},{"$f":"IF(AND(F435<>\"\",G435<>\"\",H435<>\"\",I435<>\"\",J435<>\"\"),Data!L435-$F$4,\"\")","v":""},"","","","",{"$f":"IF(F435<>\"\",STDEV($Q$12:Q435),\"\")","v":""},""]
[425,null,{"$f":"RIGHT(Data!C436,10)","v":""},null,null,null,null,null,null,null,{"$f":"IFERROR($U$3*Data!O436/SQRT(COUNT(Data!F436:J436)),\"\")","v":""},"","","","","",{"$f":"IFERROR((Data!K436-$F$4),\"\")","v":""},{"$f":"IF(AND(F436<>\"\",G436<>\"\",H436<>\"\",I436<>\"\",J436<>\"\"),Data!L436-$F$4,\"\")","v":""},"","","","",{"$f":"IF(F436<>\"\",STDEV($Q$12:Q436),\"\")","v":""},""]
[426,null,{"$f":"RIGHT(Data!C437,10)","v":""},null,null,null,null,null,null,null,{"$f":"IFERROR($U$3*Data!O437/SQRT(COUNT(Data!F437:J437)),\"\")","v":""},"","","","","",{"$f":"IFERROR((Data!K437-$F$4),\"\")","v":""},{"$f":"IF(AND(F437<>\"\",G437<>\"\",H437<>\"\",I437<>\"\",J437<>\"\"),Data!L437-$F$4,\"\")","v":""},"","","","",{"$f":"IF(F437<>\"\",STDEV($Q$12:Q437),\"\")","v":""},""]
[427,null,{"$f":"RIGHT(Data!C438,10)","v":""},null,null,null,null,null,null,null,{"$f":"IFERROR($U$3*Data!O438/SQRT(COUNT(Data!F438:J438)),\"\")","v":""},"","","","","",{"$f":"IFERROR((Data!K438-$F$4),\"\")","v":""},{"$f":"IF(AND(F438<>\"\",G438<>\"\",H438<>\"\",I438<>\"\",J438<>\"\"),Data!L438-$F$4,\"\")","v":""},"","","","",{"$f":"IF(F438<>\"\",STDEV($Q$12:Q438),\"\")","v":""},""]
[428,null,{"$f":"RIGHT(Data!C439,10)","v":""},null,null,null,null,null,null,null,{"$f":"IFERROR($U$3*Data!O439/SQRT(COUNT(Data!F439:J439)),\"\")","v":""},"","","","","",{"$f":"IFERROR((Data!K439-$F$4),\"\")","v":""},{"$f":"IF(AND(F439<>\"\",G439<>\"\",H439<>\"\",I439<>\"\",J439<>\"\"),Data!L439-$F$4,\"\")","v":""},"","","","",{"$f":"IF(F439<>\"\",STDEV($Q$12:Q439),\"\")","v":""},""]
[429,null,{"$f":"RIGHT(Data!C440,10)","v":""},null,null,null,null,null,null,null,{"$f":"IFERROR($U$3*Data!O440/SQRT(COUNT(Data!F440:J440)),\"\")","v":""},"","","","","",{"$f":"IFERROR((Data!K440-$F$4),\"\")","v":""},{"$f":"IF(AND(F440<>\"\",G440<>\"\",H440<>\"\",I440<>\"\",J440<>\"\"),Data!L440-$F$4,\"\")","v":""},"","","","",{"$f":"IF(F440<>\"\",STDEV($Q$12:Q440),\"\")","v":""},""]
[430,null,{"$f":"RIGHT(Data!C441,10)","v":""},null,null,null,null,null,null,null,{"$f":"IFERROR($U$3*Data!O441/SQRT(COUNT(Data!F441:J441)),\"\")","v":""},"","","","","",{"$f":"IFERROR((Data!K441-$F$4),\"\")","v":""},{"$f":"IF(AND(F441<>\"\",G441<>\"\",H441<>\"\",I441<>\"\",J441<>\"\"),Data!L441-$F$4,\"\")","v":""},"","","","",{"$f":"IF(F441<>\"\",STDEV($Q$12:Q441),\"\")","v":""},""]
[431,null,{"$f":"RIGHT(Data!C442,10)","v":""},null,null,null,null,null,null,null,{"$f":"IFERROR($U$3*Data!O442/SQRT(COUNT(Data!F442:J442)),\"\")","v":""},"","","","","",{"$f":"IFERROR((Data!K442-$F$4),\"\")","v":""},{"$f":"IF(AND(F442<>\"\",G442<>\"\",H442<>\"\",I442<>\"\",J442<>\"\"),Data!L442-$F$4,\"\")","v":""},"","","","",{"$f":"IF(F442<>\"\",STDEV($Q$12:Q442),\"\")","v":""},""]
[432,null,{"$f":"RIGHT(Data!C443,10)","v":""},null,null,null,null,null,null,null,{"$f":"IFERROR($U$3*Data!O443/SQRT(COUNT(Data!F443:J443)),\"\")","v":""},"","","","","",{"$f":"IFERROR((Data!K443-$F$4),\"\")","v":""},{"$f":"IF(AND(F443<>\"\",G443<>\"\",H443<>\"\",I443<>\"\",J443<>\"\"),Data!L443-$F$4,\"\")","v":""},"","","","",{"$f":"IF(F443<>\"\",STDEV($Q$12:Q443),\"\")","v":""},""]
[433,null,{"$f":"RIGHT(Data!C444,10)","v":""},null,null,null,null,null,null,null,{"$f":"IFERROR($U$3*Data!O444/SQRT(COUNT(Data!F444:J444)),\"\")","v":""},"","","","","",{"$f":"IFERROR((Data!K444-$F$4),\"\")","v":""},{"$f":"IF(AND(F444<>\"\",G444<>\"\",H444<>\"\",I444<>\"\",J444<>\"\"),Data!L444-$F$4,\"\")","v":""},"","","","",{"$f":"IF(F444<>\"\",STDEV($Q$12:Q444),\"\")","v":""},""]
[434,null,{"$f":"RIGHT(Data!C445,10)","v":""},null,null,null,null,null,null,null,{"$f":"IFERROR($U$3*Data!O445/SQRT(COUNT(Data!F445:J445)),\"\")","v":""},"","","","","",{"$f":"IFERROR((Data!K445-$F$4),\"\")","v":""},{"$f":"IF(AND(F445<>\"\",G445<>\"\",H445<>\"\",I445<>\"\",J445<>\"\"),Data!L445-$F$4,\"\")","v":""},"","","","",{"$f":"IF(F445<>\"\",STDEV($Q$12:Q445),\"\")","v":""},""]
[435,null,{"$f":"RIGHT(Data!C446,10)","v":""},null,null,null,null,null,null,null,{"$f":"IFERROR($U$3*Data!O446/SQRT(COUNT(Data!F446:J446)),\"\")","v":""},"","","","","",{"$f":"IFERROR((Data!K446-$F$4),\"\")","v":""},{"$f":"IF(AND(F446<>\"\",G446<>\"\",H446<>\"\",I446<>\"\",J446<>\"\"),Data!L446-$F$4,\"\")","v":""},"","","","",{"$f":"IF(F446<>\"\",STDEV($Q$12:Q446),\"\")","v":""},""]
[436,null,{"$f":"RIGHT(Data!C447,10)","v":""},null,null,null,null,null,null,null,{"$f":"IFERROR($U$3*Data!O447/SQRT(COUNT(Data!F447:J447)),\"\")","v":""},"","","","","",{"$f":"IFERROR((Data!K447-$F$4),\"\")","v":""},{"$f":"IF(AND(F447<>\"\",G447<>\"\",H447<>\"\",I447<>\"\",J447<>\"\"),Data!L447-$F$4,\"\")","v":""},"","","","",{"$f":"IF(F447<>\"\",STDEV($Q$12:Q447),\"\")","v":""},""]
[437,null,{"$f":"RIGHT(Data!C448,10)","v":""},null,null,null,null,null,null,null,{"$f":"IFERROR($U$3*Data!O448/SQRT(COUNT(Data!F448:J448)),\"\")","v":""},"","","","","",{"$f":"IFERROR((Data!K448-$F$4),\"\")","v":""},{"$f":"IF(AND(F448<>\"\",G448<>\"\",H448<>\"\",I448<>\"\",J448<>\"\"),Data!L448-$F$4,\"\")","v":""},"","","","",{"$f":"IF(F448<>\"\",STDEV($Q$12:Q448),\"\")","v":""},""]
[438,null,{"$f":"RIGHT(Data!C449,10)","v":""},null,null,null,null,null,null,null,{"$f":"IFERROR($U$3*Data!O449/SQRT(COUNT(Data!F449:J449)),\"\")","v":""},"","","","","",{"$f":"IFERROR((Data!K449-$F$4),\"\")","v":""},{"$f":"IF(AND(F449<>\"\",G449<>\"\",H449<>\"\",I449<>\"\",J449<>\"\"),Data!L449-$F$4,\"\")","v":""},"","","","",{"$f":"IF(F449<>\"\",STDEV($Q$12:Q449),\"\")","v":""},""]
[439,null,{"$f":"RIGHT(Data!C450,10)","v":""},null,null,null,null,null,null,null,{"$f":"IFERROR($U$3*Data!O450/SQRT(COUNT(Data!F450:J450)),\"\")","v":""},"","","","","",{"$f":"IFERROR((Data!K450-$F$4),\"\")","v":""},{"$f":"IF(AND(F450<>\"\",G450<>\"\",H450<>\"\",I450<>\"\",J450<>\"\"),Data!L450-$F$4,\"\")","v":""},"","","","",{"$f":"IF(F450<>\"\",STDEV($Q$12:Q450),\"\")","v":""},""]
[440,null,{"$f":"RIGHT(Data!C451,10)","v":""},null,null,null,null,null,null,null,{"$f":"IFERROR($U$3*Data!O451/SQRT(COUNT(Data!F451:J451)),\"\")","v":""},"","","","","",{"$f":"IFERROR((Data!K451-$F$4),\"\")","v":""},{"$f":"IF(AND(F451<>\"\",G451<>\"\",H451<>\"\",I451<>\"\",J451<>\"\"),Data!L451-$F$4,\"\")","v":""},"","","","",{"$f":"IF(F451<>\"\",STDEV($Q$12:Q451),\"\")","v":""},""]
[441,null,{"$f":"RIGHT(Data!C452,10)","v":""},null,null,null,null,null,null,null,{"$f":"IFERROR($U$3*Data!O452/SQRT(COUNT(Data!F452:J452)),\"\")","v":""},"","","","","",{"$f":"IFERROR((Data!K452-$F$4),\"\")","v":""},{"$f":"IF(AND(F452<>\"\",G452<>\"\",H452<>\"\",I452<>\"\",J452<>\"\"),Data!L452-$F$4,\"\")","v":""},"","","","",{"$f":"IF(F452<>\"\",STDEV($Q$12:Q452),\"\")","v":""},""]
[442,null,{"$f":"RIGHT(Data!C453,10)","v":""},null,null,null,null,null,null,null,{"$f":"IFERROR($U$3*Data!O453/SQRT(COUNT(Data!F453:J453)),\"\")","v":""},"","","","","",{"$f":"IFERROR((Data!K453-$F$4),\"\")","v":""},{"$f":"IF(AND(F453<>\"\",G453<>\"\",H453<>\"\",I453<>\"\",J453<>\"\"),Data!L453-$F$4,\"\")","v":""},"","","","",{"$f":"IF(F453<>\"\",STDEV($Q$12:Q453),\"\")","v":""},""]
[443,null,{"$f":"RIGHT(Data!C454,10)","v":""},null,null,null,null,null,null,null,{"$f":"IFERROR($U$3*Data!O454/SQRT(COUNT(Data!F454:J454)),\"\")","v":""},"","","","","",{"$f":"IFERROR((Data!K454-$F$4),\"\")","v":""},{"$f":"IF(AND(F454<>\"\",G454<>\"\",H454<>\"\",I454<>\"\",J454<>\"\"),Data!L454-$F$4,\"\")","v":""},"","","","",{"$f":"IF(F454<>\"\",STDEV($Q$12:Q454),\"\")","v":""},""]
[444,null,{"$f":"RIGHT(Data!C455,10)","v":""},null,null,null,null,null,null,null,{"$f":"IFERROR($U$3*Data!O455/SQRT(COUNT(Data!F455:J455)),\"\")","v":""},"","","","","",{"$f":"IFERROR((Data!K455-$F$4),\"\")","v":""},{"$f":"IF(AND(F455<>\"\",G455<>\"\",H455<>\"\",I455<>\"\",J455<>\"\"),Data!L455-$F$4,\"\")","v":""},"","","","",{"$f":"IF(F455<>\"\",STDEV($Q$12:Q455),\"\")","v":""},""]
[445,null,{"$f":"RIGHT(Data!C456,10)","v":""},null,null,null,null,null,null,null,{"$f":"IFERROR($U$3*Data!O456/SQRT(COUNT(Data!F456:J456)),\"\")","v":""},"","","","","",{"$f":"IFERROR((Data!K456-$F$4),\"\")","v":""},{"$f":"IF(AND(F456<>\"\",G456<>\"\",H456<>\"\",I456<>\"\",J456<>\"\"),Data!L456-$F$4,\"\")","v":""},"","","","",{"$f":"IF(F456<>\"\",STDEV($Q$12:Q456),\"\")","v":""},""]
[446,null,{"$f":"RIGHT(Data!C457,10)","v":""},null,null,null,null,null,null,null,{"$f":"IFERROR($U$3*Data!O457/SQRT(COUNT(Data!F457:J457)),\"\")","v":""},"","","","","",{"$f":"IFERROR((Data!K457-$F$4),\"\")","v":""},{"$f":"IF(AND(F457<>\"\",G457<>\"\",H457<>\"\",I457<>\"\",J457<>\"\"),Data!L457-$F$4,\"\")","v":""},"","","","",{"$f":"IF(F457<>\"\",STDEV($Q$12:Q457),\"\")","v":""},""]
[447,null,{"$f":"RIGHT(Data!C458,10)","v":""},null,null,null,null,null,null,null,{"$f":"IFERROR($U$3*Data!O458/SQRT(COUNT(Data!F458:J458)),\"\")","v":""},"","","","","",{"$f":"IFERROR((Data!K458-$F$4),\"\")","v":""},{"$f":"IF(AND(F458<>\"\",G458<>\"\",H458<>\"\",I458<>\"\",J458<>\"\"),Data!L458-$F$4,\"\")","v":""},"","","","",{"$f":"IF(F458<>\"\",STDEV($Q$12:Q458),\"\")","v":""},""]
[448,null,{"$f":"RIGHT(Data!C459,10)","v":""},null,null,null,null,null,null,null,{"$f":"IFERROR($U$3*Data!O459/SQRT(COUNT(Data!F459:J459)),\"\")","v":""},"","","","","",{"$f":"IFERROR((Data!K459-$F$4),\"\")","v":""},{"$f":"IF(AND(F459<>\"\",G459<>\"\",H459<>\"\",I459<>\"\",J459<>\"\"),Data!L459-$F$4,\"\")","v":""},"","","","",{"$f":"IF(F459<>\"\",STDEV($Q$12:Q459),\"\")","v":""},""]
[449,null,{"$f":"RIGHT(Data!C460,10)","v":""},null,null,null,null,null,null,null,{"$f":"IFERROR($U$3*Data!O460/SQRT(COUNT(Data!F460:J460)),\"\")","v":""},"","",{"$f":"IF(COUNT(F460:J460)>=5,STDEV(F460:J460)*$U$3/SQRT((COUNT(F460:J460))),\"\")","v":""},"","",{"$f":"IFERROR((Data!K460-$F$4),\"\")","v":""},{"$f":"IF(AND(F460<>\"\",G460<>\"\",H460<>\"\",I460<>\"\",J460<>\"\"),Data!L460-$F$4,\"\")","v":""},{"$f":"IF(O460<>\"\",FIXED(X460,1) & \" ± \" & FIXED(O460+ABS(R460),2),\"\")","v":""},"","","",{"$f":"IF(F460<>\"\",STDEV($Q$12:Q460),\"\")","v":""},{"$f":"IF(F460<>\"\",AVERAGE(F460:J460),\"\")","v":""}]
[450,null,{"$f":"RIGHT(Data!C461,10)","v":""},null,null,null,null,null,null,null,{"$f":"IFERROR($U$3*Data!O461/SQRT(COUNT(Data!F461:J461)),\"\")","v":""},{"$f":"IF(F461<>\"\",V461*W461/SQRT(A461),\"\")","v":""},{"$f":"IF(F461<>\"\",$U$4*SQRT($U$7^2+L461^2+K461^2+$U$5^2),\"\")","v":""},"",{"$f":"IFERROR($U$4*SQRT($U$7^2+L461^2+K461^2+$U$5^2+N461^2),\"\")","v":""},{"$f":"IF(AND(F461<>\"\",G461<>\"\",H461<>\"\",I461<>\"\",J461<>\"\"),AVERAGE(F461:J461),\"\")","v":""},{"$f":"IFERROR((Data!K461-$F$4),\"\")","v":""},{"$f":"IF(AND(F461<>\"\",G461<>\"\",H461<>\"\",I461<>\"\",J461<>\"\"),Data!L461-$F$4,\"\")","v":""},"",{"$f":"IF(F461<>\"\",FIXED(AVERAGE(F461:J461)-R461,1) & \" ± \" & FIXED(O461,2),\"\")","v":""},{"$f":"IF(IO461=\"\",\"\",IO461-1)","v":""},{"$f":"IF(F461<>\"\",TINV(1-0.68,A461-1),\"\")","v":""},{"$f":"IF(F461<>\"\",STDEV($Q$12:Q461),\"\")","v":""},""]
[451,null,{"$f":"RIGHT(Data!C462,10)","v":""},null,null,null,null,null,null,null,{"$f":"IFERROR($U$3*Data!O462/SQRT(COUNT(Data!F462:J462)),\"\")","v":""},"","","","","",{"$f":"IFERROR((Data!K462-$F$4),\"\")","v":""},{"$f":"IF(AND(F462<>\"\",G462<>\"\",H462<>\"\",I462<>\"\",J462<>\"\"),Data!L462-$F$4,\"\")","v":""},"","","","",{"$f":"IF(F462<>\"\",STDEV($Q$12:Q462),\"\")","v":""},""]
[452,null,{"$f":"RIGHT(Data!C463,10)","v":""},null,null,null,null,null,null,null,{"$f":"IFERROR($U$3*Data!O463/SQRT(COUNT(Data!F463:J463)),\"\")","v":""},"","","","","",{"$f":"IFERROR((Data!K463-$F$4),\"\")","v":""},{"$f":"IF(AND(F463<>\"\",G463<>\"\",H463<>\"\",I463<>\"\",J463<>\"\"),Data!L463-$F$4,\"\")","v":""},"","","","",{"$f":"IF(F463<>\"\",STDEV($Q$12:Q463),\"\")","v":""},""]
[453,null,{"$f":"RIGHT(Data!C464,10)","v":""},null,null,null,null,null,null,null,{"$f":"IFERROR($U$3*Data!O464/SQRT(COUNT(Data!F464:J464)),\"\")","v":""},"","","","","",{"$f":"IFERROR((Data!K464-$F$4),\"\")","v":""},{"$f":"IF(AND(F464<>\"\",G464<>\"\",H464<>\"\",I464<>\"\",J464<>\"\"),Data!L464-$F$4,\"\")","v":""},"","","","",{"$f":"IF(F464<>\"\",STDEV($Q$12:Q464),\"\")","v":""},""]
[454,null,{"$f":"RIGHT(Data!C465,10)","v":""},null,null,null,null,null,null,null,{"$f":"IFERROR($U$3*Data!O465/SQRT(COUNT(Data!F465:J465)),\"\")","v":""},"","","","","",{"$f":"IFERROR((Data!K465-$F$4),\"\")","v":""},{"$f":"IF(AND(F465<>\"\",G465<>\"\",H465<>\"\",I465<>\"\",J465<>\"\"),Data!L465-$F$4,\"\")","v":""},"","","","",{"$f":"IF(F465<>\"\",STDEV($Q$12:Q465),\"\")","v":""},""]
[455,null,{"$f":"RIGHT(Data!C466,10)","v":""},null,null,null,null,null,null,null,{"$f":"IFERROR($U$3*Data!O466/SQRT(COUNT(Data!F466:J466)),\"\")","v":""},"","","","","",{"$f":"IFERROR((Data!K466-$F$4),\"\")","v":""},{"$f":"IF(AND(F466<>\"\",G466<>\"\",H466<>\"\",I466<>\"\",J466<>\"\"),Data!L466-$F$4,\"\")","v":""},"","","","",{"$f":"IF(F466<>\"\",STDEV($Q$12:Q466),\"\")","v":""},""]
[456,null,{"$f":"RIGHT(Data!C467,10)","v":""},null,null,null,null,null,null,null,{"$f":"IFERROR($U$3*Data!O467/SQRT(COUNT(Data!F467:J467)),\"\")","v":""},"","","","","",{"$f":"IFERROR((Data!K467-$F$4),\"\")","v":""},{"$f":"IF(AND(F467<>\"\",G467<>\"\",H467<>\"\",I467<>\"\",J467<>\"\"),Data!L467-$F$4,\"\")","v":""},"","","","",{"$f":"IF(F467<>\"\",STDEV($Q$12:Q467),\"\")","v":""},""]
[457,null,{"$f":"RIGHT(Data!C468,10)","v":""},null,null,null,null,null,null,null,{"$f":"IFERROR($U$3*Data!O468/SQRT(COUNT(Data!F468:J468)),\"\")","v":""},"","","","","",{"$f":"IFERROR((Data!K468-$F$4),\"\")","v":""},{"$f":"IF(AND(F468<>\"\",G468<>\"\",H468<>\"\",I468<>\"\",J468<>\"\"),Data!L468-$F$4,\"\")","v":""},"","","","",{"$f":"IF(F468<>\"\",STDEV($Q$12:Q468),\"\")","v":""},""]
[458,null,{"$f":"RIGHT(Data!C469,10)","v":""},null,null,null,null,null,null,null,{"$f":"IFERROR($U$3*Data!O469/SQRT(COUNT(Data!F469:J469)),\"\")","v":""},"","","","","",{"$f":"IFERROR((Data!K469-$F$4),\"\")","v":""},{"$f":"IF(AND(F469<>\"\",G469<>\"\",H469<>\"\",I469<>\"\",J469<>\"\"),Data!L469-$F$4,\"\")","v":""},"","","","",{"$f":"IF(F469<>\"\",STDEV($Q$12:Q469),\"\")","v":""},""]
[459,null,{"$f":"RIGHT(Data!C470,10)","v":""},null,null,null,null,null,null,null,{"$f":"IFERROR($U$3*Data!O470/SQRT(COUNT(Data!F470:J470)),\"\")","v":""},"","","","","",{"$f":"IFERROR((Data!K470-$F$4),\"\")","v":""},{"$f":"IF(AND(F470<>\"\",G470<>\"\",H470<>\"\",I470<>\"\",J470<>\"\"),Data!L470-$F$4,\"\")","v":""},"","","","",{"$f":"IF(F470<>\"\",STDEV($Q$12:Q470),\"\")","v":""},""]
[460,null,{"$f":"RIGHT(Data!C471,10)","v":""},null,null,null,null,null,null,null,{"$f":"IFERROR($U$3*Data!O471/SQRT(COUNT(Data!F471:J471)),\"\")","v":""},"","","","","",{"$f":"IFERROR((Data!K471-$F$4),\"\")","v":""},{"$f":"IF(AND(F471<>\"\",G471<>\"\",H471<>\"\",I471<>\"\",J471<>\"\"),Data!L471-$F$4,\"\")","v":""},"","","","",{"$f":"IF(F471<>\"\",STDEV($Q$12:Q471),\"\")","v":""},""]
[461,null,{"$f":"RIGHT(Data!C472,10)","v":""},null,null,null,null,null,null,null,{"$f":"IFERROR($U$3*Data!O472/SQRT(COUNT(Data!F472:J472)),\"\")","v":""},"","","","","",{"$f":"IFERROR((Data!K472-$F$4),\"\")","v":""},{"$f":"IF(AND(F472<>\"\",G472<>\"\",H472<>\"\",I472<>\"\",J472<>\"\"),Data!L472-$F$4,\"\")","v":""},"","","","",{"$f":"IF(F472<>\"\",STDEV($Q$12:Q472),\"\")","v":""},""]
[462,null,{"$f":"RIGHT(Data!C473,10)","v":""},null,null,null,null,null,null,null,{"$f":"IFERROR($U$3*Data!O473/SQRT(COUNT(Data!F473:J473)),\"\")","v":""},"","","","","",{"$f":"IFERROR((Data!K473-$F$4),\"\")","v":""},{"$f":"IF(AND(F473<>\"\",G473<>\"\",H473<>\"\",I473<>\"\",J473<>\"\"),Data!L473-$F$4,\"\")","v":""},"","","","",{"$f":"IF(F473<>\"\",STDEV($Q$12:Q473),\"\")","v":""},""]
[463,null,{"$f":"RIGHT(Data!C474,10)","v":""},null,null,null,null,null,null,null,{"$f":"IFERROR($U$3*Data!O474/SQRT(COUNT(Data!F474:J474)),\"\")","v":""},"","","","","",{"$f":"IFERROR((Data!K474-$F$4),\"\")","v":""},{"$f":"IF(AND(F474<>\"\",G474<>\"\",H474<>\"\",I474<>\"\",J474<>\"\"),Data!L474-$F$4,\"\")","v":""},"","","","",{"$f":"IF(F474<>\"\",STDEV($Q$12:Q474),\"\")","v":""},""]
[464,null,{"$f":"RIGHT(Data!C475,10)","v":""},null,null,null,null,null,null,null,{"$f":"IFERROR($U$3*Data!O475/SQRT(COUNT(Data!F475:J475)),\"\")","v":""},"","","","","",{"$f":"IFERROR((Data!K475-$F$4),\"\")","v":""},{"$f":"IF(AND(F475<>\"\",G475<>\"\",H475<>\"\",I475<>\"\",J475<>\"\"),Data!L475-$F$4,\"\")","v":""},"","","","",{"$f":"IF(F475<>\"\",STDEV($Q$12:Q475),\"\")","v":""},""]
[465,null,{"$f":"RIGHT(Data!C476,10)","v":""},null,null,null,null,null,null,null,{"$f":"IFERROR($U$3*Data!O476/SQRT(COUNT(Data!F476:J476)),\"\")","v":""},"","","","","",{"$f":"IFERROR((Data!K476-$F$4),\"\")","v":""},{"$f":"IF(AND(F476<>\"\",G476<>\"\",H476<>\"\",I476<>\"\",J476<>\"\"),Data!L476-$F$4,\"\")","v":""},"","","","",{"$f":"IF(F476<>\"\",STDEV($Q$12:Q476),\"\")","v":""},""]
[466,null,{"$f":"RIGHT(Data!C477,10)","v":""},null,null,null,null,null,null,null,{"$f":"IFERROR($U$3*Data!O477/SQRT(COUNT(Data!F477:J477)),\"\")","v":""},"","","","","",{"$f":"IFERROR((Data!K477-$F$4),\"\")","v":""},{"$f":"IF(AND(F477<>\"\",G477<>\"\",H477<>\"\",I477<>\"\",J477<>\"\"),Data!L477-$F$4,\"\")","v":""},"","","","",{"$f":"IF(F477<>\"\",STDEV($Q$12:Q477),\"\")","v":""},""]
[467,null,{"$f":"RIGHT(Data!C478,10)","v":""},null,null,null,null,null,null,null,{"$f":"IFERROR($U$3*Data!O478/SQRT(COUNT(Data!F478:J478)),\"\")","v":""},"","","","","",{"$f":"IFERROR((Data!K478-$F$4),\"\")","v":""},{"$f":"IF(AND(F478<>\"\",G478<>\"\",H478<>\"\",I478<>\"\",J478<>\"\"),Data!L478-$F$4,\"\")","v":""},"","","","",{"$f":"IF(F478<>\"\",STDEV($Q$12:Q478),\"\")","v":""},""]
[468,null,{"$f":"RIGHT(Data!C479,10)","v":""},null,null,null,null,null,null,null,{"$f":"IFERROR($U$3*Data!O479/SQRT(COUNT(Data!F479:J479)),\"\")","v":""},"","","","","",{"$f":"IFERROR((Data!K479-$F$4),\"\")","v":""},{"$f":"IF(AND(F479<>\"\",G479<>\"\",H479<>\"\",I479<>\"\",J479<>\"\"),Data!L479-$F$4,\"\")","v":""},"","","","",{"$f":"IF(F479<>\"\",STDEV($Q$12:Q479),\"\")","v":""},""]
[469,null,{"$f":"RIGHT(Data!C480,10)","v":""},null,null,null,null,null,null,null,{"$f":"IFERROR($U$3*Data!O480/SQRT(COUNT(Data!F480:J480)),\"\")","v":""},"","","","","",{"$f":"IFERROR((Data!K480-$F$4),\"\")","v":""},{"$f":"IF(AND(F480<>\"\",G480<>\"\",H480<>\"\",I480<>\"\",J480<>\"\"),Data!L480-$F$4,\"\")","v":""},"","","","",{"$f":"IF(F480<>\"\",STDEV($Q$12:Q480),\"\")","v":""},""]
[470,null,{"$f":"RIGHT(Data!C481,10)","v":""},null,null,null,null,null,null,null,{"$f":"IFERROR($U$3*Data!O481/SQRT(COUNT(Data!F481:J481)),\"\")","v":""},"","","","","",{"$f":"IFERROR((Data!K481-$F$4),\"\")","v":""},{"$f":"IF(AND(F481<>\"\",G481<>\"\",H481<>\"\",I481<>\"\",J481<>\"\"),Data!L481-$F$4,\"\")","v":""},"","","","",{"$f":"IF(F481<>\"\",STDEV($Q$12:Q481),\"\")","v":""},""]
[471,null,{"$f":"RIGHT(Data!C482,10)","v":""},null,null,null,null,null,null,null,{"$f":"IFERROR($U$3*Data!O482/SQRT(COUNT(Data!F482:J482)),\"\")","v":""},"","","","","",{"$f":"IFERROR((Data!K482-$F$4),\"\")","v":""},{"$f":"IF(AND(F482<>\"\",G482<>\"\",H482<>\"\",I482<>\"\",J482<>\"\"),Data!L482-$F$4,\"\")","v":""},"","","","",{"$f":"IF(F482<>\"\",STDEV($Q$12:Q482),\"\")","v":""},""]
[472,null,{"$f":"RIGHT(Data!C483,10)","v":""},null,null,null,null,null,null,null,{"$f":"IFERROR($U$3*Data!O483/SQRT(COUNT(Data!F483:J483)),\"\")","v":""},"","","","","",{"$f":"IFERROR((Data!K483-$F$4),\"\")","v":""},{"$f":"IF(AND(F483<>\"\",G483<>\"\",H483<>\"\",I483<>\"\",J483<>\"\"),Data!L483-$F$4,\"\")","v":""},"","","","",{"$f":"IF(F483<>\"\",STDEV($Q$12:Q483),\"\")","v":""},""]
[473,null,{"$f":"RIGHT(Data!C484,10)","v":""},null,null,null,null,null,null,null,{"$f":"IFERROR($U$3*Data!O484/SQRT(COUNT(Data!F484:J484)),\"\")","v":""},"","","","","",{"$f":"IFERROR((Data!K484-$F$4),\"\")","v":""},{"$f":"IF(AND(F484<>\"\",G484<>\"\",H484<>\"\",I484<>\"\",J484<>\"\"),Data!L484-$F$4,\"\")","v":""},"","","","",{"$f":"IF(F484<>\"\",STDEV($Q$12:Q484),\"\")","v":""},""]
[474,null,{"$f":"RIGHT(Data!C485,10)","v":""},null,null,null,null,null,null,null,{"$f":"IFERROR($U$3*Data!O485/SQRT(COUNT(Data!F485:J485)),\"\")","v":""},"","","","","",{"$f":"IFERROR((Data!K485-$F$4),\"\")","v":""},{"$f":"IF(AND(F485<>\"\",G485<>\"\",H485<>\"\",I485<>\"\",J485<>\"\"),Data!L485-$F$4,\"\")","v":""},"","","","",{"$f":"IF(F485<>\"\",STDEV($Q$12:Q485),\"\")","v":""},""]
[475,null,{"$f":"RIGHT(Data!C486,10)","v":""},null,null,null,null,null,null,null,{"$f":"IFERROR($U$3*Data!O486/SQRT(COUNT(Data!F486:J486)),\"\")","v":""},"","","","","",{"$f":"IFERROR((Data!K486-$F$4),\"\")","v":""},{"$f":"IF(AND(F486<>\"\",G486<>\"\",H486<>\"\",I486<>\"\",J486<>\"\"),Data!L486-$F$4,\"\")","v":""},"","","","",{"$f":"IF(F486<>\"\",STDEV($Q$12:Q486),\"\")","v":""},""]
[476,null,{"$f":"RIGHT(Data!C487,10)","v":""},null,null,null,null,null,null,null,{"$f":"IFERROR($U$3*Data!O487/SQRT(COUNT(Data!F487:J487)),\"\")","v":""},"","","","","",{"$f":"IFERROR((Data!K487-$F$4),\"\")","v":""},{"$f":"IF(AND(F487<>\"\",G487<>\"\",H487<>\"\",I487<>\"\",J487<>\"\"),Data!L487-$F$4,\"\")","v":""},"","","","",{"$f":"IF(F487<>\"\",STDEV($Q$12:Q487),\"\")","v":""},""]
[477,null,{"$f":"RIGHT(Data!C488,10)","v":""},null,null,null,null,null,null,null,{"$f":"IFERROR($U$3*Data!O488/SQRT(COUNT(Data!F488:J488)),\"\")","v":""},"","","","","",{"$f":"IFERROR((Data!K488-$F$4),\"\")","v":""},{"$f":"IF(AND(F488<>\"\",G488<>\"\",H488<>\"\",I488<>\"\",J488<>\"\"),Data!L488-$F$4,\"\")","v":""},"","","","",{"$f":"IF(F488<>\"\",STDEV($Q$12:Q488),\"\")","v":""},""]
[478,null,{"$f":"RIGHT(Data!C489,10)","v":""},null,null,null,null,null,null,null,{"$f":"IFERROR($U$3*Data!O489/SQRT(COUNT(Data!F489:J489)),\"\")","v":""},"","","","","",{"$f":"IFERROR((Data!K489-$F$4),\"\")","v":""},{"$f":"IF(AND(F489<>\"\",G489<>\"\",H489<>\"\",I489<>\"\",J489<>\"\"),Data!L489-$F$4,\"\")","v":""},"","","","",{"$f":"IF(F489<>\"\",STDEV($Q$12:Q489),\"\")","v":""},""]
[479,null,{"$f":"RIGHT(Data!C490,10)","v":""},null,null,null,null,null,null,null,{"$f":"IFERROR($U$3*Data!O490/SQRT(COUNT(Data!F490:J490)),\"\")","v":""},"","","","","",{"$f":"IFERROR((Data!K490-$F$4),\"\")","v":""},{"$f":"IF(AND(F490<>\"\",G490<>\"\",H490<>\"\",I490<>\"\",J490<>\"\"),Data!L490-$F$4,\"\")","v":""},"","","","",{"$f":"IF(F490<>\"\",STDEV($Q$12:Q490),\"\")","v":""},""]
[480,null,{"$f":"RIGHT(Data!C491,10)","v":""},null,null,null,null,null,null,null,{"$f":"IFERROR($U$3*Data!O491/SQRT(COUNT(Data!F491:J491)),\"\")","v":""},"","","","","",{"$f":"IFERROR((Data!K491-$F$4),\"\")","v":""},{"$f":"IF(AND(F491<>\"\",G491<>\"\",H491<>\"\",I491<>\"\",J491<>\"\"),Data!L491-$F$4,\"\")","v":""},"","","","",{"$f":"IF(F491<>\"\",STDEV($Q$12:Q491),\"\")","v":""},""]
[481,null,{"$f":"RIGHT(Data!C492,10)","v":""},null,null,null,null,null,null,null,{"$f":"IFERROR($U$3*Data!O492/SQRT(COUNT(Data!F492:J492)),\"\")","v":""},"","","","","",{"$f":"IFERROR((Data!K492-$F$4),\"\")","v":""},{"$f":"IF(AND(F492<>\"\",G492<>\"\",H492<>\"\",I492<>\"\",J492<>\"\"),Data!L492-$F$4,\"\")","v":""},"","","","",{"$f":"IF(F492<>\"\",STDEV($Q$12:Q492),\"\")","v":""},""]
[482,null,{"$f":"RIGHT(Data!C493,10)","v":""},null,null,null,null,null,null,null,{"$f":"IFERROR($U$3*Data!O493/SQRT(COUNT(Data!F493:J493)),\"\")","v":""},"","","","","",{"$f":"IFERROR((Data!K493-$F$4),\"\")","v":""},{"$f":"IF(AND(F493<>\"\",G493<>\"\",H493<>\"\",I493<>\"\",J493<>\"\"),Data!L493-$F$4,\"\")","v":""},"","","","",{"$f":"IF(F493<>\"\",STDEV($Q$12:Q493),\"\")","v":""},""]
[483,null,{"$f":"RIGHT(Data!C494,10)","v":""},null,null,null,null,null,null,null,{"$f":"IFERROR($U$3*Data!O494/SQRT(COUNT(Data!F494:J494)),\"\")","v":""},"","","","","",{"$f":"IFERROR((Data!K494-$F$4),\"\")","v":""},{"$f":"IF(AND(F494<>\"\",G494<>\"\",H494<>\"\",I494<>\"\",J494<>\"\"),Data!L494-$F$4,\"\")","v":""},"","","","",{"$f":"IF(F494<>\"\",STDEV($Q$12:Q494),\"\")","v":""},""]
[484,null,{"$f":"RIGHT(Data!C495,10)","v":""},null,null,null,null,null,null,null,{"$f":"IFERROR($U$3*Data!O495/SQRT(COUNT(Data!F495:J495)),\"\")","v":""},"","","","","",{"$f":"IFERROR((Data!K495-$F$4),\"\")","v":""},{"$f":"IF(AND(F495<>\"\",G495<>\"\",H495<>\"\",I495<>\"\",J495<>\"\"),Data!L495-$F$4,\"\")","v":""},"","","","",{"$f":"IF(F495<>\"\",STDEV($Q$12:Q495),\"\")","v":""},""]
[485,null,{"$f":"RIGHT(Data!C496,10)","v":""},null,null,null,null,null,null,null,{"$f":"IFERROR($U$3*Data!O496/SQRT(COUNT(Data!F496:J496)),\"\")","v":""},"","","","","",{"$f":"IFERROR((Data!K496-$F$4),\"\")","v":""},{"$f":"IF(AND(F496<>\"\",G496<>\"\",H496<>\"\",I496<>\"\",J496<>\"\"),Data!L496-$F$4,\"\")","v":""},"","","","",{"$f":"IF(F496<>\"\",STDEV($Q$12:Q496),\"\")","v":""},""]
[486,null,{"$f":"RIGHT(Data!C497,10)","v":""},null,null,null,null,null,null,null,{"$f":"IFERROR($U$3*Data!O497/SQRT(COUNT(Data!F497:J497)),\"\")","v":""},"","","","","",{"$f":"IFERROR((Data!K497-$F$4),\"\")","v":""},{"$f":"IF(AND(F497<>\"\",G497<>\"\",H497<>\"\",I497<>\"\",J497<>\"\"),Data!L497-$F$4,\"\")","v":""},"","","","",{"$f":"IF(F497<>\"\",STDEV($Q$12:Q497),\"\")","v":""},""]
[487,null,{"$f":"RIGHT(Data!C498,10)","v":""},null,null,null,null,null,null,null,{"$f":"IFERROR($U$3*Data!O498/SQRT(COUNT(Data!F498:J498)),\"\")","v":""},"","","","","",{"$f":"IFERROR((Data!K498-$F$4),\"\")","v":""},{"$f":"IF(AND(F498<>\"\",G498<>\"\",H498<>\"\",I498<>\"\",J498<>\"\"),Data!L498-$F$4,\"\")","v":""},"","","","",{"$f":"IF(F498<>\"\",STDEV($Q$12:Q498),\"\")","v":""},""]
[488,null,{"$f":"RIGHT(Data!C499,10)","v":""},null,null,null,null,null,null,null,{"$f":"IFERROR($U$3*Data!O499/SQRT(COUNT(Data!F499:J499)),\"\")","v":""},"","","","","",{"$f":"IFERROR((Data!K499-$F$4),\"\")","v":""},{"$f":"IF(AND(F499<>\"\",G499<>\"\",H499<>\"\",I499<>\"\",J499<>\"\"),Data!L499-$F$4,\"\")","v":""},"","","","",{"$f":"IF(F499<>\"\",STDEV($Q$12:Q499),\"\")","v":""},""]
[489,null,{"$f":"RIGHT(Data!C500,10)","v":""},null,null,null,null,null,null,null,{"$f":"IFERROR($U$3*Data!O500/SQRT(COUNT(Data!F500:J500)),\"\")","v":""},"","","","","",{"$f":"IFERROR((Data!K500-$F$4),\"\")","v":""},{"$f":"IF(AND(F500<>\"\",G500<>\"\",H500<>\"\",I500<>\"\",J500<>\"\"),Data!L500-$F$4,\"\")","v":""},"","","","",{"$f":"IF(F500<>\"\",STDEV($Q$12:Q500),\"\")","v":""},""]
[490,null,{"$f":"RIGHT(Data!C501,10)","v":""},null,null,null,null,null,null,null,{"$f":"IFERROR($U$3*Data!O501/SQRT(COUNT(Data!F501:J501)),\"\")","v":""},"","","","","",{"$f":"IFERROR((Data!K501-$F$4),\"\")","v":""},{"$f":"IF(AND(F501<>\"\",G501<>\"\",H501<>\"\",I501<>\"\",J501<>\"\"),Data!L501-$F$4,\"\")","v":""},"","","","",{"$f":"IF(F501<>\"\",STDEV($Q$12:Q501),\"\")","v":""},""]
[491,null,{"$f":"RIGHT(Data!C502,10)","v":""},null,null,null,null,null,null,null,{"$f":"IFERROR($U$3*Data!O502/SQRT(COUNT(Data!F502:J502)),\"\")","v":""},"","","","","",{"$f":"IFERROR((Data!K502-$F$4),\"\")","v":""},{"$f":"IF(AND(F502<>\"\",G502<>\"\",H502<>\"\",I502<>\"\",J502<>\"\"),Data!L502-$F$4,\"\")","v":""},"","","","",{"$f":"IF(F502<>\"\",STDEV($Q$12:Q502),\"\")","v":""},""]
[492,null,{"$f":"RIGHT(Data!C503,10)","v":""},null,null,null,null,null,null,null,{"$f":"IFERROR($U$3*Data!O503/SQRT(COUNT(Data!F503:J503)),\"\")","v":""},"","","","","",{"$f":"IFERROR((Data!K503-$F$4),\"\")","v":""},{"$f":"IF(AND(F503<>\"\",G503<>\"\",H503<>\"\",I503<>\"\",J503<>\"\"),Data!L503-$F$4,\"\")","v":""},"","","","",{"$f":"IF(F503<>\"\",STDEV($Q$12:Q503),\"\")","v":""},""]
[493,null,{"$f":"RIGHT(Data!C504,10)","v":""},null,null,null,null,null,null,null,{"$f":"IFERROR($U$3*Data!O504/SQRT(COUNT(Data!F504:J504)),\"\")","v":""},"","","","","",{"$f":"IFERROR((Data!K504-$F$4),\"\")","v":""},{"$f":"IF(AND(F504<>\"\",G504<>\"\",H504<>\"\",I504<>\"\",J504<>\"\"),Data!L504-$F$4,\"\")","v":""},"","","","",{"$f":"IF(F504<>\"\",STDEV($Q$12:Q504),\"\")","v":""},""]
[494,null,{"$f":"RIGHT(Data!C505,10)","v":""},null,null,null,null,null,null,null,{"$f":"IFERROR($U$3*Data!O505/SQRT(COUNT(Data!F505:J505)),\"\")","v":""},"","","","","",{"$f":"IFERROR((Data!K505-$F$4),\"\")","v":""},{"$f":"IF(AND(F505<>\"\",G505<>\"\",H505<>\"\",I505<>\"\",J505<>\"\"),Data!L505-$F$4,\"\")","v":""},"","","","",{"$f":"IF(F505<>\"\",STDEV($Q$12:Q505),\"\")","v":""},""]
[495,null,{"$f":"RIGHT(Data!C506,10)","v":""},null,null,null,null,null,null,null,{"$f":"IFERROR($U$3*Data!O506/SQRT(COUNT(Data!F506:J506)),\"\")","v":""},"","","","","",{"$f":"IFERROR((Data!K506-$F$4),\"\")","v":""},{"$f":"IF(AND(F506<>\"\",G506<>\"\",H506<>\"\",I506<>\"\",J506<>\"\"),Data!L506-$F$4,\"\")","v":""},"","","","",{"$f":"IF(F506<>\"\",STDEV($Q$12:Q506),\"\")","v":""},""]
[496,null,{"$f":"RIGHT(Data!C507,10)","v":""},null,null,null,null,null,null,null,{"$f":"IFERROR($U$3*Data!O507/SQRT(COUNT(Data!F507:J507)),\"\")","v":""},"","","","","",{"$f":"IFERROR((Data!K507-$F$4),\"\")","v":""},{"$f":"IF(AND(F507<>\"\",G507<>\"\",H507<>\"\",I507<>\"\",J507<>\"\"),Data!L507-$F$4,\"\")","v":""},"","","","",{"$f":"IF(F507<>\"\",STDEV($Q$12:Q507),\"\")","v":""},""]
[497,null,{"$f":"RIGHT(Data!C508,10)","v":""},null,null,null,null,null,null,null,{"$f":"IFERROR($U$3*Data!O508/SQRT(COUNT(Data!F508:J508)),\"\")","v":""},"","","","","",{"$f":"IFERROR((Data!K508-$F$4),\"\")","v":""},{"$f":"IF(AND(F508<>\"\",G508<>\"\",H508<>\"\",I508<>\"\",J508<>\"\"),Data!L508-$F$4,\"\")","v":""},"","","","",{"$f":"IF(F508<>\"\",STDEV($Q$12:Q508),\"\")","v":""},""]
[498,null,{"$f":"RIGHT(Data!C509,10)","v":""},null,null,null,null,null,null,null,{"$f":"IFERROR($U$3*Data!O509/SQRT(COUNT(Data!F509:J509)),\"\")","v":""},"","","","","",{"$f":"IFERROR((Data!K509-$F$4),\"\")","v":""},{"$f":"IF(AND(F509<>\"\",G509<>\"\",H509<>\"\",I509<>\"\",J509<>\"\"),Data!L509-$F$4,\"\")","v":""},"","","","",{"$f":"IF(F509<>\"\",STDEV($Q$12:Q509),\"\")","v":""},""]
[499,null,{"$f":"RIGHT(Data!C510,10)","v":""},null,null,null,null,null,null,null,{"$f":"IFERROR($U$3*Data!O510/SQRT(COUNT(Data!F510:J510)),\"\")","v":""},"","","","","",{"$f":"IFERROR((Data!K510-$F$4),\"\")","v":""},{"$f":"IF(AND(F510<>\"\",G510<>\"\",H510<>\"\",I510<>\"\",J510<>\"\"),Data!L510-$F$4,\"\")","v":""},"","","","",{"$f":"IF(F510<>\"\",STDEV($Q$12:Q510),\"\")","v":""},""]
[500,null,{"$f":"RIGHT(Data!C511,10)","v":""},null,null,null,null,null,null,null,{"$f":"IFERROR($U$3*Data!O511/SQRT(COUNT(Data!F511:J511)),\"\")","v":""},"","","","","",{"$f":"IFERROR((Data!K511-$F$4),\"\")","v":""},{"$f":"IF(AND(F511<>\"\",G511<>\"\",H511<>\"\",I511<>\"\",J511<>\"\"),Data!L511-$F$4,\"\")","v":""},"","","","",{"$f":"IF(F511<>\"\",STDEV($Q$12:Q511),\"\")","v":""},""]
[501,null,{"$f":"RIGHT(Data!C512,10)","v":""},null,null,null,null,null,null,null,{"$f":"IFERROR($U$3*Data!O512/SQRT(COUNT(Data!F512:J512)),\"\")","v":""},"","","","","",{"$f":"IFERROR((Data!K512-$F$4),\"\")","v":""},{"$f":"IF(AND(F512<>\"\",G512<>\"\",H512<>\"\",I512<>\"\",J512<>\"\"),Data!L512-$F$4,\"\")","v":""},"","","","",{"$f":"IF(F512<>\"\",STDEV($Q$12:Q512),\"\")","v":""},""]
[502,null,{"$f":"RIGHT(Data!C513,10)","v":""},null,null,null,null,null,null,null,{"$f":"IFERROR($U$3*Data!O513/SQRT(COUNT(Data!F513:J513)),\"\")","v":""},"","","","","",{"$f":"IFERROR((Data!K513-$F$4),\"\")","v":""},{"$f":"IF(AND(F513<>\"\",G513<>\"\",H513<>\"\",I513<>\"\",J513<>\"\"),Data!L513-$F$4,\"\")","v":""},"","","","",{"$f":"IF(F513<>\"\",STDEV($Q$12:Q513),\"\")","v":""},""]
[503,null,{"$f":"RIGHT(Data!C514,10)","v":""},null,null,null,null,null,null,null,{"$f":"IFERROR($U$3*Data!O514/SQRT(COUNT(Data!F514:J514)),\"\")","v":""},"","","","","",{"$f":"IFERROR((Data!K514-$F$4),\"\")","v":""},{"$f":"IF(AND(F514<>\"\",G514<>\"\",H514<>\"\",I514<>\"\",J514<>\"\"),Data!L514-$F$4,\"\")","v":""},"","","","",{"$f":"IF(F514<>\"\",STDEV($Q$12:Q514),\"\")","v":""},""]
[504,null,{"$f":"RIGHT(Data!C515,10)","v":""},null,null,null,null,null,null,null,{"$f":"IFERROR($U$3*Data!O515/SQRT(COUNT(Data!F515:J515)),\"\")","v":""},"","","","","",{"$f":"IFERROR((Data!K515-$F$4),\"\")","v":""},{"$f":"IF(AND(F515<>\"\",G515<>\"\",H515<>\"\",I515<>\"\",J515<>\"\"),Data!L515-$F$4,\"\")","v":""},"","","","",{"$f":"IF(F515<>\"\",STDEV($Q$12:Q515),\"\")","v":""},""]
[505,null,{"$f":"RIGHT(Data!C516,10)","v":""},null,null,null,null,null,null,null,{"$f":"IFERROR($U$3*Data!O516/SQRT(COUNT(Data!F516:J516)),\"\")","v":""},"","","","","",{"$f":"IFERROR((Data!K516-$F$4),\"\")","v":""},{"$f":"IF(AND(F516<>\"\",G516<>\"\",H516<>\"\",I516<>\"\",J516<>\"\"),Data!L516-$F$4,\"\")","v":""},"","","","",{"$f":"IF(F516<>\"\",STDEV($Q$12:Q516),\"\")","v":""},""]
[506,null,{"$f":"RIGHT(Data!C517,10)","v":""},null,null,null,null,null,null,null,{"$f":"IFERROR($U$3*Data!O517/SQRT(COUNT(Data!F517:J517)),\"\")","v":""},"","","","","",{"$f":"IFERROR((Data!K517-$F$4),\"\")","v":""},{"$f":"IF(AND(F517<>\"\",G517<>\"\",H517<>\"\",I517<>\"\",J517<>\"\"),Data!L517-$F$4,\"\")","v":""},"","","","",{"$f":"IF(F517<>\"\",STDEV($Q$12:Q517),\"\")","v":""},""]
[507,null,{"$f":"RIGHT(Data!C518,10)","v":""},null,null,null,null,null,null,null,{"$f":"IFERROR($U$3*Data!O518/SQRT(COUNT(Data!F518:J518)),\"\")","v":""},"","","","","",{"$f":"IFERROR((Data!K518-$F$4),\"\")","v":""},{"$f":"IF(AND(F518<>\"\",G518<>\"\",H518<>\"\",I518<>\"\",J518<>\"\"),Data!L518-$F$4,\"\")","v":""},"","","","",{"$f":"IF(F518<>\"\",STDEV($Q$12:Q518),\"\")","v":""},""]
[508,null,{"$f":"RIGHT(Data!C519,10)","v":""},null,null,null,null,null,null,null,{"$f":"IFERROR($U$3*Data!O519/SQRT(COUNT(Data!F519:J519)),\"\")","v":""},"","","","","",{"$f":"IFERROR((Data!K519-$F$4),\"\")","v":""},{"$f":"IF(AND(F519<>\"\",G519<>\"\",H519<>\"\",I519<>\"\",J519<>\"\"),Data!L519-$F$4,\"\")","v":""},"","","","",{"$f":"IF(F519<>\"\",STDEV($Q$12:Q519),\"\")","v":""},""]
[509,null,{"$f":"RIGHT(Data!C520,10)","v":""},null,null,null,null,null,null,null,{"$f":"IFERROR($U$3*Data!O520/SQRT(COUNT(Data!F520:J520)),\"\")","v":""},"","","","","",{"$f":"IFERROR((Data!K520-$F$4),\"\")","v":""},{"$f":"IF(AND(F520<>\"\",G520<>\"\",H520<>\"\",I520<>\"\",J520<>\"\"),Data!L520-$F$4,\"\")","v":""},"","","","",{"$f":"IF(F520<>\"\",STDEV($Q$12:Q520),\"\")","v":""},""]
[510,null,{"$f":"RIGHT(Data!C521,10)","v":""},null,null,null,null,null,null,null,{"$f":"IFERROR($U$3*Data!O521/SQRT(COUNT(Data!F521:J521)),\"\")","v":""},"","","","","",{"$f":"IFERROR((Data!K521-$F$4),\"\")","v":""},{"$f":"IF(AND(F521<>\"\",G521<>\"\",H521<>\"\",I521<>\"\",J521<>\"\"),Data!L521-$F$4,\"\")","v":""},"","","","",{"$f":"IF(F521<>\"\",STDEV($Q$12:Q521),\"\")","v":""},""]
[511,null,{"$f":"RIGHT(Data!C522,10)","v":""},null,null,null,null,null,null,null,{"$f":"IFERROR($U$3*Data!O522/SQRT(COUNT(Data!F522:J522)),\"\")","v":""},"","","","","",{"$f":"IFERROR((Data!K522-$F$4),\"\")","v":""},{"$f":"IF(AND(F522<>\"\",G522<>\"\",H522<>\"\",I522<>\"\",J522<>\"\"),Data!L522-$F$4,\"\")","v":""},"","","","",{"$f":"IF(F522<>\"\",STDEV($Q$12:Q522),\"\")","v":""},""]
[512,null,{"$f":"RIGHT(Data!C523,10)","v":""},null,null,null,null,null,null,null,{"$f":"IFERROR($U$3*Data!O523/SQRT(COUNT(Data!F523:J523)),\"\")","v":""},"","","","","",{"$f":"IFERROR((Data!K523-$F$4),\"\")","v":""},{"$f":"IF(AND(F523<>\"\",G523<>\"\",H523<>\"\",I523<>\"\",J523<>\"\"),Data!L523-$F$4,\"\")","v":""},"","","","",{"$f":"IF(F523<>\"\",STDEV($Q$12:Q523),\"\")","v":""},""]
[513,null,{"$f":"RIGHT(Data!C524,10)","v":""},null,null,null,null,null,null,null,{"$f":"IFERROR($U$3*Data!O524/SQRT(COUNT(Data!F524:J524)),\"\")","v":""},"","",{"$f":"IF(COUNT(F524:J524)>=5,STDEV(F524:J524)*$U$3/SQRT((COUNT(F524:J524))),\"\")","v":""},"","",{"$f":"IFERROR((Data!K524-$F$4),\"\")","v":""},{"$f":"IF(AND(F524<>\"\",G524<>\"\",H524<>\"\",I524<>\"\",J524<>\"\"),Data!L524-$F$4,\"\")","v":""},{"$f":"IF(O524<>\"\",FIXED(X524,1) & \" ± \" & FIXED(O524+ABS(R524),2),\"\")","v":""},"","","",{"$f":"IF(F524<>\"\",STDEV($Q$12:Q524),\"\")","v":""},{"$f":"IF(F524<>\"\",AVERAGE(F524:J524),\"\")","v":""}]
[514,null,{"$f":"RIGHT(Data!C525,10)","v":""},null,null,null,null,null,null,null,{"$f":"IFERROR($U$3*Data!O525/SQRT(COUNT(Data!F525:J525)),\"\")","v":""},{"$f":"IF(F525<>\"\",V525*W525/SQRT(A525),\"\")","v":""},{"$f":"IF(F525<>\"\",$U$4*SQRT($U$7^2+L525^2+K525^2+$U$5^2),\"\")","v":""},"",{"$f":"IFERROR($U$4*SQRT($U$7^2+L525^2+K525^2+$U$5^2+N525^2),\"\")","v":""},{"$f":"IF(AND(F525<>\"\",G525<>\"\",H525<>\"\",I525<>\"\",J525<>\"\"),AVERAGE(F525:J525),\"\")","v":""},{"$f":"IFERROR((Data!K525-$F$4),\"\")","v":""},{"$f":"IF(AND(F525<>\"\",G525<>\"\",H525<>\"\",I525<>\"\",J525<>\"\"),Data!L525-$F$4,\"\")","v":""},"",{"$f":"IF(F525<>\"\",FIXED(AVERAGE(F525:J525)-R525,1) & \" ± \" & FIXED(O525,2),\"\")","v":""},{"$f":"IF(IO525=\"\",\"\",IO525-1)","v":""},{"$f":"IF(F525<>\"\",TINV(1-0.68,A525-1),\"\")","v":""},{"$f":"IF(F525<>\"\",STDEV($Q$12:Q525),\"\")","v":""},""]
[515,null,{"$f":"RIGHT(Data!C526,10)","v":""},null,null,null,null,null,null,null,{"$f":"IFERROR($U$3*Data!O526/SQRT(COUNT(Data!F526:J526)),\"\")","v":""},"","","","","",{"$f":"IFERROR((Data!K526-$F$4),\"\")","v":""},{"$f":"IF(AND(F526<>\"\",G526<>\"\",H526<>\"\",I526<>\"\",J526<>\"\"),Data!L526-$F$4,\"\")","v":""},"","","","",{"$f":"IF(F526<>\"\",STDEV($Q$12:Q526),\"\")","v":""},""]
[516,null,{"$f":"RIGHT(Data!C527,10)","v":""},null,null,null,null,null,null,null,{"$f":"IFERROR($U$3*Data!O527/SQRT(COUNT(Data!F527:J527)),\"\")","v":""},"","","","","",{"$f":"IFERROR((Data!K527-$F$4),\"\")","v":""},{"$f":"IF(AND(F527<>\"\",G527<>\"\",H527<>\"\",I527<>\"\",J527<>\"\"),Data!L527-$F$4,\"\")","v":""},"","","","",{"$f":"IF(F527<>\"\",STDEV($Q$12:Q527),\"\")","v":""},""]
[517,null,{"$f":"RIGHT(Data!C528,10)","v":""},null,null,null,null,null,null,null,{"$f":"IFERROR($U$3*Data!O528/SQRT(COUNT(Data!F528:J528)),\"\")","v":""},"","","","","",{"$f":"IFERROR((Data!K528-$F$4),\"\")","v":""},{"$f":"IF(AND(F528<>\"\",G528<>\"\",H528<>\"\",I528<>\"\",J528<>\"\"),Data!L528-$F$4,\"\")","v":""},"","","","",{"$f":"IF(F528<>\"\",STDEV($Q$12:Q528),\"\")","v":""},""]
[518,null,{"$f":"RIGHT(Data!C529,10)","v":""},null,null,null,null,null,null,null,{"$f":"IFERROR($U$3*Data!O529/SQRT(COUNT(Data!F529:J529)),\"\")","v":""},"","","","","",{"$f":"IFERROR((Data!K529-$F$4),\"\")","v":""},{"$f":"IF(AND(F529<>\"\",G529<>\"\",H529<>\"\",I529<>\"\",J529<>\"\"),Data!L529-$F$4,\"\")","v":""},"","","","",{"$f":"IF(F529<>\"\",STDEV($Q$12:Q529),\"\")","v":""},""]
[519,null,{"$f":"RIGHT(Data!C530,10)","v":""},null,null,null,null,null,null,null,{"$f":"IFERROR($U$3*Data!O530/SQRT(COUNT(Data!F530:J530)),\"\")","v":""},"","","","","",{"$f":"IFERROR((Data!K530-$F$4),\"\")","v":""},{"$f":"IF(AND(F530<>\"\",G530<>\"\",H530<>\"\",I530<>\"\",J530<>\"\"),Data!L530-$F$4,\"\")","v":""},"","","","",{"$f":"IF(F530<>\"\",STDEV($Q$12:Q530),\"\")","v":""},""]
[520,null,{"$f":"RIGHT(Data!C531,10)","v":""},null,null,null,null,null,null,null,{"$f":"IFERROR($U$3*Data!O531/SQRT(COUNT(Data!F531:J531)),\"\")","v":""},"","","","","",{"$f":"IFERROR((Data!K531-$F$4),\"\")","v":""},{"$f":"IF(AND(F531<>\"\",G531<>\"\",H531<>\"\",I531<>\"\",J531<>\"\"),Data!L531-$F$4,\"\")","v":""},"","","","",{"$f":"IF(F531<>\"\",STDEV($Q$12:Q531),\"\")","v":""},""]
[521,null,{"$f":"RIGHT(Data!C532,10)","v":""},null,null,null,null,null,null,null,{"$f":"IFERROR($U$3*Data!O532/SQRT(COUNT(Data!F532:J532)),\"\")","v":""},"","","","","",{"$f":"IFERROR((Data!K532-$F$4),\"\")","v":""},{"$f":"IF(AND(F532<>\"\",G532<>\"\",H532<>\"\",I532<>\"\",J532<>\"\"),Data!L532-$F$4,\"\")","v":""},"","","","",{"$f":"IF(F532<>\"\",STDEV($Q$12:Q532),\"\")","v":""},""]
[522,null,{"$f":"RIGHT(Data!C533,10)","v":""},null,null,null,null,null,null,null,{"$f":"IFERROR($U$3*Data!O533/SQRT(COUNT(Data!F533:J533)),\"\")","v":""},"","","","","",{"$f":"IFERROR((Data!K533-$F$4),\"\")","v":""},{"$f":"IF(AND(F533<>\"\",G533<>\"\",H533<>\"\",I533<>\"\",J533<>\"\"),Data!L533-$F$4,\"\")","v":""},"","","","",{"$f":"IF(F533<>\"\",STDEV($Q$12:Q533),\"\")","v":""},""]
[523,null,{"$f":"RIGHT(Data!C534,10)","v":""},null,null,null,null,null,null,null,{"$f":"IFERROR($U$3*Data!O534/SQRT(COUNT(Data!F534:J534)),\"\")","v":""},"","","","","",{"$f":"IFERROR((Data!K534-$F$4),\"\")","v":""},{"$f":"IF(AND(F534<>\"\",G534<>\"\",H534<>\"\",I534<>\"\",J534<>\"\"),Data!L534-$F$4,\"\")","v":""},"","","","",{"$f":"IF(F534<>\"\",STDEV($Q$12:Q534),\"\")","v":""},""]
[524,null,{"$f":"RIGHT(Data!C535,10)","v":""},null,null,null,null,null,null,null,{"$f":"IFERROR($U$3*Data!O535/SQRT(COUNT(Data!F535:J535)),\"\")","v":""},"","","","","",{"$f":"IFERROR((Data!K535-$F$4),\"\")","v":""},{"$f":"IF(AND(F535<>\"\",G535<>\"\",H535<>\"\",I535<>\"\",J535<>\"\"),Data!L535-$F$4,\"\")","v":""},"","","","",{"$f":"IF(F535<>\"\",STDEV($Q$12:Q535),\"\")","v":""},""]
[525,null,{"$f":"RIGHT(Data!C536,10)","v":""},null,null,null,null,null,null,null,{"$f":"IFERROR($U$3*Data!O536/SQRT(COUNT(Data!F536:J536)),\"\")","v":""},"","","","","",{"$f":"IFERROR((Data!K536-$F$4),\"\")","v":""},{"$f":"IF(AND(F536<>\"\",G536<>\"\",H536<>\"\",I536<>\"\",J536<>\"\"),Data!L536-$F$4,\"\")","v":""},"","","","",{"$f":"IF(F536<>\"\",STDEV($Q$12:Q536),\"\")","v":""},""]
[526,null,{"$f":"RIGHT(Data!C537,10)","v":""},null,null,null,null,null,null,null,{"$f":"IFERROR($U$3*Data!O537/SQRT(COUNT(Data!F537:J537)),\"\")","v":""},"","","","","",{"$f":"IFERROR((Data!K537-$F$4),\"\")","v":""},{"$f":"IF(AND(F537<>\"\",G537<>\"\",H537<>\"\",I537<>\"\",J537<>\"\"),Data!L537-$F$4,\"\")","v":""},"","","","",{"$f":"IF(F537<>\"\",STDEV($Q$12:Q537),\"\")","v":""},""]
[527,null,{"$f":"RIGHT(Data!C538,10)","v":""},null,null,null,null,null,null,null,{"$f":"IFERROR($U$3*Data!O538/SQRT(COUNT(Data!F538:J538)),\"\")","v":""},"","","","","",{"$f":"IFERROR((Data!K538-$F$4),\"\")","v":""},{"$f":"IF(AND(F538<>\"\",G538<>\"\",H538<>\"\",I538<>\"\",J538<>\"\"),Data!L538-$F$4,\"\")","v":""},"","","","",{"$f":"IF(F538<>\"\",STDEV($Q$12:Q538),\"\")","v":""},""]
[528,null,{"$f":"RIGHT(Data!C539,10)","v":""},null,null,null,null,null,null,null,{"$f":"IFERROR($U$3*Data!O539/SQRT(COUNT(Data!F539:J539)),\"\")","v":""},"","","","","",{"$f":"IFERROR((Data!K539-$F$4),\"\")","v":""},{"$f":"IF(AND(F539<>\"\",G539<>\"\",H539<>\"\",I539<>\"\",J539<>\"\"),Data!L539-$F$4,\"\")","v":""},"","","","",{"$f":"IF(F539<>\"\",STDEV($Q$12:Q539),\"\")","v":""},""]
[529,null,{"$f":"RIGHT(Data!C540,10)","v":""},null,null,null,null,null,null,null,{"$f":"IFERROR($U$3*Data!O540/SQRT(COUNT(Data!F540:J540)),\"\")","v":""},"","","","","",{"$f":"IFERROR((Data!K540-$F$4),\"\")","v":""},{"$f":"IF(AND(F540<>\"\",G540<>\"\",H540<>\"\",I540<>\"\",J540<>\"\"),Data!L540-$F$4,\"\")","v":""},"","","","",{"$f":"IF(F540<>\"\",STDEV($Q$12:Q540),\"\")","v":""},""]
[530,null,{"$f":"RIGHT(Data!C541,10)","v":""},null,null,null,null,null,null,null,{"$f":"IFERROR($U$3*Data!O541/SQRT(COUNT(Data!F541:J541)),\"\")","v":""},"","","","","",{"$f":"IFERROR((Data!K541-$F$4),\"\")","v":""},{"$f":"IF(AND(F541<>\"\",G541<>\"\",H541<>\"\",I541<>\"\",J541<>\"\"),Data!L541-$F$4,\"\")","v":""},"","","","",{"$f":"IF(F541<>\"\",STDEV($Q$12:Q541),\"\")","v":""},""]
[531,null,{"$f":"RIGHT(Data!C542,10)","v":""},null,null,null,null,null,null,null,{"$f":"IFERROR($U$3*Data!O542/SQRT(COUNT(Data!F542:J542)),\"\")","v":""},"","","","","",{"$f":"IFERROR((Data!K542-$F$4),\"\")","v":""},{"$f":"IF(AND(F542<>\"\",G542<>\"\",H542<>\"\",I542<>\"\",J542<>\"\"),Data!L542-$F$4,\"\")","v":""},"","","","",{"$f":"IF(F542<>\"\",STDEV($Q$12:Q542),\"\")","v":""},""]
[532,null,{"$f":"RIGHT(Data!C543,10)","v":""},null,null,null,null,null,null,null,{"$f":"IFERROR($U$3*Data!O543/SQRT(COUNT(Data!F543:J543)),\"\")","v":""},"","","","","",{"$f":"IFERROR((Data!K543-$F$4),\"\")","v":""},{"$f":"IF(AND(F543<>\"\",G543<>\"\",H543<>\"\",I543<>\"\",J543<>\"\"),Data!L543-$F$4,\"\")","v":""},"","","","",{"$f":"IF(F543<>\"\",STDEV($Q$12:Q543),\"\")","v":""},""]
[533,null,{"$f":"RIGHT(Data!C544,10)","v":""},null,null,null,null,null,null,null,{"$f":"IFERROR($U$3*Data!O544/SQRT(COUNT(Data!F544:J544)),\"\")","v":""},"","","","","",{"$f":"IFERROR((Data!K544-$F$4),\"\")","v":""},{"$f":"IF(AND(F544<>\"\",G544<>\"\",H544<>\"\",I544<>\"\",J544<>\"\"),Data!L544-$F$4,\"\")","v":""},"","","","",{"$f":"IF(F544<>\"\",STDEV($Q$12:Q544),\"\")","v":""},""]
[534,null,{"$f":"RIGHT(Data!C545,10)","v":""},null,null,null,null,null,null,null,{"$f":"IFERROR($U$3*Data!O545/SQRT(COUNT(Data!F545:J545)),\"\")","v":""},"","","","","",{"$f":"IFERROR((Data!K545-$F$4),\"\")","v":""},{"$f":"IF(AND(F545<>\"\",G545<>\"\",H545<>\"\",I545<>\"\",J545<>\"\"),Data!L545-$F$4,\"\")","v":""},"","","","",{"$f":"IF(F545<>\"\",STDEV($Q$12:Q545),\"\")","v":""},""]
[535,null,{"$f":"RIGHT(Data!C546,10)","v":""},null,null,null,null,null,null,null,{"$f":"IFERROR($U$3*Data!O546/SQRT(COUNT(Data!F546:J546)),\"\")","v":""},"","","","","",{"$f":"IFERROR((Data!K546-$F$4),\"\")","v":""},{"$f":"IF(AND(F546<>\"\",G546<>\"\",H546<>\"\",I546<>\"\",J546<>\"\"),Data!L546-$F$4,\"\")","v":""},"","","","",{"$f":"IF(F546<>\"\",STDEV($Q$12:Q546),\"\")","v":""},""]
[536,null,{"$f":"RIGHT(Data!C547,10)","v":""},null,null,null,null,null,null,null,{"$f":"IFERROR($U$3*Data!O547/SQRT(COUNT(Data!F547:J547)),\"\")","v":""},"","","","","",{"$f":"IFERROR((Data!K547-$F$4),\"\")","v":""},{"$f":"IF(AND(F547<>\"\",G547<>\"\",H547<>\"\",I547<>\"\",J547<>\"\"),Data!L547-$F$4,\"\")","v":""},"","","","",{"$f":"IF(F547<>\"\",STDEV($Q$12:Q547),\"\")","v":""},""]
[537,null,{"$f":"RIGHT(Data!C548,10)","v":""},null,null,null,null,null,null,null,{"$f":"IFERROR($U$3*Data!O548/SQRT(COUNT(Data!F548:J548)),\"\")","v":""},"","","","","",{"$f":"IFERROR((Data!K548-$F$4),\"\")","v":""},{"$f":"IF(AND(F548<>\"\",G548<>\"\",H548<>\"\",I548<>\"\",J548<>\"\"),Data!L548-$F$4,\"\")","v":""},"","","","",{"$f":"IF(F548<>\"\",STDEV($Q$12:Q548),\"\")","v":""},""]
[538,null,{"$f":"RIGHT(Data!C549,10)","v":""},null,null,null,null,null,null,null,{"$f":"IFERROR($U$3*Data!O549/SQRT(COUNT(Data!F549:J549)),\"\")","v":""},"","","","","",{"$f":"IFERROR((Data!K549-$F$4),\"\")","v":""},{"$f":"IF(AND(F549<>\"\",G549<>\"\",H549<>\"\",I549<>\"\",J549<>\"\"),Data!L549-$F$4,\"\")","v":""},"","","","",{"$f":"IF(F549<>\"\",STDEV($Q$12:Q549),\"\")","v":""},""]
[539,null,{"$f":"RIGHT(Data!C550,10)","v":""},null,null,null,null,null,null,null,{"$f":"IFERROR($U$3*Data!O550/SQRT(COUNT(Data!F550:J550)),\"\")","v":""},"","","","","",{"$f":"IFERROR((Data!K550-$F$4),\"\")","v":""},{"$f":"IF(AND(F550<>\"\",G550<>\"\",H550<>\"\",I550<>\"\",J550<>\"\"),Data!L550-$F$4,\"\")","v":""},"","","","",{"$f":"IF(F550<>\"\",STDEV($Q$12:Q550),\"\")","v":""},""]
[540,null,{"$f":"RIGHT(Data!C551,10)","v":""},null,null,null,null,null,null,null,{"$f":"IFERROR($U$3*Data!O551/SQRT(COUNT(Data!F551:J551)),\"\")","v":""},"","","","","",{"$f":"IFERROR((Data!K551-$F$4),\"\")","v":""},{"$f":"IF(AND(F551<>\"\",G551<>\"\",H551<>\"\",I551<>\"\",J551<>\"\"),Data!L551-$F$4,\"\")","v":""},"","","","",{"$f":"IF(F551<>\"\",STDEV($Q$12:Q551),\"\")","v":""},""]
[541,null,{"$f":"RIGHT(Data!C552,10)","v":""},null,null,null,null,null,null,null,{"$f":"IFERROR($U$3*Data!O552/SQRT(COUNT(Data!F552:J552)),\"\")","v":""},"","","","","",{"$f":"IFERROR((Data!K552-$F$4),\"\")","v":""},{"$f":"IF(AND(F552<>\"\",G552<>\"\",H552<>\"\",I552<>\"\",J552<>\"\"),Data!L552-$F$4,\"\")","v":""},"","","","",{"$f":"IF(F552<>\"\",STDEV($Q$12:Q552),\"\")","v":""},""]
[542,null,{"$f":"RIGHT(Data!C553,10)","v":""},null,null,null,null,null,null,null,{"$f":"IFERROR($U$3*Data!O553/SQRT(COUNT(Data!F553:J553)),\"\")","v":""},"","","","","",{"$f":"IFERROR((Data!K553-$F$4),\"\")","v":""},{"$f":"IF(AND(F553<>\"\",G553<>\"\",H553<>\"\",I553<>\"\",J553<>\"\"),Data!L553-$F$4,\"\")","v":""},"","","","",{"$f":"IF(F553<>\"\",STDEV($Q$12:Q553),\"\")","v":""},""]
[543,null,{"$f":"RIGHT(Data!C554,10)","v":""},null,null,null,null,null,null,null,{"$f":"IFERROR($U$3*Data!O554/SQRT(COUNT(Data!F554:J554)),\"\")","v":""},"","","","","",{"$f":"IFERROR((Data!K554-$F$4),\"\")","v":""},{"$f":"IF(AND(F554<>\"\",G554<>\"\",H554<>\"\",I554<>\"\",J554<>\"\"),Data!L554-$F$4,\"\")","v":""},"","","","",{"$f":"IF(F554<>\"\",STDEV($Q$12:Q554),\"\")","v":""},""]
[544,null,{"$f":"RIGHT(Data!C555,10)","v":""},null,null,null,null,null,null,null,{"$f":"IFERROR($U$3*Data!O555/SQRT(COUNT(Data!F555:J555)),\"\")","v":""},"","","","","",{"$f":"IFERROR((Data!K555-$F$4),\"\")","v":""},{"$f":"IF(AND(F555<>\"\",G555<>\"\",H555<>\"\",I555<>\"\",J555<>\"\"),Data!L555-$F$4,\"\")","v":""},"","","","",{"$f":"IF(F555<>\"\",STDEV($Q$12:Q555),\"\")","v":""},""]
[545,null,{"$f":"RIGHT(Data!C556,10)","v":""},null,null,null,null,null,null,null,{"$f":"IFERROR($U$3*Data!O556/SQRT(COUNT(Data!F556:J556)),\"\")","v":""},"","","","","",{"$f":"IFERROR((Data!K556-$F$4),\"\")","v":""},{"$f":"IF(AND(F556<>\"\",G556<>\"\",H556<>\"\",I556<>\"\",J556<>\"\"),Data!L556-$F$4,\"\")","v":""},"","","","",{"$f":"IF(F556<>\"\",STDEV($Q$12:Q556),\"\")","v":""},""]
[546,null,{"$f":"RIGHT(Data!C557,10)","v":""},null,null,null,null,null,null,null,{"$f":"IFERROR($U$3*Data!O557/SQRT(COUNT(Data!F557:J557)),\"\")","v":""},"","","","","",{"$f":"IFERROR((Data!K557-$F$4),\"\")","v":""},{"$f":"IF(AND(F557<>\"\",G557<>\"\",H557<>\"\",I557<>\"\",J557<>\"\"),Data!L557-$F$4,\"\")","v":""},"","","","",{"$f":"IF(F557<>\"\",STDEV($Q$12:Q557),\"\")","v":""},""]
[547,null,{"$f":"RIGHT(Data!C558,10)","v":""},null,null,null,null,null,null,null,{"$f":"IFERROR($U$3*Data!O558/SQRT(COUNT(Data!F558:J558)),\"\")","v":""},"","","","","",{"$f":"IFERROR((Data!K558-$F$4),\"\")","v":""},{"$f":"IF(AND(F558<>\"\",G558<>\"\",H558<>\"\",I558<>\"\",J558<>\"\"),Data!L558-$F$4,\"\")","v":""},"","","","",{"$f":"IF(F558<>\"\",STDEV($Q$12:Q558),\"\")","v":""},""]
[548,null,{"$f":"RIGHT(Data!C559,10)","v":""},null,null,null,null,null,null,null,{"$f":"IFERROR($U$3*Data!O559/SQRT(COUNT(Data!F559:J559)),\"\")","v":""},"","","","","",{"$f":"IFERROR((Data!K559-$F$4),\"\")","v":""},{"$f":"IF(AND(F559<>\"\",G559<>\"\",H559<>\"\",I559<>\"\",J559<>\"\"),Data!L559-$F$4,\"\")","v":""},"","","","",{"$f":"IF(F559<>\"\",STDEV($Q$12:Q559),\"\")","v":""},""]
[549,null,{"$f":"RIGHT(Data!C560,10)","v":""},null,null,null,null,null,null,null,{"$f":"IFERROR($U$3*Data!O560/SQRT(COUNT(Data!F560:J560)),\"\")","v":""},"","","","","",{"$f":"IFERROR((Data!K560-$F$4),\"\")","v":""},{"$f":"IF(AND(F560<>\"\",G560<>\"\",H560<>\"\",I560<>\"\",J560<>\"\"),Data!L560-$F$4,\"\")","v":""},"","","","",{"$f":"IF(F560<>\"\",STDEV($Q$12:Q560),\"\")","v":""},""]
[550,null,{"$f":"RIGHT(Data!C561,10)","v":""},null,null,null,null,null,null,null,{"$f":"IFERROR($U$3*Data!O561/SQRT(COUNT(Data!F561:J561)),\"\")","v":""},"","","","","",{"$f":"IFERROR((Data!K561-$F$4),\"\")","v":""},{"$f":"IF(AND(F561<>\"\",G561<>\"\",H561<>\"\",I561<>\"\",J561<>\"\"),Data!L561-$F$4,\"\")","v":""},"","","","",{"$f":"IF(F561<>\"\",STDEV($Q$12:Q561),\"\")","v":""},""]
[551,null,{"$f":"RIGHT(Data!C562,10)","v":""},null,null,null,null,null,null,null,{"$f":"IFERROR($U$3*Data!O562/SQRT(COUNT(Data!F562:J562)),\"\")","v":""},"","","","","",{"$f":"IFERROR((Data!K562-$F$4),\"\")","v":""},{"$f":"IF(AND(F562<>\"\",G562<>\"\",H562<>\"\",I562<>\"\",J562<>\"\"),Data!L562-$F$4,\"\")","v":""},"","","","",{"$f":"IF(F562<>\"\",STDEV($Q$12:Q562),\"\")","v":""},""]
[552,null,{"$f":"RIGHT(Data!C563,10)","v":""},null,null,null,null,null,null,null,{"$f":"IFERROR($U$3*Data!O563/SQRT(COUNT(Data!F563:J563)),\"\")","v":""},"","","","","",{"$f":"IFERROR((Data!K563-$F$4),\"\")","v":""},{"$f":"IF(AND(F563<>\"\",G563<>\"\",H563<>\"\",I563<>\"\",J563<>\"\"),Data!L563-$F$4,\"\")","v":""},"","","","",{"$f":"IF(F563<>\"\",STDEV($Q$12:Q563),\"\")","v":""},""]
[553,null,{"$f":"RIGHT(Data!C564,10)","v":""},null,null,null,null,null,null,null,{"$f":"IFERROR($U$3*Data!O564/SQRT(COUNT(Data!F564:J564)),\"\")","v":""},"","","","","",{"$f":"IFERROR((Data!K564-$F$4),\"\")","v":""},{"$f":"IF(AND(F564<>\"\",G564<>\"\",H564<>\"\",I564<>\"\",J564<>\"\"),Data!L564-$F$4,\"\")","v":""},"","","","",{"$f":"IF(F564<>\"\",STDEV($Q$12:Q564),\"\")","v":""},""]
[554,null,{"$f":"RIGHT(Data!C565,10)","v":""},null,null,null,null,null,null,null,{"$f":"IFERROR($U$3*Data!O565/SQRT(COUNT(Data!F565:J565)),\"\")","v":""},"","","","","",{"$f":"IFERROR((Data!K565-$F$4),\"\")","v":""},{"$f":"IF(AND(F565<>\"\",G565<>\"\",H565<>\"\",I565<>\"\",J565<>\"\"),Data!L565-$F$4,\"\")","v":""},"","","","",{"$f":"IF(F565<>\"\",STDEV($Q$12:Q565),\"\")","v":""},""]
[555,null,{"$f":"RIGHT(Data!C566,10)","v":""},null,null,null,null,null,null,null,{"$f":"IFERROR($U$3*Data!O566/SQRT(COUNT(Data!F566:J566)),\"\")","v":""},"","","","","",{"$f":"IFERROR((Data!K566-$F$4),\"\")","v":""},{"$f":"IF(AND(F566<>\"\",G566<>\"\",H566<>\"\",I566<>\"\",J566<>\"\"),Data!L566-$F$4,\"\")","v":""},"","","","",{"$f":"IF(F566<>\"\",STDEV($Q$12:Q566),\"\")","v":""},""]
[556,null,{"$f":"RIGHT(Data!C567,10)","v":""},null,null,null,null,null,null,null,{"$f":"IFERROR($U$3*Data!O567/SQRT(COUNT(Data!F567:J567)),\"\")","v":""},"","","","","",{"$f":"IFERROR((Data!K567-$F$4),\"\")","v":""},{"$f":"IF(AND(F567<>\"\",G567<>\"\",H567<>\"\",I567<>\"\",J567<>\"\"),Data!L567-$F$4,\"\")","v":""},"","","","",{"$f":"IF(F567<>\"\",STDEV($Q$12:Q567),\"\")","v":""},""]
[557,null,{"$f":"RIGHT(Data!C568,10)","v":""},null,null,null,null,null,null,null,{"$f":"IFERROR($U$3*Data!O568/SQRT(COUNT(Data!F568:J568)),\"\")","v":""},"","","","","",{"$f":"IFERROR((Data!K568-$F$4),\"\")","v":""},{"$f":"IF(AND(F568<>\"\",G568<>\"\",H568<>\"\",I568<>\"\",J568<>\"\"),Data!L568-$F$4,\"\")","v":""},"","","","",{"$f":"IF(F568<>\"\",STDEV($Q$12:Q568),\"\")","v":""},""]
[558,null,{"$f":"RIGHT(Data!C569,10)","v":""},null,null,null,null,null,null,null,{"$f":"IFERROR($U$3*Data!O569/SQRT(COUNT(Data!F569:J569)),\"\")","v":""},"","","","","",{"$f":"IFERROR((Data!K569-$F$4),\"\")","v":""},{"$f":"IF(AND(F569<>\"\",G569<>\"\",H569<>\"\",I569<>\"\",J569<>\"\"),Data!L569-$F$4,\"\")","v":""},"","","","",{"$f":"IF(F569<>\"\",STDEV($Q$12:Q569),\"\")","v":""},""]
[559,null,{"$f":"RIGHT(Data!C570,10)","v":""},null,null,null,null,null,null,null,{"$f":"IFERROR($U$3*Data!O570/SQRT(COUNT(Data!F570:J570)),\"\")","v":""},"","","","","",{"$f":"IFERROR((Data!K570-$F$4),\"\")","v":""},{"$f":"IF(AND(F570<>\"\",G570<>\"\",H570<>\"\",I570<>\"\",J570<>\"\"),Data!L570-$F$4,\"\")","v":""},"","","","",{"$f":"IF(F570<>\"\",STDEV($Q$12:Q570),\"\")","v":""},""]
[560,null,{"$f":"RIGHT(Data!C571,10)","v":""},null,null,null,null,null,null,null,{"$f":"IFERROR($U$3*Data!O571/SQRT(COUNT(Data!F571:J571)),\"\")","v":""},"","","","","",{"$f":"IFERROR((Data!K571-$F$4),\"\")","v":""},{"$f":"IF(AND(F571<>\"\",G571<>\"\",H571<>\"\",I571<>\"\",J571<>\"\"),Data!L571-$F$4,\"\")","v":""},"","","","",{"$f":"IF(F571<>\"\",STDEV($Q$12:Q571),\"\")","v":""},""]
[561,null,{"$f":"RIGHT(Data!C572,10)","v":""},null,null,null,null,null,null,null,{"$f":"IFERROR($U$3*Data!O572/SQRT(COUNT(Data!F572:J572)),\"\")","v":""},"","","","","",{"$f":"IFERROR((Data!K572-$F$4),\"\")","v":""},{"$f":"IF(AND(F572<>\"\",G572<>\"\",H572<>\"\",I572<>\"\",J572<>\"\"),Data!L572-$F$4,\"\")","v":""},"","","","",{"$f":"IF(F572<>\"\",STDEV($Q$12:Q572),\"\")","v":""},""]
[562,null,{"$f":"RIGHT(Data!C573,10)","v":""},null,null,null,null,null,null,null,{"$f":"IFERROR($U$3*Data!O573/SQRT(COUNT(Data!F573:J573)),\"\")","v":""},"","","","","",{"$f":"IFERROR((Data!K573-$F$4),\"\")","v":""},{"$f":"IF(AND(F573<>\"\",G573<>\"\",H573<>\"\",I573<>\"\",J573<>\"\"),Data!L573-$F$4,\"\")","v":""},"","","","",{"$f":"IF(F573<>\"\",STDEV($Q$12:Q573),\"\")","v":""},""]
[563,null,{"$f":"RIGHT(Data!C574,10)","v":""},null,null,null,null,null,null,null,{"$f":"IFERROR($U$3*Data!O574/SQRT(COUNT(Data!F574:J574)),\"\")","v":""},"","","","","",{"$f":"IFERROR((Data!K574-$F$4),\"\")","v":""},{"$f":"IF(AND(F574<>\"\",G574<>\"\",H574<>\"\",I574<>\"\",J574<>\"\"),Data!L574-$F$4,\"\")","v":""},"","","","",{"$f":"IF(F574<>\"\",STDEV($Q$12:Q574),\"\")","v":""},""]
[564,null,{"$f":"RIGHT(Data!C575,10)","v":""},null,null,null,null,null,null,null,{"$f":"IFERROR($U$3*Data!O575/SQRT(COUNT(Data!F575:J575)),\"\")","v":""},"","","","","",{"$f":"IFERROR((Data!K575-$F$4),\"\")","v":""},{"$f":"IF(AND(F575<>\"\",G575<>\"\",H575<>\"\",I575<>\"\",J575<>\"\"),Data!L575-$F$4,\"\")","v":""},"","","","",{"$f":"IF(F575<>\"\",STDEV($Q$12:Q575),\"\")","v":""},""]
[565,null,{"$f":"RIGHT(Data!C576,10)","v":""},null,null,null,null,null,null,null,{"$f":"IFERROR($U$3*Data!O576/SQRT(COUNT(Data!F576:J576)),\"\")","v":""},"","","","","",{"$f":"IFERROR((Data!K576-$F$4),\"\")","v":""},{"$f":"IF(AND(F576<>\"\",G576<>\"\",H576<>\"\",I576<>\"\",J576<>\"\"),Data!L576-$F$4,\"\")","v":""},"","","","",{"$f":"IF(F576<>\"\",STDEV($Q$12:Q576),\"\")","v":""},""]
[566,null,{"$f":"RIGHT(Data!C577,10)","v":""},null,null,null,null,null,null,null,{"$f":"IFERROR($U$3*Data!O577/SQRT(COUNT(Data!F577:J577)),\"\")","v":""},"","","","","",{"$f":"IFERROR((Data!K577-$F$4),\"\")","v":""},{"$f":"IF(AND(F577<>\"\",G577<>\"\",H577<>\"\",I577<>\"\",J577<>\"\"),Data!L577-$F$4,\"\")","v":""},"","","","",{"$f":"IF(F577<>\"\",STDEV($Q$12:Q577),\"\")","v":""},""]
[567,null,{"$f":"RIGHT(Data!C578,10)","v":""},null,null,null,null,null,null,null,{"$f":"IFERROR($U$3*Data!O578/SQRT(COUNT(Data!F578:J578)),\"\")","v":""},"","","","","",{"$f":"IFERROR((Data!K578-$F$4),\"\")","v":""},{"$f":"IF(AND(F578<>\"\",G578<>\"\",H578<>\"\",I578<>\"\",J578<>\"\"),Data!L578-$F$4,\"\")","v":""},"","","","",{"$f":"IF(F578<>\"\",STDEV($Q$12:Q578),\"\")","v":""},""]
[568,null,{"$f":"RIGHT(Data!C579,10)","v":""},null,null,null,null,null,null,null,{"$f":"IFERROR($U$3*Data!O579/SQRT(COUNT(Data!F579:J579)),\"\")","v":""},"","","","","",{"$f":"IFERROR((Data!K579-$F$4),\"\")","v":""},{"$f":"IF(AND(F579<>\"\",G579<>\"\",H579<>\"\",I579<>\"\",J579<>\"\"),Data!L579-$F$4,\"\")","v":""},"","","","",{"$f":"IF(F579<>\"\",STDEV($Q$12:Q579),\"\")","v":""},""]
[569,null,{"$f":"RIGHT(Data!C580,10)","v":""},null,null,null,null,null,null,null,{"$f":"IFERROR($U$3*Data!O580/SQRT(COUNT(Data!F580:J580)),\"\")","v":""},"","","","","",{"$f":"IFERROR((Data!K580-$F$4),\"\")","v":""},{"$f":"IF(AND(F580<>\"\",G580<>\"\",H580<>\"\",I580<>\"\",J580<>\"\"),Data!L580-$F$4,\"\")","v":""},"","","","",{"$f":"IF(F580<>\"\",STDEV($Q$12:Q580),\"\")","v":""},""]
[570,null,{"$f":"RIGHT(Data!C581,10)","v":""},null,null,null,null,null,null,null,{"$f":"IFERROR($U$3*Data!O581/SQRT(COUNT(Data!F581:J581)),\"\")","v":""},"","","","","",{"$f":"IFERROR((Data!K581-$F$4),\"\")","v":""},{"$f":"IF(AND(F581<>\"\",G581<>\"\",H581<>\"\",I581<>\"\",J581<>\"\"),Data!L581-$F$4,\"\")","v":""},"","","","",{"$f":"IF(F581<>\"\",STDEV($Q$12:Q581),\"\")","v":""},""]
[571,null,{"$f":"RIGHT(Data!C582,10)","v":""},null,null,null,null,null,null,null,{"$f":"IFERROR($U$3*Data!O582/SQRT(COUNT(Data!F582:J582)),\"\")","v":""},"","","","","",{"$f":"IFERROR((Data!K582-$F$4),\"\")","v":""},{"$f":"IF(AND(F582<>\"\",G582<>\"\",H582<>\"\",I582<>\"\",J582<>\"\"),Data!L582-$F$4,\"\")","v":""},"","","","",{"$f":"IF(F582<>\"\",STDEV($Q$12:Q582),\"\")","v":""},""]
[572,null,{"$f":"RIGHT(Data!C583,10)","v":""},null,null,null,null,null,null,null,{"$f":"IFERROR($U$3*Data!O583/SQRT(COUNT(Data!F583:J583)),\"\")","v":""},"","","","","",{"$f":"IFERROR((Data!K583-$F$4),\"\")","v":""},{"$f":"IF(AND(F583<>\"\",G583<>\"\",H583<>\"\",I583<>\"\",J583<>\"\"),Data!L583-$F$4,\"\")","v":""},"","","","",{"$f":"IF(F583<>\"\",STDEV($Q$12:Q583),\"\")","v":""},""]
[573,null,{"$f":"RIGHT(Data!C584,10)","v":""},null,null,null,null,null,null,null,{"$f":"IFERROR($U$3*Data!O584/SQRT(COUNT(Data!F584:J584)),\"\")","v":""},"","","","","",{"$f":"IFERROR((Data!K584-$F$4),\"\")","v":""},{"$f":"IF(AND(F584<>\"\",G584<>\"\",H584<>\"\",I584<>\"\",J584<>\"\"),Data!L584-$F$4,\"\")","v":""},"","","","",{"$f":"IF(F584<>\"\",STDEV($Q$12:Q584),\"\")","v":""},""]
[574,null,{"$f":"RIGHT(Data!C585,10)","v":""},null,null,null,null,null,null,null,{"$f":"IFERROR($U$3*Data!O585/SQRT(COUNT(Data!F585:J585)),\"\")","v":""},"","","","","",{"$f":"IFERROR((Data!K585-$F$4),\"\")","v":""},{"$f":"IF(AND(F585<>\"\",G585<>\"\",H585<>\"\",I585<>\"\",J585<>\"\"),Data!L585-$F$4,\"\")","v":""},"","","","",{"$f":"IF(F585<>\"\",STDEV($Q$12:Q585),\"\")","v":""},""]
[575,null,{"$f":"RIGHT(Data!C586,10)","v":""},null,null,null,null,null,null,null,{"$f":"IFERROR($U$3*Data!O586/SQRT(COUNT(Data!F586:J586)),\"\")","v":""},"","","","","",{"$f":"IFERROR((Data!K586-$F$4),\"\")","v":""},{"$f":"IF(AND(F586<>\"\",G586<>\"\",H586<>\"\",I586<>\"\",J586<>\"\"),Data!L586-$F$4,\"\")","v":""},"","","","",{"$f":"IF(F586<>\"\",STDEV($Q$12:Q586),\"\")","v":""},""]
[576,null,{"$f":"RIGHT(Data!C587,10)","v":""},null,null,null,null,null,null,null,{"$f":"IFERROR($U$3*Data!O587/SQRT(COUNT(Data!F587:J587)),\"\")","v":""},"","","","","",{"$f":"IFERROR((Data!K587-$F$4),\"\")","v":""},{"$f":"IF(AND(F587<>\"\",G587<>\"\",H587<>\"\",I587<>\"\",J587<>\"\"),Data!L587-$F$4,\"\")","v":""},"","","","",{"$f":"IF(F587<>\"\",STDEV($Q$12:Q587),\"\")","v":""},""]
[577,null,{"$f":"RIGHT(Data!C588,10)","v":""},null,null,null,null,null,null,null,{"$f":"IFERROR($U$3*Data!O588/SQRT(COUNT(Data!F588:J588)),\"\")","v":""},"","",{"$f":"IF(COUNT(F588:J588)>=5,STDEV(F588:J588)*$U$3/SQRT((COUNT(F588:J588))),\"\")","v":""},"","",{"$f":"IFERROR((Data!K588-$F$4),\"\")","v":""},{"$f":"IF(AND(F588<>\"\",G588<>\"\",H588<>\"\",I588<>\"\",J588<>\"\"),Data!L588-$F$4,\"\")","v":""},{"$f":"IF(O588<>\"\",FIXED(X588,1) & \" ± \" & FIXED(O588+ABS(R588),2),\"\")","v":""},"","","",{"$f":"IF(F588<>\"\",STDEV($Q$12:Q588),\"\")","v":""},{"$f":"IF(F588<>\"\",AVERAGE(F588:J588),\"\")","v":""}]
[578,null,{"$f":"RIGHT(Data!C589,10)","v":""},null,null,null,null,null,null,null,{"$f":"IFERROR($U$3*Data!O589/SQRT(COUNT(Data!F589:J589)),\"\")","v":""},{"$f":"IF(F589<>\"\",V589*W589/SQRT(A589),\"\")","v":""},{"$f":"IF(F589<>\"\",$U$4*SQRT($U$7^2+L589^2+K589^2+$U$5^2),\"\")","v":""},"",{"$f":"IFERROR($U$4*SQRT($U$7^2+L589^2+K589^2+$U$5^2+N589^2),\"\")","v":""},{"$f":"IF(AND(F589<>\"\",G589<>\"\",H589<>\"\",I589<>\"\",J589<>\"\"),AVERAGE(F589:J589),\"\")","v":""},{"$f":"IFERROR((Data!K589-$F$4),\"\")","v":""},{"$f":"IF(AND(F589<>\"\",G589<>\"\",H589<>\"\",I589<>\"\",J589<>\"\"),Data!L589-$F$4,\"\")","v":""},"",{"$f":"IF(F589<>\"\",FIXED(AVERAGE(F589:J589)-R589,1) & \" ± \" & FIXED(O589,2),\"\")","v":""},{"$f":"IF(IO589=\"\",\"\",IO589-1)","v":""},{"$f":"IF(F589<>\"\",TINV(1-0.68,A589-1),\"\")","v":""},{"$f":"IF(F589<>\"\",STDEV($Q$12:Q589),\"\")","v":""},""]
[579,null,{"$f":"RIGHT(Data!C590,10)","v":""},null,null,null,null,null,null,null,{"$f":"IFERROR($U$3*Data!O590/SQRT(COUNT(Data!F590:J590)),\"\")","v":""},"","","","","",{"$f":"IFERROR((Data!K590-$F$4),\"\")","v":""},{"$f":"IF(AND(F590<>\"\",G590<>\"\",H590<>\"\",I590<>\"\",J590<>\"\"),Data!L590-$F$4,\"\")","v":""},"","","","",{"$f":"IF(F590<>\"\",STDEV($Q$12:Q590),\"\")","v":""},""]
[580,null,{"$f":"RIGHT(Data!C591,10)","v":""},null,null,null,null,null,null,null,{"$f":"IFERROR($U$3*Data!O591/SQRT(COUNT(Data!F591:J591)),\"\")","v":""},"","","","","",{"$f":"IFERROR((Data!K591-$F$4),\"\")","v":""},{"$f":"IF(AND(F591<>\"\",G591<>\"\",H591<>\"\",I591<>\"\",J591<>\"\"),Data!L591-$F$4,\"\")","v":""},"","","","",{"$f":"IF(F591<>\"\",STDEV($Q$12:Q591),\"\")","v":""},""]
[581,null,{"$f":"RIGHT(Data!C592,10)","v":""},null,null,null,null,null,null,null,{"$f":"IFERROR($U$3*Data!O592/SQRT(COUNT(Data!F592:J592)),\"\")","v":""},"","","","","",{"$f":"IFERROR((Data!K592-$F$4),\"\")","v":""},{"$f":"IF(AND(F592<>\"\",G592<>\"\",H592<>\"\",I592<>\"\",J592<>\"\"),Data!L592-$F$4,\"\")","v":""},"","","","",{"$f":"IF(F592<>\"\",STDEV($Q$12:Q592),\"\")","v":""},""]
[582,null,{"$f":"RIGHT(Data!C593,10)","v":""},null,null,null,null,null,null,null,{"$f":"IFERROR($U$3*Data!O593/SQRT(COUNT(Data!F593:J593)),\"\")","v":""},"","","","","",{"$f":"IFERROR((Data!K593-$F$4),\"\")","v":""},{"$f":"IF(AND(F593<>\"\",G593<>\"\",H593<>\"\",I593<>\"\",J593<>\"\"),Data!L593-$F$4,\"\")","v":""},"","","","",{"$f":"IF(F593<>\"\",STDEV($Q$12:Q593),\"\")","v":""},""]
[583,null,{"$f":"RIGHT(Data!C594,10)","v":""},null,null,null,null,null,null,null,{"$f":"IFERROR($U$3*Data!O594/SQRT(COUNT(Data!F594:J594)),\"\")","v":""},"","","","","",{"$f":"IFERROR((Data!K594-$F$4),\"\")","v":""},{"$f":"IF(AND(F594<>\"\",G594<>\"\",H594<>\"\",I594<>\"\",J594<>\"\"),Data!L594-$F$4,\"\")","v":""},"","","","",{"$f":"IF(F594<>\"\",STDEV($Q$12:Q594),\"\")","v":""},""]
[584,null,{"$f":"RIGHT(Data!C595,10)","v":""},null,null,null,null,null,null,null,{"$f":"IFERROR($U$3*Data!O595/SQRT(COUNT(Data!F595:J595)),\"\")","v":""},"","","","","",{"$f":"IFERROR((Data!K595-$F$4),\"\")","v":""},{"$f":"IF(AND(F595<>\"\",G595<>\"\",H595<>\"\",I595<>\"\",J595<>\"\"),Data!L595-$F$4,\"\")","v":""},"","","","",{"$f":"IF(F595<>\"\",STDEV($Q$12:Q595),\"\")","v":""},""]
[585,null,{"$f":"RIGHT(Data!C596,10)","v":""},null,null,null,null,null,null,null,{"$f":"IFERROR($U$3*Data!O596/SQRT(COUNT(Data!F596:J596)),\"\")","v":""},"","","","","",{"$f":"IFERROR((Data!K596-$F$4),\"\")","v":""},{"$f":"IF(AND(F596<>\"\",G596<>\"\",H596<>\"\",I596<>\"\",J596<>\"\"),Data!L596-$F$4,\"\")","v":""},"","","","",{"$f":"IF(F596<>\"\",STDEV($Q$12:Q596),\"\")","v":""},""]
[586,null,{"$f":"RIGHT(Data!C597,10)","v":""},null,null,null,null,null,null,null,{"$f":"IFERROR($U$3*Data!O597/SQRT(COUNT(Data!F597:J597)),\"\")","v":""},"","","","","",{"$f":"IFERROR((Data!K597-$F$4),\"\")","v":""},{"$f":"IF(AND(F597<>\"\",G597<>\"\",H597<>\"\",I597<>\"\",J597<>\"\"),Data!L597-$F$4,\"\")","v":""},"","","","",{"$f":"IF(F597<>\"\",STDEV($Q$12:Q597),\"\")","v":""},""]
[587,null,{"$f":"RIGHT(Data!C598,10)","v":""},null,null,null,null,null,null,null,{"$f":"IFERROR($U$3*Data!O598/SQRT(COUNT(Data!F598:J598)),\"\")","v":""},"","","","","",{"$f":"IFERROR((Data!K598-$F$4),\"\")","v":""},{"$f":"IF(AND(F598<>\"\",G598<>\"\",H598<>\"\",I598<>\"\",J598<>\"\"),Data!L598-$F$4,\"\")","v":""},"","","","",{"$f":"IF(F598<>\"\",STDEV($Q$12:Q598),\"\")","v":""},""]
[588,null,{"$f":"RIGHT(Data!C599,10)","v":""},null,null,null,null,null,null,null,{"$f":"IFERROR($U$3*Data!O599/SQRT(COUNT(Data!F599:J599)),\"\")","v":""},"","","","","",{"$f":"IFERROR((Data!K599-$F$4),\"\")","v":""},{"$f":"IF(AND(F599<>\"\",G599<>\"\",H599<>\"\",I599<>\"\",J599<>\"\"),Data!L599-$F$4,\"\")","v":""},"","","","",{"$f":"IF(F599<>\"\",STDEV($Q$12:Q599),\"\")","v":""},""]
[589,null,{"$f":"RIGHT(Data!C600,10)","v":""},null,null,null,null,null,null,null,{"$f":"IFERROR($U$3*Data!O600/SQRT(COUNT(Data!F600:J600)),\"\")","v":""},"","","","","",{"$f":"IFERROR((Data!K600-$F$4),\"\")","v":""},{"$f":"IF(AND(F600<>\"\",G600<>\"\",H600<>\"\",I600<>\"\",J600<>\"\"),Data!L600-$F$4,\"\")","v":""},"","","","",{"$f":"IF(F600<>\"\",STDEV($Q$12:Q600),\"\")","v":""},""]
[590,null,{"$f":"RIGHT(Data!C601,10)","v":""},null,null,null,null,null,null,null,{"$f":"IFERROR($U$3*Data!O601/SQRT(COUNT(Data!F601:J601)),\"\")","v":""},"","","","","",{"$f":"IFERROR((Data!K601-$F$4),\"\")","v":""},{"$f":"IF(AND(F601<>\"\",G601<>\"\",H601<>\"\",I601<>\"\",J601<>\"\"),Data!L601-$F$4,\"\")","v":""},"","","","",{"$f":"IF(F601<>\"\",STDEV($Q$12:Q601),\"\")","v":""},""]
[591,null,{"$f":"RIGHT(Data!C602,10)","v":""},null,null,null,null,null,null,null,{"$f":"IFERROR($U$3*Data!O602/SQRT(COUNT(Data!F602:J602)),\"\")","v":""},"","","","","",{"$f":"IFERROR((Data!K602-$F$4),\"\")","v":""},{"$f":"IF(AND(F602<>\"\",G602<>\"\",H602<>\"\",I602<>\"\",J602<>\"\"),Data!L602-$F$4,\"\")","v":""},"","","","",{"$f":"IF(F602<>\"\",STDEV($Q$12:Q602),\"\")","v":""},""]
[592,null,{"$f":"RIGHT(Data!C603,10)","v":""},null,null,null,null,null,null,null,{"$f":"IFERROR($U$3*Data!O603/SQRT(COUNT(Data!F603:J603)),\"\")","v":""},"","","","","",{"$f":"IFERROR((Data!K603-$F$4),\"\")","v":""},{"$f":"IF(AND(F603<>\"\",G603<>\"\",H603<>\"\",I603<>\"\",J603<>\"\"),Data!L603-$F$4,\"\")","v":""},"","","","",{"$f":"IF(F603<>\"\",STDEV($Q$12:Q603),\"\")","v":""},""]
[593,null,{"$f":"RIGHT(Data!C604,10)","v":""},null,null,null,null,null,null,null,{"$f":"IFERROR($U$3*Data!O604/SQRT(COUNT(Data!F604:J604)),\"\")","v":""},"","","","","",{"$f":"IFERROR((Data!K604-$F$4),\"\")","v":""},{"$f":"IF(AND(F604<>\"\",G604<>\"\",H604<>\"\",I604<>\"\",J604<>\"\"),Data!L604-$F$4,\"\")","v":""},"","","","",{"$f":"IF(F604<>\"\",STDEV($Q$12:Q604),\"\")","v":""},""]
[594,null,{"$f":"RIGHT(Data!C605,10)","v":""},null,null,null,null,null,null,null,{"$f":"IFERROR($U$3*Data!O605/SQRT(COUNT(Data!F605:J605)),\"\")","v":""},"","","","","",{"$f":"IFERROR((Data!K605-$F$4),\"\")","v":""},{"$f":"IF(AND(F605<>\"\",G605<>\"\",H605<>\"\",I605<>\"\",J605<>\"\"),Data!L605-$F$4,\"\")","v":""},"","","","",{"$f":"IF(F605<>\"\",STDEV($Q$12:Q605),\"\")","v":""},""]
[595,null,{"$f":"RIGHT(Data!C606,10)","v":""},null,null,null,null,null,null,null,{"$f":"IFERROR($U$3*Data!O606/SQRT(COUNT(Data!F606:J606)),\"\")","v":""},"","","","","",{"$f":"IFERROR((Data!K606-$F$4),\"\")","v":""},{"$f":"IF(AND(F606<>\"\",G606<>\"\",H606<>\"\",I606<>\"\",J606<>\"\"),Data!L606-$F$4,\"\")","v":""},"","","","",{"$f":"IF(F606<>\"\",STDEV($Q$12:Q606),\"\")","v":""},""]
[596,null,{"$f":"RIGHT(Data!C607,10)","v":""},null,null,null,null,null,null,null,{"$f":"IFERROR($U$3*Data!O607/SQRT(COUNT(Data!F607:J607)),\"\")","v":""},"","","","","",{"$f":"IFERROR((Data!K607-$F$4),\"\")","v":""},{"$f":"IF(AND(F607<>\"\",G607<>\"\",H607<>\"\",I607<>\"\",J607<>\"\"),Data!L607-$F$4,\"\")","v":""},"","","","",{"$f":"IF(F607<>\"\",STDEV($Q$12:Q607),\"\")","v":""},""]
[597,null,{"$f":"RIGHT(Data!C608,10)","v":""},null,null,null,null,null,null,null,{"$f":"IFERROR($U$3*Data!O608/SQRT(COUNT(Data!F608:J608)),\"\")","v":""},"","","","","",{"$f":"IFERROR((Data!K608-$F$4),\"\")","v":""},{"$f":"IF(AND(F608<>\"\",G608<>\"\",H608<>\"\",I608<>\"\",J608<>\"\"),Data!L608-$F$4,\"\")","v":""},"","","","",{"$f":"IF(F608<>\"\",STDEV($Q$12:Q608),\"\")","v":""},""]
[598,null,{"$f":"RIGHT(Data!C609,10)","v":""},null,null,null,null,null,null,null,{"$f":"IFERROR($U$3*Data!O609/SQRT(COUNT(Data!F609:J609)),\"\")","v":""},"","","","","",{"$f":"IFERROR((Data!K609-$F$4),\"\")","v":""},{"$f":"IF(AND(F609<>\"\",G609<>\"\",H609<>\"\",I609<>\"\",J609<>\"\"),Data!L609-$F$4,\"\")","v":""},"","","","",{"$f":"IF(F609<>\"\",STDEV($Q$12:Q609),\"\")","v":""},""]
[599,null,{"$f":"RIGHT(Data!C610,10)","v":""},null,null,null,null,null,null,null,{"$f":"IFERROR($U$3*Data!O610/SQRT(COUNT(Data!F610:J610)),\"\")","v":""},"","","","","",{"$f":"IFERROR((Data!K610-$F$4),\"\")","v":""},{"$f":"IF(AND(F610<>\"\",G610<>\"\",H610<>\"\",I610<>\"\",J610<>\"\"),Data!L610-$F$4,\"\")","v":""},"","","","",{"$f":"IF(F610<>\"\",STDEV($Q$12:Q610),\"\")","v":""},""]
[600,null,{"$f":"RIGHT(Data!C611,10)","v":""},null,null,null,null,null,null,null,{"$f":"IFERROR($U$3*Data!O611/SQRT(COUNT(Data!F611:J611)),\"\")","v":""},"","","","","",{"$f":"IFERROR((Data!K611-$F$4),\"\")","v":""},{"$f":"IF(AND(F611<>\"\",G611<>\"\",H611<>\"\",I611<>\"\",J611<>\"\"),Data!L611-$F$4,\"\")","v":""},"","","","",{"$f":"IF(F611<>\"\",STDEV($Q$12:Q611),\"\")","v":""},""]
[601,null,{"$f":"RIGHT(Data!C612,10)","v":""},null,null,null,null,null,null,null,{"$f":"IFERROR($U$3*Data!O612/SQRT(COUNT(Data!F612:J612)),\"\")","v":""},"","","","","",{"$f":"IFERROR((Data!K612-$F$4),\"\")","v":""},{"$f":"IF(AND(F612<>\"\",G612<>\"\",H612<>\"\",I612<>\"\",J612<>\"\"),Data!L612-$F$4,\"\")","v":""},"","","","",{"$f":"IF(F612<>\"\",STDEV($Q$12:Q612),\"\")","v":""},""]
[602,null,{"$f":"RIGHT(Data!C613,10)","v":""},null,null,null,null,null,null,null,{"$f":"IFERROR($U$3*Data!O613/SQRT(COUNT(Data!F613:J613)),\"\")","v":""},"","","","","",{"$f":"IFERROR((Data!K613-$F$4),\"\")","v":""},{"$f":"IF(AND(F613<>\"\",G613<>\"\",H613<>\"\",I613<>\"\",J613<>\"\"),Data!L613-$F$4,\"\")","v":""},"","","","",{"$f":"IF(F613<>\"\",STDEV($Q$12:Q613),\"\")","v":""},""]
[603,null,{"$f":"RIGHT(Data!C614,10)","v":""},null,null,null,null,null,null,null,{"$f":"IFERROR($U$3*Data!O614/SQRT(COUNT(Data!F614:J614)),\"\")","v":""},"","","","","",{"$f":"IFERROR((Data!K614-$F$4),\"\")","v":""},{"$f":"IF(AND(F614<>\"\",G614<>\"\",H614<>\"\",I614<>\"\",J614<>\"\"),Data!L614-$F$4,\"\")","v":""},"","","","",{"$f":"IF(F614<>\"\",STDEV($Q$12:Q614),\"\")","v":""},""]
[604,null,{"$f":"RIGHT(Data!C615,10)","v":""},null,null,null,null,null,null,null,{"$f":"IFERROR($U$3*Data!O615/SQRT(COUNT(Data!F615:J615)),\"\")","v":""},"","","","","",{"$f":"IFERROR((Data!K615-$F$4),\"\")","v":""},{"$f":"IF(AND(F615<>\"\",G615<>\"\",H615<>\"\",I615<>\"\",J615<>\"\"),Data!L615-$F$4,\"\")","v":""},"","","","",{"$f":"IF(F615<>\"\",STDEV($Q$12:Q615),\"\")","v":""},""]
[605,null,{"$f":"RIGHT(Data!C616,10)","v":""},null,null,null,null,null,null,null,{"$f":"IFERROR($U$3*Data!O616/SQRT(COUNT(Data!F616:J616)),\"\")","v":""},"","","","","",{"$f":"IFERROR((Data!K616-$F$4),\"\")","v":""},{"$f":"IF(AND(F616<>\"\",G616<>\"\",H616<>\"\",I616<>\"\",J616<>\"\"),Data!L616-$F$4,\"\")","v":""},"","","","",{"$f":"IF(F616<>\"\",STDEV($Q$12:Q616),\"\")","v":""},""]
[606,null,{"$f":"RIGHT(Data!C617,10)","v":""},null,null,null,null,null,null,null,{"$f":"IFERROR($U$3*Data!O617/SQRT(COUNT(Data!F617:J617)),\"\")","v":""},"","","","","",{"$f":"IFERROR((Data!K617-$F$4),\"\")","v":""},{"$f":"IF(AND(F617<>\"\",G617<>\"\",H617<>\"\",I617<>\"\",J617<>\"\"),Data!L617-$F$4,\"\")","v":""},"","","","",{"$f":"IF(F617<>\"\",STDEV($Q$12:Q617),\"\")","v":""},""]
[607,null,{"$f":"RIGHT(Data!C618,10)","v":""},null,null,null,null,null,null,null,{"$f":"IFERROR($U$3*Data!O618/SQRT(COUNT(Data!F618:J618)),\"\")","v":""},"","","","","",{"$f":"IFERROR((Data!K618-$F$4),\"\")","v":""},{"$f":"IF(AND(F618<>\"\",G618<>\"\",H618<>\"\",I618<>\"\",J618<>\"\"),Data!L618-$F$4,\"\")","v":""},"","","","",{"$f":"IF(F618<>\"\",STDEV($Q$12:Q618),\"\")","v":""},""]
[608,null,{"$f":"RIGHT(Data!C619,10)","v":""},null,null,null,null,null,null,null,{"$f":"IFERROR($U$3*Data!O619/SQRT(COUNT(Data!F619:J619)),\"\")","v":""},"","","","","",{"$f":"IFERROR((Data!K619-$F$4),\"\")","v":""},{"$f":"IF(AND(F619<>\"\",G619<>\"\",H619<>\"\",I619<>\"\",J619<>\"\"),Data!L619-$F$4,\"\")","v":""},"","","","",{"$f":"IF(F619<>\"\",STDEV($Q$12:Q619),\"\")","v":""},""]
[609,null,{"$f":"RIGHT(Data!C620,10)","v":""},null,null,null,null,null,null,null,{"$f":"IFERROR($U$3*Data!O620/SQRT(COUNT(Data!F620:J620)),\"\")","v":""},"","","","","",{"$f":"IFERROR((Data!K620-$F$4),\"\")","v":""},{"$f":"IF(AND(F620<>\"\",G620<>\"\",H620<>\"\",I620<>\"\",J620<>\"\"),Data!L620-$F$4,\"\")","v":""},"","","","",{"$f":"IF(F620<>\"\",STDEV($Q$12:Q620),\"\")","v":""},""]
[610,null,{"$f":"RIGHT(Data!C621,10)","v":""},null,null,null,null,null,null,null,{"$f":"IFERROR($U$3*Data!O621/SQRT(COUNT(Data!F621:J621)),\"\")","v":""},"","","","","",{"$f":"IFERROR((Data!K621-$F$4),\"\")","v":""},{"$f":"IF(AND(F621<>\"\",G621<>\"\",H621<>\"\",I621<>\"\",J621<>\"\"),Data!L621-$F$4,\"\")","v":""},"","","","",{"$f":"IF(F621<>\"\",STDEV($Q$12:Q621),\"\")","v":""},""]
[611,null,{"$f":"RIGHT(Data!C622,10)","v":""},null,null,null,null,null,null,null,{"$f":"IFERROR($U$3*Data!O622/SQRT(COUNT(Data!F622:J622)),\"\")","v":""},"","","","","",{"$f":"IFERROR((Data!K622-$F$4),\"\")","v":""},{"$f":"IF(AND(F622<>\"\",G622<>\"\",H622<>\"\",I622<>\"\",J622<>\"\"),Data!L622-$F$4,\"\")","v":""},"","","","",{"$f":"IF(F622<>\"\",STDEV($Q$12:Q622),\"\")","v":""},""]
[612,null,{"$f":"RIGHT(Data!C623,10)","v":""},null,null,null,null,null,null,null,{"$f":"IFERROR($U$3*Data!O623/SQRT(COUNT(Data!F623:J623)),\"\")","v":""},"","","","","",{"$f":"IFERROR((Data!K623-$F$4),\"\")","v":""},{"$f":"IF(AND(F623<>\"\",G623<>\"\",H623<>\"\",I623<>\"\",J623<>\"\"),Data!L623-$F$4,\"\")","v":""},"","","","",{"$f":"IF(F623<>\"\",STDEV($Q$12:Q623),\"\")","v":""},""]
[613,null,{"$f":"RIGHT(Data!C624,10)","v":""},null,null,null,null,null,null,null,{"$f":"IFERROR($U$3*Data!O624/SQRT(COUNT(Data!F624:J624)),\"\")","v":""},"","","","","",{"$f":"IFERROR((Data!K624-$F$4),\"\")","v":""},{"$f":"IF(AND(F624<>\"\",G624<>\"\",H624<>\"\",I624<>\"\",J624<>\"\"),Data!L624-$F$4,\"\")","v":""},"","","","",{"$f":"IF(F624<>\"\",STDEV($Q$12:Q624),\"\")","v":""},""]
[614,null,{"$f":"RIGHT(Data!C625,10)","v":""},null,null,null,null,null,null,null,{"$f":"IFERROR($U$3*Data!O625/SQRT(COUNT(Data!F625:J625)),\"\")","v":""},"","","","","",{"$f":"IFERROR((Data!K625-$F$4),\"\")","v":""},{"$f":"IF(AND(F625<>\"\",G625<>\"\",H625<>\"\",I625<>\"\",J625<>\"\"),Data!L625-$F$4,\"\")","v":""},"","","","",{"$f":"IF(F625<>\"\",STDEV($Q$12:Q625),\"\")","v":""},""]
[615,null,{"$f":"RIGHT(Data!C626,10)","v":""},null,null,null,null,null,null,null,{"$f":"IFERROR($U$3*Data!O626/SQRT(COUNT(Data!F626:J626)),\"\")","v":""},"","","","","",{"$f":"IFERROR((Data!K626-$F$4),\"\")","v":""},{"$f":"IF(AND(F626<>\"\",G626<>\"\",H626<>\"\",I626<>\"\",J626<>\"\"),Data!L626-$F$4,\"\")","v":""},"","","","",{"$f":"IF(F626<>\"\",STDEV($Q$12:Q626),\"\")","v":""},""]
[616,null,{"$f":"RIGHT(Data!C627,10)","v":""},null,null,null,null,null,null,null,{"$f":"IFERROR($U$3*Data!O627/SQRT(COUNT(Data!F627:J627)),\"\")","v":""},"","","","","",{"$f":"IFERROR((Data!K627-$F$4),\"\")","v":""},{"$f":"IF(AND(F627<>\"\",G627<>\"\",H627<>\"\",I627<>\"\",J627<>\"\"),Data!L627-$F$4,\"\")","v":""},"","","","",{"$f":"IF(F627<>\"\",STDEV($Q$12:Q627),\"\")","v":""},""]
[617,null,{"$f":"RIGHT(Data!C628,10)","v":""},null,null,null,null,null,null,null,{"$f":"IFERROR($U$3*Data!O628/SQRT(COUNT(Data!F628:J628)),\"\")","v":""},"","","","","",{"$f":"IFERROR((Data!K628-$F$4),\"\")","v":""},{"$f":"IF(AND(F628<>\"\",G628<>\"\",H628<>\"\",I628<>\"\",J628<>\"\"),Data!L628-$F$4,\"\")","v":""},"","","","",{"$f":"IF(F628<>\"\",STDEV($Q$12:Q628),\"\")","v":""},""]
[618,null,{"$f":"RIGHT(Data!C629,10)","v":""},null,null,null,null,null,null,null,{"$f":"IFERROR($U$3*Data!O629/SQRT(COUNT(Data!F629:J629)),\"\")","v":""},"","","","","",{"$f":"IFERROR((Data!K629-$F$4),\"\")","v":""},{"$f":"IF(AND(F629<>\"\",G629<>\"\",H629<>\"\",I629<>\"\",J629<>\"\"),Data!L629-$F$4,\"\")","v":""},"","","","",{"$f":"IF(F629<>\"\",STDEV($Q$12:Q629),\"\")","v":""},""]
[619,null,{"$f":"RIGHT(Data!C630,10)","v":""},null,null,null,null,null,null,null,{"$f":"IFERROR($U$3*Data!O630/SQRT(COUNT(Data!F630:J630)),\"\")","v":""},"","","","","",{"$f":"IFERROR((Data!K630-$F$4),\"\")","v":""},{"$f":"IF(AND(F630<>\"\",G630<>\"\",H630<>\"\",I630<>\"\",J630<>\"\"),Data!L630-$F$4,\"\")","v":""},"","","","",{"$f":"IF(F630<>\"\",STDEV($Q$12:Q630),\"\")","v":""},""]
[620,null,{"$f":"RIGHT(Data!C631,10)","v":""},null,null,null,null,null,null,null,{"$f":"IFERROR($U$3*Data!O631/SQRT(COUNT(Data!F631:J631)),\"\")","v":""},"","","","","",{"$f":"IFERROR((Data!K631-$F$4),\"\")","v":""},{"$f":"IF(AND(F631<>\"\",G631<>\"\",H631<>\"\",I631<>\"\",J631<>\"\"),Data!L631-$F$4,\"\")","v":""},"","","","",{"$f":"IF(F631<>\"\",STDEV($Q$12:Q631),\"\")","v":""},""]
[621,null,{"$f":"RIGHT(Data!C632,10)","v":""},null,null,null,null,null,null,null,{"$f":"IFERROR($U$3*Data!O632/SQRT(COUNT(Data!F632:J632)),\"\")","v":""},"","","","","",{"$f":"IFERROR((Data!K632-$F$4),\"\")","v":""},{"$f":"IF(AND(F632<>\"\",G632<>\"\",H632<>\"\",I632<>\"\",J632<>\"\"),Data!L632-$F$4,\"\")","v":""},"","","","",{"$f":"IF(F632<>\"\",STDEV($Q$12:Q632),\"\")","v":""},""]
[622,null,{"$f":"RIGHT(Data!C633,10)","v":""},null,null,null,null,null,null,null,{"$f":"IFERROR($U$3*Data!O633/SQRT(COUNT(Data!F633:J633)),\"\")","v":""},"","","","","",{"$f":"IFERROR((Data!K633-$F$4),\"\")","v":""},{"$f":"IF(AND(F633<>\"\",G633<>\"\",H633<>\"\",I633<>\"\",J633<>\"\"),Data!L633-$F$4,\"\")","v":""},"","","","",{"$f":"IF(F633<>\"\",STDEV($Q$12:Q633),\"\")","v":""},""]
[623,null,{"$f":"RIGHT(Data!C634,10)","v":""},null,null,null,null,null,null,null,{"$f":"IFERROR($U$3*Data!O634/SQRT(COUNT(Data!F634:J634)),\"\")","v":""},"","","","","",{"$f":"IFERROR((Data!K634-$F$4),\"\")","v":""},{"$f":"IF(AND(F634<>\"\",G634<>\"\",H634<>\"\",I634<>\"\",J634<>\"\"),Data!L634-$F$4,\"\")","v":""},"","","","",{"$f":"IF(F634<>\"\",STDEV($Q$12:Q634),\"\")","v":""},""]
[624,null,{"$f":"RIGHT(Data!C635,10)","v":""},null,null,null,null,null,null,null,{"$f":"IFERROR($U$3*Data!O635/SQRT(COUNT(Data!F635:J635)),\"\")","v":""},"","","","","",{"$f":"IFERROR((Data!K635-$F$4),\"\")","v":""},{"$f":"IF(AND(F635<>\"\",G635<>\"\",H635<>\"\",I635<>\"\",J635<>\"\"),Data!L635-$F$4,\"\")","v":""},"","","","",{"$f":"IF(F635<>\"\",STDEV($Q$12:Q635),\"\")","v":""},""]
[625,null,{"$f":"RIGHT(Data!C636,10)","v":""},null,null,null,null,null,null,null,{"$f":"IFERROR($U$3*Data!O636/SQRT(COUNT(Data!F636:J636)),\"\")","v":""},"","","","","",{"$f":"IFERROR((Data!K636-$F$4),\"\")","v":""},{"$f":"IF(AND(F636<>\"\",G636<>\"\",H636<>\"\",I636<>\"\",J636<>\"\"),Data!L636-$F$4,\"\")","v":""},"","","","",{"$f":"IF(F636<>\"\",STDEV($Q$12:Q636),\"\")","v":""},""]
[626,null,{"$f":"RIGHT(Data!C637,10)","v":""},null,null,null,null,null,null,null,{"$f":"IFERROR($U$3*Data!O637/SQRT(COUNT(Data!F637:J637)),\"\")","v":""},"","","","","",{"$f":"IFERROR((Data!K637-$F$4),\"\")","v":""},{"$f":"IF(AND(F637<>\"\",G637<>\"\",H637<>\"\",I637<>\"\",J637<>\"\"),Data!L637-$F$4,\"\")","v":""},"","","","",{"$f":"IF(F637<>\"\",STDEV($Q$12:Q637),\"\")","v":""},""]
[627,null,{"$f":"RIGHT(Data!C638,10)","v":""},null,null,null,null,null,null,null,{"$f":"IFERROR($U$3*Data!O638/SQRT(COUNT(Data!F638:J638)),\"\")","v":""},"","","","","",{"$f":"IFERROR((Data!K638-$F$4),\"\")","v":""},{"$f":"IF(AND(F638<>\"\",G638<>\"\",H638<>\"\",I638<>\"\",J638<>\"\"),Data!L638-$F$4,\"\")","v":""},"","","","",{"$f":"IF(F638<>\"\",STDEV($Q$12:Q638),\"\")","v":""},""]
[628,null,{"$f":"RIGHT(Data!C639,10)","v":""},null,null,null,null,null,null,null,{"$f":"IFERROR($U$3*Data!O639/SQRT(COUNT(Data!F639:J639)),\"\")","v":""},"","","","","",{"$f":"IFERROR((Data!K639-$F$4),\"\")","v":""},{"$f":"IF(AND(F639<>\"\",G639<>\"\",H639<>\"\",I639<>\"\",J639<>\"\"),Data!L639-$F$4,\"\")","v":""},"","","","",{"$f":"IF(F639<>\"\",STDEV($Q$12:Q639),\"\")","v":""},""]
[629,null,{"$f":"RIGHT(Data!C640,10)","v":""},null,null,null,null,null,null,null,{"$f":"IFERROR($U$3*Data!O640/SQRT(COUNT(Data!F640:J640)),\"\")","v":""},"","","","","",{"$f":"IFERROR((Data!K640-$F$4),\"\")","v":""},{"$f":"IF(AND(F640<>\"\",G640<>\"\",H640<>\"\",I640<>\"\",J640<>\"\"),Data!L640-$F$4,\"\")","v":""},"","","","",{"$f":"IF(F640<>\"\",STDEV($Q$12:Q640),\"\")","v":""},""]
[630,null,{"$f":"RIGHT(Data!C641,10)","v":""},null,null,null,null,null,null,null,{"$f":"IFERROR($U$3*Data!O641/SQRT(COUNT(Data!F641:J641)),\"\")","v":""},"","","","","",{"$f":"IFERROR((Data!K641-$F$4),\"\")","v":""},{"$f":"IF(AND(F641<>\"\",G641<>\"\",H641<>\"\",I641<>\"\",J641<>\"\"),Data!L641-$F$4,\"\")","v":""},"","","","",{"$f":"IF(F641<>\"\",STDEV($Q$12:Q641),\"\")","v":""},""]
[631,null,{"$f":"RIGHT(Data!C642,10)","v":""},null,null,null,null,null,null,null,{"$f":"IFERROR($U$3*Data!O642/SQRT(COUNT(Data!F642:J642)),\"\")","v":""},"","","","","",{"$f":"IFERROR((Data!K642-$F$4),\"\")","v":""},{"$f":"IF(AND(F642<>\"\",G642<>\"\",H642<>\"\",I642<>\"\",J642<>\"\"),Data!L642-$F$4,\"\")","v":""},"","","","",{"$f":"IF(F642<>\"\",STDEV($Q$12:Q642),\"\")","v":""},""]
[632,null,{"$f":"RIGHT(Data!C643,10)","v":""},null,null,null,null,null,null,null,{"$f":"IFERROR($U$3*Data!O643/SQRT(COUNT(Data!F643:J643)),\"\")","v":""},"","","","","",{"$f":"IFERROR((Data!K643-$F$4),\"\")","v":""},{"$f":"IF(AND(F643<>\"\",G643<>\"\",H643<>\"\",I643<>\"\",J643<>\"\"),Data!L643-$F$4,\"\")","v":""},"","","","",{"$f":"IF(F643<>\"\",STDEV($Q$12:Q643),\"\")","v":""},""]
[633,null,{"$f":"RIGHT(Data!C644,10)","v":""},null,null,null,null,null,null,null,{"$f":"IFERROR($U$3*Data!O644/SQRT(COUNT(Data!F644:J644)),\"\")","v":""},"","","","","",{"$f":"IFERROR((Data!K644-$F$4),\"\")","v":""},{"$f":"IF(AND(F644<>\"\",G644<>\"\",H644<>\"\",I644<>\"\",J644<>\"\"),Data!L644-$F$4,\"\")","v":""},"","","","",{"$f":"IF(F644<>\"\",STDEV($Q$12:Q644),\"\")","v":""},""]
[634,null,{"$f":"RIGHT(Data!C645,10)","v":""},null,null,null,null,null,null,null,{"$f":"IFERROR($U$3*Data!O645/SQRT(COUNT(Data!F645:J645)),\"\")","v":""},"","","","","",{"$f":"IFERROR((Data!K645-$F$4),\"\")","v":""},{"$f":"IF(AND(F645<>\"\",G645<>\"\",H645<>\"\",I645<>\"\",J645<>\"\"),Data!L645-$F$4,\"\")","v":""},"","","","",{"$f":"IF(F645<>\"\",STDEV($Q$12:Q645),\"\")","v":""},""]
[635,null,{"$f":"RIGHT(Data!C646,10)","v":""},null,null,null,null,null,null,null,{"$f":"IFERROR($U$3*Data!O646/SQRT(COUNT(Data!F646:J646)),\"\")","v":""},"","","","","",{"$f":"IFERROR((Data!K646-$F$4),\"\")","v":""},{"$f":"IF(AND(F646<>\"\",G646<>\"\",H646<>\"\",I646<>\"\",J646<>\"\"),Data!L646-$F$4,\"\")","v":""},"","","","",{"$f":"IF(F646<>\"\",STDEV($Q$12:Q646),\"\")","v":""},""]
[636,null,{"$f":"RIGHT(Data!C647,10)","v":""},null,null,null,null,null,null,null,{"$f":"IFERROR($U$3*Data!O647/SQRT(COUNT(Data!F647:J647)),\"\")","v":""},"","","","","",{"$f":"IFERROR((Data!K647-$F$4),\"\")","v":""},{"$f":"IF(AND(F647<>\"\",G647<>\"\",H647<>\"\",I647<>\"\",J647<>\"\"),Data!L647-$F$4,\"\")","v":""},"","","","",{"$f":"IF(F647<>\"\",STDEV($Q$12:Q647),\"\")","v":""},""]
[637,null,{"$f":"RIGHT(Data!C648,10)","v":""},null,null,null,null,null,null,null,{"$f":"IFERROR($U$3*Data!O648/SQRT(COUNT(Data!F648:J648)),\"\")","v":""},"","","","","",{"$f":"IFERROR((Data!K648-$F$4),\"\")","v":""},{"$f":"IF(AND(F648<>\"\",G648<>\"\",H648<>\"\",I648<>\"\",J648<>\"\"),Data!L648-$F$4,\"\")","v":""},"","","","",{"$f":"IF(F648<>\"\",STDEV($Q$12:Q648),\"\")","v":""},""]
[638,null,{"$f":"RIGHT(Data!C649,10)","v":""},null,null,null,null,null,null,null,{"$f":"IFERROR($U$3*Data!O649/SQRT(COUNT(Data!F649:J649)),\"\")","v":""},"","","","","",{"$f":"IFERROR((Data!K649-$F$4),\"\")","v":""},{"$f":"IF(AND(F649<>\"\",G649<>\"\",H649<>\"\",I649<>\"\",J649<>\"\"),Data!L649-$F$4,\"\")","v":""},"","","","",{"$f":"IF(F649<>\"\",STDEV($Q$12:Q649),\"\")","v":""},""]
[639,null,{"$f":"RIGHT(Data!C650,10)","v":""},null,null,null,null,null,null,null,{"$f":"IFERROR($U$3*Data!O650/SQRT(COUNT(Data!F650:J650)),\"\")","v":""},"","","","","",{"$f":"IFERROR((Data!K650-$F$4),\"\")","v":""},{"$f":"IF(AND(F650<>\"\",G650<>\"\",H650<>\"\",I650<>\"\",J650<>\"\"),Data!L650-$F$4,\"\")","v":""},"","","","",{"$f":"IF(F650<>\"\",STDEV($Q$12:Q650),\"\")","v":""},""]
[640,null,{"$f":"RIGHT(Data!C651,10)","v":""},null,null,null,null,null,null,null,{"$f":"IFERROR($U$3*Data!O651/SQRT(COUNT(Data!F651:J651)),\"\")","v":""},"","","","","",{"$f":"IFERROR((Data!K651-$F$4),\"\")","v":""},{"$f":"IF(AND(F651<>\"\",G651<>\"\",H651<>\"\",I651<>\"\",J651<>\"\"),Data!L651-$F$4,\"\")","v":""},"","","","",{"$f":"IF(F651<>\"\",STDEV($Q$12:Q651),\"\")","v":""},""]
[641,null,{"$f":"RIGHT(Data!C652,10)","v":""},null,null,null,null,null,null,null,{"$f":"IFERROR($U$3*Data!O652/SQRT(COUNT(Data!F652:J652)),\"\")","v":""},"","",{"$f":"IF(COUNT(F652:J652)>=5,STDEV(F652:J652)*$U$3/SQRT((COUNT(F652:J652))),\"\")","v":""},"","",{"$f":"IFERROR((Data!K652-$F$4),\"\")","v":""},{"$f":"IF(AND(F652<>\"\",G652<>\"\",H652<>\"\",I652<>\"\",J652<>\"\"),Data!L652-$F$4,\"\")","v":""},{"$f":"IF(O652<>\"\",FIXED(X652,1) & \" ± \" & FIXED(O652+ABS(R652),2),\"\")","v":""},"","","",{"$f":"IF(F652<>\"\",STDEV($Q$12:Q652),\"\")","v":""},{"$f":"IF(F652<>\"\",AVERAGE(F652:J652),\"\")","v":""}]
[642,null,{"$f":"RIGHT(Data!C653,10)","v":""},null,null,null,null,null,null,null,{"$f":"IFERROR($U$3*Data!O653/SQRT(COUNT(Data!F653:J653)),\"\")","v":""},{"$f":"IF(F653<>\"\",V653*W653/SQRT(A653),\"\")","v":""},{"$f":"IF(F653<>\"\",$U$4*SQRT($U$7^2+L653^2+K653^2+$U$5^2),\"\")","v":""},"",{"$f":"IFERROR($U$4*SQRT($U$7^2+L653^2+K653^2+$U$5^2+N653^2),\"\")","v":""},{"$f":"IF(AND(F653<>\"\",G653<>\"\",H653<>\"\",I653<>\"\",J653<>\"\"),AVERAGE(F653:J653),\"\")","v":""},{"$f":"IFERROR((Data!K653-$F$4),\"\")","v":""},{"$f":"IF(AND(F653<>\"\",G653<>\"\",H653<>\"\",I653<>\"\",J653<>\"\"),Data!L653-$F$4,\"\")","v":""},"",{"$f":"IF(F653<>\"\",FIXED(AVERAGE(F653:J653)-R653,1) & \" ± \" & FIXED(O653,2),\"\")","v":""},{"$f":"IF(IO653=\"\",\"\",IO653-1)","v":""},{"$f":"IF(F653<>\"\",TINV(1-0.68,A653-1),\"\")","v":""},{"$f":"IF(F653<>\"\",STDEV($Q$12:Q653),\"\")","v":""},""]
[643,null,{"$f":"RIGHT(Data!C654,10)","v":""},null,null,null,null,null,null,null,{"$f":"IFERROR($U$3*Data!O654/SQRT(COUNT(Data!F654:J654)),\"\")","v":""},"","","","","",{"$f":"IFERROR((Data!K654-$F$4),\"\")","v":""},{"$f":"IF(AND(F654<>\"\",G654<>\"\",H654<>\"\",I654<>\"\",J654<>\"\"),Data!L654-$F$4,\"\")","v":""},"","","","",{"$f":"IF(F654<>\"\",STDEV($Q$12:Q654),\"\")","v":""},""]
[644,null,{"$f":"RIGHT(Data!C655,10)","v":""},null,null,null,null,null,null,null,{"$f":"IFERROR($U$3*Data!O655/SQRT(COUNT(Data!F655:J655)),\"\")","v":""},"","","","","",{"$f":"IFERROR((Data!K655-$F$4),\"\")","v":""},{"$f":"IF(AND(F655<>\"\",G655<>\"\",H655<>\"\",I655<>\"\",J655<>\"\"),Data!L655-$F$4,\"\")","v":""},"","","","",{"$f":"IF(F655<>\"\",STDEV($Q$12:Q655),\"\")","v":""},""]
[645,null,{"$f":"RIGHT(Data!C656,10)","v":""},null,null,null,null,null,null,null,{"$f":"IFERROR($U$3*Data!O656/SQRT(COUNT(Data!F656:J656)),\"\")","v":""},"","","","","",{"$f":"IFERROR((Data!K656-$F$4),\"\")","v":""},{"$f":"IF(AND(F656<>\"\",G656<>\"\",H656<>\"\",I656<>\"\",J656<>\"\"),Data!L656-$F$4,\"\")","v":""},"","","","",{"$f":"IF(F656<>\"\",STDEV($Q$12:Q656),\"\")","v":""},""]
[646,null,{"$f":"RIGHT(Data!C657,10)","v":""},null,null,null,null,null,null,null,{"$f":"IFERROR($U$3*Data!O657/SQRT(COUNT(Data!F657:J657)),\"\")","v":""},"","","","","",{"$f":"IFERROR((Data!K657-$F$4),\"\")","v":""},{"$f":"IF(AND(F657<>\"\",G657<>\"\",H657<>\"\",I657<>\"\",J657<>\"\"),Data!L657-$F$4,\"\")","v":""},"","","","",{"$f":"IF(F657<>\"\",STDEV($Q$12:Q657),\"\")","v":""},""]
[647,null,{"$f":"RIGHT(Data!C658,10)","v":""},null,null,null,null,null,null,null,{"$f":"IFERROR($U$3*Data!O658/SQRT(COUNT(Data!F658:J658)),\"\")","v":""},"","","","","",{"$f":"IFERROR((Data!K658-$F$4),\"\")","v":""},{"$f":"IF(AND(F658<>\"\",G658<>\"\",H658<>\"\",I658<>\"\",J658<>\"\"),Data!L658-$F$4,\"\")","v":""},"","","","",{"$f":"IF(F658<>\"\",STDEV($Q$12:Q658),\"\")","v":""},""]
[648,null,{"$f":"RIGHT(Data!C659,10)","v":""},null,null,null,null,null,null,null,{"$f":"IFERROR($U$3*Data!O659/SQRT(COUNT(Data!F659:J659)),\"\")","v":""},"","","","","",{"$f":"IFERROR((Data!K659-$F$4),\"\")","v":""},{"$f":"IF(AND(F659<>\"\",G659<>\"\",H659<>\"\",I659<>\"\",J659<>\"\"),Data!L659-$F$4,\"\")","v":""},"","","","",{"$f":"IF(F659<>\"\",STDEV($Q$12:Q659),\"\")","v":""},""]
[649,null,{"$f":"RIGHT(Data!C660,10)","v":""},null,null,null,null,null,null,null,{"$f":"IFERROR($U$3*Data!O660/SQRT(COUNT(Data!F660:J660)),\"\")","v":""},"","","","","",{"$f":"IFERROR((Data!K660-$F$4),\"\")","v":""},{"$f":"IF(AND(F660<>\"\",G660<>\"\",H660<>\"\",I660<>\"\",J660<>\"\"),Data!L660-$F$4,\"\")","v":""},"","","","",{"$f":"IF(F660<>\"\",STDEV($Q$12:Q660),\"\")","v":""},""]
[650,null,{"$f":"RIGHT(Data!C661,10)","v":""},null,null,null,null,null,null,null,{"$f":"IFERROR($U$3*Data!O661/SQRT(COUNT(Data!F661:J661)),\"\")","v":""},"","","","","",{"$f":"IFERROR((Data!K661-$F$4),\"\")","v":""},{"$f":"IF(AND(F661<>\"\",G661<>\"\",H661<>\"\",I661<>\"\",J661<>\"\"),Data!L661-$F$4,\"\")","v":""},"","","","",{"$f":"IF(F661<>\"\",STDEV($Q$12:Q661),\"\")","v":""},""]
[651,null,{"$f":"RIGHT(Data!C662,10)","v":""},null,null,null,null,null,null,null,{"$f":"IFERROR($U$3*Data!O662/SQRT(COUNT(Data!F662:J662)),\"\")","v":""},"","","","","",{"$f":"IFERROR((Data!K662-$F$4),\"\")","v":""},{"$f":"IF(AND(F662<>\"\",G662<>\"\",H662<>\"\",I662<>\"\",J662<>\"\"),Data!L662-$F$4,\"\")","v":""},"","","","",{"$f":"IF(F662<>\"\",STDEV($Q$12:Q662),\"\")","v":""},""]
[652,null,{"$f":"RIGHT(Data!C663,10)","v":""},null,null,null,null,null,null,null,{"$f":"IFERROR($U$3*Data!O663/SQRT(COUNT(Data!F663:J663)),\"\")","v":""},"","","","","",{"$f":"IFERROR((Data!K663-$F$4),\"\")","v":""},{"$f":"IF(AND(F663<>\"\",G663<>\"\",H663<>\"\",I663<>\"\",J663<>\"\"),Data!L663-$F$4,\"\")","v":""},"","","","",{"$f":"IF(F663<>\"\",STDEV($Q$12:Q663),\"\")","v":""},""]
[653,null,{"$f":"RIGHT(Data!C664,10)","v":""},null,null,null,null,null,null,null,{"$f":"IFERROR($U$3*Data!O664/SQRT(COUNT(Data!F664:J664)),\"\")","v":""},"","","","","",{"$f":"IFERROR((Data!K664-$F$4),\"\")","v":""},{"$f":"IF(AND(F664<>\"\",G664<>\"\",H664<>\"\",I664<>\"\",J664<>\"\"),Data!L664-$F$4,\"\")","v":""},"","","","",{"$f":"IF(F664<>\"\",STDEV($Q$12:Q664),\"\")","v":""},""]
[654,null,{"$f":"RIGHT(Data!C665,10)","v":""},null,null,null,null,null,null,null,{"$f":"IFERROR($U$3*Data!O665/SQRT(COUNT(Data!F665:J665)),\"\")","v":""},"","","","","",{"$f":"IFERROR((Data!K665-$F$4),\"\")","v":""},{"$f":"IF(AND(F665<>\"\",G665<>\"\",H665<>\"\",I665<>\"\",J665<>\"\"),Data!L665-$F$4,\"\")","v":""},"","","","",{"$f":"IF(F665<>\"\",STDEV($Q$12:Q665),\"\")","v":""},""]
[655,null,{"$f":"RIGHT(Data!C666,10)","v":""},null,null,null,null,null,null,null,{"$f":"IFERROR($U$3*Data!O666/SQRT(COUNT(Data!F666:J666)),\"\")","v":""},"","","","","",{"$f":"IFERROR((Data!K666-$F$4),\"\")","v":""},{"$f":"IF(AND(F666<>\"\",G666<>\"\",H666<>\"\",I666<>\"\",J666<>\"\"),Data!L666-$F$4,\"\")","v":""},"","","","",{"$f":"IF(F666<>\"\",STDEV($Q$12:Q666),\"\")","v":""},""]
[656,null,{"$f":"RIGHT(Data!C667,10)","v":""},null,null,null,null,null,null,null,{"$f":"IFERROR($U$3*Data!O667/SQRT(COUNT(Data!F667:J667)),\"\")","v":""},"","","","","",{"$f":"IFERROR((Data!K667-$F$4),\"\")","v":""},{"$f":"IF(AND(F667<>\"\",G667<>\"\",H667<>\"\",I667<>\"\",J667<>\"\"),Data!L667-$F$4,\"\")","v":""},"","","","",{"$f":"IF(F667<>\"\",STDEV($Q$12:Q667),\"\")","v":""},""]
[657,null,{"$f":"RIGHT(Data!C668,10)","v":""},null,null,null,null,null,null,null,{"$f":"IFERROR($U$3*Data!O668/SQRT(COUNT(Data!F668:J668)),\"\")","v":""},"","","","","",{"$f":"IFERROR((Data!K668-$F$4),\"\")","v":""},{"$f":"IF(AND(F668<>\"\",G668<>\"\",H668<>\"\",I668<>\"\",J668<>\"\"),Data!L668-$F$4,\"\")","v":""},"","","","",{"$f":"IF(F668<>\"\",STDEV($Q$12:Q668),\"\")","v":""},""]
[658,null,{"$f":"RIGHT(Data!C669,10)","v":""},null,null,null,null,null,null,null,{"$f":"IFERROR($U$3*Data!O669/SQRT(COUNT(Data!F669:J669)),\"\")","v":""},"","","","","",{"$f":"IFERROR((Data!K669-$F$4),\"\")","v":""},{"$f":"IF(AND(F669<>\"\",G669<>\"\",H669<>\"\",I669<>\"\",J669<>\"\"),Data!L669-$F$4,\"\")","v":""},"","","","",{"$f":"IF(F669<>\"\",STDEV($Q$12:Q669),\"\")","v":""},""]
[659,null,{"$f":"RIGHT(Data!C670,10)","v":""},null,null,null,null,null,null,null,{"$f":"IFERROR($U$3*Data!O670/SQRT(COUNT(Data!F670:J670)),\"\")","v":""},"","","","","",{"$f":"IFERROR((Data!K670-$F$4),\"\")","v":""},{"$f":"IF(AND(F670<>\"\",G670<>\"\",H670<>\"\",I670<>\"\",J670<>\"\"),Data!L670-$F$4,\"\")","v":""},"","","","",{"$f":"IF(F670<>\"\",STDEV($Q$12:Q670),\"\")","v":""},""]
[660,null,{"$f":"RIGHT(Data!C671,10)","v":""},null,null,null,null,null,null,null,{"$f":"IFERROR($U$3*Data!O671/SQRT(COUNT(Data!F671:J671)),\"\")","v":""},"","","","","",{"$f":"IFERROR((Data!K671-$F$4),\"\")","v":""},{"$f":"IF(AND(F671<>\"\",G671<>\"\",H671<>\"\",I671<>\"\",J671<>\"\"),Data!L671-$F$4,\"\")","v":""},"","","","",{"$f":"IF(F671<>\"\",STDEV($Q$12:Q671),\"\")","v":""},""]
[661,null,{"$f":"RIGHT(Data!C672,10)","v":""},null,null,null,null,null,null,null,{"$f":"IFERROR($U$3*Data!O672/SQRT(COUNT(Data!F672:J672)),\"\")","v":""},"","","","","",{"$f":"IFERROR((Data!K672-$F$4),\"\")","v":""},{"$f":"IF(AND(F672<>\"\",G672<>\"\",H672<>\"\",I672<>\"\",J672<>\"\"),Data!L672-$F$4,\"\")","v":""},"","","","",{"$f":"IF(F672<>\"\",STDEV($Q$12:Q672),\"\")","v":""},""]
[662,null,{"$f":"RIGHT(Data!C673,10)","v":""},null,null,null,null,null,null,null,{"$f":"IFERROR($U$3*Data!O673/SQRT(COUNT(Data!F673:J673)),\"\")","v":""},"","","","","",{"$f":"IFERROR((Data!K673-$F$4),\"\")","v":""},{"$f":"IF(AND(F673<>\"\",G673<>\"\",H673<>\"\",I673<>\"\",J673<>\"\"),Data!L673-$F$4,\"\")","v":""},"","","","",{"$f":"IF(F673<>\"\",STDEV($Q$12:Q673),\"\")","v":""},""]
[663,null,{"$f":"RIGHT(Data!C674,10)","v":""},null,null,null,null,null,null,null,{"$f":"IFERROR($U$3*Data!O674/SQRT(COUNT(Data!F674:J674)),\"\")","v":""},"","","","","",{"$f":"IFERROR((Data!K674-$F$4),\"\")","v":""},{"$f":"IF(AND(F674<>\"\",G674<>\"\",H674<>\"\",I674<>\"\",J674<>\"\"),Data!L674-$F$4,\"\")","v":""},"","","","",{"$f":"IF(F674<>\"\",STDEV($Q$12:Q674),\"\")","v":""},""]
[664,null,{"$f":"RIGHT(Data!C675,10)","v":""},null,null,null,null,null,null,null,{"$f":"IFERROR($U$3*Data!O675/SQRT(COUNT(Data!F675:J675)),\"\")","v":""},"","","","","",{"$f":"IFERROR((Data!K675-$F$4),\"\")","v":""},{"$f":"IF(AND(F675<>\"\",G675<>\"\",H675<>\"\",I675<>\"\",J675<>\"\"),Data!L675-$F$4,\"\")","v":""},"","","","",{"$f":"IF(F675<>\"\",STDEV($Q$12:Q675),\"\")","v":""},""]
[665,null,{"$f":"RIGHT(Data!C676,10)","v":""},null,null,null,null,null,null,null,{"$f":"IFERROR($U$3*Data!O676/SQRT(COUNT(Data!F676:J676)),\"\")","v":""},"","","","","",{"$f":"IFERROR((Data!K676-$F$4),\"\")","v":""},{"$f":"IF(AND(F676<>\"\",G676<>\"\",H676<>\"\",I676<>\"\",J676<>\"\"),Data!L676-$F$4,\"\")","v":""},"","","","",{"$f":"IF(F676<>\"\",STDEV($Q$12:Q676),\"\")","v":""},""]
[666,null,{"$f":"RIGHT(Data!C677,10)","v":""},null,null,null,null,null,null,null,{"$f":"IFERROR($U$3*Data!O677/SQRT(COUNT(Data!F677:J677)),\"\")","v":""},"","","","","",{"$f":"IFERROR((Data!K677-$F$4),\"\")","v":""},{"$f":"IF(AND(F677<>\"\",G677<>\"\",H677<>\"\",I677<>\"\",J677<>\"\"),Data!L677-$F$4,\"\")","v":""},"","","","",{"$f":"IF(F677<>\"\",STDEV($Q$12:Q677),\"\")","v":""},""]
[667,null,{"$f":"RIGHT(Data!C678,10)","v":""},null,null,null,null,null,null,null,{"$f":"IFERROR($U$3*Data!O678/SQRT(COUNT(Data!F678:J678)),\"\")","v":""},"","","","","",{"$f":"IFERROR((Data!K678-$F$4),\"\")","v":""},{"$f":"IF(AND(F678<>\"\",G678<>\"\",H678<>\"\",I678<>\"\",J678<>\"\"),Data!L678-$F$4,\"\")","v":""},"","","","",{"$f":"IF(F678<>\"\",STDEV($Q$12:Q678),\"\")","v":""},""]
[668,null,{"$f":"RIGHT(Data!C679,10)","v":""},null,null,null,null,null,null,null,{"$f":"IFERROR($U$3*Data!O679/SQRT(COUNT(Data!F679:J679)),\"\")","v":""},"","","","","",{"$f":"IFERROR((Data!K679-$F$4),\"\")","v":""},{"$f":"IF(AND(F679<>\"\",G679<>\"\",H679<>\"\",I679<>\"\",J679<>\"\"),Data!L679-$F$4,\"\")","v":""},"","","","",{"$f":"IF(F679<>\"\",STDEV($Q$12:Q679),\"\")","v":""},""]
[669,null,{"$f":"RIGHT(Data!C680,10)","v":""},null,null,null,null,null,null,null,{"$f":"IFERROR($U$3*Data!O680/SQRT(COUNT(Data!F680:J680)),\"\")","v":""},"","","","","",{"$f":"IFERROR((Data!K680-$F$4),\"\")","v":""},{"$f":"IF(AND(F680<>\"\",G680<>\"\",H680<>\"\",I680<>\"\",J680<>\"\"),Data!L680-$F$4,\"\")","v":""},"","","","",{"$f":"IF(F680<>\"\",STDEV($Q$12:Q680),\"\")","v":""},""]
[670,null,{"$f":"RIGHT(Data!C681,10)","v":""},null,null,null,null,null,null,null,{"$f":"IFERROR($U$3*Data!O681/SQRT(COUNT(Data!F681:J681)),\"\")","v":""},"","","","","",{"$f":"IFERROR((Data!K681-$F$4),\"\")","v":""},{"$f":"IF(AND(F681<>\"\",G681<>\"\",H681<>\"\",I681<>\"\",J681<>\"\"),Data!L681-$F$4,\"\")","v":""},"","","","",{"$f":"IF(F681<>\"\",STDEV($Q$12:Q681),\"\")","v":""},""]
[671,null,{"$f":"RIGHT(Data!C682,10)","v":""},null,null,null,null,null,null,null,{"$f":"IFERROR($U$3*Data!O682/SQRT(COUNT(Data!F682:J682)),\"\")","v":""},"","","","","",{"$f":"IFERROR((Data!K682-$F$4),\"\")","v":""},{"$f":"IF(AND(F682<>\"\",G682<>\"\",H682<>\"\",I682<>\"\",J682<>\"\"),Data!L682-$F$4,\"\")","v":""},"","","","",{"$f":"IF(F682<>\"\",STDEV($Q$12:Q682),\"\")","v":""},""]
[672,null,{"$f":"RIGHT(Data!C683,10)","v":""},null,null,null,null,null,null,null,{"$f":"IFERROR($U$3*Data!O683/SQRT(COUNT(Data!F683:J683)),\"\")","v":""},"","","","","",{"$f":"IFERROR((Data!K683-$F$4),\"\")","v":""},{"$f":"IF(AND(F683<>\"\",G683<>\"\",H683<>\"\",I683<>\"\",J683<>\"\"),Data!L683-$F$4,\"\")","v":""},"","","","",{"$f":"IF(F683<>\"\",STDEV($Q$12:Q683),\"\")","v":""},""]
[673,null,{"$f":"RIGHT(Data!C684,10)","v":""},null,null,null,null,null,null,null,{"$f":"IFERROR($U$3*Data!O684/SQRT(COUNT(Data!F684:J684)),\"\")","v":""},"","","","","",{"$f":"IFERROR((Data!K684-$F$4),\"\")","v":""},{"$f":"IF(AND(F684<>\"\",G684<>\"\",H684<>\"\",I684<>\"\",J684<>\"\"),Data!L684-$F$4,\"\")","v":""},"","","","",{"$f":"IF(F684<>\"\",STDEV($Q$12:Q684),\"\")","v":""},""]
[674,null,{"$f":"RIGHT(Data!C685,10)","v":""},null,null,null,null,null,null,null,{"$f":"IFERROR($U$3*Data!O685/SQRT(COUNT(Data!F685:J685)),\"\")","v":""},"","","","","",{"$f":"IFERROR((Data!K685-$F$4),\"\")","v":""},{"$f":"IF(AND(F685<>\"\",G685<>\"\",H685<>\"\",I685<>\"\",J685<>\"\"),Data!L685-$F$4,\"\")","v":""},"","","","",{"$f":"IF(F685<>\"\",STDEV($Q$12:Q685),\"\")","v":""},""]
[675,null,{"$f":"RIGHT(Data!C686,10)","v":""},null,null,null,null,null,null,null,{"$f":"IFERROR($U$3*Data!O686/SQRT(COUNT(Data!F686:J686)),\"\")","v":""},"","","","","",{"$f":"IFERROR((Data!K686-$F$4),\"\")","v":""},{"$f":"IF(AND(F686<>\"\",G686<>\"\",H686<>\"\",I686<>\"\",J686<>\"\"),Data!L686-$F$4,\"\")","v":""},"","","","",{"$f":"IF(F686<>\"\",STDEV($Q$12:Q686),\"\")","v":""},""]
[676,null,{"$f":"RIGHT(Data!C687,10)","v":""},null,null,null,null,null,null,null,{"$f":"IFERROR($U$3*Data!O687/SQRT(COUNT(Data!F687:J687)),\"\")","v":""},"","","","","",{"$f":"IFERROR((Data!K687-$F$4),\"\")","v":""},{"$f":"IF(AND(F687<>\"\",G687<>\"\",H687<>\"\",I687<>\"\",J687<>\"\"),Data!L687-$F$4,\"\")","v":""},"","","","",{"$f":"IF(F687<>\"\",STDEV($Q$12:Q687),\"\")","v":""},""]
[677,null,{"$f":"RIGHT(Data!C688,10)","v":""},null,null,null,null,null,null,null,{"$f":"IFERROR($U$3*Data!O688/SQRT(COUNT(Data!F688:J688)),\"\")","v":""},"","","","","",{"$f":"IFERROR((Data!K688-$F$4),\"\")","v":""},{"$f":"IF(AND(F688<>\"\",G688<>\"\",H688<>\"\",I688<>\"\",J688<>\"\"),Data!L688-$F$4,\"\")","v":""},"","","","",{"$f":"IF(F688<>\"\",STDEV($Q$12:Q688),\"\")","v":""},""]
[678,null,{"$f":"RIGHT(Data!C689,10)","v":""},null,null,null,null,null,null,null,{"$f":"IFERROR($U$3*Data!O689/SQRT(COUNT(Data!F689:J689)),\"\")","v":""},"","","","","",{"$f":"IFERROR((Data!K689-$F$4),\"\")","v":""},{"$f":"IF(AND(F689<>\"\",G689<>\"\",H689<>\"\",I689<>\"\",J689<>\"\"),Data!L689-$F$4,\"\")","v":""},"","","","",{"$f":"IF(F689<>\"\",STDEV($Q$12:Q689),\"\")","v":""},""]
[679,null,{"$f":"RIGHT(Data!C690,10)","v":""},null,null,null,null,null,null,null,{"$f":"IFERROR($U$3*Data!O690/SQRT(COUNT(Data!F690:J690)),\"\")","v":""},"","","","","",{"$f":"IFERROR((Data!K690-$F$4),\"\")","v":""},{"$f":"IF(AND(F690<>\"\",G690<>\"\",H690<>\"\",I690<>\"\",J690<>\"\"),Data!L690-$F$4,\"\")","v":""},"","","","",{"$f":"IF(F690<>\"\",STDEV($Q$12:Q690),\"\")","v":""},""]
[680,null,{"$f":"RIGHT(Data!C691,10)","v":""},null,null,null,null,null,null,null,{"$f":"IFERROR($U$3*Data!O691/SQRT(COUNT(Data!F691:J691)),\"\")","v":""},"","","","","",{"$f":"IFERROR((Data!K691-$F$4),\"\")","v":""},{"$f":"IF(AND(F691<>\"\",G691<>\"\",H691<>\"\",I691<>\"\",J691<>\"\"),Data!L691-$F$4,\"\")","v":""},"","","","",{"$f":"IF(F691<>\"\",STDEV($Q$12:Q691),\"\")","v":""},""]
[681,null,{"$f":"RIGHT(Data!C692,10)","v":""},null,null,null,null,null,null,null,{"$f":"IFERROR($U$3*Data!O692/SQRT(COUNT(Data!F692:J692)),\"\")","v":""},"","","","","",{"$f":"IFERROR((Data!K692-$F$4),\"\")","v":""},{"$f":"IF(AND(F692<>\"\",G692<>\"\",H692<>\"\",I692<>\"\",J692<>\"\"),Data!L692-$F$4,\"\")","v":""},"","","","",{"$f":"IF(F692<>\"\",STDEV($Q$12:Q692),\"\")","v":""},""]
[682,null,{"$f":"RIGHT(Data!C693,10)","v":""},null,null,null,null,null,null,null,{"$f":"IFERROR($U$3*Data!O693/SQRT(COUNT(Data!F693:J693)),\"\")","v":""},"","","","","",{"$f":"IFERROR((Data!K693-$F$4),\"\")","v":""},{"$f":"IF(AND(F693<>\"\",G693<>\"\",H693<>\"\",I693<>\"\",J693<>\"\"),Data!L693-$F$4,\"\")","v":""},"","","","",{"$f":"IF(F693<>\"\",STDEV($Q$12:Q693),\"\")","v":""},""]
[683,null,{"$f":"RIGHT(Data!C694,10)","v":""},null,null,null,null,null,null,null,{"$f":"IFERROR($U$3*Data!O694/SQRT(COUNT(Data!F694:J694)),\"\")","v":""},"","","","","",{"$f":"IFERROR((Data!K694-$F$4),\"\")","v":""},{"$f":"IF(AND(F694<>\"\",G694<>\"\",H694<>\"\",I694<>\"\",J694<>\"\"),Data!L694-$F$4,\"\")","v":""},"","","","",{"$f":"IF(F694<>\"\",STDEV($Q$12:Q694),\"\")","v":""},""]
[684,null,{"$f":"RIGHT(Data!C695,10)","v":""},null,null,null,null,null,null,null,{"$f":"IFERROR($U$3*Data!O695/SQRT(COUNT(Data!F695:J695)),\"\")","v":""},"","","","","",{"$f":"IFERROR((Data!K695-$F$4),\"\")","v":""},{"$f":"IF(AND(F695<>\"\",G695<>\"\",H695<>\"\",I695<>\"\",J695<>\"\"),Data!L695-$F$4,\"\")","v":""},"","","","",{"$f":"IF(F695<>\"\",STDEV($Q$12:Q695),\"\")","v":""},""]
[685,null,{"$f":"RIGHT(Data!C696,10)","v":""},null,null,null,null,null,null,null,{"$f":"IFERROR($U$3*Data!O696/SQRT(COUNT(Data!F696:J696)),\"\")","v":""},"","","","","",{"$f":"IFERROR((Data!K696-$F$4),\"\")","v":""},{"$f":"IF(AND(F696<>\"\",G696<>\"\",H696<>\"\",I696<>\"\",J696<>\"\"),Data!L696-$F$4,\"\")","v":""},"","","","",{"$f":"IF(F696<>\"\",STDEV($Q$12:Q696),\"\")","v":""},""]
[686,null,{"$f":"RIGHT(Data!C697,10)","v":""},null,null,null,null,null,null,null,{"$f":"IFERROR($U$3*Data!O697/SQRT(COUNT(Data!F697:J697)),\"\")","v":""},"","","","","",{"$f":"IFERROR((Data!K697-$F$4),\"\")","v":""},{"$f":"IF(AND(F697<>\"\",G697<>\"\",H697<>\"\",I697<>\"\",J697<>\"\"),Data!L697-$F$4,\"\")","v":""},"","","","",{"$f":"IF(F697<>\"\",STDEV($Q$12:Q697),\"\")","v":""},""]
[687,null,{"$f":"RIGHT(Data!C698,10)","v":""},null,null,null,null,null,null,null,{"$f":"IFERROR($U$3*Data!O698/SQRT(COUNT(Data!F698:J698)),\"\")","v":""},"","","","","",{"$f":"IFERROR((Data!K698-$F$4),\"\")","v":""},{"$f":"IF(AND(F698<>\"\",G698<>\"\",H698<>\"\",I698<>\"\",J698<>\"\"),Data!L698-$F$4,\"\")","v":""},"","","","",{"$f":"IF(F698<>\"\",STDEV($Q$12:Q698),\"\")","v":""},""]
[688,null,{"$f":"RIGHT(Data!C699,10)","v":""},null,null,null,null,null,null,null,{"$f":"IFERROR($U$3*Data!O699/SQRT(COUNT(Data!F699:J699)),\"\")","v":""},"","","","","",{"$f":"IFERROR((Data!K699-$F$4),\"\")","v":""},{"$f":"IF(AND(F699<>\"\",G699<>\"\",H699<>\"\",I699<>\"\",J699<>\"\"),Data!L699-$F$4,\"\")","v":""},"","","","",{"$f":"IF(F699<>\"\",STDEV($Q$12:Q699),\"\")","v":""},""]
[689,null,{"$f":"RIGHT(Data!C700,10)","v":""},null,null,null,null,null,null,null,{"$f":"IFERROR($U$3*Data!O700/SQRT(COUNT(Data!F700:J700)),\"\")","v":""},"","","","","",{"$f":"IFERROR((Data!K700-$F$4),\"\")","v":""},{"$f":"IF(AND(F700<>\"\",G700<>\"\",H700<>\"\",I700<>\"\",J700<>\"\"),Data!L700-$F$4,\"\")","v":""},"","","","",{"$f":"IF(F700<>\"\",STDEV($Q$12:Q700),\"\")","v":""},""]
[690,null,{"$f":"RIGHT(Data!C701,10)","v":""},null,null,null,null,null,null,null,{"$f":"IFERROR($U$3*Data!O701/SQRT(COUNT(Data!F701:J701)),\"\")","v":""},"","","","","",{"$f":"IFERROR((Data!K701-$F$4),\"\")","v":""},{"$f":"IF(AND(F701<>\"\",G701<>\"\",H701<>\"\",I701<>\"\",J701<>\"\"),Data!L701-$F$4,\"\")","v":""},"","","","",{"$f":"IF(F701<>\"\",STDEV($Q$12:Q701),\"\")","v":""},""]
[691,null,{"$f":"RIGHT(Data!C702,10)","v":""},null,null,null,null,null,null,null,{"$f":"IFERROR($U$3*Data!O702/SQRT(COUNT(Data!F702:J702)),\"\")","v":""},"","","","","",{"$f":"IFERROR((Data!K702-$F$4),\"\")","v":""},{"$f":"IF(AND(F702<>\"\",G702<>\"\",H702<>\"\",I702<>\"\",J702<>\"\"),Data!L702-$F$4,\"\")","v":""},"","","","",{"$f":"IF(F702<>\"\",STDEV($Q$12:Q702),\"\")","v":""},""]
[692,null,{"$f":"RIGHT(Data!C703,10)","v":""},null,null,null,null,null,null,null,{"$f":"IFERROR($U$3*Data!O703/SQRT(COUNT(Data!F703:J703)),\"\")","v":""},"","","","","",{"$f":"IFERROR((Data!K703-$F$4),\"\")","v":""},{"$f":"IF(AND(F703<>\"\",G703<>\"\",H703<>\"\",I703<>\"\",J703<>\"\"),Data!L703-$F$4,\"\")","v":""},"","","","",{"$f":"IF(F703<>\"\",STDEV($Q$12:Q703),\"\")","v":""},""]
[693,null,{"$f":"RIGHT(Data!C704,10)","v":""},null,null,null,null,null,null,null,{"$f":"IFERROR($U$3*Data!O704/SQRT(COUNT(Data!F704:J704)),\"\")","v":""},"","","","","",{"$f":"IFERROR((Data!K704-$F$4),\"\")","v":""},{"$f":"IF(AND(F704<>\"\",G704<>\"\",H704<>\"\",I704<>\"\",J704<>\"\"),Data!L704-$F$4,\"\")","v":""},"","","","",{"$f":"IF(F704<>\"\",STDEV($Q$12:Q704),\"\")","v":""},""]
[694,null,{"$f":"RIGHT(Data!C705,10)","v":""},null,null,null,null,null,null,null,{"$f":"IFERROR($U$3*Data!O705/SQRT(COUNT(Data!F705:J705)),\"\")","v":""},"","","","","",{"$f":"IFERROR((Data!K705-$F$4),\"\")","v":""},{"$f":"IF(AND(F705<>\"\",G705<>\"\",H705<>\"\",I705<>\"\",J705<>\"\"),Data!L705-$F$4,\"\")","v":""},"","","","",{"$f":"IF(F705<>\"\",STDEV($Q$12:Q705),\"\")","v":""},""]
[695,null,{"$f":"RIGHT(Data!C706,10)","v":""},null,null,null,null,null,null,null,{"$f":"IFERROR($U$3*Data!O706/SQRT(COUNT(Data!F706:J706)),\"\")","v":""},"","","","","",{"$f":"IFERROR((Data!K706-$F$4),\"\")","v":""},{"$f":"IF(AND(F706<>\"\",G706<>\"\",H706<>\"\",I706<>\"\",J706<>\"\"),Data!L706-$F$4,\"\")","v":""},"","","","",{"$f":"IF(F706<>\"\",STDEV($Q$12:Q706),\"\")","v":""},""]
[696,null,{"$f":"RIGHT(Data!C707,10)","v":""},null,null,null,null,null,null,null,{"$f":"IFERROR($U$3*Data!O707/SQRT(COUNT(Data!F707:J707)),\"\")","v":""},"","","","","",{"$f":"IFERROR((Data!K707-$F$4),\"\")","v":""},{"$f":"IF(AND(F707<>\"\",G707<>\"\",H707<>\"\",I707<>\"\",J707<>\"\"),Data!L707-$F$4,\"\")","v":""},"","","","",{"$f":"IF(F707<>\"\",STDEV($Q$12:Q707),\"\")","v":""},""]
[697,null,{"$f":"RIGHT(Data!C708,10)","v":""},null,null,null,null,null,null,null,{"$f":"IFERROR($U$3*Data!O708/SQRT(COUNT(Data!F708:J708)),\"\")","v":""},"","","","","",{"$f":"IFERROR((Data!K708-$F$4),\"\")","v":""},{"$f":"IF(AND(F708<>\"\",G708<>\"\",H708<>\"\",I708<>\"\",J708<>\"\"),Data!L708-$F$4,\"\")","v":""},"","","","",{"$f":"IF(F708<>\"\",STDEV($Q$12:Q708),\"\")","v":""},""]
[698,null,{"$f":"RIGHT(Data!C709,10)","v":""},null,null,null,null,null,null,null,{"$f":"IFERROR($U$3*Data!O709/SQRT(COUNT(Data!F709:J709)),\"\")","v":""},"","","","","",{"$f":"IFERROR((Data!K709-$F$4),\"\")","v":""},{"$f":"IF(AND(F709<>\"\",G709<>\"\",H709<>\"\",I709<>\"\",J709<>\"\"),Data!L709-$F$4,\"\")","v":""},"","","","",{"$f":"IF(F709<>\"\",STDEV($Q$12:Q709),\"\")","v":""},""]
[699,null,{"$f":"RIGHT(Data!C710,10)","v":""},null,null,null,null,null,null,null,{"$f":"IFERROR($U$3*Data!O710/SQRT(COUNT(Data!F710:J710)),\"\")","v":""},"","","","","",{"$f":"IFERROR((Data!K710-$F$4),\"\")","v":""},{"$f":"IF(AND(F710<>\"\",G710<>\"\",H710<>\"\",I710<>\"\",J710<>\"\"),Data!L710-$F$4,\"\")","v":""},"","","","",{"$f":"IF(F710<>\"\",STDEV($Q$12:Q710),\"\")","v":""},""]
[700,null,{"$f":"RIGHT(Data!C711,10)","v":""},null,null,null,null,null,null,null,{"$f":"IFERROR($U$3*Data!O711/SQRT(COUNT(Data!F711:J711)),\"\")","v":""},"","","","","",{"$f":"IFERROR((Data!K711-$F$4),\"\")","v":""},{"$f":"IF(AND(F711<>\"\",G711<>\"\",H711<>\"\",I711<>\"\",J711<>\"\"),Data!L711-$F$4,\"\")","v":""},"","","","",{"$f":"IF(F711<>\"\",STDEV($Q$12:Q711),\"\")","v":""},""]
[701,null,{"$f":"RIGHT(Data!C712,10)","v":""},null,null,null,null,null,null,null,{"$f":"IFERROR($U$3*Data!O712/SQRT(COUNT(Data!F712:J712)),\"\")","v":""},"","","","","",{"$f":"IFERROR((Data!K712-$F$4),\"\")","v":""},{"$f":"IF(AND(F712<>\"\",G712<>\"\",H712<>\"\",I712<>\"\",J712<>\"\"),Data!L712-$F$4,\"\")","v":""},"","","","",{"$f":"IF(F712<>\"\",STDEV($Q$12:Q712),\"\")","v":""},""]
[702,null,{"$f":"RIGHT(Data!C713,10)","v":""},null,null,null,null,null,null,null,{"$f":"IFERROR($U$3*Data!O713/SQRT(COUNT(Data!F713:J713)),\"\")","v":""},"","","","","",{"$f":"IFERROR((Data!K713-$F$4),\"\")","v":""},{"$f":"IF(AND(F713<>\"\",G713<>\"\",H713<>\"\",I713<>\"\",J713<>\"\"),Data!L713-$F$4,\"\")","v":""},"","","","",{"$f":"IF(F713<>\"\",STDEV($Q$12:Q713),\"\")","v":""},""]
[703,null,{"$f":"RIGHT(Data!C714,10)","v":""},null,null,null,null,null,null,null,{"$f":"IFERROR($U$3*Data!O714/SQRT(COUNT(Data!F714:J714)),\"\")","v":""},"","","","","",{"$f":"IFERROR((Data!K714-$F$4),\"\")","v":""},{"$f":"IF(AND(F714<>\"\",G714<>\"\",H714<>\"\",I714<>\"\",J714<>\"\"),Data!L714-$F$4,\"\")","v":""},"","","","",{"$f":"IF(F714<>\"\",STDEV($Q$12:Q714),\"\")","v":""},""]
[704,null,{"$f":"RIGHT(Data!C715,10)","v":""},null,null,null,null,null,null,null,{"$f":"IFERROR($U$3*Data!O715/SQRT(COUNT(Data!F715:J715)),\"\")","v":""},"","","","","",{"$f":"IFERROR((Data!K715-$F$4),\"\")","v":""},{"$f":"IF(AND(F715<>\"\",G715<>\"\",H715<>\"\",I715<>\"\",J715<>\"\"),Data!L715-$F$4,\"\")","v":""},"","","","",{"$f":"IF(F715<>\"\",STDEV($Q$12:Q715),\"\")","v":""},""]
[705,null,{"$f":"RIGHT(Data!C716,10)","v":""},null,null,null,null,null,null,null,{"$f":"IFERROR($U$3*Data!O716/SQRT(COUNT(Data!F716:J716)),\"\")","v":""},"","",{"$f":"IF(COUNT(F716:J716)>=5,STDEV(F716:J716)*$U$3/SQRT((COUNT(F716:J716))),\"\")","v":""},"","",{"$f":"IFERROR((Data!K716-$F$4),\"\")","v":""},{"$f":"IF(AND(F716<>\"\",G716<>\"\",H716<>\"\",I716<>\"\",J716<>\"\"),Data!L716-$F$4,\"\")","v":""},{"$f":"IF(O716<>\"\",FIXED(X716,1) & \" ± \" & FIXED(O716+ABS(R716),2),\"\")","v":""},"","","",{"$f":"IF(F716<>\"\",STDEV($Q$12:Q716),\"\")","v":""},{"$f":"IF(F716<>\"\",AVERAGE(F716:J716),\"\")","v":""}]
[706,null,{"$f":"RIGHT(Data!C717,10)","v":""},null,null,null,null,null,null,null,{"$f":"IFERROR($U$3*Data!O717/SQRT(COUNT(Data!F717:J717)),\"\")","v":""},{"$f":"IF(F717<>\"\",V717*W717/SQRT(A717),\"\")","v":""},{"$f":"IF(F717<>\"\",$U$4*SQRT($U$7^2+L717^2+K717^2+$U$5^2),\"\")","v":""},"",{"$f":"IFERROR($U$4*SQRT($U$7^2+L717^2+K717^2+$U$5^2+N717^2),\"\")","v":""},{"$f":"IF(AND(F717<>\"\",G717<>\"\",H717<>\"\",I717<>\"\",J717<>\"\"),AVERAGE(F717:J717),\"\")","v":""},{"$f":"IFERROR((Data!K717-$F$4),\"\")","v":""},{"$f":"IF(AND(F717<>\"\",G717<>\"\",H717<>\"\",I717<>\"\",J717<>\"\"),Data!L717-$F$4,\"\")","v":""},"",{"$f":"IF(F717<>\"\",FIXED(AVERAGE(F717:J717)-R717,1) & \" ± \" & FIXED(O717,2),\"\")","v":""},{"$f":"IF(IO717=\"\",\"\",IO717-1)","v":""},{"$f":"IF(F717<>\"\",TINV(1-0.68,A717-1),\"\")","v":""},{"$f":"IF(F717<>\"\",STDEV($Q$12:Q717),\"\")","v":""},""]
[707,null,{"$f":"RIGHT(Data!C718,10)","v":""},null,null,null,null,null,null,null,{"$f":"IFERROR($U$3*Data!O718/SQRT(COUNT(Data!F718:J718)),\"\")","v":""},"","","","","",{"$f":"IFERROR((Data!K718-$F$4),\"\")","v":""},{"$f":"IF(AND(F718<>\"\",G718<>\"\",H718<>\"\",I718<>\"\",J718<>\"\"),Data!L718-$F$4,\"\")","v":""},"","","","",{"$f":"IF(F718<>\"\",STDEV($Q$12:Q718),\"\")","v":""},""]
[708,null,{"$f":"RIGHT(Data!C719,10)","v":""},null,null,null,null,null,null,null,{"$f":"IFERROR($U$3*Data!O719/SQRT(COUNT(Data!F719:J719)),\"\")","v":""},"","","","","",{"$f":"IFERROR((Data!K719-$F$4),\"\")","v":""},{"$f":"IF(AND(F719<>\"\",G719<>\"\",H719<>\"\",I719<>\"\",J719<>\"\"),Data!L719-$F$4,\"\")","v":""},"","","","",{"$f":"IF(F719<>\"\",STDEV($Q$12:Q719),\"\")","v":""},""]
[709,null,{"$f":"RIGHT(Data!C720,10)","v":""},null,null,null,null,null,null,null,{"$f":"IFERROR($U$3*Data!O720/SQRT(COUNT(Data!F720:J720)),\"\")","v":""},"","","","","",{"$f":"IFERROR((Data!K720-$F$4),\"\")","v":""},{"$f":"IF(AND(F720<>\"\",G720<>\"\",H720<>\"\",I720<>\"\",J720<>\"\"),Data!L720-$F$4,\"\")","v":""},"","","","",{"$f":"IF(F720<>\"\",STDEV($Q$12:Q720),\"\")","v":""},""]
[710,null,{"$f":"RIGHT(Data!C721,10)","v":""},null,null,null,null,null,null,null,{"$f":"IFERROR($U$3*Data!O721/SQRT(COUNT(Data!F721:J721)),\"\")","v":""},"","","","","",{"$f":"IFERROR((Data!K721-$F$4),\"\")","v":""},{"$f":"IF(AND(F721<>\"\",G721<>\"\",H721<>\"\",I721<>\"\",J721<>\"\"),Data!L721-$F$4,\"\")","v":""},"","","","",{"$f":"IF(F721<>\"\",STDEV($Q$12:Q721),\"\")","v":""},""]
[711,null,{"$f":"RIGHT(Data!C722,10)","v":""},null,null,null,null,null,null,null,{"$f":"IFERROR($U$3*Data!O722/SQRT(COUNT(Data!F722:J722)),\"\")","v":""},"","","","","",{"$f":"IFERROR((Data!K722-$F$4),\"\")","v":""},{"$f":"IF(AND(F722<>\"\",G722<>\"\",H722<>\"\",I722<>\"\",J722<>\"\"),Data!L722-$F$4,\"\")","v":""},"","","","",{"$f":"IF(F722<>\"\",STDEV($Q$12:Q722),\"\")","v":""},""]
[712,null,{"$f":"RIGHT(Data!C723,10)","v":""},null,null,null,null,null,null,null,{"$f":"IFERROR($U$3*Data!O723/SQRT(COUNT(Data!F723:J723)),\"\")","v":""},"","","","","",{"$f":"IFERROR((Data!K723-$F$4),\"\")","v":""},{"$f":"IF(AND(F723<>\"\",G723<>\"\",H723<>\"\",I723<>\"\",J723<>\"\"),Data!L723-$F$4,\"\")","v":""},"","","","",{"$f":"IF(F723<>\"\",STDEV($Q$12:Q723),\"\")","v":""},""]
[713,null,{"$f":"RIGHT(Data!C724,10)","v":""},null,null,null,null,null,null,null,{"$f":"IFERROR($U$3*Data!O724/SQRT(COUNT(Data!F724:J724)),\"\")","v":""},"","","","","",{"$f":"IFERROR((Data!K724-$F$4),\"\")","v":""},{"$f":"IF(AND(F724<>\"\",G724<>\"\",H724<>\"\",I724<>\"\",J724<>\"\"),Data!L724-$F$4,\"\")","v":""},"","","","",{"$f":"IF(F724<>\"\",STDEV($Q$12:Q724),\"\")","v":""},""]
[714,null,{"$f":"RIGHT(Data!C725,10)","v":""},null,null,null,null,null,null,null,{"$f":"IFERROR($U$3*Data!O725/SQRT(COUNT(Data!F725:J725)),\"\")","v":""},"","","","","",{"$f":"IFERROR((Data!K725-$F$4),\"\")","v":""},{"$f":"IF(AND(F725<>\"\",G725<>\"\",H725<>\"\",I725<>\"\",J725<>\"\"),Data!L725-$F$4,\"\")","v":""},"","","","",{"$f":"IF(F725<>\"\",STDEV($Q$12:Q725),\"\")","v":""},""]
[715,null,{"$f":"RIGHT(Data!C726,10)","v":""},null,null,null,null,null,null,null,{"$f":"IFERROR($U$3*Data!O726/SQRT(COUNT(Data!F726:J726)),\"\")","v":""},"","","","","",{"$f":"IFERROR((Data!K726-$F$4),\"\")","v":""},{"$f":"IF(AND(F726<>\"\",G726<>\"\",H726<>\"\",I726<>\"\",J726<>\"\"),Data!L726-$F$4,\"\")","v":""},"","","","",{"$f":"IF(F726<>\"\",STDEV($Q$12:Q726),\"\")","v":""},""]
[716,null,{"$f":"RIGHT(Data!C727,10)","v":""},null,null,null,null,null,null,null,{"$f":"IFERROR($U$3*Data!O727/SQRT(COUNT(Data!F727:J727)),\"\")","v":""},"","","","","",{"$f":"IFERROR((Data!K727-$F$4),\"\")","v":""},{"$f":"IF(AND(F727<>\"\",G727<>\"\",H727<>\"\",I727<>\"\",J727<>\"\"),Data!L727-$F$4,\"\")","v":""},"","","","",{"$f":"IF(F727<>\"\",STDEV($Q$12:Q727),\"\")","v":""},""]
[717,null,{"$f":"RIGHT(Data!C728,10)","v":""},null,null,null,null,null,null,null,{"$f":"IFERROR($U$3*Data!O728/SQRT(COUNT(Data!F728:J728)),\"\")","v":""},"","","","","",{"$f":"IFERROR((Data!K728-$F$4),\"\")","v":""},{"$f":"IF(AND(F728<>\"\",G728<>\"\",H728<>\"\",I728<>\"\",J728<>\"\"),Data!L728-$F$4,\"\")","v":""},"","","","",{"$f":"IF(F728<>\"\",STDEV($Q$12:Q728),\"\")","v":""},""]
[718,null,{"$f":"RIGHT(Data!C729,10)","v":""},null,null,null,null,null,null,null,{"$f":"IFERROR($U$3*Data!O729/SQRT(COUNT(Data!F729:J729)),\"\")","v":""},"","","","","",{"$f":"IFERROR((Data!K729-$F$4),\"\")","v":""},{"$f":"IF(AND(F729<>\"\",G729<>\"\",H729<>\"\",I729<>\"\",J729<>\"\"),Data!L729-$F$4,\"\")","v":""},"","","","",{"$f":"IF(F729<>\"\",STDEV($Q$12:Q729),\"\")","v":""},""]
[719,null,{"$f":"RIGHT(Data!C730,10)","v":""},null,null,null,null,null,null,null,{"$f":"IFERROR($U$3*Data!O730/SQRT(COUNT(Data!F730:J730)),\"\")","v":""},"","","","","",{"$f":"IFERROR((Data!K730-$F$4),\"\")","v":""},{"$f":"IF(AND(F730<>\"\",G730<>\"\",H730<>\"\",I730<>\"\",J730<>\"\"),Data!L730-$F$4,\"\")","v":""},"","","","",{"$f":"IF(F730<>\"\",STDEV($Q$12:Q730),\"\")","v":""},""]
[720,null,{"$f":"RIGHT(Data!C731,10)","v":""},null,null,null,null,null,null,null,{"$f":"IFERROR($U$3*Data!O731/SQRT(COUNT(Data!F731:J731)),\"\")","v":""},"","","","","",{"$f":"IFERROR((Data!K731-$F$4),\"\")","v":""},{"$f":"IF(AND(F731<>\"\",G731<>\"\",H731<>\"\",I731<>\"\",J731<>\"\"),Data!L731-$F$4,\"\")","v":""},"","","","",{"$f":"IF(F731<>\"\",STDEV($Q$12:Q731),\"\")","v":""},""]
[721,null,{"$f":"RIGHT(Data!C732,10)","v":""},null,null,null,null,null,null,null,{"$f":"IFERROR($U$3*Data!O732/SQRT(COUNT(Data!F732:J732)),\"\")","v":""},"","","","","",{"$f":"IFERROR((Data!K732-$F$4),\"\")","v":""},{"$f":"IF(AND(F732<>\"\",G732<>\"\",H732<>\"\",I732<>\"\",J732<>\"\"),Data!L732-$F$4,\"\")","v":""},"","","","",{"$f":"IF(F732<>\"\",STDEV($Q$12:Q732),\"\")","v":""},""]
[722,null,{"$f":"RIGHT(Data!C733,10)","v":""},null,null,null,null,null,null,null,{"$f":"IFERROR($U$3*Data!O733/SQRT(COUNT(Data!F733:J733)),\"\")","v":""},"","","","","",{"$f":"IFERROR((Data!K733-$F$4),\"\")","v":""},{"$f":"IF(AND(F733<>\"\",G733<>\"\",H733<>\"\",I733<>\"\",J733<>\"\"),Data!L733-$F$4,\"\")","v":""},"","","","",{"$f":"IF(F733<>\"\",STDEV($Q$12:Q733),\"\")","v":""},""]
[723,null,{"$f":"RIGHT(Data!C734,10)","v":""},null,null,null,null,null,null,null,{"$f":"IFERROR($U$3*Data!O734/SQRT(COUNT(Data!F734:J734)),\"\")","v":""},"","","","","",{"$f":"IFERROR((Data!K734-$F$4),\"\")","v":""},{"$f":"IF(AND(F734<>\"\",G734<>\"\",H734<>\"\",I734<>\"\",J734<>\"\"),Data!L734-$F$4,\"\")","v":""},"","","","",{"$f":"IF(F734<>\"\",STDEV($Q$12:Q734),\"\")","v":""},""]
[724,null,{"$f":"RIGHT(Data!C735,10)","v":""},null,null,null,null,null,null,null,{"$f":"IFERROR($U$3*Data!O735/SQRT(COUNT(Data!F735:J735)),\"\")","v":""},"","","","","",{"$f":"IFERROR((Data!K735-$F$4),\"\")","v":""},{"$f":"IF(AND(F735<>\"\",G735<>\"\",H735<>\"\",I735<>\"\",J735<>\"\"),Data!L735-$F$4,\"\")","v":""},"","","","",{"$f":"IF(F735<>\"\",STDEV($Q$12:Q735),\"\")","v":""},""]
[725,null,{"$f":"RIGHT(Data!C736,10)","v":""},null,null,null,null,null,null,null,{"$f":"IFERROR($U$3*Data!O736/SQRT(COUNT(Data!F736:J736)),\"\")","v":""},"","","","","",{"$f":"IFERROR((Data!K736-$F$4),\"\")","v":""},{"$f":"IF(AND(F736<>\"\",G736<>\"\",H736<>\"\",I736<>\"\",J736<>\"\"),Data!L736-$F$4,\"\")","v":""},"","","","",{"$f":"IF(F736<>\"\",STDEV($Q$12:Q736),\"\")","v":""},""]
[726,null,{"$f":"RIGHT(Data!C737,10)","v":""},null,null,null,null,null,null,null,{"$f":"IFERROR($U$3*Data!O737/SQRT(COUNT(Data!F737:J737)),\"\")","v":""},"","","","","",{"$f":"IFERROR((Data!K737-$F$4),\"\")","v":""},{"$f":"IF(AND(F737<>\"\",G737<>\"\",H737<>\"\",I737<>\"\",J737<>\"\"),Data!L737-$F$4,\"\")","v":""},"","","","",{"$f":"IF(F737<>\"\",STDEV($Q$12:Q737),\"\")","v":""},""]
[727,null,{"$f":"RIGHT(Data!C738,10)","v":""},null,null,null,null,null,null,null,{"$f":"IFERROR($U$3*Data!O738/SQRT(COUNT(Data!F738:J738)),\"\")","v":""},"","","","","",{"$f":"IFERROR((Data!K738-$F$4),\"\")","v":""},{"$f":"IF(AND(F738<>\"\",G738<>\"\",H738<>\"\",I738<>\"\",J738<>\"\"),Data!L738-$F$4,\"\")","v":""},"","","","",{"$f":"IF(F738<>\"\",STDEV($Q$12:Q738),\"\")","v":""},""]
[728,null,{"$f":"RIGHT(Data!C739,10)","v":""},null,null,null,null,null,null,null,{"$f":"IFERROR($U$3*Data!O739/SQRT(COUNT(Data!F739:J739)),\"\")","v":""},"","","","","",{"$f":"IFERROR((Data!K739-$F$4),\"\")","v":""},{"$f":"IF(AND(F739<>\"\",G739<>\"\",H739<>\"\",I739<>\"\",J739<>\"\"),Data!L739-$F$4,\"\")","v":""},"","","","",{"$f":"IF(F739<>\"\",STDEV($Q$12:Q739),\"\")","v":""},""]
[729,null,{"$f":"RIGHT(Data!C740,10)","v":""},null,null,null,null,null,null,null,{"$f":"IFERROR($U$3*Data!O740/SQRT(COUNT(Data!F740:J740)),\"\")","v":""},"","","","","",{"$f":"IFERROR((Data!K740-$F$4),\"\")","v":""},{"$f":"IF(AND(F740<>\"\",G740<>\"\",H740<>\"\",I740<>\"\",J740<>\"\"),Data!L740-$F$4,\"\")","v":""},"","","","",{"$f":"IF(F740<>\"\",STDEV($Q$12:Q740),\"\")","v":""},""]
[730,null,{"$f":"RIGHT(Data!C741,10)","v":""},null,null,null,null,null,null,null,{"$f":"IFERROR($U$3*Data!O741/SQRT(COUNT(Data!F741:J741)),\"\")","v":""},"","","","","",{"$f":"IFERROR((Data!K741-$F$4),\"\")","v":""},{"$f":"IF(AND(F741<>\"\",G741<>\"\",H741<>\"\",I741<>\"\",J741<>\"\"),Data!L741-$F$4,\"\")","v":""},"","","","",{"$f":"IF(F741<>\"\",STDEV($Q$12:Q741),\"\")","v":""},""]
[731,null,{"$f":"RIGHT(Data!C742,10)","v":""},null,null,null,null,null,null,null,{"$f":"IFERROR($U$3*Data!O742/SQRT(COUNT(Data!F742:J742)),\"\")","v":""},"","","","","",{"$f":"IFERROR((Data!K742-$F$4),\"\")","v":""},{"$f":"IF(AND(F742<>\"\",G742<>\"\",H742<>\"\",I742<>\"\",J742<>\"\"),Data!L742-$F$4,\"\")","v":""},"","","","",{"$f":"IF(F742<>\"\",STDEV($Q$12:Q742),\"\")","v":""},""]
[732,null,{"$f":"RIGHT(Data!C743,10)","v":""},null,null,null,null,null,null,null,{"$f":"IFERROR($U$3*Data!O743/SQRT(COUNT(Data!F743:J743)),\"\")","v":""},"","","","","",{"$f":"IFERROR((Data!K743-$F$4),\"\")","v":""},{"$f":"IF(AND(F743<>\"\",G743<>\"\",H743<>\"\",I743<>\"\",J743<>\"\"),Data!L743-$F$4,\"\")","v":""},"","","","",{"$f":"IF(F743<>\"\",STDEV($Q$12:Q743),\"\")","v":""},""]
[733,null,{"$f":"RIGHT(Data!C744,10)","v":""},null,null,null,null,null,null,null,{"$f":"IFERROR($U$3*Data!O744/SQRT(COUNT(Data!F744:J744)),\"\")","v":""},"","","","","",{"$f":"IFERROR((Data!K744-$F$4),\"\")","v":""},{"$f":"IF(AND(F744<>\"\",G744<>\"\",H744<>\"\",I744<>\"\",J744<>\"\"),Data!L744-$F$4,\"\")","v":""},"","","","",{"$f":"IF(F744<>\"\",STDEV($Q$12:Q744),\"\")","v":""},""]
[734,null,{"$f":"RIGHT(Data!C745,10)","v":""},null,null,null,null,null,null,null,{"$f":"IFERROR($U$3*Data!O745/SQRT(COUNT(Data!F745:J745)),\"\")","v":""},"","","","","",{"$f":"IFERROR((Data!K745-$F$4),\"\")","v":""},{"$f":"IF(AND(F745<>\"\",G745<>\"\",H745<>\"\",I745<>\"\",J745<>\"\"),Data!L745-$F$4,\"\")","v":""},"","","","",{"$f":"IF(F745<>\"\",STDEV($Q$12:Q745),\"\")","v":""},""]
[735,null,{"$f":"RIGHT(Data!C746,10)","v":""},null,null,null,null,null,null,null,{"$f":"IFERROR($U$3*Data!O746/SQRT(COUNT(Data!F746:J746)),\"\")","v":""},"","","","","",{"$f":"IFERROR((Data!K746-$F$4),\"\")","v":""},{"$f":"IF(AND(F746<>\"\",G746<>\"\",H746<>\"\",I746<>\"\",J746<>\"\"),Data!L746-$F$4,\"\")","v":""},"","","","",{"$f":"IF(F746<>\"\",STDEV($Q$12:Q746),\"\")","v":""},""]
[736,null,{"$f":"RIGHT(Data!C747,10)","v":""},null,null,null,null,null,null,null,{"$f":"IFERROR($U$3*Data!O747/SQRT(COUNT(Data!F747:J747)),\"\")","v":""},"","","","","",{"$f":"IFERROR((Data!K747-$F$4),\"\")","v":""},{"$f":"IF(AND(F747<>\"\",G747<>\"\",H747<>\"\",I747<>\"\",J747<>\"\"),Data!L747-$F$4,\"\")","v":""},"","","","",{"$f":"IF(F747<>\"\",STDEV($Q$12:Q747),\"\")","v":""},""]
[737,null,{"$f":"RIGHT(Data!C748,10)","v":""},null,null,null,null,null,null,null,{"$f":"IFERROR($U$3*Data!O748/SQRT(COUNT(Data!F748:J748)),\"\")","v":""},"","","","","",{"$f":"IFERROR((Data!K748-$F$4),\"\")","v":""},{"$f":"IF(AND(F748<>\"\",G748<>\"\",H748<>\"\",I748<>\"\",J748<>\"\"),Data!L748-$F$4,\"\")","v":""},"","","","",{"$f":"IF(F748<>\"\",STDEV($Q$12:Q748),\"\")","v":""},""]
[738,null,{"$f":"RIGHT(Data!C749,10)","v":""},null,null,null,null,null,null,null,{"$f":"IFERROR($U$3*Data!O749/SQRT(COUNT(Data!F749:J749)),\"\")","v":""},"","","","","",{"$f":"IFERROR((Data!K749-$F$4),\"\")","v":""},{"$f":"IF(AND(F749<>\"\",G749<>\"\",H749<>\"\",I749<>\"\",J749<>\"\"),Data!L749-$F$4,\"\")","v":""},"","","","",{"$f":"IF(F749<>\"\",STDEV($Q$12:Q749),\"\")","v":""},""]
[739,null,{"$f":"RIGHT(Data!C750,10)","v":""},null,null,null,null,null,null,null,{"$f":"IFERROR($U$3*Data!O750/SQRT(COUNT(Data!F750:J750)),\"\")","v":""},"","","","","",{"$f":"IFERROR((Data!K750-$F$4),\"\")","v":""},{"$f":"IF(AND(F750<>\"\",G750<>\"\",H750<>\"\",I750<>\"\",J750<>\"\"),Data!L750-$F$4,\"\")","v":""},"","","","",{"$f":"IF(F750<>\"\",STDEV($Q$12:Q750),\"\")","v":""},""]
[740,null,{"$f":"RIGHT(Data!C751,10)","v":""},null,null,null,null,null,null,null,{"$f":"IFERROR($U$3*Data!O751/SQRT(COUNT(Data!F751:J751)),\"\")","v":""},"","","","","",{"$f":"IFERROR((Data!K751-$F$4),\"\")","v":""},{"$f":"IF(AND(F751<>\"\",G751<>\"\",H751<>\"\",I751<>\"\",J751<>\"\"),Data!L751-$F$4,\"\")","v":""},"","","","",{"$f":"IF(F751<>\"\",STDEV($Q$12:Q751),\"\")","v":""},""]
[741,null,{"$f":"RIGHT(Data!C752,10)","v":""},null,null,null,null,null,null,null,{"$f":"IFERROR($U$3*Data!O752/SQRT(COUNT(Data!F752:J752)),\"\")","v":""},"","","","","",{"$f":"IFERROR((Data!K752-$F$4),\"\")","v":""},{"$f":"IF(AND(F752<>\"\",G752<>\"\",H752<>\"\",I752<>\"\",J752<>\"\"),Data!L752-$F$4,\"\")","v":""},"","","","",{"$f":"IF(F752<>\"\",STDEV($Q$12:Q752),\"\")","v":""},""]
[742,null,{"$f":"RIGHT(Data!C753,10)","v":""},null,null,null,null,null,null,null,{"$f":"IFERROR($U$3*Data!O753/SQRT(COUNT(Data!F753:J753)),\"\")","v":""},"","","","","",{"$f":"IFERROR((Data!K753-$F$4),\"\")","v":""},{"$f":"IF(AND(F753<>\"\",G753<>\"\",H753<>\"\",I753<>\"\",J753<>\"\"),Data!L753-$F$4,\"\")","v":""},"","","","",{"$f":"IF(F753<>\"\",STDEV($Q$12:Q753),\"\")","v":""},""]
[743,null,{"$f":"RIGHT(Data!C754,10)","v":""},null,null,null,null,null,null,null,{"$f":"IFERROR($U$3*Data!O754/SQRT(COUNT(Data!F754:J754)),\"\")","v":""},"","","","","",{"$f":"IFERROR((Data!K754-$F$4),\"\")","v":""},{"$f":"IF(AND(F754<>\"\",G754<>\"\",H754<>\"\",I754<>\"\",J754<>\"\"),Data!L754-$F$4,\"\")","v":""},"","","","",{"$f":"IF(F754<>\"\",STDEV($Q$12:Q754),\"\")","v":""},""]
[744,null,{"$f":"RIGHT(Data!C755,10)","v":""},null,null,null,null,null,null,null,{"$f":"IFERROR($U$3*Data!O755/SQRT(COUNT(Data!F755:J755)),\"\")","v":""},"","","","","",{"$f":"IFERROR((Data!K755-$F$4),\"\")","v":""},{"$f":"IF(AND(F755<>\"\",G755<>\"\",H755<>\"\",I755<>\"\",J755<>\"\"),Data!L755-$F$4,\"\")","v":""},"","","","",{"$f":"IF(F755<>\"\",STDEV($Q$12:Q755),\"\")","v":""},""]
[745,null,{"$f":"RIGHT(Data!C756,10)","v":""},null,null,null,null,null,null,null,{"$f":"IFERROR($U$3*Data!O756/SQRT(COUNT(Data!F756:J756)),\"\")","v":""},"","","","","",{"$f":"IFERROR((Data!K756-$F$4),\"\")","v":""},{"$f":"IF(AND(F756<>\"\",G756<>\"\",H756<>\"\",I756<>\"\",J756<>\"\"),Data!L756-$F$4,\"\")","v":""},"","","","",{"$f":"IF(F756<>\"\",STDEV($Q$12:Q756),\"\")","v":""},""]
[746,null,{"$f":"RIGHT(Data!C757,10)","v":""},null,null,null,null,null,null,null,{"$f":"IFERROR($U$3*Data!O757/SQRT(COUNT(Data!F757:J757)),\"\")","v":""},"","","","","",{"$f":"IFERROR((Data!K757-$F$4),\"\")","v":""},{"$f":"IF(AND(F757<>\"\",G757<>\"\",H757<>\"\",I757<>\"\",J757<>\"\"),Data!L757-$F$4,\"\")","v":""},"","","","",{"$f":"IF(F757<>\"\",STDEV($Q$12:Q757),\"\")","v":""},""]
[747,null,{"$f":"RIGHT(Data!C758,10)","v":""},null,null,null,null,null,null,null,{"$f":"IFERROR($U$3*Data!O758/SQRT(COUNT(Data!F758:J758)),\"\")","v":""},"","","","","",{"$f":"IFERROR((Data!K758-$F$4),\"\")","v":""},{"$f":"IF(AND(F758<>\"\",G758<>\"\",H758<>\"\",I758<>\"\",J758<>\"\"),Data!L758-$F$4,\"\")","v":""},"","","","",{"$f":"IF(F758<>\"\",STDEV($Q$12:Q758),\"\")","v":""},""]
[748,null,{"$f":"RIGHT(Data!C759,10)","v":""},null,null,null,null,null,null,null,{"$f":"IFERROR($U$3*Data!O759/SQRT(COUNT(Data!F759:J759)),\"\")","v":""},"","","","","",{"$f":"IFERROR((Data!K759-$F$4),\"\")","v":""},{"$f":"IF(AND(F759<>\"\",G759<>\"\",H759<>\"\",I759<>\"\",J759<>\"\"),Data!L759-$F$4,\"\")","v":""},"","","","",{"$f":"IF(F759<>\"\",STDEV($Q$12:Q759),\"\")","v":""},""]
[749,null,{"$f":"RIGHT(Data!C760,10)","v":""},null,null,null,null,null,null,null,{"$f":"IFERROR($U$3*Data!O760/SQRT(COUNT(Data!F760:J760)),\"\")","v":""},"","","","","",{"$f":"IFERROR((Data!K760-$F$4),\"\")","v":""},{"$f":"IF(AND(F760<>\"\",G760<>\"\",H760<>\"\",I760<>\"\",J760<>\"\"),Data!L760-$F$4,\"\")","v":""},"","","","",{"$f":"IF(F760<>\"\",STDEV($Q$12:Q760),\"\")","v":""},""]
[750,null,{"$f":"RIGHT(Data!C761,10)","v":""},null,null,null,null,null,null,null,{"$f":"IFERROR($U$3*Data!O761/SQRT(COUNT(Data!F761:J761)),\"\")","v":""},"","","","","",{"$f":"IFERROR((Data!K761-$F$4),\"\")","v":""},{"$f":"IF(AND(F761<>\"\",G761<>\"\",H761<>\"\",I761<>\"\",J761<>\"\"),Data!L761-$F$4,\"\")","v":""},"","","","",{"$f":"IF(F761<>\"\",STDEV($Q$12:Q761),\"\")","v":""},""]
[751,null,{"$f":"RIGHT(Data!C762,10)","v":""},null,null,null,null,null,null,null,{"$f":"IFERROR($U$3*Data!O762/SQRT(COUNT(Data!F762:J762)),\"\")","v":""},"","","","","",{"$f":"IFERROR((Data!K762-$F$4),\"\")","v":""},{"$f":"IF(AND(F762<>\"\",G762<>\"\",H762<>\"\",I762<>\"\",J762<>\"\"),Data!L762-$F$4,\"\")","v":""},"","","","",{"$f":"IF(F762<>\"\",STDEV($Q$12:Q762),\"\")","v":""},""]
[752,null,{"$f":"RIGHT(Data!C763,10)","v":""},null,null,null,null,null,null,null,{"$f":"IFERROR($U$3*Data!O763/SQRT(COUNT(Data!F763:J763)),\"\")","v":""},"","","","","",{"$f":"IFERROR((Data!K763-$F$4),\"\")","v":""},{"$f":"IF(AND(F763<>\"\",G763<>\"\",H763<>\"\",I763<>\"\",J763<>\"\"),Data!L763-$F$4,\"\")","v":""},"","","","",{"$f":"IF(F763<>\"\",STDEV($Q$12:Q763),\"\")","v":""},""]
[753,null,{"$f":"RIGHT(Data!C764,10)","v":""},null,null,null,null,null,null,null,{"$f":"IFERROR($U$3*Data!O764/SQRT(COUNT(Data!F764:J764)),\"\")","v":""},"","","","","",{"$f":"IFERROR((Data!K764-$F$4),\"\")","v":""},{"$f":"IF(AND(F764<>\"\",G764<>\"\",H764<>\"\",I764<>\"\",J764<>\"\"),Data!L764-$F$4,\"\")","v":""},"","","","",{"$f":"IF(F764<>\"\",STDEV($Q$12:Q764),\"\")","v":""},""]
[754,null,{"$f":"RIGHT(Data!C765,10)","v":""},null,null,null,null,null,null,null,{"$f":"IFERROR($U$3*Data!O765/SQRT(COUNT(Data!F765:J765)),\"\")","v":""},"","","","","",{"$f":"IFERROR((Data!K765-$F$4),\"\")","v":""},{"$f":"IF(AND(F765<>\"\",G765<>\"\",H765<>\"\",I765<>\"\",J765<>\"\"),Data!L765-$F$4,\"\")","v":""},"","","","",{"$f":"IF(F765<>\"\",STDEV($Q$12:Q765),\"\")","v":""},""]
[755,null,{"$f":"RIGHT(Data!C766,10)","v":""},null,null,null,null,null,null,null,{"$f":"IFERROR($U$3*Data!O766/SQRT(COUNT(Data!F766:J766)),\"\")","v":""},"","","","","",{"$f":"IFERROR((Data!K766-$F$4),\"\")","v":""},{"$f":"IF(AND(F766<>\"\",G766<>\"\",H766<>\"\",I766<>\"\",J766<>\"\"),Data!L766-$F$4,\"\")","v":""},"","","","",{"$f":"IF(F766<>\"\",STDEV($Q$12:Q766),\"\")","v":""},""]
[756,null,{"$f":"RIGHT(Data!C767,10)","v":""},null,null,null,null,null,null,null,{"$f":"IFERROR($U$3*Data!O767/SQRT(COUNT(Data!F767:J767)),\"\")","v":""},"","","","","",{"$f":"IFERROR((Data!K767-$F$4),\"\")","v":""},{"$f":"IF(AND(F767<>\"\",G767<>\"\",H767<>\"\",I767<>\"\",J767<>\"\"),Data!L767-$F$4,\"\")","v":""},"","","","",{"$f":"IF(F767<>\"\",STDEV($Q$12:Q767),\"\")","v":""},""]
[757,null,{"$f":"RIGHT(Data!C768,10)","v":""},null,null,null,null,null,null,null,{"$f":"IFERROR($U$3*Data!O768/SQRT(COUNT(Data!F768:J768)),\"\")","v":""},"","","","","",{"$f":"IFERROR((Data!K768-$F$4),\"\")","v":""},{"$f":"IF(AND(F768<>\"\",G768<>\"\",H768<>\"\",I768<>\"\",J768<>\"\"),Data!L768-$F$4,\"\")","v":""},"","","","",{"$f":"IF(F768<>\"\",STDEV($Q$12:Q768),\"\")","v":""},""]
[758,null,{"$f":"RIGHT(Data!C769,10)","v":""},null,null,null,null,null,null,null,{"$f":"IFERROR($U$3*Data!O769/SQRT(COUNT(Data!F769:J769)),\"\")","v":""},"","","","","",{"$f":"IFERROR((Data!K769-$F$4),\"\")","v":""},{"$f":"IF(AND(F769<>\"\",G769<>\"\",H769<>\"\",I769<>\"\",J769<>\"\"),Data!L769-$F$4,\"\")","v":""},"","","","",{"$f":"IF(F769<>\"\",STDEV($Q$12:Q769),\"\")","v":""},""]
[759,null,{"$f":"RIGHT(Data!C770,10)","v":""},null,null,null,null,null,null,null,{"$f":"IFERROR($U$3*Data!O770/SQRT(COUNT(Data!F770:J770)),\"\")","v":""},"","","","","",{"$f":"IFERROR((Data!K770-$F$4),\"\")","v":""},{"$f":"IF(AND(F770<>\"\",G770<>\"\",H770<>\"\",I770<>\"\",J770<>\"\"),Data!L770-$F$4,\"\")","v":""},"","","","",{"$f":"IF(F770<>\"\",STDEV($Q$12:Q770),\"\")","v":""},""]
[760,null,{"$f":"RIGHT(Data!C771,10)","v":""},null,null,null,null,null,null,null,{"$f":"IFERROR($U$3*Data!O771/SQRT(COUNT(Data!F771:J771)),\"\")","v":""},"","","","","",{"$f":"IFERROR((Data!K771-$F$4),\"\")","v":""},{"$f":"IF(AND(F771<>\"\",G771<>\"\",H771<>\"\",I771<>\"\",J771<>\"\"),Data!L771-$F$4,\"\")","v":""},"","","","",{"$f":"IF(F771<>\"\",STDEV($Q$12:Q771),\"\")","v":""},""]
[761,null,{"$f":"RIGHT(Data!C772,10)","v":""},null,null,null,null,null,null,null,{"$f":"IFERROR($U$3*Data!O772/SQRT(COUNT(Data!F772:J772)),\"\")","v":""},"","","","","",{"$f":"IFERROR((Data!K772-$F$4),\"\")","v":""},{"$f":"IF(AND(F772<>\"\",G772<>\"\",H772<>\"\",I772<>\"\",J772<>\"\"),Data!L772-$F$4,\"\")","v":""},"","","","",{"$f":"IF(F772<>\"\",STDEV($Q$12:Q772),\"\")","v":""},""]
[762,null,{"$f":"RIGHT(Data!C773,10)","v":""},null,null,null,null,null,null,null,{"$f":"IFERROR($U$3*Data!O773/SQRT(COUNT(Data!F773:J773)),\"\")","v":""},"","","","","",{"$f":"IFERROR((Data!K773-$F$4),\"\")","v":""},{"$f":"IF(AND(F773<>\"\",G773<>\"\",H773<>\"\",I773<>\"\",J773<>\"\"),Data!L773-$F$4,\"\")","v":""},"","","","",{"$f":"IF(F773<>\"\",STDEV($Q$12:Q773),\"\")","v":""},""]
[763,null,{"$f":"RIGHT(Data!C774,10)","v":""},null,null,null,null,null,null,null,{"$f":"IFERROR($U$3*Data!O774/SQRT(COUNT(Data!F774:J774)),\"\")","v":""},"","","","","",{"$f":"IFERROR((Data!K774-$F$4),\"\")","v":""},{"$f":"IF(AND(F774<>\"\",G774<>\"\",H774<>\"\",I774<>\"\",J774<>\"\"),Data!L774-$F$4,\"\")","v":""},"","","","",{"$f":"IF(F774<>\"\",STDEV($Q$12:Q774),\"\")","v":""},""]
[764,null,{"$f":"RIGHT(Data!C775,10)","v":""},null,null,null,null,null,null,null,{"$f":"IFERROR($U$3*Data!O775/SQRT(COUNT(Data!F775:J775)),\"\")","v":""},"","","","","",{"$f":"IFERROR((Data!K775-$F$4),\"\")","v":""},{"$f":"IF(AND(F775<>\"\",G775<>\"\",H775<>\"\",I775<>\"\",J775<>\"\"),Data!L775-$F$4,\"\")","v":""},"","","","",{"$f":"IF(F775<>\"\",STDEV($Q$12:Q775),\"\")","v":""},""]
[765,null,{"$f":"RIGHT(Data!C776,10)","v":""},null,null,null,null,null,null,null,{"$f":"IFERROR($U$3*Data!O776/SQRT(COUNT(Data!F776:J776)),\"\")","v":""},"","","","","",{"$f":"IFERROR((Data!K776-$F$4),\"\")","v":""},{"$f":"IF(AND(F776<>\"\",G776<>\"\",H776<>\"\",I776<>\"\",J776<>\"\"),Data!L776-$F$4,\"\")","v":""},"","","","",{"$f":"IF(F776<>\"\",STDEV($Q$12:Q776),\"\")","v":""},""]
[766,null,{"$f":"RIGHT(Data!C777,10)","v":""},null,null,null,null,null,null,null,{"$f":"IFERROR($U$3*Data!O777/SQRT(COUNT(Data!F777:J777)),\"\")","v":""},"","","","","",{"$f":"IFERROR((Data!K777-$F$4),\"\")","v":""},{"$f":"IF(AND(F777<>\"\",G777<>\"\",H777<>\"\",I777<>\"\",J777<>\"\"),Data!L777-$F$4,\"\")","v":""},"","","","",{"$f":"IF(F777<>\"\",STDEV($Q$12:Q777),\"\")","v":""},""]
[767,null,{"$f":"RIGHT(Data!C778,10)","v":""},null,null,null,null,null,null,null,{"$f":"IFERROR($U$3*Data!O778/SQRT(COUNT(Data!F778:J778)),\"\")","v":""},"","","","","",{"$f":"IFERROR((Data!K778-$F$4),\"\")","v":""},{"$f":"IF(AND(F778<>\"\",G778<>\"\",H778<>\"\",I778<>\"\",J778<>\"\"),Data!L778-$F$4,\"\")","v":""},"","","","",{"$f":"IF(F778<>\"\",STDEV($Q$12:Q778),\"\")","v":""},""]
[768,null,{"$f":"RIGHT(Data!C779,10)","v":""},null,null,null,null,null,null,null,{"$f":"IFERROR($U$3*Data!O779/SQRT(COUNT(Data!F779:J779)),\"\")","v":""},"","","","","",{"$f":"IFERROR((Data!K779-$F$4),\"\")","v":""},{"$f":"IF(AND(F779<>\"\",G779<>\"\",H779<>\"\",I779<>\"\",J779<>\"\"),Data!L779-$F$4,\"\")","v":""},"","","","",{"$f":"IF(F779<>\"\",STDEV($Q$12:Q779),\"\")","v":""},""]
[769,null,{"$f":"RIGHT(Data!C780,10)","v":""},null,null,null,null,null,null,null,{"$f":"IFERROR($U$3*Data!O780/SQRT(COUNT(Data!F780:J780)),\"\")","v":""},"","",{"$f":"IF(COUNT(F780:J780)>=5,STDEV(F780:J780)*$U$3/SQRT((COUNT(F780:J780))),\"\")","v":""},"","",{"$f":"IFERROR((Data!K780-$F$4),\"\")","v":""},{"$f":"IF(AND(F780<>\"\",G780<>\"\",H780<>\"\",I780<>\"\",J780<>\"\"),Data!L780-$F$4,\"\")","v":""},{"$f":"IF(O780<>\"\",FIXED(X780,1) & \" ± \" & FIXED(O780+ABS(R780),2),\"\")","v":""},"","","",{"$f":"IF(F780<>\"\",STDEV($Q$12:Q780),\"\")","v":""},{"$f":"IF(F780<>\"\",AVERAGE(F780:J780),\"\")","v":""}]
[770,null,{"$f":"RIGHT(Data!C781,10)","v":""},null,null,null,null,null,null,null,{"$f":"IFERROR($U$3*Data!O781/SQRT(COUNT(Data!F781:J781)),\"\")","v":""},{"$f":"IF(F781<>\"\",V781*W781/SQRT(A781),\"\")","v":""},{"$f":"IF(F781<>\"\",$U$4*SQRT($U$7^2+L781^2+K781^2+$U$5^2),\"\")","v":""},"",{"$f":"IFERROR($U$4*SQRT($U$7^2+L781^2+K781^2+$U$5^2+N781^2),\"\")","v":""},{"$f":"IF(AND(F781<>\"\",G781<>\"\",H781<>\"\",I781<>\"\",J781<>\"\"),AVERAGE(F781:J781),\"\")","v":""},{"$f":"IFERROR((Data!K781-$F$4),\"\")","v":""},{"$f":"IF(AND(F781<>\"\",G781<>\"\",H781<>\"\",I781<>\"\",J781<>\"\"),Data!L781-$F$4,\"\")","v":""},"",{"$f":"IF(F781<>\"\",FIXED(AVERAGE(F781:J781)-R781,1) & \" ± \" & FIXED(O781,2),\"\")","v":""},{"$f":"IF(IO781=\"\",\"\",IO781-1)","v":""},{"$f":"IF(F781<>\"\",TINV(1-0.68,A781-1),\"\")","v":""},{"$f":"IF(F781<>\"\",STDEV($Q$12:Q781),\"\")","v":""},""]
[771,null,{"$f":"RIGHT(Data!C782,10)","v":""},null,null,null,null,null,null,null,{"$f":"IFERROR($U$3*Data!O782/SQRT(COUNT(Data!F782:J782)),\"\")","v":""},"","","","","",{"$f":"IFERROR((Data!K782-$F$4),\"\")","v":""},{"$f":"IF(AND(F782<>\"\",G782<>\"\",H782<>\"\",I782<>\"\",J782<>\"\"),Data!L782-$F$4,\"\")","v":""},"","","","",{"$f":"IF(F782<>\"\",STDEV($Q$12:Q782),\"\")","v":""},""]
[772,null,{"$f":"RIGHT(Data!C783,10)","v":""},null,null,null,null,null,null,null,{"$f":"IFERROR($U$3*Data!O783/SQRT(COUNT(Data!F783:J783)),\"\")","v":""},"","","","","",{"$f":"IFERROR((Data!K783-$F$4),\"\")","v":""},{"$f":"IF(AND(F783<>\"\",G783<>\"\",H783<>\"\",I783<>\"\",J783<>\"\"),Data!L783-$F$4,\"\")","v":""},"","","","",{"$f":"IF(F783<>\"\",STDEV($Q$12:Q783),\"\")","v":""},""]
[773,null,{"$f":"RIGHT(Data!C784,10)","v":""},null,null,null,null,null,null,null,{"$f":"IFERROR($U$3*Data!O784/SQRT(COUNT(Data!F784:J784)),\"\")","v":""},"","","","","",{"$f":"IFERROR((Data!K784-$F$4),\"\")","v":""},{"$f":"IF(AND(F784<>\"\",G784<>\"\",H784<>\"\",I784<>\"\",J784<>\"\"),Data!L784-$F$4,\"\")","v":""},"","","","",{"$f":"IF(F784<>\"\",STDEV($Q$12:Q784),\"\")","v":""},""]
[774,null,{"$f":"RIGHT(Data!C785,10)","v":""},null,null,null,null,null,null,null,{"$f":"IFERROR($U$3*Data!O785/SQRT(COUNT(Data!F785:J785)),\"\")","v":""},"","","","","",{"$f":"IFERROR((Data!K785-$F$4),\"\")","v":""},{"$f":"IF(AND(F785<>\"\",G785<>\"\",H785<>\"\",I785<>\"\",J785<>\"\"),Data!L785-$F$4,\"\")","v":""},"","","","",{"$f":"IF(F785<>\"\",STDEV($Q$12:Q785),\"\")","v":""},""]
[775,null,{"$f":"RIGHT(Data!C786,10)","v":""},null,null,null,null,null,null,null,{"$f":"IFERROR($U$3*Data!O786/SQRT(COUNT(Data!F786:J786)),\"\")","v":""},"","","","","",{"$f":"IFERROR((Data!K786-$F$4),\"\")","v":""},{"$f":"IF(AND(F786<>\"\",G786<>\"\",H786<>\"\",I786<>\"\",J786<>\"\"),Data!L786-$F$4,\"\")","v":""},"","","","",{"$f":"IF(F786<>\"\",STDEV($Q$12:Q786),\"\")","v":""},""]
[776,null,{"$f":"RIGHT(Data!C787,10)","v":""},null,null,null,null,null,null,null,{"$f":"IFERROR($U$3*Data!O787/SQRT(COUNT(Data!F787:J787)),\"\")","v":""},"","","","","",{"$f":"IFERROR((Data!K787-$F$4),\"\")","v":""},{"$f":"IF(AND(F787<>\"\",G787<>\"\",H787<>\"\",I787<>\"\",J787<>\"\"),Data!L787-$F$4,\"\")","v":""},"","","","",{"$f":"IF(F787<>\"\",STDEV($Q$12:Q787),\"\")","v":""},""]
[777,null,{"$f":"RIGHT(Data!C788,10)","v":""},null,null,null,null,null,null,null,{"$f":"IFERROR($U$3*Data!O788/SQRT(COUNT(Data!F788:J788)),\"\")","v":""},"","","","","",{"$f":"IFERROR((Data!K788-$F$4),\"\")","v":""},{"$f":"IF(AND(F788<>\"\",G788<>\"\",H788<>\"\",I788<>\"\",J788<>\"\"),Data!L788-$F$4,\"\")","v":""},"","","","",{"$f":"IF(F788<>\"\",STDEV($Q$12:Q788),\"\")","v":""},""]
[778,null,{"$f":"RIGHT(Data!C789,10)","v":""},null,null,null,null,null,null,null,{"$f":"IFERROR($U$3*Data!O789/SQRT(COUNT(Data!F789:J789)),\"\")","v":""},"","","","","",{"$f":"IFERROR((Data!K789-$F$4),\"\")","v":""},{"$f":"IF(AND(F789<>\"\",G789<>\"\",H789<>\"\",I789<>\"\",J789<>\"\"),Data!L789-$F$4,\"\")","v":""},"","","","",{"$f":"IF(F789<>\"\",STDEV($Q$12:Q789),\"\")","v":""},""]
[779,null,{"$f":"RIGHT(Data!C790,10)","v":""},null,null,null,null,null,null,null,{"$f":"IFERROR($U$3*Data!O790/SQRT(COUNT(Data!F790:J790)),\"\")","v":""},"","","","","",{"$f":"IFERROR((Data!K790-$F$4),\"\")","v":""},{"$f":"IF(AND(F790<>\"\",G790<>\"\",H790<>\"\",I790<>\"\",J790<>\"\"),Data!L790-$F$4,\"\")","v":""},"","","","",{"$f":"IF(F790<>\"\",STDEV($Q$12:Q790),\"\")","v":""},""]
[780,null,{"$f":"RIGHT(Data!C791,10)","v":""},null,null,null,null,null,null,null,{"$f":"IFERROR($U$3*Data!O791/SQRT(COUNT(Data!F791:J791)),\"\")","v":""},"","","","","",{"$f":"IFERROR((Data!K791-$F$4),\"\")","v":""},{"$f":"IF(AND(F791<>\"\",G791<>\"\",H791<>\"\",I791<>\"\",J791<>\"\"),Data!L791-$F$4,\"\")","v":""},"","","","",{"$f":"IF(F791<>\"\",STDEV($Q$12:Q791),\"\")","v":""},""]
[781,null,{"$f":"RIGHT(Data!C792,10)","v":""},null,null,null,null,null,null,null,{"$f":"IFERROR($U$3*Data!O792/SQRT(COUNT(Data!F792:J792)),\"\")","v":""},"","","","","",{"$f":"IFERROR((Data!K792-$F$4),\"\")","v":""},{"$f":"IF(AND(F792<>\"\",G792<>\"\",H792<>\"\",I792<>\"\",J792<>\"\"),Data!L792-$F$4,\"\")","v":""},"","","","",{"$f":"IF(F792<>\"\",STDEV($Q$12:Q792),\"\")","v":""},""]
[782,null,{"$f":"RIGHT(Data!C793,10)","v":""},null,null,null,null,null,null,null,{"$f":"IFERROR($U$3*Data!O793/SQRT(COUNT(Data!F793:J793)),\"\")","v":""},"","","","","",{"$f":"IFERROR((Data!K793-$F$4),\"\")","v":""},{"$f":"IF(AND(F793<>\"\",G793<>\"\",H793<>\"\",I793<>\"\",J793<>\"\"),Data!L793-$F$4,\"\")","v":""},"","","","",{"$f":"IF(F793<>\"\",STDEV($Q$12:Q793),\"\")","v":""},""]
[783,null,{"$f":"RIGHT(Data!C794,10)","v":""},null,null,null,null,null,null,null,{"$f":"IFERROR($U$3*Data!O794/SQRT(COUNT(Data!F794:J794)),\"\")","v":""},"","","","","",{"$f":"IFERROR((Data!K794-$F$4),\"\")","v":""},{"$f":"IF(AND(F794<>\"\",G794<>\"\",H794<>\"\",I794<>\"\",J794<>\"\"),Data!L794-$F$4,\"\")","v":""},"","","","",{"$f":"IF(F794<>\"\",STDEV($Q$12:Q794),\"\")","v":""},""]
[784,null,{"$f":"RIGHT(Data!C795,10)","v":""},null,null,null,null,null,null,null,{"$f":"IFERROR($U$3*Data!O795/SQRT(COUNT(Data!F795:J795)),\"\")","v":""},"","","","","",{"$f":"IFERROR((Data!K795-$F$4),\"\")","v":""},{"$f":"IF(AND(F795<>\"\",G795<>\"\",H795<>\"\",I795<>\"\",J795<>\"\"),Data!L795-$F$4,\"\")","v":""},"","","","",{"$f":"IF(F795<>\"\",STDEV($Q$12:Q795),\"\")","v":""},""]
[785,null,{"$f":"RIGHT(Data!C796,10)","v":""},null,null,null,null,null,null,null,{"$f":"IFERROR($U$3*Data!O796/SQRT(COUNT(Data!F796:J796)),\"\")","v":""},"","","","","",{"$f":"IFERROR((Data!K796-$F$4),\"\")","v":""},{"$f":"IF(AND(F796<>\"\",G796<>\"\",H796<>\"\",I796<>\"\",J796<>\"\"),Data!L796-$F$4,\"\")","v":""},"","","","",{"$f":"IF(F796<>\"\",STDEV($Q$12:Q796),\"\")","v":""},""]
[786,null,{"$f":"RIGHT(Data!C797,10)","v":""},null,null,null,null,null,null,null,{"$f":"IFERROR($U$3*Data!O797/SQRT(COUNT(Data!F797:J797)),\"\")","v":""},"","","","","",{"$f":"IFERROR((Data!K797-$F$4),\"\")","v":""},{"$f":"IF(AND(F797<>\"\",G797<>\"\",H797<>\"\",I797<>\"\",J797<>\"\"),Data!L797-$F$4,\"\")","v":""},"","","","",{"$f":"IF(F797<>\"\",STDEV($Q$12:Q797),\"\")","v":""},""]
[787,null,{"$f":"RIGHT(Data!C798,10)","v":""},null,null,null,null,null,null,null,{"$f":"IFERROR($U$3*Data!O798/SQRT(COUNT(Data!F798:J798)),\"\")","v":""},"","","","","",{"$f":"IFERROR((Data!K798-$F$4),\"\")","v":""},{"$f":"IF(AND(F798<>\"\",G798<>\"\",H798<>\"\",I798<>\"\",J798<>\"\"),Data!L798-$F$4,\"\")","v":""},"","","","",{"$f":"IF(F798<>\"\",STDEV($Q$12:Q798),\"\")","v":""},""]
[788,null,{"$f":"RIGHT(Data!C799,10)","v":""},null,null,null,null,null,null,null,{"$f":"IFERROR($U$3*Data!O799/SQRT(COUNT(Data!F799:J799)),\"\")","v":""},"","","","","",{"$f":"IFERROR((Data!K799-$F$4),\"\")","v":""},{"$f":"IF(AND(F799<>\"\",G799<>\"\",H799<>\"\",I799<>\"\",J799<>\"\"),Data!L799-$F$4,\"\")","v":""},"","","","",{"$f":"IF(F799<>\"\",STDEV($Q$12:Q799),\"\")","v":""},""]
[789,null,{"$f":"RIGHT(Data!C800,10)","v":""},null,null,null,null,null,null,null,{"$f":"IFERROR($U$3*Data!O800/SQRT(COUNT(Data!F800:J800)),\"\")","v":""},"","","","","",{"$f":"IFERROR((Data!K800-$F$4),\"\")","v":""},{"$f":"IF(AND(F800<>\"\",G800<>\"\",H800<>\"\",I800<>\"\",J800<>\"\"),Data!L800-$F$4,\"\")","v":""},"","","","",{"$f":"IF(F800<>\"\",STDEV($Q$12:Q800),\"\")","v":""},""]
[790,null,{"$f":"RIGHT(Data!C801,10)","v":""},null,null,null,null,null,null,null,{"$f":"IFERROR($U$3*Data!O801/SQRT(COUNT(Data!F801:J801)),\"\")","v":""},"","","","","",{"$f":"IFERROR((Data!K801-$F$4),\"\")","v":""},{"$f":"IF(AND(F801<>\"\",G801<>\"\",H801<>\"\",I801<>\"\",J801<>\"\"),Data!L801-$F$4,\"\")","v":""},"","","","",{"$f":"IF(F801<>\"\",STDEV($Q$12:Q801),\"\")","v":""},""]
[791,null,{"$f":"RIGHT(Data!C802,10)","v":""},null,null,null,null,null,null,null,{"$f":"IFERROR($U$3*Data!O802/SQRT(COUNT(Data!F802:J802)),\"\")","v":""},"","","","","",{"$f":"IFERROR((Data!K802-$F$4),\"\")","v":""},{"$f":"IF(AND(F802<>\"\",G802<>\"\",H802<>\"\",I802<>\"\",J802<>\"\"),Data!L802-$F$4,\"\")","v":""},"","","","",{"$f":"IF(F802<>\"\",STDEV($Q$12:Q802),\"\")","v":""},""]
[792,null,{"$f":"RIGHT(Data!C803,10)","v":""},null,null,null,null,null,null,null,{"$f":"IFERROR($U$3*Data!O803/SQRT(COUNT(Data!F803:J803)),\"\")","v":""},"","","","","",{"$f":"IFERROR((Data!K803-$F$4),\"\")","v":""},{"$f":"IF(AND(F803<>\"\",G803<>\"\",H803<>\"\",I803<>\"\",J803<>\"\"),Data!L803-$F$4,\"\")","v":""},"","","","",{"$f":"IF(F803<>\"\",STDEV($Q$12:Q803),\"\")","v":""},""]
[793,null,{"$f":"RIGHT(Data!C804,10)","v":""},null,null,null,null,null,null,null,{"$f":"IFERROR($U$3*Data!O804/SQRT(COUNT(Data!F804:J804)),\"\")","v":""},"","","","","",{"$f":"IFERROR((Data!K804-$F$4),\"\")","v":""},{"$f":"IF(AND(F804<>\"\",G804<>\"\",H804<>\"\",I804<>\"\",J804<>\"\"),Data!L804-$F$4,\"\")","v":""},"","","","",{"$f":"IF(F804<>\"\",STDEV($Q$12:Q804),\"\")","v":""},""]
[794,null,{"$f":"RIGHT(Data!C805,10)","v":""},null,null,null,null,null,null,null,{"$f":"IFERROR($U$3*Data!O805/SQRT(COUNT(Data!F805:J805)),\"\")","v":""},"","","","","",{"$f":"IFERROR((Data!K805-$F$4),\"\")","v":""},{"$f":"IF(AND(F805<>\"\",G805<>\"\",H805<>\"\",I805<>\"\",J805<>\"\"),Data!L805-$F$4,\"\")","v":""},"","","","",{"$f":"IF(F805<>\"\",STDEV($Q$12:Q805),\"\")","v":""},""]
[795,null,{"$f":"RIGHT(Data!C806,10)","v":""},null,null,null,null,null,null,null,{"$f":"IFERROR($U$3*Data!O806/SQRT(COUNT(Data!F806:J806)),\"\")","v":""},"","","","","",{"$f":"IFERROR((Data!K806-$F$4),\"\")","v":""},{"$f":"IF(AND(F806<>\"\",G806<>\"\",H806<>\"\",I806<>\"\",J806<>\"\"),Data!L806-$F$4,\"\")","v":""},"","","","",{"$f":"IF(F806<>\"\",STDEV($Q$12:Q806),\"\")","v":""},""]
[796,null,{"$f":"RIGHT(Data!C807,10)","v":""},null,null,null,null,null,null,null,{"$f":"IFERROR($U$3*Data!O807/SQRT(COUNT(Data!F807:J807)),\"\")","v":""},"","","","","",{"$f":"IFERROR((Data!K807-$F$4),\"\")","v":""},{"$f":"IF(AND(F807<>\"\",G807<>\"\",H807<>\"\",I807<>\"\",J807<>\"\"),Data!L807-$F$4,\"\")","v":""},"","","","",{"$f":"IF(F807<>\"\",STDEV($Q$12:Q807),\"\")","v":""},""]
[797,null,{"$f":"RIGHT(Data!C808,10)","v":""},null,null,null,null,null,null,null,{"$f":"IFERROR($U$3*Data!O808/SQRT(COUNT(Data!F808:J808)),\"\")","v":""},"","","","","",{"$f":"IFERROR((Data!K808-$F$4),\"\")","v":""},{"$f":"IF(AND(F808<>\"\",G808<>\"\",H808<>\"\",I808<>\"\",J808<>\"\"),Data!L808-$F$4,\"\")","v":""},"","","","",{"$f":"IF(F808<>\"\",STDEV($Q$12:Q808),\"\")","v":""},""]
[798,null,{"$f":"RIGHT(Data!C809,10)","v":""},null,null,null,null,null,null,null,{"$f":"IFERROR($U$3*Data!O809/SQRT(COUNT(Data!F809:J809)),\"\")","v":""},"","","","","",{"$f":"IFERROR((Data!K809-$F$4),\"\")","v":""},{"$f":"IF(AND(F809<>\"\",G809<>\"\",H809<>\"\",I809<>\"\",J809<>\"\"),Data!L809-$F$4,\"\")","v":""},"","","","",{"$f":"IF(F809<>\"\",STDEV($Q$12:Q809),\"\")","v":""},""]
[799,null,{"$f":"RIGHT(Data!C810,10)","v":""},null,null,null,null,null,null,null,{"$f":"IFERROR($U$3*Data!O810/SQRT(COUNT(Data!F810:J810)),\"\")","v":""},"","","","","",{"$f":"IFERROR((Data!K810-$F$4),\"\")","v":""},{"$f":"IF(AND(F810<>\"\",G810<>\"\",H810<>\"\",I810<>\"\",J810<>\"\"),Data!L810-$F$4,\"\")","v":""},"","","","",{"$f":"IF(F810<>\"\",STDEV($Q$12:Q810),\"\")","v":""},""]
[800,null,{"$f":"RIGHT(Data!C811,10)","v":""},null,null,null,null,null,null,null,{"$f":"IFERROR($U$3*Data!O811/SQRT(COUNT(Data!F811:J811)),\"\")","v":""},"","","","","",{"$f":"IFERROR((Data!K811-$F$4),\"\")","v":""},{"$f":"IF(AND(F811<>\"\",G811<>\"\",H811<>\"\",I811<>\"\",J811<>\"\"),Data!L811-$F$4,\"\")","v":""},"","","","",{"$f":"IF(F811<>\"\",STDEV($Q$12:Q811),\"\")","v":""},""]
[801,null,{"$f":"RIGHT(Data!C812,10)","v":""},null,null,null,null,null,null,null,{"$f":"IFERROR($U$3*Data!O812/SQRT(COUNT(Data!F812:J812)),\"\")","v":""},"","","","","",{"$f":"IFERROR((Data!K812-$F$4),\"\")","v":""},{"$f":"IF(AND(F812<>\"\",G812<>\"\",H812<>\"\",I812<>\"\",J812<>\"\"),Data!L812-$F$4,\"\")","v":""},"","","","",{"$f":"IF(F812<>\"\",STDEV($Q$12:Q812),\"\")","v":""},""]
[802,null,{"$f":"RIGHT(Data!C813,10)","v":""},null,null,null,null,null,null,null,{"$f":"IFERROR($U$3*Data!O813/SQRT(COUNT(Data!F813:J813)),\"\")","v":""},"","","","","",{"$f":"IFERROR((Data!K813-$F$4),\"\")","v":""},{"$f":"IF(AND(F813<>\"\",G813<>\"\",H813<>\"\",I813<>\"\",J813<>\"\"),Data!L813-$F$4,\"\")","v":""},"","","","",{"$f":"IF(F813<>\"\",STDEV($Q$12:Q813),\"\")","v":""},""]
[803,null,{"$f":"RIGHT(Data!C814,10)","v":""},null,null,null,null,null,null,null,{"$f":"IFERROR($U$3*Data!O814/SQRT(COUNT(Data!F814:J814)),\"\")","v":""},"","","","","",{"$f":"IFERROR((Data!K814-$F$4),\"\")","v":""},{"$f":"IF(AND(F814<>\"\",G814<>\"\",H814<>\"\",I814<>\"\",J814<>\"\"),Data!L814-$F$4,\"\")","v":""},"","","","",{"$f":"IF(F814<>\"\",STDEV($Q$12:Q814),\"\")","v":""},""]
[804,null,{"$f":"RIGHT(Data!C815,10)","v":""},null,null,null,null,null,null,null,{"$f":"IFERROR($U$3*Data!O815/SQRT(COUNT(Data!F815:J815)),\"\")","v":""},"","","","","",{"$f":"IFERROR((Data!K815-$F$4),\"\")","v":""},{"$f":"IF(AND(F815<>\"\",G815<>\"\",H815<>\"\",I815<>\"\",J815<>\"\"),Data!L815-$F$4,\"\")","v":""},"","","","",{"$f":"IF(F815<>\"\",STDEV($Q$12:Q815),\"\")","v":""},""]
[805,null,{"$f":"RIGHT(Data!C816,10)","v":""},null,null,null,null,null,null,null,{"$f":"IFERROR($U$3*Data!O816/SQRT(COUNT(Data!F816:J816)),\"\")","v":""},"","","","","",{"$f":"IFERROR((Data!K816-$F$4),\"\")","v":""},{"$f":"IF(AND(F816<>\"\",G816<>\"\",H816<>\"\",I816<>\"\",J816<>\"\"),Data!L816-$F$4,\"\")","v":""},"","","","",{"$f":"IF(F816<>\"\",STDEV($Q$12:Q816),\"\")","v":""},""]
[806,null,{"$f":"RIGHT(Data!C817,10)","v":""},null,null,null,null,null,null,null,{"$f":"IFERROR($U$3*Data!O817/SQRT(COUNT(Data!F817:J817)),\"\")","v":""},"","","","","",{"$f":"IFERROR((Data!K817-$F$4),\"\")","v":""},{"$f":"IF(AND(F817<>\"\",G817<>\"\",H817<>\"\",I817<>\"\",J817<>\"\"),Data!L817-$F$4,\"\")","v":""},"","","","",{"$f":"IF(F817<>\"\",STDEV($Q$12:Q817),\"\")","v":""},""]
[807,null,{"$f":"RIGHT(Data!C818,10)","v":""},null,null,null,null,null,null,null,{"$f":"IFERROR($U$3*Data!O818/SQRT(COUNT(Data!F818:J818)),\"\")","v":""},"","","","","",{"$f":"IFERROR((Data!K818-$F$4),\"\")","v":""},{"$f":"IF(AND(F818<>\"\",G818<>\"\",H818<>\"\",I818<>\"\",J818<>\"\"),Data!L818-$F$4,\"\")","v":""},"","","","",{"$f":"IF(F818<>\"\",STDEV($Q$12:Q818),\"\")","v":""},""]
[808,null,{"$f":"RIGHT(Data!C819,10)","v":""},null,null,null,null,null,null,null,{"$f":"IFERROR($U$3*Data!O819/SQRT(COUNT(Data!F819:J819)),\"\")","v":""},"","","","","",{"$f":"IFERROR((Data!K819-$F$4),\"\")","v":""},{"$f":"IF(AND(F819<>\"\",G819<>\"\",H819<>\"\",I819<>\"\",J819<>\"\"),Data!L819-$F$4,\"\")","v":""},"","","","",{"$f":"IF(F819<>\"\",STDEV($Q$12:Q819),\"\")","v":""},""]
[809,null,{"$f":"RIGHT(Data!C820,10)","v":""},null,null,null,null,null,null,null,{"$f":"IFERROR($U$3*Data!O820/SQRT(COUNT(Data!F820:J820)),\"\")","v":""},"","","","","",{"$f":"IFERROR((Data!K820-$F$4),\"\")","v":""},{"$f":"IF(AND(F820<>\"\",G820<>\"\",H820<>\"\",I820<>\"\",J820<>\"\"),Data!L820-$F$4,\"\")","v":""},"","","","",{"$f":"IF(F820<>\"\",STDEV($Q$12:Q820),\"\")","v":""},""]
[810,null,{"$f":"RIGHT(Data!C821,10)","v":""},null,null,null,null,null,null,null,{"$f":"IFERROR($U$3*Data!O821/SQRT(COUNT(Data!F821:J821)),\"\")","v":""},"","","","","",{"$f":"IFERROR((Data!K821-$F$4),\"\")","v":""},{"$f":"IF(AND(F821<>\"\",G821<>\"\",H821<>\"\",I821<>\"\",J821<>\"\"),Data!L821-$F$4,\"\")","v":""},"","","","",{"$f":"IF(F821<>\"\",STDEV($Q$12:Q821),\"\")","v":""},""]
[811,null,{"$f":"RIGHT(Data!C822,10)","v":""},null,null,null,null,null,null,null,{"$f":"IFERROR($U$3*Data!O822/SQRT(COUNT(Data!F822:J822)),\"\")","v":""},"","","","","",{"$f":"IFERROR((Data!K822-$F$4),\"\")","v":""},{"$f":"IF(AND(F822<>\"\",G822<>\"\",H822<>\"\",I822<>\"\",J822<>\"\"),Data!L822-$F$4,\"\")","v":""},"","","","",{"$f":"IF(F822<>\"\",STDEV($Q$12:Q822),\"\")","v":""},""]
[812,null,{"$f":"RIGHT(Data!C823,10)","v":""},null,null,null,null,null,null,null,{"$f":"IFERROR($U$3*Data!O823/SQRT(COUNT(Data!F823:J823)),\"\")","v":""},"","","","","",{"$f":"IFERROR((Data!K823-$F$4),\"\")","v":""},{"$f":"IF(AND(F823<>\"\",G823<>\"\",H823<>\"\",I823<>\"\",J823<>\"\"),Data!L823-$F$4,\"\")","v":""},"","","","",{"$f":"IF(F823<>\"\",STDEV($Q$12:Q823),\"\")","v":""},""]
[813,null,{"$f":"RIGHT(Data!C824,10)","v":""},null,null,null,null,null,null,null,{"$f":"IFERROR($U$3*Data!O824/SQRT(COUNT(Data!F824:J824)),\"\")","v":""},"","","","","",{"$f":"IFERROR((Data!K824-$F$4),\"\")","v":""},{"$f":"IF(AND(F824<>\"\",G824<>\"\",H824<>\"\",I824<>\"\",J824<>\"\"),Data!L824-$F$4,\"\")","v":""},"","","","",{"$f":"IF(F824<>\"\",STDEV($Q$12:Q824),\"\")","v":""},""]
[814,null,{"$f":"RIGHT(Data!C825,10)","v":""},null,null,null,null,null,null,null,{"$f":"IFERROR($U$3*Data!O825/SQRT(COUNT(Data!F825:J825)),\"\")","v":""},"","","","","",{"$f":"IFERROR((Data!K825-$F$4),\"\")","v":""},{"$f":"IF(AND(F825<>\"\",G825<>\"\",H825<>\"\",I825<>\"\",J825<>\"\"),Data!L825-$F$4,\"\")","v":""},"","","","",{"$f":"IF(F825<>\"\",STDEV($Q$12:Q825),\"\")","v":""},""]
[815,null,{"$f":"RIGHT(Data!C826,10)","v":""},null,null,null,null,null,null,null,{"$f":"IFERROR($U$3*Data!O826/SQRT(COUNT(Data!F826:J826)),\"\")","v":""},"","","","","",{"$f":"IFERROR((Data!K826-$F$4),\"\")","v":""},{"$f":"IF(AND(F826<>\"\",G826<>\"\",H826<>\"\",I826<>\"\",J826<>\"\"),Data!L826-$F$4,\"\")","v":""},"","","","",{"$f":"IF(F826<>\"\",STDEV($Q$12:Q826),\"\")","v":""},""]
[816,null,{"$f":"RIGHT(Data!C827,10)","v":""},null,null,null,null,null,null,null,{"$f":"IFERROR($U$3*Data!O827/SQRT(COUNT(Data!F827:J827)),\"\")","v":""},"","","","","",{"$f":"IFERROR((Data!K827-$F$4),\"\")","v":""},{"$f":"IF(AND(F827<>\"\",G827<>\"\",H827<>\"\",I827<>\"\",J827<>\"\"),Data!L827-$F$4,\"\")","v":""},"","","","",{"$f":"IF(F827<>\"\",STDEV($Q$12:Q827),\"\")","v":""},""]
[817,null,{"$f":"RIGHT(Data!C828,10)","v":""},null,null,null,null,null,null,null,{"$f":"IFERROR($U$3*Data!O828/SQRT(COUNT(Data!F828:J828)),\"\")","v":""},"","","","","",{"$f":"IFERROR((Data!K828-$F$4),\"\")","v":""},{"$f":"IF(AND(F828<>\"\",G828<>\"\",H828<>\"\",I828<>\"\",J828<>\"\"),Data!L828-$F$4,\"\")","v":""},"","","","",{"$f":"IF(F828<>\"\",STDEV($Q$12:Q828),\"\")","v":""},""]
[818,null,{"$f":"RIGHT(Data!C829,10)","v":""},null,null,null,null,null,null,null,{"$f":"IFERROR($U$3*Data!O829/SQRT(COUNT(Data!F829:J829)),\"\")","v":""},"","","","","",{"$f":"IFERROR((Data!K829-$F$4),\"\")","v":""},{"$f":"IF(AND(F829<>\"\",G829<>\"\",H829<>\"\",I829<>\"\",J829<>\"\"),Data!L829-$F$4,\"\")","v":""},"","","","",{"$f":"IF(F829<>\"\",STDEV($Q$12:Q829),\"\")","v":""},""]
[819,null,{"$f":"RIGHT(Data!C830,10)","v":""},null,null,null,null,null,null,null,{"$f":"IFERROR($U$3*Data!O830/SQRT(COUNT(Data!F830:J830)),\"\")","v":""},"","","","","",{"$f":"IFERROR((Data!K830-$F$4),\"\")","v":""},{"$f":"IF(AND(F830<>\"\",G830<>\"\",H830<>\"\",I830<>\"\",J830<>\"\"),Data!L830-$F$4,\"\")","v":""},"","","","",{"$f":"IF(F830<>\"\",STDEV($Q$12:Q830),\"\")","v":""},""]
[820,null,{"$f":"RIGHT(Data!C831,10)","v":""},null,null,null,null,null,null,null,{"$f":"IFERROR($U$3*Data!O831/SQRT(COUNT(Data!F831:J831)),\"\")","v":""},"","","","","",{"$f":"IFERROR((Data!K831-$F$4),\"\")","v":""},{"$f":"IF(AND(F831<>\"\",G831<>\"\",H831<>\"\",I831<>\"\",J831<>\"\"),Data!L831-$F$4,\"\")","v":""},"","","","",{"$f":"IF(F831<>\"\",STDEV($Q$12:Q831),\"\")","v":""},""]
[821,null,{"$f":"RIGHT(Data!C832,10)","v":""},null,null,null,null,null,null,null,{"$f":"IFERROR($U$3*Data!O832/SQRT(COUNT(Data!F832:J832)),\"\")","v":""},"","","","","",{"$f":"IFERROR((Data!K832-$F$4),\"\")","v":""},{"$f":"IF(AND(F832<>\"\",G832<>\"\",H832<>\"\",I832<>\"\",J832<>\"\"),Data!L832-$F$4,\"\")","v":""},"","","","",{"$f":"IF(F832<>\"\",STDEV($Q$12:Q832),\"\")","v":""},""]
[822,null,{"$f":"RIGHT(Data!C833,10)","v":""},null,null,null,null,null,null,null,{"$f":"IFERROR($U$3*Data!O833/SQRT(COUNT(Data!F833:J833)),\"\")","v":""},"","","","","",{"$f":"IFERROR((Data!K833-$F$4),\"\")","v":""},{"$f":"IF(AND(F833<>\"\",G833<>\"\",H833<>\"\",I833<>\"\",J833<>\"\"),Data!L833-$F$4,\"\")","v":""},"","","","",{"$f":"IF(F833<>\"\",STDEV($Q$12:Q833),\"\")","v":""},""]
[823,null,{"$f":"RIGHT(Data!C834,10)","v":""},null,null,null,null,null,null,null,{"$f":"IFERROR($U$3*Data!O834/SQRT(COUNT(Data!F834:J834)),\"\")","v":""},"","","","","",{"$f":"IFERROR((Data!K834-$F$4),\"\")","v":""},{"$f":"IF(AND(F834<>\"\",G834<>\"\",H834<>\"\",I834<>\"\",J834<>\"\"),Data!L834-$F$4,\"\")","v":""},"","","","",{"$f":"IF(F834<>\"\",STDEV($Q$12:Q834),\"\")","v":""},""]
[824,null,{"$f":"RIGHT(Data!C835,10)","v":""},null,null,null,null,null,null,null,{"$f":"IFERROR($U$3*Data!O835/SQRT(COUNT(Data!F835:J835)),\"\")","v":""},"","","","","",{"$f":"IFERROR((Data!K835-$F$4),\"\")","v":""},{"$f":"IF(AND(F835<>\"\",G835<>\"\",H835<>\"\",I835<>\"\",J835<>\"\"),Data!L835-$F$4,\"\")","v":""},"","","","",{"$f":"IF(F835<>\"\",STDEV($Q$12:Q835),\"\")","v":""},""]
[825,null,{"$f":"RIGHT(Data!C836,10)","v":""},null,null,null,null,null,null,null,{"$f":"IFERROR($U$3*Data!O836/SQRT(COUNT(Data!F836:J836)),\"\")","v":""},"","","","","",{"$f":"IFERROR((Data!K836-$F$4),\"\")","v":""},{"$f":"IF(AND(F836<>\"\",G836<>\"\",H836<>\"\",I836<>\"\",J836<>\"\"),Data!L836-$F$4,\"\")","v":""},"","","","",{"$f":"IF(F836<>\"\",STDEV($Q$12:Q836),\"\")","v":""},""]
[826,null,{"$f":"RIGHT(Data!C837,10)","v":""},null,null,null,null,null,null,null,{"$f":"IFERROR($U$3*Data!O837/SQRT(COUNT(Data!F837:J837)),\"\")","v":""},"","","","","",{"$f":"IFERROR((Data!K837-$F$4),\"\")","v":""},{"$f":"IF(AND(F837<>\"\",G837<>\"\",H837<>\"\",I837<>\"\",J837<>\"\"),Data!L837-$F$4,\"\")","v":""},"","","","",{"$f":"IF(F837<>\"\",STDEV($Q$12:Q837),\"\")","v":""},""]
[827,null,{"$f":"RIGHT(Data!C838,10)","v":""},null,null,null,null,null,null,null,{"$f":"IFERROR($U$3*Data!O838/SQRT(COUNT(Data!F838:J838)),\"\")","v":""},"","","","","",{"$f":"IFERROR((Data!K838-$F$4),\"\")","v":""},{"$f":"IF(AND(F838<>\"\",G838<>\"\",H838<>\"\",I838<>\"\",J838<>\"\"),Data!L838-$F$4,\"\")","v":""},"","","","",{"$f":"IF(F838<>\"\",STDEV($Q$12:Q838),\"\")","v":""},""]
[828,null,{"$f":"RIGHT(Data!C839,10)","v":""},null,null,null,null,null,null,null,{"$f":"IFERROR($U$3*Data!O839/SQRT(COUNT(Data!F839:J839)),\"\")","v":""},"","","","","",{"$f":"IFERROR((Data!K839-$F$4),\"\")","v":""},{"$f":"IF(AND(F839<>\"\",G839<>\"\",H839<>\"\",I839<>\"\",J839<>\"\"),Data!L839-$F$4,\"\")","v":""},"","","","",{"$f":"IF(F839<>\"\",STDEV($Q$12:Q839),\"\")","v":""},""]
[829,null,{"$f":"RIGHT(Data!C840,10)","v":""},null,null,null,null,null,null,null,{"$f":"IFERROR($U$3*Data!O840/SQRT(COUNT(Data!F840:J840)),\"\")","v":""},"","","","","",{"$f":"IFERROR((Data!K840-$F$4),\"\")","v":""},{"$f":"IF(AND(F840<>\"\",G840<>\"\",H840<>\"\",I840<>\"\",J840<>\"\"),Data!L840-$F$4,\"\")","v":""},"","","","",{"$f":"IF(F840<>\"\",STDEV($Q$12:Q840),\"\")","v":""},""]
[830,null,{"$f":"RIGHT(Data!C841,10)","v":""},null,null,null,null,null,null,null,{"$f":"IFERROR($U$3*Data!O841/SQRT(COUNT(Data!F841:J841)),\"\")","v":""},"","","","","",{"$f":"IFERROR((Data!K841-$F$4),\"\")","v":""},{"$f":"IF(AND(F841<>\"\",G841<>\"\",H841<>\"\",I841<>\"\",J841<>\"\"),Data!L841-$F$4,\"\")","v":""},"","","","",{"$f":"IF(F841<>\"\",STDEV($Q$12:Q841),\"\")","v":""},""]
[831,null,{"$f":"RIGHT(Data!C842,10)","v":""},null,null,null,null,null,null,null,{"$f":"IFERROR($U$3*Data!O842/SQRT(COUNT(Data!F842:J842)),\"\")","v":""},"","","","","",{"$f":"IFERROR((Data!K842-$F$4),\"\")","v":""},{"$f":"IF(AND(F842<>\"\",G842<>\"\",H842<>\"\",I842<>\"\",J842<>\"\"),Data!L842-$F$4,\"\")","v":""},"","","","",{"$f":"IF(F842<>\"\",STDEV($Q$12:Q842),\"\")","v":""},""]
[832,null,{"$f":"RIGHT(Data!C843,10)","v":""},null,null,null,null,null,null,null,{"$f":"IFERROR($U$3*Data!O843/SQRT(COUNT(Data!F843:J843)),\"\")","v":""},"","","","","",{"$f":"IFERROR((Data!K843-$F$4),\"\")","v":""},{"$f":"IF(AND(F843<>\"\",G843<>\"\",H843<>\"\",I843<>\"\",J843<>\"\"),Data!L843-$F$4,\"\")","v":""},"","","","",{"$f":"IF(F843<>\"\",STDEV($Q$12:Q843),\"\")","v":""},""]
[833,null,{"$f":"RIGHT(Data!C844,10)","v":""},null,null,null,null,null,null,null,{"$f":"IFERROR($U$3*Data!O844/SQRT(COUNT(Data!F844:J844)),\"\")","v":""},"","",{"$f":"IF(COUNT(F844:J844)>=5,STDEV(F844:J844)*$U$3/SQRT((COUNT(F844:J844))),\"\")","v":""},"","",{"$f":"IFERROR((Data!K844-$F$4),\"\")","v":""},{"$f":"IF(AND(F844<>\"\",G844<>\"\",H844<>\"\",I844<>\"\",J844<>\"\"),Data!L844-$F$4,\"\")","v":""},{"$f":"IF(O844<>\"\",FIXED(X844,1) & \" ± \" & FIXED(O844+ABS(R844),2),\"\")","v":""},"","","",{"$f":"IF(F844<>\"\",STDEV($Q$12:Q844),\"\")","v":""},{"$f":"IF(F844<>\"\",AVERAGE(F844:J844),\"\")","v":""}]
[834,null,{"$f":"RIGHT(Data!C845,10)","v":""},null,null,null,null,null,null,null,{"$f":"IFERROR($U$3*Data!O845/SQRT(COUNT(Data!F845:J845)),\"\")","v":""},{"$f":"IF(F845<>\"\",V845*W845/SQRT(A845),\"\")","v":""},{"$f":"IF(F845<>\"\",$U$4*SQRT($U$7^2+L845^2+K845^2+$U$5^2),\"\")","v":""},"",{"$f":"IFERROR($U$4*SQRT($U$7^2+L845^2+K845^2+$U$5^2+N845^2),\"\")","v":""},{"$f":"IF(AND(F845<>\"\",G845<>\"\",H845<>\"\",I845<>\"\",J845<>\"\"),AVERAGE(F845:J845),\"\")","v":""},{"$f":"IFERROR((Data!K845-$F$4),\"\")","v":""},{"$f":"IF(AND(F845<>\"\",G845<>\"\",H845<>\"\",I845<>\"\",J845<>\"\"),Data!L845-$F$4,\"\")","v":""},"",{"$f":"IF(F845<>\"\",FIXED(AVERAGE(F845:J845)-R845,1) & \" ± \" & FIXED(O845,2),\"\")","v":""},{"$f":"IF(IO845=\"\",\"\",IO845-1)","v":""},{"$f":"IF(F845<>\"\",TINV(1-0.68,A845-1),\"\")","v":""},{"$f":"IF(F845<>\"\",STDEV($Q$12:Q845),\"\")","v":""},""]
[835,null,{"$f":"RIGHT(Data!C846,10)","v":""},null,null,null,null,null,null,null,{"$f":"IFERROR($U$3*Data!O846/SQRT(COUNT(Data!F846:J846)),\"\")","v":""},"","","","","",{"$f":"IFERROR((Data!K846-$F$4),\"\")","v":""},{"$f":"IF(AND(F846<>\"\",G846<>\"\",H846<>\"\",I846<>\"\",J846<>\"\"),Data!L846-$F$4,\"\")","v":""},"","","","",{"$f":"IF(F846<>\"\",STDEV($Q$12:Q846),\"\")","v":""},""]
[836,null,{"$f":"RIGHT(Data!C847,10)","v":""},null,null,null,null,null,null,null,{"$f":"IFERROR($U$3*Data!O847/SQRT(COUNT(Data!F847:J847)),\"\")","v":""},"","","","","",{"$f":"IFERROR((Data!K847-$F$4),\"\")","v":""},{"$f":"IF(AND(F847<>\"\",G847<>\"\",H847<>\"\",I847<>\"\",J847<>\"\"),Data!L847-$F$4,\"\")","v":""},"","","","",{"$f":"IF(F847<>\"\",STDEV($Q$12:Q847),\"\")","v":""},""]
[837,null,{"$f":"RIGHT(Data!C848,10)","v":""},null,null,null,null,null,null,null,{"$f":"IFERROR($U$3*Data!O848/SQRT(COUNT(Data!F848:J848)),\"\")","v":""},"","","","","",{"$f":"IFERROR((Data!K848-$F$4),\"\")","v":""},{"$f":"IF(AND(F848<>\"\",G848<>\"\",H848<>\"\",I848<>\"\",J848<>\"\"),Data!L848-$F$4,\"\")","v":""},"","","","",{"$f":"IF(F848<>\"\",STDEV($Q$12:Q848),\"\")","v":""},""]
[838,null,{"$f":"RIGHT(Data!C849,10)","v":""},null,null,null,null,null,null,null,{"$f":"IFERROR($U$3*Data!O849/SQRT(COUNT(Data!F849:J849)),\"\")","v":""},"","","","","",{"$f":"IFERROR((Data!K849-$F$4),\"\")","v":""},{"$f":"IF(AND(F849<>\"\",G849<>\"\",H849<>\"\",I849<>\"\",J849<>\"\"),Data!L849-$F$4,\"\")","v":""},"","","","",{"$f":"IF(F849<>\"\",STDEV($Q$12:Q849),\"\")","v":""},""]
[839,null,{"$f":"RIGHT(Data!C850,10)","v":""},null,null,null,null,null,null,null,{"$f":"IFERROR($U$3*Data!O850/SQRT(COUNT(Data!F850:J850)),\"\")","v":""},"","","","","",{"$f":"IFERROR((Data!K850-$F$4),\"\")","v":""},{"$f":"IF(AND(F850<>\"\",G850<>\"\",H850<>\"\",I850<>\"\",J850<>\"\"),Data!L850-$F$4,\"\")","v":""},"","","","",{"$f":"IF(F850<>\"\",STDEV($Q$12:Q850),\"\")","v":""},""]
[840,null,{"$f":"RIGHT(Data!C851,10)","v":""},null,null,null,null,null,null,null,{"$f":"IFERROR($U$3*Data!O851/SQRT(COUNT(Data!F851:J851)),\"\")","v":""},"","","","","",{"$f":"IFERROR((Data!K851-$F$4),\"\")","v":""},{"$f":"IF(AND(F851<>\"\",G851<>\"\",H851<>\"\",I851<>\"\",J851<>\"\"),Data!L851-$F$4,\"\")","v":""},"","","","",{"$f":"IF(F851<>\"\",STDEV($Q$12:Q851),\"\")","v":""},""]
[841,null,{"$f":"RIGHT(Data!C852,10)","v":""},null,null,null,null,null,null,null,{"$f":"IFERROR($U$3*Data!O852/SQRT(COUNT(Data!F852:J852)),\"\")","v":""},"","","","","",{"$f":"IFERROR((Data!K852-$F$4),\"\")","v":""},{"$f":"IF(AND(F852<>\"\",G852<>\"\",H852<>\"\",I852<>\"\",J852<>\"\"),Data!L852-$F$4,\"\")","v":""},"","","","",{"$f":"IF(F852<>\"\",STDEV($Q$12:Q852),\"\")","v":""},""]
[842,null,{"$f":"RIGHT(Data!C853,10)","v":""},null,null,null,null,null,null,null,{"$f":"IFERROR($U$3*Data!O853/SQRT(COUNT(Data!F853:J853)),\"\")","v":""},"","","","","",{"$f":"IFERROR((Data!K853-$F$4),\"\")","v":""},{"$f":"IF(AND(F853<>\"\",G853<>\"\",H853<>\"\",I853<>\"\",J853<>\"\"),Data!L853-$F$4,\"\")","v":""},"","","","",{"$f":"IF(F853<>\"\",STDEV($Q$12:Q853),\"\")","v":""},""]
[843,null,{"$f":"RIGHT(Data!C854,10)","v":""},null,null,null,null,null,null,null,{"$f":"IFERROR($U$3*Data!O854/SQRT(COUNT(Data!F854:J854)),\"\")","v":""},"","","","","",{"$f":"IFERROR((Data!K854-$F$4),\"\")","v":""},{"$f":"IF(AND(F854<>\"\",G854<>\"\",H854<>\"\",I854<>\"\",J854<>\"\"),Data!L854-$F$4,\"\")","v":""},"","","","",{"$f":"IF(F854<>\"\",STDEV($Q$12:Q854),\"\")","v":""},""]
[844,null,{"$f":"RIGHT(Data!C855,10)","v":""},null,null,null,null,null,null,null,{"$f":"IFERROR($U$3*Data!O855/SQRT(COUNT(Data!F855:J855)),\"\")","v":""},"","","","","",{"$f":"IFERROR((Data!K855-$F$4),\"\")","v":""},{"$f":"IF(AND(F855<>\"\",G855<>\"\",H855<>\"\",I855<>\"\",J855<>\"\"),Data!L855-$F$4,\"\")","v":""},"","","","",{"$f":"IF(F855<>\"\",STDEV($Q$12:Q855),\"\")","v":""},""]
[845,null,{"$f":"RIGHT(Data!C856,10)","v":""},null,null,null,null,null,null,null,{"$f":"IFERROR($U$3*Data!O856/SQRT(COUNT(Data!F856:J856)),\"\")","v":""},"","","","","",{"$f":"IFERROR((Data!K856-$F$4),\"\")","v":""},{"$f":"IF(AND(F856<>\"\",G856<>\"\",H856<>\"\",I856<>\"\",J856<>\"\"),Data!L856-$F$4,\"\")","v":""},"","","","",{"$f":"IF(F856<>\"\",STDEV($Q$12:Q856),\"\")","v":""},""]
[846,null,{"$f":"RIGHT(Data!C857,10)","v":""},null,null,null,null,null,null,null,{"$f":"IFERROR($U$3*Data!O857/SQRT(COUNT(Data!F857:J857)),\"\")","v":""},"","","","","",{"$f":"IFERROR((Data!K857-$F$4),\"\")","v":""},{"$f":"IF(AND(F857<>\"\",G857<>\"\",H857<>\"\",I857<>\"\",J857<>\"\"),Data!L857-$F$4,\"\")","v":""},"","","","",{"$f":"IF(F857<>\"\",STDEV($Q$12:Q857),\"\")","v":""},""]
[847,null,{"$f":"RIGHT(Data!C858,10)","v":""},null,null,null,null,null,null,null,{"$f":"IFERROR($U$3*Data!O858/SQRT(COUNT(Data!F858:J858)),\"\")","v":""},"","","","","",{"$f":"IFERROR((Data!K858-$F$4),\"\")","v":""},{"$f":"IF(AND(F858<>\"\",G858<>\"\",H858<>\"\",I858<>\"\",J858<>\"\"),Data!L858-$F$4,\"\")","v":""},"","","","",{"$f":"IF(F858<>\"\",STDEV($Q$12:Q858),\"\")","v":""},""]
[848,null,{"$f":"RIGHT(Data!C859,10)","v":""},null,null,null,null,null,null,null,{"$f":"IFERROR($U$3*Data!O859/SQRT(COUNT(Data!F859:J859)),\"\")","v":""},"","","","","",{"$f":"IFERROR((Data!K859-$F$4),\"\")","v":""},{"$f":"IF(AND(F859<>\"\",G859<>\"\",H859<>\"\",I859<>\"\",J859<>\"\"),Data!L859-$F$4,\"\")","v":""},"","","","",{"$f":"IF(F859<>\"\",STDEV($Q$12:Q859),\"\")","v":""},""]
[849,null,{"$f":"RIGHT(Data!C860,10)","v":""},null,null,null,null,null,null,null,{"$f":"IFERROR($U$3*Data!O860/SQRT(COUNT(Data!F860:J860)),\"\")","v":""},"","","","","",{"$f":"IFERROR((Data!K860-$F$4),\"\")","v":""},{"$f":"IF(AND(F860<>\"\",G860<>\"\",H860<>\"\",I860<>\"\",J860<>\"\"),Data!L860-$F$4,\"\")","v":""},"","","","",{"$f":"IF(F860<>\"\",STDEV($Q$12:Q860),\"\")","v":""},""]
[850,null,{"$f":"RIGHT(Data!C861,10)","v":""},null,null,null,null,null,null,null,{"$f":"IFERROR($U$3*Data!O861/SQRT(COUNT(Data!F861:J861)),\"\")","v":""},"","","","","",{"$f":"IFERROR((Data!K861-$F$4),\"\")","v":""},{"$f":"IF(AND(F861<>\"\",G861<>\"\",H861<>\"\",I861<>\"\",J861<>\"\"),Data!L861-$F$4,\"\")","v":""},"","","","",{"$f":"IF(F861<>\"\",STDEV($Q$12:Q861),\"\")","v":""},""]
[851,null,{"$f":"RIGHT(Data!C862,10)","v":""},null,null,null,null,null,null,null,{"$f":"IFERROR($U$3*Data!O862/SQRT(COUNT(Data!F862:J862)),\"\")","v":""},"","","","","",{"$f":"IFERROR((Data!K862-$F$4),\"\")","v":""},{"$f":"IF(AND(F862<>\"\",G862<>\"\",H862<>\"\",I862<>\"\",J862<>\"\"),Data!L862-$F$4,\"\")","v":""},"","","","",{"$f":"IF(F862<>\"\",STDEV($Q$12:Q862),\"\")","v":""},""]
[852,null,{"$f":"RIGHT(Data!C863,10)","v":""},null,null,null,null,null,null,null,{"$f":"IFERROR($U$3*Data!O863/SQRT(COUNT(Data!F863:J863)),\"\")","v":""},"","","","","",{"$f":"IFERROR((Data!K863-$F$4),\"\")","v":""},{"$f":"IF(AND(F863<>\"\",G863<>\"\",H863<>\"\",I863<>\"\",J863<>\"\"),Data!L863-$F$4,\"\")","v":""},"","","","",{"$f":"IF(F863<>\"\",STDEV($Q$12:Q863),\"\")","v":""},""]
[853,null,{"$f":"RIGHT(Data!C864,10)","v":""},null,null,null,null,null,null,null,{"$f":"IFERROR($U$3*Data!O864/SQRT(COUNT(Data!F864:J864)),\"\")","v":""},"","","","","",{"$f":"IFERROR((Data!K864-$F$4),\"\")","v":""},{"$f":"IF(AND(F864<>\"\",G864<>\"\",H864<>\"\",I864<>\"\",J864<>\"\"),Data!L864-$F$4,\"\")","v":""},"","","","",{"$f":"IF(F864<>\"\",STDEV($Q$12:Q864),\"\")","v":""},""]
[854,null,{"$f":"RIGHT(Data!C865,10)","v":""},null,null,null,null,null,null,null,{"$f":"IFERROR($U$3*Data!O865/SQRT(COUNT(Data!F865:J865)),\"\")","v":""},"","","","","",{"$f":"IFERROR((Data!K865-$F$4),\"\")","v":""},{"$f":"IF(AND(F865<>\"\",G865<>\"\",H865<>\"\",I865<>\"\",J865<>\"\"),Data!L865-$F$4,\"\")","v":""},"","","","",{"$f":"IF(F865<>\"\",STDEV($Q$12:Q865),\"\")","v":""},""]
[855,null,{"$f":"RIGHT(Data!C866,10)","v":""},null,null,null,null,null,null,null,{"$f":"IFERROR($U$3*Data!O866/SQRT(COUNT(Data!F866:J866)),\"\")","v":""},"","","","","",{"$f":"IFERROR((Data!K866-$F$4),\"\")","v":""},{"$f":"IF(AND(F866<>\"\",G866<>\"\",H866<>\"\",I866<>\"\",J866<>\"\"),Data!L866-$F$4,\"\")","v":""},"","","","",{"$f":"IF(F866<>\"\",STDEV($Q$12:Q866),\"\")","v":""},""]
[856,null,{"$f":"RIGHT(Data!C867,10)","v":""},null,null,null,null,null,null,null,{"$f":"IFERROR($U$3*Data!O867/SQRT(COUNT(Data!F867:J867)),\"\")","v":""},"","","","","",{"$f":"IFERROR((Data!K867-$F$4),\"\")","v":""},{"$f":"IF(AND(F867<>\"\",G867<>\"\",H867<>\"\",I867<>\"\",J867<>\"\"),Data!L867-$F$4,\"\")","v":""},"","","","",{"$f":"IF(F867<>\"\",STDEV($Q$12:Q867),\"\")","v":""},""]
[857,null,{"$f":"RIGHT(Data!C868,10)","v":""},null,null,null,null,null,null,null,{"$f":"IFERROR($U$3*Data!O868/SQRT(COUNT(Data!F868:J868)),\"\")","v":""},"","","","","",{"$f":"IFERROR((Data!K868-$F$4),\"\")","v":""},{"$f":"IF(AND(F868<>\"\",G868<>\"\",H868<>\"\",I868<>\"\",J868<>\"\"),Data!L868-$F$4,\"\")","v":""},"","","","",{"$f":"IF(F868<>\"\",STDEV($Q$12:Q868),\"\")","v":""},""]
[858,null,{"$f":"RIGHT(Data!C869,10)","v":""},null,null,null,null,null,null,null,{"$f":"IFERROR($U$3*Data!O869/SQRT(COUNT(Data!F869:J869)),\"\")","v":""},"","","","","",{"$f":"IFERROR((Data!K869-$F$4),\"\")","v":""},{"$f":"IF(AND(F869<>\"\",G869<>\"\",H869<>\"\",I869<>\"\",J869<>\"\"),Data!L869-$F$4,\"\")","v":""},"","","","",{"$f":"IF(F869<>\"\",STDEV($Q$12:Q869),\"\")","v":""},""]
[859,null,{"$f":"RIGHT(Data!C870,10)","v":""},null,null,null,null,null,null,null,{"$f":"IFERROR($U$3*Data!O870/SQRT(COUNT(Data!F870:J870)),\"\")","v":""},"","","","","",{"$f":"IFERROR((Data!K870-$F$4),\"\")","v":""},{"$f":"IF(AND(F870<>\"\",G870<>\"\",H870<>\"\",I870<>\"\",J870<>\"\"),Data!L870-$F$4,\"\")","v":""},"","","","",{"$f":"IF(F870<>\"\",STDEV($Q$12:Q870),\"\")","v":""},""]
[860,null,{"$f":"RIGHT(Data!C871,10)","v":""},null,null,null,null,null,null,null,{"$f":"IFERROR($U$3*Data!O871/SQRT(COUNT(Data!F871:J871)),\"\")","v":""},"","","","","",{"$f":"IFERROR((Data!K871-$F$4),\"\")","v":""},{"$f":"IF(AND(F871<>\"\",G871<>\"\",H871<>\"\",I871<>\"\",J871<>\"\"),Data!L871-$F$4,\"\")","v":""},"","","","",{"$f":"IF(F871<>\"\",STDEV($Q$12:Q871),\"\")","v":""},""]
[861,null,{"$f":"RIGHT(Data!C872,10)","v":""},null,null,null,null,null,null,null,{"$f":"IFERROR($U$3*Data!O872/SQRT(COUNT(Data!F872:J872)),\"\")","v":""},"","","","","",{"$f":"IFERROR((Data!K872-$F$4),\"\")","v":""},{"$f":"IF(AND(F872<>\"\",G872<>\"\",H872<>\"\",I872<>\"\",J872<>\"\"),Data!L872-$F$4,\"\")","v":""},"","","","",{"$f":"IF(F872<>\"\",STDEV($Q$12:Q872),\"\")","v":""},""]
[862,null,{"$f":"RIGHT(Data!C873,10)","v":""},null,null,null,null,null,null,null,{"$f":"IFERROR($U$3*Data!O873/SQRT(COUNT(Data!F873:J873)),\"\")","v":""},"","","","","",{"$f":"IFERROR((Data!K873-$F$4),\"\")","v":""},{"$f":"IF(AND(F873<>\"\",G873<>\"\",H873<>\"\",I873<>\"\",J873<>\"\"),Data!L873-$F$4,\"\")","v":""},"","","","",{"$f":"IF(F873<>\"\",STDEV($Q$12:Q873),\"\")","v":""},""]
[863,null,{"$f":"RIGHT(Data!C874,10)","v":""},null,null,null,null,null,null,null,{"$f":"IFERROR($U$3*Data!O874/SQRT(COUNT(Data!F874:J874)),\"\")","v":""},"","","","","",{"$f":"IFERROR((Data!K874-$F$4),\"\")","v":""},{"$f":"IF(AND(F874<>\"\",G874<>\"\",H874<>\"\",I874<>\"\",J874<>\"\"),Data!L874-$F$4,\"\")","v":""},"","","","",{"$f":"IF(F874<>\"\",STDEV($Q$12:Q874),\"\")","v":""},""]
[864,null,{"$f":"RIGHT(Data!C875,10)","v":""},null,null,null,null,null,null,null,{"$f":"IFERROR($U$3*Data!O875/SQRT(COUNT(Data!F875:J875)),\"\")","v":""},"","","","","",{"$f":"IFERROR((Data!K875-$F$4),\"\")","v":""},{"$f":"IF(AND(F875<>\"\",G875<>\"\",H875<>\"\",I875<>\"\",J875<>\"\"),Data!L875-$F$4,\"\")","v":""},"","","","",{"$f":"IF(F875<>\"\",STDEV($Q$12:Q875),\"\")","v":""},""]
[865,null,{"$f":"RIGHT(Data!C876,10)","v":""},null,null,null,null,null,null,null,{"$f":"IFERROR($U$3*Data!O876/SQRT(COUNT(Data!F876:J876)),\"\")","v":""},"","","","","",{"$f":"IFERROR((Data!K876-$F$4),\"\")","v":""},{"$f":"IF(AND(F876<>\"\",G876<>\"\",H876<>\"\",I876<>\"\",J876<>\"\"),Data!L876-$F$4,\"\")","v":""},"","","","",{"$f":"IF(F876<>\"\",STDEV($Q$12:Q876),\"\")","v":""},""]
[866,null,{"$f":"RIGHT(Data!C877,10)","v":""},null,null,null,null,null,null,null,{"$f":"IFERROR($U$3*Data!O877/SQRT(COUNT(Data!F877:J877)),\"\")","v":""},"","","","","",{"$f":"IFERROR((Data!K877-$F$4),\"\")","v":""},{"$f":"IF(AND(F877<>\"\",G877<>\"\",H877<>\"\",I877<>\"\",J877<>\"\"),Data!L877-$F$4,\"\")","v":""},"","","","",{"$f":"IF(F877<>\"\",STDEV($Q$12:Q877),\"\")","v":""},""]
[867,null,{"$f":"RIGHT(Data!C878,10)","v":""},null,null,null,null,null,null,null,{"$f":"IFERROR($U$3*Data!O878/SQRT(COUNT(Data!F878:J878)),\"\")","v":""},"","","","","",{"$f":"IFERROR((Data!K878-$F$4),\"\")","v":""},{"$f":"IF(AND(F878<>\"\",G878<>\"\",H878<>\"\",I878<>\"\",J878<>\"\"),Data!L878-$F$4,\"\")","v":""},"","","","",{"$f":"IF(F878<>\"\",STDEV($Q$12:Q878),\"\")","v":""},""]
[868,null,{"$f":"RIGHT(Data!C879,10)","v":""},null,null,null,null,null,null,null,{"$f":"IFERROR($U$3*Data!O879/SQRT(COUNT(Data!F879:J879)),\"\")","v":""},"","","","","",{"$f":"IFERROR((Data!K879-$F$4),\"\")","v":""},{"$f":"IF(AND(F879<>\"\",G879<>\"\",H879<>\"\",I879<>\"\",J879<>\"\"),Data!L879-$F$4,\"\")","v":""},"","","","",{"$f":"IF(F879<>\"\",STDEV($Q$12:Q879),\"\")","v":""},""]
[869,null,{"$f":"RIGHT(Data!C880,10)","v":""},null,null,null,null,null,null,null,{"$f":"IFERROR($U$3*Data!O880/SQRT(COUNT(Data!F880:J880)),\"\")","v":""},"","","","","",{"$f":"IFERROR((Data!K880-$F$4),\"\")","v":""},{"$f":"IF(AND(F880<>\"\",G880<>\"\",H880<>\"\",I880<>\"\",J880<>\"\"),Data!L880-$F$4,\"\")","v":""},"","","","",{"$f":"IF(F880<>\"\",STDEV($Q$12:Q880),\"\")","v":""},""]
[870,null,{"$f":"RIGHT(Data!C881,10)","v":""},null,null,null,null,null,null,null,{"$f":"IFERROR($U$3*Data!O881/SQRT(COUNT(Data!F881:J881)),\"\")","v":""},"","","","","",{"$f":"IFERROR((Data!K881-$F$4),\"\")","v":""},{"$f":"IF(AND(F881<>\"\",G881<>\"\",H881<>\"\",I881<>\"\",J881<>\"\"),Data!L881-$F$4,\"\")","v":""},"","","","",{"$f":"IF(F881<>\"\",STDEV($Q$12:Q881),\"\")","v":""},""]
[871,null,{"$f":"RIGHT(Data!C882,10)","v":""},null,null,null,null,null,null,null,{"$f":"IFERROR($U$3*Data!O882/SQRT(COUNT(Data!F882:J882)),\"\")","v":""},"","","","","",{"$f":"IFERROR((Data!K882-$F$4),\"\")","v":""},{"$f":"IF(AND(F882<>\"\",G882<>\"\",H882<>\"\",I882<>\"\",J882<>\"\"),Data!L882-$F$4,\"\")","v":""},"","","","",{"$f":"IF(F882<>\"\",STDEV($Q$12:Q882),\"\")","v":""},""]
[872,null,{"$f":"RIGHT(Data!C883,10)","v":""},null,null,null,null,null,null,null,{"$f":"IFERROR($U$3*Data!O883/SQRT(COUNT(Data!F883:J883)),\"\")","v":""},"","","","","",{"$f":"IFERROR((Data!K883-$F$4),\"\")","v":""},{"$f":"IF(AND(F883<>\"\",G883<>\"\",H883<>\"\",I883<>\"\",J883<>\"\"),Data!L883-$F$4,\"\")","v":""},"","","","",{"$f":"IF(F883<>\"\",STDEV($Q$12:Q883),\"\")","v":""},""]
[873,null,{"$f":"RIGHT(Data!C884,10)","v":""},null,null,null,null,null,null,null,{"$f":"IFERROR($U$3*Data!O884/SQRT(COUNT(Data!F884:J884)),\"\")","v":""},"","","","","",{"$f":"IFERROR((Data!K884-$F$4),\"\")","v":""},{"$f":"IF(AND(F884<>\"\",G884<>\"\",H884<>\"\",I884<>\"\",J884<>\"\"),Data!L884-$F$4,\"\")","v":""},"","","","",{"$f":"IF(F884<>\"\",STDEV($Q$12:Q884),\"\")","v":""},""]
[874,null,{"$f":"RIGHT(Data!C885,10)","v":""},null,null,null,null,null,null,null,{"$f":"IFERROR($U$3*Data!O885/SQRT(COUNT(Data!F885:J885)),\"\")","v":""},"","","","","",{"$f":"IFERROR((Data!K885-$F$4),\"\")","v":""},{"$f":"IF(AND(F885<>\"\",G885<>\"\",H885<>\"\",I885<>\"\",J885<>\"\"),Data!L885-$F$4,\"\")","v":""},"","","","",{"$f":"IF(F885<>\"\",STDEV($Q$12:Q885),\"\")","v":""},""]
[875,null,{"$f":"RIGHT(Data!C886,10)","v":""},null,null,null,null,null,null,null,{"$f":"IFERROR($U$3*Data!O886/SQRT(COUNT(Data!F886:J886)),\"\")","v":""},"","","","","",{"$f":"IFERROR((Data!K886-$F$4),\"\")","v":""},{"$f":"IF(AND(F886<>\"\",G886<>\"\",H886<>\"\",I886<>\"\",J886<>\"\"),Data!L886-$F$4,\"\")","v":""},"","","","",{"$f":"IF(F886<>\"\",STDEV($Q$12:Q886),\"\")","v":""},""]
[876,null,{"$f":"RIGHT(Data!C887,10)","v":""},null,null,null,null,null,null,null,{"$f":"IFERROR($U$3*Data!O887/SQRT(COUNT(Data!F887:J887)),\"\")","v":""},"","","","","",{"$f":"IFERROR((Data!K887-$F$4),\"\")","v":""},{"$f":"IF(AND(F887<>\"\",G887<>\"\",H887<>\"\",I887<>\"\",J887<>\"\"),Data!L887-$F$4,\"\")","v":""},"","","","",{"$f":"IF(F887<>\"\",STDEV($Q$12:Q887),\"\")","v":""},""]
[877,null,{"$f":"RIGHT(Data!C888,10)","v":""},null,null,null,null,null,null,null,{"$f":"IFERROR($U$3*Data!O888/SQRT(COUNT(Data!F888:J888)),\"\")","v":""},"","","","","",{"$f":"IFERROR((Data!K888-$F$4),\"\")","v":""},{"$f":"IF(AND(F888<>\"\",G888<>\"\",H888<>\"\",I888<>\"\",J888<>\"\"),Data!L888-$F$4,\"\")","v":""},"","","","",{"$f":"IF(F888<>\"\",STDEV($Q$12:Q888),\"\")","v":""},""]
[878,null,{"$f":"RIGHT(Data!C889,10)","v":""},null,null,null,null,null,null,null,{"$f":"IFERROR($U$3*Data!O889/SQRT(COUNT(Data!F889:J889)),\"\")","v":""},"","","","","",{"$f":"IFERROR((Data!K889-$F$4),\"\")","v":""},{"$f":"IF(AND(F889<>\"\",G889<>\"\",H889<>\"\",I889<>\"\",J889<>\"\"),Data!L889-$F$4,\"\")","v":""},"","","","",{"$f":"IF(F889<>\"\",STDEV($Q$12:Q889),\"\")","v":""},""]
[879,null,{"$f":"RIGHT(Data!C890,10)","v":""},null,null,null,null,null,null,null,{"$f":"IFERROR($U$3*Data!O890/SQRT(COUNT(Data!F890:J890)),\"\")","v":""},"","","","","",{"$f":"IFERROR((Data!K890-$F$4),\"\")","v":""},{"$f":"IF(AND(F890<>\"\",G890<>\"\",H890<>\"\",I890<>\"\",J890<>\"\"),Data!L890-$F$4,\"\")","v":""},"","","","",{"$f":"IF(F890<>\"\",STDEV($Q$12:Q890),\"\")","v":""},""]
[880,null,{"$f":"RIGHT(Data!C891,10)","v":""},null,null,null,null,null,null,null,{"$f":"IFERROR($U$3*Data!O891/SQRT(COUNT(Data!F891:J891)),\"\")","v":""},"","","","","",{"$f":"IFERROR((Data!K891-$F$4),\"\")","v":""},{"$f":"IF(AND(F891<>\"\",G891<>\"\",H891<>\"\",I891<>\"\",J891<>\"\"),Data!L891-$F$4,\"\")","v":""},"","","","",{"$f":"IF(F891<>\"\",STDEV($Q$12:Q891),\"\")","v":""},""]
[881,null,{"$f":"RIGHT(Data!C892,10)","v":""},null,null,null,null,null,null,null,{"$f":"IFERROR($U$3*Data!O892/SQRT(COUNT(Data!F892:J892)),\"\")","v":""},"","","","","",{"$f":"IFERROR((Data!K892-$F$4),\"\")","v":""},{"$f":"IF(AND(F892<>\"\",G892<>\"\",H892<>\"\",I892<>\"\",J892<>\"\"),Data!L892-$F$4,\"\")","v":""},"","","","",{"$f":"IF(F892<>\"\",STDEV($Q$12:Q892),\"\")","v":""},""]
[882,null,{"$f":"RIGHT(Data!C893,10)","v":""},null,null,null,null,null,null,null,{"$f":"IFERROR($U$3*Data!O893/SQRT(COUNT(Data!F893:J893)),\"\")","v":""},"","","","","",{"$f":"IFERROR((Data!K893-$F$4),\"\")","v":""},{"$f":"IF(AND(F893<>\"\",G893<>\"\",H893<>\"\",I893<>\"\",J893<>\"\"),Data!L893-$F$4,\"\")","v":""},"","","","",{"$f":"IF(F893<>\"\",STDEV($Q$12:Q893),\"\")","v":""},""]
[883,null,{"$f":"RIGHT(Data!C894,10)","v":""},null,null,null,null,null,null,null,{"$f":"IFERROR($U$3*Data!O894/SQRT(COUNT(Data!F894:J894)),\"\")","v":""},"","","","","",{"$f":"IFERROR((Data!K894-$F$4),\"\")","v":""},{"$f":"IF(AND(F894<>\"\",G894<>\"\",H894<>\"\",I894<>\"\",J894<>\"\"),Data!L894-$F$4,\"\")","v":""},"","","","",{"$f":"IF(F894<>\"\",STDEV($Q$12:Q894),\"\")","v":""},""]
[884,null,{"$f":"RIGHT(Data!C895,10)","v":""},null,null,null,null,null,null,null,{"$f":"IFERROR($U$3*Data!O895/SQRT(COUNT(Data!F895:J895)),\"\")","v":""},"","","","","",{"$f":"IFERROR((Data!K895-$F$4),\"\")","v":""},{"$f":"IF(AND(F895<>\"\",G895<>\"\",H895<>\"\",I895<>\"\",J895<>\"\"),Data!L895-$F$4,\"\")","v":""},"","","","",{"$f":"IF(F895<>\"\",STDEV($Q$12:Q895),\"\")","v":""},""]
[885,null,{"$f":"RIGHT(Data!C896,10)","v":""},null,null,null,null,null,null,null,{"$f":"IFERROR($U$3*Data!O896/SQRT(COUNT(Data!F896:J896)),\"\")","v":""},"","","","","",{"$f":"IFERROR((Data!K896-$F$4),\"\")","v":""},{"$f":"IF(AND(F896<>\"\",G896<>\"\",H896<>\"\",I896<>\"\",J896<>\"\"),Data!L896-$F$4,\"\")","v":""},"","","","",{"$f":"IF(F896<>\"\",STDEV($Q$12:Q896),\"\")","v":""},""]
[886,null,{"$f":"RIGHT(Data!C897,10)","v":""},null,null,null,null,null,null,null,{"$f":"IFERROR($U$3*Data!O897/SQRT(COUNT(Data!F897:J897)),\"\")","v":""},"","","","","",{"$f":"IFERROR((Data!K897-$F$4),\"\")","v":""},{"$f":"IF(AND(F897<>\"\",G897<>\"\",H897<>\"\",I897<>\"\",J897<>\"\"),Data!L897-$F$4,\"\")","v":""},"","","","",{"$f":"IF(F897<>\"\",STDEV($Q$12:Q897),\"\")","v":""},""]
[887,null,{"$f":"RIGHT(Data!C898,10)","v":""},null,null,null,null,null,null,null,{"$f":"IFERROR($U$3*Data!O898/SQRT(COUNT(Data!F898:J898)),\"\")","v":""},"","","","","",{"$f":"IFERROR((Data!K898-$F$4),\"\")","v":""},{"$f":"IF(AND(F898<>\"\",G898<>\"\",H898<>\"\",I898<>\"\",J898<>\"\"),Data!L898-$F$4,\"\")","v":""},"","","","",{"$f":"IF(F898<>\"\",STDEV($Q$12:Q898),\"\")","v":""},""]
[888,null,{"$f":"RIGHT(Data!C899,10)","v":""},null,null,null,null,null,null,null,{"$f":"IFERROR($U$3*Data!O899/SQRT(COUNT(Data!F899:J899)),\"\")","v":""},"","","","","",{"$f":"IFERROR((Data!K899-$F$4),\"\")","v":""},{"$f":"IF(AND(F899<>\"\",G899<>\"\",H899<>\"\",I899<>\"\",J899<>\"\"),Data!L899-$F$4,\"\")","v":""},"","","","",{"$f":"IF(F899<>\"\",STDEV($Q$12:Q899),\"\")","v":""},""]
[889,null,{"$f":"RIGHT(Data!C900,10)","v":""},null,null,null,null,null,null,null,{"$f":"IFERROR($U$3*Data!O900/SQRT(COUNT(Data!F900:J900)),\"\")","v":""},"","","","","",{"$f":"IFERROR((Data!K900-$F$4),\"\")","v":""},{"$f":"IF(AND(F900<>\"\",G900<>\"\",H900<>\"\",I900<>\"\",J900<>\"\"),Data!L900-$F$4,\"\")","v":""},"","","","",{"$f":"IF(F900<>\"\",STDEV($Q$12:Q900),\"\")","v":""},""]
[890,null,{"$f":"RIGHT(Data!C901,10)","v":""},null,null,null,null,null,null,null,{"$f":"IFERROR($U$3*Data!O901/SQRT(COUNT(Data!F901:J901)),\"\")","v":""},"","","","","",{"$f":"IFERROR((Data!K901-$F$4),\"\")","v":""},{"$f":"IF(AND(F901<>\"\",G901<>\"\",H901<>\"\",I901<>\"\",J901<>\"\"),Data!L901-$F$4,\"\")","v":""},"","","","",{"$f":"IF(F901<>\"\",STDEV($Q$12:Q901),\"\")","v":""},""]
[891,null,{"$f":"RIGHT(Data!C902,10)","v":""},null,null,null,null,null,null,null,{"$f":"IFERROR($U$3*Data!O902/SQRT(COUNT(Data!F902:J902)),\"\")","v":""},"","","","","",{"$f":"IFERROR((Data!K902-$F$4),\"\")","v":""},{"$f":"IF(AND(F902<>\"\",G902<>\"\",H902<>\"\",I902<>\"\",J902<>\"\"),Data!L902-$F$4,\"\")","v":""},"","","","",{"$f":"IF(F902<>\"\",STDEV($Q$12:Q902),\"\")","v":""},""]
[892,null,{"$f":"RIGHT(Data!C903,10)","v":""},null,null,null,null,null,null,null,{"$f":"IFERROR($U$3*Data!O903/SQRT(COUNT(Data!F903:J903)),\"\")","v":""},"","","","","",{"$f":"IFERROR((Data!K903-$F$4),\"\")","v":""},{"$f":"IF(AND(F903<>\"\",G903<>\"\",H903<>\"\",I903<>\"\",J903<>\"\"),Data!L903-$F$4,\"\")","v":""},"","","","",{"$f":"IF(F903<>\"\",STDEV($Q$12:Q903),\"\")","v":""},""]
[893,null,{"$f":"RIGHT(Data!C904,10)","v":""},null,null,null,null,null,null,null,{"$f":"IFERROR($U$3*Data!O904/SQRT(COUNT(Data!F904:J904)),\"\")","v":""},"","","","","",{"$f":"IFERROR((Data!K904-$F$4),\"\")","v":""},{"$f":"IF(AND(F904<>\"\",G904<>\"\",H904<>\"\",I904<>\"\",J904<>\"\"),Data!L904-$F$4,\"\")","v":""},"","","","",{"$f":"IF(F904<>\"\",STDEV($Q$12:Q904),\"\")","v":""},""]
[894,null,{"$f":"RIGHT(Data!C905,10)","v":""},null,null,null,null,null,null,null,{"$f":"IFERROR($U$3*Data!O905/SQRT(COUNT(Data!F905:J905)),\"\")","v":""},"","","","","",{"$f":"IFERROR((Data!K905-$F$4),\"\")","v":""},{"$f":"IF(AND(F905<>\"\",G905<>\"\",H905<>\"\",I905<>\"\",J905<>\"\"),Data!L905-$F$4,\"\")","v":""},"","","","",{"$f":"IF(F905<>\"\",STDEV($Q$12:Q905),\"\")","v":""},""]
[895,null,{"$f":"RIGHT(Data!C906,10)","v":""},null,null,null,null,null,null,null,{"$f":"IFERROR($U$3*Data!O906/SQRT(COUNT(Data!F906:J906)),\"\")","v":""},"","","","","",{"$f":"IFERROR((Data!K906-$F$4),\"\")","v":""},{"$f":"IF(AND(F906<>\"\",G906<>\"\",H906<>\"\",I906<>\"\",J906<>\"\"),Data!L906-$F$4,\"\")","v":""},"","","","",{"$f":"IF(F906<>\"\",STDEV($Q$12:Q906),\"\")","v":""},""]
[896,null,{"$f":"RIGHT(Data!C907,10)","v":""},null,null,null,null,null,null,null,{"$f":"IFERROR($U$3*Data!O907/SQRT(COUNT(Data!F907:J907)),\"\")","v":""},"","","","","",{"$f":"IFERROR((Data!K907-$F$4),\"\")","v":""},{"$f":"IF(AND(F907<>\"\",G907<>\"\",H907<>\"\",I907<>\"\",J907<>\"\"),Data!L907-$F$4,\"\")","v":""},"","","","",{"$f":"IF(F907<>\"\",STDEV($Q$12:Q907),\"\")","v":""},""]
[897,null,{"$f":"RIGHT(Data!C908,10)","v":""},null,null,null,null,null,null,null,{"$f":"IFERROR($U$3*Data!O908/SQRT(COUNT(Data!F908:J908)),\"\")","v":""},"","",{"$f":"IF(COUNT(F908:J908)>=5,STDEV(F908:J908)*$U$3/SQRT((COUNT(F908:J908))),\"\")","v":""},"","",{"$f":"IFERROR((Data!K908-$F$4),\"\")","v":""},{"$f":"IF(AND(F908<>\"\",G908<>\"\",H908<>\"\",I908<>\"\",J908<>\"\"),Data!L908-$F$4,\"\")","v":""},{"$f":"IF(O908<>\"\",FIXED(X908,1) & \" ± \" & FIXED(O908+ABS(R908),2),\"\")","v":""},"","","",{"$f":"IF(F908<>\"\",STDEV($Q$12:Q908),\"\")","v":""},{"$f":"IF(F908<>\"\",AVERAGE(F908:J908),\"\")","v":""}]
[898,null,{"$f":"RIGHT(Data!C909,10)","v":""},null,null,null,null,null,null,null,{"$f":"IFERROR($U$3*Data!O909/SQRT(COUNT(Data!F909:J909)),\"\")","v":""},{"$f":"IF(F909<>\"\",V909*W909/SQRT(A909),\"\")","v":""},{"$f":"IF(F909<>\"\",$U$4*SQRT($U$7^2+L909^2+K909^2+$U$5^2),\"\")","v":""},"",{"$f":"IFERROR($U$4*SQRT($U$7^2+L909^2+K909^2+$U$5^2+N909^2),\"\")","v":""},{"$f":"IF(AND(F909<>\"\",G909<>\"\",H909<>\"\",I909<>\"\",J909<>\"\"),AVERAGE(F909:J909),\"\")","v":""},{"$f":"IFERROR((Data!K909-$F$4),\"\")","v":""},{"$f":"IF(AND(F909<>\"\",G909<>\"\",H909<>\"\",I909<>\"\",J909<>\"\"),Data!L909-$F$4,\"\")","v":""},"",{"$f":"IF(F909<>\"\",FIXED(AVERAGE(F909:J909)-R909,1) & \" ± \" & FIXED(O909,2),\"\")","v":""},{"$f":"IF(IO909=\"\",\"\",IO909-1)","v":""},{"$f":"IF(F909<>\"\",TINV(1-0.68,A909-1),\"\")","v":""},{"$f":"IF(F909<>\"\",STDEV($Q$12:Q909),\"\")","v":""},""]
[899,null,{"$f":"RIGHT(Data!C910,10)","v":""},null,null,null,null,null,null,null,{"$f":"IFERROR($U$3*Data!O910/SQRT(COUNT(Data!F910:J910)),\"\")","v":""},"","","","","",{"$f":"IFERROR((Data!K910-$F$4),\"\")","v":""},{"$f":"IF(AND(F910<>\"\",G910<>\"\",H910<>\"\",I910<>\"\",J910<>\"\"),Data!L910-$F$4,\"\")","v":""},"","","","",{"$f":"IF(F910<>\"\",STDEV($Q$12:Q910),\"\")","v":""},""]
[900,null,{"$f":"RIGHT(Data!C911,10)","v":""},null,null,null,null,null,null,null,{"$f":"IFERROR($U$3*Data!O911/SQRT(COUNT(Data!F911:J911)),\"\")","v":""},"","","","","",{"$f":"IFERROR((Data!K911-$F$4),\"\")","v":""},{"$f":"IF(AND(F911<>\"\",G911<>\"\",H911<>\"\",I911<>\"\",J911<>\"\"),Data!L911-$F$4,\"\")","v":""},"","","","",{"$f":"IF(F911<>\"\",STDEV($Q$12:Q911),\"\")","v":""},""]
[901,null,{"$f":"RIGHT(Data!C912,10)","v":""},null,null,null,null,null,null,null,{"$f":"IFERROR($U$3*Data!O912/SQRT(COUNT(Data!F912:J912)),\"\")","v":""},"","","","","",{"$f":"IFERROR((Data!K912-$F$4),\"\")","v":""},{"$f":"IF(AND(F912<>\"\",G912<>\"\",H912<>\"\",I912<>\"\",J912<>\"\"),Data!L912-$F$4,\"\")","v":""},"","","","",{"$f":"IF(F912<>\"\",STDEV($Q$12:Q912),\"\")","v":""},""]
[902,null,{"$f":"RIGHT(Data!C913,10)","v":""},null,null,null,null,null,null,null,{"$f":"IFERROR($U$3*Data!O913/SQRT(COUNT(Data!F913:J913)),\"\")","v":""},"","","","","",{"$f":"IFERROR((Data!K913-$F$4),\"\")","v":""},{"$f":"IF(AND(F913<>\"\",G913<>\"\",H913<>\"\",I913<>\"\",J913<>\"\"),Data!L913-$F$4,\"\")","v":""},"","","","",{"$f":"IF(F913<>\"\",STDEV($Q$12:Q913),\"\")","v":""},""]
[903,null,{"$f":"RIGHT(Data!C914,10)","v":""},null,null,null,null,null,null,null,{"$f":"IFERROR($U$3*Data!O914/SQRT(COUNT(Data!F914:J914)),\"\")","v":""},"","","","","",{"$f":"IFERROR((Data!K914-$F$4),\"\")","v":""},{"$f":"IF(AND(F914<>\"\",G914<>\"\",H914<>\"\",I914<>\"\",J914<>\"\"),Data!L914-$F$4,\"\")","v":""},"","","","",{"$f":"IF(F914<>\"\",STDEV($Q$12:Q914),\"\")","v":""},""]
[904,null,{"$f":"RIGHT(Data!C915,10)","v":""},null,null,null,null,null,null,null,{"$f":"IFERROR($U$3*Data!O915/SQRT(COUNT(Data!F915:J915)),\"\")","v":""},"","","","","",{"$f":"IFERROR((Data!K915-$F$4),\"\")","v":""},{"$f":"IF(AND(F915<>\"\",G915<>\"\",H915<>\"\",I915<>\"\",J915<>\"\"),Data!L915-$F$4,\"\")","v":""},"","","","",{"$f":"IF(F915<>\"\",STDEV($Q$12:Q915),\"\")","v":""},""]
[905,null,{"$f":"RIGHT(Data!C916,10)","v":""},null,null,null,null,null,null,null,{"$f":"IFERROR($U$3*Data!O916/SQRT(COUNT(Data!F916:J916)),\"\")","v":""},"","","","","",{"$f":"IFERROR((Data!K916-$F$4),\"\")","v":""},{"$f":"IF(AND(F916<>\"\",G916<>\"\",H916<>\"\",I916<>\"\",J916<>\"\"),Data!L916-$F$4,\"\")","v":""},"","","","",{"$f":"IF(F916<>\"\",STDEV($Q$12:Q916),\"\")","v":""},""]
[906,null,{"$f":"RIGHT(Data!C917,10)","v":""},null,null,null,null,null,null,null,{"$f":"IFERROR($U$3*Data!O917/SQRT(COUNT(Data!F917:J917)),\"\")","v":""},"","","","","",{"$f":"IFERROR((Data!K917-$F$4),\"\")","v":""},{"$f":"IF(AND(F917<>\"\",G917<>\"\",H917<>\"\",I917<>\"\",J917<>\"\"),Data!L917-$F$4,\"\")","v":""},"","","","",{"$f":"IF(F917<>\"\",STDEV($Q$12:Q917),\"\")","v":""},""]
[907,null,{"$f":"RIGHT(Data!C918,10)","v":""},null,null,null,null,null,null,null,{"$f":"IFERROR($U$3*Data!O918/SQRT(COUNT(Data!F918:J918)),\"\")","v":""},"","","","","",{"$f":"IFERROR((Data!K918-$F$4),\"\")","v":""},{"$f":"IF(AND(F918<>\"\",G918<>\"\",H918<>\"\",I918<>\"\",J918<>\"\"),Data!L918-$F$4,\"\")","v":""},"","","","",{"$f":"IF(F918<>\"\",STDEV($Q$12:Q918),\"\")","v":""},""]
[908,null,{"$f":"RIGHT(Data!C919,10)","v":""},null,null,null,null,null,null,null,{"$f":"IFERROR($U$3*Data!O919/SQRT(COUNT(Data!F919:J919)),\"\")","v":""},"","","","","",{"$f":"IFERROR((Data!K919-$F$4),\"\")","v":""},{"$f":"IF(AND(F919<>\"\",G919<>\"\",H919<>\"\",I919<>\"\",J919<>\"\"),Data!L919-$F$4,\"\")","v":""},"","","","",{"$f":"IF(F919<>\"\",STDEV($Q$12:Q919),\"\")","v":""},""]
[909,null,{"$f":"RIGHT(Data!C920,10)","v":""},null,null,null,null,null,null,null,{"$f":"IFERROR($U$3*Data!O920/SQRT(COUNT(Data!F920:J920)),\"\")","v":""},"","","","","",{"$f":"IFERROR((Data!K920-$F$4),\"\")","v":""},{"$f":"IF(AND(F920<>\"\",G920<>\"\",H920<>\"\",I920<>\"\",J920<>\"\"),Data!L920-$F$4,\"\")","v":""},"","","","",{"$f":"IF(F920<>\"\",STDEV($Q$12:Q920),\"\")","v":""},""]
[910,null,{"$f":"RIGHT(Data!C921,10)","v":""},null,null,null,null,null,null,null,{"$f":"IFERROR($U$3*Data!O921/SQRT(COUNT(Data!F921:J921)),\"\")","v":""},"","","","","",{"$f":"IFERROR((Data!K921-$F$4),\"\")","v":""},{"$f":"IF(AND(F921<>\"\",G921<>\"\",H921<>\"\",I921<>\"\",J921<>\"\"),Data!L921-$F$4,\"\")","v":""},"","","","",{"$f":"IF(F921<>\"\",STDEV($Q$12:Q921),\"\")","v":""},""]
[911,null,{"$f":"RIGHT(Data!C922,10)","v":""},null,null,null,null,null,null,null,{"$f":"IFERROR($U$3*Data!O922/SQRT(COUNT(Data!F922:J922)),\"\")","v":""},"","","","","",{"$f":"IFERROR((Data!K922-$F$4),\"\")","v":""},{"$f":"IF(AND(F922<>\"\",G922<>\"\",H922<>\"\",I922<>\"\",J922<>\"\"),Data!L922-$F$4,\"\")","v":""},"","","","",{"$f":"IF(F922<>\"\",STDEV($Q$12:Q922),\"\")","v":""},""]
[912,null,{"$f":"RIGHT(Data!C923,10)","v":""},null,null,null,null,null,null,null,{"$f":"IFERROR($U$3*Data!O923/SQRT(COUNT(Data!F923:J923)),\"\")","v":""},"","","","","",{"$f":"IFERROR((Data!K923-$F$4),\"\")","v":""},{"$f":"IF(AND(F923<>\"\",G923<>\"\",H923<>\"\",I923<>\"\",J923<>\"\"),Data!L923-$F$4,\"\")","v":""},"","","","",{"$f":"IF(F923<>\"\",STDEV($Q$12:Q923),\"\")","v":""},""]
[913,null,{"$f":"RIGHT(Data!C924,10)","v":""},null,null,null,null,null,null,null,{"$f":"IFERROR($U$3*Data!O924/SQRT(COUNT(Data!F924:J924)),\"\")","v":""},"","","","","",{"$f":"IFERROR((Data!K924-$F$4),\"\")","v":""},{"$f":"IF(AND(F924<>\"\",G924<>\"\",H924<>\"\",I924<>\"\",J924<>\"\"),Data!L924-$F$4,\"\")","v":""},"","","","",{"$f":"IF(F924<>\"\",STDEV($Q$12:Q924),\"\")","v":""},""]
[914,null,{"$f":"RIGHT(Data!C925,10)","v":""},null,null,null,null,null,null,null,{"$f":"IFERROR($U$3*Data!O925/SQRT(COUNT(Data!F925:J925)),\"\")","v":""},"","","","","",{"$f":"IFERROR((Data!K925-$F$4),\"\")","v":""},{"$f":"IF(AND(F925<>\"\",G925<>\"\",H925<>\"\",I925<>\"\",J925<>\"\"),Data!L925-$F$4,\"\")","v":""},"","","","",{"$f":"IF(F925<>\"\",STDEV($Q$12:Q925),\"\")","v":""},""]
[915,null,{"$f":"RIGHT(Data!C926,10)","v":""},null,null,null,null,null,null,null,{"$f":"IFERROR($U$3*Data!O926/SQRT(COUNT(Data!F926:J926)),\"\")","v":""},"","","","","",{"$f":"IFERROR((Data!K926-$F$4),\"\")","v":""},{"$f":"IF(AND(F926<>\"\",G926<>\"\",H926<>\"\",I926<>\"\",J926<>\"\"),Data!L926-$F$4,\"\")","v":""},"","","","",{"$f":"IF(F926<>\"\",STDEV($Q$12:Q926),\"\")","v":""},""]
[916,null,{"$f":"RIGHT(Data!C927,10)","v":""},null,null,null,null,null,null,null,{"$f":"IFERROR($U$3*Data!O927/SQRT(COUNT(Data!F927:J927)),\"\")","v":""},"","","","","",{"$f":"IFERROR((Data!K927-$F$4),\"\")","v":""},{"$f":"IF(AND(F927<>\"\",G927<>\"\",H927<>\"\",I927<>\"\",J927<>\"\"),Data!L927-$F$4,\"\")","v":""},"","","","",{"$f":"IF(F927<>\"\",STDEV($Q$12:Q927),\"\")","v":""},""]
[917,null,{"$f":"RIGHT(Data!C928,10)","v":""},null,null,null,null,null,null,null,{"$f":"IFERROR($U$3*Data!O928/SQRT(COUNT(Data!F928:J928)),\"\")","v":""},"","","","","",{"$f":"IFERROR((Data!K928-$F$4),\"\")","v":""},{"$f":"IF(AND(F928<>\"\",G928<>\"\",H928<>\"\",I928<>\"\",J928<>\"\"),Data!L928-$F$4,\"\")","v":""},"","","","",{"$f":"IF(F928<>\"\",STDEV($Q$12:Q928),\"\")","v":""},""]
[918,null,{"$f":"RIGHT(Data!C929,10)","v":""},null,null,null,null,null,null,null,{"$f":"IFERROR($U$3*Data!O929/SQRT(COUNT(Data!F929:J929)),\"\")","v":""},"","","","","",{"$f":"IFERROR((Data!K929-$F$4),\"\")","v":""},{"$f":"IF(AND(F929<>\"\",G929<>\"\",H929<>\"\",I929<>\"\",J929<>\"\"),Data!L929-$F$4,\"\")","v":""},"","","","",{"$f":"IF(F929<>\"\",STDEV($Q$12:Q929),\"\")","v":""},""]
[919,null,{"$f":"RIGHT(Data!C930,10)","v":""},null,null,null,null,null,null,null,{"$f":"IFERROR($U$3*Data!O930/SQRT(COUNT(Data!F930:J930)),\"\")","v":""},"","","","","",{"$f":"IFERROR((Data!K930-$F$4),\"\")","v":""},{"$f":"IF(AND(F930<>\"\",G930<>\"\",H930<>\"\",I930<>\"\",J930<>\"\"),Data!L930-$F$4,\"\")","v":""},"","","","",{"$f":"IF(F930<>\"\",STDEV($Q$12:Q930),\"\")","v":""},""]
[920,null,{"$f":"RIGHT(Data!C931,10)","v":""},null,null,null,null,null,null,null,{"$f":"IFERROR($U$3*Data!O931/SQRT(COUNT(Data!F931:J931)),\"\")","v":""},"","","","","",{"$f":"IFERROR((Data!K931-$F$4),\"\")","v":""},{"$f":"IF(AND(F931<>\"\",G931<>\"\",H931<>\"\",I931<>\"\",J931<>\"\"),Data!L931-$F$4,\"\")","v":""},"","","","",{"$f":"IF(F931<>\"\",STDEV($Q$12:Q931),\"\")","v":""},""]
[921,null,{"$f":"RIGHT(Data!C932,10)","v":""},null,null,null,null,null,null,null,{"$f":"IFERROR($U$3*Data!O932/SQRT(COUNT(Data!F932:J932)),\"\")","v":""},"","","","","",{"$f":"IFERROR((Data!K932-$F$4),\"\")","v":""},{"$f":"IF(AND(F932<>\"\",G932<>\"\",H932<>\"\",I932<>\"\",J932<>\"\"),Data!L932-$F$4,\"\")","v":""},"","","","",{"$f":"IF(F932<>\"\",STDEV($Q$12:Q932),\"\")","v":""},""]
[922,null,{"$f":"RIGHT(Data!C933,10)","v":""},null,null,null,null,null,null,null,{"$f":"IFERROR($U$3*Data!O933/SQRT(COUNT(Data!F933:J933)),\"\")","v":""},"","","","","",{"$f":"IFERROR((Data!K933-$F$4),\"\")","v":""},{"$f":"IF(AND(F933<>\"\",G933<>\"\",H933<>\"\",I933<>\"\",J933<>\"\"),Data!L933-$F$4,\"\")","v":""},"","","","",{"$f":"IF(F933<>\"\",STDEV($Q$12:Q933),\"\")","v":""},""]
[923,null,{"$f":"RIGHT(Data!C934,10)","v":""},null,null,null,null,null,null,null,{"$f":"IFERROR($U$3*Data!O934/SQRT(COUNT(Data!F934:J934)),\"\")","v":""},"","","","","",{"$f":"IFERROR((Data!K934-$F$4),\"\")","v":""},{"$f":"IF(AND(F934<>\"\",G934<>\"\",H934<>\"\",I934<>\"\",J934<>\"\"),Data!L934-$F$4,\"\")","v":""},"","","","",{"$f":"IF(F934<>\"\",STDEV($Q$12:Q934),\"\")","v":""},""]
[924,null,{"$f":"RIGHT(Data!C935,10)","v":""},null,null,null,null,null,null,null,{"$f":"IFERROR($U$3*Data!O935/SQRT(COUNT(Data!F935:J935)),\"\")","v":""},"","","","","",{"$f":"IFERROR((Data!K935-$F$4),\"\")","v":""},{"$f":"IF(AND(F935<>\"\",G935<>\"\",H935<>\"\",I935<>\"\",J935<>\"\"),Data!L935-$F$4,\"\")","v":""},"","","","",{"$f":"IF(F935<>\"\",STDEV($Q$12:Q935),\"\")","v":""},""]
[925,null,{"$f":"RIGHT(Data!C936,10)","v":""},null,null,null,null,null,null,null,{"$f":"IFERROR($U$3*Data!O936/SQRT(COUNT(Data!F936:J936)),\"\")","v":""},"","","","","",{"$f":"IFERROR((Data!K936-$F$4),\"\")","v":""},{"$f":"IF(AND(F936<>\"\",G936<>\"\",H936<>\"\",I936<>\"\",J936<>\"\"),Data!L936-$F$4,\"\")","v":""},"","","","",{"$f":"IF(F936<>\"\",STDEV($Q$12:Q936),\"\")","v":""},""]
[926,null,{"$f":"RIGHT(Data!C937,10)","v":""},null,null,null,null,null,null,null,{"$f":"IFERROR($U$3*Data!O937/SQRT(COUNT(Data!F937:J937)),\"\")","v":""},"","","","","",{"$f":"IFERROR((Data!K937-$F$4),\"\")","v":""},{"$f":"IF(AND(F937<>\"\",G937<>\"\",H937<>\"\",I937<>\"\",J937<>\"\"),Data!L937-$F$4,\"\")","v":""},"","","","",{"$f":"IF(F937<>\"\",STDEV($Q$12:Q937),\"\")","v":""},""]
[927,null,{"$f":"RIGHT(Data!C938,10)","v":""},null,null,null,null,null,null,null,{"$f":"IFERROR($U$3*Data!O938/SQRT(COUNT(Data!F938:J938)),\"\")","v":""},"","","","","",{"$f":"IFERROR((Data!K938-$F$4),\"\")","v":""},{"$f":"IF(AND(F938<>\"\",G938<>\"\",H938<>\"\",I938<>\"\",J938<>\"\"),Data!L938-$F$4,\"\")","v":""},"","","","",{"$f":"IF(F938<>\"\",STDEV($Q$12:Q938),\"\")","v":""},""]
[928,null,{"$f":"RIGHT(Data!C939,10)","v":""},null,null,null,null,null,null,null,{"$f":"IFERROR($U$3*Data!O939/SQRT(COUNT(Data!F939:J939)),\"\")","v":""},"","","","","",{"$f":"IFERROR((Data!K939-$F$4),\"\")","v":""},{"$f":"IF(AND(F939<>\"\",G939<>\"\",H939<>\"\",I939<>\"\",J939<>\"\"),Data!L939-$F$4,\"\")","v":""},"","","","",{"$f":"IF(F939<>\"\",STDEV($Q$12:Q939),\"\")","v":""},""]
[929,null,{"$f":"RIGHT(Data!C940,10)","v":""},null,null,null,null,null,null,null,{"$f":"IFERROR($U$3*Data!O940/SQRT(COUNT(Data!F940:J940)),\"\")","v":""},"","","","","",{"$f":"IFERROR((Data!K940-$F$4),\"\")","v":""},{"$f":"IF(AND(F940<>\"\",G940<>\"\",H940<>\"\",I940<>\"\",J940<>\"\"),Data!L940-$F$4,\"\")","v":""},"","","","",{"$f":"IF(F940<>\"\",STDEV($Q$12:Q940),\"\")","v":""},""]
[930,null,{"$f":"RIGHT(Data!C941,10)","v":""},null,null,null,null,null,null,null,{"$f":"IFERROR($U$3*Data!O941/SQRT(COUNT(Data!F941:J941)),\"\")","v":""},"","","","","",{"$f":"IFERROR((Data!K941-$F$4),\"\")","v":""},{"$f":"IF(AND(F941<>\"\",G941<>\"\",H941<>\"\",I941<>\"\",J941<>\"\"),Data!L941-$F$4,\"\")","v":""},"","","","",{"$f":"IF(F941<>\"\",STDEV($Q$12:Q941),\"\")","v":""},""]
[931,null,{"$f":"RIGHT(Data!C942,10)","v":""},null,null,null,null,null,null,null,{"$f":"IFERROR($U$3*Data!O942/SQRT(COUNT(Data!F942:J942)),\"\")","v":""},"","","","","",{"$f":"IFERROR((Data!K942-$F$4),\"\")","v":""},{"$f":"IF(AND(F942<>\"\",G942<>\"\",H942<>\"\",I942<>\"\",J942<>\"\"),Data!L942-$F$4,\"\")","v":""},"","","","",{"$f":"IF(F942<>\"\",STDEV($Q$12:Q942),\"\")","v":""},""]
[932,null,{"$f":"RIGHT(Data!C943,10)","v":""},null,null,null,null,null,null,null,{"$f":"IFERROR($U$3*Data!O943/SQRT(COUNT(Data!F943:J943)),\"\")","v":""},"","","","","",{"$f":"IFERROR((Data!K943-$F$4),\"\")","v":""},{"$f":"IF(AND(F943<>\"\",G943<>\"\",H943<>\"\",I943<>\"\",J943<>\"\"),Data!L943-$F$4,\"\")","v":""},"","","","",{"$f":"IF(F943<>\"\",STDEV($Q$12:Q943),\"\")","v":""},""]
[933,null,{"$f":"RIGHT(Data!C944,10)","v":""},null,null,null,null,null,null,null,{"$f":"IFERROR($U$3*Data!O944/SQRT(COUNT(Data!F944:J944)),\"\")","v":""},"","","","","",{"$f":"IFERROR((Data!K944-$F$4),\"\")","v":""},{"$f":"IF(AND(F944<>\"\",G944<>\"\",H944<>\"\",I944<>\"\",J944<>\"\"),Data!L944-$F$4,\"\")","v":""},"","","","",{"$f":"IF(F944<>\"\",STDEV($Q$12:Q944),\"\")","v":""},""]
[934,null,{"$f":"RIGHT(Data!C945,10)","v":""},null,null,null,null,null,null,null,{"$f":"IFERROR($U$3*Data!O945/SQRT(COUNT(Data!F945:J945)),\"\")","v":""},"","","","","",{"$f":"IFERROR((Data!K945-$F$4),\"\")","v":""},{"$f":"IF(AND(F945<>\"\",G945<>\"\",H945<>\"\",I945<>\"\",J945<>\"\"),Data!L945-$F$4,\"\")","v":""},"","","","",{"$f":"IF(F945<>\"\",STDEV($Q$12:Q945),\"\")","v":""},""]
[935,null,{"$f":"RIGHT(Data!C946,10)","v":""},null,null,null,null,null,null,null,{"$f":"IFERROR($U$3*Data!O946/SQRT(COUNT(Data!F946:J946)),\"\")","v":""},"","","","","",{"$f":"IFERROR((Data!K946-$F$4),\"\")","v":""},{"$f":"IF(AND(F946<>\"\",G946<>\"\",H946<>\"\",I946<>\"\",J946<>\"\"),Data!L946-$F$4,\"\")","v":""},"","","","",{"$f":"IF(F946<>\"\",STDEV($Q$12:Q946),\"\")","v":""},""]
[936,null,{"$f":"RIGHT(Data!C947,10)","v":""},null,null,null,null,null,null,null,{"$f":"IFERROR($U$3*Data!O947/SQRT(COUNT(Data!F947:J947)),\"\")","v":""},"","","","","",{"$f":"IFERROR((Data!K947-$F$4),\"\")","v":""},{"$f":"IF(AND(F947<>\"\",G947<>\"\",H947<>\"\",I947<>\"\",J947<>\"\"),Data!L947-$F$4,\"\")","v":""},"","","","",{"$f":"IF(F947<>\"\",STDEV($Q$12:Q947),\"\")","v":""},""]
[937,null,{"$f":"RIGHT(Data!C948,10)","v":""},null,null,null,null,null,null,null,{"$f":"IFERROR($U$3*Data!O948/SQRT(COUNT(Data!F948:J948)),\"\")","v":""},"","","","","",{"$f":"IFERROR((Data!K948-$F$4),\"\")","v":""},{"$f":"IF(AND(F948<>\"\",G948<>\"\",H948<>\"\",I948<>\"\",J948<>\"\"),Data!L948-$F$4,\"\")","v":""},"","","","",{"$f":"IF(F948<>\"\",STDEV($Q$12:Q948),\"\")","v":""},""]
[938,null,{"$f":"RIGHT(Data!C949,10)","v":""},null,null,null,null,null,null,null,{"$f":"IFERROR($U$3*Data!O949/SQRT(COUNT(Data!F949:J949)),\"\")","v":""},"","","","","",{"$f":"IFERROR((Data!K949-$F$4),\"\")","v":""},{"$f":"IF(AND(F949<>\"\",G949<>\"\",H949<>\"\",I949<>\"\",J949<>\"\"),Data!L949-$F$4,\"\")","v":""},"","","","",{"$f":"IF(F949<>\"\",STDEV($Q$12:Q949),\"\")","v":""},""]
[939,null,{"$f":"RIGHT(Data!C950,10)","v":""},null,null,null,null,null,null,null,{"$f":"IFERROR($U$3*Data!O950/SQRT(COUNT(Data!F950:J950)),\"\")","v":""},"","","","","",{"$f":"IFERROR((Data!K950-$F$4),\"\")","v":""},{"$f":"IF(AND(F950<>\"\",G950<>\"\",H950<>\"\",I950<>\"\",J950<>\"\"),Data!L950-$F$4,\"\")","v":""},"","","","",{"$f":"IF(F950<>\"\",STDEV($Q$12:Q950),\"\")","v":""},""]
[940,null,{"$f":"RIGHT(Data!C951,10)","v":""},null,null,null,null,null,null,null,{"$f":"IFERROR($U$3*Data!O951/SQRT(COUNT(Data!F951:J951)),\"\")","v":""},"","","","","",{"$f":"IFERROR((Data!K951-$F$4),\"\")","v":""},{"$f":"IF(AND(F951<>\"\",G951<>\"\",H951<>\"\",I951<>\"\",J951<>\"\"),Data!L951-$F$4,\"\")","v":""},"","","","",{"$f":"IF(F951<>\"\",STDEV($Q$12:Q951),\"\")","v":""},""]
[941,null,{"$f":"RIGHT(Data!C952,10)","v":""},null,null,null,null,null,null,null,{"$f":"IFERROR($U$3*Data!O952/SQRT(COUNT(Data!F952:J952)),\"\")","v":""},"","","","","",{"$f":"IFERROR((Data!K952-$F$4),\"\")","v":""},{"$f":"IF(AND(F952<>\"\",G952<>\"\",H952<>\"\",I952<>\"\",J952<>\"\"),Data!L952-$F$4,\"\")","v":""},"","","","",{"$f":"IF(F952<>\"\",STDEV($Q$12:Q952),\"\")","v":""},""]
[942,null,{"$f":"RIGHT(Data!C953,10)","v":""},null,null,null,null,null,null,null,{"$f":"IFERROR($U$3*Data!O953/SQRT(COUNT(Data!F953:J953)),\"\")","v":""},"","","","","",{"$f":"IFERROR((Data!K953-$F$4),\"\")","v":""},{"$f":"IF(AND(F953<>\"\",G953<>\"\",H953<>\"\",I953<>\"\",J953<>\"\"),Data!L953-$F$4,\"\")","v":""},"","","","",{"$f":"IF(F953<>\"\",STDEV($Q$12:Q953),\"\")","v":""},""]
[943,null,{"$f":"RIGHT(Data!C954,10)","v":""},null,null,null,null,null,null,null,{"$f":"IFERROR($U$3*Data!O954/SQRT(COUNT(Data!F954:J954)),\"\")","v":""},"","","","","",{"$f":"IFERROR((Data!K954-$F$4),\"\")","v":""},{"$f":"IF(AND(F954<>\"\",G954<>\"\",H954<>\"\",I954<>\"\",J954<>\"\"),Data!L954-$F$4,\"\")","v":""},"","","","",{"$f":"IF(F954<>\"\",STDEV($Q$12:Q954),\"\")","v":""},""]
[944,null,{"$f":"RIGHT(Data!C955,10)","v":""},null,null,null,null,null,null,null,{"$f":"IFERROR($U$3*Data!O955/SQRT(COUNT(Data!F955:J955)),\"\")","v":""},"","","","","",{"$f":"IFERROR((Data!K955-$F$4),\"\")","v":""},{"$f":"IF(AND(F955<>\"\",G955<>\"\",H955<>\"\",I955<>\"\",J955<>\"\"),Data!L955-$F$4,\"\")","v":""},"","","","",{"$f":"IF(F955<>\"\",STDEV($Q$12:Q955),\"\")","v":""},""]
[945,null,{"$f":"RIGHT(Data!C956,10)","v":""},null,null,null,null,null,null,null,{"$f":"IFERROR($U$3*Data!O956/SQRT(COUNT(Data!F956:J956)),\"\")","v":""},"","","","","",{"$f":"IFERROR((Data!K956-$F$4),\"\")","v":""},{"$f":"IF(AND(F956<>\"\",G956<>\"\",H956<>\"\",I956<>\"\",J956<>\"\"),Data!L956-$F$4,\"\")","v":""},"","","","",{"$f":"IF(F956<>\"\",STDEV($Q$12:Q956),\"\")","v":""},""]
[946,null,{"$f":"RIGHT(Data!C957,10)","v":""},null,null,null,null,null,null,null,{"$f":"IFERROR($U$3*Data!O957/SQRT(COUNT(Data!F957:J957)),\"\")","v":""},"","","","","",{"$f":"IFERROR((Data!K957-$F$4),\"\")","v":""},{"$f":"IF(AND(F957<>\"\",G957<>\"\",H957<>\"\",I957<>\"\",J957<>\"\"),Data!L957-$F$4,\"\")","v":""},"","","","",{"$f":"IF(F957<>\"\",STDEV($Q$12:Q957),\"\")","v":""},""]
[947,null,{"$f":"RIGHT(Data!C958,10)","v":""},null,null,null,null,null,null,null,{"$f":"IFERROR($U$3*Data!O958/SQRT(COUNT(Data!F958:J958)),\"\")","v":""},"","","","","",{"$f":"IFERROR((Data!K958-$F$4),\"\")","v":""},{"$f":"IF(AND(F958<>\"\",G958<>\"\",H958<>\"\",I958<>\"\",J958<>\"\"),Data!L958-$F$4,\"\")","v":""},"","","","",{"$f":"IF(F958<>\"\",STDEV($Q$12:Q958),\"\")","v":""},""]
[948,null,{"$f":"RIGHT(Data!C959,10)","v":""},null,null,null,null,null,null,null,{"$f":"IFERROR($U$3*Data!O959/SQRT(COUNT(Data!F959:J959)),\"\")","v":""},"","","","","",{"$f":"IFERROR((Data!K959-$F$4),\"\")","v":""},{"$f":"IF(AND(F959<>\"\",G959<>\"\",H959<>\"\",I959<>\"\",J959<>\"\"),Data!L959-$F$4,\"\")","v":""},"","","","",{"$f":"IF(F959<>\"\",STDEV($Q$12:Q959),\"\")","v":""},""]
[949,null,{"$f":"RIGHT(Data!C960,10)","v":""},null,null,null,null,null,null,null,{"$f":"IFERROR($U$3*Data!O960/SQRT(COUNT(Data!F960:J960)),\"\")","v":""},"","","","","",{"$f":"IFERROR((Data!K960-$F$4),\"\")","v":""},{"$f":"IF(AND(F960<>\"\",G960<>\"\",H960<>\"\",I960<>\"\",J960<>\"\"),Data!L960-$F$4,\"\")","v":""},"","","","",{"$f":"IF(F960<>\"\",STDEV($Q$12:Q960),\"\")","v":""},""]
[950,null,{"$f":"RIGHT(Data!C961,10)","v":""},null,null,null,null,null,null,null,{"$f":"IFERROR($U$3*Data!O961/SQRT(COUNT(Data!F961:J961)),\"\")","v":""},"","","","","",{"$f":"IFERROR((Data!K961-$F$4),\"\")","v":""},{"$f":"IF(AND(F961<>\"\",G961<>\"\",H961<>\"\",I961<>\"\",J961<>\"\"),Data!L961-$F$4,\"\")","v":""},"","","","",{"$f":"IF(F961<>\"\",STDEV($Q$12:Q961),\"\")","v":""},""]
[951,null,{"$f":"RIGHT(Data!C962,10)","v":""},null,null,null,null,null,null,null,{"$f":"IFERROR($U$3*Data!O962/SQRT(COUNT(Data!F962:J962)),\"\")","v":""},"","","","","",{"$f":"IFERROR((Data!K962-$F$4),\"\")","v":""},{"$f":"IF(AND(F962<>\"\",G962<>\"\",H962<>\"\",I962<>\"\",J962<>\"\"),Data!L962-$F$4,\"\")","v":""},"","","","",{"$f":"IF(F962<>\"\",STDEV($Q$12:Q962),\"\")","v":""},""]
[952,null,{"$f":"RIGHT(Data!C963,10)","v":""},null,null,null,null,null,null,null,{"$f":"IFERROR($U$3*Data!O963/SQRT(COUNT(Data!F963:J963)),\"\")","v":""},"","","","","",{"$f":"IFERROR((Data!K963-$F$4),\"\")","v":""},{"$f":"IF(AND(F963<>\"\",G963<>\"\",H963<>\"\",I963<>\"\",J963<>\"\"),Data!L963-$F$4,\"\")","v":""},"","","","",{"$f":"IF(F963<>\"\",STDEV($Q$12:Q963),\"\")","v":""},""]
[953,null,{"$f":"RIGHT(Data!C964,10)","v":""},null,null,null,null,null,null,null,{"$f":"IFERROR($U$3*Data!O964/SQRT(COUNT(Data!F964:J964)),\"\")","v":""},"","","","","",{"$f":"IFERROR((Data!K964-$F$4),\"\")","v":""},{"$f":"IF(AND(F964<>\"\",G964<>\"\",H964<>\"\",I964<>\"\",J964<>\"\"),Data!L964-$F$4,\"\")","v":""},"","","","",{"$f":"IF(F964<>\"\",STDEV($Q$12:Q964),\"\")","v":""},""]
[954,null,{"$f":"RIGHT(Data!C965,10)","v":""},null,null,null,null,null,null,null,{"$f":"IFERROR($U$3*Data!O965/SQRT(COUNT(Data!F965:J965)),\"\")","v":""},"","","","","",{"$f":"IFERROR((Data!K965-$F$4),\"\")","v":""},{"$f":"IF(AND(F965<>\"\",G965<>\"\",H965<>\"\",I965<>\"\",J965<>\"\"),Data!L965-$F$4,\"\")","v":""},"","","","",{"$f":"IF(F965<>\"\",STDEV($Q$12:Q965),\"\")","v":""},""]
[955,null,{"$f":"RIGHT(Data!C966,10)","v":""},null,null,null,null,null,null,null,{"$f":"IFERROR($U$3*Data!O966/SQRT(COUNT(Data!F966:J966)),\"\")","v":""},"","","","","",{"$f":"IFERROR((Data!K966-$F$4),\"\")","v":""},{"$f":"IF(AND(F966<>\"\",G966<>\"\",H966<>\"\",I966<>\"\",J966<>\"\"),Data!L966-$F$4,\"\")","v":""},"","","","",{"$f":"IF(F966<>\"\",STDEV($Q$12:Q966),\"\")","v":""},""]
[956,null,{"$f":"RIGHT(Data!C967,10)","v":""},null,null,null,null,null,null,null,{"$f":"IFERROR($U$3*Data!O967/SQRT(COUNT(Data!F967:J967)),\"\")","v":""},"","","","","",{"$f":"IFERROR((Data!K967-$F$4),\"\")","v":""},{"$f":"IF(AND(F967<>\"\",G967<>\"\",H967<>\"\",I967<>\"\",J967<>\"\"),Data!L967-$F$4,\"\")","v":""},"","","","",{"$f":"IF(F967<>\"\",STDEV($Q$12:Q967),\"\")","v":""},""]
[957,null,{"$f":"RIGHT(Data!C968,10)","v":""},null,null,null,null,null,null,null,{"$f":"IFERROR($U$3*Data!O968/SQRT(COUNT(Data!F968:J968)),\"\")","v":""},"","","","","",{"$f":"IFERROR((Data!K968-$F$4),\"\")","v":""},{"$f":"IF(AND(F968<>\"\",G968<>\"\",H968<>\"\",I968<>\"\",J968<>\"\"),Data!L968-$F$4,\"\")","v":""},"","","","",{"$f":"IF(F968<>\"\",STDEV($Q$12:Q968),\"\")","v":""},""]
[958,null,{"$f":"RIGHT(Data!C969,10)","v":""},null,null,null,null,null,null,null,{"$f":"IFERROR($U$3*Data!O969/SQRT(COUNT(Data!F969:J969)),\"\")","v":""},"","","","","",{"$f":"IFERROR((Data!K969-$F$4),\"\")","v":""},{"$f":"IF(AND(F969<>\"\",G969<>\"\",H969<>\"\",I969<>\"\",J969<>\"\"),Data!L969-$F$4,\"\")","v":""},"","","","",{"$f":"IF(F969<>\"\",STDEV($Q$12:Q969),\"\")","v":""},""]
[959,null,{"$f":"RIGHT(Data!C970,10)","v":""},null,null,null,null,null,null,null,{"$f":"IFERROR($U$3*Data!O970/SQRT(COUNT(Data!F970:J970)),\"\")","v":""},"","","","","",{"$f":"IFERROR((Data!K970-$F$4),\"\")","v":""},{"$f":"IF(AND(F970<>\"\",G970<>\"\",H970<>\"\",I970<>\"\",J970<>\"\"),Data!L970-$F$4,\"\")","v":""},"","","","",{"$f":"IF(F970<>\"\",STDEV($Q$12:Q970),\"\")","v":""},""]
[960,null,{"$f":"RIGHT(Data!C971,10)","v":""},null,null,null,null,null,null,null,{"$f":"IFERROR($U$3*Data!O971/SQRT(COUNT(Data!F971:J971)),\"\")","v":""},"","","","","",{"$f":"IFERROR((Data!K971-$F$4),\"\")","v":""},{"$f":"IF(AND(F971<>\"\",G971<>\"\",H971<>\"\",I971<>\"\",J971<>\"\"),Data!L971-$F$4,\"\")","v":""},"","","","",{"$f":"IF(F971<>\"\",STDEV($Q$12:Q971),\"\")","v":""},""]
[961,null,{"$f":"RIGHT(Data!C972,10)","v":""},null,null,null,null,null,null,null,{"$f":"IFERROR($U$3*Data!O972/SQRT(COUNT(Data!F972:J972)),\"\")","v":""},"","",{"$f":"IF(COUNT(F972:J972)>=5,STDEV(F972:J972)*$U$3/SQRT((COUNT(F972:J972))),\"\")","v":""},"","",{"$f":"IFERROR((Data!K972-$F$4),\"\")","v":""},{"$f":"IF(AND(F972<>\"\",G972<>\"\",H972<>\"\",I972<>\"\",J972<>\"\"),Data!L972-$F$4,\"\")","v":""},{"$f":"IF(O972<>\"\",FIXED(X972,1) & \" ± \" & FIXED(O972+ABS(R972),2),\"\")","v":""},"","","",{"$f":"IF(F972<>\"\",STDEV($Q$12:Q972),\"\")","v":""},{"$f":"IF(F972<>\"\",AVERAGE(F972:J972),\"\")","v":""}]
[962,null,{"$f":"RIGHT(Data!C973,10)","v":""},null,null,null,null,null,null,null,{"$f":"IFERROR($U$3*Data!O973/SQRT(COUNT(Data!F973:J973)),\"\")","v":""},{"$f":"IF(F973<>\"\",V973*W973/SQRT(A973),\"\")","v":""},{"$f":"IF(F973<>\"\",$U$4*SQRT($U$7^2+L973^2+K973^2+$U$5^2),\"\")","v":""},"",{"$f":"IFERROR($U$4*SQRT($U$7^2+L973^2+K973^2+$U$5^2+N973^2),\"\")","v":""},{"$f":"IF(AND(F973<>\"\",G973<>\"\",H973<>\"\",I973<>\"\",J973<>\"\"),AVERAGE(F973:J973),\"\")","v":""},{"$f":"IFERROR((Data!K973-$F$4),\"\")","v":""},{"$f":"IF(AND(F973<>\"\",G973<>\"\",H973<>\"\",I973<>\"\",J973<>\"\"),Data!L973-$F$4,\"\")","v":""},"",{"$f":"IF(F973<>\"\",FIXED(AVERAGE(F973:J973)-R973,1) & \" ± \" & FIXED(O973,2),\"\")","v":""},{"$f":"IF(IO973=\"\",\"\",IO973-1)","v":""},{"$f":"IF(F973<>\"\",TINV(1-0.68,A973-1),\"\")","v":""},{"$f":"IF(F973<>\"\",STDEV($Q$12:Q973),\"\")","v":""},""]
[963,null,{"$f":"RIGHT(Data!C974,10)","v":""},null,null,null,null,null,null,null,{"$f":"IFERROR($U$3*Data!O974/SQRT(COUNT(Data!F974:J974)),\"\")","v":""},"","","","","",{"$f":"IFERROR((Data!K974-$F$4),\"\")","v":""},{"$f":"IF(AND(F974<>\"\",G974<>\"\",H974<>\"\",I974<>\"\",J974<>\"\"),Data!L974-$F$4,\"\")","v":""},"","","","",{"$f":"IF(F974<>\"\",STDEV($Q$12:Q974),\"\")","v":""},""]
[964,null,{"$f":"RIGHT(Data!C975,10)","v":""},null,null,null,null,null,null,null,{"$f":"IFERROR($U$3*Data!O975/SQRT(COUNT(Data!F975:J975)),\"\")","v":""},"","","","","",{"$f":"IFERROR((Data!K975-$F$4),\"\")","v":""},{"$f":"IF(AND(F975<>\"\",G975<>\"\",H975<>\"\",I975<>\"\",J975<>\"\"),Data!L975-$F$4,\"\")","v":""},"","","","",{"$f":"IF(F975<>\"\",STDEV($Q$12:Q975),\"\")","v":""},""]
[965,null,{"$f":"RIGHT(Data!C976,10)","v":""},null,null,null,null,null,null,null,{"$f":"IFERROR($U$3*Data!O976/SQRT(COUNT(Data!F976:J976)),\"\")","v":""},"","","","","",{"$f":"IFERROR((Data!K976-$F$4),\"\")","v":""},{"$f":"IF(AND(F976<>\"\",G976<>\"\",H976<>\"\",I976<>\"\",J976<>\"\"),Data!L976-$F$4,\"\")","v":""},"","","","",{"$f":"IF(F976<>\"\",STDEV($Q$12:Q976),\"\")","v":""},""]
[966,null,{"$f":"RIGHT(Data!C977,10)","v":""},null,null,null,null,null,null,null,{"$f":"IFERROR($U$3*Data!O977/SQRT(COUNT(Data!F977:J977)),\"\")","v":""},"","","","","",{"$f":"IFERROR((Data!K977-$F$4),\"\")","v":""},{"$f":"IF(AND(F977<>\"\",G977<>\"\",H977<>\"\",I977<>\"\",J977<>\"\"),Data!L977-$F$4,\"\")","v":""},"","","","",{"$f":"IF(F977<>\"\",STDEV($Q$12:Q977),\"\")","v":""},""]
[967,null,{"$f":"RIGHT(Data!C978,10)","v":""},null,null,null,null,null,null,null,{"$f":"IFERROR($U$3*Data!O978/SQRT(COUNT(Data!F978:J978)),\"\")","v":""},"","","","","",{"$f":"IFERROR((Data!K978-$F$4),\"\")","v":""},{"$f":"IF(AND(F978<>\"\",G978<>\"\",H978<>\"\",I978<>\"\",J978<>\"\"),Data!L978-$F$4,\"\")","v":""},"","","","",{"$f":"IF(F978<>\"\",STDEV($Q$12:Q978),\"\")","v":""},""]
[968,null,{"$f":"RIGHT(Data!C979,10)","v":""},null,null,null,null,null,null,null,{"$f":"IFERROR($U$3*Data!O979/SQRT(COUNT(Data!F979:J979)),\"\")","v":""},"","","","","",{"$f":"IFERROR((Data!K979-$F$4),\"\")","v":""},{"$f":"IF(AND(F979<>\"\",G979<>\"\",H979<>\"\",I979<>\"\",J979<>\"\"),Data!L979-$F$4,\"\")","v":""},"","","","",{"$f":"IF(F979<>\"\",STDEV($Q$12:Q979),\"\")","v":""},""]
[969,null,{"$f":"RIGHT(Data!C980,10)","v":""},null,null,null,null,null,null,null,{"$f":"IFERROR($U$3*Data!O980/SQRT(COUNT(Data!F980:J980)),\"\")","v":""},"","","","","",{"$f":"IFERROR((Data!K980-$F$4),\"\")","v":""},{"$f":"IF(AND(F980<>\"\",G980<>\"\",H980<>\"\",I980<>\"\",J980<>\"\"),Data!L980-$F$4,\"\")","v":""},"","","","",{"$f":"IF(F980<>\"\",STDEV($Q$12:Q980),\"\")","v":""},""]
[970,null,{"$f":"RIGHT(Data!C981,10)","v":""},null,null,null,null,null,null,null,{"$f":"IFERROR($U$3*Data!O981/SQRT(COUNT(Data!F981:J981)),\"\")","v":""},"","","","","",{"$f":"IFERROR((Data!K981-$F$4),\"\")","v":""},{"$f":"IF(AND(F981<>\"\",G981<>\"\",H981<>\"\",I981<>\"\",J981<>\"\"),Data!L981-$F$4,\"\")","v":""},"","","","",{"$f":"IF(F981<>\"\",STDEV($Q$12:Q981),\"\")","v":""},""]
[971,null,{"$f":"RIGHT(Data!C982,10)","v":""},null,null,null,null,null,null,null,{"$f":"IFERROR($U$3*Data!O982/SQRT(COUNT(Data!F982:J982)),\"\")","v":""},"","","","","",{"$f":"IFERROR((Data!K982-$F$4),\"\")","v":""},{"$f":"IF(AND(F982<>\"\",G982<>\"\",H982<>\"\",I982<>\"\",J982<>\"\"),Data!L982-$F$4,\"\")","v":""},"","","","",{"$f":"IF(F982<>\"\",STDEV($Q$12:Q982),\"\")","v":""},""]
[972,null,{"$f":"RIGHT(Data!C983,10)","v":""},null,null,null,null,null,null,null,{"$f":"IFERROR($U$3*Data!O983/SQRT(COUNT(Data!F983:J983)),\"\")","v":""},"","","","","",{"$f":"IFERROR((Data!K983-$F$4),\"\")","v":""},{"$f":"IF(AND(F983<>\"\",G983<>\"\",H983<>\"\",I983<>\"\",J983<>\"\"),Data!L983-$F$4,\"\")","v":""},"","","","",{"$f":"IF(F983<>\"\",STDEV($Q$12:Q983),\"\")","v":""},""]
[973,null,{"$f":"RIGHT(Data!C984,10)","v":""},null,null,null,null,null,null,null,{"$f":"IFERROR($U$3*Data!O984/SQRT(COUNT(Data!F984:J984)),\"\")","v":""},"","","","","",{"$f":"IFERROR((Data!K984-$F$4),\"\")","v":""},{"$f":"IF(AND(F984<>\"\",G984<>\"\",H984<>\"\",I984<>\"\",J984<>\"\"),Data!L984-$F$4,\"\")","v":""},"","","","",{"$f":"IF(F984<>\"\",STDEV($Q$12:Q984),\"\")","v":""},""]
[974,null,{"$f":"RIGHT(Data!C985,10)","v":""},null,null,null,null,null,null,null,{"$f":"IFERROR($U$3*Data!O985/SQRT(COUNT(Data!F985:J985)),\"\")","v":""},"","","","","",{"$f":"IFERROR((Data!K985-$F$4),\"\")","v":""},{"$f":"IF(AND(F985<>\"\",G985<>\"\",H985<>\"\",I985<>\"\",J985<>\"\"),Data!L985-$F$4,\"\")","v":""},"","","","",{"$f":"IF(F985<>\"\",STDEV($Q$12:Q985),\"\")","v":""},""]
[975,null,{"$f":"RIGHT(Data!C986,10)","v":""},null,null,null,null,null,null,null,{"$f":"IFERROR($U$3*Data!O986/SQRT(COUNT(Data!F986:J986)),\"\")","v":""},"","","","","",{"$f":"IFERROR((Data!K986-$F$4),\"\")","v":""},{"$f":"IF(AND(F986<>\"\",G986<>\"\",H986<>\"\",I986<>\"\",J986<>\"\"),Data!L986-$F$4,\"\")","v":""},"","","","",{"$f":"IF(F986<>\"\",STDEV($Q$12:Q986),\"\")","v":""},""]
[976,null,{"$f":"RIGHT(Data!C987,10)","v":""},null,null,null,null,null,null,null,{"$f":"IFERROR($U$3*Data!O987/SQRT(COUNT(Data!F987:J987)),\"\")","v":""},"","","","","",{"$f":"IFERROR((Data!K987-$F$4),\"\")","v":""},{"$f":"IF(AND(F987<>\"\",G987<>\"\",H987<>\"\",I987<>\"\",J987<>\"\"),Data!L987-$F$4,\"\")","v":""},"","","","",{"$f":"IF(F987<>\"\",STDEV($Q$12:Q987),\"\")","v":""},""]
[977,null,{"$f":"RIGHT(Data!C988,10)","v":""},null,null,null,null,null,null,null,{"$f":"IFERROR($U$3*Data!O988/SQRT(COUNT(Data!F988:J988)),\"\")","v":""},"","","","","",{"$f":"IFERROR((Data!K988-$F$4),\"\")","v":""},{"$f":"IF(AND(F988<>\"\",G988<>\"\",H988<>\"\",I988<>\"\",J988<>\"\"),Data!L988-$F$4,\"\")","v":""},"","","","",{"$f":"IF(F988<>\"\",STDEV($Q$12:Q988),\"\")","v":""},""]
[978,null,{"$f":"RIGHT(Data!C989,10)","v":""},null,null,null,null,null,null,null,{"$f":"IFERROR($U$3*Data!O989/SQRT(COUNT(Data!F989:J989)),\"\")","v":""},"","","","","",{"$f":"IFERROR((Data!K989-$F$4),\"\")","v":""},{"$f":"IF(AND(F989<>\"\",G989<>\"\",H989<>\"\",I989<>\"\",J989<>\"\"),Data!L989-$F$4,\"\")","v":""},"","","","",{"$f":"IF(F989<>\"\",STDEV($Q$12:Q989),\"\")","v":""},""]
[979,null,{"$f":"RIGHT(Data!C990,10)","v":""},null,null,null,null,null,null,null,{"$f":"IFERROR($U$3*Data!O990/SQRT(COUNT(Data!F990:J990)),\"\")","v":""},"","","","","",{"$f":"IFERROR((Data!K990-$F$4),\"\")","v":""},{"$f":"IF(AND(F990<>\"\",G990<>\"\",H990<>\"\",I990<>\"\",J990<>\"\"),Data!L990-$F$4,\"\")","v":""},"","","","",{"$f":"IF(F990<>\"\",STDEV($Q$12:Q990),\"\")","v":""},""]
[980,null,{"$f":"RIGHT(Data!C991,10)","v":""},null,null,null,null,null,null,null,{"$f":"IFERROR($U$3*Data!O991/SQRT(COUNT(Data!F991:J991)),\"\")","v":""},"","","","","",{"$f":"IFERROR((Data!K991-$F$4),\"\")","v":""},{"$f":"IF(AND(F991<>\"\",G991<>\"\",H991<>\"\",I991<>\"\",J991<>\"\"),Data!L991-$F$4,\"\")","v":""},"","","","",{"$f":"IF(F991<>\"\",STDEV($Q$12:Q991),\"\")","v":""},""]
[981,null,{"$f":"RIGHT(Data!C992,10)","v":""},null,null,null,null,null,null,null,{"$f":"IFERROR($U$3*Data!O992/SQRT(COUNT(Data!F992:J992)),\"\")","v":""},"","","","","",{"$f":"IFERROR((Data!K992-$F$4),\"\")","v":""},{"$f":"IF(AND(F992<>\"\",G992<>\"\",H992<>\"\",I992<>\"\",J992<>\"\"),Data!L992-$F$4,\"\")","v":""},"","","","",{"$f":"IF(F992<>\"\",STDEV($Q$12:Q992),\"\")","v":""},""]
[982,null,{"$f":"RIGHT(Data!C993,10)","v":""},null,null,null,null,null,null,null,{"$f":"IFERROR($U$3*Data!O993/SQRT(COUNT(Data!F993:J993)),\"\")","v":""},"","","","","",{"$f":"IFERROR((Data!K993-$F$4),\"\")","v":""},{"$f":"IF(AND(F993<>\"\",G993<>\"\",H993<>\"\",I993<>\"\",J993<>\"\"),Data!L993-$F$4,\"\")","v":""},"","","","",{"$f":"IF(F993<>\"\",STDEV($Q$12:Q993),\"\")","v":""},""]
[983,null,{"$f":"RIGHT(Data!C994,10)","v":""},null,null,null,null,null,null,null,{"$f":"IFERROR($U$3*Data!O994/SQRT(COUNT(Data!F994:J994)),\"\")","v":""},"","","","","",{"$f":"IFERROR((Data!K994-$F$4),\"\")","v":""},{"$f":"IF(AND(F994<>\"\",G994<>\"\",H994<>\"\",I994<>\"\",J994<>\"\"),Data!L994-$F$4,\"\")","v":""},"","","","",{"$f":"IF(F994<>\"\",STDEV($Q$12:Q994),\"\")","v":""},""]
[984,null,{"$f":"RIGHT(Data!C995,10)","v":""},null,null,null,null,null,null,null,{"$f":"IFERROR($U$3*Data!O995/SQRT(COUNT(Data!F995:J995)),\"\")","v":""},"","","","","",{"$f":"IFERROR((Data!K995-$F$4),\"\")","v":""},{"$f":"IF(AND(F995<>\"\",G995<>\"\",H995<>\"\",I995<>\"\",J995<>\"\"),Data!L995-$F$4,\"\")","v":""},"","","","",{"$f":"IF(F995<>\"\",STDEV($Q$12:Q995),\"\")","v":""},""]
[985,null,{"$f":"RIGHT(Data!C996,10)","v":""},null,null,null,null,null,null,null,{"$f":"IFERROR($U$3*Data!O996/SQRT(COUNT(Data!F996:J996)),\"\")","v":""},"","","","","",{"$f":"IFERROR((Data!K996-$F$4),\"\")","v":""},{"$f":"IF(AND(F996<>\"\",G996<>\"\",H996<>\"\",I996<>\"\",J996<>\"\"),Data!L996-$F$4,\"\")","v":""},"","","","",{"$f":"IF(F996<>\"\",STDEV($Q$12:Q996),\"\")","v":""},""]
[986,null,{"$f":"RIGHT(Data!C997,10)","v":""},null,null,null,null,null,null,null,{"$f":"IFERROR($U$3*Data!O997/SQRT(COUNT(Data!F997:J997)),\"\")","v":""},"","","","","",{"$f":"IFERROR((Data!K997-$F$4),\"\")","v":""},{"$f":"IF(AND(F997<>\"\",G997<>\"\",H997<>\"\",I997<>\"\",J997<>\"\"),Data!L997-$F$4,\"\")","v":""},"","","","",{"$f":"IF(F997<>\"\",STDEV($Q$12:Q997),\"\")","v":""},""]
[987,null,{"$f":"RIGHT(Data!C998,10)","v":""},null,null,null,null,null,null,null,{"$f":"IFERROR($U$3*Data!O998/SQRT(COUNT(Data!F998:J998)),\"\")","v":""},"","","","","",{"$f":"IFERROR((Data!K998-$F$4),\"\")","v":""},{"$f":"IF(AND(F998<>\"\",G998<>\"\",H998<>\"\",I998<>\"\",J998<>\"\"),Data!L998-$F$4,\"\")","v":""},"","","","",{"$f":"IF(F998<>\"\",STDEV($Q$12:Q998),\"\")","v":""},""]
[988,null,{"$f":"RIGHT(Data!C999,10)","v":""},null,null,null,null,null,null,null,{"$f":"IFERROR($U$3*Data!O999/SQRT(COUNT(Data!F999:J999)),\"\")","v":""},"","","","","",{"$f":"IFERROR((Data!K999-$F$4),\"\")","v":""},{"$f":"IF(AND(F999<>\"\",G999<>\"\",H999<>\"\",I999<>\"\",J999<>\"\"),Data!L999-$F$4,\"\")","v":""},"","","","",{"$f":"IF(F999<>\"\",STDEV($Q$12:Q999),\"\")","v":""},""]
[989,null,{"$f":"RIGHT(Data!C1000,10)","v":""},null,null,null,null,null,null,null,{"$f":"IFERROR($U$3*Data!O1000/SQRT(COUNT(Data!F1000:J1000)),\"\")","v":""},"","","","","",{"$f":"IFERROR((Data!K1000-$F$4),\"\")","v":""},{"$f":"IF(AND(F1000<>\"\",G1000<>\"\",H1000<>\"\",I1000<>\"\",J1000<>\"\"),Data!L1000-$F$4,\"\")","v":""},"","","","",{"$f":"IF(F1000<>\"\",STDEV($Q$12:Q1000),\"\")","v":""},""]
[990,null,{"$f":"RIGHT(Data!C1001,10)","v":""},null,null,null,null,null,null,null,{"$f":"IFERROR($U$3*Data!O1001/SQRT(COUNT(Data!F1001:J1001)),\"\")","v":""},"","","","","",{"$f":"IFERROR((Data!K1001-$F$4),\"\")","v":""},{"$f":"IF(AND(F1001<>\"\",G1001<>\"\",H1001<>\"\",I1001<>\"\",J1001<>\"\"),Data!L1001-$F$4,\"\")","v":""},"","","","",{"$f":"IF(F1001<>\"\",STDEV($Q$12:Q1001),\"\")","v":""},""]
[991,null,{"$f":"RIGHT(Data!C1002,10)","v":""},null,null,null,null,null,null,null,{"$f":"IFERROR($U$3*Data!O1002/SQRT(COUNT(Data!F1002:J1002)),\"\")","v":""},"","","","","",{"$f":"IFERROR((Data!K1002-$F$4),\"\")","v":""},{"$f":"IF(AND(F1002<>\"\",G1002<>\"\",H1002<>\"\",I1002<>\"\",J1002<>\"\"),Data!L1002-$F$4,\"\")","v":""},"","","","",{"$f":"IF(F1002<>\"\",STDEV($Q$12:Q1002),\"\")","v":""},""]
[992,null,{"$f":"RIGHT(Data!C1003,10)","v":""},null,null,null,null,null,null,null,{"$f":"IFERROR($U$3*Data!O1003/SQRT(COUNT(Data!F1003:J1003)),\"\")","v":""},"","","","","",{"$f":"IFERROR((Data!K1003-$F$4),\"\")","v":""},{"$f":"IF(AND(F1003<>\"\",G1003<>\"\",H1003<>\"\",I1003<>\"\",J1003<>\"\"),Data!L1003-$F$4,\"\")","v":""},"","","","",{"$f":"IF(F1003<>\"\",STDEV($Q$12:Q1003),\"\")","v":""},""]
[993,null,{"$f":"RIGHT(Data!C1004,10)","v":""},null,null,null,null,null,null,null,{"$f":"IFERROR($U$3*Data!O1004/SQRT(COUNT(Data!F1004:J1004)),\"\")","v":""},"","","","","",{"$f":"IFERROR((Data!K1004-$F$4),\"\")","v":""},{"$f":"IF(AND(F1004<>\"\",G1004<>\"\",H1004<>\"\",I1004<>\"\",J1004<>\"\"),Data!L1004-$F$4,\"\")","v":""},"","","","",{"$f":"IF(F1004<>\"\",STDEV($Q$12:Q1004),\"\")","v":""},""]
[994,null,{"$f":"RIGHT(Data!C1005,10)","v":""},null,null,null,null,null,null,null,{"$f":"IFERROR($U$3*Data!O1005/SQRT(COUNT(Data!F1005:J1005)),\"\")","v":""},"","","","","",{"$f":"IFERROR((Data!K1005-$F$4),\"\")","v":""},{"$f":"IF(AND(F1005<>\"\",G1005<>\"\",H1005<>\"\",I1005<>\"\",J1005<>\"\"),Data!L1005-$F$4,\"\")","v":""},"","","","",{"$f":"IF(F1005<>\"\",STDEV($Q$12:Q1005),\"\")","v":""},""]
[995,null,{"$f":"RIGHT(Data!C1006,10)","v":""},null,null,null,null,null,null,null,{"$f":"IFERROR($U$3*Data!O1006/SQRT(COUNT(Data!F1006:J1006)),\"\")","v":""},"","","","","",{"$f":"IFERROR((Data!K1006-$F$4),\"\")","v":""},{"$f":"IF(AND(F1006<>\"\",G1006<>\"\",H1006<>\"\",I1006<>\"\",J1006<>\"\"),Data!L1006-$F$4,\"\")","v":""},"","","","",{"$f":"IF(F1006<>\"\",STDEV($Q$12:Q1006),\"\")","v":""},""]
[996,null,{"$f":"RIGHT(Data!C1007,10)","v":""},null,null,null,null,null,null,null,{"$f":"IFERROR($U$3*Data!O1007/SQRT(COUNT(Data!F1007:J1007)),\"\")","v":""},"","","","","",{"$f":"IFERROR((Data!K1007-$F$4),\"\")","v":""},{"$f":"IF(AND(F1007<>\"\",G1007<>\"\",H1007<>\"\",I1007<>\"\",J1007<>\"\"),Data!L1007-$F$4,\"\")","v":""},"","","","",{"$f":"IF(F1007<>\"\",STDEV($Q$12:Q1007),\"\")","v":""},""]
[997,null,{"$f":"RIGHT(Data!C1008,10)","v":""},null,null,null,null,null,null,null,{"$f":"IFERROR($U$3*Data!O1008/SQRT(COUNT(Data!F1008:J1008)),\"\")","v":""},"","","","","",{"$f":"IFERROR((Data!K1008-$F$4),\"\")","v":""},{"$f":"IF(AND(F1008<>\"\",G1008<>\"\",H1008<>\"\",I1008<>\"\",J1008<>\"\"),Data!L1008-$F$4,\"\")","v":""},"","","","",{"$f":"IF(F1008<>\"\",STDEV($Q$12:Q1008),\"\")","v":""},""]
[998,null,{"$f":"RIGHT(Data!C1009,10)","v":""},null,null,null,null,null,null,null,{"$f":"IFERROR($U$3*Data!O1009/SQRT(COUNT(Data!F1009:J1009)),\"\")","v":""},"","","","","",{"$f":"IFERROR((Data!K1009-$F$4),\"\")","v":""},{"$f":"IF(AND(F1009<>\"\",G1009<>\"\",H1009<>\"\",I1009<>\"\",J1009<>\"\"),Data!L1009-$F$4,\"\")","v":""},"","","","",{"$f":"IF(F1009<>\"\",STDEV($Q$12:Q1009),\"\")","v":""},""]
[999,null,{"$f":"RIGHT(Data!C1010,10)","v":""},null,null,null,null,null,null,null,{"$f":"IFERROR($U$3*Data!O1010/SQRT(COUNT(Data!F1010:J1010)),\"\")","v":""},"","","","","",{"$f":"IFERROR((Data!K1010-$F$4),\"\")","v":""},{"$f":"IF(AND(F1010<>\"\",G1010<>\"\",H1010<>\"\",I1010<>\"\",J1010<>\"\"),Data!L1010-$F$4,\"\")","v":""},"","","","",{"$f":"IF(F1010<>\"\",STDEV($Q$12:Q1010),\"\")","v":""},""]
[1000,null,{"$f":"RIGHT(Data!C1011,10)","v":""},null,null,null,null,null,null,null,{"$f":"IFERROR($U$3*Data!O1011/SQRT(COUNT(Data!F1011:J1011)),\"\")","v":""},"","","","","",{"$f":"IFERROR((Data!K1011-$F$4),\"\")","v":""},{"$f":"IF(AND(F1011<>\"\",G1011<>\"\",H1011<>\"\",I1011<>\"\",J1011<>\"\"),Data!L1011-$F$4,\"\")","v":""},"","","","",{"$f":"IF(F1011<>\"\",STDEV($Q$12:Q1011),\"\")","v":""},""]
[1001,null,{"$f":"RIGHT(Data!C1012,10)","v":""},null,null,null,null,null,null,null,{"$f":"IFERROR($U$3*Data!O1012/SQRT(COUNT(Data!F1012:J1012)),\"\")","v":""},"","","","","",{"$f":"IFERROR((Data!K1012-$F$4),\"\")","v":""},{"$f":"IF(AND(F1012<>\"\",G1012<>\"\",H1012<>\"\",I1012<>\"\",J1012<>\"\"),Data!L1012-$F$4,\"\")","v":""},"","","","",{"$f":"IF(F1012<>\"\",STDEV($Q$12:Q1012),\"\")","v":""},""]
[1002,null,{"$f":"RIGHT(Data!C1013,10)","v":""},null,null,null,null,null,null,null,{"$f":"IFERROR($U$3*Data!O1013/SQRT(COUNT(Data!F1013:J1013)),\"\")","v":""},"","","","","",{"$f":"IFERROR((Data!K1013-$F$4),\"\")","v":""},{"$f":"IF(AND(F1013<>\"\",G1013<>\"\",H1013<>\"\",I1013<>\"\",J1013<>\"\"),Data!L1013-$F$4,\"\")","v":""},"","","","",{"$f":"IF(F1013<>\"\",STDEV($Q$12:Q1013),\"\")","v":""},""]
[1003,null,{"$f":"RIGHT(Data!C1014,10)","v":""},null,null,null,null,null,null,null,{"$f":"IFERROR($U$3*Data!O1014/SQRT(COUNT(Data!F1014:J1014)),\"\")","v":""},"","","","","",{"$f":"IFERROR((Data!K1014-$F$4),\"\")","v":""},{"$f":"IF(AND(F1014<>\"\",G1014<>\"\",H1014<>\"\",I1014<>\"\",J1014<>\"\"),Data!L1014-$F$4,\"\")","v":""},"","","","",{"$f":"IF(F1014<>\"\",STDEV($Q$12:Q1014),\"\")","v":""},""]
[1004,null,{"$f":"RIGHT(Data!C1015,10)","v":""},null,null,null,null,null,null,null,{"$f":"IFERROR($U$3*Data!O1015/SQRT(COUNT(Data!F1015:J1015)),\"\")","v":""},"","","","","",{"$f":"IFERROR((Data!K1015-$F$4),\"\")","v":""},{"$f":"IF(AND(F1015<>\"\",G1015<>\"\",H1015<>\"\",I1015<>\"\",J1015<>\"\"),Data!L1015-$F$4,\"\")","v":""},"","","","",{"$f":"IF(F1015<>\"\",STDEV($Q$12:Q1015),\"\")","v":""},""]
[1005,null,{"$f":"RIGHT(Data!C1016,10)","v":""},null,null,null,null,null,null,null,{"$f":"IFERROR($U$3*Data!O1016/SQRT(COUNT(Data!F1016:J1016)),\"\")","v":""},"","","","","",{"$f":"IFERROR((Data!K1016-$F$4),\"\")","v":""},{"$f":"IF(AND(F1016<>\"\",G1016<>\"\",H1016<>\"\",I1016<>\"\",J1016<>\"\"),Data!L1016-$F$4,\"\")","v":""},"","","","",{"$f":"IF(F1016<>\"\",STDEV($Q$12:Q1016),\"\")","v":""},""]
[1006,null,{"$f":"RIGHT(Data!C1017,10)","v":""},null,null,null,null,null,null,null,{"$f":"IFERROR($U$3*Data!O1017/SQRT(COUNT(Data!F1017:J1017)),\"\")","v":""},"","","","","",{"$f":"IFERROR((Data!K1017-$F$4),\"\")","v":""},{"$f":"IF(AND(F1017<>\"\",G1017<>\"\",H1017<>\"\",I1017<>\"\",J1017<>\"\"),Data!L1017-$F$4,\"\")","v":""},"","","","",{"$f":"IF(F1017<>\"\",STDEV($Q$12:Q1017),\"\")","v":""},""]
[1007,null,{"$f":"RIGHT(Data!C1018,10)","v":""},null,null,null,null,null,null,null,{"$f":"IFERROR($U$3*Data!O1018/SQRT(COUNT(Data!F1018:J1018)),\"\")","v":""},"","","","","",{"$f":"IFERROR((Data!K1018-$F$4),\"\")","v":""},{"$f":"IF(AND(F1018<>\"\",G1018<>\"\",H1018<>\"\",I1018<>\"\",J1018<>\"\"),Data!L1018-$F$4,\"\")","v":""},"","","","",{"$f":"IF(F1018<>\"\",STDEV($Q$12:Q1018),\"\")","v":""},""]
[1008,null,{"$f":"RIGHT(Data!C1019,10)","v":""},null,null,null,null,null,null,null,{"$f":"IFERROR($U$3*Data!O1019/SQRT(COUNT(Data!F1019:J1019)),\"\")","v":""},"","","","","",{"$f":"IFERROR((Data!K1019-$F$4),\"\")","v":""},{"$f":"IF(AND(F1019<>\"\",G1019<>\"\",H1019<>\"\",I1019<>\"\",J1019<>\"\"),Data!L1019-$F$4,\"\")","v":""},"","","","",{"$f":"IF(F1019<>\"\",STDEV($Q$12:Q1019),\"\")","v":""},""]
[1009,null,{"$f":"RIGHT(Data!C1020,10)","v":""},null,null,null,null,null,null,null,{"$f":"IFERROR($U$3*Data!O1020/SQRT(COUNT(Data!F1020:J1020)),\"\")","v":""},"","","","","",{"$f":"IFERROR((Data!K1020-$F$4),\"\")","v":""},{"$f":"IF(AND(F1020<>\"\",G1020<>\"\",H1020<>\"\",I1020<>\"\",J1020<>\"\"),Data!L1020-$F$4,\"\")","v":""},"","","","",{"$f":"IF(F1020<>\"\",STDEV($Q$12:Q1020),\"\")","v":""},""]
[1010,null,{"$f":"RIGHT(Data!C1021,10)","v":""},null,null,null,null,null,null,null,{"$f":"IFERROR($U$3*Data!O1021/SQRT(COUNT(Data!F1021:J1021)),\"\")","v":""},"","","","","",{"$f":"IFERROR((Data!K1021-$F$4),\"\")","v":""},{"$f":"IF(AND(F1021<>\"\",G1021<>\"\",H1021<>\"\",I1021<>\"\",J1021<>\"\"),Data!L1021-$F$4,\"\")","v":""},"","","","",{"$f":"IF(F1021<>\"\",STDEV($Q$12:Q1021),\"\")","v":""},""]
[1011,null,{"$f":"RIGHT(Data!C1022,10)","v":""},null,null,null,null,null,null,null,{"$f":"IFERROR($U$3*Data!O1022/SQRT(COUNT(Data!F1022:J1022)),\"\")","v":""},"","","","","",{"$f":"IFERROR((Data!K1022-$F$4),\"\")","v":""},{"$f":"IF(AND(F1022<>\"\",G1022<>\"\",H1022<>\"\",I1022<>\"\",J1022<>\"\"),Data!L1022-$F$4,\"\")","v":""},"","","","",{"$f":"IF(F1022<>\"\",STDEV($Q$12:Q1022),\"\")","v":""},""]
[1012,null,{"$f":"RIGHT(Data!C1023,10)","v":""},null,null,null,null,null,null,null,{"$f":"IFERROR($U$3*Data!O1023/SQRT(COUNT(Data!F1023:J1023)),\"\")","v":""},"","","","","",{"$f":"IFERROR((Data!K1023-$F$4),\"\")","v":""},{"$f":"IF(AND(F1023<>\"\",G1023<>\"\",H1023<>\"\",I1023<>\"\",J1023<>\"\"),Data!L1023-$F$4,\"\")","v":""},"","","","",{"$f":"IF(F1023<>\"\",STDEV($Q$12:Q1023),\"\")","v":""},""]
[1013,null,{"$f":"RIGHT(Data!C1024,10)","v":""},null,null,null,null,null,null,null,{"$f":"IFERROR($U$3*Data!O1024/SQRT(COUNT(Data!F1024:J1024)),\"\")","v":""},"","","","","",{"$f":"IFERROR((Data!K1024-$F$4),\"\")","v":""},{"$f":"IF(AND(F1024<>\"\",G1024<>\"\",H1024<>\"\",I1024<>\"\",J1024<>\"\"),Data!L1024-$F$4,\"\")","v":""},"","","","",{"$f":"IF(F1024<>\"\",STDEV($Q$12:Q1024),\"\")","v":""},""]
[1014,null,{"$f":"RIGHT(Data!C1025,10)","v":""},null,null,null,null,null,null,null,{"$f":"IFERROR($U$3*Data!O1025/SQRT(COUNT(Data!F1025:J1025)),\"\")","v":""},"","","","","",{"$f":"IFERROR((Data!K1025-$F$4),\"\")","v":""},{"$f":"IF(AND(F1025<>\"\",G1025<>\"\",H1025<>\"\",I1025<>\"\",J1025<>\"\"),Data!L1025-$F$4,\"\")","v":""},"","","","",{"$f":"IF(F1025<>\"\",STDEV($Q$12:Q1025),\"\")","v":""},""]
[1015,null,{"$f":"RIGHT(Data!C1026,10)","v":""},null,null,null,null,null,null,null,{"$f":"IFERROR($U$3*Data!O1026/SQRT(COUNT(Data!F1026:J1026)),\"\")","v":""},"","","","","",{"$f":"IFERROR((Data!K1026-$F$4),\"\")","v":""},{"$f":"IF(AND(F1026<>\"\",G1026<>\"\",H1026<>\"\",I1026<>\"\",J1026<>\"\"),Data!L1026-$F$4,\"\")","v":""},"","","","",{"$f":"IF(F1026<>\"\",STDEV($Q$12:Q1026),\"\")","v":""},""]
[1016,null,{"$f":"RIGHT(Data!C1027,10)","v":""},null,null,null,null,null,null,null,{"$f":"IFERROR($U$3*Data!O1027/SQRT(COUNT(Data!F1027:J1027)),\"\")","v":""},"","","","","",{"$f":"IFERROR((Data!K1027-$F$4),\"\")","v":""},{"$f":"IF(AND(F1027<>\"\",G1027<>\"\",H1027<>\"\",I1027<>\"\",J1027<>\"\"),Data!L1027-$F$4,\"\")","v":""},"","","","",{"$f":"IF(F1027<>\"\",STDEV($Q$12:Q1027),\"\")","v":""},""]
[1017,null,{"$f":"RIGHT(Data!C1028,10)","v":""},null,null,null,null,null,null,null,{"$f":"IFERROR($U$3*Data!O1028/SQRT(COUNT(Data!F1028:J1028)),\"\")","v":""},"","","","","",{"$f":"IFERROR((Data!K1028-$F$4),\"\")","v":""},{"$f":"IF(AND(F1028<>\"\",G1028<>\"\",H1028<>\"\",I1028<>\"\",J1028<>\"\"),Data!L1028-$F$4,\"\")","v":""},"","","","",{"$f":"IF(F1028<>\"\",STDEV($Q$12:Q1028),\"\")","v":""},""]
[1018,null,{"$f":"RIGHT(Data!C1029,10)","v":""},null,null,null,null,null,null,null,{"$f":"IFERROR($U$3*Data!O1029/SQRT(COUNT(Data!F1029:J1029)),\"\")","v":""},"","","","","",{"$f":"IFERROR((Data!K1029-$F$4),\"\")","v":""},{"$f":"IF(AND(F1029<>\"\",G1029<>\"\",H1029<>\"\",I1029<>\"\",J1029<>\"\"),Data!L1029-$F$4,\"\")","v":""},"","","","",{"$f":"IF(F1029<>\"\",STDEV($Q$12:Q1029),\"\")","v":""},""]
[1019,null,{"$f":"RIGHT(Data!C1030,10)","v":""},null,null,null,null,null,null,null,{"$f":"IFERROR($U$3*Data!O1030/SQRT(COUNT(Data!F1030:J1030)),\"\")","v":""},"","","","","",{"$f":"IFERROR((Data!K1030-$F$4),\"\")","v":""},{"$f":"IF(AND(F1030<>\"\",G1030<>\"\",H1030<>\"\",I1030<>\"\",J1030<>\"\"),Data!L1030-$F$4,\"\")","v":""},"","","","",{"$f":"IF(F1030<>\"\",STDEV($Q$12:Q1030),\"\")","v":""},""]
[1020,null,{"$f":"RIGHT(Data!C1031,10)","v":""},null,null,null,null,null,null,null,{"$f":"IFERROR($U$3*Data!O1031/SQRT(COUNT(Data!F1031:J1031)),\"\")","v":""},"","","","","",{"$f":"IFERROR((Data!K1031-$F$4),\"\")","v":""},{"$f":"IF(AND(F1031<>\"\",G1031<>\"\",H1031<>\"\",I1031<>\"\",J1031<>\"\"),Data!L1031-$F$4,\"\")","v":""},"","","","",{"$f":"IF(F1031<>\"\",STDEV($Q$12:Q1031),\"\")","v":""},""]
[1021,null,{"$f":"RIGHT(Data!C1032,10)","v":""},null,null,null,null,null,null,null,{"$f":"IFERROR($U$3*Data!O1032/SQRT(COUNT(Data!F1032:J1032)),\"\")","v":""},"","","","","",{"$f":"IFERROR((Data!K1032-$F$4),\"\")","v":""},{"$f":"IF(AND(F1032<>\"\",G1032<>\"\",H1032<>\"\",I1032<>\"\",J1032<>\"\"),Data!L1032-$F$4,\"\")","v":""},"","","","",{"$f":"IF(F1032<>\"\",STDEV($Q$12:Q1032),\"\")","v":""},""]
[1022,null,{"$f":"RIGHT(Data!C1033,10)","v":""},null,null,null,null,null,null,null,{"$f":"IFERROR($U$3*Data!O1033/SQRT(COUNT(Data!F1033:J1033)),\"\")","v":""},"","","","","",{"$f":"IFERROR((Data!K1033-$F$4),\"\")","v":""},{"$f":"IF(AND(F1033<>\"\",G1033<>\"\",H1033<>\"\",I1033<>\"\",J1033<>\"\"),Data!L1033-$F$4,\"\")","v":""},"","","","",{"$f":"IF(F1033<>\"\",STDEV($Q$12:Q1033),\"\")","v":""},""]
[1023,null,{"$f":"RIGHT(Data!C1034,10)","v":""},null,null,null,null,null,null,null,{"$f":"IFERROR($U$3*Data!O1034/SQRT(COUNT(Data!F1034:J1034)),\"\")","v":""},"","","","","",{"$f":"IFERROR((Data!K1034-$F$4),\"\")","v":""},{"$f":"IF(AND(F1034<>\"\",G1034<>\"\",H1034<>\"\",I1034<>\"\",J1034<>\"\"),Data!L1034-$F$4,\"\")","v":""},"","","","",{"$f":"IF(F1034<>\"\",STDEV($Q$12:Q1034),\"\")","v":""},""]
[1024,null,{"$f":"RIGHT(Data!C1035,10)","v":""},null,null,null,null,null,null,null,{"$f":"IFERROR($U$3*Data!O1035/SQRT(COUNT(Data!F1035:J1035)),\"\")","v":""},"","","","","",{"$f":"IFERROR((Data!K1035-$F$4),\"\")","v":""},{"$f":"IF(AND(F1035<>\"\",G1035<>\"\",H1035<>\"\",I1035<>\"\",J1035<>\"\"),Data!L1035-$F$4,\"\")","v":""},"","","","",{"$f":"IF(F1035<>\"\",STDEV($Q$12:Q1035),\"\")","v":""},""]
[1025,null,{"$f":"RIGHT(Data!C1036,10)","v":""},null,null,null,null,null,null,null,{"$f":"IFERROR($U$3*Data!O1036/SQRT(COUNT(Data!F1036:J1036)),\"\")","v":""},"","",{"$f":"IF(COUNT(F1036:J1036)>=5,STDEV(F1036:J1036)*$U$3/SQRT((COUNT(F1036:J1036))),\"\")","v":""},"","",{"$f":"IFERROR((Data!K1036-$F$4),\"\")","v":""},{"$f":"IF(AND(F1036<>\"\",G1036<>\"\",H1036<>\"\",I1036<>\"\",J1036<>\"\"),Data!L1036-$F$4,\"\")","v":""},{"$f":"IF(O1036<>\"\",FIXED(X1036,1) & \" ± \" & FIXED(O1036+ABS(R1036),2),\"\")","v":""},"","","",{"$f":"IF(F1036<>\"\",STDEV($Q$12:Q1036),\"\")","v":""},{"$f":"IF(F1036<>\"\",AVERAGE(F1036:J1036),\"\")","v":""}]
[1026,null,{"$f":"RIGHT(Data!C1037,10)","v":""},null,null,null,null,null,null,null,{"$f":"IFERROR($U$3*Data!O1037/SQRT(COUNT(Data!F1037:J1037)),\"\")","v":""},{"$f":"IF(F1037<>\"\",V1037*W1037/SQRT(A1037),\"\")","v":""},{"$f":"IF(F1037<>\"\",$U$4*SQRT($U$7^2+L1037^2+K1037^2+$U$5^2),\"\")","v":""},"",{"$f":"IFERROR($U$4*SQRT($U$7^2+L1037^2+K1037^2+$U$5^2+N1037^2),\"\")","v":""},{"$f":"IF(AND(F1037<>\"\",G1037<>\"\",H1037<>\"\",I1037<>\"\",J1037<>\"\"),AVERAGE(F1037:J1037),\"\")","v":""},{"$f":"IFERROR((Data!K1037-$F$4),\"\")","v":""},{"$f":"IF(AND(F1037<>\"\",G1037<>\"\",H1037<>\"\",I1037<>\"\",J1037<>\"\"),Data!L1037-$F$4,\"\")","v":""},"",{"$f":"IF(F1037<>\"\",FIXED(AVERAGE(F1037:J1037)-R1037,1) & \" ± \" & FIXED(O1037,2),\"\")","v":""},{"$f":"IF(IO1037=\"\",\"\",IO1037-1)","v":""},{"$f":"IF(F1037<>\"\",TINV(1-0.68,A1037-1),\"\")","v":""},{"$f":"IF(F1037<>\"\",STDEV($Q$12:Q1037),\"\")","v":""},""]
[1027,null,{"$f":"RIGHT(Data!C1038,10)","v":""},null,null,null,null,null,null,null,{"$f":"IFERROR($U$3*Data!O1038/SQRT(COUNT(Data!F1038:J1038)),\"\")","v":""},"","","","","",{"$f":"IFERROR((Data!K1038-$F$4),\"\")","v":""},{"$f":"IF(AND(F1038<>\"\",G1038<>\"\",H1038<>\"\",I1038<>\"\",J1038<>\"\"),Data!L1038-$F$4,\"\")","v":""},"","","","",{"$f":"IF(F1038<>\"\",STDEV($Q$12:Q1038),\"\")","v":""},""]
[1028,null,{"$f":"RIGHT(Data!C1039,10)","v":""},null,null,null,null,null,null,null,{"$f":"IFERROR($U$3*Data!O1039/SQRT(COUNT(Data!F1039:J1039)),\"\")","v":""},"","","","","",{"$f":"IFERROR((Data!K1039-$F$4),\"\")","v":""},{"$f":"IF(AND(F1039<>\"\",G1039<>\"\",H1039<>\"\",I1039<>\"\",J1039<>\"\"),Data!L1039-$F$4,\"\")","v":""},"","","","",{"$f":"IF(F1039<>\"\",STDEV($Q$12:Q1039),\"\")","v":""},""]
[1029,null,{"$f":"RIGHT(Data!C1040,10)","v":""},null,null,null,null,null,null,null,{"$f":"IFERROR($U$3*Data!O1040/SQRT(COUNT(Data!F1040:J1040)),\"\")","v":""},"","","","","",{"$f":"IFERROR((Data!K1040-$F$4),\"\")","v":""},{"$f":"IF(AND(F1040<>\"\",G1040<>\"\",H1040<>\"\",I1040<>\"\",J1040<>\"\"),Data!L1040-$F$4,\"\")","v":""},"","","","",{"$f":"IF(F1040<>\"\",STDEV($Q$12:Q1040),\"\")","v":""},""]
[1030,null,{"$f":"RIGHT(Data!C1041,10)","v":""},null,null,null,null,null,null,null,{"$f":"IFERROR($U$3*Data!O1041/SQRT(COUNT(Data!F1041:J1041)),\"\")","v":""},"","","","","",{"$f":"IFERROR((Data!K1041-$F$4),\"\")","v":""},{"$f":"IF(AND(F1041<>\"\",G1041<>\"\",H1041<>\"\",I1041<>\"\",J1041<>\"\"),Data!L1041-$F$4,\"\")","v":""},"","","","",{"$f":"IF(F1041<>\"\",STDEV($Q$12:Q1041),\"\")","v":""},""]
[1031,null,{"$f":"RIGHT(Data!C1042,10)","v":""},null,null,null,null,null,null,null,{"$f":"IFERROR($U$3*Data!O1042/SQRT(COUNT(Data!F1042:J1042)),\"\")","v":""},"","","","","",{"$f":"IFERROR((Data!K1042-$F$4),\"\")","v":""},{"$f":"IF(AND(F1042<>\"\",G1042<>\"\",H1042<>\"\",I1042<>\"\",J1042<>\"\"),Data!L1042-$F$4,\"\")","v":""},"","","","",{"$f":"IF(F1042<>\"\",STDEV($Q$12:Q1042),\"\")","v":""},""]
[1032,null,{"$f":"RIGHT(Data!C1043,10)","v":""},null,null,null,null,null,null,null,{"$f":"IFERROR($U$3*Data!O1043/SQRT(COUNT(Data!F1043:J1043)),\"\")","v":""},"","","","","",{"$f":"IFERROR((Data!K1043-$F$4),\"\")","v":""},{"$f":"IF(AND(F1043<>\"\",G1043<>\"\",H1043<>\"\",I1043<>\"\",J1043<>\"\"),Data!L1043-$F$4,\"\")","v":""},"","","","",{"$f":"IF(F1043<>\"\",STDEV($Q$12:Q1043),\"\")","v":""},""]
[1033,null,{"$f":"RIGHT(Data!C1044,10)","v":""},null,null,null,null,null,null,null,{"$f":"IFERROR($U$3*Data!O1044/SQRT(COUNT(Data!F1044:J1044)),\"\")","v":""},"","","","","",{"$f":"IFERROR((Data!K1044-$F$4),\"\")","v":""},{"$f":"IF(AND(F1044<>\"\",G1044<>\"\",H1044<>\"\",I1044<>\"\",J1044<>\"\"),Data!L1044-$F$4,\"\")","v":""},"","","","",{"$f":"IF(F1044<>\"\",STDEV($Q$12:Q1044),\"\")","v":""},""]
[1034,null,{"$f":"RIGHT(Data!C1045,10)","v":""},null,null,null,null,null,null,null,{"$f":"IFERROR($U$3*Data!O1045/SQRT(COUNT(Data!F1045:J1045)),\"\")","v":""},"","","","","",{"$f":"IFERROR((Data!K1045-$F$4),\"\")","v":""},{"$f":"IF(AND(F1045<>\"\",G1045<>\"\",H1045<>\"\",I1045<>\"\",J1045<>\"\"),Data!L1045-$F$4,\"\")","v":""},"","","","",{"$f":"IF(F1045<>\"\",STDEV($Q$12:Q1045),\"\")","v":""},""]
[1035,null,{"$f":"RIGHT(Data!C1046,10)","v":""},null,null,null,null,null,null,null,{"$f":"IFERROR($U$3*Data!O1046/SQRT(COUNT(Data!F1046:J1046)),\"\")","v":""},"","","","","",{"$f":"IFERROR((Data!K1046-$F$4),\"\")","v":""},{"$f":"IF(AND(F1046<>\"\",G1046<>\"\",H1046<>\"\",I1046<>\"\",J1046<>\"\"),Data!L1046-$F$4,\"\")","v":""},"","","","",{"$f":"IF(F1046<>\"\",STDEV($Q$12:Q1046),\"\")","v":""},""]
[1036,null,{"$f":"RIGHT(Data!C1047,10)","v":""},null,null,null,null,null,null,null,{"$f":"IFERROR($U$3*Data!O1047/SQRT(COUNT(Data!F1047:J1047)),\"\")","v":""},"","","","","",{"$f":"IFERROR((Data!K1047-$F$4),\"\")","v":""},{"$f":"IF(AND(F1047<>\"\",G1047<>\"\",H1047<>\"\",I1047<>\"\",J1047<>\"\"),Data!L1047-$F$4,\"\")","v":""},"","","","",{"$f":"IF(F1047<>\"\",STDEV($Q$12:Q1047),\"\")","v":""},""]
[1037,null,{"$f":"RIGHT(Data!C1048,10)","v":""},null,null,null,null,null,null,null,{"$f":"IFERROR($U$3*Data!O1048/SQRT(COUNT(Data!F1048:J1048)),\"\")","v":""},"","","","","",{"$f":"IFERROR((Data!K1048-$F$4),\"\")","v":""},{"$f":"IF(AND(F1048<>\"\",G1048<>\"\",H1048<>\"\",I1048<>\"\",J1048<>\"\"),Data!L1048-$F$4,\"\")","v":""},"","","","",{"$f":"IF(F1048<>\"\",STDEV($Q$12:Q1048),\"\")","v":""},""]
[1038,null,{"$f":"RIGHT(Data!C1049,10)","v":""},null,null,null,null,null,null,null,{"$f":"IFERROR($U$3*Data!O1049/SQRT(COUNT(Data!F1049:J1049)),\"\")","v":""},"","","","","",{"$f":"IFERROR((Data!K1049-$F$4),\"\")","v":""},{"$f":"IF(AND(F1049<>\"\",G1049<>\"\",H1049<>\"\",I1049<>\"\",J1049<>\"\"),Data!L1049-$F$4,\"\")","v":""},"","","","",{"$f":"IF(F1049<>\"\",STDEV($Q$12:Q1049),\"\")","v":""},""]
[1039,null,{"$f":"RIGHT(Data!C1050,10)","v":""},null,null,null,null,null,null,null,{"$f":"IFERROR($U$3*Data!O1050/SQRT(COUNT(Data!F1050:J1050)),\"\")","v":""},"","","","","",{"$f":"IFERROR((Data!K1050-$F$4),\"\")","v":""},{"$f":"IF(AND(F1050<>\"\",G1050<>\"\",H1050<>\"\",I1050<>\"\",J1050<>\"\"),Data!L1050-$F$4,\"\")","v":""},"","","","",{"$f":"IF(F1050<>\"\",STDEV($Q$12:Q1050),\"\")","v":""},""]
[1040,null,{"$f":"RIGHT(Data!C1051,10)","v":""},null,null,null,null,null,null,null,{"$f":"IFERROR($U$3*Data!O1051/SQRT(COUNT(Data!F1051:J1051)),\"\")","v":""},"","","","","",{"$f":"IFERROR((Data!K1051-$F$4),\"\")","v":""},{"$f":"IF(AND(F1051<>\"\",G1051<>\"\",H1051<>\"\",I1051<>\"\",J1051<>\"\"),Data!L1051-$F$4,\"\")","v":""},"","","","",{"$f":"IF(F1051<>\"\",STDEV($Q$12:Q1051),\"\")","v":""},""]
[1041,null,{"$f":"RIGHT(Data!C1052,10)","v":""},null,null,null,null,null,null,null,{"$f":"IFERROR($U$3*Data!O1052/SQRT(COUNT(Data!F1052:J1052)),\"\")","v":""},"","","","","",{"$f":"IFERROR((Data!K1052-$F$4),\"\")","v":""},{"$f":"IF(AND(F1052<>\"\",G1052<>\"\",H1052<>\"\",I1052<>\"\",J1052<>\"\"),Data!L1052-$F$4,\"\")","v":""},"","","","",{"$f":"IF(F1052<>\"\",STDEV($Q$12:Q1052),\"\")","v":""},""]
[1042,null,{"$f":"RIGHT(Data!C1053,10)","v":""},null,null,null,null,null,null,null,{"$f":"IFERROR($U$3*Data!O1053/SQRT(COUNT(Data!F1053:J1053)),\"\")","v":""},"","","","","",{"$f":"IFERROR((Data!K1053-$F$4),\"\")","v":""},{"$f":"IF(AND(F1053<>\"\",G1053<>\"\",H1053<>\"\",I1053<>\"\",J1053<>\"\"),Data!L1053-$F$4,\"\")","v":""},"","","","",{"$f":"IF(F1053<>\"\",STDEV($Q$12:Q1053),\"\")","v":""},""]
[1043,null,{"$f":"RIGHT(Data!C1054,10)","v":""},null,null,null,null,null,null,null,{"$f":"IFERROR($U$3*Data!O1054/SQRT(COUNT(Data!F1054:J1054)),\"\")","v":""},"","","","","",{"$f":"IFERROR((Data!K1054-$F$4),\"\")","v":""},{"$f":"IF(AND(F1054<>\"\",G1054<>\"\",H1054<>\"\",I1054<>\"\",J1054<>\"\"),Data!L1054-$F$4,\"\")","v":""},"","","","",{"$f":"IF(F1054<>\"\",STDEV($Q$12:Q1054),\"\")","v":""},""]
[1044,null,{"$f":"RIGHT(Data!C1055,10)","v":""},null,null,null,null,null,null,null,{"$f":"IFERROR($U$3*Data!O1055/SQRT(COUNT(Data!F1055:J1055)),\"\")","v":""},"","","","","",{"$f":"IFERROR((Data!K1055-$F$4),\"\")","v":""},{"$f":"IF(AND(F1055<>\"\",G1055<>\"\",H1055<>\"\",I1055<>\"\",J1055<>\"\"),Data!L1055-$F$4,\"\")","v":""},"","","","",{"$f":"IF(F1055<>\"\",STDEV($Q$12:Q1055),\"\")","v":""},""]
[1045,null,{"$f":"RIGHT(Data!C1056,10)","v":""},null,null,null,null,null,null,null,{"$f":"IFERROR($U$3*Data!O1056/SQRT(COUNT(Data!F1056:J1056)),\"\")","v":""},"","","","","",{"$f":"IFERROR((Data!K1056-$F$4),\"\")","v":""},{"$f":"IF(AND(F1056<>\"\",G1056<>\"\",H1056<>\"\",I1056<>\"\",J1056<>\"\"),Data!L1056-$F$4,\"\")","v":""},"","","","",{"$f":"IF(F1056<>\"\",STDEV($Q$12:Q1056),\"\")","v":""},""]
[1046,null,{"$f":"RIGHT(Data!C1057,10)","v":""},null,null,null,null,null,null,null,{"$f":"IFERROR($U$3*Data!O1057/SQRT(COUNT(Data!F1057:J1057)),\"\")","v":""},"","","","","",{"$f":"IFERROR((Data!K1057-$F$4),\"\")","v":""},{"$f":"IF(AND(F1057<>\"\",G1057<>\"\",H1057<>\"\",I1057<>\"\",J1057<>\"\"),Data!L1057-$F$4,\"\")","v":""},"","","","",{"$f":"IF(F1057<>\"\",STDEV($Q$12:Q1057),\"\")","v":""},""]
[1047,null,{"$f":"RIGHT(Data!C1058,10)","v":""},null,null,null,null,null,null,null,{"$f":"IFERROR($U$3*Data!O1058/SQRT(COUNT(Data!F1058:J1058)),\"\")","v":""},"","","","","",{"$f":"IFERROR((Data!K1058-$F$4),\"\")","v":""},{"$f":"IF(AND(F1058<>\"\",G1058<>\"\",H1058<>\"\",I1058<>\"\",J1058<>\"\"),Data!L1058-$F$4,\"\")","v":""},"","","","",{"$f":"IF(F1058<>\"\",STDEV($Q$12:Q1058),\"\")","v":""},""]
[1048,null,{"$f":"RIGHT(Data!C1059,10)","v":""},null,null,null,null,null,null,null,{"$f":"IFERROR($U$3*Data!O1059/SQRT(COUNT(Data!F1059:J1059)),\"\")","v":""},"","","","","",{"$f":"IFERROR((Data!K1059-$F$4),\"\")","v":""},{"$f":"IF(AND(F1059<>\"\",G1059<>\"\",H1059<>\"\",I1059<>\"\",J1059<>\"\"),Data!L1059-$F$4,\"\")","v":""},"","","","",{"$f":"IF(F1059<>\"\",STDEV($Q$12:Q1059),\"\")","v":""},""]
[1049,null,{"$f":"RIGHT(Data!C1060,10)","v":""},null,null,null,null,null,null,null,{"$f":"IFERROR($U$3*Data!O1060/SQRT(COUNT(Data!F1060:J1060)),\"\")","v":""},"","","","","",{"$f":"IFERROR((Data!K1060-$F$4),\"\")","v":""},{"$f":"IF(AND(F1060<>\"\",G1060<>\"\",H1060<>\"\",I1060<>\"\",J1060<>\"\"),Data!L1060-$F$4,\"\")","v":""},"","","","",{"$f":"IF(F1060<>\"\",STDEV($Q$12:Q1060),\"\")","v":""},""]
[1050,null,{"$f":"RIGHT(Data!C1061,10)","v":""},null,null,null,null,null,null,null,{"$f":"IFERROR($U$3*Data!O1061/SQRT(COUNT(Data!F1061:J1061)),\"\")","v":""},"","","","","",{"$f":"IFERROR((Data!K1061-$F$4),\"\")","v":""},{"$f":"IF(AND(F1061<>\"\",G1061<>\"\",H1061<>\"\",I1061<>\"\",J1061<>\"\"),Data!L1061-$F$4,\"\")","v":""},"","","","",{"$f":"IF(F1061<>\"\",STDEV($Q$12:Q1061),\"\")","v":""},""]
[1051,null,{"$f":"RIGHT(Data!C1062,10)","v":""},null,null,null,null,null,null,null,{"$f":"IFERROR($U$3*Data!O1062/SQRT(COUNT(Data!F1062:J1062)),\"\")","v":""},"","","","","",{"$f":"IFERROR((Data!K1062-$F$4),\"\")","v":""},{"$f":"IF(AND(F1062<>\"\",G1062<>\"\",H1062<>\"\",I1062<>\"\",J1062<>\"\"),Data!L1062-$F$4,\"\")","v":""},"","","","",{"$f":"IF(F1062<>\"\",STDEV($Q$12:Q1062),\"\")","v":""},""]
[1052,null,{"$f":"RIGHT(Data!C1063,10)","v":""},null,null,null,null,null,null,null,{"$f":"IFERROR($U$3*Data!O1063/SQRT(COUNT(Data!F1063:J1063)),\"\")","v":""},"","","","","",{"$f":"IFERROR((Data!K1063-$F$4),\"\")","v":""},{"$f":"IF(AND(F1063<>\"\",G1063<>\"\",H1063<>\"\",I1063<>\"\",J1063<>\"\"),Data!L1063-$F$4,\"\")","v":""},"","","","",{"$f":"IF(F1063<>\"\",STDEV($Q$12:Q1063),\"\")","v":""},""]
[1053,null,{"$f":"RIGHT(Data!C1064,10)","v":""},null,null,null,null,null,null,null,{"$f":"IFERROR($U$3*Data!O1064/SQRT(COUNT(Data!F1064:J1064)),\"\")","v":""},"","","","","",{"$f":"IFERROR((Data!K1064-$F$4),\"\")","v":""},{"$f":"IF(AND(F1064<>\"\",G1064<>\"\",H1064<>\"\",I1064<>\"\",J1064<>\"\"),Data!L1064-$F$4,\"\")","v":""},"","","","",{"$f":"IF(F1064<>\"\",STDEV($Q$12:Q1064),\"\")","v":""},""]
[1054,null,{"$f":"RIGHT(Data!C1065,10)","v":""},null,null,null,null,null,null,null,{"$f":"IFERROR($U$3*Data!O1065/SQRT(COUNT(Data!F1065:J1065)),\"\")","v":""},"","","","","",{"$f":"IFERROR((Data!K1065-$F$4),\"\")","v":""},{"$f":"IF(AND(F1065<>\"\",G1065<>\"\",H1065<>\"\",I1065<>\"\",J1065<>\"\"),Data!L1065-$F$4,\"\")","v":""},"","","","",{"$f":"IF(F1065<>\"\",STDEV($Q$12:Q1065),\"\")","v":""},""]
[1055,null,{"$f":"RIGHT(Data!C1066,10)","v":""},null,null,null,null,null,null,null,{"$f":"IFERROR($U$3*Data!O1066/SQRT(COUNT(Data!F1066:J1066)),\"\")","v":""},"","","","","",{"$f":"IFERROR((Data!K1066-$F$4),\"\")","v":""},{"$f":"IF(AND(F1066<>\"\",G1066<>\"\",H1066<>\"\",I1066<>\"\",J1066<>\"\"),Data!L1066-$F$4,\"\")","v":""},"","","","",{"$f":"IF(F1066<>\"\",STDEV($Q$12:Q1066),\"\")","v":""},""]
[1056,null,{"$f":"RIGHT(Data!C1067,10)","v":""},null,null,null,null,null,null,null,{"$f":"IFERROR($U$3*Data!O1067/SQRT(COUNT(Data!F1067:J1067)),\"\")","v":""},"","","","","",{"$f":"IFERROR((Data!K1067-$F$4),\"\")","v":""},{"$f":"IF(AND(F1067<>\"\",G1067<>\"\",H1067<>\"\",I1067<>\"\",J1067<>\"\"),Data!L1067-$F$4,\"\")","v":""},"","","","",{"$f":"IF(F1067<>\"\",STDEV($Q$12:Q1067),\"\")","v":""},""]
[1057,null,{"$f":"RIGHT(Data!C1068,10)","v":""},null,null,null,null,null,null,null,{"$f":"IFERROR($U$3*Data!O1068/SQRT(COUNT(Data!F1068:J1068)),\"\")","v":""},"","","","","",{"$f":"IFERROR((Data!K1068-$F$4),\"\")","v":""},{"$f":"IF(AND(F1068<>\"\",G1068<>\"\",H1068<>\"\",I1068<>\"\",J1068<>\"\"),Data!L1068-$F$4,\"\")","v":""},"","","","",{"$f":"IF(F1068<>\"\",STDEV($Q$12:Q1068),\"\")","v":""},""]
[1058,null,{"$f":"RIGHT(Data!C1069,10)","v":""},null,null,null,null,null,null,null,{"$f":"IFERROR($U$3*Data!O1069/SQRT(COUNT(Data!F1069:J1069)),\"\")","v":""},"","","","","",{"$f":"IFERROR((Data!K1069-$F$4),\"\")","v":""},{"$f":"IF(AND(F1069<>\"\",G1069<>\"\",H1069<>\"\",I1069<>\"\",J1069<>\"\"),Data!L1069-$F$4,\"\")","v":""},"","","","",{"$f":"IF(F1069<>\"\",STDEV($Q$12:Q1069),\"\")","v":""},""]
[1059,null,{"$f":"RIGHT(Data!C1070,10)","v":""},null,null,null,null,null,null,null,{"$f":"IFERROR($U$3*Data!O1070/SQRT(COUNT(Data!F1070:J1070)),\"\")","v":""},"","","","","",{"$f":"IFERROR((Data!K1070-$F$4),\"\")","v":""},{"$f":"IF(AND(F1070<>\"\",G1070<>\"\",H1070<>\"\",I1070<>\"\",J1070<>\"\"),Data!L1070-$F$4,\"\")","v":""},"","","","",{"$f":"IF(F1070<>\"\",STDEV($Q$12:Q1070),\"\")","v":""},""]
[1060,null,{"$f":"RIGHT(Data!C1071,10)","v":""},null,null,null,null,null,null,null,{"$f":"IFERROR($U$3*Data!O1071/SQRT(COUNT(Data!F1071:J1071)),\"\")","v":""},"","","","","",{"$f":"IFERROR((Data!K1071-$F$4),\"\")","v":""},{"$f":"IF(AND(F1071<>\"\",G1071<>\"\",H1071<>\"\",I1071<>\"\",J1071<>\"\"),Data!L1071-$F$4,\"\")","v":""},"","","","",{"$f":"IF(F1071<>\"\",STDEV($Q$12:Q1071),\"\")","v":""},""]
[1061,null,{"$f":"RIGHT(Data!C1072,10)","v":""},null,null,null,null,null,null,null,{"$f":"IFERROR($U$3*Data!O1072/SQRT(COUNT(Data!F1072:J1072)),\"\")","v":""},"","","","","",{"$f":"IFERROR((Data!K1072-$F$4),\"\")","v":""},{"$f":"IF(AND(F1072<>\"\",G1072<>\"\",H1072<>\"\",I1072<>\"\",J1072<>\"\"),Data!L1072-$F$4,\"\")","v":""},"","","","",{"$f":"IF(F1072<>\"\",STDEV($Q$12:Q1072),\"\")","v":""},""]
[1062,null,{"$f":"RIGHT(Data!C1073,10)","v":""},null,null,null,null,null,null,null,{"$f":"IFERROR($U$3*Data!O1073/SQRT(COUNT(Data!F1073:J1073)),\"\")","v":""},"","","","","",{"$f":"IFERROR((Data!K1073-$F$4),\"\")","v":""},{"$f":"IF(AND(F1073<>\"\",G1073<>\"\",H1073<>\"\",I1073<>\"\",J1073<>\"\"),Data!L1073-$F$4,\"\")","v":""},"","","","",{"$f":"IF(F1073<>\"\",STDEV($Q$12:Q1073),\"\")","v":""},""]
[1063,null,{"$f":"RIGHT(Data!C1074,10)","v":""},null,null,null,null,null,null,null,{"$f":"IFERROR($U$3*Data!O1074/SQRT(COUNT(Data!F1074:J1074)),\"\")","v":""},"","","","","",{"$f":"IFERROR((Data!K1074-$F$4),\"\")","v":""},{"$f":"IF(AND(F1074<>\"\",G1074<>\"\",H1074<>\"\",I1074<>\"\",J1074<>\"\"),Data!L1074-$F$4,\"\")","v":""},"","","","",{"$f":"IF(F1074<>\"\",STDEV($Q$12:Q1074),\"\")","v":""},""]
[1064,null,{"$f":"RIGHT(Data!C1075,10)","v":""},null,null,null,null,null,null,null,{"$f":"IFERROR($U$3*Data!O1075/SQRT(COUNT(Data!F1075:J1075)),\"\")","v":""},"","","","","",{"$f":"IFERROR((Data!K1075-$F$4),\"\")","v":""},{"$f":"IF(AND(F1075<>\"\",G1075<>\"\",H1075<>\"\",I1075<>\"\",J1075<>\"\"),Data!L1075-$F$4,\"\")","v":""},"","","","",{"$f":"IF(F1075<>\"\",STDEV($Q$12:Q1075),\"\")","v":""},""]
[1065,null,{"$f":"RIGHT(Data!C1076,10)","v":""},null,null,null,null,null,null,null,{"$f":"IFERROR($U$3*Data!O1076/SQRT(COUNT(Data!F1076:J1076)),\"\")","v":""},"","","","","",{"$f":"IFERROR((Data!K1076-$F$4),\"\")","v":""},{"$f":"IF(AND(F1076<>\"\",G1076<>\"\",H1076<>\"\",I1076<>\"\",J1076<>\"\"),Data!L1076-$F$4,\"\")","v":""},"","","","",{"$f":"IF(F1076<>\"\",STDEV($Q$12:Q1076),\"\")","v":""},""]
[1066,null,{"$f":"RIGHT(Data!C1077,10)","v":""},null,null,null,null,null,null,null,{"$f":"IFERROR($U$3*Data!O1077/SQRT(COUNT(Data!F1077:J1077)),\"\")","v":""},"","","","","",{"$f":"IFERROR((Data!K1077-$F$4),\"\")","v":""},{"$f":"IF(AND(F1077<>\"\",G1077<>\"\",H1077<>\"\",I1077<>\"\",J1077<>\"\"),Data!L1077-$F$4,\"\")","v":""},"","","","",{"$f":"IF(F1077<>\"\",STDEV($Q$12:Q1077),\"\")","v":""},""]
[1067,null,{"$f":"RIGHT(Data!C1078,10)","v":""},null,null,null,null,null,null,null,{"$f":"IFERROR($U$3*Data!O1078/SQRT(COUNT(Data!F1078:J1078)),\"\")","v":""},"","","","","",{"$f":"IFERROR((Data!K1078-$F$4),\"\")","v":""},{"$f":"IF(AND(F1078<>\"\",G1078<>\"\",H1078<>\"\",I1078<>\"\",J1078<>\"\"),Data!L1078-$F$4,\"\")","v":""},"","","","",{"$f":"IF(F1078<>\"\",STDEV($Q$12:Q1078),\"\")","v":""},""]
[1068,null,{"$f":"RIGHT(Data!C1079,10)","v":""},null,null,null,null,null,null,null,{"$f":"IFERROR($U$3*Data!O1079/SQRT(COUNT(Data!F1079:J1079)),\"\")","v":""},"","","","","",{"$f":"IFERROR((Data!K1079-$F$4),\"\")","v":""},{"$f":"IF(AND(F1079<>\"\",G1079<>\"\",H1079<>\"\",I1079<>\"\",J1079<>\"\"),Data!L1079-$F$4,\"\")","v":""},"","","","",{"$f":"IF(F1079<>\"\",STDEV($Q$12:Q1079),\"\")","v":""},""]
[1069,null,{"$f":"RIGHT(Data!C1080,10)","v":""},null,null,null,null,null,null,null,{"$f":"IFERROR($U$3*Data!O1080/SQRT(COUNT(Data!F1080:J1080)),\"\")","v":""},"","","","","",{"$f":"IFERROR((Data!K1080-$F$4),\"\")","v":""},{"$f":"IF(AND(F1080<>\"\",G1080<>\"\",H1080<>\"\",I1080<>\"\",J1080<>\"\"),Data!L1080-$F$4,\"\")","v":""},"","","","",{"$f":"IF(F1080<>\"\",STDEV($Q$12:Q1080),\"\")","v":""},""]
[1070,null,{"$f":"RIGHT(Data!C1081,10)","v":""},null,null,null,null,null,null,null,{"$f":"IFERROR($U$3*Data!O1081/SQRT(COUNT(Data!F1081:J1081)),\"\")","v":""},"","","","","",{"$f":"IFERROR((Data!K1081-$F$4),\"\")","v":""},{"$f":"IF(AND(F1081<>\"\",G1081<>\"\",H1081<>\"\",I1081<>\"\",J1081<>\"\"),Data!L1081-$F$4,\"\")","v":""},"","","","",{"$f":"IF(F1081<>\"\",STDEV($Q$12:Q1081),\"\")","v":""},""]
[1071,null,{"$f":"RIGHT(Data!C1082,10)","v":""},null,null,null,null,null,null,null,{"$f":"IFERROR($U$3*Data!O1082/SQRT(COUNT(Data!F1082:J1082)),\"\")","v":""},"","","","","",{"$f":"IFERROR((Data!K1082-$F$4),\"\")","v":""},{"$f":"IF(AND(F1082<>\"\",G1082<>\"\",H1082<>\"\",I1082<>\"\",J1082<>\"\"),Data!L1082-$F$4,\"\")","v":""},"","","","",{"$f":"IF(F1082<>\"\",STDEV($Q$12:Q1082),\"\")","v":""},""]
[1072,null,{"$f":"RIGHT(Data!C1083,10)","v":""},null,null,null,null,null,null,null,{"$f":"IFERROR($U$3*Data!O1083/SQRT(COUNT(Data!F1083:J1083)),\"\")","v":""},"","","","","",{"$f":"IFERROR((Data!K1083-$F$4),\"\")","v":""},{"$f":"IF(AND(F1083<>\"\",G1083<>\"\",H1083<>\"\",I1083<>\"\",J1083<>\"\"),Data!L1083-$F$4,\"\")","v":""},"","","","",{"$f":"IF(F1083<>\"\",STDEV($Q$12:Q1083),\"\")","v":""},""]
[1073,null,{"$f":"RIGHT(Data!C1084,10)","v":""},null,null,null,null,null,null,null,{"$f":"IFERROR($U$3*Data!O1084/SQRT(COUNT(Data!F1084:J1084)),\"\")","v":""},"","","","","",{"$f":"IFERROR((Data!K1084-$F$4),\"\")","v":""},{"$f":"IF(AND(F1084<>\"\",G1084<>\"\",H1084<>\"\",I1084<>\"\",J1084<>\"\"),Data!L1084-$F$4,\"\")","v":""},"","","","",{"$f":"IF(F1084<>\"\",STDEV($Q$12:Q1084),\"\")","v":""},""]
[1074,null,{"$f":"RIGHT(Data!C1085,10)","v":""},null,null,null,null,null,null,null,{"$f":"IFERROR($U$3*Data!O1085/SQRT(COUNT(Data!F1085:J1085)),\"\")","v":""},"","","","","",{"$f":"IFERROR((Data!K1085-$F$4),\"\")","v":""},{"$f":"IF(AND(F1085<>\"\",G1085<>\"\",H1085<>\"\",I1085<>\"\",J1085<>\"\"),Data!L1085-$F$4,\"\")","v":""},"","","","",{"$f":"IF(F1085<>\"\",STDEV($Q$12:Q1085),\"\")","v":""},""]
[1075,null,{"$f":"RIGHT(Data!C1086,10)","v":""},null,null,null,null,null,null,null,{"$f":"IFERROR($U$3*Data!O1086/SQRT(COUNT(Data!F1086:J1086)),\"\")","v":""},"","","","","",{"$f":"IFERROR((Data!K1086-$F$4),\"\")","v":""},{"$f":"IF(AND(F1086<>\"\",G1086<>\"\",H1086<>\"\",I1086<>\"\",J1086<>\"\"),Data!L1086-$F$4,\"\")","v":""},"","","","",{"$f":"IF(F1086<>\"\",STDEV($Q$12:Q1086),\"\")","v":""},""]
[1076,null,{"$f":"RIGHT(Data!C1087,10)","v":""},null,null,null,null,null,null,null,{"$f":"IFERROR($U$3*Data!O1087/SQRT(COUNT(Data!F1087:J1087)),\"\")","v":""},"","","","","",{"$f":"IFERROR((Data!K1087-$F$4),\"\")","v":""},{"$f":"IF(AND(F1087<>\"\",G1087<>\"\",H1087<>\"\",I1087<>\"\",J1087<>\"\"),Data!L1087-$F$4,\"\")","v":""},"","","","",{"$f":"IF(F1087<>\"\",STDEV($Q$12:Q1087),\"\")","v":""},""]
[1077,null,{"$f":"RIGHT(Data!C1088,10)","v":""},null,null,null,null,null,null,null,{"$f":"IFERROR($U$3*Data!O1088/SQRT(COUNT(Data!F1088:J1088)),\"\")","v":""},"","","","","",{"$f":"IFERROR((Data!K1088-$F$4),\"\")","v":""},{"$f":"IF(AND(F1088<>\"\",G1088<>\"\",H1088<>\"\",I1088<>\"\",J1088<>\"\"),Data!L1088-$F$4,\"\")","v":""},"","","","",{"$f":"IF(F1088<>\"\",STDEV($Q$12:Q1088),\"\")","v":""},""]
[1078,null,{"$f":"RIGHT(Data!C1089,10)","v":""},null,null,null,null,null,null,null,{"$f":"IFERROR($U$3*Data!O1089/SQRT(COUNT(Data!F1089:J1089)),\"\")","v":""},"","","","","",{"$f":"IFERROR((Data!K1089-$F$4),\"\")","v":""},{"$f":"IF(AND(F1089<>\"\",G1089<>\"\",H1089<>\"\",I1089<>\"\",J1089<>\"\"),Data!L1089-$F$4,\"\")","v":""},"","","","",{"$f":"IF(F1089<>\"\",STDEV($Q$12:Q1089),\"\")","v":""},""]
[1079,null,{"$f":"RIGHT(Data!C1090,10)","v":""},null,null,null,null,null,null,null,{"$f":"IFERROR($U$3*Data!O1090/SQRT(COUNT(Data!F1090:J1090)),\"\")","v":""},"","","","","",{"$f":"IFERROR((Data!K1090-$F$4),\"\")","v":""},{"$f":"IF(AND(F1090<>\"\",G1090<>\"\",H1090<>\"\",I1090<>\"\",J1090<>\"\"),Data!L1090-$F$4,\"\")","v":""},"","","","",{"$f":"IF(F1090<>\"\",STDEV($Q$12:Q1090),\"\")","v":""},""]
[1080,null,{"$f":"RIGHT(Data!C1091,10)","v":""},null,null,null,null,null,null,null,{"$f":"IFERROR($U$3*Data!O1091/SQRT(COUNT(Data!F1091:J1091)),\"\")","v":""},"","","","","",{"$f":"IFERROR((Data!K1091-$F$4),\"\")","v":""},{"$f":"IF(AND(F1091<>\"\",G1091<>\"\",H1091<>\"\",I1091<>\"\",J1091<>\"\"),Data!L1091-$F$4,\"\")","v":""},"","","","",{"$f":"IF(F1091<>\"\",STDEV($Q$12:Q1091),\"\")","v":""},""]
[1081,null,{"$f":"RIGHT(Data!C1092,10)","v":""},null,null,null,null,null,null,null,{"$f":"IFERROR($U$3*Data!O1092/SQRT(COUNT(Data!F1092:J1092)),\"\")","v":""},"","","","","",{"$f":"IFERROR((Data!K1092-$F$4),\"\")","v":""},{"$f":"IF(AND(F1092<>\"\",G1092<>\"\",H1092<>\"\",I1092<>\"\",J1092<>\"\"),Data!L1092-$F$4,\"\")","v":""},"","","","",{"$f":"IF(F1092<>\"\",STDEV($Q$12:Q1092),\"\")","v":""},""]
[1082,null,{"$f":"RIGHT(Data!C1093,10)","v":""},null,null,null,null,null,null,null,{"$f":"IFERROR($U$3*Data!O1093/SQRT(COUNT(Data!F1093:J1093)),\"\")","v":""},"","","","","",{"$f":"IFERROR((Data!K1093-$F$4),\"\")","v":""},{"$f":"IF(AND(F1093<>\"\",G1093<>\"\",H1093<>\"\",I1093<>\"\",J1093<>\"\"),Data!L1093-$F$4,\"\")","v":""},"","","","",{"$f":"IF(F1093<>\"\",STDEV($Q$12:Q1093),\"\")","v":""},""]
[1083,null,{"$f":"RIGHT(Data!C1094,10)","v":""},null,null,null,null,null,null,null,{"$f":"IFERROR($U$3*Data!O1094/SQRT(COUNT(Data!F1094:J1094)),\"\")","v":""},"","","","","",{"$f":"IFERROR((Data!K1094-$F$4),\"\")","v":""},{"$f":"IF(AND(F1094<>\"\",G1094<>\"\",H1094<>\"\",I1094<>\"\",J1094<>\"\"),Data!L1094-$F$4,\"\")","v":""},"","","","",{"$f":"IF(F1094<>\"\",STDEV($Q$12:Q1094),\"\")","v":""},""]
[1084,null,{"$f":"RIGHT(Data!C1095,10)","v":""},null,null,null,null,null,null,null,{"$f":"IFERROR($U$3*Data!O1095/SQRT(COUNT(Data!F1095:J1095)),\"\")","v":""},"","","","","",{"$f":"IFERROR((Data!K1095-$F$4),\"\")","v":""},{"$f":"IF(AND(F1095<>\"\",G1095<>\"\",H1095<>\"\",I1095<>\"\",J1095<>\"\"),Data!L1095-$F$4,\"\")","v":""},"","","","",{"$f":"IF(F1095<>\"\",STDEV($Q$12:Q1095),\"\")","v":""},""]
[1085,null,{"$f":"RIGHT(Data!C1096,10)","v":""},null,null,null,null,null,null,null,{"$f":"IFERROR($U$3*Data!O1096/SQRT(COUNT(Data!F1096:J1096)),\"\")","v":""},"","","","","",{"$f":"IFERROR((Data!K1096-$F$4),\"\")","v":""},{"$f":"IF(AND(F1096<>\"\",G1096<>\"\",H1096<>\"\",I1096<>\"\",J1096<>\"\"),Data!L1096-$F$4,\"\")","v":""},"","","","",{"$f":"IF(F1096<>\"\",STDEV($Q$12:Q1096),\"\")","v":""},""]
[1086,null,{"$f":"RIGHT(Data!C1097,10)","v":""},null,null,null,null,null,null,null,{"$f":"IFERROR($U$3*Data!O1097/SQRT(COUNT(Data!F1097:J1097)),\"\")","v":""},"","","","","",{"$f":"IFERROR((Data!K1097-$F$4),\"\")","v":""},{"$f":"IF(AND(F1097<>\"\",G1097<>\"\",H1097<>\"\",I1097<>\"\",J1097<>\"\"),Data!L1097-$F$4,\"\")","v":""},"","","","",{"$f":"IF(F1097<>\"\",STDEV($Q$12:Q1097),\"\")","v":""},""]
[1087,null,{"$f":"RIGHT(Data!C1098,10)","v":""},null,null,null,null,null,null,null,{"$f":"IFERROR($U$3*Data!O1098/SQRT(COUNT(Data!F1098:J1098)),\"\")","v":""},"","","","","",{"$f":"IFERROR((Data!K1098-$F$4),\"\")","v":""},{"$f":"IF(AND(F1098<>\"\",G1098<>\"\",H1098<>\"\",I1098<>\"\",J1098<>\"\"),Data!L1098-$F$4,\"\")","v":""},"","","","",{"$f":"IF(F1098<>\"\",STDEV($Q$12:Q1098),\"\")","v":""},""]
[1088,null,{"$f":"RIGHT(Data!C1099,10)","v":""},null,null,null,null,null,null,null,{"$f":"IFERROR($U$3*Data!O1099/SQRT(COUNT(Data!F1099:J1099)),\"\")","v":""},"","","","","",{"$f":"IFERROR((Data!K1099-$F$4),\"\")","v":""},{"$f":"IF(AND(F1099<>\"\",G1099<>\"\",H1099<>\"\",I1099<>\"\",J1099<>\"\"),Data!L1099-$F$4,\"\")","v":""},"","","","",{"$f":"IF(F1099<>\"\",STDEV($Q$12:Q1099),\"\")","v":""},""]
[1089,null,{"$f":"RIGHT(Data!C1100,10)","v":""},null,null,null,null,null,null,null,{"$f":"IFERROR($U$3*Data!O1100/SQRT(COUNT(Data!F1100:J1100)),\"\")","v":""},"","",{"$f":"IF(COUNT(F1100:J1100)>=5,STDEV(F1100:J1100)*$U$3/SQRT((COUNT(F1100:J1100))),\"\")","v":""},"","",{"$f":"IFERROR((Data!K1100-$F$4),\"\")","v":""},{"$f":"IF(AND(F1100<>\"\",G1100<>\"\",H1100<>\"\",I1100<>\"\",J1100<>\"\"),Data!L1100-$F$4,\"\")","v":""},{"$f":"IF(O1100<>\"\",FIXED(X1100,1) & \" ± \" & FIXED(O1100+ABS(R1100),2),\"\")","v":""},"","","",{"$f":"IF(F1100<>\"\",STDEV($Q$12:Q1100),\"\")","v":""},{"$f":"IF(F1100<>\"\",AVERAGE(F1100:J1100),\"\")","v":""}]
[1090,null,{"$f":"RIGHT(Data!C1101,10)","v":""},null,null,null,null,null,null,null,{"$f":"IFERROR($U$3*Data!O1101/SQRT(COUNT(Data!F1101:J1101)),\"\")","v":""},{"$f":"IF(F1101<>\"\",V1101*W1101/SQRT(A1101),\"\")","v":""},{"$f":"IF(F1101<>\"\",$U$4*SQRT($U$7^2+L1101^2+K1101^2+$U$5^2),\"\")","v":""},"",{"$f":"IFERROR($U$4*SQRT($U$7^2+L1101^2+K1101^2+$U$5^2+N1101^2),\"\")","v":""},{"$f":"IF(AND(F1101<>\"\",G1101<>\"\",H1101<>\"\",I1101<>\"\",J1101<>\"\"),AVERAGE(F1101:J1101),\"\")","v":""},{"$f":"IFERROR((Data!K1101-$F$4),\"\")","v":""},{"$f":"IF(AND(F1101<>\"\",G1101<>\"\",H1101<>\"\",I1101<>\"\",J1101<>\"\"),Data!L1101-$F$4,\"\")","v":""},"",{"$f":"IF(F1101<>\"\",FIXED(AVERAGE(F1101:J1101)-R1101,1) & \" ± \" & FIXED(O1101,2),\"\")","v":""},{"$f":"IF(IO1101=\"\",\"\",IO1101-1)","v":""},{"$f":"IF(F1101<>\"\",TINV(1-0.68,A1101-1),\"\")","v":""},{"$f":"IF(F1101<>\"\",STDEV($Q$12:Q1101),\"\")","v":""},""]
[1091,null,{"$f":"RIGHT(Data!C1102,10)","v":""},null,null,null,null,null,null,null,{"$f":"IFERROR($U$3*Data!O1102/SQRT(COUNT(Data!F1102:J1102)),\"\")","v":""},"","","","","",{"$f":"IFERROR((Data!K1102-$F$4),\"\")","v":""},{"$f":"IF(AND(F1102<>\"\",G1102<>\"\",H1102<>\"\",I1102<>\"\",J1102<>\"\"),Data!L1102-$F$4,\"\")","v":""},"","","","",{"$f":"IF(F1102<>\"\",STDEV($Q$12:Q1102),\"\")","v":""},""]
[1092,null,{"$f":"RIGHT(Data!C1103,10)","v":""},null,null,null,null,null,null,null,{"$f":"IFERROR($U$3*Data!O1103/SQRT(COUNT(Data!F1103:J1103)),\"\")","v":""},"","","","","",{"$f":"IFERROR((Data!K1103-$F$4),\"\")","v":""},{"$f":"IF(AND(F1103<>\"\",G1103<>\"\",H1103<>\"\",I1103<>\"\",J1103<>\"\"),Data!L1103-$F$4,\"\")","v":""},"","","","",{"$f":"IF(F1103<>\"\",STDEV($Q$12:Q1103),\"\")","v":""},""]
[1093,null,{"$f":"RIGHT(Data!C1104,10)","v":""},null,null,null,null,null,null,null,{"$f":"IFERROR($U$3*Data!O1104/SQRT(COUNT(Data!F1104:J1104)),\"\")","v":""},"","","","","",{"$f":"IFERROR((Data!K1104-$F$4),\"\")","v":""},{"$f":"IF(AND(F1104<>\"\",G1104<>\"\",H1104<>\"\",I1104<>\"\",J1104<>\"\"),Data!L1104-$F$4,\"\")","v":""},"","","","",{"$f":"IF(F1104<>\"\",STDEV($Q$12:Q1104),\"\")","v":""},""]
[1094,null,{"$f":"RIGHT(Data!C1105,10)","v":""},null,null,null,null,null,null,null,{"$f":"IFERROR($U$3*Data!O1105/SQRT(COUNT(Data!F1105:J1105)),\"\")","v":""},"","","","","",{"$f":"IFERROR((Data!K1105-$F$4),\"\")","v":""},{"$f":"IF(AND(F1105<>\"\",G1105<>\"\",H1105<>\"\",I1105<>\"\",J1105<>\"\"),Data!L1105-$F$4,\"\")","v":""},"","","","",{"$f":"IF(F1105<>\"\",STDEV($Q$12:Q1105),\"\")","v":""},""]
[1095,null,{"$f":"RIGHT(Data!C1106,10)","v":""},null,null,null,null,null,null,null,{"$f":"IFERROR($U$3*Data!O1106/SQRT(COUNT(Data!F1106:J1106)),\"\")","v":""},"","","","","",{"$f":"IFERROR((Data!K1106-$F$4),\"\")","v":""},{"$f":"IF(AND(F1106<>\"\",G1106<>\"\",H1106<>\"\",I1106<>\"\",J1106<>\"\"),Data!L1106-$F$4,\"\")","v":""},"","","","",{"$f":"IF(F1106<>\"\",STDEV($Q$12:Q1106),\"\")","v":""},""]
[1096,null,{"$f":"RIGHT(Data!C1107,10)","v":""},null,null,null,null,null,null,null,{"$f":"IFERROR($U$3*Data!O1107/SQRT(COUNT(Data!F1107:J1107)),\"\")","v":""},"","","","","",{"$f":"IFERROR((Data!K1107-$F$4),\"\")","v":""},{"$f":"IF(AND(F1107<>\"\",G1107<>\"\",H1107<>\"\",I1107<>\"\",J1107<>\"\"),Data!L1107-$F$4,\"\")","v":""},"","","","",{"$f":"IF(F1107<>\"\",STDEV($Q$12:Q1107),\"\")","v":""},""]
[1097,null,{"$f":"RIGHT(Data!C1108,10)","v":""},null,null,null,null,null,null,null,{"$f":"IFERROR($U$3*Data!O1108/SQRT(COUNT(Data!F1108:J1108)),\"\")","v":""},"","","","","",{"$f":"IFERROR((Data!K1108-$F$4),\"\")","v":""},{"$f":"IF(AND(F1108<>\"\",G1108<>\"\",H1108<>\"\",I1108<>\"\",J1108<>\"\"),Data!L1108-$F$4,\"\")","v":""},"","","","",{"$f":"IF(F1108<>\"\",STDEV($Q$12:Q1108),\"\")","v":""},""]
[1098,null,{"$f":"RIGHT(Data!C1109,10)","v":""},null,null,null,null,null,null,null,{"$f":"IFERROR($U$3*Data!O1109/SQRT(COUNT(Data!F1109:J1109)),\"\")","v":""},"","","","","",{"$f":"IFERROR((Data!K1109-$F$4),\"\")","v":""},{"$f":"IF(AND(F1109<>\"\",G1109<>\"\",H1109<>\"\",I1109<>\"\",J1109<>\"\"),Data!L1109-$F$4,\"\")","v":""},"","","","",{"$f":"IF(F1109<>\"\",STDEV($Q$12:Q1109),\"\")","v":""},""]
[1099,null,{"$f":"RIGHT(Data!C1110,10)","v":""},null,null,null,null,null,null,null,{"$f":"IFERROR($U$3*Data!O1110/SQRT(COUNT(Data!F1110:J1110)),\"\")","v":""},"","","","","",{"$f":"IFERROR((Data!K1110-$F$4),\"\")","v":""},{"$f":"IF(AND(F1110<>\"\",G1110<>\"\",H1110<>\"\",I1110<>\"\",J1110<>\"\"),Data!L1110-$F$4,\"\")","v":""},"","","","",{"$f":"IF(F1110<>\"\",STDEV($Q$12:Q1110),\"\")","v":""},""]
[1100,null,{"$f":"RIGHT(Data!C1111,10)","v":""},null,null,null,null,null,null,null,{"$f":"IFERROR($U$3*Data!O1111/SQRT(COUNT(Data!F1111:J1111)),\"\")","v":""},"","","","","",{"$f":"IFERROR((Data!K1111-$F$4),\"\")","v":""},{"$f":"IF(AND(F1111<>\"\",G1111<>\"\",H1111<>\"\",I1111<>\"\",J1111<>\"\"),Data!L1111-$F$4,\"\")","v":""},"","","","",{"$f":"IF(F1111<>\"\",STDEV($Q$12:Q1111),\"\")","v":""},""]
[1101,null,{"$f":"RIGHT(Data!C1112,10)","v":""},null,null,null,null,null,null,null,{"$f":"IFERROR($U$3*Data!O1112/SQRT(COUNT(Data!F1112:J1112)),\"\")","v":""},"","","","","",{"$f":"IFERROR((Data!K1112-$F$4),\"\")","v":""},{"$f":"IF(AND(F1112<>\"\",G1112<>\"\",H1112<>\"\",I1112<>\"\",J1112<>\"\"),Data!L1112-$F$4,\"\")","v":""},"","","","",{"$f":"IF(F1112<>\"\",STDEV($Q$12:Q1112),\"\")","v":""},""]
[1102,null,{"$f":"RIGHT(Data!C1113,10)","v":""},null,null,null,null,null,null,null,{"$f":"IFERROR($U$3*Data!O1113/SQRT(COUNT(Data!F1113:J1113)),\"\")","v":""},"","","","","",{"$f":"IFERROR((Data!K1113-$F$4),\"\")","v":""},{"$f":"IF(AND(F1113<>\"\",G1113<>\"\",H1113<>\"\",I1113<>\"\",J1113<>\"\"),Data!L1113-$F$4,\"\")","v":""},"","","","",{"$f":"IF(F1113<>\"\",STDEV($Q$12:Q1113),\"\")","v":""},""]
[1103,null,{"$f":"RIGHT(Data!C1114,10)","v":""},null,null,null,null,null,null,null,{"$f":"IFERROR($U$3*Data!O1114/SQRT(COUNT(Data!F1114:J1114)),\"\")","v":""},"","","","","",{"$f":"IFERROR((Data!K1114-$F$4),\"\")","v":""},{"$f":"IF(AND(F1114<>\"\",G1114<>\"\",H1114<>\"\",I1114<>\"\",J1114<>\"\"),Data!L1114-$F$4,\"\")","v":""},"","","","",{"$f":"IF(F1114<>\"\",STDEV($Q$12:Q1114),\"\")","v":""},""]
[1104,null,{"$f":"RIGHT(Data!C1115,10)","v":""},null,null,null,null,null,null,null,{"$f":"IFERROR($U$3*Data!O1115/SQRT(COUNT(Data!F1115:J1115)),\"\")","v":""},"","","","","",{"$f":"IFERROR((Data!K1115-$F$4),\"\")","v":""},{"$f":"IF(AND(F1115<>\"\",G1115<>\"\",H1115<>\"\",I1115<>\"\",J1115<>\"\"),Data!L1115-$F$4,\"\")","v":""},"","","","",{"$f":"IF(F1115<>\"\",STDEV($Q$12:Q1115),\"\")","v":""},""]
[1105,null,{"$f":"RIGHT(Data!C1116,10)","v":""},null,null,null,null,null,null,null,{"$f":"IFERROR($U$3*Data!O1116/SQRT(COUNT(Data!F1116:J1116)),\"\")","v":""},"","","","","",{"$f":"IFERROR((Data!K1116-$F$4),\"\")","v":""},{"$f":"IF(AND(F1116<>\"\",G1116<>\"\",H1116<>\"\",I1116<>\"\",J1116<>\"\"),Data!L1116-$F$4,\"\")","v":""},"","","","",{"$f":"IF(F1116<>\"\",STDEV($Q$12:Q1116),\"\")","v":""},""]
[1106,null,{"$f":"RIGHT(Data!C1117,10)","v":""},null,null,null,null,null,null,null,{"$f":"IFERROR($U$3*Data!O1117/SQRT(COUNT(Data!F1117:J1117)),\"\")","v":""},"","","","","",{"$f":"IFERROR((Data!K1117-$F$4),\"\")","v":""},{"$f":"IF(AND(F1117<>\"\",G1117<>\"\",H1117<>\"\",I1117<>\"\",J1117<>\"\"),Data!L1117-$F$4,\"\")","v":""},"","","","",{"$f":"IF(F1117<>\"\",STDEV($Q$12:Q1117),\"\")","v":""},""]
[1107,null,{"$f":"RIGHT(Data!C1118,10)","v":""},null,null,null,null,null,null,null,{"$f":"IFERROR($U$3*Data!O1118/SQRT(COUNT(Data!F1118:J1118)),\"\")","v":""},"","","","","",{"$f":"IFERROR((Data!K1118-$F$4),\"\")","v":""},{"$f":"IF(AND(F1118<>\"\",G1118<>\"\",H1118<>\"\",I1118<>\"\",J1118<>\"\"),Data!L1118-$F$4,\"\")","v":""},"","","","",{"$f":"IF(F1118<>\"\",STDEV($Q$12:Q1118),\"\")","v":""},""]
[1108,null,{"$f":"RIGHT(Data!C1119,10)","v":""},null,null,null,null,null,null,null,{"$f":"IFERROR($U$3*Data!O1119/SQRT(COUNT(Data!F1119:J1119)),\"\")","v":""},"","","","","",{"$f":"IFERROR((Data!K1119-$F$4),\"\")","v":""},{"$f":"IF(AND(F1119<>\"\",G1119<>\"\",H1119<>\"\",I1119<>\"\",J1119<>\"\"),Data!L1119-$F$4,\"\")","v":""},"","","","",{"$f":"IF(F1119<>\"\",STDEV($Q$12:Q1119),\"\")","v":""},""]
[1109,null,{"$f":"RIGHT(Data!C1120,10)","v":""},null,null,null,null,null,null,null,{"$f":"IFERROR($U$3*Data!O1120/SQRT(COUNT(Data!F1120:J1120)),\"\")","v":""},"","","","","",{"$f":"IFERROR((Data!K1120-$F$4),\"\")","v":""},{"$f":"IF(AND(F1120<>\"\",G1120<>\"\",H1120<>\"\",I1120<>\"\",J1120<>\"\"),Data!L1120-$F$4,\"\")","v":""},"","","","",{"$f":"IF(F1120<>\"\",STDEV($Q$12:Q1120),\"\")","v":""},""]
[1110,null,{"$f":"RIGHT(Data!C1121,10)","v":""},null,null,null,null,null,null,null,{"$f":"IFERROR($U$3*Data!O1121/SQRT(COUNT(Data!F1121:J1121)),\"\")","v":""},"","","","","",{"$f":"IFERROR((Data!K1121-$F$4),\"\")","v":""},{"$f":"IF(AND(F1121<>\"\",G1121<>\"\",H1121<>\"\",I1121<>\"\",J1121<>\"\"),Data!L1121-$F$4,\"\")","v":""},"","","","",{"$f":"IF(F1121<>\"\",STDEV($Q$12:Q1121),\"\")","v":""},""]
[1111,null,{"$f":"RIGHT(Data!C1122,10)","v":""},null,null,null,null,null,null,null,{"$f":"IFERROR($U$3*Data!O1122/SQRT(COUNT(Data!F1122:J1122)),\"\")","v":""},"","","","","",{"$f":"IFERROR((Data!K1122-$F$4),\"\")","v":""},{"$f":"IF(AND(F1122<>\"\",G1122<>\"\",H1122<>\"\",I1122<>\"\",J1122<>\"\"),Data!L1122-$F$4,\"\")","v":""},"","","","",{"$f":"IF(F1122<>\"\",STDEV($Q$12:Q1122),\"\")","v":""},""]
[1112,null,{"$f":"RIGHT(Data!C1123,10)","v":""},null,null,null,null,null,null,null,{"$f":"IFERROR($U$3*Data!O1123/SQRT(COUNT(Data!F1123:J1123)),\"\")","v":""},"","","","","",{"$f":"IFERROR((Data!K1123-$F$4),\"\")","v":""},{"$f":"IF(AND(F1123<>\"\",G1123<>\"\",H1123<>\"\",I1123<>\"\",J1123<>\"\"),Data!L1123-$F$4,\"\")","v":""},"","","","",{"$f":"IF(F1123<>\"\",STDEV($Q$12:Q1123),\"\")","v":""},""]
[1113,null,{"$f":"RIGHT(Data!C1124,10)","v":""},null,null,null,null,null,null,null,{"$f":"IFERROR($U$3*Data!O1124/SQRT(COUNT(Data!F1124:J1124)),\"\")","v":""},"","","","","",{"$f":"IFERROR((Data!K1124-$F$4),\"\")","v":""},{"$f":"IF(AND(F1124<>\"\",G1124<>\"\",H1124<>\"\",I1124<>\"\",J1124<>\"\"),Data!L1124-$F$4,\"\")","v":""},"","","","",{"$f":"IF(F1124<>\"\",STDEV($Q$12:Q1124),\"\")","v":""},""]
[1114,null,{"$f":"RIGHT(Data!C1125,10)","v":""},null,null,null,null,null,null,null,{"$f":"IFERROR($U$3*Data!O1125/SQRT(COUNT(Data!F1125:J1125)),\"\")","v":""},"","","","","",{"$f":"IFERROR((Data!K1125-$F$4),\"\")","v":""},{"$f":"IF(AND(F1125<>\"\",G1125<>\"\",H1125<>\"\",I1125<>\"\",J1125<>\"\"),Data!L1125-$F$4,\"\")","v":""},"","","","",{"$f":"IF(F1125<>\"\",STDEV($Q$12:Q1125),\"\")","v":""},""]
[1115,null,{"$f":"RIGHT(Data!C1126,10)","v":""},null,null,null,null,null,null,null,{"$f":"IFERROR($U$3*Data!O1126/SQRT(COUNT(Data!F1126:J1126)),\"\")","v":""},"","","","","",{"$f":"IFERROR((Data!K1126-$F$4),\"\")","v":""},{"$f":"IF(AND(F1126<>\"\",G1126<>\"\",H1126<>\"\",I1126<>\"\",J1126<>\"\"),Data!L1126-$F$4,\"\")","v":""},"","","","",{"$f":"IF(F1126<>\"\",STDEV($Q$12:Q1126),\"\")","v":""},""]
[1116,null,{"$f":"RIGHT(Data!C1127,10)","v":""},null,null,null,null,null,null,null,{"$f":"IFERROR($U$3*Data!O1127/SQRT(COUNT(Data!F1127:J1127)),\"\")","v":""},"","","","","",{"$f":"IFERROR((Data!K1127-$F$4),\"\")","v":""},{"$f":"IF(AND(F1127<>\"\",G1127<>\"\",H1127<>\"\",I1127<>\"\",J1127<>\"\"),Data!L1127-$F$4,\"\")","v":""},"","","","",{"$f":"IF(F1127<>\"\",STDEV($Q$12:Q1127),\"\")","v":""},""]
[1117,null,{"$f":"RIGHT(Data!C1128,10)","v":""},null,null,null,null,null,null,null,{"$f":"IFERROR($U$3*Data!O1128/SQRT(COUNT(Data!F1128:J1128)),\"\")","v":""},"","","","","",{"$f":"IFERROR((Data!K1128-$F$4),\"\")","v":""},{"$f":"IF(AND(F1128<>\"\",G1128<>\"\",H1128<>\"\",I1128<>\"\",J1128<>\"\"),Data!L1128-$F$4,\"\")","v":""},"","","","",{"$f":"IF(F1128<>\"\",STDEV($Q$12:Q1128),\"\")","v":""},""]
[1118,null,{"$f":"RIGHT(Data!C1129,10)","v":""},null,null,null,null,null,null,null,{"$f":"IFERROR($U$3*Data!O1129/SQRT(COUNT(Data!F1129:J1129)),\"\")","v":""},"","","","","",{"$f":"IFERROR((Data!K1129-$F$4),\"\")","v":""},{"$f":"IF(AND(F1129<>\"\",G1129<>\"\",H1129<>\"\",I1129<>\"\",J1129<>\"\"),Data!L1129-$F$4,\"\")","v":""},"","","","",{"$f":"IF(F1129<>\"\",STDEV($Q$12:Q1129),\"\")","v":""},""]
[1119,null,{"$f":"RIGHT(Data!C1130,10)","v":""},null,null,null,null,null,null,null,{"$f":"IFERROR($U$3*Data!O1130/SQRT(COUNT(Data!F1130:J1130)),\"\")","v":""},"","","","","",{"$f":"IFERROR((Data!K1130-$F$4),\"\")","v":""},{"$f":"IF(AND(F1130<>\"\",G1130<>\"\",H1130<>\"\",I1130<>\"\",J1130<>\"\"),Data!L1130-$F$4,\"\")","v":""},"","","","",{"$f":"IF(F1130<>\"\",STDEV($Q$12:Q1130),\"\")","v":""},""]
[1120,null,{"$f":"RIGHT(Data!C1131,10)","v":""},null,null,null,null,null,null,null,{"$f":"IFERROR($U$3*Data!O1131/SQRT(COUNT(Data!F1131:J1131)),\"\")","v":""},"","","","","",{"$f":"IFERROR((Data!K1131-$F$4),\"\")","v":""},{"$f":"IF(AND(F1131<>\"\",G1131<>\"\",H1131<>\"\",I1131<>\"\",J1131<>\"\"),Data!L1131-$F$4,\"\")","v":""},"","","","",{"$f":"IF(F1131<>\"\",STDEV($Q$12:Q1131),\"\")","v":""},""]
[1121,null,{"$f":"RIGHT(Data!C1132,10)","v":""},null,null,null,null,null,null,null,{"$f":"IFERROR($U$3*Data!O1132/SQRT(COUNT(Data!F1132:J1132)),\"\")","v":""},"","","","","",{"$f":"IFERROR((Data!K1132-$F$4),\"\")","v":""},{"$f":"IF(AND(F1132<>\"\",G1132<>\"\",H1132<>\"\",I1132<>\"\",J1132<>\"\"),Data!L1132-$F$4,\"\")","v":""},"","","","",{"$f":"IF(F1132<>\"\",STDEV($Q$12:Q1132),\"\")","v":""},""]
[1122,null,{"$f":"RIGHT(Data!C1133,10)","v":""},null,null,null,null,null,null,null,{"$f":"IFERROR($U$3*Data!O1133/SQRT(COUNT(Data!F1133:J1133)),\"\")","v":""},"","","","","",{"$f":"IFERROR((Data!K1133-$F$4),\"\")","v":""},{"$f":"IF(AND(F1133<>\"\",G1133<>\"\",H1133<>\"\",I1133<>\"\",J1133<>\"\"),Data!L1133-$F$4,\"\")","v":""},"","","","",{"$f":"IF(F1133<>\"\",STDEV($Q$12:Q1133),\"\")","v":""},""]
[1123,null,{"$f":"RIGHT(Data!C1134,10)","v":""},null,null,null,null,null,null,null,{"$f":"IFERROR($U$3*Data!O1134/SQRT(COUNT(Data!F1134:J1134)),\"\")","v":""},"","","","","",{"$f":"IFERROR((Data!K1134-$F$4),\"\")","v":""},{"$f":"IF(AND(F1134<>\"\",G1134<>\"\",H1134<>\"\",I1134<>\"\",J1134<>\"\"),Data!L1134-$F$4,\"\")","v":""},"","","","",{"$f":"IF(F1134<>\"\",STDEV($Q$12:Q1134),\"\")","v":""},""]
[1124,null,{"$f":"RIGHT(Data!C1135,10)","v":""},null,null,null,null,null,null,null,{"$f":"IFERROR($U$3*Data!O1135/SQRT(COUNT(Data!F1135:J1135)),\"\")","v":""},"","","","","",{"$f":"IFERROR((Data!K1135-$F$4),\"\")","v":""},{"$f":"IF(AND(F1135<>\"\",G1135<>\"\",H1135<>\"\",I1135<>\"\",J1135<>\"\"),Data!L1135-$F$4,\"\")","v":""},"","","","",{"$f":"IF(F1135<>\"\",STDEV($Q$12:Q1135),\"\")","v":""},""]
[1125,null,{"$f":"RIGHT(Data!C1136,10)","v":""},null,null,null,null,null,null,null,{"$f":"IFERROR($U$3*Data!O1136/SQRT(COUNT(Data!F1136:J1136)),\"\")","v":""},"","","","","",{"$f":"IFERROR((Data!K1136-$F$4),\"\")","v":""},{"$f":"IF(AND(F1136<>\"\",G1136<>\"\",H1136<>\"\",I1136<>\"\",J1136<>\"\"),Data!L1136-$F$4,\"\")","v":""},"","","","",{"$f":"IF(F1136<>\"\",STDEV($Q$12:Q1136),\"\")","v":""},""]
[1126,null,{"$f":"RIGHT(Data!C1137,10)","v":""},null,null,null,null,null,null,null,{"$f":"IFERROR($U$3*Data!O1137/SQRT(COUNT(Data!F1137:J1137)),\"\")","v":""},"","","","","",{"$f":"IFERROR((Data!K1137-$F$4),\"\")","v":""},{"$f":"IF(AND(F1137<>\"\",G1137<>\"\",H1137<>\"\",I1137<>\"\",J1137<>\"\"),Data!L1137-$F$4,\"\")","v":""},"","","","",{"$f":"IF(F1137<>\"\",STDEV($Q$12:Q1137),\"\")","v":""},""]
[1127,null,{"$f":"RIGHT(Data!C1138,10)","v":""},null,null,null,null,null,null,null,{"$f":"IFERROR($U$3*Data!O1138/SQRT(COUNT(Data!F1138:J1138)),\"\")","v":""},"","","","","",{"$f":"IFERROR((Data!K1138-$F$4),\"\")","v":""},{"$f":"IF(AND(F1138<>\"\",G1138<>\"\",H1138<>\"\",I1138<>\"\",J1138<>\"\"),Data!L1138-$F$4,\"\")","v":""},"","","","",{"$f":"IF(F1138<>\"\",STDEV($Q$12:Q1138),\"\")","v":""},""]
[1128,null,{"$f":"RIGHT(Data!C1139,10)","v":""},null,null,null,null,null,null,null,{"$f":"IFERROR($U$3*Data!O1139/SQRT(COUNT(Data!F1139:J1139)),\"\")","v":""},"","","","","",{"$f":"IFERROR((Data!K1139-$F$4),\"\")","v":""},{"$f":"IF(AND(F1139<>\"\",G1139<>\"\",H1139<>\"\",I1139<>\"\",J1139<>\"\"),Data!L1139-$F$4,\"\")","v":""},"","","","",{"$f":"IF(F1139<>\"\",STDEV($Q$12:Q1139),\"\")","v":""},""]
[1129,null,{"$f":"RIGHT(Data!C1140,10)","v":""},null,null,null,null,null,null,null,{"$f":"IFERROR($U$3*Data!O1140/SQRT(COUNT(Data!F1140:J1140)),\"\")","v":""},"","","","","",{"$f":"IFERROR((Data!K1140-$F$4),\"\")","v":""},{"$f":"IF(AND(F1140<>\"\",G1140<>\"\",H1140<>\"\",I1140<>\"\",J1140<>\"\"),Data!L1140-$F$4,\"\")","v":""},"","","","",{"$f":"IF(F1140<>\"\",STDEV($Q$12:Q1140),\"\")","v":""},""]
[1130,null,{"$f":"RIGHT(Data!C1141,10)","v":""},null,null,null,null,null,null,null,{"$f":"IFERROR($U$3*Data!O1141/SQRT(COUNT(Data!F1141:J1141)),\"\")","v":""},"","","","","",{"$f":"IFERROR((Data!K1141-$F$4),\"\")","v":""},{"$f":"IF(AND(F1141<>\"\",G1141<>\"\",H1141<>\"\",I1141<>\"\",J1141<>\"\"),Data!L1141-$F$4,\"\")","v":""},"","","","",{"$f":"IF(F1141<>\"\",STDEV($Q$12:Q1141),\"\")","v":""},""]
[1131,null,{"$f":"RIGHT(Data!C1142,10)","v":""},null,null,null,null,null,null,null,{"$f":"IFERROR($U$3*Data!O1142/SQRT(COUNT(Data!F1142:J1142)),\"\")","v":""},"","","","","",{"$f":"IFERROR((Data!K1142-$F$4),\"\")","v":""},{"$f":"IF(AND(F1142<>\"\",G1142<>\"\",H1142<>\"\",I1142<>\"\",J1142<>\"\"),Data!L1142-$F$4,\"\")","v":""},"","","","",{"$f":"IF(F1142<>\"\",STDEV($Q$12:Q1142),\"\")","v":""},""]
[1132,null,{"$f":"RIGHT(Data!C1143,10)","v":""},null,null,null,null,null,null,null,{"$f":"IFERROR($U$3*Data!O1143/SQRT(COUNT(Data!F1143:J1143)),\"\")","v":""},"","","","","",{"$f":"IFERROR((Data!K1143-$F$4),\"\")","v":""},{"$f":"IF(AND(F1143<>\"\",G1143<>\"\",H1143<>\"\",I1143<>\"\",J1143<>\"\"),Data!L1143-$F$4,\"\")","v":""},"","","","",{"$f":"IF(F1143<>\"\",STDEV($Q$12:Q1143),\"\")","v":""},""]
[1133,null,{"$f":"RIGHT(Data!C1144,10)","v":""},null,null,null,null,null,null,null,{"$f":"IFERROR($U$3*Data!O1144/SQRT(COUNT(Data!F1144:J1144)),\"\")","v":""},"","","","","",{"$f":"IFERROR((Data!K1144-$F$4),\"\")","v":""},{"$f":"IF(AND(F1144<>\"\",G1144<>\"\",H1144<>\"\",I1144<>\"\",J1144<>\"\"),Data!L1144-$F$4,\"\")","v":""},"","","","",{"$f":"IF(F1144<>\"\",STDEV($Q$12:Q1144),\"\")","v":""},""]
[1134,null,{"$f":"RIGHT(Data!C1145,10)","v":""},null,null,null,null,null,null,null,{"$f":"IFERROR($U$3*Data!O1145/SQRT(COUNT(Data!F1145:J1145)),\"\")","v":""},"","","","","",{"$f":"IFERROR((Data!K1145-$F$4),\"\")","v":""},{"$f":"IF(AND(F1145<>\"\",G1145<>\"\",H1145<>\"\",I1145<>\"\",J1145<>\"\"),Data!L1145-$F$4,\"\")","v":""},"","","","",{"$f":"IF(F1145<>\"\",STDEV($Q$12:Q1145),\"\")","v":""},""]
[1135,null,{"$f":"RIGHT(Data!C1146,10)","v":""},null,null,null,null,null,null,null,{"$f":"IFERROR($U$3*Data!O1146/SQRT(COUNT(Data!F1146:J1146)),\"\")","v":""},"","","","","",{"$f":"IFERROR((Data!K1146-$F$4),\"\")","v":""},{"$f":"IF(AND(F1146<>\"\",G1146<>\"\",H1146<>\"\",I1146<>\"\",J1146<>\"\"),Data!L1146-$F$4,\"\")","v":""},"","","","",{"$f":"IF(F1146<>\"\",STDEV($Q$12:Q1146),\"\")","v":""},""]
[1136,null,{"$f":"RIGHT(Data!C1147,10)","v":""},null,null,null,null,null,null,null,{"$f":"IFERROR($U$3*Data!O1147/SQRT(COUNT(Data!F1147:J1147)),\"\")","v":""},"","","","","",{"$f":"IFERROR((Data!K1147-$F$4),\"\")","v":""},{"$f":"IF(AND(F1147<>\"\",G1147<>\"\",H1147<>\"\",I1147<>\"\",J1147<>\"\"),Data!L1147-$F$4,\"\")","v":""},"","","","",{"$f":"IF(F1147<>\"\",STDEV($Q$12:Q1147),\"\")","v":""},""]
[1137,null,{"$f":"RIGHT(Data!C1148,10)","v":""},null,null,null,null,null,null,null,{"$f":"IFERROR($U$3*Data!O1148/SQRT(COUNT(Data!F1148:J1148)),\"\")","v":""},"","","","","",{"$f":"IFERROR((Data!K1148-$F$4),\"\")","v":""},{"$f":"IF(AND(F1148<>\"\",G1148<>\"\",H1148<>\"\",I1148<>\"\",J1148<>\"\"),Data!L1148-$F$4,\"\")","v":""},"","","","",{"$f":"IF(F1148<>\"\",STDEV($Q$12:Q1148),\"\")","v":""},""]
[1138,null,{"$f":"RIGHT(Data!C1149,10)","v":""},null,null,null,null,null,null,null,{"$f":"IFERROR($U$3*Data!O1149/SQRT(COUNT(Data!F1149:J1149)),\"\")","v":""},"","","","","",{"$f":"IFERROR((Data!K1149-$F$4),\"\")","v":""},{"$f":"IF(AND(F1149<>\"\",G1149<>\"\",H1149<>\"\",I1149<>\"\",J1149<>\"\"),Data!L1149-$F$4,\"\")","v":""},"","","","",{"$f":"IF(F1149<>\"\",STDEV($Q$12:Q1149),\"\")","v":""},""]
[1139,null,{"$f":"RIGHT(Data!C1150,10)","v":""},null,null,null,null,null,null,null,{"$f":"IFERROR($U$3*Data!O1150/SQRT(COUNT(Data!F1150:J1150)),\"\")","v":""},"","","","","",{"$f":"IFERROR((Data!K1150-$F$4),\"\")","v":""},{"$f":"IF(AND(F1150<>\"\",G1150<>\"\",H1150<>\"\",I1150<>\"\",J1150<>\"\"),Data!L1150-$F$4,\"\")","v":""},"","","","",{"$f":"IF(F1150<>\"\",STDEV($Q$12:Q1150),\"\")","v":""},""]
[1140,null,{"$f":"RIGHT(Data!C1151,10)","v":""},null,null,null,null,null,null,null,{"$f":"IFERROR($U$3*Data!O1151/SQRT(COUNT(Data!F1151:J1151)),\"\")","v":""},"","","","","",{"$f":"IFERROR((Data!K1151-$F$4),\"\")","v":""},{"$f":"IF(AND(F1151<>\"\",G1151<>\"\",H1151<>\"\",I1151<>\"\",J1151<>\"\"),Data!L1151-$F$4,\"\")","v":""},"","","","",{"$f":"IF(F1151<>\"\",STDEV($Q$12:Q1151),\"\")","v":""},""]
[1141,null,{"$f":"RIGHT(Data!C1152,10)","v":""},null,null,null,null,null,null,null,{"$f":"IFERROR($U$3*Data!O1152/SQRT(COUNT(Data!F1152:J1152)),\"\")","v":""},"","","","","",{"$f":"IFERROR((Data!K1152-$F$4),\"\")","v":""},{"$f":"IF(AND(F1152<>\"\",G1152<>\"\",H1152<>\"\",I1152<>\"\",J1152<>\"\"),Data!L1152-$F$4,\"\")","v":""},"","","","",{"$f":"IF(F1152<>\"\",STDEV($Q$12:Q1152),\"\")","v":""},""]
[1142,null,{"$f":"RIGHT(Data!C1153,10)","v":""},null,null,null,null,null,null,null,{"$f":"IFERROR($U$3*Data!O1153/SQRT(COUNT(Data!F1153:J1153)),\"\")","v":""},"","","","","",{"$f":"IFERROR((Data!K1153-$F$4),\"\")","v":""},{"$f":"IF(AND(F1153<>\"\",G1153<>\"\",H1153<>\"\",I1153<>\"\",J1153<>\"\"),Data!L1153-$F$4,\"\")","v":""},"","","","",{"$f":"IF(F1153<>\"\",STDEV($Q$12:Q1153),\"\")","v":""},""]
[1143,null,{"$f":"RIGHT(Data!C1154,10)","v":""},null,null,null,null,null,null,null,{"$f":"IFERROR($U$3*Data!O1154/SQRT(COUNT(Data!F1154:J1154)),\"\")","v":""},"","","","","",{"$f":"IFERROR((Data!K1154-$F$4),\"\")","v":""},{"$f":"IF(AND(F1154<>\"\",G1154<>\"\",H1154<>\"\",I1154<>\"\",J1154<>\"\"),Data!L1154-$F$4,\"\")","v":""},"","","","",{"$f":"IF(F1154<>\"\",STDEV($Q$12:Q1154),\"\")","v":""},""]
[1144,null,{"$f":"RIGHT(Data!C1155,10)","v":""},null,null,null,null,null,null,null,{"$f":"IFERROR($U$3*Data!O1155/SQRT(COUNT(Data!F1155:J1155)),\"\")","v":""},"","","","","",{"$f":"IFERROR((Data!K1155-$F$4),\"\")","v":""},{"$f":"IF(AND(F1155<>\"\",G1155<>\"\",H1155<>\"\",I1155<>\"\",J1155<>\"\"),Data!L1155-$F$4,\"\")","v":""},"","","","",{"$f":"IF(F1155<>\"\",STDEV($Q$12:Q1155),\"\")","v":""},""]
[1145,null,{"$f":"RIGHT(Data!C1156,10)","v":""},null,null,null,null,null,null,null,{"$f":"IFERROR($U$3*Data!O1156/SQRT(COUNT(Data!F1156:J1156)),\"\")","v":""},"","","","","",{"$f":"IFERROR((Data!K1156-$F$4),\"\")","v":""},{"$f":"IF(AND(F1156<>\"\",G1156<>\"\",H1156<>\"\",I1156<>\"\",J1156<>\"\"),Data!L1156-$F$4,\"\")","v":""},"","","","",{"$f":"IF(F1156<>\"\",STDEV($Q$12:Q1156),\"\")","v":""},""]
[1146,null,{"$f":"RIGHT(Data!C1157,10)","v":""},null,null,null,null,null,null,null,{"$f":"IFERROR($U$3*Data!O1157/SQRT(COUNT(Data!F1157:J1157)),\"\")","v":""},"","","","","",{"$f":"IFERROR((Data!K1157-$F$4),\"\")","v":""},{"$f":"IF(AND(F1157<>\"\",G1157<>\"\",H1157<>\"\",I1157<>\"\",J1157<>\"\"),Data!L1157-$F$4,\"\")","v":""},"","","","",{"$f":"IF(F1157<>\"\",STDEV($Q$12:Q1157),\"\")","v":""},""]
[1147,null,{"$f":"RIGHT(Data!C1158,10)","v":""},null,null,null,null,null,null,null,{"$f":"IFERROR($U$3*Data!O1158/SQRT(COUNT(Data!F1158:J1158)),\"\")","v":""},"","","","","",{"$f":"IFERROR((Data!K1158-$F$4),\"\")","v":""},{"$f":"IF(AND(F1158<>\"\",G1158<>\"\",H1158<>\"\",I1158<>\"\",J1158<>\"\"),Data!L1158-$F$4,\"\")","v":""},"","","","",{"$f":"IF(F1158<>\"\",STDEV($Q$12:Q1158),\"\")","v":""},""]
[1148,null,{"$f":"RIGHT(Data!C1159,10)","v":""},null,null,null,null,null,null,null,{"$f":"IFERROR($U$3*Data!O1159/SQRT(COUNT(Data!F1159:J1159)),\"\")","v":""},"","","","","",{"$f":"IFERROR((Data!K1159-$F$4),\"\")","v":""},{"$f":"IF(AND(F1159<>\"\",G1159<>\"\",H1159<>\"\",I1159<>\"\",J1159<>\"\"),Data!L1159-$F$4,\"\")","v":""},"","","","",{"$f":"IF(F1159<>\"\",STDEV($Q$12:Q1159),\"\")","v":""},""]
[1149,null,{"$f":"RIGHT(Data!C1160,10)","v":""},null,null,null,null,null,null,null,{"$f":"IFERROR($U$3*Data!O1160/SQRT(COUNT(Data!F1160:J1160)),\"\")","v":""},"","","","","",{"$f":"IFERROR((Data!K1160-$F$4),\"\")","v":""},{"$f":"IF(AND(F1160<>\"\",G1160<>\"\",H1160<>\"\",I1160<>\"\",J1160<>\"\"),Data!L1160-$F$4,\"\")","v":""},"","","","",{"$f":"IF(F1160<>\"\",STDEV($Q$12:Q1160),\"\")","v":""},""]
[1150,null,{"$f":"RIGHT(Data!C1161,10)","v":""},null,null,null,null,null,null,null,{"$f":"IFERROR($U$3*Data!O1161/SQRT(COUNT(Data!F1161:J1161)),\"\")","v":""},"","","","","",{"$f":"IFERROR((Data!K1161-$F$4),\"\")","v":""},{"$f":"IF(AND(F1161<>\"\",G1161<>\"\",H1161<>\"\",I1161<>\"\",J1161<>\"\"),Data!L1161-$F$4,\"\")","v":""},"","","","",{"$f":"IF(F1161<>\"\",STDEV($Q$12:Q1161),\"\")","v":""},""]
[1151,null,{"$f":"RIGHT(Data!C1162,10)","v":""},null,null,null,null,null,null,null,{"$f":"IFERROR($U$3*Data!O1162/SQRT(COUNT(Data!F1162:J1162)),\"\")","v":""},"","","","","",{"$f":"IFERROR((Data!K1162-$F$4),\"\")","v":""},{"$f":"IF(AND(F1162<>\"\",G1162<>\"\",H1162<>\"\",I1162<>\"\",J1162<>\"\"),Data!L1162-$F$4,\"\")","v":""},"","","","",{"$f":"IF(F1162<>\"\",STDEV($Q$12:Q1162),\"\")","v":""},""]
[1152,null,{"$f":"RIGHT(Data!C1163,10)","v":""},null,null,null,null,null,null,null,{"$f":"IFERROR($U$3*Data!O1163/SQRT(COUNT(Data!F1163:J1163)),\"\")","v":""},"","","","","",{"$f":"IFERROR((Data!K1163-$F$4),\"\")","v":""},{"$f":"IF(AND(F1163<>\"\",G1163<>\"\",H1163<>\"\",I1163<>\"\",J1163<>\"\"),Data!L1163-$F$4,\"\")","v":""},"","","","",{"$f":"IF(F1163<>\"\",STDEV($Q$12:Q1163),\"\")","v":""},""]
[1153,null,{"$f":"RIGHT(Data!C1164,10)","v":""},null,null,null,null,null,null,null,{"$f":"IFERROR($U$3*Data!O1164/SQRT(COUNT(Data!F1164:J1164)),\"\")","v":""},"","",{"$f":"IF(COUNT(F1164:J1164)>=5,STDEV(F1164:J1164)*$U$3/SQRT((COUNT(F1164:J1164))),\"\")","v":""},"","",{"$f":"IFERROR((Data!K1164-$F$4),\"\")","v":""},{"$f":"IF(AND(F1164<>\"\",G1164<>\"\",H1164<>\"\",I1164<>\"\",J1164<>\"\"),Data!L1164-$F$4,\"\")","v":""},{"$f":"IF(O1164<>\"\",FIXED(X1164,1) & \" ± \" & FIXED(O1164+ABS(R1164),2),\"\")","v":""},"","","",{"$f":"IF(F1164<>\"\",STDEV($Q$12:Q1164),\"\")","v":""},{"$f":"IF(F1164<>\"\",AVERAGE(F1164:J1164),\"\")","v":""}]
[1154,null,{"$f":"RIGHT(Data!C1165,10)","v":""},null,null,null,null,null,null,null,{"$f":"IFERROR($U$3*Data!O1165/SQRT(COUNT(Data!F1165:J1165)),\"\")","v":""},{"$f":"IF(F1165<>\"\",V1165*W1165/SQRT(A1165),\"\")","v":""},{"$f":"IF(F1165<>\"\",$U$4*SQRT($U$7^2+L1165^2+K1165^2+$U$5^2),\"\")","v":""},"",{"$f":"IFERROR($U$4*SQRT($U$7^2+L1165^2+K1165^2+$U$5^2+N1165^2),\"\")","v":""},{"$f":"IF(AND(F1165<>\"\",G1165<>\"\",H1165<>\"\",I1165<>\"\",J1165<>\"\"),AVERAGE(F1165:J1165),\"\")","v":""},{"$f":"IFERROR((Data!K1165-$F$4),\"\")","v":""},{"$f":"IF(AND(F1165<>\"\",G1165<>\"\",H1165<>\"\",I1165<>\"\",J1165<>\"\"),Data!L1165-$F$4,\"\")","v":""},"",{"$f":"IF(F1165<>\"\",FIXED(AVERAGE(F1165:J1165)-R1165,1) & \" ± \" & FIXED(O1165,2),\"\")","v":""},{"$f":"IF(IO1165=\"\",\"\",IO1165-1)","v":""},{"$f":"IF(F1165<>\"\",TINV(1-0.68,A1165-1),\"\")","v":""},{"$f":"IF(F1165<>\"\",STDEV($Q$12:Q1165),\"\")","v":""},""]
[1155,null,{"$f":"RIGHT(Data!C1166,10)","v":""},null,null,null,null,null,null,null,{"$f":"IFERROR($U$3*Data!O1166/SQRT(COUNT(Data!F1166:J1166)),\"\")","v":""},"","","","","",{"$f":"IFERROR((Data!K1166-$F$4),\"\")","v":""},{"$f":"IF(AND(F1166<>\"\",G1166<>\"\",H1166<>\"\",I1166<>\"\",J1166<>\"\"),Data!L1166-$F$4,\"\")","v":""},"","","","",{"$f":"IF(F1166<>\"\",STDEV($Q$12:Q1166),\"\")","v":""},""]
[1156,null,{"$f":"RIGHT(Data!C1167,10)","v":""},null,null,null,null,null,null,null,{"$f":"IFERROR($U$3*Data!O1167/SQRT(COUNT(Data!F1167:J1167)),\"\")","v":""},"","","","","",{"$f":"IFERROR((Data!K1167-$F$4),\"\")","v":""},{"$f":"IF(AND(F1167<>\"\",G1167<>\"\",H1167<>\"\",I1167<>\"\",J1167<>\"\"),Data!L1167-$F$4,\"\")","v":""},"","","","",{"$f":"IF(F1167<>\"\",STDEV($Q$12:Q1167),\"\")","v":""},""]
[1157,null,{"$f":"RIGHT(Data!C1168,10)","v":""},null,null,null,null,null,null,null,{"$f":"IFERROR($U$3*Data!O1168/SQRT(COUNT(Data!F1168:J1168)),\"\")","v":""},"","","","","",{"$f":"IFERROR((Data!K1168-$F$4),\"\")","v":""},{"$f":"IF(AND(F1168<>\"\",G1168<>\"\",H1168<>\"\",I1168<>\"\",J1168<>\"\"),Data!L1168-$F$4,\"\")","v":""},"","","","",{"$f":"IF(F1168<>\"\",STDEV($Q$12:Q1168),\"\")","v":""},""]
[1158,null,{"$f":"RIGHT(Data!C1169,10)","v":""},null,null,null,null,null,null,null,{"$f":"IFERROR($U$3*Data!O1169/SQRT(COUNT(Data!F1169:J1169)),\"\")","v":""},"","","","","",{"$f":"IFERROR((Data!K1169-$F$4),\"\")","v":""},{"$f":"IF(AND(F1169<>\"\",G1169<>\"\",H1169<>\"\",I1169<>\"\",J1169<>\"\"),Data!L1169-$F$4,\"\")","v":""},"","","","",{"$f":"IF(F1169<>\"\",STDEV($Q$12:Q1169),\"\")","v":""},""]
[1159,null,{"$f":"RIGHT(Data!C1170,10)","v":""},null,null,null,null,null,null,null,{"$f":"IFERROR($U$3*Data!O1170/SQRT(COUNT(Data!F1170:J1170)),\"\")","v":""},"","","","","",{"$f":"IFERROR((Data!K1170-$F$4),\"\")","v":""},{"$f":"IF(AND(F1170<>\"\",G1170<>\"\",H1170<>\"\",I1170<>\"\",J1170<>\"\"),Data!L1170-$F$4,\"\")","v":""},"","","","",{"$f":"IF(F1170<>\"\",STDEV($Q$12:Q1170),\"\")","v":""},""]
[1160,null,{"$f":"RIGHT(Data!C1171,10)","v":""},null,null,null,null,null,null,null,{"$f":"IFERROR($U$3*Data!O1171/SQRT(COUNT(Data!F1171:J1171)),\"\")","v":""},"","","","","",{"$f":"IFERROR((Data!K1171-$F$4),\"\")","v":""},{"$f":"IF(AND(F1171<>\"\",G1171<>\"\",H1171<>\"\",I1171<>\"\",J1171<>\"\"),Data!L1171-$F$4,\"\")","v":""},"","","","",{"$f":"IF(F1171<>\"\",STDEV($Q$12:Q1171),\"\")","v":""},""]
[1161,null,{"$f":"RIGHT(Data!C1172,10)","v":""},null,null,null,null,null,null,null,{"$f":"IFERROR($U$3*Data!O1172/SQRT(COUNT(Data!F1172:J1172)),\"\")","v":""},"","","","","",{"$f":"IFERROR((Data!K1172-$F$4),\"\")","v":""},{"$f":"IF(AND(F1172<>\"\",G1172<>\"\",H1172<>\"\",I1172<>\"\",J1172<>\"\"),Data!L1172-$F$4,\"\")","v":""},"","","","",{"$f":"IF(F1172<>\"\",STDEV($Q$12:Q1172),\"\")","v":""},""]
[1162,null,{"$f":"RIGHT(Data!C1173,10)","v":""},null,null,null,null,null,null,null,{"$f":"IFERROR($U$3*Data!O1173/SQRT(COUNT(Data!F1173:J1173)),\"\")","v":""},"","","","","",{"$f":"IFERROR((Data!K1173-$F$4),\"\")","v":""},{"$f":"IF(AND(F1173<>\"\",G1173<>\"\",H1173<>\"\",I1173<>\"\",J1173<>\"\"),Data!L1173-$F$4,\"\")","v":""},"","","","",{"$f":"IF(F1173<>\"\",STDEV($Q$12:Q1173),\"\")","v":""},""]
[1163,null,{"$f":"RIGHT(Data!C1174,10)","v":""},null,null,null,null,null,null,null,{"$f":"IFERROR($U$3*Data!O1174/SQRT(COUNT(Data!F1174:J1174)),\"\")","v":""},"","","","","",{"$f":"IFERROR((Data!K1174-$F$4),\"\")","v":""},{"$f":"IF(AND(F1174<>\"\",G1174<>\"\",H1174<>\"\",I1174<>\"\",J1174<>\"\"),Data!L1174-$F$4,\"\")","v":""},"","","","",{"$f":"IF(F1174<>\"\",STDEV($Q$12:Q1174),\"\")","v":""},""]
[1164,null,{"$f":"RIGHT(Data!C1175,10)","v":""},null,null,null,null,null,null,null,{"$f":"IFERROR($U$3*Data!O1175/SQRT(COUNT(Data!F1175:J1175)),\"\")","v":""},"","","","","",{"$f":"IFERROR((Data!K1175-$F$4),\"\")","v":""},{"$f":"IF(AND(F1175<>\"\",G1175<>\"\",H1175<>\"\",I1175<>\"\",J1175<>\"\"),Data!L1175-$F$4,\"\")","v":""},"","","","",{"$f":"IF(F1175<>\"\",STDEV($Q$12:Q1175),\"\")","v":""},""]
[1165,null,{"$f":"RIGHT(Data!C1176,10)","v":""},null,null,null,null,null,null,null,{"$f":"IFERROR($U$3*Data!O1176/SQRT(COUNT(Data!F1176:J1176)),\"\")","v":""},"","","","","",{"$f":"IFERROR((Data!K1176-$F$4),\"\")","v":""},{"$f":"IF(AND(F1176<>\"\",G1176<>\"\",H1176<>\"\",I1176<>\"\",J1176<>\"\"),Data!L1176-$F$4,\"\")","v":""},"","","","",{"$f":"IF(F1176<>\"\",STDEV($Q$12:Q1176),\"\")","v":""},""]
[1166,null,{"$f":"RIGHT(Data!C1177,10)","v":""},null,null,null,null,null,null,null,{"$f":"IFERROR($U$3*Data!O1177/SQRT(COUNT(Data!F1177:J1177)),\"\")","v":""},"","","","","",{"$f":"IFERROR((Data!K1177-$F$4),\"\")","v":""},{"$f":"IF(AND(F1177<>\"\",G1177<>\"\",H1177<>\"\",I1177<>\"\",J1177<>\"\"),Data!L1177-$F$4,\"\")","v":""},"","","","",{"$f":"IF(F1177<>\"\",STDEV($Q$12:Q1177),\"\")","v":""},""]
[1167,null,{"$f":"RIGHT(Data!C1178,10)","v":""},null,null,null,null,null,null,null,{"$f":"IFERROR($U$3*Data!O1178/SQRT(COUNT(Data!F1178:J1178)),\"\")","v":""},"","","","","",{"$f":"IFERROR((Data!K1178-$F$4),\"\")","v":""},{"$f":"IF(AND(F1178<>\"\",G1178<>\"\",H1178<>\"\",I1178<>\"\",J1178<>\"\"),Data!L1178-$F$4,\"\")","v":""},"","","","",{"$f":"IF(F1178<>\"\",STDEV($Q$12:Q1178),\"\")","v":""},""]
[1168,null,{"$f":"RIGHT(Data!C1179,10)","v":""},null,null,null,null,null,null,null,{"$f":"IFERROR($U$3*Data!O1179/SQRT(COUNT(Data!F1179:J1179)),\"\")","v":""},"","","","","",{"$f":"IFERROR((Data!K1179-$F$4),\"\")","v":""},{"$f":"IF(AND(F1179<>\"\",G1179<>\"\",H1179<>\"\",I1179<>\"\",J1179<>\"\"),Data!L1179-$F$4,\"\")","v":""},"","","","",{"$f":"IF(F1179<>\"\",STDEV($Q$12:Q1179),\"\")","v":""},""]
[1169,null,{"$f":"RIGHT(Data!C1180,10)","v":""},null,null,null,null,null,null,null,{"$f":"IFERROR($U$3*Data!O1180/SQRT(COUNT(Data!F1180:J1180)),\"\")","v":""},"","","","","",{"$f":"IFERROR((Data!K1180-$F$4),\"\")","v":""},{"$f":"IF(AND(F1180<>\"\",G1180<>\"\",H1180<>\"\",I1180<>\"\",J1180<>\"\"),Data!L1180-$F$4,\"\")","v":""},"","","","",{"$f":"IF(F1180<>\"\",STDEV($Q$12:Q1180),\"\")","v":""},""]
[1170,null,{"$f":"RIGHT(Data!C1181,10)","v":""},null,null,null,null,null,null,null,{"$f":"IFERROR($U$3*Data!O1181/SQRT(COUNT(Data!F1181:J1181)),\"\")","v":""},"","","","","",{"$f":"IFERROR((Data!K1181-$F$4),\"\")","v":""},{"$f":"IF(AND(F1181<>\"\",G1181<>\"\",H1181<>\"\",I1181<>\"\",J1181<>\"\"),Data!L1181-$F$4,\"\")","v":""},"","","","",{"$f":"IF(F1181<>\"\",STDEV($Q$12:Q1181),\"\")","v":""},""]
[1171,null,{"$f":"RIGHT(Data!C1182,10)","v":""},null,null,null,null,null,null,null,{"$f":"IFERROR($U$3*Data!O1182/SQRT(COUNT(Data!F1182:J1182)),\"\")","v":""},"","","","","",{"$f":"IFERROR((Data!K1182-$F$4),\"\")","v":""},{"$f":"IF(AND(F1182<>\"\",G1182<>\"\",H1182<>\"\",I1182<>\"\",J1182<>\"\"),Data!L1182-$F$4,\"\")","v":""},"","","","",{"$f":"IF(F1182<>\"\",STDEV($Q$12:Q1182),\"\")","v":""},""]
[1172,null,{"$f":"RIGHT(Data!C1183,10)","v":""},null,null,null,null,null,null,null,{"$f":"IFERROR($U$3*Data!O1183/SQRT(COUNT(Data!F1183:J1183)),\"\")","v":""},"","","","","",{"$f":"IFERROR((Data!K1183-$F$4),\"\")","v":""},{"$f":"IF(AND(F1183<>\"\",G1183<>\"\",H1183<>\"\",I1183<>\"\",J1183<>\"\"),Data!L1183-$F$4,\"\")","v":""},"","","","",{"$f":"IF(F1183<>\"\",STDEV($Q$12:Q1183),\"\")","v":""},""]
[1173,null,{"$f":"RIGHT(Data!C1184,10)","v":""},null,null,null,null,null,null,null,{"$f":"IFERROR($U$3*Data!O1184/SQRT(COUNT(Data!F1184:J1184)),\"\")","v":""},"","","","","",{"$f":"IFERROR((Data!K1184-$F$4),\"\")","v":""},{"$f":"IF(AND(F1184<>\"\",G1184<>\"\",H1184<>\"\",I1184<>\"\",J1184<>\"\"),Data!L1184-$F$4,\"\")","v":""},"","","","",{"$f":"IF(F1184<>\"\",STDEV($Q$12:Q1184),\"\")","v":""},""]
[1174,null,{"$f":"RIGHT(Data!C1185,10)","v":""},null,null,null,null,null,null,null,{"$f":"IFERROR($U$3*Data!O1185/SQRT(COUNT(Data!F1185:J1185)),\"\")","v":""},"","","","","",{"$f":"IFERROR((Data!K1185-$F$4),\"\")","v":""},{"$f":"IF(AND(F1185<>\"\",G1185<>\"\",H1185<>\"\",I1185<>\"\",J1185<>\"\"),Data!L1185-$F$4,\"\")","v":""},"","","","",{"$f":"IF(F1185<>\"\",STDEV($Q$12:Q1185),\"\")","v":""},""]
[1175,null,{"$f":"RIGHT(Data!C1186,10)","v":""},null,null,null,null,null,null,null,{"$f":"IFERROR($U$3*Data!O1186/SQRT(COUNT(Data!F1186:J1186)),\"\")","v":""},"","","","","",{"$f":"IFERROR((Data!K1186-$F$4),\"\")","v":""},{"$f":"IF(AND(F1186<>\"\",G1186<>\"\",H1186<>\"\",I1186<>\"\",J1186<>\"\"),Data!L1186-$F$4,\"\")","v":""},"","","","",{"$f":"IF(F1186<>\"\",STDEV($Q$12:Q1186),\"\")","v":""},""]
[1176,null,{"$f":"RIGHT(Data!C1187,10)","v":""},null,null,null,null,null,null,null,{"$f":"IFERROR($U$3*Data!O1187/SQRT(COUNT(Data!F1187:J1187)),\"\")","v":""},"","","","","",{"$f":"IFERROR((Data!K1187-$F$4),\"\")","v":""},{"$f":"IF(AND(F1187<>\"\",G1187<>\"\",H1187<>\"\",I1187<>\"\",J1187<>\"\"),Data!L1187-$F$4,\"\")","v":""},"","","","",{"$f":"IF(F1187<>\"\",STDEV($Q$12:Q1187),\"\")","v":""},""]
[1177,null,{"$f":"RIGHT(Data!C1188,10)","v":""},null,null,null,null,null,null,null,{"$f":"IFERROR($U$3*Data!O1188/SQRT(COUNT(Data!F1188:J1188)),\"\")","v":""},"","","","","",{"$f":"IFERROR((Data!K1188-$F$4),\"\")","v":""},{"$f":"IF(AND(F1188<>\"\",G1188<>\"\",H1188<>\"\",I1188<>\"\",J1188<>\"\"),Data!L1188-$F$4,\"\")","v":""},"","","","",{"$f":"IF(F1188<>\"\",STDEV($Q$12:Q1188),\"\")","v":""},""]
[1178,null,{"$f":"RIGHT(Data!C1189,10)","v":""},null,null,null,null,null,null,null,{"$f":"IFERROR($U$3*Data!O1189/SQRT(COUNT(Data!F1189:J1189)),\"\")","v":""},"","","","","",{"$f":"IFERROR((Data!K1189-$F$4),\"\")","v":""},{"$f":"IF(AND(F1189<>\"\",G1189<>\"\",H1189<>\"\",I1189<>\"\",J1189<>\"\"),Data!L1189-$F$4,\"\")","v":""},"","","","",{"$f":"IF(F1189<>\"\",STDEV($Q$12:Q1189),\"\")","v":""},""]
[1179,null,{"$f":"RIGHT(Data!C1190,10)","v":""},null,null,null,null,null,null,null,{"$f":"IFERROR($U$3*Data!O1190/SQRT(COUNT(Data!F1190:J1190)),\"\")","v":""},"","","","","",{"$f":"IFERROR((Data!K1190-$F$4),\"\")","v":""},{"$f":"IF(AND(F1190<>\"\",G1190<>\"\",H1190<>\"\",I1190<>\"\",J1190<>\"\"),Data!L1190-$F$4,\"\")","v":""},"","","","",{"$f":"IF(F1190<>\"\",STDEV($Q$12:Q1190),\"\")","v":""},""]
[1180,null,{"$f":"RIGHT(Data!C1191,10)","v":""},null,null,null,null,null,null,null,{"$f":"IFERROR($U$3*Data!O1191/SQRT(COUNT(Data!F1191:J1191)),\"\")","v":""},"","","","","",{"$f":"IFERROR((Data!K1191-$F$4),\"\")","v":""},{"$f":"IF(AND(F1191<>\"\",G1191<>\"\",H1191<>\"\",I1191<>\"\",J1191<>\"\"),Data!L1191-$F$4,\"\")","v":""},"","","","",{"$f":"IF(F1191<>\"\",STDEV($Q$12:Q1191),\"\")","v":""},""]
[1181,null,{"$f":"RIGHT(Data!C1192,10)","v":""},null,null,null,null,null,null,null,{"$f":"IFERROR($U$3*Data!O1192/SQRT(COUNT(Data!F1192:J1192)),\"\")","v":""},"","","","","",{"$f":"IFERROR((Data!K1192-$F$4),\"\")","v":""},{"$f":"IF(AND(F1192<>\"\",G1192<>\"\",H1192<>\"\",I1192<>\"\",J1192<>\"\"),Data!L1192-$F$4,\"\")","v":""},"","","","",{"$f":"IF(F1192<>\"\",STDEV($Q$12:Q1192),\"\")","v":""},""]
[1182,null,{"$f":"RIGHT(Data!C1193,10)","v":""},null,null,null,null,null,null,null,{"$f":"IFERROR($U$3*Data!O1193/SQRT(COUNT(Data!F1193:J1193)),\"\")","v":""},"","","","","",{"$f":"IFERROR((Data!K1193-$F$4),\"\")","v":""},{"$f":"IF(AND(F1193<>\"\",G1193<>\"\",H1193<>\"\",I1193<>\"\",J1193<>\"\"),Data!L1193-$F$4,\"\")","v":""},"","","","",{"$f":"IF(F1193<>\"\",STDEV($Q$12:Q1193),\"\")","v":""},""]
[1183,null,{"$f":"RIGHT(Data!C1194,10)","v":""},null,null,null,null,null,null,null,{"$f":"IFERROR($U$3*Data!O1194/SQRT(COUNT(Data!F1194:J1194)),\"\")","v":""},"","","","","",{"$f":"IFERROR((Data!K1194-$F$4),\"\")","v":""},{"$f":"IF(AND(F1194<>\"\",G1194<>\"\",H1194<>\"\",I1194<>\"\",J1194<>\"\"),Data!L1194-$F$4,\"\")","v":""},"","","","",{"$f":"IF(F1194<>\"\",STDEV($Q$12:Q1194),\"\")","v":""},""]
[1184,null,{"$f":"RIGHT(Data!C1195,10)","v":""},null,null,null,null,null,null,null,{"$f":"IFERROR($U$3*Data!O1195/SQRT(COUNT(Data!F1195:J1195)),\"\")","v":""},"","","","","",{"$f":"IFERROR((Data!K1195-$F$4),\"\")","v":""},{"$f":"IF(AND(F1195<>\"\",G1195<>\"\",H1195<>\"\",I1195<>\"\",J1195<>\"\"),Data!L1195-$F$4,\"\")","v":""},"","","","",{"$f":"IF(F1195<>\"\",STDEV($Q$12:Q1195),\"\")","v":""},""]
[1185,null,{"$f":"RIGHT(Data!C1196,10)","v":""},null,null,null,null,null,null,null,{"$f":"IFERROR($U$3*Data!O1196/SQRT(COUNT(Data!F1196:J1196)),\"\")","v":""},"","","","","",{"$f":"IFERROR((Data!K1196-$F$4),\"\")","v":""},{"$f":"IF(AND(F1196<>\"\",G1196<>\"\",H1196<>\"\",I1196<>\"\",J1196<>\"\"),Data!L1196-$F$4,\"\")","v":""},"","","","",{"$f":"IF(F1196<>\"\",STDEV($Q$12:Q1196),\"\")","v":""},""]
[1186,null,{"$f":"RIGHT(Data!C1197,10)","v":""},null,null,null,null,null,null,null,{"$f":"IFERROR($U$3*Data!O1197/SQRT(COUNT(Data!F1197:J1197)),\"\")","v":""},"","","","","",{"$f":"IFERROR((Data!K1197-$F$4),\"\")","v":""},{"$f":"IF(AND(F1197<>\"\",G1197<>\"\",H1197<>\"\",I1197<>\"\",J1197<>\"\"),Data!L1197-$F$4,\"\")","v":""},"","","","",{"$f":"IF(F1197<>\"\",STDEV($Q$12:Q1197),\"\")","v":""},""]
[1187,null,{"$f":"RIGHT(Data!C1198,10)","v":""},null,null,null,null,null,null,null,{"$f":"IFERROR($U$3*Data!O1198/SQRT(COUNT(Data!F1198:J1198)),\"\")","v":""},"","","","","",{"$f":"IFERROR((Data!K1198-$F$4),\"\")","v":""},{"$f":"IF(AND(F1198<>\"\",G1198<>\"\",H1198<>\"\",I1198<>\"\",J1198<>\"\"),Data!L1198-$F$4,\"\")","v":""},"","","","",{"$f":"IF(F1198<>\"\",STDEV($Q$12:Q1198),\"\")","v":""},""]
[1188,null,{"$f":"RIGHT(Data!C1199,10)","v":""},null,null,null,null,null,null,null,{"$f":"IFERROR($U$3*Data!O1199/SQRT(COUNT(Data!F1199:J1199)),\"\")","v":""},"","","","","",{"$f":"IFERROR((Data!K1199-$F$4),\"\")","v":""},{"$f":"IF(AND(F1199<>\"\",G1199<>\"\",H1199<>\"\",I1199<>\"\",J1199<>\"\"),Data!L1199-$F$4,\"\")","v":""},"","","","",{"$f":"IF(F1199<>\"\",STDEV($Q$12:Q1199),\"\")","v":""},""]
[1189,null,{"$f":"RIGHT(Data!C1200,10)","v":""},null,null,null,null,null,null,null,{"$f":"IFERROR($U$3*Data!O1200/SQRT(COUNT(Data!F1200:J1200)),\"\")","v":""},"","","","","",{"$f":"IFERROR((Data!K1200-$F$4),\"\")","v":""},{"$f":"IF(AND(F1200<>\"\",G1200<>\"\",H1200<>\"\",I1200<>\"\",J1200<>\"\"),Data!L1200-$F$4,\"\")","v":""},"","","","",{"$f":"IF(F1200<>\"\",STDEV($Q$12:Q1200),\"\")","v":""},""]
[1190,null,{"$f":"RIGHT(Data!C1201,10)","v":""},null,null,null,null,null,null,null,{"$f":"IFERROR($U$3*Data!O1201/SQRT(COUNT(Data!F1201:J1201)),\"\")","v":""},"","","","","",{"$f":"IFERROR((Data!K1201-$F$4),\"\")","v":""},{"$f":"IF(AND(F1201<>\"\",G1201<>\"\",H1201<>\"\",I1201<>\"\",J1201<>\"\"),Data!L1201-$F$4,\"\")","v":""},"","","","",{"$f":"IF(F1201<>\"\",STDEV($Q$12:Q1201),\"\")","v":""},""]
[1191,null,{"$f":"RIGHT(Data!C1202,10)","v":""},null,null,null,null,null,null,null,{"$f":"IFERROR($U$3*Data!O1202/SQRT(COUNT(Data!F1202:J1202)),\"\")","v":""},"","","","","",{"$f":"IFERROR((Data!K1202-$F$4),\"\")","v":""},{"$f":"IF(AND(F1202<>\"\",G1202<>\"\",H1202<>\"\",I1202<>\"\",J1202<>\"\"),Data!L1202-$F$4,\"\")","v":""},"","","","",{"$f":"IF(F1202<>\"\",STDEV($Q$12:Q1202),\"\")","v":""},""]
[1192,null,{"$f":"RIGHT(Data!C1203,10)","v":""},null,null,null,null,null,null,null,{"$f":"IFERROR($U$3*Data!O1203/SQRT(COUNT(Data!F1203:J1203)),\"\")","v":""},"","","","","",{"$f":"IFERROR((Data!K1203-$F$4),\"\")","v":""},{"$f":"IF(AND(F1203<>\"\",G1203<>\"\",H1203<>\"\",I1203<>\"\",J1203<>\"\"),Data!L1203-$F$4,\"\")","v":""},"","","","",{"$f":"IF(F1203<>\"\",STDEV($Q$12:Q1203),\"\")","v":""},""]
[1193,null,{"$f":"RIGHT(Data!C1204,10)","v":""},null,null,null,null,null,null,null,{"$f":"IFERROR($U$3*Data!O1204/SQRT(COUNT(Data!F1204:J1204)),\"\")","v":""},"","","","","",{"$f":"IFERROR((Data!K1204-$F$4),\"\")","v":""},{"$f":"IF(AND(F1204<>\"\",G1204<>\"\",H1204<>\"\",I1204<>\"\",J1204<>\"\"),Data!L1204-$F$4,\"\")","v":""},"","","","",{"$f":"IF(F1204<>\"\",STDEV($Q$12:Q1204),\"\")","v":""},""]
[1194,null,{"$f":"RIGHT(Data!C1205,10)","v":""},null,null,null,null,null,null,null,{"$f":"IFERROR($U$3*Data!O1205/SQRT(COUNT(Data!F1205:J1205)),\"\")","v":""},"","","","","",{"$f":"IFERROR((Data!K1205-$F$4),\"\")","v":""},{"$f":"IF(AND(F1205<>\"\",G1205<>\"\",H1205<>\"\",I1205<>\"\",J1205<>\"\"),Data!L1205-$F$4,\"\")","v":""},"","","","",{"$f":"IF(F1205<>\"\",STDEV($Q$12:Q1205),\"\")","v":""},""]
[1195,null,{"$f":"RIGHT(Data!C1206,10)","v":""},null,null,null,null,null,null,null,{"$f":"IFERROR($U$3*Data!O1206/SQRT(COUNT(Data!F1206:J1206)),\"\")","v":""},"","","","","",{"$f":"IFERROR((Data!K1206-$F$4),\"\")","v":""},{"$f":"IF(AND(F1206<>\"\",G1206<>\"\",H1206<>\"\",I1206<>\"\",J1206<>\"\"),Data!L1206-$F$4,\"\")","v":""},"","","","",{"$f":"IF(F1206<>\"\",STDEV($Q$12:Q1206),\"\")","v":""},""]
[1196,null,{"$f":"RIGHT(Data!C1207,10)","v":""},null,null,null,null,null,null,null,{"$f":"IFERROR($U$3*Data!O1207/SQRT(COUNT(Data!F1207:J1207)),\"\")","v":""},"","","","","",{"$f":"IFERROR((Data!K1207-$F$4),\"\")","v":""},{"$f":"IF(AND(F1207<>\"\",G1207<>\"\",H1207<>\"\",I1207<>\"\",J1207<>\"\"),Data!L1207-$F$4,\"\")","v":""},"","","","",{"$f":"IF(F1207<>\"\",STDEV($Q$12:Q1207),\"\")","v":""},""]
[1197,null,{"$f":"RIGHT(Data!C1208,10)","v":""},null,null,null,null,null,null,null,{"$f":"IFERROR($U$3*Data!O1208/SQRT(COUNT(Data!F1208:J1208)),\"\")","v":""},"","","","","",{"$f":"IFERROR((Data!K1208-$F$4),\"\")","v":""},{"$f":"IF(AND(F1208<>\"\",G1208<>\"\",H1208<>\"\",I1208<>\"\",J1208<>\"\"),Data!L1208-$F$4,\"\")","v":""},"","","","",{"$f":"IF(F1208<>\"\",STDEV($Q$12:Q1208),\"\")","v":""},""]
[1198,null,{"$f":"RIGHT(Data!C1209,10)","v":""},null,null,null,null,null,null,null,{"$f":"IFERROR($U$3*Data!O1209/SQRT(COUNT(Data!F1209:J1209)),\"\")","v":""},"","","","","",{"$f":"IFERROR((Data!K1209-$F$4),\"\")","v":""},{"$f":"IF(AND(F1209<>\"\",G1209<>\"\",H1209<>\"\",I1209<>\"\",J1209<>\"\"),Data!L1209-$F$4,\"\")","v":""},"","","","",{"$f":"IF(F1209<>\"\",STDEV($Q$12:Q1209),\"\")","v":""},""]
[1199,null,{"$f":"RIGHT(Data!C1210,10)","v":""},null,null,null,null,null,null,null,{"$f":"IFERROR($U$3*Data!O1210/SQRT(COUNT(Data!F1210:J1210)),\"\")","v":""},"","","","","",{"$f":"IFERROR((Data!K1210-$F$4),\"\")","v":""},{"$f":"IF(AND(F1210<>\"\",G1210<>\"\",H1210<>\"\",I1210<>\"\",J1210<>\"\"),Data!L1210-$F$4,\"\")","v":""},"","","","",{"$f":"IF(F1210<>\"\",STDEV($Q$12:Q1210),\"\")","v":""},""]
[1200,null,{"$f":"RIGHT(Data!C1211,10)","v":""},null,null,null,null,null,null,null,{"$f":"IFERROR($U$3*Data!O1211/SQRT(COUNT(Data!F1211:J1211)),\"\")","v":""},"","","","","",{"$f":"IFERROR((Data!K1211-$F$4),\"\")","v":""},{"$f":"IF(AND(F1211<>\"\",G1211<>\"\",H1211<>\"\",I1211<>\"\",J1211<>\"\"),Data!L1211-$F$4,\"\")","v":""},"","","","",{"$f":"IF(F1211<>\"\",STDEV($Q$12:Q1211),\"\")","v":""},""]
[1201,null,{"$f":"RIGHT(Data!C1212,10)","v":""},null,null,null,null,null,null,null,{"$f":"IFERROR($U$3*Data!O1212/SQRT(COUNT(Data!F1212:J1212)),\"\")","v":""},"","","","","",{"$f":"IFERROR((Data!K1212-$F$4),\"\")","v":""},{"$f":"IF(AND(F1212<>\"\",G1212<>\"\",H1212<>\"\",I1212<>\"\",J1212<>\"\"),Data!L1212-$F$4,\"\")","v":""},"","","","",{"$f":"IF(F1212<>\"\",STDEV($Q$12:Q1212),\"\")","v":""},""]
[1202,null,{"$f":"RIGHT(Data!C1213,10)","v":""},null,null,null,null,null,null,null,{"$f":"IFERROR($U$3*Data!O1213/SQRT(COUNT(Data!F1213:J1213)),\"\")","v":""},"","","","","",{"$f":"IFERROR((Data!K1213-$F$4),\"\")","v":""},{"$f":"IF(AND(F1213<>\"\",G1213<>\"\",H1213<>\"\",I1213<>\"\",J1213<>\"\"),Data!L1213-$F$4,\"\")","v":""},"","","","",{"$f":"IF(F1213<>\"\",STDEV($Q$12:Q1213),\"\")","v":""},""]
[1203,null,{"$f":"RIGHT(Data!C1214,10)","v":""},null,null,null,null,null,null,null,{"$f":"IFERROR($U$3*Data!O1214/SQRT(COUNT(Data!F1214:J1214)),\"\")","v":""},"","","","","",{"$f":"IFERROR((Data!K1214-$F$4),\"\")","v":""},{"$f":"IF(AND(F1214<>\"\",G1214<>\"\",H1214<>\"\",I1214<>\"\",J1214<>\"\"),Data!L1214-$F$4,\"\")","v":""},"","","","",{"$f":"IF(F1214<>\"\",STDEV($Q$12:Q1214),\"\")","v":""},""]
[1204,null,{"$f":"RIGHT(Data!C1215,10)","v":""},null,null,null,null,null,null,null,{"$f":"IFERROR($U$3*Data!O1215/SQRT(COUNT(Data!F1215:J1215)),\"\")","v":""},"","","","","",{"$f":"IFERROR((Data!K1215-$F$4),\"\")","v":""},{"$f":"IF(AND(F1215<>\"\",G1215<>\"\",H1215<>\"\",I1215<>\"\",J1215<>\"\"),Data!L1215-$F$4,\"\")","v":""},"","","","",{"$f":"IF(F1215<>\"\",STDEV($Q$12:Q1215),\"\")","v":""},""]
[1205,null,{"$f":"RIGHT(Data!C1216,10)","v":""},null,null,null,null,null,null,null,{"$f":"IFERROR($U$3*Data!O1216/SQRT(COUNT(Data!F1216:J1216)),\"\")","v":""},"","","","","",{"$f":"IFERROR((Data!K1216-$F$4),\"\")","v":""},{"$f":"IF(AND(F1216<>\"\",G1216<>\"\",H1216<>\"\",I1216<>\"\",J1216<>\"\"),Data!L1216-$F$4,\"\")","v":""},"","","","",{"$f":"IF(F1216<>\"\",STDEV($Q$12:Q1216),\"\")","v":""},""]
[1206,null,{"$f":"RIGHT(Data!C1217,10)","v":""},null,null,null,null,null,null,null,{"$f":"IFERROR($U$3*Data!O1217/SQRT(COUNT(Data!F1217:J1217)),\"\")","v":""},"","","","","",{"$f":"IFERROR((Data!K1217-$F$4),\"\")","v":""},{"$f":"IF(AND(F1217<>\"\",G1217<>\"\",H1217<>\"\",I1217<>\"\",J1217<>\"\"),Data!L1217-$F$4,\"\")","v":""},"","","","",{"$f":"IF(F1217<>\"\",STDEV($Q$12:Q1217),\"\")","v":""},""]
[1207,null,{"$f":"RIGHT(Data!C1218,10)","v":""},null,null,null,null,null,null,null,{"$f":"IFERROR($U$3*Data!O1218/SQRT(COUNT(Data!F1218:J1218)),\"\")","v":""},"","","","","",{"$f":"IFERROR((Data!K1218-$F$4),\"\")","v":""},{"$f":"IF(AND(F1218<>\"\",G1218<>\"\",H1218<>\"\",I1218<>\"\",J1218<>\"\"),Data!L1218-$F$4,\"\")","v":""},"","","","",{"$f":"IF(F1218<>\"\",STDEV($Q$12:Q1218),\"\")","v":""},""]
[1208,null,{"$f":"RIGHT(Data!C1219,10)","v":""},null,null,null,null,null,null,null,{"$f":"IFERROR($U$3*Data!O1219/SQRT(COUNT(Data!F1219:J1219)),\"\")","v":""},"","","","","",{"$f":"IFERROR((Data!K1219-$F$4),\"\")","v":""},{"$f":"IF(AND(F1219<>\"\",G1219<>\"\",H1219<>\"\",I1219<>\"\",J1219<>\"\"),Data!L1219-$F$4,\"\")","v":""},"","","","",{"$f":"IF(F1219<>\"\",STDEV($Q$12:Q1219),\"\")","v":""},""]
[1209,null,{"$f":"RIGHT(Data!C1220,10)","v":""},null,null,null,null,null,null,null,{"$f":"IFERROR($U$3*Data!O1220/SQRT(COUNT(Data!F1220:J1220)),\"\")","v":""},"","","","","",{"$f":"IFERROR((Data!K1220-$F$4),\"\")","v":""},{"$f":"IF(AND(F1220<>\"\",G1220<>\"\",H1220<>\"\",I1220<>\"\",J1220<>\"\"),Data!L1220-$F$4,\"\")","v":""},"","","","",{"$f":"IF(F1220<>\"\",STDEV($Q$12:Q1220),\"\")","v":""},""]
[1210,null,{"$f":"RIGHT(Data!C1221,10)","v":""},null,null,null,null,null,null,null,{"$f":"IFERROR($U$3*Data!O1221/SQRT(COUNT(Data!F1221:J1221)),\"\")","v":""},"","","","","",{"$f":"IFERROR((Data!K1221-$F$4),\"\")","v":""},{"$f":"IF(AND(F1221<>\"\",G1221<>\"\",H1221<>\"\",I1221<>\"\",J1221<>\"\"),Data!L1221-$F$4,\"\")","v":""},"","","","",{"$f":"IF(F1221<>\"\",STDEV($Q$12:Q1221),\"\")","v":""},""]
[1211,null,{"$f":"RIGHT(Data!C1222,10)","v":""},null,null,null,null,null,null,null,{"$f":"IFERROR($U$3*Data!O1222/SQRT(COUNT(Data!F1222:J1222)),\"\")","v":""},"","","","","",{"$f":"IFERROR((Data!K1222-$F$4),\"\")","v":""},{"$f":"IF(AND(F1222<>\"\",G1222<>\"\",H1222<>\"\",I1222<>\"\",J1222<>\"\"),Data!L1222-$F$4,\"\")","v":""},"","","","",{"$f":"IF(F1222<>\"\",STDEV($Q$12:Q1222),\"\")","v":""},""]
[1212,null,{"$f":"RIGHT(Data!C1223,10)","v":""},null,null,null,null,null,null,null,{"$f":"IFERROR($U$3*Data!O1223/SQRT(COUNT(Data!F1223:J1223)),\"\")","v":""},"","","","","",{"$f":"IFERROR((Data!K1223-$F$4),\"\")","v":""},{"$f":"IF(AND(F1223<>\"\",G1223<>\"\",H1223<>\"\",I1223<>\"\",J1223<>\"\"),Data!L1223-$F$4,\"\")","v":""},"","","","",{"$f":"IF(F1223<>\"\",STDEV($Q$12:Q1223),\"\")","v":""},""]
[1213,null,{"$f":"RIGHT(Data!C1224,10)","v":""},null,null,null,null,null,null,null,{"$f":"IFERROR($U$3*Data!O1224/SQRT(COUNT(Data!F1224:J1224)),\"\")","v":""},"","","","","",{"$f":"IFERROR((Data!K1224-$F$4),\"\")","v":""},{"$f":"IF(AND(F1224<>\"\",G1224<>\"\",H1224<>\"\",I1224<>\"\",J1224<>\"\"),Data!L1224-$F$4,\"\")","v":""},"","","","",{"$f":"IF(F1224<>\"\",STDEV($Q$12:Q1224),\"\")","v":""},""]
[1214,null,{"$f":"RIGHT(Data!C1225,10)","v":""},null,null,null,null,null,null,null,{"$f":"IFERROR($U$3*Data!O1225/SQRT(COUNT(Data!F1225:J1225)),\"\")","v":""},"","","","","",{"$f":"IFERROR((Data!K1225-$F$4),\"\")","v":""},{"$f":"IF(AND(F1225<>\"\",G1225<>\"\",H1225<>\"\",I1225<>\"\",J1225<>\"\"),Data!L1225-$F$4,\"\")","v":""},"","","","",{"$f":"IF(F1225<>\"\",STDEV($Q$12:Q1225),\"\")","v":""},""]
[1215,null,{"$f":"RIGHT(Data!C1226,10)","v":""},null,null,null,null,null,null,null,{"$f":"IFERROR($U$3*Data!O1226/SQRT(COUNT(Data!F1226:J1226)),\"\")","v":""},"","","","","",{"$f":"IFERROR((Data!K1226-$F$4),\"\")","v":""},{"$f":"IF(AND(F1226<>\"\",G1226<>\"\",H1226<>\"\",I1226<>\"\",J1226<>\"\"),Data!L1226-$F$4,\"\")","v":""},"","","","",{"$f":"IF(F1226<>\"\",STDEV($Q$12:Q1226),\"\")","v":""},""]
[1216,null,{"$f":"RIGHT(Data!C1227,10)","v":""},null,null,null,null,null,null,null,{"$f":"IFERROR($U$3*Data!O1227/SQRT(COUNT(Data!F1227:J1227)),\"\")","v":""},"","","","","",{"$f":"IFERROR((Data!K1227-$F$4),\"\")","v":""},{"$f":"IF(AND(F1227<>\"\",G1227<>\"\",H1227<>\"\",I1227<>\"\",J1227<>\"\"),Data!L1227-$F$4,\"\")","v":""},"","","","",{"$f":"IF(F1227<>\"\",STDEV($Q$12:Q1227),\"\")","v":""},""]
[1217,null,{"$f":"RIGHT(Data!C1228,10)","v":""},null,null,null,null,null,null,null,{"$f":"IFERROR($U$3*Data!O1228/SQRT(COUNT(Data!F1228:J1228)),\"\")","v":""},"","",{"$f":"IF(COUNT(F1228:J1228)>=5,STDEV(F1228:J1228)*$U$3/SQRT((COUNT(F1228:J1228))),\"\")","v":""},"","",{"$f":"IFERROR((Data!K1228-$F$4),\"\")","v":""},{"$f":"IF(AND(F1228<>\"\",G1228<>\"\",H1228<>\"\",I1228<>\"\",J1228<>\"\"),Data!L1228-$F$4,\"\")","v":""},{"$f":"IF(O1228<>\"\",FIXED(X1228,1) & \" ± \" & FIXED(O1228+ABS(R1228),2),\"\")","v":""},"","","",{"$f":"IF(F1228<>\"\",STDEV($Q$12:Q1228),\"\")","v":""},{"$f":"IF(F1228<>\"\",AVERAGE(F1228:J1228),\"\")","v":""}]
[1218,null,{"$f":"RIGHT(Data!C1229,10)","v":""},null,null,null,null,null,null,null,{"$f":"IFERROR($U$3*Data!O1229/SQRT(COUNT(Data!F1229:J1229)),\"\")","v":""},{"$f":"IF(F1229<>\"\",V1229*W1229/SQRT(A1229),\"\")","v":""},{"$f":"IF(F1229<>\"\",$U$4*SQRT($U$7^2+L1229^2+K1229^2+$U$5^2),\"\")","v":""},"",{"$f":"IFERROR($U$4*SQRT($U$7^2+L1229^2+K1229^2+$U$5^2+N1229^2),\"\")","v":""},{"$f":"IF(AND(F1229<>\"\",G1229<>\"\",H1229<>\"\",I1229<>\"\",J1229<>\"\"),AVERAGE(F1229:J1229),\"\")","v":""},{"$f":"IFERROR((Data!K1229-$F$4),\"\")","v":""},{"$f":"IF(AND(F1229<>\"\",G1229<>\"\",H1229<>\"\",I1229<>\"\",J1229<>\"\"),Data!L1229-$F$4,\"\")","v":""},"",{"$f":"IF(F1229<>\"\",FIXED(AVERAGE(F1229:J1229)-R1229,1) & \" ± \" & FIXED(O1229,2),\"\")","v":""},{"$f":"IF(IO1229=\"\",\"\",IO1229-1)","v":""},{"$f":"IF(F1229<>\"\",TINV(1-0.68,A1229-1),\"\")","v":""},{"$f":"IF(F1229<>\"\",STDEV($Q$12:Q1229),\"\")","v":""},""]
[1219,null,{"$f":"RIGHT(Data!C1230,10)","v":""},null,null,null,null,null,null,null,{"$f":"IFERROR($U$3*Data!O1230/SQRT(COUNT(Data!F1230:J1230)),\"\")","v":""},"","","","","",{"$f":"IFERROR((Data!K1230-$F$4),\"\")","v":""},{"$f":"IF(AND(F1230<>\"\",G1230<>\"\",H1230<>\"\",I1230<>\"\",J1230<>\"\"),Data!L1230-$F$4,\"\")","v":""},"","","","",{"$f":"IF(F1230<>\"\",STDEV($Q$12:Q1230),\"\")","v":""},""]
[1220,null,{"$f":"RIGHT(Data!C1231,10)","v":""},null,null,null,null,null,null,null,{"$f":"IFERROR($U$3*Data!O1231/SQRT(COUNT(Data!F1231:J1231)),\"\")","v":""},"","","","","",{"$f":"IFERROR((Data!K1231-$F$4),\"\")","v":""},{"$f":"IF(AND(F1231<>\"\",G1231<>\"\",H1231<>\"\",I1231<>\"\",J1231<>\"\"),Data!L1231-$F$4,\"\")","v":""},"","","","",{"$f":"IF(F1231<>\"\",STDEV($Q$12:Q1231),\"\")","v":""},""]
[1221,null,{"$f":"RIGHT(Data!C1232,10)","v":""},null,null,null,null,null,null,null,{"$f":"IFERROR($U$3*Data!O1232/SQRT(COUNT(Data!F1232:J1232)),\"\")","v":""},"","","","","",{"$f":"IFERROR((Data!K1232-$F$4),\"\")","v":""},{"$f":"IF(AND(F1232<>\"\",G1232<>\"\",H1232<>\"\",I1232<>\"\",J1232<>\"\"),Data!L1232-$F$4,\"\")","v":""},"","","","",{"$f":"IF(F1232<>\"\",STDEV($Q$12:Q1232),\"\")","v":""},""]
[1222,null,{"$f":"RIGHT(Data!C1233,10)","v":""},null,null,null,null,null,null,null,{"$f":"IFERROR($U$3*Data!O1233/SQRT(COUNT(Data!F1233:J1233)),\"\")","v":""},"","","","","",{"$f":"IFERROR((Data!K1233-$F$4),\"\")","v":""},{"$f":"IF(AND(F1233<>\"\",G1233<>\"\",H1233<>\"\",I1233<>\"\",J1233<>\"\"),Data!L1233-$F$4,\"\")","v":""},"","","","",{"$f":"IF(F1233<>\"\",STDEV($Q$12:Q1233),\"\")","v":""},""]
[1223,null,{"$f":"RIGHT(Data!C1234,10)","v":""},null,null,null,null,null,null,null,{"$f":"IFERROR($U$3*Data!O1234/SQRT(COUNT(Data!F1234:J1234)),\"\")","v":""},"","","","","",{"$f":"IFERROR((Data!K1234-$F$4),\"\")","v":""},{"$f":"IF(AND(F1234<>\"\",G1234<>\"\",H1234<>\"\",I1234<>\"\",J1234<>\"\"),Data!L1234-$F$4,\"\")","v":""},"","","","",{"$f":"IF(F1234<>\"\",STDEV($Q$12:Q1234),\"\")","v":""},""]
[1224,null,{"$f":"RIGHT(Data!C1235,10)","v":""},null,null,null,null,null,null,null,{"$f":"IFERROR($U$3*Data!O1235/SQRT(COUNT(Data!F1235:J1235)),\"\")","v":""},"","","","","",{"$f":"IFERROR((Data!K1235-$F$4),\"\")","v":""},{"$f":"IF(AND(F1235<>\"\",G1235<>\"\",H1235<>\"\",I1235<>\"\",J1235<>\"\"),Data!L1235-$F$4,\"\")","v":""},"","","","",{"$f":"IF(F1235<>\"\",STDEV($Q$12:Q1235),\"\")","v":""},""]
[1225,null,{"$f":"RIGHT(Data!C1236,10)","v":""},null,null,null,null,null,null,null,{"$f":"IFERROR($U$3*Data!O1236/SQRT(COUNT(Data!F1236:J1236)),\"\")","v":""},"","","","","",{"$f":"IFERROR((Data!K1236-$F$4),\"\")","v":""},{"$f":"IF(AND(F1236<>\"\",G1236<>\"\",H1236<>\"\",I1236<>\"\",J1236<>\"\"),Data!L1236-$F$4,\"\")","v":""},"","","","",{"$f":"IF(F1236<>\"\",STDEV($Q$12:Q1236),\"\")","v":""},""]
[1226,null,{"$f":"RIGHT(Data!C1237,10)","v":""},null,null,null,null,null,null,null,{"$f":"IFERROR($U$3*Data!O1237/SQRT(COUNT(Data!F1237:J1237)),\"\")","v":""},"","","","","",{"$f":"IFERROR((Data!K1237-$F$4),\"\")","v":""},{"$f":"IF(AND(F1237<>\"\",G1237<>\"\",H1237<>\"\",I1237<>\"\",J1237<>\"\"),Data!L1237-$F$4,\"\")","v":""},"","","","",{"$f":"IF(F1237<>\"\",STDEV($Q$12:Q1237),\"\")","v":""},""]
[1227,null,{"$f":"RIGHT(Data!C1238,10)","v":""},null,null,null,null,null,null,null,{"$f":"IFERROR($U$3*Data!O1238/SQRT(COUNT(Data!F1238:J1238)),\"\")","v":""},"","","","","",{"$f":"IFERROR((Data!K1238-$F$4),\"\")","v":""},{"$f":"IF(AND(F1238<>\"\",G1238<>\"\",H1238<>\"\",I1238<>\"\",J1238<>\"\"),Data!L1238-$F$4,\"\")","v":""},"","","","",{"$f":"IF(F1238<>\"\",STDEV($Q$12:Q1238),\"\")","v":""},""]
[1228,null,{"$f":"RIGHT(Data!C1239,10)","v":""},null,null,null,null,null,null,null,{"$f":"IFERROR($U$3*Data!O1239/SQRT(COUNT(Data!F1239:J1239)),\"\")","v":""},"","","","","",{"$f":"IFERROR((Data!K1239-$F$4),\"\")","v":""},{"$f":"IF(AND(F1239<>\"\",G1239<>\"\",H1239<>\"\",I1239<>\"\",J1239<>\"\"),Data!L1239-$F$4,\"\")","v":""},"","","","",{"$f":"IF(F1239<>\"\",STDEV($Q$12:Q1239),\"\")","v":""},""]
[1229,null,{"$f":"RIGHT(Data!C1240,10)","v":""},null,null,null,null,null,null,null,{"$f":"IFERROR($U$3*Data!O1240/SQRT(COUNT(Data!F1240:J1240)),\"\")","v":""},"","","","","",{"$f":"IFERROR((Data!K1240-$F$4),\"\")","v":""},{"$f":"IF(AND(F1240<>\"\",G1240<>\"\",H1240<>\"\",I1240<>\"\",J1240<>\"\"),Data!L1240-$F$4,\"\")","v":""},"","","","",{"$f":"IF(F1240<>\"\",STDEV($Q$12:Q1240),\"\")","v":""},""]
[1230,null,{"$f":"RIGHT(Data!C1241,10)","v":""},null,null,null,null,null,null,null,{"$f":"IFERROR($U$3*Data!O1241/SQRT(COUNT(Data!F1241:J1241)),\"\")","v":""},"","","","","",{"$f":"IFERROR((Data!K1241-$F$4),\"\")","v":""},{"$f":"IF(AND(F1241<>\"\",G1241<>\"\",H1241<>\"\",I1241<>\"\",J1241<>\"\"),Data!L1241-$F$4,\"\")","v":""},"","","","",{"$f":"IF(F1241<>\"\",STDEV($Q$12:Q1241),\"\")","v":""},""]
[1231,null,{"$f":"RIGHT(Data!C1242,10)","v":""},null,null,null,null,null,null,null,{"$f":"IFERROR($U$3*Data!O1242/SQRT(COUNT(Data!F1242:J1242)),\"\")","v":""},"","","","","",{"$f":"IFERROR((Data!K1242-$F$4),\"\")","v":""},{"$f":"IF(AND(F1242<>\"\",G1242<>\"\",H1242<>\"\",I1242<>\"\",J1242<>\"\"),Data!L1242-$F$4,\"\")","v":""},"","","","",{"$f":"IF(F1242<>\"\",STDEV($Q$12:Q1242),\"\")","v":""},""]
[1232,null,{"$f":"RIGHT(Data!C1243,10)","v":""},null,null,null,null,null,null,null,{"$f":"IFERROR($U$3*Data!O1243/SQRT(COUNT(Data!F1243:J1243)),\"\")","v":""},"","","","","",{"$f":"IFERROR((Data!K1243-$F$4),\"\")","v":""},{"$f":"IF(AND(F1243<>\"\",G1243<>\"\",H1243<>\"\",I1243<>\"\",J1243<>\"\"),Data!L1243-$F$4,\"\")","v":""},"","","","",{"$f":"IF(F1243<>\"\",STDEV($Q$12:Q1243),\"\")","v":""},""]
[1233,null,{"$f":"RIGHT(Data!C1244,10)","v":""},null,null,null,null,null,null,null,{"$f":"IFERROR($U$3*Data!O1244/SQRT(COUNT(Data!F1244:J1244)),\"\")","v":""},"","","","","",{"$f":"IFERROR((Data!K1244-$F$4),\"\")","v":""},{"$f":"IF(AND(F1244<>\"\",G1244<>\"\",H1244<>\"\",I1244<>\"\",J1244<>\"\"),Data!L1244-$F$4,\"\")","v":""},"","","","",{"$f":"IF(F1244<>\"\",STDEV($Q$12:Q1244),\"\")","v":""},""]
[1234,null,{"$f":"RIGHT(Data!C1245,10)","v":""},null,null,null,null,null,null,null,{"$f":"IFERROR($U$3*Data!O1245/SQRT(COUNT(Data!F1245:J1245)),\"\")","v":""},"","","","","",{"$f":"IFERROR((Data!K1245-$F$4),\"\")","v":""},{"$f":"IF(AND(F1245<>\"\",G1245<>\"\",H1245<>\"\",I1245<>\"\",J1245<>\"\"),Data!L1245-$F$4,\"\")","v":""},"","","","",{"$f":"IF(F1245<>\"\",STDEV($Q$12:Q1245),\"\")","v":""},""]
[1235,null,{"$f":"RIGHT(Data!C1246,10)","v":""},null,null,null,null,null,null,null,{"$f":"IFERROR($U$3*Data!O1246/SQRT(COUNT(Data!F1246:J1246)),\"\")","v":""},"","","","","",{"$f":"IFERROR((Data!K1246-$F$4),\"\")","v":""},{"$f":"IF(AND(F1246<>\"\",G1246<>\"\",H1246<>\"\",I1246<>\"\",J1246<>\"\"),Data!L1246-$F$4,\"\")","v":""},"","","","",{"$f":"IF(F1246<>\"\",STDEV($Q$12:Q1246),\"\")","v":""},""]
[1236,null,{"$f":"RIGHT(Data!C1247,10)","v":""},null,null,null,null,null,null,null,{"$f":"IFERROR($U$3*Data!O1247/SQRT(COUNT(Data!F1247:J1247)),\"\")","v":""},"","","","","",{"$f":"IFERROR((Data!K1247-$F$4),\"\")","v":""},{"$f":"IF(AND(F1247<>\"\",G1247<>\"\",H1247<>\"\",I1247<>\"\",J1247<>\"\"),Data!L1247-$F$4,\"\")","v":""},"","","","",{"$f":"IF(F1247<>\"\",STDEV($Q$12:Q1247),\"\")","v":""},""]
[1237,null,{"$f":"RIGHT(Data!C1248,10)","v":""},null,null,null,null,null,null,null,{"$f":"IFERROR($U$3*Data!O1248/SQRT(COUNT(Data!F1248:J1248)),\"\")","v":""},"","","","","",{"$f":"IFERROR((Data!K1248-$F$4),\"\")","v":""},{"$f":"IF(AND(F1248<>\"\",G1248<>\"\",H1248<>\"\",I1248<>\"\",J1248<>\"\"),Data!L1248-$F$4,\"\")","v":""},"","","","",{"$f":"IF(F1248<>\"\",STDEV($Q$12:Q1248),\"\")","v":""},""]
[1238,null,{"$f":"RIGHT(Data!C1249,10)","v":""},null,null,null,null,null,null,null,{"$f":"IFERROR($U$3*Data!O1249/SQRT(COUNT(Data!F1249:J1249)),\"\")","v":""},"","","","","",{"$f":"IFERROR((Data!K1249-$F$4),\"\")","v":""},{"$f":"IF(AND(F1249<>\"\",G1249<>\"\",H1249<>\"\",I1249<>\"\",J1249<>\"\"),Data!L1249-$F$4,\"\")","v":""},"","","","",{"$f":"IF(F1249<>\"\",STDEV($Q$12:Q1249),\"\")","v":""},""]
[1239,null,{"$f":"RIGHT(Data!C1250,10)","v":""},null,null,null,null,null,null,null,{"$f":"IFERROR($U$3*Data!O1250/SQRT(COUNT(Data!F1250:J1250)),\"\")","v":""},"","","","","",{"$f":"IFERROR((Data!K1250-$F$4),\"\")","v":""},{"$f":"IF(AND(F1250<>\"\",G1250<>\"\",H1250<>\"\",I1250<>\"\",J1250<>\"\"),Data!L1250-$F$4,\"\")","v":""},"","","","",{"$f":"IF(F1250<>\"\",STDEV($Q$12:Q1250),\"\")","v":""},""]
[1240,null,{"$f":"RIGHT(Data!C1251,10)","v":""},null,null,null,null,null,null,null,{"$f":"IFERROR($U$3*Data!O1251/SQRT(COUNT(Data!F1251:J1251)),\"\")","v":""},"","","","","",{"$f":"IFERROR((Data!K1251-$F$4),\"\")","v":""},{"$f":"IF(AND(F1251<>\"\",G1251<>\"\",H1251<>\"\",I1251<>\"\",J1251<>\"\"),Data!L1251-$F$4,\"\")","v":""},"","","","",{"$f":"IF(F1251<>\"\",STDEV($Q$12:Q1251),\"\")","v":""},""]
[1241,null,{"$f":"RIGHT(Data!C1252,10)","v":""},null,null,null,null,null,null,null,{"$f":"IFERROR($U$3*Data!O1252/SQRT(COUNT(Data!F1252:J1252)),\"\")","v":""},"","","","","",{"$f":"IFERROR((Data!K1252-$F$4),\"\")","v":""},{"$f":"IF(AND(F1252<>\"\",G1252<>\"\",H1252<>\"\",I1252<>\"\",J1252<>\"\"),Data!L1252-$F$4,\"\")","v":""},"","","","",{"$f":"IF(F1252<>\"\",STDEV($Q$12:Q1252),\"\")","v":""},""]
[1242,null,{"$f":"RIGHT(Data!C1253,10)","v":""},null,null,null,null,null,null,null,{"$f":"IFERROR($U$3*Data!O1253/SQRT(COUNT(Data!F1253:J1253)),\"\")","v":""},"","","","","",{"$f":"IFERROR((Data!K1253-$F$4),\"\")","v":""},{"$f":"IF(AND(F1253<>\"\",G1253<>\"\",H1253<>\"\",I1253<>\"\",J1253<>\"\"),Data!L1253-$F$4,\"\")","v":""},"","","","",{"$f":"IF(F1253<>\"\",STDEV($Q$12:Q1253),\"\")","v":""},""]
[1243,null,{"$f":"RIGHT(Data!C1254,10)","v":""},null,null,null,null,null,null,null,{"$f":"IFERROR($U$3*Data!O1254/SQRT(COUNT(Data!F1254:J1254)),\"\")","v":""},"","","","","",{"$f":"IFERROR((Data!K1254-$F$4),\"\")","v":""},{"$f":"IF(AND(F1254<>\"\",G1254<>\"\",H1254<>\"\",I1254<>\"\",J1254<>\"\"),Data!L1254-$F$4,\"\")","v":""},"","","","",{"$f":"IF(F1254<>\"\",STDEV($Q$12:Q1254),\"\")","v":""},""]
[1244,null,{"$f":"RIGHT(Data!C1255,10)","v":""},null,null,null,null,null,null,null,{"$f":"IFERROR($U$3*Data!O1255/SQRT(COUNT(Data!F1255:J1255)),\"\")","v":""},"","","","","",{"$f":"IFERROR((Data!K1255-$F$4),\"\")","v":""},{"$f":"IF(AND(F1255<>\"\",G1255<>\"\",H1255<>\"\",I1255<>\"\",J1255<>\"\"),Data!L1255-$F$4,\"\")","v":""},"","","","",{"$f":"IF(F1255<>\"\",STDEV($Q$12:Q1255),\"\")","v":""},""]
[1245,null,{"$f":"RIGHT(Data!C1256,10)","v":""},null,null,null,null,null,null,null,{"$f":"IFERROR($U$3*Data!O1256/SQRT(COUNT(Data!F1256:J1256)),\"\")","v":""},"","","","","",{"$f":"IFERROR((Data!K1256-$F$4),\"\")","v":""},{"$f":"IF(AND(F1256<>\"\",G1256<>\"\",H1256<>\"\",I1256<>\"\",J1256<>\"\"),Data!L1256-$F$4,\"\")","v":""},"","","","",{"$f":"IF(F1256<>\"\",STDEV($Q$12:Q1256),\"\")","v":""},""]
[1246,null,{"$f":"RIGHT(Data!C1257,10)","v":""},null,null,null,null,null,null,null,{"$f":"IFERROR($U$3*Data!O1257/SQRT(COUNT(Data!F1257:J1257)),\"\")","v":""},"","","","","",{"$f":"IFERROR((Data!K1257-$F$4),\"\")","v":""},{"$f":"IF(AND(F1257<>\"\",G1257<>\"\",H1257<>\"\",I1257<>\"\",J1257<>\"\"),Data!L1257-$F$4,\"\")","v":""},"","","","",{"$f":"IF(F1257<>\"\",STDEV($Q$12:Q1257),\"\")","v":""},""]
[1247,null,{"$f":"RIGHT(Data!C1258,10)","v":""},null,null,null,null,null,null,null,{"$f":"IFERROR($U$3*Data!O1258/SQRT(COUNT(Data!F1258:J1258)),\"\")","v":""},"","","","","",{"$f":"IFERROR((Data!K1258-$F$4),\"\")","v":""},{"$f":"IF(AND(F1258<>\"\",G1258<>\"\",H1258<>\"\",I1258<>\"\",J1258<>\"\"),Data!L1258-$F$4,\"\")","v":""},"","","","",{"$f":"IF(F1258<>\"\",STDEV($Q$12:Q1258),\"\")","v":""},""]
[1248,null,{"$f":"RIGHT(Data!C1259,10)","v":""},null,null,null,null,null,null,null,{"$f":"IFERROR($U$3*Data!O1259/SQRT(COUNT(Data!F1259:J1259)),\"\")","v":""},"","","","","",{"$f":"IFERROR((Data!K1259-$F$4),\"\")","v":""},{"$f":"IF(AND(F1259<>\"\",G1259<>\"\",H1259<>\"\",I1259<>\"\",J1259<>\"\"),Data!L1259-$F$4,\"\")","v":""},"","","","",{"$f":"IF(F1259<>\"\",STDEV($Q$12:Q1259),\"\")","v":""},""]
[1249,null,{"$f":"RIGHT(Data!C1260,10)","v":""},null,null,null,null,null,null,null,{"$f":"IFERROR($U$3*Data!O1260/SQRT(COUNT(Data!F1260:J1260)),\"\")","v":""},"","","","","",{"$f":"IFERROR((Data!K1260-$F$4),\"\")","v":""},{"$f":"IF(AND(F1260<>\"\",G1260<>\"\",H1260<>\"\",I1260<>\"\",J1260<>\"\"),Data!L1260-$F$4,\"\")","v":""},"","","","",{"$f":"IF(F1260<>\"\",STDEV($Q$12:Q1260),\"\")","v":""},""]
[1250,null,{"$f":"RIGHT(Data!C1261,10)","v":""},null,null,null,null,null,null,null,{"$f":"IFERROR($U$3*Data!O1261/SQRT(COUNT(Data!F1261:J1261)),\"\")","v":""},"","","","","",{"$f":"IFERROR((Data!K1261-$F$4),\"\")","v":""},{"$f":"IF(AND(F1261<>\"\",G1261<>\"\",H1261<>\"\",I1261<>\"\",J1261<>\"\"),Data!L1261-$F$4,\"\")","v":""},"","","","",{"$f":"IF(F1261<>\"\",STDEV($Q$12:Q1261),\"\")","v":""},""]
[1251,null,{"$f":"RIGHT(Data!C1262,10)","v":""},null,null,null,null,null,null,null,{"$f":"IFERROR($U$3*Data!O1262/SQRT(COUNT(Data!F1262:J1262)),\"\")","v":""},"","","","","",{"$f":"IFERROR((Data!K1262-$F$4),\"\")","v":""},{"$f":"IF(AND(F1262<>\"\",G1262<>\"\",H1262<>\"\",I1262<>\"\",J1262<>\"\"),Data!L1262-$F$4,\"\")","v":""},"","","","",{"$f":"IF(F1262<>\"\",STDEV($Q$12:Q1262),\"\")","v":""},""]
[1252,null,{"$f":"RIGHT(Data!C1263,10)","v":""},null,null,null,null,null,null,null,{"$f":"IFERROR($U$3*Data!O1263/SQRT(COUNT(Data!F1263:J1263)),\"\")","v":""},"","","","","",{"$f":"IFERROR((Data!K1263-$F$4),\"\")","v":""},{"$f":"IF(AND(F1263<>\"\",G1263<>\"\",H1263<>\"\",I1263<>\"\",J1263<>\"\"),Data!L1263-$F$4,\"\")","v":""},"","","","",{"$f":"IF(F1263<>\"\",STDEV($Q$12:Q1263),\"\")","v":""},""]
[1253,null,{"$f":"RIGHT(Data!C1264,10)","v":""},null,null,null,null,null,null,null,{"$f":"IFERROR($U$3*Data!O1264/SQRT(COUNT(Data!F1264:J1264)),\"\")","v":""},"","","","","",{"$f":"IFERROR((Data!K1264-$F$4),\"\")","v":""},{"$f":"IF(AND(F1264<>\"\",G1264<>\"\",H1264<>\"\",I1264<>\"\",J1264<>\"\"),Data!L1264-$F$4,\"\")","v":""},"","","","",{"$f":"IF(F1264<>\"\",STDEV($Q$12:Q1264),\"\")","v":""},""]
[1254,null,{"$f":"RIGHT(Data!C1265,10)","v":""},null,null,null,null,null,null,null,{"$f":"IFERROR($U$3*Data!O1265/SQRT(COUNT(Data!F1265:J1265)),\"\")","v":""},"","","","","",{"$f":"IFERROR((Data!K1265-$F$4),\"\")","v":""},{"$f":"IF(AND(F1265<>\"\",G1265<>\"\",H1265<>\"\",I1265<>\"\",J1265<>\"\"),Data!L1265-$F$4,\"\")","v":""},"","","","",{"$f":"IF(F1265<>\"\",STDEV($Q$12:Q1265),\"\")","v":""},""]
[1255,null,{"$f":"RIGHT(Data!C1266,10)","v":""},null,null,null,null,null,null,null,{"$f":"IFERROR($U$3*Data!O1266/SQRT(COUNT(Data!F1266:J1266)),\"\")","v":""},"","","","","",{"$f":"IFERROR((Data!K1266-$F$4),\"\")","v":""},{"$f":"IF(AND(F1266<>\"\",G1266<>\"\",H1266<>\"\",I1266<>\"\",J1266<>\"\"),Data!L1266-$F$4,\"\")","v":""},"","","","",{"$f":"IF(F1266<>\"\",STDEV($Q$12:Q1266),\"\")","v":""},""]
[1256,null,{"$f":"RIGHT(Data!C1267,10)","v":""},null,null,null,null,null,null,null,{"$f":"IFERROR($U$3*Data!O1267/SQRT(COUNT(Data!F1267:J1267)),\"\")","v":""},"","","","","",{"$f":"IFERROR((Data!K1267-$F$4),\"\")","v":""},{"$f":"IF(AND(F1267<>\"\",G1267<>\"\",H1267<>\"\",I1267<>\"\",J1267<>\"\"),Data!L1267-$F$4,\"\")","v":""},"","","","",{"$f":"IF(F1267<>\"\",STDEV($Q$12:Q1267),\"\")","v":""},""]
[1257,null,{"$f":"RIGHT(Data!C1268,10)","v":""},null,null,null,null,null,null,null,{"$f":"IFERROR($U$3*Data!O1268/SQRT(COUNT(Data!F1268:J1268)),\"\")","v":""},"","","","","",{"$f":"IFERROR((Data!K1268-$F$4),\"\")","v":""},{"$f":"IF(AND(F1268<>\"\",G1268<>\"\",H1268<>\"\",I1268<>\"\",J1268<>\"\"),Data!L1268-$F$4,\"\")","v":""},"","","","",{"$f":"IF(F1268<>\"\",STDEV($Q$12:Q1268),\"\")","v":""},""]
[1258,null,{"$f":"RIGHT(Data!C1269,10)","v":""},null,null,null,null,null,null,null,{"$f":"IFERROR($U$3*Data!O1269/SQRT(COUNT(Data!F1269:J1269)),\"\")","v":""},"","","","","",{"$f":"IFERROR((Data!K1269-$F$4),\"\")","v":""},{"$f":"IF(AND(F1269<>\"\",G1269<>\"\",H1269<>\"\",I1269<>\"\",J1269<>\"\"),Data!L1269-$F$4,\"\")","v":""},"","","","",{"$f":"IF(F1269<>\"\",STDEV($Q$12:Q1269),\"\")","v":""},""]
[1259,null,{"$f":"RIGHT(Data!C1270,10)","v":""},null,null,null,null,null,null,null,{"$f":"IFERROR($U$3*Data!O1270/SQRT(COUNT(Data!F1270:J1270)),\"\")","v":""},"","","","","",{"$f":"IFERROR((Data!K1270-$F$4),\"\")","v":""},{"$f":"IF(AND(F1270<>\"\",G1270<>\"\",H1270<>\"\",I1270<>\"\",J1270<>\"\"),Data!L1270-$F$4,\"\")","v":""},"","","","",{"$f":"IF(F1270<>\"\",STDEV($Q$12:Q1270),\"\")","v":""},""]
[1260,null,{"$f":"RIGHT(Data!C1271,10)","v":""},null,null,null,null,null,null,null,{"$f":"IFERROR($U$3*Data!O1271/SQRT(COUNT(Data!F1271:J1271)),\"\")","v":""},"","","","","",{"$f":"IFERROR((Data!K1271-$F$4),\"\")","v":""},{"$f":"IF(AND(F1271<>\"\",G1271<>\"\",H1271<>\"\",I1271<>\"\",J1271<>\"\"),Data!L1271-$F$4,\"\")","v":""},"","","","",{"$f":"IF(F1271<>\"\",STDEV($Q$12:Q1271),\"\")","v":""},""]
[1261,null,{"$f":"RIGHT(Data!C1272,10)","v":""},null,null,null,null,null,null,null,{"$f":"IFERROR($U$3*Data!O1272/SQRT(COUNT(Data!F1272:J1272)),\"\")","v":""},"","","","","",{"$f":"IFERROR((Data!K1272-$F$4),\"\")","v":""},{"$f":"IF(AND(F1272<>\"\",G1272<>\"\",H1272<>\"\",I1272<>\"\",J1272<>\"\"),Data!L1272-$F$4,\"\")","v":""},"","","","",{"$f":"IF(F1272<>\"\",STDEV($Q$12:Q1272),\"\")","v":""},""]
[1262,null,{"$f":"RIGHT(Data!C1273,10)","v":""},null,null,null,null,null,null,null,{"$f":"IFERROR($U$3*Data!O1273/SQRT(COUNT(Data!F1273:J1273)),\"\")","v":""},"","","","","",{"$f":"IFERROR((Data!K1273-$F$4),\"\")","v":""},{"$f":"IF(AND(F1273<>\"\",G1273<>\"\",H1273<>\"\",I1273<>\"\",J1273<>\"\"),Data!L1273-$F$4,\"\")","v":""},"","","","",{"$f":"IF(F1273<>\"\",STDEV($Q$12:Q1273),\"\")","v":""},""]
[1263,null,{"$f":"RIGHT(Data!C1274,10)","v":""},null,null,null,null,null,null,null,{"$f":"IFERROR($U$3*Data!O1274/SQRT(COUNT(Data!F1274:J1274)),\"\")","v":""},"","","","","",{"$f":"IFERROR((Data!K1274-$F$4),\"\")","v":""},{"$f":"IF(AND(F1274<>\"\",G1274<>\"\",H1274<>\"\",I1274<>\"\",J1274<>\"\"),Data!L1274-$F$4,\"\")","v":""},"","","","",{"$f":"IF(F1274<>\"\",STDEV($Q$12:Q1274),\"\")","v":""},""]
[1264,null,{"$f":"RIGHT(Data!C1275,10)","v":""},null,null,null,null,null,null,null,{"$f":"IFERROR($U$3*Data!O1275/SQRT(COUNT(Data!F1275:J1275)),\"\")","v":""},"","","","","",{"$f":"IFERROR((Data!K1275-$F$4),\"\")","v":""},{"$f":"IF(AND(F1275<>\"\",G1275<>\"\",H1275<>\"\",I1275<>\"\",J1275<>\"\"),Data!L1275-$F$4,\"\")","v":""},"","","","",{"$f":"IF(F1275<>\"\",STDEV($Q$12:Q1275),\"\")","v":""},""]
[1265,null,{"$f":"RIGHT(Data!C1276,10)","v":""},null,null,null,null,null,null,null,{"$f":"IFERROR($U$3*Data!O1276/SQRT(COUNT(Data!F1276:J1276)),\"\")","v":""},"","","","","",{"$f":"IFERROR((Data!K1276-$F$4),\"\")","v":""},{"$f":"IF(AND(F1276<>\"\",G1276<>\"\",H1276<>\"\",I1276<>\"\",J1276<>\"\"),Data!L1276-$F$4,\"\")","v":""},"","","","",{"$f":"IF(F1276<>\"\",STDEV($Q$12:Q1276),\"\")","v":""},""]
[1266,null,{"$f":"RIGHT(Data!C1277,10)","v":""},null,null,null,null,null,null,null,{"$f":"IFERROR($U$3*Data!O1277/SQRT(COUNT(Data!F1277:J1277)),\"\")","v":""},"","","","","",{"$f":"IFERROR((Data!K1277-$F$4),\"\")","v":""},{"$f":"IF(AND(F1277<>\"\",G1277<>\"\",H1277<>\"\",I1277<>\"\",J1277<>\"\"),Data!L1277-$F$4,\"\")","v":""},"","","","",{"$f":"IF(F1277<>\"\",STDEV($Q$12:Q1277),\"\")","v":""},""]
[1267,null,{"$f":"RIGHT(Data!C1278,10)","v":""},null,null,null,null,null,null,null,{"$f":"IFERROR($U$3*Data!O1278/SQRT(COUNT(Data!F1278:J1278)),\"\")","v":""},"","","","","",{"$f":"IFERROR((Data!K1278-$F$4),\"\")","v":""},{"$f":"IF(AND(F1278<>\"\",G1278<>\"\",H1278<>\"\",I1278<>\"\",J1278<>\"\"),Data!L1278-$F$4,\"\")","v":""},"","","","",{"$f":"IF(F1278<>\"\",STDEV($Q$12:Q1278),\"\")","v":""},""]
[1268,null,{"$f":"RIGHT(Data!C1279,10)","v":""},null,null,null,null,null,null,null,{"$f":"IFERROR($U$3*Data!O1279/SQRT(COUNT(Data!F1279:J1279)),\"\")","v":""},"","","","","",{"$f":"IFERROR((Data!K1279-$F$4),\"\")","v":""},{"$f":"IF(AND(F1279<>\"\",G1279<>\"\",H1279<>\"\",I1279<>\"\",J1279<>\"\"),Data!L1279-$F$4,\"\")","v":""},"","","","",{"$f":"IF(F1279<>\"\",STDEV($Q$12:Q1279),\"\")","v":""},""]
[1269,null,{"$f":"RIGHT(Data!C1280,10)","v":""},null,null,null,null,null,null,null,{"$f":"IFERROR($U$3*Data!O1280/SQRT(COUNT(Data!F1280:J1280)),\"\")","v":""},"","","","","",{"$f":"IFERROR((Data!K1280-$F$4),\"\")","v":""},{"$f":"IF(AND(F1280<>\"\",G1280<>\"\",H1280<>\"\",I1280<>\"\",J1280<>\"\"),Data!L1280-$F$4,\"\")","v":""},"","","","",{"$f":"IF(F1280<>\"\",STDEV($Q$12:Q1280),\"\")","v":""},""]
[1270,null,{"$f":"RIGHT(Data!C1281,10)","v":""},null,null,null,null,null,null,null,{"$f":"IFERROR($U$3*Data!O1281/SQRT(COUNT(Data!F1281:J1281)),\"\")","v":""},"","","","","",{"$f":"IFERROR((Data!K1281-$F$4),\"\")","v":""},{"$f":"IF(AND(F1281<>\"\",G1281<>\"\",H1281<>\"\",I1281<>\"\",J1281<>\"\"),Data!L1281-$F$4,\"\")","v":""},"","","","",{"$f":"IF(F1281<>\"\",STDEV($Q$12:Q1281),\"\")","v":""},""]
[1271,null,{"$f":"RIGHT(Data!C1282,10)","v":""},null,null,null,null,null,null,null,{"$f":"IFERROR($U$3*Data!O1282/SQRT(COUNT(Data!F1282:J1282)),\"\")","v":""},"","","","","",{"$f":"IFERROR((Data!K1282-$F$4),\"\")","v":""},{"$f":"IF(AND(F1282<>\"\",G1282<>\"\",H1282<>\"\",I1282<>\"\",J1282<>\"\"),Data!L1282-$F$4,\"\")","v":""},"","","","",{"$f":"IF(F1282<>\"\",STDEV($Q$12:Q1282),\"\")","v":""},""]
[1272,null,{"$f":"RIGHT(Data!C1283,10)","v":""},null,null,null,null,null,null,null,{"$f":"IFERROR($U$3*Data!O1283/SQRT(COUNT(Data!F1283:J1283)),\"\")","v":""},"","","","","",{"$f":"IFERROR((Data!K1283-$F$4),\"\")","v":""},{"$f":"IF(AND(F1283<>\"\",G1283<>\"\",H1283<>\"\",I1283<>\"\",J1283<>\"\"),Data!L1283-$F$4,\"\")","v":""},"","","","",{"$f":"IF(F1283<>\"\",STDEV($Q$12:Q1283),\"\")","v":""},""]
[1273,null,{"$f":"RIGHT(Data!C1284,10)","v":""},null,null,null,null,null,null,null,{"$f":"IFERROR($U$3*Data!O1284/SQRT(COUNT(Data!F1284:J1284)),\"\")","v":""},"","","","","",{"$f":"IFERROR((Data!K1284-$F$4),\"\")","v":""},{"$f":"IF(AND(F1284<>\"\",G1284<>\"\",H1284<>\"\",I1284<>\"\",J1284<>\"\"),Data!L1284-$F$4,\"\")","v":""},"","","","",{"$f":"IF(F1284<>\"\",STDEV($Q$12:Q1284),\"\")","v":""},""]
[1274,null,{"$f":"RIGHT(Data!C1285,10)","v":""},null,null,null,null,null,null,null,{"$f":"IFERROR($U$3*Data!O1285/SQRT(COUNT(Data!F1285:J1285)),\"\")","v":""},"","","","","",{"$f":"IFERROR((Data!K1285-$F$4),\"\")","v":""},{"$f":"IF(AND(F1285<>\"\",G1285<>\"\",H1285<>\"\",I1285<>\"\",J1285<>\"\"),Data!L1285-$F$4,\"\")","v":""},"","","","",{"$f":"IF(F1285<>\"\",STDEV($Q$12:Q1285),\"\")","v":""},""]
[1275,null,{"$f":"RIGHT(Data!C1286,10)","v":""},null,null,null,null,null,null,null,{"$f":"IFERROR($U$3*Data!O1286/SQRT(COUNT(Data!F1286:J1286)),\"\")","v":""},"","","","","",{"$f":"IFERROR((Data!K1286-$F$4),\"\")","v":""},{"$f":"IF(AND(F1286<>\"\",G1286<>\"\",H1286<>\"\",I1286<>\"\",J1286<>\"\"),Data!L1286-$F$4,\"\")","v":""},"","","","",{"$f":"IF(F1286<>\"\",STDEV($Q$12:Q1286),\"\")","v":""},""]
[1276,null,{"$f":"RIGHT(Data!C1287,10)","v":""},null,null,null,null,null,null,null,{"$f":"IFERROR($U$3*Data!O1287/SQRT(COUNT(Data!F1287:J1287)),\"\")","v":""},"","","","","",{"$f":"IFERROR((Data!K1287-$F$4),\"\")","v":""},{"$f":"IF(AND(F1287<>\"\",G1287<>\"\",H1287<>\"\",I1287<>\"\",J1287<>\"\"),Data!L1287-$F$4,\"\")","v":""},"","","","",{"$f":"IF(F1287<>\"\",STDEV($Q$12:Q1287),\"\")","v":""},""]
[1277,null,{"$f":"RIGHT(Data!C1288,10)","v":""},null,null,null,null,null,null,null,{"$f":"IFERROR($U$3*Data!O1288/SQRT(COUNT(Data!F1288:J1288)),\"\")","v":""},"","","","","",{"$f":"IFERROR((Data!K1288-$F$4),\"\")","v":""},{"$f":"IF(AND(F1288<>\"\",G1288<>\"\",H1288<>\"\",I1288<>\"\",J1288<>\"\"),Data!L1288-$F$4,\"\")","v":""},"","","","",{"$f":"IF(F1288<>\"\",STDEV($Q$12:Q1288),\"\")","v":""},""]
[1278,null,{"$f":"RIGHT(Data!C1289,10)","v":""},null,null,null,null,null,null,null,{"$f":"IFERROR($U$3*Data!O1289/SQRT(COUNT(Data!F1289:J1289)),\"\")","v":""},"","","","","",{"$f":"IFERROR((Data!K1289-$F$4),\"\")","v":""},{"$f":"IF(AND(F1289<>\"\",G1289<>\"\",H1289<>\"\",I1289<>\"\",J1289<>\"\"),Data!L1289-$F$4,\"\")","v":""},"","","","",{"$f":"IF(F1289<>\"\",STDEV($Q$12:Q1289),\"\")","v":""},""]
[1279,null,{"$f":"RIGHT(Data!C1290,10)","v":""},null,null,null,null,null,null,null,{"$f":"IFERROR($U$3*Data!O1290/SQRT(COUNT(Data!F1290:J1290)),\"\")","v":""},"","","","","",{"$f":"IFERROR((Data!K1290-$F$4),\"\")","v":""},{"$f":"IF(AND(F1290<>\"\",G1290<>\"\",H1290<>\"\",I1290<>\"\",J1290<>\"\"),Data!L1290-$F$4,\"\")","v":""},"","","","",{"$f":"IF(F1290<>\"\",STDEV($Q$12:Q1290),\"\")","v":""},""]
[1280,null,{"$f":"RIGHT(Data!C1291,10)","v":""},null,null,null,null,null,null,null,{"$f":"IFERROR($U$3*Data!O1291/SQRT(COUNT(Data!F1291:J1291)),\"\")","v":""},"","","","","",{"$f":"IFERROR((Data!K1291-$F$4),\"\")","v":""},{"$f":"IF(AND(F1291<>\"\",G1291<>\"\",H1291<>\"\",I1291<>\"\",J1291<>\"\"),Data!L1291-$F$4,\"\")","v":""},"","","","",{"$f":"IF(F1291<>\"\",STDEV($Q$12:Q1291),\"\")","v":""},""]
[1281,null,{"$f":"RIGHT(Data!C1292,10)","v":""},null,null,null,null,null,null,null,{"$f":"IFERROR($U$3*Data!O1292/SQRT(COUNT(Data!F1292:J1292)),\"\")","v":""},"","",{"$f":"IF(COUNT(F1292:J1292)>=5,STDEV(F1292:J1292)*$U$3/SQRT((COUNT(F1292:J1292))),\"\")","v":""},"","",{"$f":"IFERROR((Data!K1292-$F$4),\"\")","v":""},{"$f":"IF(AND(F1292<>\"\",G1292<>\"\",H1292<>\"\",I1292<>\"\",J1292<>\"\"),Data!L1292-$F$4,\"\")","v":""},{"$f":"IF(O1292<>\"\",FIXED(X1292,1) & \" ± \" & FIXED(O1292+ABS(R1292),2),\"\")","v":""},"","","",{"$f":"IF(F1292<>\"\",STDEV($Q$12:Q1292),\"\")","v":""},{"$f":"IF(F1292<>\"\",AVERAGE(F1292:J1292),\"\")","v":""}]
[1282,null,{"$f":"RIGHT(Data!C1293,10)","v":""},null,null,null,null,null,null,null,{"$f":"IFERROR($U$3*Data!O1293/SQRT(COUNT(Data!F1293:J1293)),\"\")","v":""},{"$f":"IF(F1293<>\"\",V1293*W1293/SQRT(A1293),\"\")","v":""},{"$f":"IF(F1293<>\"\",$U$4*SQRT($U$7^2+L1293^2+K1293^2+$U$5^2),\"\")","v":""},"",{"$f":"IFERROR($U$4*SQRT($U$7^2+L1293^2+K1293^2+$U$5^2+N1293^2),\"\")","v":""},{"$f":"IF(AND(F1293<>\"\",G1293<>\"\",H1293<>\"\",I1293<>\"\",J1293<>\"\"),AVERAGE(F1293:J1293),\"\")","v":""},{"$f":"IFERROR((Data!K1293-$F$4),\"\")","v":""},{"$f":"IF(AND(F1293<>\"\",G1293<>\"\",H1293<>\"\",I1293<>\"\",J1293<>\"\"),Data!L1293-$F$4,\"\")","v":""},"",{"$f":"IF(F1293<>\"\",FIXED(AVERAGE(F1293:J1293)-R1293,1) & \" ± \" & FIXED(O1293,2),\"\")","v":""},{"$f":"IF(IO1293=\"\",\"\",IO1293-1)","v":""},{"$f":"IF(F1293<>\"\",TINV(1-0.68,A1293-1),\"\")","v":""},{"$f":"IF(F1293<>\"\",STDEV($Q$12:Q1293),\"\")","v":""},""]
[1283,null,{"$f":"RIGHT(Data!C1294,10)","v":""},null,null,null,null,null,null,null,{"$f":"IFERROR($U$3*Data!O1294/SQRT(COUNT(Data!F1294:J1294)),\"\")","v":""},"","","","","",{"$f":"IFERROR((Data!K1294-$F$4),\"\")","v":""},{"$f":"IF(AND(F1294<>\"\",G1294<>\"\",H1294<>\"\",I1294<>\"\",J1294<>\"\"),Data!L1294-$F$4,\"\")","v":""},"","","","",{"$f":"IF(F1294<>\"\",STDEV($Q$12:Q1294),\"\")","v":""},""]
[1284,null,{"$f":"RIGHT(Data!C1295,10)","v":""},null,null,null,null,null,null,null,{"$f":"IFERROR($U$3*Data!O1295/SQRT(COUNT(Data!F1295:J1295)),\"\")","v":""},"","","","","",{"$f":"IFERROR((Data!K1295-$F$4),\"\")","v":""},{"$f":"IF(AND(F1295<>\"\",G1295<>\"\",H1295<>\"\",I1295<>\"\",J1295<>\"\"),Data!L1295-$F$4,\"\")","v":""},"","","","",{"$f":"IF(F1295<>\"\",STDEV($Q$12:Q1295),\"\")","v":""},""]
[1285,null,{"$f":"RIGHT(Data!C1296,10)","v":""},null,null,null,null,null,null,null,{"$f":"IFERROR($U$3*Data!O1296/SQRT(COUNT(Data!F1296:J1296)),\"\")","v":""},"","","","","",{"$f":"IFERROR((Data!K1296-$F$4),\"\")","v":""},{"$f":"IF(AND(F1296<>\"\",G1296<>\"\",H1296<>\"\",I1296<>\"\",J1296<>\"\"),Data!L1296-$F$4,\"\")","v":""},"","","","",{"$f":"IF(F1296<>\"\",STDEV($Q$12:Q1296),\"\")","v":""},""]
[1286,null,{"$f":"RIGHT(Data!C1297,10)","v":""},null,null,null,null,null,null,null,{"$f":"IFERROR($U$3*Data!O1297/SQRT(COUNT(Data!F1297:J1297)),\"\")","v":""},"","","","","",{"$f":"IFERROR((Data!K1297-$F$4),\"\")","v":""},{"$f":"IF(AND(F1297<>\"\",G1297<>\"\",H1297<>\"\",I1297<>\"\",J1297<>\"\"),Data!L1297-$F$4,\"\")","v":""},"","","","",{"$f":"IF(F1297<>\"\",STDEV($Q$12:Q1297),\"\")","v":""},""]
[1287,null,{"$f":"RIGHT(Data!C1298,10)","v":""},null,null,null,null,null,null,null,{"$f":"IFERROR($U$3*Data!O1298/SQRT(COUNT(Data!F1298:J1298)),\"\")","v":""},"","","","","",{"$f":"IFERROR((Data!K1298-$F$4),\"\")","v":""},{"$f":"IF(AND(F1298<>\"\",G1298<>\"\",H1298<>\"\",I1298<>\"\",J1298<>\"\"),Data!L1298-$F$4,\"\")","v":""},"","","","",{"$f":"IF(F1298<>\"\",STDEV($Q$12:Q1298),\"\")","v":""},""]
[1288,null,{"$f":"RIGHT(Data!C1299,10)","v":""},null,null,null,null,null,null,null,{"$f":"IFERROR($U$3*Data!O1299/SQRT(COUNT(Data!F1299:J1299)),\"\")","v":""},"","","","","",{"$f":"IFERROR((Data!K1299-$F$4),\"\")","v":""},{"$f":"IF(AND(F1299<>\"\",G1299<>\"\",H1299<>\"\",I1299<>\"\",J1299<>\"\"),Data!L1299-$F$4,\"\")","v":""},"","","","",{"$f":"IF(F1299<>\"\",STDEV($Q$12:Q1299),\"\")","v":""},""]
[1289,null,{"$f":"RIGHT(Data!C1300,10)","v":""},null,null,null,null,null,null,null,{"$f":"IFERROR($U$3*Data!O1300/SQRT(COUNT(Data!F1300:J1300)),\"\")","v":""},"","","","","",{"$f":"IFERROR((Data!K1300-$F$4),\"\")","v":""},{"$f":"IF(AND(F1300<>\"\",G1300<>\"\",H1300<>\"\",I1300<>\"\",J1300<>\"\"),Data!L1300-$F$4,\"\")","v":""},"","","","",{"$f":"IF(F1300<>\"\",STDEV($Q$12:Q1300),\"\")","v":""},""]
[1290,null,{"$f":"RIGHT(Data!C1301,10)","v":""},null,null,null,null,null,null,null,{"$f":"IFERROR($U$3*Data!O1301/SQRT(COUNT(Data!F1301:J1301)),\"\")","v":""},"","","","","",{"$f":"IFERROR((Data!K1301-$F$4),\"\")","v":""},{"$f":"IF(AND(F1301<>\"\",G1301<>\"\",H1301<>\"\",I1301<>\"\",J1301<>\"\"),Data!L1301-$F$4,\"\")","v":""},"","","","",{"$f":"IF(F1301<>\"\",STDEV($Q$12:Q1301),\"\")","v":""},""]
[1291,null,{"$f":"RIGHT(Data!C1302,10)","v":""},null,null,null,null,null,null,null,{"$f":"IFERROR($U$3*Data!O1302/SQRT(COUNT(Data!F1302:J1302)),\"\")","v":""},"","","","","",{"$f":"IFERROR((Data!K1302-$F$4),\"\")","v":""},{"$f":"IF(AND(F1302<>\"\",G1302<>\"\",H1302<>\"\",I1302<>\"\",J1302<>\"\"),Data!L1302-$F$4,\"\")","v":""},"","","","",{"$f":"IF(F1302<>\"\",STDEV($Q$12:Q1302),\"\")","v":""},""]
[1292,null,{"$f":"RIGHT(Data!C1303,10)","v":""},null,null,null,null,null,null,null,{"$f":"IFERROR($U$3*Data!O1303/SQRT(COUNT(Data!F1303:J1303)),\"\")","v":""},"","","","","",{"$f":"IFERROR((Data!K1303-$F$4),\"\")","v":""},{"$f":"IF(AND(F1303<>\"\",G1303<>\"\",H1303<>\"\",I1303<>\"\",J1303<>\"\"),Data!L1303-$F$4,\"\")","v":""},"","","","",{"$f":"IF(F1303<>\"\",STDEV($Q$12:Q1303),\"\")","v":""},""]
[1293,null,{"$f":"RIGHT(Data!C1304,10)","v":""},null,null,null,null,null,null,null,{"$f":"IFERROR($U$3*Data!O1304/SQRT(COUNT(Data!F1304:J1304)),\"\")","v":""},"","","","","",{"$f":"IFERROR((Data!K1304-$F$4),\"\")","v":""},{"$f":"IF(AND(F1304<>\"\",G1304<>\"\",H1304<>\"\",I1304<>\"\",J1304<>\"\"),Data!L1304-$F$4,\"\")","v":""},"","","","",{"$f":"IF(F1304<>\"\",STDEV($Q$12:Q1304),\"\")","v":""},""]
[1294,null,{"$f":"RIGHT(Data!C1305,10)","v":""},null,null,null,null,null,null,null,{"$f":"IFERROR($U$3*Data!O1305/SQRT(COUNT(Data!F1305:J1305)),\"\")","v":""},"","","","","",{"$f":"IFERROR((Data!K1305-$F$4),\"\")","v":""},{"$f":"IF(AND(F1305<>\"\",G1305<>\"\",H1305<>\"\",I1305<>\"\",J1305<>\"\"),Data!L1305-$F$4,\"\")","v":""},"","","","",{"$f":"IF(F1305<>\"\",STDEV($Q$12:Q1305),\"\")","v":""},""]
[1295,null,{"$f":"RIGHT(Data!C1306,10)","v":""},null,null,null,null,null,null,null,{"$f":"IFERROR($U$3*Data!O1306/SQRT(COUNT(Data!F1306:J1306)),\"\")","v":""},"","","","","",{"$f":"IFERROR((Data!K1306-$F$4),\"\")","v":""},{"$f":"IF(AND(F1306<>\"\",G1306<>\"\",H1306<>\"\",I1306<>\"\",J1306<>\"\"),Data!L1306-$F$4,\"\")","v":""},"","","","",{"$f":"IF(F1306<>\"\",STDEV($Q$12:Q1306),\"\")","v":""},""]
[1296,null,{"$f":"RIGHT(Data!C1307,10)","v":""},null,null,null,null,null,null,null,{"$f":"IFERROR($U$3*Data!O1307/SQRT(COUNT(Data!F1307:J1307)),\"\")","v":""},"","","","","",{"$f":"IFERROR((Data!K1307-$F$4),\"\")","v":""},{"$f":"IF(AND(F1307<>\"\",G1307<>\"\",H1307<>\"\",I1307<>\"\",J1307<>\"\"),Data!L1307-$F$4,\"\")","v":""},"","","","",{"$f":"IF(F1307<>\"\",STDEV($Q$12:Q1307),\"\")","v":""},""]
[1297,null,{"$f":"RIGHT(Data!C1308,10)","v":""},null,null,null,null,null,null,null,{"$f":"IFERROR($U$3*Data!O1308/SQRT(COUNT(Data!F1308:J1308)),\"\")","v":""},"","","","","",{"$f":"IFERROR((Data!K1308-$F$4),\"\")","v":""},{"$f":"IF(AND(F1308<>\"\",G1308<>\"\",H1308<>\"\",I1308<>\"\",J1308<>\"\"),Data!L1308-$F$4,\"\")","v":""},"","","","",{"$f":"IF(F1308<>\"\",STDEV($Q$12:Q1308),\"\")","v":""},""]
[1298,null,{"$f":"RIGHT(Data!C1309,10)","v":""},null,null,null,null,null,null,null,{"$f":"IFERROR($U$3*Data!O1309/SQRT(COUNT(Data!F1309:J1309)),\"\")","v":""},"","","","","",{"$f":"IFERROR((Data!K1309-$F$4),\"\")","v":""},{"$f":"IF(AND(F1309<>\"\",G1309<>\"\",H1309<>\"\",I1309<>\"\",J1309<>\"\"),Data!L1309-$F$4,\"\")","v":""},"","","","",{"$f":"IF(F1309<>\"\",STDEV($Q$12:Q1309),\"\")","v":""},""]
[1299,null,{"$f":"RIGHT(Data!C1310,10)","v":""},null,null,null,null,null,null,null,{"$f":"IFERROR($U$3*Data!O1310/SQRT(COUNT(Data!F1310:J1310)),\"\")","v":""},"","","","","",{"$f":"IFERROR((Data!K1310-$F$4),\"\")","v":""},{"$f":"IF(AND(F1310<>\"\",G1310<>\"\",H1310<>\"\",I1310<>\"\",J1310<>\"\"),Data!L1310-$F$4,\"\")","v":""},"","","","",{"$f":"IF(F1310<>\"\",STDEV($Q$12:Q1310),\"\")","v":""},""]
[1300,null,{"$f":"RIGHT(Data!C1311,10)","v":""},null,null,null,null,null,null,null,{"$f":"IFERROR($U$3*Data!O1311/SQRT(COUNT(Data!F1311:J1311)),\"\")","v":""},"","","","","",{"$f":"IFERROR((Data!K1311-$F$4),\"\")","v":""},{"$f":"IF(AND(F1311<>\"\",G1311<>\"\",H1311<>\"\",I1311<>\"\",J1311<>\"\"),Data!L1311-$F$4,\"\")","v":""},"","","","",{"$f":"IF(F1311<>\"\",STDEV($Q$12:Q1311),\"\")","v":""},""]
[1301,null,{"$f":"RIGHT(Data!C1312,10)","v":""},null,null,null,null,null,null,null,{"$f":"IFERROR($U$3*Data!O1312/SQRT(COUNT(Data!F1312:J1312)),\"\")","v":""},"","","","","",{"$f":"IFERROR((Data!K1312-$F$4),\"\")","v":""},{"$f":"IF(AND(F1312<>\"\",G1312<>\"\",H1312<>\"\",I1312<>\"\",J1312<>\"\"),Data!L1312-$F$4,\"\")","v":""},"","","","",{"$f":"IF(F1312<>\"\",STDEV($Q$12:Q1312),\"\")","v":""},""]
[1302,null,{"$f":"RIGHT(Data!C1313,10)","v":""},null,null,null,null,null,null,null,{"$f":"IFERROR($U$3*Data!O1313/SQRT(COUNT(Data!F1313:J1313)),\"\")","v":""},"","","","","",{"$f":"IFERROR((Data!K1313-$F$4),\"\")","v":""},{"$f":"IF(AND(F1313<>\"\",G1313<>\"\",H1313<>\"\",I1313<>\"\",J1313<>\"\"),Data!L1313-$F$4,\"\")","v":""},"","","","",{"$f":"IF(F1313<>\"\",STDEV($Q$12:Q1313),\"\")","v":""},""]
[1303,null,{"$f":"RIGHT(Data!C1314,10)","v":""},null,null,null,null,null,null,null,{"$f":"IFERROR($U$3*Data!O1314/SQRT(COUNT(Data!F1314:J1314)),\"\")","v":""},"","","","","",{"$f":"IFERROR((Data!K1314-$F$4),\"\")","v":""},{"$f":"IF(AND(F1314<>\"\",G1314<>\"\",H1314<>\"\",I1314<>\"\",J1314<>\"\"),Data!L1314-$F$4,\"\")","v":""},"","","","",{"$f":"IF(F1314<>\"\",STDEV($Q$12:Q1314),\"\")","v":""},""]
[1304,null,{"$f":"RIGHT(Data!C1315,10)","v":""},null,null,null,null,null,null,null,{"$f":"IFERROR($U$3*Data!O1315/SQRT(COUNT(Data!F1315:J1315)),\"\")","v":""},"","","","","",{"$f":"IFERROR((Data!K1315-$F$4),\"\")","v":""},{"$f":"IF(AND(F1315<>\"\",G1315<>\"\",H1315<>\"\",I1315<>\"\",J1315<>\"\"),Data!L1315-$F$4,\"\")","v":""},"","","","",{"$f":"IF(F1315<>\"\",STDEV($Q$12:Q1315),\"\")","v":""},""]
[1305,null,{"$f":"RIGHT(Data!C1316,10)","v":""},null,null,null,null,null,null,null,{"$f":"IFERROR($U$3*Data!O1316/SQRT(COUNT(Data!F1316:J1316)),\"\")","v":""},"","","","","",{"$f":"IFERROR((Data!K1316-$F$4),\"\")","v":""},{"$f":"IF(AND(F1316<>\"\",G1316<>\"\",H1316<>\"\",I1316<>\"\",J1316<>\"\"),Data!L1316-$F$4,\"\")","v":""},"","","","",{"$f":"IF(F1316<>\"\",STDEV($Q$12:Q1316),\"\")","v":""},""]
[1306,null,{"$f":"RIGHT(Data!C1317,10)","v":""},null,null,null,null,null,null,null,{"$f":"IFERROR($U$3*Data!O1317/SQRT(COUNT(Data!F1317:J1317)),\"\")","v":""},"","","","","",{"$f":"IFERROR((Data!K1317-$F$4),\"\")","v":""},{"$f":"IF(AND(F1317<>\"\",G1317<>\"\",H1317<>\"\",I1317<>\"\",J1317<>\"\"),Data!L1317-$F$4,\"\")","v":""},"","","","",{"$f":"IF(F1317<>\"\",STDEV($Q$12:Q1317),\"\")","v":""},""]
[1307,null,{"$f":"RIGHT(Data!C1318,10)","v":""},null,null,null,null,null,null,null,{"$f":"IFERROR($U$3*Data!O1318/SQRT(COUNT(Data!F1318:J1318)),\"\")","v":""},"","","","","",{"$f":"IFERROR((Data!K1318-$F$4),\"\")","v":""},{"$f":"IF(AND(F1318<>\"\",G1318<>\"\",H1318<>\"\",I1318<>\"\",J1318<>\"\"),Data!L1318-$F$4,\"\")","v":""},"","","","",{"$f":"IF(F1318<>\"\",STDEV($Q$12:Q1318),\"\")","v":""},""]
[1308,null,{"$f":"RIGHT(Data!C1319,10)","v":""},null,null,null,null,null,null,null,{"$f":"IFERROR($U$3*Data!O1319/SQRT(COUNT(Data!F1319:J1319)),\"\")","v":""},"","","","","",{"$f":"IFERROR((Data!K1319-$F$4),\"\")","v":""},{"$f":"IF(AND(F1319<>\"\",G1319<>\"\",H1319<>\"\",I1319<>\"\",J1319<>\"\"),Data!L1319-$F$4,\"\")","v":""},"","","","",{"$f":"IF(F1319<>\"\",STDEV($Q$12:Q1319),\"\")","v":""},""]
[1309,null,{"$f":"RIGHT(Data!C1320,10)","v":""},null,null,null,null,null,null,null,{"$f":"IFERROR($U$3*Data!O1320/SQRT(COUNT(Data!F1320:J1320)),\"\")","v":""},"","","","","",{"$f":"IFERROR((Data!K1320-$F$4),\"\")","v":""},{"$f":"IF(AND(F1320<>\"\",G1320<>\"\",H1320<>\"\",I1320<>\"\",J1320<>\"\"),Data!L1320-$F$4,\"\")","v":""},"","","","",{"$f":"IF(F1320<>\"\",STDEV($Q$12:Q1320),\"\")","v":""},""]
[1310,null,{"$f":"RIGHT(Data!C1321,10)","v":""},null,null,null,null,null,null,null,{"$f":"IFERROR($U$3*Data!O1321/SQRT(COUNT(Data!F1321:J1321)),\"\")","v":""},"","","","","",{"$f":"IFERROR((Data!K1321-$F$4),\"\")","v":""},{"$f":"IF(AND(F1321<>\"\",G1321<>\"\",H1321<>\"\",I1321<>\"\",J1321<>\"\"),Data!L1321-$F$4,\"\")","v":""},"","","","",{"$f":"IF(F1321<>\"\",STDEV($Q$12:Q1321),\"\")","v":""},""]
[1311,null,{"$f":"RIGHT(Data!C1322,10)","v":""},null,null,null,null,null,null,null,{"$f":"IFERROR($U$3*Data!O1322/SQRT(COUNT(Data!F1322:J1322)),\"\")","v":""},"","","","","",{"$f":"IFERROR((Data!K1322-$F$4),\"\")","v":""},{"$f":"IF(AND(F1322<>\"\",G1322<>\"\",H1322<>\"\",I1322<>\"\",J1322<>\"\"),Data!L1322-$F$4,\"\")","v":""},"","","","",{"$f":"IF(F1322<>\"\",STDEV($Q$12:Q1322),\"\")","v":""},""]
[1312,null,{"$f":"RIGHT(Data!C1323,10)","v":""},null,null,null,null,null,null,null,{"$f":"IFERROR($U$3*Data!O1323/SQRT(COUNT(Data!F1323:J1323)),\"\")","v":""},"","","","","",{"$f":"IFERROR((Data!K1323-$F$4),\"\")","v":""},{"$f":"IF(AND(F1323<>\"\",G1323<>\"\",H1323<>\"\",I1323<>\"\",J1323<>\"\"),Data!L1323-$F$4,\"\")","v":""},"","","","",{"$f":"IF(F1323<>\"\",STDEV($Q$12:Q1323),\"\")","v":""},""]
[1313,null,{"$f":"RIGHT(Data!C1324,10)","v":""},null,null,null,null,null,null,null,{"$f":"IFERROR($U$3*Data!O1324/SQRT(COUNT(Data!F1324:J1324)),\"\")","v":""},"","","","","",{"$f":"IFERROR((Data!K1324-$F$4),\"\")","v":""},{"$f":"IF(AND(F1324<>\"\",G1324<>\"\",H1324<>\"\",I1324<>\"\",J1324<>\"\"),Data!L1324-$F$4,\"\")","v":""},"","","","",{"$f":"IF(F1324<>\"\",STDEV($Q$12:Q1324),\"\")","v":""},""]
[1314,null,{"$f":"RIGHT(Data!C1325,10)","v":""},null,null,null,null,null,null,null,{"$f":"IFERROR($U$3*Data!O1325/SQRT(COUNT(Data!F1325:J1325)),\"\")","v":""},"","","","","",{"$f":"IFERROR((Data!K1325-$F$4),\"\")","v":""},{"$f":"IF(AND(F1325<>\"\",G1325<>\"\",H1325<>\"\",I1325<>\"\",J1325<>\"\"),Data!L1325-$F$4,\"\")","v":""},"","","","",{"$f":"IF(F1325<>\"\",STDEV($Q$12:Q1325),\"\")","v":""},""]
[1315,null,{"$f":"RIGHT(Data!C1326,10)","v":""},null,null,null,null,null,null,null,{"$f":"IFERROR($U$3*Data!O1326/SQRT(COUNT(Data!F1326:J1326)),\"\")","v":""},"","","","","",{"$f":"IFERROR((Data!K1326-$F$4),\"\")","v":""},{"$f":"IF(AND(F1326<>\"\",G1326<>\"\",H1326<>\"\",I1326<>\"\",J1326<>\"\"),Data!L1326-$F$4,\"\")","v":""},"","","","",{"$f":"IF(F1326<>\"\",STDEV($Q$12:Q1326),\"\")","v":""},""]
[1316,null,{"$f":"RIGHT(Data!C1327,10)","v":""},null,null,null,null,null,null,null,{"$f":"IFERROR($U$3*Data!O1327/SQRT(COUNT(Data!F1327:J1327)),\"\")","v":""},"","","","","",{"$f":"IFERROR((Data!K1327-$F$4),\"\")","v":""},{"$f":"IF(AND(F1327<>\"\",G1327<>\"\",H1327<>\"\",I1327<>\"\",J1327<>\"\"),Data!L1327-$F$4,\"\")","v":""},"","","","",{"$f":"IF(F1327<>\"\",STDEV($Q$12:Q1327),\"\")","v":""},""]
[1317,null,{"$f":"RIGHT(Data!C1328,10)","v":""},null,null,null,null,null,null,null,{"$f":"IFERROR($U$3*Data!O1328/SQRT(COUNT(Data!F1328:J1328)),\"\")","v":""},"","","","","",{"$f":"IFERROR((Data!K1328-$F$4),\"\")","v":""},{"$f":"IF(AND(F1328<>\"\",G1328<>\"\",H1328<>\"\",I1328<>\"\",J1328<>\"\"),Data!L1328-$F$4,\"\")","v":""},"","","","",{"$f":"IF(F1328<>\"\",STDEV($Q$12:Q1328),\"\")","v":""},""]
[1318,null,{"$f":"RIGHT(Data!C1329,10)","v":""},null,null,null,null,null,null,null,{"$f":"IFERROR($U$3*Data!O1329/SQRT(COUNT(Data!F1329:J1329)),\"\")","v":""},"","","","","",{"$f":"IFERROR((Data!K1329-$F$4),\"\")","v":""},{"$f":"IF(AND(F1329<>\"\",G1329<>\"\",H1329<>\"\",I1329<>\"\",J1329<>\"\"),Data!L1329-$F$4,\"\")","v":""},"","","","",{"$f":"IF(F1329<>\"\",STDEV($Q$12:Q1329),\"\")","v":""},""]
[1319,null,{"$f":"RIGHT(Data!C1330,10)","v":""},null,null,null,null,null,null,null,{"$f":"IFERROR($U$3*Data!O1330/SQRT(COUNT(Data!F1330:J1330)),\"\")","v":""},"","","","","",{"$f":"IFERROR((Data!K1330-$F$4),\"\")","v":""},{"$f":"IF(AND(F1330<>\"\",G1330<>\"\",H1330<>\"\",I1330<>\"\",J1330<>\"\"),Data!L1330-$F$4,\"\")","v":""},"","","","",{"$f":"IF(F1330<>\"\",STDEV($Q$12:Q1330),\"\")","v":""},""]
[1320,null,{"$f":"RIGHT(Data!C1331,10)","v":""},null,null,null,null,null,null,null,{"$f":"IFERROR($U$3*Data!O1331/SQRT(COUNT(Data!F1331:J1331)),\"\")","v":""},"","","","","",{"$f":"IFERROR((Data!K1331-$F$4),\"\")","v":""},{"$f":"IF(AND(F1331<>\"\",G1331<>\"\",H1331<>\"\",I1331<>\"\",J1331<>\"\"),Data!L1331-$F$4,\"\")","v":""},"","","","",{"$f":"IF(F1331<>\"\",STDEV($Q$12:Q1331),\"\")","v":""},""]
[1321,null,{"$f":"RIGHT(Data!C1332,10)","v":""},null,null,null,null,null,null,null,{"$f":"IFERROR($U$3*Data!O1332/SQRT(COUNT(Data!F1332:J1332)),\"\")","v":""},"","","","","",{"$f":"IFERROR((Data!K1332-$F$4),\"\")","v":""},{"$f":"IF(AND(F1332<>\"\",G1332<>\"\",H1332<>\"\",I1332<>\"\",J1332<>\"\"),Data!L1332-$F$4,\"\")","v":""},"","","","",{"$f":"IF(F1332<>\"\",STDEV($Q$12:Q1332),\"\")","v":""},""]
[1322,null,{"$f":"RIGHT(Data!C1333,10)","v":""},null,null,null,null,null,null,null,{"$f":"IFERROR($U$3*Data!O1333/SQRT(COUNT(Data!F1333:J1333)),\"\")","v":""},"","","","","",{"$f":"IFERROR((Data!K1333-$F$4),\"\")","v":""},{"$f":"IF(AND(F1333<>\"\",G1333<>\"\",H1333<>\"\",I1333<>\"\",J1333<>\"\"),Data!L1333-$F$4,\"\")","v":""},"","","","",{"$f":"IF(F1333<>\"\",STDEV($Q$12:Q1333),\"\")","v":""},""]
[1323,null,{"$f":"RIGHT(Data!C1334,10)","v":""},null,null,null,null,null,null,null,{"$f":"IFERROR($U$3*Data!O1334/SQRT(COUNT(Data!F1334:J1334)),\"\")","v":""},"","","","","",{"$f":"IFERROR((Data!K1334-$F$4),\"\")","v":""},{"$f":"IF(AND(F1334<>\"\",G1334<>\"\",H1334<>\"\",I1334<>\"\",J1334<>\"\"),Data!L1334-$F$4,\"\")","v":""},"","","","",{"$f":"IF(F1334<>\"\",STDEV($Q$12:Q1334),\"\")","v":""},""]
[1324,null,{"$f":"RIGHT(Data!C1335,10)","v":""},null,null,null,null,null,null,null,{"$f":"IFERROR($U$3*Data!O1335/SQRT(COUNT(Data!F1335:J1335)),\"\")","v":""},"","","","","",{"$f":"IFERROR((Data!K1335-$F$4),\"\")","v":""},{"$f":"IF(AND(F1335<>\"\",G1335<>\"\",H1335<>\"\",I1335<>\"\",J1335<>\"\"),Data!L1335-$F$4,\"\")","v":""},"","","","",{"$f":"IF(F1335<>\"\",STDEV($Q$12:Q1335),\"\")","v":""},""]
[1325,null,{"$f":"RIGHT(Data!C1336,10)","v":""},null,null,null,null,null,null,null,{"$f":"IFERROR($U$3*Data!O1336/SQRT(COUNT(Data!F1336:J1336)),\"\")","v":""},"","","","","",{"$f":"IFERROR((Data!K1336-$F$4),\"\")","v":""},{"$f":"IF(AND(F1336<>\"\",G1336<>\"\",H1336<>\"\",I1336<>\"\",J1336<>\"\"),Data!L1336-$F$4,\"\")","v":""},"","","","",{"$f":"IF(F1336<>\"\",STDEV($Q$12:Q1336),\"\")","v":""},""]
[1326,null,{"$f":"RIGHT(Data!C1337,10)","v":""},null,null,null,null,null,null,null,{"$f":"IFERROR($U$3*Data!O1337/SQRT(COUNT(Data!F1337:J1337)),\"\")","v":""},"","","","","",{"$f":"IFERROR((Data!K1337-$F$4),\"\")","v":""},{"$f":"IF(AND(F1337<>\"\",G1337<>\"\",H1337<>\"\",I1337<>\"\",J1337<>\"\"),Data!L1337-$F$4,\"\")","v":""},"","","","",{"$f":"IF(F1337<>\"\",STDEV($Q$12:Q1337),\"\")","v":""},""]
[1327,null,{"$f":"RIGHT(Data!C1338,10)","v":""},null,null,null,null,null,null,null,{"$f":"IFERROR($U$3*Data!O1338/SQRT(COUNT(Data!F1338:J1338)),\"\")","v":""},"","","","","",{"$f":"IFERROR((Data!K1338-$F$4),\"\")","v":""},{"$f":"IF(AND(F1338<>\"\",G1338<>\"\",H1338<>\"\",I1338<>\"\",J1338<>\"\"),Data!L1338-$F$4,\"\")","v":""},"","","","",{"$f":"IF(F1338<>\"\",STDEV($Q$12:Q1338),\"\")","v":""},""]
[1328,null,{"$f":"RIGHT(Data!C1339,10)","v":""},null,null,null,null,null,null,null,{"$f":"IFERROR($U$3*Data!O1339/SQRT(COUNT(Data!F1339:J1339)),\"\")","v":""},"","","","","",{"$f":"IFERROR((Data!K1339-$F$4),\"\")","v":""},{"$f":"IF(AND(F1339<>\"\",G1339<>\"\",H1339<>\"\",I1339<>\"\",J1339<>\"\"),Data!L1339-$F$4,\"\")","v":""},"","","","",{"$f":"IF(F1339<>\"\",STDEV($Q$12:Q1339),\"\")","v":""},""]
[1329,null,{"$f":"RIGHT(Data!C1340,10)","v":""},null,null,null,null,null,null,null,{"$f":"IFERROR($U$3*Data!O1340/SQRT(COUNT(Data!F1340:J1340)),\"\")","v":""},"","","","","",{"$f":"IFERROR((Data!K1340-$F$4),\"\")","v":""},{"$f":"IF(AND(F1340<>\"\",G1340<>\"\",H1340<>\"\",I1340<>\"\",J1340<>\"\"),Data!L1340-$F$4,\"\")","v":""},"","","","",{"$f":"IF(F1340<>\"\",STDEV($Q$12:Q1340),\"\")","v":""},""]
[1330,null,{"$f":"RIGHT(Data!C1341,10)","v":""},null,null,null,null,null,null,null,{"$f":"IFERROR($U$3*Data!O1341/SQRT(COUNT(Data!F1341:J1341)),\"\")","v":""},"","","","","",{"$f":"IFERROR((Data!K1341-$F$4),\"\")","v":""},{"$f":"IF(AND(F1341<>\"\",G1341<>\"\",H1341<>\"\",I1341<>\"\",J1341<>\"\"),Data!L1341-$F$4,\"\")","v":""},"","","","",{"$f":"IF(F1341<>\"\",STDEV($Q$12:Q1341),\"\")","v":""},""]
[1331,null,{"$f":"RIGHT(Data!C1342,10)","v":""},null,null,null,null,null,null,null,{"$f":"IFERROR($U$3*Data!O1342/SQRT(COUNT(Data!F1342:J1342)),\"\")","v":""},"","","","","",{"$f":"IFERROR((Data!K1342-$F$4),\"\")","v":""},{"$f":"IF(AND(F1342<>\"\",G1342<>\"\",H1342<>\"\",I1342<>\"\",J1342<>\"\"),Data!L1342-$F$4,\"\")","v":""},"","","","",{"$f":"IF(F1342<>\"\",STDEV($Q$12:Q1342),\"\")","v":""},""]
[1332,null,{"$f":"RIGHT(Data!C1343,10)","v":""},null,null,null,null,null,null,null,{"$f":"IFERROR($U$3*Data!O1343/SQRT(COUNT(Data!F1343:J1343)),\"\")","v":""},"","","","","",{"$f":"IFERROR((Data!K1343-$F$4),\"\")","v":""},{"$f":"IF(AND(F1343<>\"\",G1343<>\"\",H1343<>\"\",I1343<>\"\",J1343<>\"\"),Data!L1343-$F$4,\"\")","v":""},"","","","",{"$f":"IF(F1343<>\"\",STDEV($Q$12:Q1343),\"\")","v":""},""]
[1333,null,{"$f":"RIGHT(Data!C1344,10)","v":""},null,null,null,null,null,null,null,{"$f":"IFERROR($U$3*Data!O1344/SQRT(COUNT(Data!F1344:J1344)),\"\")","v":""},"","","","","",{"$f":"IFERROR((Data!K1344-$F$4),\"\")","v":""},{"$f":"IF(AND(F1344<>\"\",G1344<>\"\",H1344<>\"\",I1344<>\"\",J1344<>\"\"),Data!L1344-$F$4,\"\")","v":""},"","","","",{"$f":"IF(F1344<>\"\",STDEV($Q$12:Q1344),\"\")","v":""},""]
[1334,null,{"$f":"RIGHT(Data!C1345,10)","v":""},null,null,null,null,null,null,null,{"$f":"IFERROR($U$3*Data!O1345/SQRT(COUNT(Data!F1345:J1345)),\"\")","v":""},"","","","","",{"$f":"IFERROR((Data!K1345-$F$4),\"\")","v":""},{"$f":"IF(AND(F1345<>\"\",G1345<>\"\",H1345<>\"\",I1345<>\"\",J1345<>\"\"),Data!L1345-$F$4,\"\")","v":""},"","","","",{"$f":"IF(F1345<>\"\",STDEV($Q$12:Q1345),\"\")","v":""},""]
[1335,null,{"$f":"RIGHT(Data!C1346,10)","v":""},null,null,null,null,null,null,null,{"$f":"IFERROR($U$3*Data!O1346/SQRT(COUNT(Data!F1346:J1346)),\"\")","v":""},"","","","","",{"$f":"IFERROR((Data!K1346-$F$4),\"\")","v":""},{"$f":"IF(AND(F1346<>\"\",G1346<>\"\",H1346<>\"\",I1346<>\"\",J1346<>\"\"),Data!L1346-$F$4,\"\")","v":""},"","","","",{"$f":"IF(F1346<>\"\",STDEV($Q$12:Q1346),\"\")","v":""},""]
[1336,null,{"$f":"RIGHT(Data!C1347,10)","v":""},null,null,null,null,null,null,null,{"$f":"IFERROR($U$3*Data!O1347/SQRT(COUNT(Data!F1347:J1347)),\"\")","v":""},"","","","","",{"$f":"IFERROR((Data!K1347-$F$4),\"\")","v":""},{"$f":"IF(AND(F1347<>\"\",G1347<>\"\",H1347<>\"\",I1347<>\"\",J1347<>\"\"),Data!L1347-$F$4,\"\")","v":""},"","","","",{"$f":"IF(F1347<>\"\",STDEV($Q$12:Q1347),\"\")","v":""},""]
[1337,null,{"$f":"RIGHT(Data!C1348,10)","v":""},null,null,null,null,null,null,null,{"$f":"IFERROR($U$3*Data!O1348/SQRT(COUNT(Data!F1348:J1348)),\"\")","v":""},"","","","","",{"$f":"IFERROR((Data!K1348-$F$4),\"\")","v":""},{"$f":"IF(AND(F1348<>\"\",G1348<>\"\",H1348<>\"\",I1348<>\"\",J1348<>\"\"),Data!L1348-$F$4,\"\")","v":""},"","","","",{"$f":"IF(F1348<>\"\",STDEV($Q$12:Q1348),\"\")","v":""},""]
[1338,null,{"$f":"RIGHT(Data!C1349,10)","v":""},null,null,null,null,null,null,null,{"$f":"IFERROR($U$3*Data!O1349/SQRT(COUNT(Data!F1349:J1349)),\"\")","v":""},"","","","","",{"$f":"IFERROR((Data!K1349-$F$4),\"\")","v":""},{"$f":"IF(AND(F1349<>\"\",G1349<>\"\",H1349<>\"\",I1349<>\"\",J1349<>\"\"),Data!L1349-$F$4,\"\")","v":""},"","","","",{"$f":"IF(F1349<>\"\",STDEV($Q$12:Q1349),\"\")","v":""},""]
[1339,null,{"$f":"RIGHT(Data!C1350,10)","v":""},null,null,null,null,null,null,null,{"$f":"IFERROR($U$3*Data!O1350/SQRT(COUNT(Data!F1350:J1350)),\"\")","v":""},"","","","","",{"$f":"IFERROR((Data!K1350-$F$4),\"\")","v":""},{"$f":"IF(AND(F1350<>\"\",G1350<>\"\",H1350<>\"\",I1350<>\"\",J1350<>\"\"),Data!L1350-$F$4,\"\")","v":""},"","","","",{"$f":"IF(F1350<>\"\",STDEV($Q$12:Q1350),\"\")","v":""},""]
[1340,null,{"$f":"RIGHT(Data!C1351,10)","v":""},null,null,null,null,null,null,null,{"$f":"IFERROR($U$3*Data!O1351/SQRT(COUNT(Data!F1351:J1351)),\"\")","v":""},"","","","","",{"$f":"IFERROR((Data!K1351-$F$4),\"\")","v":""},{"$f":"IF(AND(F1351<>\"\",G1351<>\"\",H1351<>\"\",I1351<>\"\",J1351<>\"\"),Data!L1351-$F$4,\"\")","v":""},"","","","",{"$f":"IF(F1351<>\"\",STDEV($Q$12:Q1351),\"\")","v":""},""]
[1341,null,{"$f":"RIGHT(Data!C1352,10)","v":""},null,null,null,null,null,null,null,{"$f":"IFERROR($U$3*Data!O1352/SQRT(COUNT(Data!F1352:J1352)),\"\")","v":""},"","","","","",{"$f":"IFERROR((Data!K1352-$F$4),\"\")","v":""},{"$f":"IF(AND(F1352<>\"\",G1352<>\"\",H1352<>\"\",I1352<>\"\",J1352<>\"\"),Data!L1352-$F$4,\"\")","v":""},"","","","",{"$f":"IF(F1352<>\"\",STDEV($Q$12:Q1352),\"\")","v":""},""]
[1342,null,{"$f":"RIGHT(Data!C1353,10)","v":""},null,null,null,null,null,null,null,{"$f":"IFERROR($U$3*Data!O1353/SQRT(COUNT(Data!F1353:J1353)),\"\")","v":""},"","","","","",{"$f":"IFERROR((Data!K1353-$F$4),\"\")","v":""},{"$f":"IF(AND(F1353<>\"\",G1353<>\"\",H1353<>\"\",I1353<>\"\",J1353<>\"\"),Data!L1353-$F$4,\"\")","v":""},"","","","",{"$f":"IF(F1353<>\"\",STDEV($Q$12:Q1353),\"\")","v":""},""]
[1343,null,{"$f":"RIGHT(Data!C1354,10)","v":""},null,null,null,null,null,null,null,{"$f":"IFERROR($U$3*Data!O1354/SQRT(COUNT(Data!F1354:J1354)),\"\")","v":""},"","","","","",{"$f":"IFERROR((Data!K1354-$F$4),\"\")","v":""},{"$f":"IF(AND(F1354<>\"\",G1354<>\"\",H1354<>\"\",I1354<>\"\",J1354<>\"\"),Data!L1354-$F$4,\"\")","v":""},"","","","",{"$f":"IF(F1354<>\"\",STDEV($Q$12:Q1354),\"\")","v":""},""]
[1344,null,{"$f":"RIGHT(Data!C1355,10)","v":""},null,null,null,null,null,null,null,{"$f":"IFERROR($U$3*Data!O1355/SQRT(COUNT(Data!F1355:J1355)),\"\")","v":""},"","","","","",{"$f":"IFERROR((Data!K1355-$F$4),\"\")","v":""},{"$f":"IF(AND(F1355<>\"\",G1355<>\"\",H1355<>\"\",I1355<>\"\",J1355<>\"\"),Data!L1355-$F$4,\"\")","v":""},"","","","",{"$f":"IF(F1355<>\"\",STDEV($Q$12:Q1355),\"\")","v":""},""]
[1345,null,{"$f":"RIGHT(Data!C1356,10)","v":""},null,null,null,null,null,null,null,{"$f":"IFERROR($U$3*Data!O1356/SQRT(COUNT(Data!F1356:J1356)),\"\")","v":""},"","",{"$f":"IF(COUNT(F1356:J1356)>=5,STDEV(F1356:J1356)*$U$3/SQRT((COUNT(F1356:J1356))),\"\")","v":""},"","",{"$f":"IFERROR((Data!K1356-$F$4),\"\")","v":""},{"$f":"IF(AND(F1356<>\"\",G1356<>\"\",H1356<>\"\",I1356<>\"\",J1356<>\"\"),Data!L1356-$F$4,\"\")","v":""},{"$f":"IF(O1356<>\"\",FIXED(X1356,1) & \" ± \" & FIXED(O1356+ABS(R1356),2),\"\")","v":""},"","","",{"$f":"IF(F1356<>\"\",STDEV($Q$12:Q1356),\"\")","v":""},{"$f":"IF(F1356<>\"\",AVERAGE(F1356:J1356),\"\")","v":""}]
[1346,null,{"$f":"RIGHT(Data!C1357,10)","v":""},null,null,null,null,null,null,null,{"$f":"IFERROR($U$3*Data!O1357/SQRT(COUNT(Data!F1357:J1357)),\"\")","v":""},{"$f":"IF(F1357<>\"\",V1357*W1357/SQRT(A1357),\"\")","v":""},{"$f":"IF(F1357<>\"\",$U$4*SQRT($U$7^2+L1357^2+K1357^2+$U$5^2),\"\")","v":""},"",{"$f":"IFERROR($U$4*SQRT($U$7^2+L1357^2+K1357^2+$U$5^2+N1357^2),\"\")","v":""},{"$f":"IF(AND(F1357<>\"\",G1357<>\"\",H1357<>\"\",I1357<>\"\",J1357<>\"\"),AVERAGE(F1357:J1357),\"\")","v":""},{"$f":"IFERROR((Data!K1357-$F$4),\"\")","v":""},{"$f":"IF(AND(F1357<>\"\",G1357<>\"\",H1357<>\"\",I1357<>\"\",J1357<>\"\"),Data!L1357-$F$4,\"\")","v":""},"",{"$f":"IF(F1357<>\"\",FIXED(AVERAGE(F1357:J1357)-R1357,1) & \" ± \" & FIXED(O1357,2),\"\")","v":""},{"$f":"IF(IO1357=\"\",\"\",IO1357-1)","v":""},{"$f":"IF(F1357<>\"\",TINV(1-0.68,A1357-1),\"\")","v":""},{"$f":"IF(F1357<>\"\",STDEV($Q$12:Q1357),\"\")","v":""},""]
[1347,null,{"$f":"RIGHT(Data!C1358,10)","v":""},null,null,null,null,null,null,null,{"$f":"IFERROR($U$3*Data!O1358/SQRT(COUNT(Data!F1358:J1358)),\"\")","v":""},"","","","","",{"$f":"IFERROR((Data!K1358-$F$4),\"\")","v":""},{"$f":"IF(AND(F1358<>\"\",G1358<>\"\",H1358<>\"\",I1358<>\"\",J1358<>\"\"),Data!L1358-$F$4,\"\")","v":""},"","","","",{"$f":"IF(F1358<>\"\",STDEV($Q$12:Q1358),\"\")","v":""},""]
[1348,null,{"$f":"RIGHT(Data!C1359,10)","v":""},null,null,null,null,null,null,null,{"$f":"IFERROR($U$3*Data!O1359/SQRT(COUNT(Data!F1359:J1359)),\"\")","v":""},"","","","","",{"$f":"IFERROR((Data!K1359-$F$4),\"\")","v":""},{"$f":"IF(AND(F1359<>\"\",G1359<>\"\",H1359<>\"\",I1359<>\"\",J1359<>\"\"),Data!L1359-$F$4,\"\")","v":""},"","","","",{"$f":"IF(F1359<>\"\",STDEV($Q$12:Q1359),\"\")","v":""},""]
[1349,null,{"$f":"RIGHT(Data!C1360,10)","v":""},null,null,null,null,null,null,null,{"$f":"IFERROR($U$3*Data!O1360/SQRT(COUNT(Data!F1360:J1360)),\"\")","v":""},"","","","","",{"$f":"IFERROR((Data!K1360-$F$4),\"\")","v":""},{"$f":"IF(AND(F1360<>\"\",G1360<>\"\",H1360<>\"\",I1360<>\"\",J1360<>\"\"),Data!L1360-$F$4,\"\")","v":""},"","","","",{"$f":"IF(F1360<>\"\",STDEV($Q$12:Q1360),\"\")","v":""},""]
[1350,null,{"$f":"RIGHT(Data!C1361,10)","v":""},null,null,null,null,null,null,null,{"$f":"IFERROR($U$3*Data!O1361/SQRT(COUNT(Data!F1361:J1361)),\"\")","v":""},"","","","","",{"$f":"IFERROR((Data!K1361-$F$4),\"\")","v":""},{"$f":"IF(AND(F1361<>\"\",G1361<>\"\",H1361<>\"\",I1361<>\"\",J1361<>\"\"),Data!L1361-$F$4,\"\")","v":""},"","","","",{"$f":"IF(F1361<>\"\",STDEV($Q$12:Q1361),\"\")","v":""},""]
[1351,null,{"$f":"RIGHT(Data!C1362,10)","v":""},null,null,null,null,null,null,null,{"$f":"IFERROR($U$3*Data!O1362/SQRT(COUNT(Data!F1362:J1362)),\"\")","v":""},"","","","","",{"$f":"IFERROR((Data!K1362-$F$4),\"\")","v":""},{"$f":"IF(AND(F1362<>\"\",G1362<>\"\",H1362<>\"\",I1362<>\"\",J1362<>\"\"),Data!L1362-$F$4,\"\")","v":""},"","","","",{"$f":"IF(F1362<>\"\",STDEV($Q$12:Q1362),\"\")","v":""},""]
[1352,null,{"$f":"RIGHT(Data!C1363,10)","v":""},null,null,null,null,null,null,null,{"$f":"IFERROR($U$3*Data!O1363/SQRT(COUNT(Data!F1363:J1363)),\"\")","v":""},"","","","","",{"$f":"IFERROR((Data!K1363-$F$4),\"\")","v":""},{"$f":"IF(AND(F1363<>\"\",G1363<>\"\",H1363<>\"\",I1363<>\"\",J1363<>\"\"),Data!L1363-$F$4,\"\")","v":""},"","","","",{"$f":"IF(F1363<>\"\",STDEV($Q$12:Q1363),\"\")","v":""},""]
[1353,null,{"$f":"RIGHT(Data!C1364,10)","v":""},null,null,null,null,null,null,null,{"$f":"IFERROR($U$3*Data!O1364/SQRT(COUNT(Data!F1364:J1364)),\"\")","v":""},"","","","","",{"$f":"IFERROR((Data!K1364-$F$4),\"\")","v":""},{"$f":"IF(AND(F1364<>\"\",G1364<>\"\",H1364<>\"\",I1364<>\"\",J1364<>\"\"),Data!L1364-$F$4,\"\")","v":""},"","","","",{"$f":"IF(F1364<>\"\",STDEV($Q$12:Q1364),\"\")","v":""},""]
[1354,null,{"$f":"RIGHT(Data!C1365,10)","v":""},null,null,null,null,null,null,null,{"$f":"IFERROR($U$3*Data!O1365/SQRT(COUNT(Data!F1365:J1365)),\"\")","v":""},"","","","","",{"$f":"IFERROR((Data!K1365-$F$4),\"\")","v":""},{"$f":"IF(AND(F1365<>\"\",G1365<>\"\",H1365<>\"\",I1365<>\"\",J1365<>\"\"),Data!L1365-$F$4,\"\")","v":""},"","","","",{"$f":"IF(F1365<>\"\",STDEV($Q$12:Q1365),\"\")","v":""},""]
[1355,null,{"$f":"RIGHT(Data!C1366,10)","v":""},null,null,null,null,null,null,null,{"$f":"IFERROR($U$3*Data!O1366/SQRT(COUNT(Data!F1366:J1366)),\"\")","v":""},"","","","","",{"$f":"IFERROR((Data!K1366-$F$4),\"\")","v":""},{"$f":"IF(AND(F1366<>\"\",G1366<>\"\",H1366<>\"\",I1366<>\"\",J1366<>\"\"),Data!L1366-$F$4,\"\")","v":""},"","","","",{"$f":"IF(F1366<>\"\",STDEV($Q$12:Q1366),\"\")","v":""},""]
[1356,null,{"$f":"RIGHT(Data!C1367,10)","v":""},null,null,null,null,null,null,null,{"$f":"IFERROR($U$3*Data!O1367/SQRT(COUNT(Data!F1367:J1367)),\"\")","v":""},"","","","","",{"$f":"IFERROR((Data!K1367-$F$4),\"\")","v":""},{"$f":"IF(AND(F1367<>\"\",G1367<>\"\",H1367<>\"\",I1367<>\"\",J1367<>\"\"),Data!L1367-$F$4,\"\")","v":""},"","","","",{"$f":"IF(F1367<>\"\",STDEV($Q$12:Q1367),\"\")","v":""},""]
[1357,null,{"$f":"RIGHT(Data!C1368,10)","v":""},null,null,null,null,null,null,null,{"$f":"IFERROR($U$3*Data!O1368/SQRT(COUNT(Data!F1368:J1368)),\"\")","v":""},"","","","","",{"$f":"IFERROR((Data!K1368-$F$4),\"\")","v":""},{"$f":"IF(AND(F1368<>\"\",G1368<>\"\",H1368<>\"\",I1368<>\"\",J1368<>\"\"),Data!L1368-$F$4,\"\")","v":""},"","","","",{"$f":"IF(F1368<>\"\",STDEV($Q$12:Q1368),\"\")","v":""},""]
[1358,null,{"$f":"RIGHT(Data!C1369,10)","v":""},null,null,null,null,null,null,null,{"$f":"IFERROR($U$3*Data!O1369/SQRT(COUNT(Data!F1369:J1369)),\"\")","v":""},"","","","","",{"$f":"IFERROR((Data!K1369-$F$4),\"\")","v":""},{"$f":"IF(AND(F1369<>\"\",G1369<>\"\",H1369<>\"\",I1369<>\"\",J1369<>\"\"),Data!L1369-$F$4,\"\")","v":""},"","","","",{"$f":"IF(F1369<>\"\",STDEV($Q$12:Q1369),\"\")","v":""},""]
[1359,null,{"$f":"RIGHT(Data!C1370,10)","v":""},null,null,null,null,null,null,null,{"$f":"IFERROR($U$3*Data!O1370/SQRT(COUNT(Data!F1370:J1370)),\"\")","v":""},"","","","","",{"$f":"IFERROR((Data!K1370-$F$4),\"\")","v":""},{"$f":"IF(AND(F1370<>\"\",G1370<>\"\",H1370<>\"\",I1370<>\"\",J1370<>\"\"),Data!L1370-$F$4,\"\")","v":""},"","","","",{"$f":"IF(F1370<>\"\",STDEV($Q$12:Q1370),\"\")","v":""},""]
[1360,null,{"$f":"RIGHT(Data!C1371,10)","v":""},null,null,null,null,null,null,null,{"$f":"IFERROR($U$3*Data!O1371/SQRT(COUNT(Data!F1371:J1371)),\"\")","v":""},"","","","","",{"$f":"IFERROR((Data!K1371-$F$4),\"\")","v":""},{"$f":"IF(AND(F1371<>\"\",G1371<>\"\",H1371<>\"\",I1371<>\"\",J1371<>\"\"),Data!L1371-$F$4,\"\")","v":""},"","","","",{"$f":"IF(F1371<>\"\",STDEV($Q$12:Q1371),\"\")","v":""},""]
[1361,null,{"$f":"RIGHT(Data!C1372,10)","v":""},null,null,null,null,null,null,null,{"$f":"IFERROR($U$3*Data!O1372/SQRT(COUNT(Data!F1372:J1372)),\"\")","v":""},"","","","","",{"$f":"IFERROR((Data!K1372-$F$4),\"\")","v":""},{"$f":"IF(AND(F1372<>\"\",G1372<>\"\",H1372<>\"\",I1372<>\"\",J1372<>\"\"),Data!L1372-$F$4,\"\")","v":""},"","","","",{"$f":"IF(F1372<>\"\",STDEV($Q$12:Q1372),\"\")","v":""},""]
[1362,null,{"$f":"RIGHT(Data!C1373,10)","v":""},null,null,null,null,null,null,null,{"$f":"IFERROR($U$3*Data!O1373/SQRT(COUNT(Data!F1373:J1373)),\"\")","v":""},"","","","","",{"$f":"IFERROR((Data!K1373-$F$4),\"\")","v":""},{"$f":"IF(AND(F1373<>\"\",G1373<>\"\",H1373<>\"\",I1373<>\"\",J1373<>\"\"),Data!L1373-$F$4,\"\")","v":""},"","","","",{"$f":"IF(F1373<>\"\",STDEV($Q$12:Q1373),\"\")","v":""},""]
[1363,null,{"$f":"RIGHT(Data!C1374,10)","v":""},null,null,null,null,null,null,null,{"$f":"IFERROR($U$3*Data!O1374/SQRT(COUNT(Data!F1374:J1374)),\"\")","v":""},"","","","","",{"$f":"IFERROR((Data!K1374-$F$4),\"\")","v":""},{"$f":"IF(AND(F1374<>\"\",G1374<>\"\",H1374<>\"\",I1374<>\"\",J1374<>\"\"),Data!L1374-$F$4,\"\")","v":""},"","","","",{"$f":"IF(F1374<>\"\",STDEV($Q$12:Q1374),\"\")","v":""},""]
[1364,null,{"$f":"RIGHT(Data!C1375,10)","v":""},null,null,null,null,null,null,null,{"$f":"IFERROR($U$3*Data!O1375/SQRT(COUNT(Data!F1375:J1375)),\"\")","v":""},"","","","","",{"$f":"IFERROR((Data!K1375-$F$4),\"\")","v":""},{"$f":"IF(AND(F1375<>\"\",G1375<>\"\",H1375<>\"\",I1375<>\"\",J1375<>\"\"),Data!L1375-$F$4,\"\")","v":""},"","","","",{"$f":"IF(F1375<>\"\",STDEV($Q$12:Q1375),\"\")","v":""},""]
[1365,null,{"$f":"RIGHT(Data!C1376,10)","v":""},null,null,null,null,null,null,null,{"$f":"IFERROR($U$3*Data!O1376/SQRT(COUNT(Data!F1376:J1376)),\"\")","v":""},"","","","","",{"$f":"IFERROR((Data!K1376-$F$4),\"\")","v":""},{"$f":"IF(AND(F1376<>\"\",G1376<>\"\",H1376<>\"\",I1376<>\"\",J1376<>\"\"),Data!L1376-$F$4,\"\")","v":""},"","","","",{"$f":"IF(F1376<>\"\",STDEV($Q$12:Q1376),\"\")","v":""},""]
[1366,null,{"$f":"RIGHT(Data!C1377,10)","v":""},null,null,null,null,null,null,null,{"$f":"IFERROR($U$3*Data!O1377/SQRT(COUNT(Data!F1377:J1377)),\"\")","v":""},"","","","","",{"$f":"IFERROR((Data!K1377-$F$4),\"\")","v":""},{"$f":"IF(AND(F1377<>\"\",G1377<>\"\",H1377<>\"\",I1377<>\"\",J1377<>\"\"),Data!L1377-$F$4,\"\")","v":""},"","","","",{"$f":"IF(F1377<>\"\",STDEV($Q$12:Q1377),\"\")","v":""},""]
[1367,null,{"$f":"RIGHT(Data!C1378,10)","v":""},null,null,null,null,null,null,null,{"$f":"IFERROR($U$3*Data!O1378/SQRT(COUNT(Data!F1378:J1378)),\"\")","v":""},"","","","","",{"$f":"IFERROR((Data!K1378-$F$4),\"\")","v":""},{"$f":"IF(AND(F1378<>\"\",G1378<>\"\",H1378<>\"\",I1378<>\"\",J1378<>\"\"),Data!L1378-$F$4,\"\")","v":""},"","","","",{"$f":"IF(F1378<>\"\",STDEV($Q$12:Q1378),\"\")","v":""},""]
[1368,null,{"$f":"RIGHT(Data!C1379,10)","v":""},null,null,null,null,null,null,null,{"$f":"IFERROR($U$3*Data!O1379/SQRT(COUNT(Data!F1379:J1379)),\"\")","v":""},"","","","","",{"$f":"IFERROR((Data!K1379-$F$4),\"\")","v":""},{"$f":"IF(AND(F1379<>\"\",G1379<>\"\",H1379<>\"\",I1379<>\"\",J1379<>\"\"),Data!L1379-$F$4,\"\")","v":""},"","","","",{"$f":"IF(F1379<>\"\",STDEV($Q$12:Q1379),\"\")","v":""},""]
[1369,null,{"$f":"RIGHT(Data!C1380,10)","v":""},null,null,null,null,null,null,null,{"$f":"IFERROR($U$3*Data!O1380/SQRT(COUNT(Data!F1380:J1380)),\"\")","v":""},"","","","","",{"$f":"IFERROR((Data!K1380-$F$4),\"\")","v":""},{"$f":"IF(AND(F1380<>\"\",G1380<>\"\",H1380<>\"\",I1380<>\"\",J1380<>\"\"),Data!L1380-$F$4,\"\")","v":""},"","","","",{"$f":"IF(F1380<>\"\",STDEV($Q$12:Q1380),\"\")","v":""},""]
[1370,null,{"$f":"RIGHT(Data!C1381,10)","v":""},null,null,null,null,null,null,null,{"$f":"IFERROR($U$3*Data!O1381/SQRT(COUNT(Data!F1381:J1381)),\"\")","v":""},"","","","","",{"$f":"IFERROR((Data!K1381-$F$4),\"\")","v":""},{"$f":"IF(AND(F1381<>\"\",G1381<>\"\",H1381<>\"\",I1381<>\"\",J1381<>\"\"),Data!L1381-$F$4,\"\")","v":""},"","","","",{"$f":"IF(F1381<>\"\",STDEV($Q$12:Q1381),\"\")","v":""},""]
[1371,null,{"$f":"RIGHT(Data!C1382,10)","v":""},null,null,null,null,null,null,null,{"$f":"IFERROR($U$3*Data!O1382/SQRT(COUNT(Data!F1382:J1382)),\"\")","v":""},"","","","","",{"$f":"IFERROR((Data!K1382-$F$4),\"\")","v":""},{"$f":"IF(AND(F1382<>\"\",G1382<>\"\",H1382<>\"\",I1382<>\"\",J1382<>\"\"),Data!L1382-$F$4,\"\")","v":""},"","","","",{"$f":"IF(F1382<>\"\",STDEV($Q$12:Q1382),\"\")","v":""},""]
[1372,null,{"$f":"RIGHT(Data!C1383,10)","v":""},null,null,null,null,null,null,null,{"$f":"IFERROR($U$3*Data!O1383/SQRT(COUNT(Data!F1383:J1383)),\"\")","v":""},"","","","","",{"$f":"IFERROR((Data!K1383-$F$4),\"\")","v":""},{"$f":"IF(AND(F1383<>\"\",G1383<>\"\",H1383<>\"\",I1383<>\"\",J1383<>\"\"),Data!L1383-$F$4,\"\")","v":""},"","","","",{"$f":"IF(F1383<>\"\",STDEV($Q$12:Q1383),\"\")","v":""},""]
[1373,null,{"$f":"RIGHT(Data!C1384,10)","v":""},null,null,null,null,null,null,null,{"$f":"IFERROR($U$3*Data!O1384/SQRT(COUNT(Data!F1384:J1384)),\"\")","v":""},"","","","","",{"$f":"IFERROR((Data!K1384-$F$4),\"\")","v":""},{"$f":"IF(AND(F1384<>\"\",G1384<>\"\",H1384<>\"\",I1384<>\"\",J1384<>\"\"),Data!L1384-$F$4,\"\")","v":""},"","","","",{"$f":"IF(F1384<>\"\",STDEV($Q$12:Q1384),\"\")","v":""},""]
[1374,null,{"$f":"RIGHT(Data!C1385,10)","v":""},null,null,null,null,null,null,null,{"$f":"IFERROR($U$3*Data!O1385/SQRT(COUNT(Data!F1385:J1385)),\"\")","v":""},"","","","","",{"$f":"IFERROR((Data!K1385-$F$4),\"\")","v":""},{"$f":"IF(AND(F1385<>\"\",G1385<>\"\",H1385<>\"\",I1385<>\"\",J1385<>\"\"),Data!L1385-$F$4,\"\")","v":""},"","","","",{"$f":"IF(F1385<>\"\",STDEV($Q$12:Q1385),\"\")","v":""},""]
[1375,null,{"$f":"RIGHT(Data!C1386,10)","v":""},null,null,null,null,null,null,null,{"$f":"IFERROR($U$3*Data!O1386/SQRT(COUNT(Data!F1386:J1386)),\"\")","v":""},"","","","","",{"$f":"IFERROR((Data!K1386-$F$4),\"\")","v":""},{"$f":"IF(AND(F1386<>\"\",G1386<>\"\",H1386<>\"\",I1386<>\"\",J1386<>\"\"),Data!L1386-$F$4,\"\")","v":""},"","","","",{"$f":"IF(F1386<>\"\",STDEV($Q$12:Q1386),\"\")","v":""},""]
[1376,null,{"$f":"RIGHT(Data!C1387,10)","v":""},null,null,null,null,null,null,null,{"$f":"IFERROR($U$3*Data!O1387/SQRT(COUNT(Data!F1387:J1387)),\"\")","v":""},"","","","","",{"$f":"IFERROR((Data!K1387-$F$4),\"\")","v":""},{"$f":"IF(AND(F1387<>\"\",G1387<>\"\",H1387<>\"\",I1387<>\"\",J1387<>\"\"),Data!L1387-$F$4,\"\")","v":""},"","","","",{"$f":"IF(F1387<>\"\",STDEV($Q$12:Q1387),\"\")","v":""},""]
[1377,null,{"$f":"RIGHT(Data!C1388,10)","v":""},null,null,null,null,null,null,null,{"$f":"IFERROR($U$3*Data!O1388/SQRT(COUNT(Data!F1388:J1388)),\"\")","v":""},"","","","","",{"$f":"IFERROR((Data!K1388-$F$4),\"\")","v":""},{"$f":"IF(AND(F1388<>\"\",G1388<>\"\",H1388<>\"\",I1388<>\"\",J1388<>\"\"),Data!L1388-$F$4,\"\")","v":""},"","","","",{"$f":"IF(F1388<>\"\",STDEV($Q$12:Q1388),\"\")","v":""},""]
[1378,null,{"$f":"RIGHT(Data!C1389,10)","v":""},null,null,null,null,null,null,null,{"$f":"IFERROR($U$3*Data!O1389/SQRT(COUNT(Data!F1389:J1389)),\"\")","v":""},"","","","","",{"$f":"IFERROR((Data!K1389-$F$4),\"\")","v":""},{"$f":"IF(AND(F1389<>\"\",G1389<>\"\",H1389<>\"\",I1389<>\"\",J1389<>\"\"),Data!L1389-$F$4,\"\")","v":""},"","","","",{"$f":"IF(F1389<>\"\",STDEV($Q$12:Q1389),\"\")","v":""},""]
[1379,null,{"$f":"RIGHT(Data!C1390,10)","v":""},null,null,null,null,null,null,null,{"$f":"IFERROR($U$3*Data!O1390/SQRT(COUNT(Data!F1390:J1390)),\"\")","v":""},"","","","","",{"$f":"IFERROR((Data!K1390-$F$4),\"\")","v":""},{"$f":"IF(AND(F1390<>\"\",G1390<>\"\",H1390<>\"\",I1390<>\"\",J1390<>\"\"),Data!L1390-$F$4,\"\")","v":""},"","","","",{"$f":"IF(F1390<>\"\",STDEV($Q$12:Q1390),\"\")","v":""},""]
[1380,null,{"$f":"RIGHT(Data!C1391,10)","v":""},null,null,null,null,null,null,null,{"$f":"IFERROR($U$3*Data!O1391/SQRT(COUNT(Data!F1391:J1391)),\"\")","v":""},"","","","","",{"$f":"IFERROR((Data!K1391-$F$4),\"\")","v":""},{"$f":"IF(AND(F1391<>\"\",G1391<>\"\",H1391<>\"\",I1391<>\"\",J1391<>\"\"),Data!L1391-$F$4,\"\")","v":""},"","","","",{"$f":"IF(F1391<>\"\",STDEV($Q$12:Q1391),\"\")","v":""},""]
[1381,null,{"$f":"RIGHT(Data!C1392,10)","v":""},null,null,null,null,null,null,null,{"$f":"IFERROR($U$3*Data!O1392/SQRT(COUNT(Data!F1392:J1392)),\"\")","v":""},"","","","","",{"$f":"IFERROR((Data!K1392-$F$4),\"\")","v":""},{"$f":"IF(AND(F1392<>\"\",G1392<>\"\",H1392<>\"\",I1392<>\"\",J1392<>\"\"),Data!L1392-$F$4,\"\")","v":""},"","","","",{"$f":"IF(F1392<>\"\",STDEV($Q$12:Q1392),\"\")","v":""},""]
[1382,null,{"$f":"RIGHT(Data!C1393,10)","v":""},null,null,null,null,null,null,null,{"$f":"IFERROR($U$3*Data!O1393/SQRT(COUNT(Data!F1393:J1393)),\"\")","v":""},"","","","","",{"$f":"IFERROR((Data!K1393-$F$4),\"\")","v":""},{"$f":"IF(AND(F1393<>\"\",G1393<>\"\",H1393<>\"\",I1393<>\"\",J1393<>\"\"),Data!L1393-$F$4,\"\")","v":""},"","","","",{"$f":"IF(F1393<>\"\",STDEV($Q$12:Q1393),\"\")","v":""},""]
[1383,null,{"$f":"RIGHT(Data!C1394,10)","v":""},null,null,null,null,null,null,null,{"$f":"IFERROR($U$3*Data!O1394/SQRT(COUNT(Data!F1394:J1394)),\"\")","v":""},"","","","","",{"$f":"IFERROR((Data!K1394-$F$4),\"\")","v":""},{"$f":"IF(AND(F1394<>\"\",G1394<>\"\",H1394<>\"\",I1394<>\"\",J1394<>\"\"),Data!L1394-$F$4,\"\")","v":""},"","","","",{"$f":"IF(F1394<>\"\",STDEV($Q$12:Q1394),\"\")","v":""},""]
[1384,null,{"$f":"RIGHT(Data!C1395,10)","v":""},null,null,null,null,null,null,null,{"$f":"IFERROR($U$3*Data!O1395/SQRT(COUNT(Data!F1395:J1395)),\"\")","v":""},"","","","","",{"$f":"IFERROR((Data!K1395-$F$4),\"\")","v":""},{"$f":"IF(AND(F1395<>\"\",G1395<>\"\",H1395<>\"\",I1395<>\"\",J1395<>\"\"),Data!L1395-$F$4,\"\")","v":""},"","","","",{"$f":"IF(F1395<>\"\",STDEV($Q$12:Q1395),\"\")","v":""},""]
[1385,null,{"$f":"RIGHT(Data!C1396,10)","v":""},null,null,null,null,null,null,null,{"$f":"IFERROR($U$3*Data!O1396/SQRT(COUNT(Data!F1396:J1396)),\"\")","v":""},"","","","","",{"$f":"IFERROR((Data!K1396-$F$4),\"\")","v":""},{"$f":"IF(AND(F1396<>\"\",G1396<>\"\",H1396<>\"\",I1396<>\"\",J1396<>\"\"),Data!L1396-$F$4,\"\")","v":""},"","","","",{"$f":"IF(F1396<>\"\",STDEV($Q$12:Q1396),\"\")","v":""},""]
[1386,null,{"$f":"RIGHT(Data!C1397,10)","v":""},null,null,null,null,null,null,null,{"$f":"IFERROR($U$3*Data!O1397/SQRT(COUNT(Data!F1397:J1397)),\"\")","v":""},"","","","","",{"$f":"IFERROR((Data!K1397-$F$4),\"\")","v":""},{"$f":"IF(AND(F1397<>\"\",G1397<>\"\",H1397<>\"\",I1397<>\"\",J1397<>\"\"),Data!L1397-$F$4,\"\")","v":""},"","","","",{"$f":"IF(F1397<>\"\",STDEV($Q$12:Q1397),\"\")","v":""},""]
[1387,null,{"$f":"RIGHT(Data!C1398,10)","v":""},null,null,null,null,null,null,null,{"$f":"IFERROR($U$3*Data!O1398/SQRT(COUNT(Data!F1398:J1398)),\"\")","v":""},"","","","","",{"$f":"IFERROR((Data!K1398-$F$4),\"\")","v":""},{"$f":"IF(AND(F1398<>\"\",G1398<>\"\",H1398<>\"\",I1398<>\"\",J1398<>\"\"),Data!L1398-$F$4,\"\")","v":""},"","","","",{"$f":"IF(F1398<>\"\",STDEV($Q$12:Q1398),\"\")","v":""},""]
[1388,null,{"$f":"RIGHT(Data!C1399,10)","v":""},null,null,null,null,null,null,null,{"$f":"IFERROR($U$3*Data!O1399/SQRT(COUNT(Data!F1399:J1399)),\"\")","v":""},"","","","","",{"$f":"IFERROR((Data!K1399-$F$4),\"\")","v":""},{"$f":"IF(AND(F1399<>\"\",G1399<>\"\",H1399<>\"\",I1399<>\"\",J1399<>\"\"),Data!L1399-$F$4,\"\")","v":""},"","","","",{"$f":"IF(F1399<>\"\",STDEV($Q$12:Q1399),\"\")","v":""},""]
[1389,null,{"$f":"RIGHT(Data!C1400,10)","v":""},null,null,null,null,null,null,null,{"$f":"IFERROR($U$3*Data!O1400/SQRT(COUNT(Data!F1400:J1400)),\"\")","v":""},"","","","","",{"$f":"IFERROR((Data!K1400-$F$4),\"\")","v":""},{"$f":"IF(AND(F1400<>\"\",G1400<>\"\",H1400<>\"\",I1400<>\"\",J1400<>\"\"),Data!L1400-$F$4,\"\")","v":""},"","","","",{"$f":"IF(F1400<>\"\",STDEV($Q$12:Q1400),\"\")","v":""},""]
[1390,null,{"$f":"RIGHT(Data!C1401,10)","v":""},null,null,null,null,null,null,null,{"$f":"IFERROR($U$3*Data!O1401/SQRT(COUNT(Data!F1401:J1401)),\"\")","v":""},"","","","","",{"$f":"IFERROR((Data!K1401-$F$4),\"\")","v":""},{"$f":"IF(AND(F1401<>\"\",G1401<>\"\",H1401<>\"\",I1401<>\"\",J1401<>\"\"),Data!L1401-$F$4,\"\")","v":""},"","","","",{"$f":"IF(F1401<>\"\",STDEV($Q$12:Q1401),\"\")","v":""},""]
[1391,null,{"$f":"RIGHT(Data!C1402,10)","v":""},null,null,null,null,null,null,null,{"$f":"IFERROR($U$3*Data!O1402/SQRT(COUNT(Data!F1402:J1402)),\"\")","v":""},"","","","","",{"$f":"IFERROR((Data!K1402-$F$4),\"\")","v":""},{"$f":"IF(AND(F1402<>\"\",G1402<>\"\",H1402<>\"\",I1402<>\"\",J1402<>\"\"),Data!L1402-$F$4,\"\")","v":""},"","","","",{"$f":"IF(F1402<>\"\",STDEV($Q$12:Q1402),\"\")","v":""},""]
[1392,null,{"$f":"RIGHT(Data!C1403,10)","v":""},null,null,null,null,null,null,null,{"$f":"IFERROR($U$3*Data!O1403/SQRT(COUNT(Data!F1403:J1403)),\"\")","v":""},"","","","","",{"$f":"IFERROR((Data!K1403-$F$4),\"\")","v":""},{"$f":"IF(AND(F1403<>\"\",G1403<>\"\",H1403<>\"\",I1403<>\"\",J1403<>\"\"),Data!L1403-$F$4,\"\")","v":""},"","","","",{"$f":"IF(F1403<>\"\",STDEV($Q$12:Q1403),\"\")","v":""},""]
[1393,null,{"$f":"RIGHT(Data!C1404,10)","v":""},null,null,null,null,null,null,null,{"$f":"IFERROR($U$3*Data!O1404/SQRT(COUNT(Data!F1404:J1404)),\"\")","v":""},"","","","","",{"$f":"IFERROR((Data!K1404-$F$4),\"\")","v":""},{"$f":"IF(AND(F1404<>\"\",G1404<>\"\",H1404<>\"\",I1404<>\"\",J1404<>\"\"),Data!L1404-$F$4,\"\")","v":""},"","","","",{"$f":"IF(F1404<>\"\",STDEV($Q$12:Q1404),\"\")","v":""},""]
[1394,null,{"$f":"RIGHT(Data!C1405,10)","v":""},null,null,null,null,null,null,null,{"$f":"IFERROR($U$3*Data!O1405/SQRT(COUNT(Data!F1405:J1405)),\"\")","v":""},"","","","","",{"$f":"IFERROR((Data!K1405-$F$4),\"\")","v":""},{"$f":"IF(AND(F1405<>\"\",G1405<>\"\",H1405<>\"\",I1405<>\"\",J1405<>\"\"),Data!L1405-$F$4,\"\")","v":""},"","","","",{"$f":"IF(F1405<>\"\",STDEV($Q$12:Q1405),\"\")","v":""},""]
[1395,null,{"$f":"RIGHT(Data!C1406,10)","v":""},null,null,null,null,null,null,null,{"$f":"IFERROR($U$3*Data!O1406/SQRT(COUNT(Data!F1406:J1406)),\"\")","v":""},"","","","","",{"$f":"IFERROR((Data!K1406-$F$4),\"\")","v":""},{"$f":"IF(AND(F1406<>\"\",G1406<>\"\",H1406<>\"\",I1406<>\"\",J1406<>\"\"),Data!L1406-$F$4,\"\")","v":""},"","","","",{"$f":"IF(F1406<>\"\",STDEV($Q$12:Q1406),\"\")","v":""},""]
[1396,null,{"$f":"RIGHT(Data!C1407,10)","v":""},null,null,null,null,null,null,null,{"$f":"IFERROR($U$3*Data!O1407/SQRT(COUNT(Data!F1407:J1407)),\"\")","v":""},"","","","","",{"$f":"IFERROR((Data!K1407-$F$4),\"\")","v":""},{"$f":"IF(AND(F1407<>\"\",G1407<>\"\",H1407<>\"\",I1407<>\"\",J1407<>\"\"),Data!L1407-$F$4,\"\")","v":""},"","","","",{"$f":"IF(F1407<>\"\",STDEV($Q$12:Q1407),\"\")","v":""},""]
[1397,null,{"$f":"RIGHT(Data!C1408,10)","v":""},null,null,null,null,null,null,null,{"$f":"IFERROR($U$3*Data!O1408/SQRT(COUNT(Data!F1408:J1408)),\"\")","v":""},"","","","","",{"$f":"IFERROR((Data!K1408-$F$4),\"\")","v":""},{"$f":"IF(AND(F1408<>\"\",G1408<>\"\",H1408<>\"\",I1408<>\"\",J1408<>\"\"),Data!L1408-$F$4,\"\")","v":""},"","","","",{"$f":"IF(F1408<>\"\",STDEV($Q$12:Q1408),\"\")","v":""},""]
[1398,null,{"$f":"RIGHT(Data!C1409,10)","v":""},null,null,null,null,null,null,null,{"$f":"IFERROR($U$3*Data!O1409/SQRT(COUNT(Data!F1409:J1409)),\"\")","v":""},"","","","","",{"$f":"IFERROR((Data!K1409-$F$4),\"\")","v":""},{"$f":"IF(AND(F1409<>\"\",G1409<>\"\",H1409<>\"\",I1409<>\"\",J1409<>\"\"),Data!L1409-$F$4,\"\")","v":""},"","","","",{"$f":"IF(F1409<>\"\",STDEV($Q$12:Q1409),\"\")","v":""},""]
[1399,null,{"$f":"RIGHT(Data!C1410,10)","v":""},null,null,null,null,null,null,null,{"$f":"IFERROR($U$3*Data!O1410/SQRT(COUNT(Data!F1410:J1410)),\"\")","v":""},"","","","","",{"$f":"IFERROR((Data!K1410-$F$4),\"\")","v":""},{"$f":"IF(AND(F1410<>\"\",G1410<>\"\",H1410<>\"\",I1410<>\"\",J1410<>\"\"),Data!L1410-$F$4,\"\")","v":""},"","","","",{"$f":"IF(F1410<>\"\",STDEV($Q$12:Q1410),\"\")","v":""},""]
[1400,null,{"$f":"RIGHT(Data!C1411,10)","v":""},null,null,null,null,null,null,null,{"$f":"IFERROR($U$3*Data!O1411/SQRT(COUNT(Data!F1411:J1411)),\"\")","v":""},"","","","","",{"$f":"IFERROR((Data!K1411-$F$4),\"\")","v":""},{"$f":"IF(AND(F1411<>\"\",G1411<>\"\",H1411<>\"\",I1411<>\"\",J1411<>\"\"),Data!L1411-$F$4,\"\")","v":""},"","","","",{"$f":"IF(F1411<>\"\",STDEV($Q$12:Q1411),\"\")","v":""},""]
[1401,null,{"$f":"RIGHT(Data!C1412,10)","v":""},null,null,null,null,null,null,null,{"$f":"IFERROR($U$3*Data!O1412/SQRT(COUNT(Data!F1412:J1412)),\"\")","v":""},"","","","","",{"$f":"IFERROR((Data!K1412-$F$4),\"\")","v":""},{"$f":"IF(AND(F1412<>\"\",G1412<>\"\",H1412<>\"\",I1412<>\"\",J1412<>\"\"),Data!L1412-$F$4,\"\")","v":""},"","","","",{"$f":"IF(F1412<>\"\",STDEV($Q$12:Q1412),\"\")","v":""},""]
[1402,null,{"$f":"RIGHT(Data!C1413,10)","v":""},null,null,null,null,null,null,null,{"$f":"IFERROR($U$3*Data!O1413/SQRT(COUNT(Data!F1413:J1413)),\"\")","v":""},"","","","","",{"$f":"IFERROR((Data!K1413-$F$4),\"\")","v":""},{"$f":"IF(AND(F1413<>\"\",G1413<>\"\",H1413<>\"\",I1413<>\"\",J1413<>\"\"),Data!L1413-$F$4,\"\")","v":""},"","","","",{"$f":"IF(F1413<>\"\",STDEV($Q$12:Q1413),\"\")","v":""},""]
[1403,null,{"$f":"RIGHT(Data!C1414,10)","v":""},null,null,null,null,null,null,null,{"$f":"IFERROR($U$3*Data!O1414/SQRT(COUNT(Data!F1414:J1414)),\"\")","v":""},"","","","","",{"$f":"IFERROR((Data!K1414-$F$4),\"\")","v":""},{"$f":"IF(AND(F1414<>\"\",G1414<>\"\",H1414<>\"\",I1414<>\"\",J1414<>\"\"),Data!L1414-$F$4,\"\")","v":""},"","","","",{"$f":"IF(F1414<>\"\",STDEV($Q$12:Q1414),\"\")","v":""},""]
[1404,null,{"$f":"RIGHT(Data!C1415,10)","v":""},null,null,null,null,null,null,null,{"$f":"IFERROR($U$3*Data!O1415/SQRT(COUNT(Data!F1415:J1415)),\"\")","v":""},"","","","","",{"$f":"IFERROR((Data!K1415-$F$4),\"\")","v":""},{"$f":"IF(AND(F1415<>\"\",G1415<>\"\",H1415<>\"\",I1415<>\"\",J1415<>\"\"),Data!L1415-$F$4,\"\")","v":""},"","","","",{"$f":"IF(F1415<>\"\",STDEV($Q$12:Q1415),\"\")","v":""},""]
[1405,null,{"$f":"RIGHT(Data!C1416,10)","v":""},null,null,null,null,null,null,null,{"$f":"IFERROR($U$3*Data!O1416/SQRT(COUNT(Data!F1416:J1416)),\"\")","v":""},"","","","","",{"$f":"IFERROR((Data!K1416-$F$4),\"\")","v":""},{"$f":"IF(AND(F1416<>\"\",G1416<>\"\",H1416<>\"\",I1416<>\"\",J1416<>\"\"),Data!L1416-$F$4,\"\")","v":""},"","","","",{"$f":"IF(F1416<>\"\",STDEV($Q$12:Q1416),\"\")","v":""},""]
[1406,null,{"$f":"RIGHT(Data!C1417,10)","v":""},null,null,null,null,null,null,null,{"$f":"IFERROR($U$3*Data!O1417/SQRT(COUNT(Data!F1417:J1417)),\"\")","v":""},"","","","","",{"$f":"IFERROR((Data!K1417-$F$4),\"\")","v":""},{"$f":"IF(AND(F1417<>\"\",G1417<>\"\",H1417<>\"\",I1417<>\"\",J1417<>\"\"),Data!L1417-$F$4,\"\")","v":""},"","","","",{"$f":"IF(F1417<>\"\",STDEV($Q$12:Q1417),\"\")","v":""},""]
[1407,null,{"$f":"RIGHT(Data!C1418,10)","v":""},null,null,null,null,null,null,null,{"$f":"IFERROR($U$3*Data!O1418/SQRT(COUNT(Data!F1418:J1418)),\"\")","v":""},"","","","","",{"$f":"IFERROR((Data!K1418-$F$4),\"\")","v":""},{"$f":"IF(AND(F1418<>\"\",G1418<>\"\",H1418<>\"\",I1418<>\"\",J1418<>\"\"),Data!L1418-$F$4,\"\")","v":""},"","","","",{"$f":"IF(F1418<>\"\",STDEV($Q$12:Q1418),\"\")","v":""},""]
[1408,null,{"$f":"RIGHT(Data!C1419,10)","v":""},null,null,null,null,null,null,null,{"$f":"IFERROR($U$3*Data!O1419/SQRT(COUNT(Data!F1419:J1419)),\"\")","v":""},"","","","","",{"$f":"IFERROR((Data!K1419-$F$4),\"\")","v":""},{"$f":"IF(AND(F1419<>\"\",G1419<>\"\",H1419<>\"\",I1419<>\"\",J1419<>\"\"),Data!L1419-$F$4,\"\")","v":""},"","","","",{"$f":"IF(F1419<>\"\",STDEV($Q$12:Q1419),\"\")","v":""},""]
[1409,null,{"$f":"RIGHT(Data!C1420,10)","v":""},null,null,null,null,null,null,null,{"$f":"IFERROR($U$3*Data!O1420/SQRT(COUNT(Data!F1420:J1420)),\"\")","v":""},"","",{"$f":"IF(COUNT(F1420:J1420)>=5,STDEV(F1420:J1420)*$U$3/SQRT((COUNT(F1420:J1420))),\"\")","v":""},"","",{"$f":"IFERROR((Data!K1420-$F$4),\"\")","v":""},{"$f":"IF(AND(F1420<>\"\",G1420<>\"\",H1420<>\"\",I1420<>\"\",J1420<>\"\"),Data!L1420-$F$4,\"\")","v":""},{"$f":"IF(O1420<>\"\",FIXED(X1420,1) & \" ± \" & FIXED(O1420+ABS(R1420),2),\"\")","v":""},"","","",{"$f":"IF(F1420<>\"\",STDEV($Q$12:Q1420),\"\")","v":""},{"$f":"IF(F1420<>\"\",AVERAGE(F1420:J1420),\"\")","v":""}]
[1410,null,{"$f":"RIGHT(Data!C1421,10)","v":""},null,null,null,null,null,null,null,{"$f":"IFERROR($U$3*Data!O1421/SQRT(COUNT(Data!F1421:J1421)),\"\")","v":""},{"$f":"IF(F1421<>\"\",V1421*W1421/SQRT(A1421),\"\")","v":""},{"$f":"IF(F1421<>\"\",$U$4*SQRT($U$7^2+L1421^2+K1421^2+$U$5^2),\"\")","v":""},"",{"$f":"IFERROR($U$4*SQRT($U$7^2+L1421^2+K1421^2+$U$5^2+N1421^2),\"\")","v":""},{"$f":"IF(AND(F1421<>\"\",G1421<>\"\",H1421<>\"\",I1421<>\"\",J1421<>\"\"),AVERAGE(F1421:J1421),\"\")","v":""},{"$f":"IFERROR((Data!K1421-$F$4),\"\")","v":""},{"$f":"IF(AND(F1421<>\"\",G1421<>\"\",H1421<>\"\",I1421<>\"\",J1421<>\"\"),Data!L1421-$F$4,\"\")","v":""},"",{"$f":"IF(F1421<>\"\",FIXED(AVERAGE(F1421:J1421)-R1421,1) & \" ± \" & FIXED(O1421,2),\"\")","v":""},{"$f":"IF(IO1421=\"\",\"\",IO1421-1)","v":""},{"$f":"IF(F1421<>\"\",TINV(1-0.68,A1421-1),\"\")","v":""},{"$f":"IF(F1421<>\"\",STDEV($Q$12:Q1421),\"\")","v":""},""]
[1411,null,{"$f":"RIGHT(Data!C1422,10)","v":""},null,null,null,null,null,null,null,{"$f":"IFERROR($U$3*Data!O1422/SQRT(COUNT(Data!F1422:J1422)),\"\")","v":""},"","","","","",{"$f":"IFERROR((Data!K1422-$F$4),\"\")","v":""},{"$f":"IF(AND(F1422<>\"\",G1422<>\"\",H1422<>\"\",I1422<>\"\",J1422<>\"\"),Data!L1422-$F$4,\"\")","v":""},"","","","",{"$f":"IF(F1422<>\"\",STDEV($Q$12:Q1422),\"\")","v":""},""]
[1412,null,{"$f":"RIGHT(Data!C1423,10)","v":""},null,null,null,null,null,null,null,{"$f":"IFERROR($U$3*Data!O1423/SQRT(COUNT(Data!F1423:J1423)),\"\")","v":""},"","","","","",{"$f":"IFERROR((Data!K1423-$F$4),\"\")","v":""},{"$f":"IF(AND(F1423<>\"\",G1423<>\"\",H1423<>\"\",I1423<>\"\",J1423<>\"\"),Data!L1423-$F$4,\"\")","v":""},"","","","",{"$f":"IF(F1423<>\"\",STDEV($Q$12:Q1423),\"\")","v":""},""]
[1413,null,{"$f":"RIGHT(Data!C1424,10)","v":""},null,null,null,null,null,null,null,{"$f":"IFERROR($U$3*Data!O1424/SQRT(COUNT(Data!F1424:J1424)),\"\")","v":""},"","","","","",{"$f":"IFERROR((Data!K1424-$F$4),\"\")","v":""},{"$f":"IF(AND(F1424<>\"\",G1424<>\"\",H1424<>\"\",I1424<>\"\",J1424<>\"\"),Data!L1424-$F$4,\"\")","v":""},"","","","",{"$f":"IF(F1424<>\"\",STDEV($Q$12:Q1424),\"\")","v":""},""]
[1414,null,{"$f":"RIGHT(Data!C1425,10)","v":""},null,null,null,null,null,null,null,{"$f":"IFERROR($U$3*Data!O1425/SQRT(COUNT(Data!F1425:J1425)),\"\")","v":""},"","","","","",{"$f":"IFERROR((Data!K1425-$F$4),\"\")","v":""},{"$f":"IF(AND(F1425<>\"\",G1425<>\"\",H1425<>\"\",I1425<>\"\",J1425<>\"\"),Data!L1425-$F$4,\"\")","v":""},"","","","",{"$f":"IF(F1425<>\"\",STDEV($Q$12:Q1425),\"\")","v":""},""]
[1415,null,{"$f":"RIGHT(Data!C1426,10)","v":""},null,null,null,null,null,null,null,{"$f":"IFERROR($U$3*Data!O1426/SQRT(COUNT(Data!F1426:J1426)),\"\")","v":""},"","","","","",{"$f":"IFERROR((Data!K1426-$F$4),\"\")","v":""},{"$f":"IF(AND(F1426<>\"\",G1426<>\"\",H1426<>\"\",I1426<>\"\",J1426<>\"\"),Data!L1426-$F$4,\"\")","v":""},"","","","",{"$f":"IF(F1426<>\"\",STDEV($Q$12:Q1426),\"\")","v":""},""]
[1416,null,{"$f":"RIGHT(Data!C1427,10)","v":""},null,null,null,null,null,null,null,{"$f":"IFERROR($U$3*Data!O1427/SQRT(COUNT(Data!F1427:J1427)),\"\")","v":""},"","","","","",{"$f":"IFERROR((Data!K1427-$F$4),\"\")","v":""},{"$f":"IF(AND(F1427<>\"\",G1427<>\"\",H1427<>\"\",I1427<>\"\",J1427<>\"\"),Data!L1427-$F$4,\"\")","v":""},"","","","",{"$f":"IF(F1427<>\"\",STDEV($Q$12:Q1427),\"\")","v":""},""]
[1417,null,{"$f":"RIGHT(Data!C1428,10)","v":""},null,null,null,null,null,null,null,{"$f":"IFERROR($U$3*Data!O1428/SQRT(COUNT(Data!F1428:J1428)),\"\")","v":""},"","","","","",{"$f":"IFERROR((Data!K1428-$F$4),\"\")","v":""},{"$f":"IF(AND(F1428<>\"\",G1428<>\"\",H1428<>\"\",I1428<>\"\",J1428<>\"\"),Data!L1428-$F$4,\"\")","v":""},"","","","",{"$f":"IF(F1428<>\"\",STDEV($Q$12:Q1428),\"\")","v":""},""]
[1418,null,{"$f":"RIGHT(Data!C1429,10)","v":""},null,null,null,null,null,null,null,{"$f":"IFERROR($U$3*Data!O1429/SQRT(COUNT(Data!F1429:J1429)),\"\")","v":""},"","","","","",{"$f":"IFERROR((Data!K1429-$F$4),\"\")","v":""},{"$f":"IF(AND(F1429<>\"\",G1429<>\"\",H1429<>\"\",I1429<>\"\",J1429<>\"\"),Data!L1429-$F$4,\"\")","v":""},"","","","",{"$f":"IF(F1429<>\"\",STDEV($Q$12:Q1429),\"\")","v":""},""]
[1419,null,{"$f":"RIGHT(Data!C1430,10)","v":""},null,null,null,null,null,null,null,{"$f":"IFERROR($U$3*Data!O1430/SQRT(COUNT(Data!F1430:J1430)),\"\")","v":""},"","","","","",{"$f":"IFERROR((Data!K1430-$F$4),\"\")","v":""},{"$f":"IF(AND(F1430<>\"\",G1430<>\"\",H1430<>\"\",I1430<>\"\",J1430<>\"\"),Data!L1430-$F$4,\"\")","v":""},"","","","",{"$f":"IF(F1430<>\"\",STDEV($Q$12:Q1430),\"\")","v":""},""]
[1420,null,{"$f":"RIGHT(Data!C1431,10)","v":""},null,null,null,null,null,null,null,{"$f":"IFERROR($U$3*Data!O1431/SQRT(COUNT(Data!F1431:J1431)),\"\")","v":""},"","","","","",{"$f":"IFERROR((Data!K1431-$F$4),\"\")","v":""},{"$f":"IF(AND(F1431<>\"\",G1431<>\"\",H1431<>\"\",I1431<>\"\",J1431<>\"\"),Data!L1431-$F$4,\"\")","v":""},"","","","",{"$f":"IF(F1431<>\"\",STDEV($Q$12:Q1431),\"\")","v":""},""]
[1421,null,{"$f":"RIGHT(Data!C1432,10)","v":""},null,null,null,null,null,null,null,{"$f":"IFERROR($U$3*Data!O1432/SQRT(COUNT(Data!F1432:J1432)),\"\")","v":""},"","","","","",{"$f":"IFERROR((Data!K1432-$F$4),\"\")","v":""},{"$f":"IF(AND(F1432<>\"\",G1432<>\"\",H1432<>\"\",I1432<>\"\",J1432<>\"\"),Data!L1432-$F$4,\"\")","v":""},"","","","",{"$f":"IF(F1432<>\"\",STDEV($Q$12:Q1432),\"\")","v":""},""]
[1422,null,{"$f":"RIGHT(Data!C1433,10)","v":""},null,null,null,null,null,null,null,{"$f":"IFERROR($U$3*Data!O1433/SQRT(COUNT(Data!F1433:J1433)),\"\")","v":""},"","","","","",{"$f":"IFERROR((Data!K1433-$F$4),\"\")","v":""},{"$f":"IF(AND(F1433<>\"\",G1433<>\"\",H1433<>\"\",I1433<>\"\",J1433<>\"\"),Data!L1433-$F$4,\"\")","v":""},"","","","",{"$f":"IF(F1433<>\"\",STDEV($Q$12:Q1433),\"\")","v":""},""]
[1423,null,{"$f":"RIGHT(Data!C1434,10)","v":""},null,null,null,null,null,null,null,{"$f":"IFERROR($U$3*Data!O1434/SQRT(COUNT(Data!F1434:J1434)),\"\")","v":""},"","","","","",{"$f":"IFERROR((Data!K1434-$F$4),\"\")","v":""},{"$f":"IF(AND(F1434<>\"\",G1434<>\"\",H1434<>\"\",I1434<>\"\",J1434<>\"\"),Data!L1434-$F$4,\"\")","v":""},"","","","",{"$f":"IF(F1434<>\"\",STDEV($Q$12:Q1434),\"\")","v":""},""]
[1424,null,{"$f":"RIGHT(Data!C1435,10)","v":""},null,null,null,null,null,null,null,{"$f":"IFERROR($U$3*Data!O1435/SQRT(COUNT(Data!F1435:J1435)),\"\")","v":""},"","","","","",{"$f":"IFERROR((Data!K1435-$F$4),\"\")","v":""},{"$f":"IF(AND(F1435<>\"\",G1435<>\"\",H1435<>\"\",I1435<>\"\",J1435<>\"\"),Data!L1435-$F$4,\"\")","v":""},"","","","",{"$f":"IF(F1435<>\"\",STDEV($Q$12:Q1435),\"\")","v":""},""]
[1425,null,{"$f":"RIGHT(Data!C1436,10)","v":""},null,null,null,null,null,null,null,{"$f":"IFERROR($U$3*Data!O1436/SQRT(COUNT(Data!F1436:J1436)),\"\")","v":""},"","","","","",{"$f":"IFERROR((Data!K1436-$F$4),\"\")","v":""},{"$f":"IF(AND(F1436<>\"\",G1436<>\"\",H1436<>\"\",I1436<>\"\",J1436<>\"\"),Data!L1436-$F$4,\"\")","v":""},"","","","",{"$f":"IF(F1436<>\"\",STDEV($Q$12:Q1436),\"\")","v":""},""]
[1426,null,{"$f":"RIGHT(Data!C1437,10)","v":""},null,null,null,null,null,null,null,{"$f":"IFERROR($U$3*Data!O1437/SQRT(COUNT(Data!F1437:J1437)),\"\")","v":""},"","","","","",{"$f":"IFERROR((Data!K1437-$F$4),\"\")","v":""},{"$f":"IF(AND(F1437<>\"\",G1437<>\"\",H1437<>\"\",I1437<>\"\",J1437<>\"\"),Data!L1437-$F$4,\"\")","v":""},"","","","",{"$f":"IF(F1437<>\"\",STDEV($Q$12:Q1437),\"\")","v":""},""]
[1427,null,{"$f":"RIGHT(Data!C1438,10)","v":""},null,null,null,null,null,null,null,{"$f":"IFERROR($U$3*Data!O1438/SQRT(COUNT(Data!F1438:J1438)),\"\")","v":""},"","","","","",{"$f":"IFERROR((Data!K1438-$F$4),\"\")","v":""},{"$f":"IF(AND(F1438<>\"\",G1438<>\"\",H1438<>\"\",I1438<>\"\",J1438<>\"\"),Data!L1438-$F$4,\"\")","v":""},"","","","",{"$f":"IF(F1438<>\"\",STDEV($Q$12:Q1438),\"\")","v":""},""]
[1428,null,{"$f":"RIGHT(Data!C1439,10)","v":""},null,null,null,null,null,null,null,{"$f":"IFERROR($U$3*Data!O1439/SQRT(COUNT(Data!F1439:J1439)),\"\")","v":""},"","","","","",{"$f":"IFERROR((Data!K1439-$F$4),\"\")","v":""},{"$f":"IF(AND(F1439<>\"\",G1439<>\"\",H1439<>\"\",I1439<>\"\",J1439<>\"\"),Data!L1439-$F$4,\"\")","v":""},"","","","",{"$f":"IF(F1439<>\"\",STDEV($Q$12:Q1439),\"\")","v":""},""]
[1429,null,{"$f":"RIGHT(Data!C1440,10)","v":""},null,null,null,null,null,null,null,{"$f":"IFERROR($U$3*Data!O1440/SQRT(COUNT(Data!F1440:J1440)),\"\")","v":""},"","","","","",{"$f":"IFERROR((Data!K1440-$F$4),\"\")","v":""},{"$f":"IF(AND(F1440<>\"\",G1440<>\"\",H1440<>\"\",I1440<>\"\",J1440<>\"\"),Data!L1440-$F$4,\"\")","v":""},"","","","",{"$f":"IF(F1440<>\"\",STDEV($Q$12:Q1440),\"\")","v":""},""]
[1430,null,{"$f":"RIGHT(Data!C1441,10)","v":""},null,null,null,null,null,null,null,{"$f":"IFERROR($U$3*Data!O1441/SQRT(COUNT(Data!F1441:J1441)),\"\")","v":""},"","","","","",{"$f":"IFERROR((Data!K1441-$F$4),\"\")","v":""},{"$f":"IF(AND(F1441<>\"\",G1441<>\"\",H1441<>\"\",I1441<>\"\",J1441<>\"\"),Data!L1441-$F$4,\"\")","v":""},"","","","",{"$f":"IF(F1441<>\"\",STDEV($Q$12:Q1441),\"\")","v":""},""]
[1431,null,{"$f":"RIGHT(Data!C1442,10)","v":""},null,null,null,null,null,null,null,{"$f":"IFERROR($U$3*Data!O1442/SQRT(COUNT(Data!F1442:J1442)),\"\")","v":""},"","","","","",{"$f":"IFERROR((Data!K1442-$F$4),\"\")","v":""},{"$f":"IF(AND(F1442<>\"\",G1442<>\"\",H1442<>\"\",I1442<>\"\",J1442<>\"\"),Data!L1442-$F$4,\"\")","v":""},"","","","",{"$f":"IF(F1442<>\"\",STDEV($Q$12:Q1442),\"\")","v":""},""]
[1432,null,{"$f":"RIGHT(Data!C1443,10)","v":""},null,null,null,null,null,null,null,{"$f":"IFERROR($U$3*Data!O1443/SQRT(COUNT(Data!F1443:J1443)),\"\")","v":""},"","","","","",{"$f":"IFERROR((Data!K1443-$F$4),\"\")","v":""},{"$f":"IF(AND(F1443<>\"\",G1443<>\"\",H1443<>\"\",I1443<>\"\",J1443<>\"\"),Data!L1443-$F$4,\"\")","v":""},"","","","",{"$f":"IF(F1443<>\"\",STDEV($Q$12:Q1443),\"\")","v":""},""]
[1433,null,{"$f":"RIGHT(Data!C1444,10)","v":""},null,null,null,null,null,null,null,{"$f":"IFERROR($U$3*Data!O1444/SQRT(COUNT(Data!F1444:J1444)),\"\")","v":""},"","","","","",{"$f":"IFERROR((Data!K1444-$F$4),\"\")","v":""},{"$f":"IF(AND(F1444<>\"\",G1444<>\"\",H1444<>\"\",I1444<>\"\",J1444<>\"\"),Data!L1444-$F$4,\"\")","v":""},"","","","",{"$f":"IF(F1444<>\"\",STDEV($Q$12:Q1444),\"\")","v":""},""]
[1434,null,{"$f":"RIGHT(Data!C1445,10)","v":""},null,null,null,null,null,null,null,{"$f":"IFERROR($U$3*Data!O1445/SQRT(COUNT(Data!F1445:J1445)),\"\")","v":""},"","","","","",{"$f":"IFERROR((Data!K1445-$F$4),\"\")","v":""},{"$f":"IF(AND(F1445<>\"\",G1445<>\"\",H1445<>\"\",I1445<>\"\",J1445<>\"\"),Data!L1445-$F$4,\"\")","v":""},"","","","",{"$f":"IF(F1445<>\"\",STDEV($Q$12:Q1445),\"\")","v":""},""]
[1435,null,{"$f":"RIGHT(Data!C1446,10)","v":""},null,null,null,null,null,null,null,{"$f":"IFERROR($U$3*Data!O1446/SQRT(COUNT(Data!F1446:J1446)),\"\")","v":""},"","","","","",{"$f":"IFERROR((Data!K1446-$F$4),\"\")","v":""},{"$f":"IF(AND(F1446<>\"\",G1446<>\"\",H1446<>\"\",I1446<>\"\",J1446<>\"\"),Data!L1446-$F$4,\"\")","v":""},"","","","",{"$f":"IF(F1446<>\"\",STDEV($Q$12:Q1446),\"\")","v":""},""]
[1436,null,{"$f":"RIGHT(Data!C1447,10)","v":""},null,null,null,null,null,null,null,{"$f":"IFERROR($U$3*Data!O1447/SQRT(COUNT(Data!F1447:J1447)),\"\")","v":""},"","","","","",{"$f":"IFERROR((Data!K1447-$F$4),\"\")","v":""},{"$f":"IF(AND(F1447<>\"\",G1447<>\"\",H1447<>\"\",I1447<>\"\",J1447<>\"\"),Data!L1447-$F$4,\"\")","v":""},"","","","",{"$f":"IF(F1447<>\"\",STDEV($Q$12:Q1447),\"\")","v":""},""]
[1437,null,{"$f":"RIGHT(Data!C1448,10)","v":""},null,null,null,null,null,null,null,{"$f":"IFERROR($U$3*Data!O1448/SQRT(COUNT(Data!F1448:J1448)),\"\")","v":""},"","","","","",{"$f":"IFERROR((Data!K1448-$F$4),\"\")","v":""},{"$f":"IF(AND(F1448<>\"\",G1448<>\"\",H1448<>\"\",I1448<>\"\",J1448<>\"\"),Data!L1448-$F$4,\"\")","v":""},"","","","",{"$f":"IF(F1448<>\"\",STDEV($Q$12:Q1448),\"\")","v":""},""]
[1438,null,{"$f":"RIGHT(Data!C1449,10)","v":""},null,null,null,null,null,null,null,{"$f":"IFERROR($U$3*Data!O1449/SQRT(COUNT(Data!F1449:J1449)),\"\")","v":""},"","","","","",{"$f":"IFERROR((Data!K1449-$F$4),\"\")","v":""},{"$f":"IF(AND(F1449<>\"\",G1449<>\"\",H1449<>\"\",I1449<>\"\",J1449<>\"\"),Data!L1449-$F$4,\"\")","v":""},"","","","",{"$f":"IF(F1449<>\"\",STDEV($Q$12:Q1449),\"\")","v":""},""]
[1439,null,{"$f":"RIGHT(Data!C1450,10)","v":""},null,null,null,null,null,null,null,{"$f":"IFERROR($U$3*Data!O1450/SQRT(COUNT(Data!F1450:J1450)),\"\")","v":""},"","","","","",{"$f":"IFERROR((Data!K1450-$F$4),\"\")","v":""},{"$f":"IF(AND(F1450<>\"\",G1450<>\"\",H1450<>\"\",I1450<>\"\",J1450<>\"\"),Data!L1450-$F$4,\"\")","v":""},"","","","",{"$f":"IF(F1450<>\"\",STDEV($Q$12:Q1450),\"\")","v":""},""]
[1440,null,{"$f":"RIGHT(Data!C1451,10)","v":""},null,null,null,null,null,null,null,{"$f":"IFERROR($U$3*Data!O1451/SQRT(COUNT(Data!F1451:J1451)),\"\")","v":""},"","","","","",{"$f":"IFERROR((Data!K1451-$F$4),\"\")","v":""},{"$f":"IF(AND(F1451<>\"\",G1451<>\"\",H1451<>\"\",I1451<>\"\",J1451<>\"\"),Data!L1451-$F$4,\"\")","v":""},"","","","",{"$f":"IF(F1451<>\"\",STDEV($Q$12:Q1451),\"\")","v":""},""]
[1441,null,{"$f":"RIGHT(Data!C1452,10)","v":""},null,null,null,null,null,null,null,{"$f":"IFERROR($U$3*Data!O1452/SQRT(COUNT(Data!F1452:J1452)),\"\")","v":""},"","","","","",{"$f":"IFERROR((Data!K1452-$F$4),\"\")","v":""},{"$f":"IF(AND(F1452<>\"\",G1452<>\"\",H1452<>\"\",I1452<>\"\",J1452<>\"\"),Data!L1452-$F$4,\"\")","v":""},"","","","",{"$f":"IF(F1452<>\"\",STDEV($Q$12:Q1452),\"\")","v":""},""]
[1442,null,{"$f":"RIGHT(Data!C1453,10)","v":""},null,null,null,null,null,null,null,{"$f":"IFERROR($U$3*Data!O1453/SQRT(COUNT(Data!F1453:J1453)),\"\")","v":""},"","","","","",{"$f":"IFERROR((Data!K1453-$F$4),\"\")","v":""},{"$f":"IF(AND(F1453<>\"\",G1453<>\"\",H1453<>\"\",I1453<>\"\",J1453<>\"\"),Data!L1453-$F$4,\"\")","v":""},"","","","",{"$f":"IF(F1453<>\"\",STDEV($Q$12:Q1453),\"\")","v":""},""]
[1443,null,{"$f":"RIGHT(Data!C1454,10)","v":""},null,null,null,null,null,null,null,{"$f":"IFERROR($U$3*Data!O1454/SQRT(COUNT(Data!F1454:J1454)),\"\")","v":""},"","","","","",{"$f":"IFERROR((Data!K1454-$F$4),\"\")","v":""},{"$f":"IF(AND(F1454<>\"\",G1454<>\"\",H1454<>\"\",I1454<>\"\",J1454<>\"\"),Data!L1454-$F$4,\"\")","v":""},"","","","",{"$f":"IF(F1454<>\"\",STDEV($Q$12:Q1454),\"\")","v":""},""]
[1444,null,{"$f":"RIGHT(Data!C1455,10)","v":""},null,null,null,null,null,null,null,{"$f":"IFERROR($U$3*Data!O1455/SQRT(COUNT(Data!F1455:J1455)),\"\")","v":""},"","","","","",{"$f":"IFERROR((Data!K1455-$F$4),\"\")","v":""},{"$f":"IF(AND(F1455<>\"\",G1455<>\"\",H1455<>\"\",I1455<>\"\",J1455<>\"\"),Data!L1455-$F$4,\"\")","v":""},"","","","",{"$f":"IF(F1455<>\"\",STDEV($Q$12:Q1455),\"\")","v":""},""]
[1445,null,{"$f":"RIGHT(Data!C1456,10)","v":""},null,null,null,null,null,null,null,{"$f":"IFERROR($U$3*Data!O1456/SQRT(COUNT(Data!F1456:J1456)),\"\")","v":""},"","","","","",{"$f":"IFERROR((Data!K1456-$F$4),\"\")","v":""},{"$f":"IF(AND(F1456<>\"\",G1456<>\"\",H1456<>\"\",I1456<>\"\",J1456<>\"\"),Data!L1456-$F$4,\"\")","v":""},"","","","",{"$f":"IF(F1456<>\"\",STDEV($Q$12:Q1456),\"\")","v":""},""]
[1446,null,{"$f":"RIGHT(Data!C1457,10)","v":""},null,null,null,null,null,null,null,{"$f":"IFERROR($U$3*Data!O1457/SQRT(COUNT(Data!F1457:J1457)),\"\")","v":""},"","","","","",{"$f":"IFERROR((Data!K1457-$F$4),\"\")","v":""},{"$f":"IF(AND(F1457<>\"\",G1457<>\"\",H1457<>\"\",I1457<>\"\",J1457<>\"\"),Data!L1457-$F$4,\"\")","v":""},"","","","",{"$f":"IF(F1457<>\"\",STDEV($Q$12:Q1457),\"\")","v":""},""]
[1447,null,{"$f":"RIGHT(Data!C1458,10)","v":""},null,null,null,null,null,null,null,{"$f":"IFERROR($U$3*Data!O1458/SQRT(COUNT(Data!F1458:J1458)),\"\")","v":""},"","","","","",{"$f":"IFERROR((Data!K1458-$F$4),\"\")","v":""},{"$f":"IF(AND(F1458<>\"\",G1458<>\"\",H1458<>\"\",I1458<>\"\",J1458<>\"\"),Data!L1458-$F$4,\"\")","v":""},"","","","",{"$f":"IF(F1458<>\"\",STDEV($Q$12:Q1458),\"\")","v":""},""]
[1448,null,{"$f":"RIGHT(Data!C1459,10)","v":""},null,null,null,null,null,null,null,{"$f":"IFERROR($U$3*Data!O1459/SQRT(COUNT(Data!F1459:J1459)),\"\")","v":""},"","","","","",{"$f":"IFERROR((Data!K1459-$F$4),\"\")","v":""},{"$f":"IF(AND(F1459<>\"\",G1459<>\"\",H1459<>\"\",I1459<>\"\",J1459<>\"\"),Data!L1459-$F$4,\"\")","v":""},"","","","",{"$f":"IF(F1459<>\"\",STDEV($Q$12:Q1459),\"\")","v":""},""]
[1449,null,{"$f":"RIGHT(Data!C1460,10)","v":""},null,null,null,null,null,null,null,{"$f":"IFERROR($U$3*Data!O1460/SQRT(COUNT(Data!F1460:J1460)),\"\")","v":""},"","","","","",{"$f":"IFERROR((Data!K1460-$F$4),\"\")","v":""},{"$f":"IF(AND(F1460<>\"\",G1460<>\"\",H1460<>\"\",I1460<>\"\",J1460<>\"\"),Data!L1460-$F$4,\"\")","v":""},"","","","",{"$f":"IF(F1460<>\"\",STDEV($Q$12:Q1460),\"\")","v":""},""]
[1450,null,{"$f":"RIGHT(Data!C1461,10)","v":""},null,null,null,null,null,null,null,{"$f":"IFERROR($U$3*Data!O1461/SQRT(COUNT(Data!F1461:J1461)),\"\")","v":""},"","","","","",{"$f":"IFERROR((Data!K1461-$F$4),\"\")","v":""},{"$f":"IF(AND(F1461<>\"\",G1461<>\"\",H1461<>\"\",I1461<>\"\",J1461<>\"\"),Data!L1461-$F$4,\"\")","v":""},"","","","",{"$f":"IF(F1461<>\"\",STDEV($Q$12:Q1461),\"\")","v":""},""]
[1451,null,{"$f":"RIGHT(Data!C1462,10)","v":""},null,null,null,null,null,null,null,{"$f":"IFERROR($U$3*Data!O1462/SQRT(COUNT(Data!F1462:J1462)),\"\")","v":""},"","","","","",{"$f":"IFERROR((Data!K1462-$F$4),\"\")","v":""},{"$f":"IF(AND(F1462<>\"\",G1462<>\"\",H1462<>\"\",I1462<>\"\",J1462<>\"\"),Data!L1462-$F$4,\"\")","v":""},"","","","",{"$f":"IF(F1462<>\"\",STDEV($Q$12:Q1462),\"\")","v":""},""]
[1452,null,{"$f":"RIGHT(Data!C1463,10)","v":""},null,null,null,null,null,null,null,{"$f":"IFERROR($U$3*Data!O1463/SQRT(COUNT(Data!F1463:J1463)),\"\")","v":""},"","","","","",{"$f":"IFERROR((Data!K1463-$F$4),\"\")","v":""},{"$f":"IF(AND(F1463<>\"\",G1463<>\"\",H1463<>\"\",I1463<>\"\",J1463<>\"\"),Data!L1463-$F$4,\"\")","v":""},"","","","",{"$f":"IF(F1463<>\"\",STDEV($Q$12:Q1463),\"\")","v":""},""]
[1453,null,{"$f":"RIGHT(Data!C1464,10)","v":""},null,null,null,null,null,null,null,{"$f":"IFERROR($U$3*Data!O1464/SQRT(COUNT(Data!F1464:J1464)),\"\")","v":""},"","","","","",{"$f":"IFERROR((Data!K1464-$F$4),\"\")","v":""},{"$f":"IF(AND(F1464<>\"\",G1464<>\"\",H1464<>\"\",I1464<>\"\",J1464<>\"\"),Data!L1464-$F$4,\"\")","v":""},"","","","",{"$f":"IF(F1464<>\"\",STDEV($Q$12:Q1464),\"\")","v":""},""]
[1454,null,{"$f":"RIGHT(Data!C1465,10)","v":""},null,null,null,null,null,null,null,{"$f":"IFERROR($U$3*Data!O1465/SQRT(COUNT(Data!F1465:J1465)),\"\")","v":""},"","","","","",{"$f":"IFERROR((Data!K1465-$F$4),\"\")","v":""},{"$f":"IF(AND(F1465<>\"\",G1465<>\"\",H1465<>\"\",I1465<>\"\",J1465<>\"\"),Data!L1465-$F$4,\"\")","v":""},"","","","",{"$f":"IF(F1465<>\"\",STDEV($Q$12:Q1465),\"\")","v":""},""]
[1455,null,{"$f":"RIGHT(Data!C1466,10)","v":""},null,null,null,null,null,null,null,{"$f":"IFERROR($U$3*Data!O1466/SQRT(COUNT(Data!F1466:J1466)),\"\")","v":""},"","","","","",{"$f":"IFERROR((Data!K1466-$F$4),\"\")","v":""},{"$f":"IF(AND(F1466<>\"\",G1466<>\"\",H1466<>\"\",I1466<>\"\",J1466<>\"\"),Data!L1466-$F$4,\"\")","v":""},"","","","",{"$f":"IF(F1466<>\"\",STDEV($Q$12:Q1466),\"\")","v":""},""]
[1456,null,{"$f":"RIGHT(Data!C1467,10)","v":""},null,null,null,null,null,null,null,{"$f":"IFERROR($U$3*Data!O1467/SQRT(COUNT(Data!F1467:J1467)),\"\")","v":""},"","","","","",{"$f":"IFERROR((Data!K1467-$F$4),\"\")","v":""},{"$f":"IF(AND(F1467<>\"\",G1467<>\"\",H1467<>\"\",I1467<>\"\",J1467<>\"\"),Data!L1467-$F$4,\"\")","v":""},"","","","",{"$f":"IF(F1467<>\"\",STDEV($Q$12:Q1467),\"\")","v":""},""]
[1457,null,{"$f":"RIGHT(Data!C1468,10)","v":""},null,null,null,null,null,null,null,{"$f":"IFERROR($U$3*Data!O1468/SQRT(COUNT(Data!F1468:J1468)),\"\")","v":""},"","","","","",{"$f":"IFERROR((Data!K1468-$F$4),\"\")","v":""},{"$f":"IF(AND(F1468<>\"\",G1468<>\"\",H1468<>\"\",I1468<>\"\",J1468<>\"\"),Data!L1468-$F$4,\"\")","v":""},"","","","",{"$f":"IF(F1468<>\"\",STDEV($Q$12:Q1468),\"\")","v":""},""]
[1458,null,{"$f":"RIGHT(Data!C1469,10)","v":""},null,null,null,null,null,null,null,{"$f":"IFERROR($U$3*Data!O1469/SQRT(COUNT(Data!F1469:J1469)),\"\")","v":""},"","","","","",{"$f":"IFERROR((Data!K1469-$F$4),\"\")","v":""},{"$f":"IF(AND(F1469<>\"\",G1469<>\"\",H1469<>\"\",I1469<>\"\",J1469<>\"\"),Data!L1469-$F$4,\"\")","v":""},"","","","",{"$f":"IF(F1469<>\"\",STDEV($Q$12:Q1469),\"\")","v":""},""]
[1459,null,{"$f":"RIGHT(Data!C1470,10)","v":""},null,null,null,null,null,null,null,{"$f":"IFERROR($U$3*Data!O1470/SQRT(COUNT(Data!F1470:J1470)),\"\")","v":""},"","","","","",{"$f":"IFERROR((Data!K1470-$F$4),\"\")","v":""},{"$f":"IF(AND(F1470<>\"\",G1470<>\"\",H1470<>\"\",I1470<>\"\",J1470<>\"\"),Data!L1470-$F$4,\"\")","v":""},"","","","",{"$f":"IF(F1470<>\"\",STDEV($Q$12:Q1470),\"\")","v":""},""]
[1460,null,{"$f":"RIGHT(Data!C1471,10)","v":""},null,null,null,null,null,null,null,{"$f":"IFERROR($U$3*Data!O1471/SQRT(COUNT(Data!F1471:J1471)),\"\")","v":""},"","","","","",{"$f":"IFERROR((Data!K1471-$F$4),\"\")","v":""},{"$f":"IF(AND(F1471<>\"\",G1471<>\"\",H1471<>\"\",I1471<>\"\",J1471<>\"\"),Data!L1471-$F$4,\"\")","v":""},"","","","",{"$f":"IF(F1471<>\"\",STDEV($Q$12:Q1471),\"\")","v":""},""]
[1461,null,{"$f":"RIGHT(Data!C1472,10)","v":""},null,null,null,null,null,null,null,{"$f":"IFERROR($U$3*Data!O1472/SQRT(COUNT(Data!F1472:J1472)),\"\")","v":""},"","","","","",{"$f":"IFERROR((Data!K1472-$F$4),\"\")","v":""},{"$f":"IF(AND(F1472<>\"\",G1472<>\"\",H1472<>\"\",I1472<>\"\",J1472<>\"\"),Data!L1472-$F$4,\"\")","v":""},"","","","",{"$f":"IF(F1472<>\"\",STDEV($Q$12:Q1472),\"\")","v":""},""]
[1462,null,{"$f":"RIGHT(Data!C1473,10)","v":""},null,null,null,null,null,null,null,{"$f":"IFERROR($U$3*Data!O1473/SQRT(COUNT(Data!F1473:J1473)),\"\")","v":""},"","","","","",{"$f":"IFERROR((Data!K1473-$F$4),\"\")","v":""},{"$f":"IF(AND(F1473<>\"\",G1473<>\"\",H1473<>\"\",I1473<>\"\",J1473<>\"\"),Data!L1473-$F$4,\"\")","v":""},"","","","",{"$f":"IF(F1473<>\"\",STDEV($Q$12:Q1473),\"\")","v":""},""]
[1463,null,{"$f":"RIGHT(Data!C1474,10)","v":""},null,null,null,null,null,null,null,{"$f":"IFERROR($U$3*Data!O1474/SQRT(COUNT(Data!F1474:J1474)),\"\")","v":""},"","","","","",{"$f":"IFERROR((Data!K1474-$F$4),\"\")","v":""},{"$f":"IF(AND(F1474<>\"\",G1474<>\"\",H1474<>\"\",I1474<>\"\",J1474<>\"\"),Data!L1474-$F$4,\"\")","v":""},"","","","",{"$f":"IF(F1474<>\"\",STDEV($Q$12:Q1474),\"\")","v":""},""]
[1464,null,{"$f":"RIGHT(Data!C1475,10)","v":""},null,null,null,null,null,null,null,{"$f":"IFERROR($U$3*Data!O1475/SQRT(COUNT(Data!F1475:J1475)),\"\")","v":""},"","","","","",{"$f":"IFERROR((Data!K1475-$F$4),\"\")","v":""},{"$f":"IF(AND(F1475<>\"\",G1475<>\"\",H1475<>\"\",I1475<>\"\",J1475<>\"\"),Data!L1475-$F$4,\"\")","v":""},"","","","",{"$f":"IF(F1475<>\"\",STDEV($Q$12:Q1475),\"\")","v":""},""]
[1465,null,{"$f":"RIGHT(Data!C1476,10)","v":""},null,null,null,null,null,null,null,{"$f":"IFERROR($U$3*Data!O1476/SQRT(COUNT(Data!F1476:J1476)),\"\")","v":""},"","","","","",{"$f":"IFERROR((Data!K1476-$F$4),\"\")","v":""},{"$f":"IF(AND(F1476<>\"\",G1476<>\"\",H1476<>\"\",I1476<>\"\",J1476<>\"\"),Data!L1476-$F$4,\"\")","v":""},"","","","",{"$f":"IF(F1476<>\"\",STDEV($Q$12:Q1476),\"\")","v":""},""]
[1466,null,{"$f":"RIGHT(Data!C1477,10)","v":""},null,null,null,null,null,null,null,{"$f":"IFERROR($U$3*Data!O1477/SQRT(COUNT(Data!F1477:J1477)),\"\")","v":""},"","","","","",{"$f":"IFERROR((Data!K1477-$F$4),\"\")","v":""},{"$f":"IF(AND(F1477<>\"\",G1477<>\"\",H1477<>\"\",I1477<>\"\",J1477<>\"\"),Data!L1477-$F$4,\"\")","v":""},"","","","",{"$f":"IF(F1477<>\"\",STDEV($Q$12:Q1477),\"\")","v":""},""]
[1467,null,{"$f":"RIGHT(Data!C1478,10)","v":""},null,null,null,null,null,null,null,{"$f":"IFERROR($U$3*Data!O1478/SQRT(COUNT(Data!F1478:J1478)),\"\")","v":""},"","","","","",{"$f":"IFERROR((Data!K1478-$F$4),\"\")","v":""},{"$f":"IF(AND(F1478<>\"\",G1478<>\"\",H1478<>\"\",I1478<>\"\",J1478<>\"\"),Data!L1478-$F$4,\"\")","v":""},"","","","",{"$f":"IF(F1478<>\"\",STDEV($Q$12:Q1478),\"\")","v":""},""]
[1468,null,{"$f":"RIGHT(Data!C1479,10)","v":""},null,null,null,null,null,null,null,{"$f":"IFERROR($U$3*Data!O1479/SQRT(COUNT(Data!F1479:J1479)),\"\")","v":""},"","","","","",{"$f":"IFERROR((Data!K1479-$F$4),\"\")","v":""},{"$f":"IF(AND(F1479<>\"\",G1479<>\"\",H1479<>\"\",I1479<>\"\",J1479<>\"\"),Data!L1479-$F$4,\"\")","v":""},"","","","",{"$f":"IF(F1479<>\"\",STDEV($Q$12:Q1479),\"\")","v":""},""]
[1469,null,{"$f":"RIGHT(Data!C1480,10)","v":""},null,null,null,null,null,null,null,{"$f":"IFERROR($U$3*Data!O1480/SQRT(COUNT(Data!F1480:J1480)),\"\")","v":""},"","","","","",{"$f":"IFERROR((Data!K1480-$F$4),\"\")","v":""},{"$f":"IF(AND(F1480<>\"\",G1480<>\"\",H1480<>\"\",I1480<>\"\",J1480<>\"\"),Data!L1480-$F$4,\"\")","v":""},"","","","",{"$f":"IF(F1480<>\"\",STDEV($Q$12:Q1480),\"\")","v":""},""]
[1470,null,{"$f":"RIGHT(Data!C1481,10)","v":""},null,null,null,null,null,null,null,{"$f":"IFERROR($U$3*Data!O1481/SQRT(COUNT(Data!F1481:J1481)),\"\")","v":""},"","","","","",{"$f":"IFERROR((Data!K1481-$F$4),\"\")","v":""},{"$f":"IF(AND(F1481<>\"\",G1481<>\"\",H1481<>\"\",I1481<>\"\",J1481<>\"\"),Data!L1481-$F$4,\"\")","v":""},"","","","",{"$f":"IF(F1481<>\"\",STDEV($Q$12:Q1481),\"\")","v":""},""]
[1471,null,{"$f":"RIGHT(Data!C1482,10)","v":""},null,null,null,null,null,null,null,{"$f":"IFERROR($U$3*Data!O1482/SQRT(COUNT(Data!F1482:J1482)),\"\")","v":""},"","","","","",{"$f":"IFERROR((Data!K1482-$F$4),\"\")","v":""},{"$f":"IF(AND(F1482<>\"\",G1482<>\"\",H1482<>\"\",I1482<>\"\",J1482<>\"\"),Data!L1482-$F$4,\"\")","v":""},"","","","",{"$f":"IF(F1482<>\"\",STDEV($Q$12:Q1482),\"\")","v":""},""]
[1472,null,{"$f":"RIGHT(Data!C1483,10)","v":""},null,null,null,null,null,null,null,{"$f":"IFERROR($U$3*Data!O1483/SQRT(COUNT(Data!F1483:J1483)),\"\")","v":""},"","","","","",{"$f":"IFERROR((Data!K1483-$F$4),\"\")","v":""},{"$f":"IF(AND(F1483<>\"\",G1483<>\"\",H1483<>\"\",I1483<>\"\",J1483<>\"\"),Data!L1483-$F$4,\"\")","v":""},"","","","",{"$f":"IF(F1483<>\"\",STDEV($Q$12:Q1483),\"\")","v":""},""]
[1473,null,{"$f":"RIGHT(Data!C1484,10)","v":""},null,null,null,null,null,null,null,{"$f":"IFERROR($U$3*Data!O1484/SQRT(COUNT(Data!F1484:J1484)),\"\")","v":""},"","",{"$f":"IF(COUNT(F1484:J1484)>=5,STDEV(F1484:J1484)*$U$3/SQRT((COUNT(F1484:J1484))),\"\")","v":""},"","",{"$f":"IFERROR((Data!K1484-$F$4),\"\")","v":""},{"$f":"IF(AND(F1484<>\"\",G1484<>\"\",H1484<>\"\",I1484<>\"\",J1484<>\"\"),Data!L1484-$F$4,\"\")","v":""},{"$f":"IF(O1484<>\"\",FIXED(X1484,1) & \" ± \" & FIXED(O1484+ABS(R1484),2),\"\")","v":""},"","","",{"$f":"IF(F1484<>\"\",STDEV($Q$12:Q1484),\"\")","v":""},{"$f":"IF(F1484<>\"\",AVERAGE(F1484:J1484),\"\")","v":""}]
[1474,null,{"$f":"RIGHT(Data!C1485,10)","v":""},null,null,null,null,null,null,null,{"$f":"IFERROR($U$3*Data!O1485/SQRT(COUNT(Data!F1485:J1485)),\"\")","v":""},{"$f":"IF(F1485<>\"\",V1485*W1485/SQRT(A1485),\"\")","v":""},{"$f":"IF(F1485<>\"\",$U$4*SQRT($U$7^2+L1485^2+K1485^2+$U$5^2),\"\")","v":""},"",{"$f":"IFERROR($U$4*SQRT($U$7^2+L1485^2+K1485^2+$U$5^2+N1485^2),\"\")","v":""},{"$f":"IF(AND(F1485<>\"\",G1485<>\"\",H1485<>\"\",I1485<>\"\",J1485<>\"\"),AVERAGE(F1485:J1485),\"\")","v":""},{"$f":"IFERROR((Data!K1485-$F$4),\"\")","v":""},{"$f":"IF(AND(F1485<>\"\",G1485<>\"\",H1485<>\"\",I1485<>\"\",J1485<>\"\"),Data!L1485-$F$4,\"\")","v":""},"",{"$f":"IF(F1485<>\"\",FIXED(AVERAGE(F1485:J1485)-R1485,1) & \" ± \" & FIXED(O1485,2),\"\")","v":""},{"$f":"IF(IO1485=\"\",\"\",IO1485-1)","v":""},{"$f":"IF(F1485<>\"\",TINV(1-0.68,A1485-1),\"\")","v":""},{"$f":"IF(F1485<>\"\",STDEV($Q$12:Q1485),\"\")","v":""},""]
[1475,null,{"$f":"RIGHT(Data!C1486,10)","v":""},null,null,null,null,null,null,null,{"$f":"IFERROR($U$3*Data!O1486/SQRT(COUNT(Data!F1486:J1486)),\"\")","v":""},"","","","","",{"$f":"IFERROR((Data!K1486-$F$4),\"\")","v":""},{"$f":"IF(AND(F1486<>\"\",G1486<>\"\",H1486<>\"\",I1486<>\"\",J1486<>\"\"),Data!L1486-$F$4,\"\")","v":""},"","","","",{"$f":"IF(F1486<>\"\",STDEV($Q$12:Q1486),\"\")","v":""},""]
[1476,null,{"$f":"RIGHT(Data!C1487,10)","v":""},null,null,null,null,null,null,null,{"$f":"IFERROR($U$3*Data!O1487/SQRT(COUNT(Data!F1487:J1487)),\"\")","v":""},"","","","","",{"$f":"IFERROR((Data!K1487-$F$4),\"\")","v":""},{"$f":"IF(AND(F1487<>\"\",G1487<>\"\",H1487<>\"\",I1487<>\"\",J1487<>\"\"),Data!L1487-$F$4,\"\")","v":""},"","","","",{"$f":"IF(F1487<>\"\",STDEV($Q$12:Q1487),\"\")","v":""},""]
[1477,null,{"$f":"RIGHT(Data!C1488,10)","v":""},null,null,null,null,null,null,null,{"$f":"IFERROR($U$3*Data!O1488/SQRT(COUNT(Data!F1488:J1488)),\"\")","v":""},"","","","","",{"$f":"IFERROR((Data!K1488-$F$4),\"\")","v":""},{"$f":"IF(AND(F1488<>\"\",G1488<>\"\",H1488<>\"\",I1488<>\"\",J1488<>\"\"),Data!L1488-$F$4,\"\")","v":""},"","","","",{"$f":"IF(F1488<>\"\",STDEV($Q$12:Q1488),\"\")","v":""},""]
[1478,null,{"$f":"RIGHT(Data!C1489,10)","v":""},null,null,null,null,null,null,null,{"$f":"IFERROR($U$3*Data!O1489/SQRT(COUNT(Data!F1489:J1489)),\"\")","v":""},"","","","","",{"$f":"IFERROR((Data!K1489-$F$4),\"\")","v":""},{"$f":"IF(AND(F1489<>\"\",G1489<>\"\",H1489<>\"\",I1489<>\"\",J1489<>\"\"),Data!L1489-$F$4,\"\")","v":""},"","","","",{"$f":"IF(F1489<>\"\",STDEV($Q$12:Q1489),\"\")","v":""},""]
[1479,null,{"$f":"RIGHT(Data!C1490,10)","v":""},null,null,null,null,null,null,null,{"$f":"IFERROR($U$3*Data!O1490/SQRT(COUNT(Data!F1490:J1490)),\"\")","v":""},"","","","","",{"$f":"IFERROR((Data!K1490-$F$4),\"\")","v":""},{"$f":"IF(AND(F1490<>\"\",G1490<>\"\",H1490<>\"\",I1490<>\"\",J1490<>\"\"),Data!L1490-$F$4,\"\")","v":""},"","","","",{"$f":"IF(F1490<>\"\",STDEV($Q$12:Q1490),\"\")","v":""},""]
[1480,null,{"$f":"RIGHT(Data!C1491,10)","v":""},null,null,null,null,null,null,null,{"$f":"IFERROR($U$3*Data!O1491/SQRT(COUNT(Data!F1491:J1491)),\"\")","v":""},"","","","","",{"$f":"IFERROR((Data!K1491-$F$4),\"\")","v":""},{"$f":"IF(AND(F1491<>\"\",G1491<>\"\",H1491<>\"\",I1491<>\"\",J1491<>\"\"),Data!L1491-$F$4,\"\")","v":""},"","","","",{"$f":"IF(F1491<>\"\",STDEV($Q$12:Q1491),\"\")","v":""},""]
[1481,null,{"$f":"RIGHT(Data!C1492,10)","v":""},null,null,null,null,null,null,null,{"$f":"IFERROR($U$3*Data!O1492/SQRT(COUNT(Data!F1492:J1492)),\"\")","v":""},"","","","","",{"$f":"IFERROR((Data!K1492-$F$4),\"\")","v":""},{"$f":"IF(AND(F1492<>\"\",G1492<>\"\",H1492<>\"\",I1492<>\"\",J1492<>\"\"),Data!L1492-$F$4,\"\")","v":""},"","","","",{"$f":"IF(F1492<>\"\",STDEV($Q$12:Q1492),\"\")","v":""},""]
[1482,null,{"$f":"RIGHT(Data!C1493,10)","v":""},null,null,null,null,null,null,null,{"$f":"IFERROR($U$3*Data!O1493/SQRT(COUNT(Data!F1493:J1493)),\"\")","v":""},"","","","","",{"$f":"IFERROR((Data!K1493-$F$4),\"\")","v":""},{"$f":"IF(AND(F1493<>\"\",G1493<>\"\",H1493<>\"\",I1493<>\"\",J1493<>\"\"),Data!L1493-$F$4,\"\")","v":""},"","","","",{"$f":"IF(F1493<>\"\",STDEV($Q$12:Q1493),\"\")","v":""},""]
[1483,null,{"$f":"RIGHT(Data!C1494,10)","v":""},null,null,null,null,null,null,null,{"$f":"IFERROR($U$3*Data!O1494/SQRT(COUNT(Data!F1494:J1494)),\"\")","v":""},"","","","","",{"$f":"IFERROR((Data!K1494-$F$4),\"\")","v":""},{"$f":"IF(AND(F1494<>\"\",G1494<>\"\",H1494<>\"\",I1494<>\"\",J1494<>\"\"),Data!L1494-$F$4,\"\")","v":""},"","","","",{"$f":"IF(F1494<>\"\",STDEV($Q$12:Q1494),\"\")","v":""},""]
[1484,null,{"$f":"RIGHT(Data!C1495,10)","v":""},null,null,null,null,null,null,null,{"$f":"IFERROR($U$3*Data!O1495/SQRT(COUNT(Data!F1495:J1495)),\"\")","v":""},"","","","","",{"$f":"IFERROR((Data!K1495-$F$4),\"\")","v":""},{"$f":"IF(AND(F1495<>\"\",G1495<>\"\",H1495<>\"\",I1495<>\"\",J1495<>\"\"),Data!L1495-$F$4,\"\")","v":""},"","","","",{"$f":"IF(F1495<>\"\",STDEV($Q$12:Q1495),\"\")","v":""},""]
[1485,null,{"$f":"RIGHT(Data!C1496,10)","v":""},null,null,null,null,null,null,null,{"$f":"IFERROR($U$3*Data!O1496/SQRT(COUNT(Data!F1496:J1496)),\"\")","v":""},"","","","","",{"$f":"IFERROR((Data!K1496-$F$4),\"\")","v":""},{"$f":"IF(AND(F1496<>\"\",G1496<>\"\",H1496<>\"\",I1496<>\"\",J1496<>\"\"),Data!L1496-$F$4,\"\")","v":""},"","","","",{"$f":"IF(F1496<>\"\",STDEV($Q$12:Q1496),\"\")","v":""},""]
[1486,null,{"$f":"RIGHT(Data!C1497,10)","v":""},null,null,null,null,null,null,null,{"$f":"IFERROR($U$3*Data!O1497/SQRT(COUNT(Data!F1497:J1497)),\"\")","v":""},"","","","","",{"$f":"IFERROR((Data!K1497-$F$4),\"\")","v":""},{"$f":"IF(AND(F1497<>\"\",G1497<>\"\",H1497<>\"\",I1497<>\"\",J1497<>\"\"),Data!L1497-$F$4,\"\")","v":""},"","","","",{"$f":"IF(F1497<>\"\",STDEV($Q$12:Q1497),\"\")","v":""},""]
[1487,null,{"$f":"RIGHT(Data!C1498,10)","v":""},null,null,null,null,null,null,null,{"$f":"IFERROR($U$3*Data!O1498/SQRT(COUNT(Data!F1498:J1498)),\"\")","v":""},"","","","","",{"$f":"IFERROR((Data!K1498-$F$4),\"\")","v":""},{"$f":"IF(AND(F1498<>\"\",G1498<>\"\",H1498<>\"\",I1498<>\"\",J1498<>\"\"),Data!L1498-$F$4,\"\")","v":""},"","","","",{"$f":"IF(F1498<>\"\",STDEV($Q$12:Q1498),\"\")","v":""},""]
[1488,null,{"$f":"RIGHT(Data!C1499,10)","v":""},null,null,null,null,null,null,null,{"$f":"IFERROR($U$3*Data!O1499/SQRT(COUNT(Data!F1499:J1499)),\"\")","v":""},"","","","","",{"$f":"IFERROR((Data!K1499-$F$4),\"\")","v":""},{"$f":"IF(AND(F1499<>\"\",G1499<>\"\",H1499<>\"\",I1499<>\"\",J1499<>\"\"),Data!L1499-$F$4,\"\")","v":""},"","","","",{"$f":"IF(F1499<>\"\",STDEV($Q$12:Q1499),\"\")","v":""},""]
[1489,null,{"$f":"RIGHT(Data!C1500,10)","v":""},null,null,null,null,null,null,null,{"$f":"IFERROR($U$3*Data!O1500/SQRT(COUNT(Data!F1500:J1500)),\"\")","v":""},"","","","","",{"$f":"IFERROR((Data!K1500-$F$4),\"\")","v":""},{"$f":"IF(AND(F1500<>\"\",G1500<>\"\",H1500<>\"\",I1500<>\"\",J1500<>\"\"),Data!L1500-$F$4,\"\")","v":""},"","","","",{"$f":"IF(F1500<>\"\",STDEV($Q$12:Q1500),\"\")","v":""},""]
[1490,null,{"$f":"RIGHT(Data!C1501,10)","v":""},null,null,null,null,null,null,null,{"$f":"IFERROR($U$3*Data!O1501/SQRT(COUNT(Data!F1501:J1501)),\"\")","v":""},"","","","","",{"$f":"IFERROR((Data!K1501-$F$4),\"\")","v":""},{"$f":"IF(AND(F1501<>\"\",G1501<>\"\",H1501<>\"\",I1501<>\"\",J1501<>\"\"),Data!L1501-$F$4,\"\")","v":""},"","","","",{"$f":"IF(F1501<>\"\",STDEV($Q$12:Q1501),\"\")","v":""},""]
[1491,null,{"$f":"RIGHT(Data!C1502,10)","v":""},null,null,null,null,null,null,null,{"$f":"IFERROR($U$3*Data!O1502/SQRT(COUNT(Data!F1502:J1502)),\"\")","v":""},"","","","","",{"$f":"IFERROR((Data!K1502-$F$4),\"\")","v":""},{"$f":"IF(AND(F1502<>\"\",G1502<>\"\",H1502<>\"\",I1502<>\"\",J1502<>\"\"),Data!L1502-$F$4,\"\")","v":""},"","","","",{"$f":"IF(F1502<>\"\",STDEV($Q$12:Q1502),\"\")","v":""},""]
[1492,null,{"$f":"RIGHT(Data!C1503,10)","v":""},null,null,null,null,null,null,null,{"$f":"IFERROR($U$3*Data!O1503/SQRT(COUNT(Data!F1503:J1503)),\"\")","v":""},"","","","","",{"$f":"IFERROR((Data!K1503-$F$4),\"\")","v":""},{"$f":"IF(AND(F1503<>\"\",G1503<>\"\",H1503<>\"\",I1503<>\"\",J1503<>\"\"),Data!L1503-$F$4,\"\")","v":""},"","","","",{"$f":"IF(F1503<>\"\",STDEV($Q$12:Q1503),\"\")","v":""},""]
[1493,null,{"$f":"RIGHT(Data!C1504,10)","v":""},null,null,null,null,null,null,null,{"$f":"IFERROR($U$3*Data!O1504/SQRT(COUNT(Data!F1504:J1504)),\"\")","v":""},"","","","","",{"$f":"IFERROR((Data!K1504-$F$4),\"\")","v":""},{"$f":"IF(AND(F1504<>\"\",G1504<>\"\",H1504<>\"\",I1504<>\"\",J1504<>\"\"),Data!L1504-$F$4,\"\")","v":""},"","","","",{"$f":"IF(F1504<>\"\",STDEV($Q$12:Q1504),\"\")","v":""},""]
[1494,null,{"$f":"RIGHT(Data!C1505,10)","v":""},null,null,null,null,null,null,null,{"$f":"IFERROR($U$3*Data!O1505/SQRT(COUNT(Data!F1505:J1505)),\"\")","v":""},"","","","","",{"$f":"IFERROR((Data!K1505-$F$4),\"\")","v":""},{"$f":"IF(AND(F1505<>\"\",G1505<>\"\",H1505<>\"\",I1505<>\"\",J1505<>\"\"),Data!L1505-$F$4,\"\")","v":""},"","","","",{"$f":"IF(F1505<>\"\",STDEV($Q$12:Q1505),\"\")","v":""},""]
[1495,null,{"$f":"RIGHT(Data!C1506,10)","v":""},null,null,null,null,null,null,null,{"$f":"IFERROR($U$3*Data!O1506/SQRT(COUNT(Data!F1506:J1506)),\"\")","v":""},"","","","","",{"$f":"IFERROR((Data!K1506-$F$4),\"\")","v":""},{"$f":"IF(AND(F1506<>\"\",G1506<>\"\",H1506<>\"\",I1506<>\"\",J1506<>\"\"),Data!L1506-$F$4,\"\")","v":""},"","","","",{"$f":"IF(F1506<>\"\",STDEV($Q$12:Q1506),\"\")","v":""},""]
[1496,null,{"$f":"RIGHT(Data!C1507,10)","v":""},null,null,null,null,null,null,null,{"$f":"IFERROR($U$3*Data!O1507/SQRT(COUNT(Data!F1507:J1507)),\"\")","v":""},"","","","","",{"$f":"IFERROR((Data!K1507-$F$4),\"\")","v":""},{"$f":"IF(AND(F1507<>\"\",G1507<>\"\",H1507<>\"\",I1507<>\"\",J1507<>\"\"),Data!L1507-$F$4,\"\")","v":""},"","","","",{"$f":"IF(F1507<>\"\",STDEV($Q$12:Q1507),\"\")","v":""},""]
[1497,null,{"$f":"RIGHT(Data!C1508,10)","v":""},null,null,null,null,null,null,null,{"$f":"IFERROR($U$3*Data!O1508/SQRT(COUNT(Data!F1508:J1508)),\"\")","v":""},"","","","","",{"$f":"IFERROR((Data!K1508-$F$4),\"\")","v":""},{"$f":"IF(AND(F1508<>\"\",G1508<>\"\",H1508<>\"\",I1508<>\"\",J1508<>\"\"),Data!L1508-$F$4,\"\")","v":""},"","","","",{"$f":"IF(F1508<>\"\",STDEV($Q$12:Q1508),\"\")","v":""},""]
[1498,null,{"$f":"RIGHT(Data!C1509,10)","v":""},null,null,null,null,null,null,null,{"$f":"IFERROR($U$3*Data!O1509/SQRT(COUNT(Data!F1509:J1509)),\"\")","v":""},"","","","","",{"$f":"IFERROR((Data!K1509-$F$4),\"\")","v":""},{"$f":"IF(AND(F1509<>\"\",G1509<>\"\",H1509<>\"\",I1509<>\"\",J1509<>\"\"),Data!L1509-$F$4,\"\")","v":""},"","","","",{"$f":"IF(F1509<>\"\",STDEV($Q$12:Q1509),\"\")","v":""},""]
[1499,null,{"$f":"RIGHT(Data!C1510,10)","v":""},null,null,null,null,null,null,null,{"$f":"IFERROR($U$3*Data!O1510/SQRT(COUNT(Data!F1510:J1510)),\"\")","v":""},"","","","","",{"$f":"IFERROR((Data!K1510-$F$4),\"\")","v":""},{"$f":"IF(AND(F1510<>\"\",G1510<>\"\",H1510<>\"\",I1510<>\"\",J1510<>\"\"),Data!L1510-$F$4,\"\")","v":""},"","","","",{"$f":"IF(F1510<>\"\",STDEV($Q$12:Q1510),\"\")","v":""},""]
[1500,null,{"$f":"RIGHT(Data!C1511,10)","v":""},null,null,null,null,null,null,null,{"$f":"IFERROR($U$3*Data!O1511/SQRT(COUNT(Data!F1511:J1511)),\"\")","v":""},"","","","","",{"$f":"IFERROR((Data!K1511-$F$4),\"\")","v":""},{"$f":"IF(AND(F1511<>\"\",G1511<>\"\",H1511<>\"\",I1511<>\"\",J1511<>\"\"),Data!L1511-$F$4,\"\")","v":""},"","","","",{"$f":"IF(F1511<>\"\",STDEV($Q$12:Q1511),\"\")","v":""},""]

{"sheet":"Protocol","index":5,"n_rows":21,"n_cols":12,"rows_kept":21,"cut":false,"hidden":false,"merged":[[0,0,0,11],[1,0,1,11],[20,0,20,4],[9,4,9,6],[10,4,10,6],[16,0,16,4],[17,0,17,4],[18,0,18,4],[19,0,19,4],[16,6,16,10],[17,6,17,10],[18,6,18,10],[19,6,19,10],[20,6,20,10]]}
["Messunsicherheitsprotokoll / Measurement uncertainty protocol"]
[]
[null,null,"Härtevergleichsplatte / Hardness reference block: ",{"$f":"IF(Setup!H17<>\"\",Setup!H17,\"\")","v":""},null,"Firma / Company:",{"$f":"IF(Setup!H5<>\"\",Setup!H5,\"\")","v":""},null,null,null,"Werksbezeichnung / Factory identification:",{"$f":"IF(Setup!H10<>\"\",Setup!H10,\"\")","v":""}]
[null,null,"Kalibrierte Härte / Calibrated hardness value:",{"$f":"IF(Setup!H21<>\"\",Setup!H21,\"\")","v":null},null,"Abteilung / Department:",{"$f":"IF(Setup!H6<>\"\",Setup!H6,\"\")","v":""},null,null,null,"Herstellungsjahr / Year of the production:",{"$f":"IF(Setup!H11<>\"\",Setup!H11,\"\")","v":""}]
[null,null,"Messunsicherheit / Uncertainty (Ucrm):",{"$f":"IF(Setup!H22<>\"\",Setup!H22,\"\")","v":null},null,"Spezifikation / Specification:",{"$f":"IF(Setup!H7<>\"\",Setup!H7,\"\")","v":""},null,null,null,"Hersteller / Producer:",{"$f":"IF(Setup!H12<>\"\",Setup!H12,\"\")","v":""}]
[null,null,null,null,null,"Skalenauflösung / Mimimal step:",{"$f":"IF(Setup!H8<>\"\",Setup!H8,\"\")","v":null},null,null,null,"Typ / Type:",{"$f":"IF(Setup!H13<>\"\",Setup!H13,\"\")","v":""}]
[null,null,null,null,null,"Stichprobenhäufigkeit / Frequency of inspection:",{"$f":"IF(Setup!H9<>\"\",Setup!H9,\"\")","v":""}]
[]
[]
["Nummer /\nNo","Prüfer /\nOperator","Datum /\nDate","Probennummer /\nSample number","Bemerkung, Materialien /\nRemarks, Materials",null,null,"Probe Messung /\nSample test\n1","Probe Messung /\nSample test\n2","Probe Messung /\nSample test\n3","Probe Messung /\nSample test\n4","Probe Messung /\nSample test\n5"]
[]
[]
[]
[null,null,null,null,null,null,null,null,null,"Messabweichung /\nBias","Ergebnis unkorrigiert /\nResult uncorrected","Ergebnis korrigiert /\nResult corrected"]
[{"$f":"Uncertainty!U3","v":null},{"$f":"Uncertainty!U4","v":null},{"$f":"Uncertainty!U7","v":null},{"$f":"Uncertainty!U5","v":null},"",null,null,null,"",null,""]
[]
["Student's-Faktor /\nStudent's factor",null,null,null,null,null,"Standardmessunsicherheit bei der Bestimmung von b (kann erst ab der 2. Messung bestimmt werden) /\nStandard uncertainty of the determined of b. Can be determined only after second series of measurements."]
["Erweiterungsfaktor gemäß Norm /\nExtension factor according standard",null,null,null,null,null,"Erweiterte Messunsicherheit der Härteprüfung nach der Anschlüsskalibrierung /\nExpanded uncertainty of hardness testing "]
["Standardmessunsicherheit des Härtewertes der Härtevergleichsplatte /\nStandard uncertainty of the hardness value of the reference block",null,null,null,null,null,"Standardmessunsicherheit bei der Prüfung einer Probe /\nStandard uncertainty when measuring a test piece"]
["Standardmessunsicherheit durch den kleinsten Messschritt /\nStandard uncertainty according to the resolution of the measuring system",null,null,null,null,null,"Erweiterte Messunsicherheit des Härtewertes /\nExpanded uncertainty of the hardness value"]
["Standardmessunsicherheit des Härteprüfgerätes bei Messung auf Härtevergleichsplatte /\nStandard uncertainty of hardness testing machine when measuring CRM",null,null,null,null,null,"Abweichung der Härteprüfmaschine vom Kalibrierwert /\nBias (deviation of hardness testing machine from calibration value)"]

{"sheet":"Abbreviations","index":6,"n_rows":19,"n_cols":4,"rows_kept":19,"cut":false,"hidden":false,"merged":[[18,0,18,3],[0,0,0,3],[1,0,1,3]]}
["Abkürzungen / Abbreviations"]
[]
["Quelle der Messunsicherheit /\nSources of uncertainty","Abkürzung /\nAbbreviation","Formel /\nFormula","Verweis auf das jeweilige Tabellenblatt /\nReference to the respective worksheet"]
["Standardmessunsicherheit der Kalibrierung der Härtevergleichsplatte /\nStandard uncertainty of the calibration of the hardness reference block (CRM)",null,null,"Uncertanty"]
["Student's Faktor /\nStudent's factor",null,null,"Uncertanty"]
["Standardmessunsicherheit durch den kleinsten Ableseschritt (ms) /\nStandard uncertainty according to the resolution of the lenght measurement system (ms)",null,null,"Uncertanty"]
["Standardmessunsicherheit des Härteprüfgerätes bei Messung auf einer Härtevergleichsplatte / Standard uncertainty of the hardness testing machine when measuring the CR\n\n\n",null,null,"Uncertanty"]
["Messabweichung der Härteprüfmaschine vom Kalibrierwert / Deviation of the hardness testing machine from the calibration value (bias)\n",null,null,"Uncertanty"]
["Standardabweichung der Messabweichung (b) / Standard deviation of the bias (b)\n\n\nnm - Anzahl der Messreihen / numbers of measurement series\n\n",null,null,"Uncertanty"]
["Standardmessunsicherheit bei der Bestimmung von b (kann erst ab der 2. Messreihe bestimmt werden) /\nStandard uncertainty of the determination of b (only after second series of measurement)\n",null,null,"Uncertanty"]
["Erweiterte Messunsicherheit der Härteprüfmaschine nach der Anschlusskalibrierung ohne Berücksichtigung der Einflüsse der Probe /\nExpanded uncertainty of the hardness testing machine without taking into account the influences of the test piece",null,null,"Uncertanty"]
["Mittelwert und Standardabweichung bei der Prüfung einer Probe /\nMean value and standard deviation of the testing of a test piece\n\n\n",null,null,"Uncertanty"]
["Standardmessunsicherheit bei der Prüfung einer Probe /\nStandard uncertainty of the testing of a test piece\n\n",null,null,"Uncertanty"]
["Erweiterte Messunsicherheit mit Berücksichtigung der Einflüsse der Probe /\nExpanded uncertainty with taking into account the influences of the test piece",null,null,"Uncertanty"]
["Ergebnishärtewert ohne Biaskorrektur (Betrag des Bias wird zur Messunsicherheit addiert) /\nResult of the hardness value without bias correction (bias added to the uncertainty)",null,null,"Uncertanty"]
["Ergebnishärtewert mit Biaskorrektur (Härtewert wird um den Bias korrigiert) /\nResult of the hardness value with bias correction (correction of the hardness value by bias)",null,null,"Uncertanty"]
[]
["Anmerkung / Note:"]
["Die Angaben in der Tabelle entsprechen den informativen Anhängen des Teil 1 der unter Benutzungshinweisen aufgeführten Normen mit dem deutschen Veröffentlichungsstand von 2006. /\nThe information in the table corresponds to the informative annexes of Part 1 of the standards listed in the Usage Notes with the German release date of 2006."]