{"text_format":"1","workbook":"xlsx","n_sheets":8,"sheets":["Usage notes","Setup","Reference indentation","Periodic check","Data","Uncertainty","Protocol","Abbreviations"],"not_rendered":{"charts":3,"images":3,"macros":1,"external_links":0,"defined_names":19,"comments":0,"pivot_tables":0},"unopened":[],"bounds":{"document_bytes":16777216,"sheet_cells":100000,"rows_first":2000,"rows_last":500,"rows_between":2000,"halvings":0,"cell_chars":16384,"cell_head_chars":4096},"cells_cut":0,"cells_raw":0,"read":"whole","date_system":"1900"}

{"sheet":"Usage notes","index":0,"n_rows":68,"n_cols":7,"rows_kept":68,"cut":false,"hidden":false,"merged":[[1,0,1,6],[55,4,55,6],[56,4,56,6],[0,0,0,6],[2,0,2,2],[2,4,2,6],[50,4,50,6],[51,4,51,6],[52,4,52,6],[53,4,53,6],[54,4,54,6],[45,4,45,6],[46,4,46,6],[47,4,47,6],[48,4,48,6],[49,4,49,6],[40,4,40,6],[41,4,41,6],[42,4,42,6],[43,4,43,6],[44,4,44,6],[35,4,35,6],[36,4,36,6],[37,4,37,6],[38,4,38,6],[39,4,39,6],[30,4,30,6],[31,4,31,6],[32,4,32,6],[33,4,33,6],[34,4,34,6],[25,4,25,6],[26,4,26,6],[27,4,27,6],[28,4,28,6],[29,4,29,6],[20,4,20,6],[21,4,21,6],[22,4,22,6],[23,4,23,6],[24,4,24,6],[15,4,15,6],[16,4,16,6],[17,4,17,6],[18,4,18,6],[19,4,19,6],[54,0,54,2],[55,0,55,2],[56,0,56,2],[3,0,3,2],[3,4,3,6],[4,4,4,6],[5,4,5,6],[6,4,6,6],[7,4,7,6],[8,4,8,6],[9,4,9,6],[10,4,10,6],[11,4,11,6],[12,4,12,6],[13,4,13,6],[14,4,14,6],[4,0,4,2],[5,0,5,2],[6,0,6,2],[7,0,7,2],[8,0,8,2],[9,0,9,2],[10,0,10,2],[11,0,11,2],[29,0,29,2],[30,0,30,2],[31,0,31,2],[32,0,32,2],[33,0,33,2],[24,0,24,2],[25,0,25,2],[26,0,26,2],[27,0,27,2],[28,0,28,2],[49,0,49,2],[50,0,50,2],[51,0,51,2],[52,0,52,2],[34,0,34,2],[35,0,35,2],[36,0,36,2],[37,0,37,2],[38,0,38,2],[19,0,19,2],[20,0,20,2],[21,0,21,2],[22,0,22,2],[23,0,23,2],[17,0,17,2],[18,0,18,2],[0,14,0,16],[53,0,53,2],[44,0,44,2],[45,0,45,2],[46,0,46,2],[47,0,47,2],[48,0,48,2],[39,0,39,2],[40,0,40,2],[41,0,41,2],[42,0,42,2],[43,0,43,2],[12,0,12,2],[13,0,13,2],[14,0,14,2],[15,0,15,2],[16,0,16,2]]}
["Benutzungshinweise / Usage notes"]
[]
[]
["Periodische Prüfung von Härteprüfmaschinen\nund Bestimmungen der Messunsicherheit",null,null,null,"Periodic checking of hardness testing machines\nand determination of the uncertainty"]
[]
["Für die Routineprüfung von Härteprüfmaschinen empfehlen die Normen",null,null,null,"For routine testing of hardness testing machines the standards listed below recommend a daily periodic check, which will become obligatory after the next revision of the standards"]
["•   DIN EN ISO 6506: Metallische Werkstoffe; Härteprüfung nach Brinell",null,null,null,"•   DIN EN ISO 6506: Metallic materials; Brinell hardness test"]
["•   DIN EN ISO 6507: Metallische Werkstoffe; Härteprüfung nach Vickers",null,null,null,"•   DIN EN ISO 6507: Metallic materials; Vickers hardness test "]
["•   DIN EN ISO 6508: Metallische Werkstoffe; Härteprüfung nach Rockwell\n     (Skalen A, B, C, D, E, F, G, H, K, N, T)",null,null,null,"•   DIN EN ISO 6508: Metallic materials; Rockwell hardness test\n     (scales A, B, C, D, E, F, G, H, K, N, T)"]
["•   DIN EN ISO 4545: Metallische Werkstoffe; Härteprüfung nach Knoop",null,null,null,"•   DIN EN ISO 4545: Metallic materials; Knoop hardness test"]
["Der folgende Text bezieht sich auf diese Normen.",null,null,null,"The following text refers to these standards."]
[]
["Die Normen empfehlen 2 Vorversuche (Eindrücke) durchzuführen, um sicher zu stellen, dass die Probe und der Probentisch richtig eingestellt sind. Die Ergebnisse dieser Vorversuche sollen unberücksichtigt bleiben.",null,null,null,"The standards recommend 2 indentations, to insure that the sample and the support are placed correctly. These first two readings should be disregarded."]
[]
["Nach den Normen sollen auf einer Härtevergleichsplatte der angewendeten Skale mit einer Härte, die der Probenhärte des untersuchten Materials entspricht (z.B. 35 HRC oder 240 HBW 2,5/187,5), drei Härteprüfungen durchgeführt werden.",null,null,null,"According to the standards at least three hardness tests should be carried out on a reference block of the applied scale with a hardness corresponding to that of the test sample (e.g. 35 HRC or 240 HBW 2.5/187.5)"]
[]
["Mit dem vorliegenden Programm können die Werte in eine Excel-Datei eingegeben und somit für die Dokumentation nach ISO 9000 registriert werden. Das Programm ist so ausgelegt, dass jeweils mittels einer Härtevergleichsplatte für eine Härteprüfmaschine anhand der eingegebenen Werte überprüft wird, ob die Wiederholpräzision (WHP) im normativen Bereich liegt (OK) oder ob die Grenzabweichung (GA) überschritten ist.",null,null,null,"With this program one is able to enter the values into an EXCEL-file for documentation according to ISO 9000. The program is designed to indicate  whether the hardness testing machine is working properly (OK) or if there is an error; it gives information on the repeatability (WHP) and any deviation from the standard limits (GA). The program should be handled in such a way that one reference block per machine is checked on the basis of the values entered, to determine whether the machine meets the standards for repeatability (WHP) and limits (GA)."]
[]
["Vom Programm werden folgende Fehlermeldungen angezeigt (Arbeitsblatt \"Data\"):\nWHP    -    Die Wiederholpräzision gemäss der normativen Vorgabe ist überschritten.\nGA       -    Die Grenzabweichung gemäss der normativen Vorgabe ist überschritten.\nRUN     -    Die Mittelwerte der letzten 7 Messreihen liegen ober- oder unterhalb der Mittellinien.\nTREND  -   Die Mittelwerte der letzten 7 Messreihen beschreiten eine an- oder absteigende Folge.\nEs können mehrer Fehlermeldung angezeigt werden, entsprechend den festgestellten Abweichungen.\nDie Fehlermeldungen geben Hinweise auf eine nicht funktionsgerechte Arbeitsweise der Maschine.",null,null,null,"The program shows the following error messages (worksheet \"Data\"):\nWHP    -    The repeatability of the machine exceeds the standard requirement.\nGA       -    The standard limit deviation has been exceeded.\nRUN     -    The mean value of the last 7 checks (5 readings each) is above or below the mean level.\nTREND  -   The mean value of the last 7 checks (5 readings each) has an ascending or sloping trend.\nIn the worst case, several error messages are displayed according to the deviations observed.\nThe error messages indicate whether or not the machine is functioning satisfactorily."]
[]
["Die Messunsicherheit wird mit zwei verschiedenen Berechnungsgrundlagen bestimmt:\n•   U without correction: Nach dem Uncert Report COP 14. Die Messwerte können unkorrigiert verwendet werden.\n     (Gabauer, W., Manual of Codes of Practice for the Determination of Uncertainties in Mechanical \n     Test on Metallic Materials, The Estimation of Uncertainties in Hardness Measurements, \n     Projekt, No. SMT4-CT97-2165, UNCERT COP 14: 2000) [2, 3, 4]\n•   U with correction: Unter Berücksichtigung der Abweichung, wobei jeder auf eine Probe \n     bestimmte Messwert um die Abweichung korrigiert werden muss [5 - 10].",null,null,null,"The Uncertainty is determined by two different bases of calculation:\n•  U without correction: According to the Uncert Report COP 14: The measured value can be used without correction.\n     (Gabauer, W., Manual of Codes of Practice for the Determination of Uncertainties in Mechanical\n     Tests on Metallic Materials, The Estimation of Uncertainties in Hardness Measurements,\n     Project, No. SMT4-CT97-2165, UNCERT COP 14: 2000) [2, 3, 4]\n•  U with correction: According to the bias: In this case every value measured  for a sample must be\n    corrected by the value of the bias [5 - 10]."]
[]
["Für die Bestimmung der Messunsicherheit müssen unter \"Data\" 5 Eindrücke auf der Härtevergleichsplatte registriert werden.",null,null,null,"To obtain the uncertainty using this program, five readings of indentations on the hardness reference block must be registered under \"Data\"."]
[]
["Anmerkungen zum Datenfile",null,null,null,"Remarks to the data file"]
["Das Datenfile enthält die Berechnungsgrundlage der Methode M2 für die Bestimmung der Messunsicherheit gemäss des informativen Anhangs in Teil 1 der oben angegebenen Normen für Brinell, Rockwell, Vickers und Knoop. Mit dem Veröffentlichungsstand 2006.",null,null,null,"This EXCEL-file  contains the basis of calculation of the method M2 for the determination of the uncertainty, according to the informative annexes of Part 1 of the  standards of Brinell, Rockwell, Vickers and Knoop mentioned above. The standards were published in German in 2006."]
[]
["Anmerkungen zur Messunsicherheit ohne Korrektur der Sollwertabweichung (U without correction)",null,null,null,"Remarks on the uncertainty without correction for the bias (U without correction)"]
["Die Methode zur Messunsicherheit ohne Korrektur der Sollwertabweichung beruht auf dem Konzept, das Binder und Gabauer entsprechend der GUM [2] entwickelten. Zur genauen Interpretation der Vorgehensweise und der rechnerischen Grundlage wird auf die vorhandenen Veröffentlichungen [3, 4, 5] verwiesen.",null,null,null,"The determination of uncertainty without correction by the bias is based on the concept  developed by Binder and Gabauer according to the GUM [2]. For an exact interpretation of the methods and the calculation basis see the following publications [3, 4, 5]. "]
[]
["Anmerkungen zur Messunsicherheit mit Korrektur der Sollwertabweichung (U with correction)",null,null,null,"Remarks on the uncertainty with correction of the measured values  by the bias (U with correction)"]
["Bei der Methode zur Messunsicherheit mit Korrektur der Sollwertabweichung wurden die gleichen Quellen wie bei [4, 5] verwendet.",null,null,null,"The determination of uncertainty with correction for the bias is based on the same publications [4, 5]."]
[]
[]
["Aus dem Mittelwert einer Messreihe auf der Härtevergleichsplatte (Referenzmaterial, CRM) in der zu untersuchenden Härteprüfmaschine und dem Kalibrierwert der Härtevergleichsplatte wird die Sollwertabweichung b der Härteprüfmaschine bestimmt. Alle mit dieser Härteprüfmaschine an Proben ermittelten Härtewerte werden anschießend mit der Sollwertabweichung korrigiert. Die Sollwertabweichung ist abhängig von der Härteprüfmaschine, der Härteskala, dem Härteskalenbereich und ggf. dem Bediener. Wenn der Härtewert der Proben nicht mit dem Kalibrierwert übereinstimmt, empfiehlt es sich, die Korrekturwertbestimmung auf der Basis einer Korrekturkurve durchzuführen. Die einfachste Art der Korrekturkurve ist eine Gerade zwischen zwei den Probenhärtewert eingrenzenden Kalibrierpunkten auf der Härteskala (Voraussetzung ist ein entsprechend kleiner Härteskalenbereich).",null,null,null,"The bias b of a machine is determined from the difference between? the mean value of five hardness tests on the hardness reference block (CRM) on a specific hardness testing machine and the calibrated  value of the hardness reference block. All test values determined on this hardness testing machine are then corrected for the bias. The bias depends on the hardness testing machine, the hardness scale, the range of the scale and, in some cases, on the operator of the machine. If the hardness value of the test samples does not match the hardness of the CRM,  it is advisable to determine the correction value of the bias on the basis of a correction curve. The simplest form of a correction curve is a straight line between the two calibration points on either side of the test value on the hardness scale (assuming a relatively small range of the hardness scale). "]
[]
["Anmerkungen zu den Grundlagen der Berechnung",null,null,null,"Remarks to the bases of calculation "]
["•   Quadratische Addition: Die im Modell für die Berechnung der Messunsicherheit berücksichtigen \n    Einflussgrößen können als linear unabhängig angesehen werden. Daher ist die quadratische Addition der \n    Einflussgrößen gerechtfertigt.",null,null,null,"•   Residual sum of squares (RSS). The parameters used in the calculation model are assumed to be linearly independent. The appliance of RSS is therefore justified."]
["•   Normalverteilung: Anhand der im Regelfall 5 Messwerte einer Messreihe kann kein Schluss auf die Art \n    der Verteilung getroffen werden. Umfangreiche Untersuchungen im Vorfeld zu der hier vorgestellten \n    Messunsicherheitsberechung rechtfertigen jedoch den Modellansatz der Normalverteilung zumindest für \n    die Härte-Bezugsnormalmesseinrichtung selbst und der auf ihr festgestellten Inhomogenitäten des \n    Referenzmaterials.",null,null,null,"•   Normal Distribution: On the basis of usual five indentations per measurement series, no conclusion can be drawn on the form of the distribution. However, comprehensive investigations carried out beforehand justify using the model for the determination of repeatability, at least for the standardizing machine and the non-homogeneities of the CRM."]
["•   Anzahl der Einzelmesswerte n = 5: Für eine nach statistischer Regel gesicherten Aussage ist eine allein \n    auf der Basis von 5 Werten durchgeführte Ermittlung sicherlich nicht durchführbar. In der auf \n    Kostenminimierung ausgerichteten industriellen Prüfpraxis mit einer normativen Vorgabe von min. 3 \n    Messwerten je Tag, erschien die Forderung von 5 Prüfeindrücken das maximal Durchsetzbare im Hinblick \n    auf die Akzeptanz durch den Anwender.",null,null,null,"•  Number of individual measured values n = 5: The 5 readings are not sufficient for statistical confirmation . Since, however, industrial practice is based on 3 readings a day to minimize costs, the requirement of 5 indentations a day would seem to be the maximum that users are willing to accept.  "]
[]
["[1] Polzin, T., Schwenk, D., Fengler, M., Änderung der Normen Brinell und Rockwell HTM 56 (2001) \n     S. 232-235 ",null,null,null,"[1] Polzin, T., Schwenk, D., Fengler, M., Änderung der Normen Brinell und Rockwell HTM 56 (2001) \n     S. 232-235 "]
["[2] Guide to the Expression of Uncertainly in Measurement, 1. Auflage, Hrsg. DIN, Berlin, Wien, Zürich, \n     Beuth Verlag, 1995\n     Deutsche Übersetzung: Leitfaden zur Angabe der Messunsicherheit beim Messen, Beuth Verlag, 1995",null,null,null,"[2] Guide to the Expression of Uncertainly in Measurement, 1. Auflage, Hrsg. DIN, Berlin, Wien, Zürich, \n     Beuth Verlag, 1995\n     German Translation: Leitfaden zur Angabe der Messunsicherheit beim Messen, Beuth Verlag, 1995"]
["[3] GABAUER, W., Manual of Codes of Practice for the Determination of Uncertainties in Mechanical Tests \n     on Metallic Materials, The Estimation of Uncertainties in Hardness Measurements, Project, \n     No. SMT4-CT97-2165, UNCERT COP 14: 2000",null,null,null,"[3] GABAUER, W., Manual of Codes of Practice for the Determination of Uncertainties in Mechanical Tests \n     on Metallic Materials, The Estimation of Uncertainties in Hardness Measurements, Project, \n     No. SMT4-CT97-2165, UNCERT COP 14: 2000"]
["[4] Gabauer W. , Binder O., Abschätzung der Messunsicherheit in der Härteprüfung unter Verwendung der \n     indirekten Kalibriermethode, DVM Werkstoffprüfung, Tagungsband 2000, S. 255-261",null,null,null,"[4] Gabauer W. , Binder O., Abschätzung der Messunsicherheit in der Härteprüfung unter Verwendung der \n     indirekten Kalibriermethode, DVM Werkstoffprüfung, Tagungsband 2000, S. 255-261"]
["[5] Polzin, T., Schwenk, D., Method for Uncertainty determination of Hardness Testing, Materialprüfung (44),\n     2002, S. 64-71",null,null,null,"[5] Polzin, T., Schwenk, D., Method for Uncertainty determination of Hardness Testing, Materialprüfung (44),\n     2002, S. 64-71"]
["[6] Polzin, T., Schwenk, D., Verfahren zur Bestimmung der Messunsicherheit bei der Härteprüfung,\n     Excel Datei zur Durchführung, Mat.-wiss. U. Werkstofftechnik, 33, 2002, S. 204-215",null,null,null,"[6] Polzin, T., Schwenk, D., Verfahren zur Bestimmung der Messunsicherheit bei der Härteprüfung,\n     Excel Datei zur Durchführung, Mat.-wiss. U. Werkstofftechnik, 33, 2002, S. 204-215"]
["[7] Polzin, T., Schwenk, D., Bestimmung der Messunsicherheit bei der Härteprüfung, Vorgeschlagenen\n     Empfehlungen der Normen, Verfügbare Software, DGM Tagungsband, 2002, S. 318-323",null,null,null,"[7] Polzin, T., Schwenk, D., Bestimmung der Messunsicherheit bei der Härteprüfung, Vorgeschlagenen\n     Empfehlungen der Normen, Verfügbare Software, DGM Tagungsband, 2002, S. 318-323"]
["[8] Frenz H., Polzin T., Schwenk D., Vogt C., Bestimmung der Messunsicherheit bei der Härteprüfung, \n     vorgeschlagene Methoden für die Normen Härteprüfung, Praktische Metallographie 2004, S. 506-515",null,null,null,"[8] Frenz H., Polzin T., Schwenk D., Vogt C., Bestimmung der Messunsicherheit bei der Härteprüfung, \n     vorgeschlagene Methoden für die Normen Härteprüfung, Praktische Metallographie 2004, S. 506-515"]
["[9] Polzin T., Schwenk, D., Bestimmung der Messunsicherheit bei der Härteprüfung, EXCEL–File für die\n     periodische Prüfung und Bestimmung der Messunsicherheit, Praktische Metallographie, 2004-11",null,null,null,"[9] Polzin T., Schwenk, D., Bestimmung der Messunsicherheit bei der Härteprüfung, EXCEL–File für die\n     periodische Prüfung und Bestimmung der Messunsicherheit, Praktische Metallographie, 2004-11"]
["[10] Baudzus, D., Polzin T., Schwenk, D., Bestimmung der Messunsicherheit bei der Härteprüfung,\n      Einbringung der Bestimmung der Messunsicherheit in das QMH, Verfahrensanweisung des\n      Qualitätsmanagements, Praktische Metallographie, 2005-01",null,null,null,"[10] Baudzus, D., Polzin T., Schwenk, D., Bestimmung der Messunsicherheit bei der Härteprüfung,\n      Einbringung der Bestimmung der Messunsicherheit in das QMH, Verfahrensanweisung des\n      Qualitätsmanagements, Praktische Metallographie, 2005-01"]
[]
["Das Programm schützt nicht vor Fehlern bei der Verwendung von Härtevergleichsplatten. Die Durchführung der hier beschriebenen periodischen Prüfung ersetzt nicht die nach DIN 51220 geforderten regelmäßigen Prüfungen und Kalibrierungen der Härteprüfmaschine, sondern ergänzt sie nach den Empfehlungen der oben genannten Normen. Die maximale Anzahl von Eindrücken auf der Härtevergleichsplatte, die sich aus den in den Normen vorgegebenen Mindestabständen ergibt, ist für alle Verfahren verschieden. Das Programm überlässt dem Benutzer die Abschätzung, ab wann die Härtevergleichsplatte unbrauchbar ist und gibt nur einen Warnhinweis, wenn die nach Norm zulässige Maximalzahl an Eindrücken erreicht ist.",null,null,null,"The program does not protect against errors when using hardness reference blocks. The execution of the periodic check described here does not replace the regular examinations and calibrations of the hardness testing machines required by DIN 51220 and other standards, but supplements it following the recommendations of the above-mentioned standards. The maximum number of indentations on hardness reference blocks, which results from the minimum distances given in the standards, differs for all procedures. The program leaves the decision of when a hardness reference block loses its usefulness to the user and only gives a warning indication when the standard allowed maximum number of indentations has been reached."]
[]
["Für die Validierung der Software im Rahmen des QM ist der Nutzer verantwortlich.",null,null,null,"The user is responsible for validating the software within the context of the QS."]
[]
["Die Datei wurde virenfrei erstellt. Für eine Verseuchung auf dem Transportweg wird keine Haftung übernommen. Insbesondere da Makros im Einsatz sind, die für die Berechnung der Messunsicherheit aktiviert sein müssen, wird ein Virenscan dringend empfohlen.",null,null,null,"The file was produced virus-free. There is no guarantee against contamination during transport. Because macros are used, which have to be activated for a determination of the uncertainty, a virus scan is urgently recommended. "]
[]
[null,"Das MPA NRW bietet",null,null,null,"The MPA NRW offers"]
["Prüfung und Kalibrierung von Prüfmaschinen\nu.A. mit dem größten Kraftaufnehmer Europas.\nWeitere Informationen durch\nHerr Hesse\nTel: +49 (0) 231 4502 665",null,"Kalibrierung von Härtevergleichsplatten,\nEindingkörpern (Kugeln und Diamanten)\nWeitere Informationen\nHerr Dipl.-Ing. Schwenk / Herr Dipl.-Ing. Reinstädt\nTel: +49 (0) 231 4502 440\nTel: +49 (0) 231 4502 466",null,"Testing and calibration of testing machines, i.a.\nwith Europe´s largest force transducer\nFurther information by Mr Hesse\nPhone: +49 (0) 231 4502 665",null,"Calibration of hardness reference block and indenters for the hardness test (balls and diamonds)\nFurther information by\nMr Dipl.-Ing Schwenk / Mr Dipl.-Ing. Reinstädt\nPhone: +49 (0) 231 4502 440\nPhone: +49 (0) 231 4502 466"]
[]
[null,"MPA NRW,    44285 Dortmund",null,null,null,"MPA NRW,    44285 Dortmund"]
[null,"FAX:        +49 (0) 231 4502 666",null,null,null,"FAX:        +49 (0) 231 4502 666"]
[null,"E-Mail:   schwenk@mpanrw.de",null,null,null,"E-Mail:   schwenk@mpanrw.de"]
[]
[]
[]
["Copyright ©  2019",null,"Version: 20190101",null,{"$f":"A68","v":""},null,{"$f":"C68","v":""}]

{"sheet":"Setup","index":1,"n_rows":31,"n_cols":15,"rows_kept":31,"cut":false,"hidden":false,"merged":[[1,0,1,14],[30,1,30,6],[24,1,24,6],[23,1,23,6],[27,1,27,6],[24,7,24,9],[23,7,23,9],[28,1,28,6],[29,1,29,6],[26,1,26,6],[16,1,16,6],[17,1,17,6],[16,7,16,9],[17,7,17,9],[3,1,3,9],[4,1,4,6],[5,1,5,6],[4,7,4,9],[5,7,5,9],[6,7,6,9],[6,1,6,6],[7,7,7,9],[8,7,8,9],[12,7,12,9],[15,1,15,9],[22,7,22,9],[7,1,7,6],[8,1,8,6],[18,1,18,6],[19,1,19,6],[20,1,20,6],[21,1,21,6],[22,1,22,6],[18,7,18,9],[19,7,19,9],[20,7,20,9],[9,7,9,9],[12,1,12,6],[21,7,21,9],[10,7,10,9],[11,7,11,9],[9,1,9,6],[10,1,10,6],[11,1,11,6],[13,7,13,9],[13,1,13,6]]}
["Einstellungen / Setup",null,null,null,null,null,null,null,null,null,null,null,null,null,"0000"]
[]
[]
[null,"Benutzerdaten / User data:"]
[null,"Firma / Company:"]
[null,"Abteilung / Department:"]
[null,"Spezifikation / Specification:"]
[null,"Skalenauflösung / Mimimal step:",null,null,null,null,null,1]
[null,"Stichprobenhäufigkeit / Frequency of inspection:"]
[null,"Werksbezeichnung / Factory identification:"]
[null,"Herstellungsjahr / Year of the production:"]
[null,"Hersteller / Producer:"]
[null,"Typ / Type:"]
[null,"Prüfer / Operator"]
[]
[null,"Kalibrierdaten / Calibration data:"]
[null,"Härtevergleichsplatte / Hardness reference block: ",null,null,null,null,null,"XXXXX01.0119"]
[null,"Normativer Bezug / Standard reference:",null,null,null,null,null,"DIN EN ISO 6507-2:2018-07"]
[null,"Kalibrierdatum / Date of the calibration:",null,null,null,null,null,"02.01.2019"]
[null,"Prüfverfahren / Testing methode:",null,null,null,null,null,"HV0,5"]
[null,"Kalibrierte Härte / Calibrated hardness value:",null,null,null,null,null,526.24099999999999]
[null,"Messunsicherheit / Uncertainty (Ucrm):",null,null,null,null,null,12.74]
[null,"Prüflast / Test load:",null,null,null,null,null,{"$f":"IFERROR(MID($H$20,SEARCH(\"V\",$H$20)+1,10),\"\")","v":""}]
[null,"Zulässige systematische Abweichung / Alowed bias (brel, allowed) [%]:",null,null,null,null,null,6.5029779630732598]
[null,"Zulässige relative Wiederholpräzision / Allowed relativ repeatability (rrel, allowed) [%]:",null,null,null,null,null,8]
[]
[null,null,null,null,null,null,null,"M1","M2","M3","M4","M5"]
[null,"Härtewerte der Kalibrierung / Hardness values of calibration [HV]:",null,null,null,null,null,522.00400000000002,527.245,527.245,529.13599999999997,525.61400000000003]
[null,"Mittelwert der Messwerte Prüfeindruck / Mean value of the indentation [µm]:",null,null,null,null,null,42.145000000000003,41.935000000000002,41.935000000000002,41.86,42]
[null,"Prüfeindruck d1 / Value of d1 [µm]:",null,null,null,null,null,41.97,41.99,41.73,41.78,41.94]
[null,"Prüfeindruck d2 / Value of d2 [µm]:",null,null,null,null,null,42.32,41.88,42.14,41.94,42.06]

{"sheet":"Reference indentation","index":2,"n_rows":1512,"n_cols":17,"rows_kept":1512,"cut":false,"hidden":false,"merged":[[9,0,10,0],[9,1,10,1],[9,2,10,2],[9,5,9,9],[0,0,0,16],[1,0,1,16],[9,15,10,15],[9,16,10,16],[9,3,10,3],[9,4,10,4],[8,8,8,9],[9,10,9,14]]}
["Überprüfung des Diagonalenmesssystems / Verification of the optical measurement system"]
[]
[null,null,null,"Härtevergleichsplatte / Hardness reference block:",{"$f":"IF(Setup!H17<>\"\",Setup!H17,\"\")","v":""}]
[null,null,null,"Kalibrierte Härte / Calibrated hardness value:",{"$f":"IF(Setup!H21<>\"\",Setup!H21,\"\")","v":null},null,null,null,null,null,null,null,"M1","M2","M3","M4","M5"]
[null,null,null,null,null,null,null,null,null,null,null,"Mittelwert der Messwerte Prüfeindruck / Mean value of the indentation [µm]:",{"$f":"Setup!H29","v":null},{"$f":"Setup!I29","v":null},{"$f":"Setup!J29","v":null},{"$f":"Setup!K29","v":null},{"$f":"Setup!L29","v":null}]
[null,null,null,null,null,null,null,null,null,null,null,"Prüfeindruck d1 / Value of d1 [µm]:",{"$f":"Setup!H30","v":null},{"$f":"Setup!I30","v":null},{"$f":"Setup!J30","v":null},{"$f":"Setup!K30","v":null},{"$f":"Setup!L30","v":null}]
[null,null,null,null,null,null,null,null,null,null,null,"Prüfeindruck d2 / Value of d2 [µm]:",{"$f":"Setup!H31","v":null},{"$f":"Setup!I31","v":null},{"$f":"Setup!J31","v":null},{"$f":"Setup!K31","v":null},{"$f":"Setup!L31","v":null}]
[null,null,null,null,null,null,null,null,null,null,null,"1,25 % der mittleren Referenzeindrucklänge / 1,25 % mean length of the indentation [µm]:",{"$f":"0.0125*M5","v":null},{"$f":"0.0125*N5","v":null},{"$f":"0.0125*O5","v":null},{"$f":"0.0125*P5","v":null},{"$f":"0.0125*Q5","v":null}]
[]
["Nummer / No","Prüfer /\nOperator","Datum /\nDate","Nummer des\nReferenzeindrucks /\nNumber of the\nreference\nindentation","Zulässige Abweichung vom\nReferenzeindruck /\nAllowable deviation\nfrom the reference\nindentation\n[µm]","Messung 1 / Test 1",null,null,null,null,"Messung 2 / Test 2",null,null,null,null,"Optische\nPrüfung des Eindringkörpers /\nOptical inspection of the indenter","Freigabe für\ndie Prüfung /\nAppropriate\nfor testing"]
[null,null,null,null,null,"Diagonale 1 des\nPrüfeindrucks /\nDiagonal 1 of\nthe indentation\n[µm]","Diagonale 2 des\nPrüfeindrucks /\nDiagonal 2 of\nthe indentation\n[µm]","Mittelwert der\nDiagonalen des\nPrüfeindrucks /\nMean value\nof the diagonals\n[µm]","Abweichung vom\nReferenzeindruck /\nDeviation from the\nreference indentation\n[µm]","Normative Anforderungen /\nNormative requirements","Diagonale 1 des\nPrüfeindrucks /\nDiagonal 1 of\nthe indentation\n[µm]","Diagonale 2 des\nPrüfeindrucks /\nDiagonal 2 of\nthe indentation\n[µm]","Mittelwert der\nDiagonalen des\nPrüfeindrucks /\nMean value\nof the diagonals\n[µm]","Abweichung vom\nReferenzeindruck /\nDeviation from the\nreference indentation\n[µm]","Normative Anforderungen /\nNormative requirements"]
[1,null,null,null,{"$f":"IF(IF(D12=$M$4,$M$8,IF(D12=$N$4,$N$8,IF(D12=$O$4,$O$8,IF(D12=$P$4,$P$8,IF(D12=$Q$4,$Q$8,\"\")))))>1,IF(D12=$M$4,$M$8,IF(D12=$N$4,$N$8,IF(D12=$O$4,$O$8,IF(D12=$P$4,$P$8,IF(D12=$Q$4,$Q$8,\"\"))))),1)","v":""},null,null,{"$f":"IFERROR(AVERAGE(F12:G12),\"\")","v":""},{"$f":"IFERROR(ABS(IF(D12=$M$4,$M$5,IF(D12=$N$4,$N$5,IF(D12=$O$4,$O$5,IF(D12=$P$4,$P$5,IF(D12=$Q$4,$Q$5,\"\")))))-H12),\"\")","v":""},{"$f":"IF(AND($F12<>\"\",$G12<>\"\"),IF(I12>$E12,\"n.OK\",\"OK\"),\"\")","v":""},null,null,{"$f":"IFERROR(AVERAGE(K12:L12),\"\")","v":""},{"$f":"IFERROR(ABS(IF(D12=$M$4,$M$5,IF(D12=$N$4,$N$5,IF(D12=$O$4,$O$5,IF(D12=$P$4,$P$5,IF(D12=$Q$4,$Q$5,\"\")))))-M12),\"\")","v":""},{"$f":"IF(AND($K12<>\"\",$L12<>\"\"),IF(N12>$E12,\"n.OK\",\"OK\"),\"\")","v":""},null,{"$f":"IF(AND($J12<>\"\",$P12<>\"\"),IF(OR(AND(J12=\"OK\",P12=\"OK\"),AND(O12=\"OK\",P12=\"OK\")),\"Y\",\"N\"),\"\")","v":""}]
[2,null,null,null,{"$f":"IF(IF(D13=$M$4,$M$8,IF(D13=$N$4,$N$8,IF(D13=$O$4,$O$8,IF(D13=$P$4,$P$8,IF(D13=$Q$4,$Q$8,\"\")))))>1,IF(D13=$M$4,$M$8,IF(D13=$N$4,$N$8,IF(D13=$O$4,$O$8,IF(D13=$P$4,$P$8,IF(D13=$Q$4,$Q$8,\"\"))))),1)","v":""},null,null,{"$f":"IFERROR(AVERAGE(F13:G13),\"\")","v":""},{"$f":"IFERROR(ABS(IF(D13=$M$4,$M$5,IF(D13=$N$4,$N$5,IF(D13=$O$4,$O$5,IF(D13=$P$4,$P$5,IF(D13=$Q$4,$Q$5,\"\")))))-H13),\"\")","v":""},{"$f":"IF(AND($F13<>\"\",$G13<>\"\"),IF(I13>$E13,\"n.OK\",\"OK\"),\"\")","v":""},null,null,{"$f":"IFERROR(AVERAGE(K13:L13),\"\")","v":""},{"$f":"IFERROR(ABS(IF(D13=$M$4,$M$5,IF(D13=$N$4,$N$5,IF(D13=$O$4,$O$5,IF(D13=$P$4,$P$5,IF(D13=$Q$4,$Q$5,\"\")))))-M13),\"\")","v":""},{"$f":"IF(AND($K13<>\"\",$L13<>\"\"),IF(N13>$E13,\"n.OK\",\"OK\"),\"\")","v":""},null,{"$f":"IF(AND($J13<>\"\",$P13<>\"\"),IF(OR(AND(J13=\"OK\",P13=\"OK\"),AND(O13=\"OK\",P13=\"OK\")),\"Y\",\"N\"),\"\")","v":""}]
[3,null,null,null,"",null,null,"","","",null,null,{"$f":"IFERROR(AVERAGE(K14:L14),\"\")","v":""},{"$f":"IFERROR(ABS(IF(D14=$M$4,$M$5,IF(D14=$N$4,$N$5,IF(D14=$O$4,$O$5,IF(D14=$P$4,$P$5,IF(D14=$Q$4,$Q$5,\"\")))))-M14),\"\")","v":""},{"$f":"IF(AND($K14<>\"\",$L14<>\"\"),IF(N14>$E14,\"n.OK\",\"OK\"),\"\")","v":""},null,""]
[4,null,null,null,"",null,null,"","","",null,null,"","","",null,""]
[5,null,null,null,"",null,null,"","","",null,null,"","","",null,""]
[6,null,null,null,"",null,null,"","","",null,null,"","","",null,""]
[7,null,null,null,"",null,null,"","","",null,null,"","","",null,""]
[8,null,null,null,"",null,null,"","","",null,null,"","","",null,""]
[9,null,null,null,"",null,null,"","","",null,null,"","","",null,""]
[10,null,null,null,"",null,null,"","","",null,null,"","","",null,""]
[11,null,null,null,"",null,null,"","","",null,null,"","","",null,""]
[12,null,null,null,"",null,null,"","","",null,null,"","","",null,""]
[13,null,null,null,"",null,null,"","","",null,null,"","","",null,""]
[14,null,null,null,"",null,null,"","","",null,null,"","","",null,""]
[15,null,null,null,"",null,null,"","","",null,null,"","","",null,""]
[16,null,null,null,"",null,null,"","","",null,null,"","","",null,""]
[17,null,null,null,"",null,null,"","","",null,null,"","","",null,""]
[18,null,null,null,"",null,null,"","","",null,null,"","","",null,""]
[19,null,null,null,"",null,null,"","","",null,null,"","","",null,""]
[20,null,null,null,"",null,null,"","","",null,null,"","","",null,""]
[21,null,null,null,"",null,null,"","","",null,null,"","","",null,""]
[22,null,null,null,"",null,null,"","","",null,null,"","","",null,""]
[23,null,null,null,"",null,null,"","","",null,null,"","","",null,""]
[24,null,null,null,"",null,null,"","","",null,null,"","","",null,""]
[25,null,null,null,"",null,null,"","","",null,null,"","","",null,""]
[26,null,null,null,"",null,null,"","","",null,null,"","","",null,""]
[27,null,null,null,"",null,null,"","","",null,null,"","","",null,""]
[28,null,null,null,"",null,null,"","","",null,null,"","","",null,""]
[29,null,null,null,"",null,null,"","","",null,null,"","","",null,""]
[30,null,null,null,"",null,null,"","","",null,null,"","","",null,""]
[31,null,null,null,"",null,null,"","","",null,null,"","","",null,""]
[32,null,null,null,"",null,null,"","","",null,null,"","","",null,""]
[33,null,null,null,"",null,null,"","","",null,null,"","","",null,""]
[34,null,null,null,"",null,null,"","","",null,null,"","","",null,""]
[35,null,null,null,"",null,null,"","","",null,null,"","","",null,""]
[36,null,null,null,"",null,null,"","","",null,null,"","","",null,""]
[37,null,null,null,"",null,null,"","","",null,null,"","","",null,""]
[38,null,null,null,"",null,null,"","","",null,null,"","","",null,""]
[39,null,null,null,"",null,null,"","","",null,null,"","","",null,""]
[40,null,null,null,"",null,null,"","","",null,null,"","","",null,""]
[41,null,null,null,"",null,null,"","","",null,null,"","","",null,""]
[42,null,null,null,"",null,null,"","","",null,null,"","","",null,""]
[43,null,null,null,"",null,null,"","","",null,null,"","","",null,""]
[44,null,null,null,"",null,null,"","","",null,null,"","","",null,""]
[45,null,null,null,"",null,null,"","","",null,null,"","","",null,""]
[46,null,null,null,"",null,null,"","","",null,null,"","","",null,""]
[47,null,null,null,"",null,null,"","","",null,null,"","","",null,""]
[48,null,null,null,"",null,null,"","","",null,null,"","","",null,""]
[49,null,null,null,"",null,null,"","","",null,null,"","","",null,""]
[50,null,null,null,"",null,null,"","","",null,null,"","","",null,""]
[51,null,null,null,"",null,null,"","","",null,null,"","","",null,""]
[52,null,null,null,"",null,null,"","","",null,null,"","","",null,""]
[53,null,null,null,"",null,null,"","","",null,null,"","","",null,""]
[54,null,null,null,"",null,null,"","","",null,null,"","","",null,""]
[55,null,null,null,"",null,null,"","","",null,null,"","","",null,""]
[56,null,null,null,"",null,null,"","","",null,null,"","","",null,""]
[57,null,null,null,"",null,null,"","","",null,null,"","","",null,""]
[58,null,null,null,"",null,null,"","","",null,null,"","","",null,""]
[59,null,null,null,"",null,null,"","","",null,null,"","","",null,""]
[60,null,null,null,"",null,null,"","","",null,null,"","","",null,""]
[61,null,null,null,"",null,null,"","","",null,null,"","","",null,""]
[62,null,null,null,"",null,null,"","","",null,null,"","","",null,""]
[63,null,null,null,"",null,null,"","","",null,null,"","","",null,""]
[64,null,null,null,"",null,null,"","","",null,null,"","","",null,""]
[65,null,null,null,"",null,null,"","","",null,null,"","","",null,""]
[66,null,null,null,{"$f":"IF(IF(D77=$M$4,$M$8,IF(D77=$N$4,$N$8,IF(D77=$O$4,$O$8,IF(D77=$P$4,$P$8,IF(D77=$Q$4,$Q$8,\"\")))))>1,IF(D77=$M$4,$M$8,IF(D77=$N$4,$N$8,IF(D77=$O$4,$O$8,IF(D77=$P$4,$P$8,IF(D77=$Q$4,$Q$8,\"\"))))),1)","v":""},null,null,{"$f":"IFERROR(AVERAGE(F77:G77),\"\")","v":""},{"$f":"IFERROR(ABS(IF(D77=$M$4,$M$5,IF(D77=$N$4,$N$5,IF(D77=$O$4,$O$5,IF(D77=$P$4,$P$5,IF(D77=$Q$4,$Q$5,\"\")))))-H77),\"\")","v":""},{"$f":"IF(AND($F77<>\"\",$G77<>\"\"),IF(I77>$E77,\"n.OK\",\"OK\"),\"\")","v":""},null,null,{"$f":"IFERROR(AVERAGE(K77:L77),\"\")","v":""},{"$f":"IFERROR(ABS(IF(D77=$M$4,$M$5,IF(D77=$N$4,$N$5,IF(D77=$O$4,$O$5,IF(D77=$P$4,$P$5,IF(D77=$Q$4,$Q$5,\"\")))))-M77),\"\")","v":""},{"$f":"IF(AND($K77<>\"\",$L77<>\"\"),IF(N77>$E77,\"n.OK\",\"OK\"),\"\")","v":""},null,{"$f":"IF(AND($J77<>\"\",$P77<>\"\"),IF(OR(AND(J77=\"OK\",P77=\"OK\"),AND(O77=\"OK\",P77=\"OK\")),\"Y\",\"N\"),\"\")","v":""}]
[67,null,null,null,"",null,null,"","","",null,null,"","","",null,""]
[68,null,null,null,"",null,null,"","","",null,null,"","","",null,""]
[69,null,null,null,"",null,null,"","","",null,null,"","","",null,""]
[70,null,null,null,"",null,null,"","","",null,null,"","","",null,""]
[71,null,null,null,"",null,null,"","","",null,null,"","","",null,""]
[72,null,null,null,"",null,null,"","","",null,null,"","","",null,""]
[73,null,null,null,"",null,null,"","","",null,null,"","","",null,""]
[74,null,null,null,"",null,null,"","","",null,null,"","","",null,""]
[75,null,null,null,"",null,null,"","","",null,null,"","","",null,""]
[76,null,null,null,"",null,null,"","","",null,null,"","","",null,""]
[77,null,null,null,"",null,null,"","","",null,null,"","","",null,""]
[78,null,null,null,"",null,null,"","","",null,null,"","","",null,""]
[79,null,null,null,"",null,null,"","","",null,null,"","","",null,""]
[80,null,null,null,"",null,null,"","","",null,null,"","","",null,""]
[81,null,null,null,"",null,null,"","","",null,null,"","","",null,""]
[82,null,null,null,"",null,null,"","","",null,null,"","","",null,""]
[83,null,null,null,"",null,null,"","","",null,null,"","","",null,""]
[84,null,null,null,"",null,null,"","","",null,null,"","","",null,""]
[85,null,null,null,"",null,null,"","","",null,null,"","","",null,""]
[86,null,null,null,"",null,null,"","","",null,null,"","","",null,""]
[87,null,null,null,"",null,null,"","","",null,null,"","","",null,""]
[88,null,null,null,"",null,null,"","","",null,null,"","","",null,""]
[89,null,null,null,"",null,null,"","","",null,null,"","","",null,""]
[90,null,null,null,"",null,null,"","","",null,null,"","","",null,""]
[91,null,null,null,"",null,null,"","","",null,null,"","","",null,""]
[92,null,null,null,"",null,null,"","","",null,null,"","","",null,""]
[93,null,null,null,"",null,null,"","","",null,null,"","","",null,""]
[94,null,null,null,"",null,null,"","","",null,null,"","","",null,""]
[95,null,null,null,"",null,null,"","","",null,null,"","","",null,""]
[96,null,null,null,"",null,null,"","","",null,null,"","","",null,""]
[97,null,null,null,"",null,null,"","","",null,null,"","","",null,""]
[98,null,null,null,"",null,null,"","","",null,null,"","","",null,""]
[99,null,null,null,"",null,null,"","","",null,null,"","","",null,""]
[100,null,null,null,"",null,null,"","","",null,null,"","","",null,""]
[101,null,null,null,"",null,null,"","","",null,null,"","","",null,""]
[102,null,null,null,"",null,null,"","","",null,null,"","","",null,""]
[103,null,null,null,"",null,null,"","","",null,null,"","","",null,""]
[104,null,null,null,"",null,null,"","","",null,null,"","","",null,""]
[105,null,null,null,"",null,null,"","","",null,null,"","","",null,""]
[106,null,null,null,"",null,null,"","","",null,null,"","","",null,""]
[107,null,null,null,"",null,null,"","","",null,null,"","","",null,""]
[108,null,null,null,"",null,null,"","","",null,null,"","","",null,""]
[109,null,null,null,"",null,null,"","","",null,null,"","","",null,""]
[110,null,null,null,"",null,null,"","","",null,null,"","","",null,""]
[111,null,null,null,"",null,null,"","","",null,null,"","","",null,""]
[112,null,null,null,"",null,null,"","","",null,null,"","","",null,""]
[113,null,null,null,"",null,null,"","","",null,null,"","","",null,""]
[114,null,null,null,"",null,null,"","","",null,null,"","","",null,""]
[115,null,null,null,"",null,null,"","","",null,null,"","","",null,""]
[116,null,null,null,"",null,null,"","","",null,null,"","","",null,""]
[117,null,null,null,"",null,null,"","","",null,null,"","","",null,""]
[118,null,null,null,"",null,null,"","","",null,null,"","","",null,""]
[119,null,null,null,"",null,null,"","","",null,null,"","","",null,""]
[120,null,null,null,"",null,null,"","","",null,null,"","","",null,""]
[121,null,null,null,"",null,null,"","","",null,null,"","","",null,""]
[122,null,null,null,"",null,null,"","","",null,null,"","","",null,""]
[123,null,null,null,"",null,null,"","","",null,null,"","","",null,""]
[124,null,null,null,"",null,null,"","","",null,null,"","","",null,""]
[125,null,null,null,"",null,null,"","","",null,null,"","","",null,""]
[126,null,null,null,"",null,null,"","","",null,null,"","","",null,""]
[127,null,null,null,"",null,null,"","","",null,null,"","","",null,""]
[128,null,null,null,"",null,null,"","","",null,null,"","","",null,""]
[129,null,null,null,"",null,null,"","","",null,null,"","","",null,""]
[130,null,null,null,{"$f":"IF(IF(D141=$M$4,$M$8,IF(D141=$N$4,$N$8,IF(D141=$O$4,$O$8,IF(D141=$P$4,$P$8,IF(D141=$Q$4,$Q$8,\"\")))))>1,IF(D141=$M$4,$M$8,IF(D141=$N$4,$N$8,IF(D141=$O$4,$O$8,IF(D141=$P$4,$P$8,IF(D141=$Q$4,$Q$8,\"\"))))),1)","v":""},null,null,{"$f":"IFERROR(AVERAGE(F141:G141),\"\")","v":""},{"$f":"IFERROR(ABS(IF(D141=$M$4,$M$5,IF(D141=$N$4,$N$5,IF(D141=$O$4,$O$5,IF(D141=$P$4,$P$5,IF(D141=$Q$4,$Q$5,\"\")))))-H141),\"\")","v":""},{"$f":"IF(AND($F141<>\"\",$G141<>\"\"),IF(I141>$E141,\"n.OK\",\"OK\"),\"\")","v":""},null,null,{"$f":"IFERROR(AVERAGE(K141:L141),\"\")","v":""},{"$f":"IFERROR(ABS(IF(D141=$M$4,$M$5,IF(D141=$N$4,$N$5,IF(D141=$O$4,$O$5,IF(D141=$P$4,$P$5,IF(D141=$Q$4,$Q$5,\"\")))))-M141),\"\")","v":""},{"$f":"IF(AND($K141<>\"\",$L141<>\"\"),IF(N141>$E141,\"n.OK\",\"OK\"),\"\")","v":""},null,{"$f":"IF(AND($J141<>\"\",$P141<>\"\"),IF(OR(AND(J141=\"OK\",P141=\"OK\"),AND(O141=\"OK\",P141=\"OK\")),\"Y\",\"N\"),\"\")","v":""}]
[131,null,null,null,"",null,null,"","","",null,null,"","","",null,""]
[132,null,null,null,"",null,null,"","","",null,null,"","","",null,""]
[133,null,null,null,"",null,null,"","","",null,null,"","","",null,""]
[134,null,null,null,"",null,null,"","","",null,null,"","","",null,""]
[135,null,null,null,"",null,null,"","","",null,null,"","","",null,""]
[136,null,null,null,"",null,null,"","","",null,null,"","","",null,""]
[137,null,null,null,"",null,null,"","","",null,null,"","","",null,""]
[138,null,null,null,"",null,null,"","","",null,null,"","","",null,""]
[139,null,null,null,"",null,null,"","","",null,null,"","","",null,""]
[140,null,null,null,"",null,null,"","","",null,null,"","","",null,""]
[141,null,null,null,"",null,null,"","","",null,null,"","","",null,""]
[142,null,null,null,"",null,null,"","","",null,null,"","","",null,""]
[143,null,null,null,"",null,null,"","","",null,null,"","","",null,""]
[144,null,null,null,"",null,null,"","","",null,null,"","","",null,""]
[145,null,null,null,"",null,null,"","","",null,null,"","","",null,""]
[146,null,null,null,"",null,null,"","","",null,null,"","","",null,""]
[147,null,null,null,"",null,null,"","","",null,null,"","","",null,""]
[148,null,null,null,"",null,null,"","","",null,null,"","","",null,""]
[149,null,null,null,"",null,null,"","","",null,null,"","","",null,""]
[150,null,null,null,"",null,null,"","","",null,null,"","","",null,""]
[151,null,null,null,"",null,null,"","","",null,null,"","","",null,""]
[152,null,null,null,"",null,null,"","","",null,null,"","","",null,""]
[153,null,null,null,"",null,null,"","","",null,null,"","","",null,""]
[154,null,null,null,"",null,null,"","","",null,null,"","","",null,""]
[155,null,null,null,"",null,null,"","","",null,null,"","","",null,""]
[156,null,null,null,"",null,null,"","","",null,null,"","","",null,""]
[157,null,null,null,"",null,null,"","","",null,null,"","","",null,""]
[158,null,null,null,"",null,null,"","","",null,null,"","","",null,""]
[159,null,null,null,"",null,null,"","","",null,null,"","","",null,""]
[160,null,null,null,"",null,null,"","","",null,null,"","","",null,""]
[161,null,null,null,"",null,null,"","","",null,null,"","","",null,""]
[162,null,null,null,"",null,null,"","","",null,null,"","","",null,""]
[163,null,null,null,"",null,null,"","","",null,null,"","","",null,""]
[164,null,null,null,"",null,null,"","","",null,null,"","","",null,""]
[165,null,null,null,"",null,null,"","","",null,null,"","","",null,""]
[166,null,null,null,"",null,null,"","","",null,null,"","","",null,""]
[167,null,null,null,"",null,null,"","","",null,null,"","","",null,""]
[168,null,null,null,"",null,null,"","","",null,null,"","","",null,""]
[169,null,null,null,"",null,null,"","","",null,null,"","","",null,""]
[170,null,null,null,"",null,null,"","","",null,null,"","","",null,""]
[171,null,null,null,"",null,null,"","","",null,null,"","","",null,""]
[172,null,null,null,"",null,null,"","","",null,null,"","","",null,""]
[173,null,null,null,"",null,null,"","","",null,null,"","","",null,""]
[174,null,null,null,"",null,null,"","","",null,null,"","","",null,""]
[175,null,null,null,"",null,null,"","","",null,null,"","","",null,""]
[176,null,null,null,"",null,null,"","","",null,null,"","","",null,""]
[177,null,null,null,"",null,null,"","","",null,null,"","","",null,""]
[178,null,null,null,"",null,null,"","","",null,null,"","","",null,""]
[179,null,null,null,"",null,null,"","","",null,null,"","","",null,""]
[180,null,null,null,"",null,null,"","","",null,null,"","","",null,""]
[181,null,null,null,"",null,null,"","","",null,null,"","","",null,""]
[182,null,null,null,"",null,null,"","","",null,null,"","","",null,""]
[183,null,null,null,"",null,null,"","","",null,null,"","","",null,""]
[184,null,null,null,"",null,null,"","","",null,null,"","","",null,""]
[185,null,null,null,"",null,null,"","","",null,null,"","","",null,""]
[186,null,null,null,"",null,null,"","","",null,null,"","","",null,""]
[187,null,null,null,"",null,null,"","","",null,null,"","","",null,""]
[188,null,null,null,"",null,null,"","","",null,null,"","","",null,""]
[189,null,null,null,"",null,null,"","","",null,null,"","","",null,""]
[190,null,null,null,"",null,null,"","","",null,null,"","","",null,""]
[191,null,null,null,"",null,null,"","","",null,null,"","","",null,""]
[192,null,null,null,"",null,null,"","","",null,null,"","","",null,""]
[193,null,null,null,"",null,null,"","","",null,null,"","","",null,""]
[194,null,null,null,{"$f":"IF(IF(D205=$M$4,$M$8,IF(D205=$N$4,$N$8,IF(D205=$O$4,$O$8,IF(D205=$P$4,$P$8,IF(D205=$Q$4,$Q$8,\"\")))))>1,IF(D205=$M$4,$M$8,IF(D205=$N$4,$N$8,IF(D205=$O$4,$O$8,IF(D205=$P$4,$P$8,IF(D205=$Q$4,$Q$8,\"\"))))),1)","v":""},null,null,{"$f":"IFERROR(AVERAGE(F205:G205),\"\")","v":""},{"$f":"IFERROR(ABS(IF(D205=$M$4,$M$5,IF(D205=$N$4,$N$5,IF(D205=$O$4,$O$5,IF(D205=$P$4,$P$5,IF(D205=$Q$4,$Q$5,\"\")))))-H205),\"\")","v":""},{"$f":"IF(AND($F205<>\"\",$G205<>\"\"),IF(I205>$E205,\"n.OK\",\"OK\"),\"\")","v":""},null,null,{"$f":"IFERROR(AVERAGE(K205:L205),\"\")","v":""},{"$f":"IFERROR(ABS(IF(D205=$M$4,$M$5,IF(D205=$N$4,$N$5,IF(D205=$O$4,$O$5,IF(D205=$P$4,$P$5,IF(D205=$Q$4,$Q$5,\"\")))))-M205),\"\")","v":""},{"$f":"IF(AND($K205<>\"\",$L205<>\"\"),IF(N205>$E205,\"n.OK\",\"OK\"),\"\")","v":""},null,{"$f":"IF(AND($J205<>\"\",$P205<>\"\"),IF(OR(AND(J205=\"OK\",P205=\"OK\"),AND(O205=\"OK\",P205=\"OK\")),\"Y\",\"N\"),\"\")","v":""}]
[195,null,null,null,"",null,null,"","","",null,null,"","","",null,""]
[196,null,null,null,"",null,null,"","","",null,null,"","","",null,""]
[197,null,null,null,"",null,null,"","","",null,null,"","","",null,""]
[198,null,null,null,"",null,null,"","","",null,null,"","","",null,""]
[199,null,null,null,"",null,null,"","","",null,null,"","","",null,""]
[200,null,null,null,"",null,null,"","","",null,null,"","","",null,""]
[201,null,null,null,"",null,null,"","","",null,null,"","","",null,""]
[202,null,null,null,"",null,null,"","","",null,null,"","","",null,""]
[203,null,null,null,"",null,null,"","","",null,null,"","","",null,""]
[204,null,null,null,"",null,null,"","","",null,null,"","","",null,""]
[205,null,null,null,"",null,null,"","","",null,null,"","","",null,""]
[206,null,null,null,"",null,null,"","","",null,null,"","","",null,""]
[207,null,null,null,"",null,null,"","","",null,null,"","","",null,""]
[208,null,null,null,"",null,null,"","","",null,null,"","","",null,""]
[209,null,null,null,"",null,null,"","","",null,null,"","","",null,""]
[210,null,null,null,"",null,null,"","","",null,null,"","","",null,""]
[211,null,null,null,"",null,null,"","","",null,null,"","","",null,""]
[212,null,null,null,"",null,null,"","","",null,null,"","","",null,""]
[213,null,null,null,"",null,null,"","","",null,null,"","","",null,""]
[214,null,null,null,"",null,null,"","","",null,null,"","","",null,""]
[215,null,null,null,"",null,null,"","","",null,null,"","","",null,""]
[216,null,null,null,"",null,null,"","","",null,null,"","","",null,""]
[217,null,null,null,"",null,null,"","","",null,null,"","","",null,""]
[218,null,null,null,"",null,null,"","","",null,null,"","","",null,""]
[219,null,null,null,"",null,null,"","","",null,null,"","","",null,""]
[220,null,null,null,"",null,null,"","","",null,null,"","","",null,""]
[221,null,null,null,"",null,null,"","","",null,null,"","","",null,""]
[222,null,null,null,"",null,null,"","","",null,null,"","","",null,""]
[223,null,null,null,"",null,null,"","","",null,null,"","","",null,""]
[224,null,null,null,"",null,null,"","","",null,null,"","","",null,""]
[225,null,null,null,"",null,null,"","","",null,null,"","","",null,""]
[226,null,null,null,"",null,null,"","","",null,null,"","","",null,""]
[227,null,null,null,"",null,null,"","","",null,null,"","","",null,""]
[228,null,null,null,"",null,null,"","","",null,null,"","","",null,""]
[229,null,null,null,"",null,null,"","","",null,null,"","","",null,""]
[230,null,null,null,"",null,null,"","","",null,null,"","","",null,""]
[231,null,null,null,"",null,null,"","","",null,null,"","","",null,""]
[232,null,null,null,"",null,null,"","","",null,null,"","","",null,""]
[233,null,null,null,"",null,null,"","","",null,null,"","","",null,""]
[234,null,null,null,"",null,null,"","","",null,null,"","","",null,""]
[235,null,null,null,"",null,null,"","","",null,null,"","","",null,""]
[236,null,null,null,"",null,null,"","","",null,null,"","","",null,""]
[237,null,null,null,"",null,null,"","","",null,null,"","","",null,""]
[238,null,null,null,"",null,null,"","","",null,null,"","","",null,""]
[239,null,null,null,"",null,null,"","","",null,null,"","","",null,""]
[240,null,null,null,"",null,null,"","","",null,null,"","","",null,""]
[241,null,null,null,"",null,null,"","","",null,null,"","","",null,""]
[242,null,null,null,"",null,null,"","","",null,null,"","","",null,""]
[243,null,null,null,"",null,null,"","","",null,null,"","","",null,""]
[244,null,null,null,"",null,null,"","","",null,null,"","","",null,""]
[245,null,null,null,"",null,null,"","","",null,null,"","","",null,""]
[246,null,null,null,"",null,null,"","","",null,null,"","","",null,""]
[247,null,null,null,"",null,null,"","","",null,null,"","","",null,""]
[248,null,null,null,"",null,null,"","","",null,null,"","","",null,""]
[249,null,null,null,"",null,null,"","","",null,null,"","","",null,""]
[250,null,null,null,"",null,null,"","","",null,null,"","","",null,""]
[251,null,null,null,"",null,null,"","","",null,null,"","","",null,""]
[252,null,null,null,"",null,null,"","","",null,null,"","","",null,""]
[253,null,null,null,"",null,null,"","","",null,null,"","","",null,""]
[254,null,null,null,"",null,null,"","","",null,null,"","","",null,""]
[255,null,null,null,"",null,null,"","","",null,null,"","","",null,""]
[256,null,null,null,"",null,null,"","","",null,null,"","","",null,""]
[257,null,null,null,"",null,null,"","","",null,null,"","","",null,""]
[258,null,null,null,{"$f":"IF(IF(D269=$M$4,$M$8,IF(D269=$N$4,$N$8,IF(D269=$O$4,$O$8,IF(D269=$P$4,$P$8,IF(D269=$Q$4,$Q$8,\"\")))))>1,IF(D269=$M$4,$M$8,IF(D269=$N$4,$N$8,IF(D269=$O$4,$O$8,IF(D269=$P$4,$P$8,IF(D269=$Q$4,$Q$8,\"\"))))),1)","v":""},null,null,{"$f":"IFERROR(AVERAGE(F269:G269),\"\")","v":""},{"$f":"IFERROR(ABS(IF(D269=$M$4,$M$5,IF(D269=$N$4,$N$5,IF(D269=$O$4,$O$5,IF(D269=$P$4,$P$5,IF(D269=$Q$4,$Q$5,\"\")))))-H269),\"\")","v":""},{"$f":"IF(AND($F269<>\"\",$G269<>\"\"),IF(I269>$E269,\"n.OK\",\"OK\"),\"\")","v":""},null,null,{"$f":"IFERROR(AVERAGE(K269:L269),\"\")","v":""},{"$f":"IFERROR(ABS(IF(D269=$M$4,$M$5,IF(D269=$N$4,$N$5,IF(D269=$O$4,$O$5,IF(D269=$P$4,$P$5,IF(D269=$Q$4,$Q$5,\"\")))))-M269),\"\")","v":""},{"$f":"IF(AND($K269<>\"\",$L269<>\"\"),IF(N269>$E269,\"n.OK\",\"OK\"),\"\")","v":""},null,{"$f":"IF(AND($J269<>\"\",$P269<>\"\"),IF(OR(AND(J269=\"OK\",P269=\"OK\"),AND(O269=\"OK\",P269=\"OK\")),\"Y\",\"N\"),\"\")","v":""}]
[259,null,null,null,"",null,null,"","","",null,null,"","","",null,""]
[260,null,null,null,"",null,null,"","","",null,null,"","","",null,""]
[261,null,null,null,"",null,null,"","","",null,null,"","","",null,""]
[262,null,null,null,"",null,null,"","","",null,null,"","","",null,""]
[263,null,null,null,"",null,null,"","","",null,null,"","","",null,""]
[264,null,null,null,"",null,null,"","","",null,null,"","","",null,""]
[265,null,null,null,"",null,null,"","","",null,null,"","","",null,""]
[266,null,null,null,"",null,null,"","","",null,null,"","","",null,""]
[267,null,null,null,"",null,null,"","","",null,null,"","","",null,""]
[268,null,null,null,"",null,null,"","","",null,null,"","","",null,""]
[269,null,null,null,"",null,null,"","","",null,null,"","","",null,""]
[270,null,null,null,"",null,null,"","","",null,null,"","","",null,""]
[271,null,null,null,"",null,null,"","","",null,null,"","","",null,""]
[272,null,null,null,"",null,null,"","","",null,null,"","","",null,""]
[273,null,null,null,"",null,null,"","","",null,null,"","","",null,""]
[274,null,null,null,"",null,null,"","","",null,null,"","","",null,""]
[275,null,null,null,"",null,null,"","","",null,null,"","","",null,""]
[276,null,null,null,"",null,null,"","","",null,null,"","","",null,""]
[277,null,null,null,"",null,null,"","","",null,null,"","","",null,""]
[278,null,null,null,"",null,null,"","","",null,null,"","","",null,""]
[279,null,null,null,"",null,null,"","","",null,null,"","","",null,""]
[280,null,null,null,"",null,null,"","","",null,null,"","","",null,""]
[281,null,null,null,"",null,null,"","","",null,null,"","","",null,""]
[282,null,null,null,"",null,null,"","","",null,null,"","","",null,""]
[283,null,null,null,"",null,null,"","","",null,null,"","","",null,""]
[284,null,null,null,"",null,null,"","","",null,null,"","","",null,""]
[285,null,null,null,"",null,null,"","","",null,null,"","","",null,""]
[286,null,null,null,"",null,null,"","","",null,null,"","","",null,""]
[287,null,null,null,"",null,null,"","","",null,null,"","","",null,""]
[288,null,null,null,"",null,null,"","","",null,null,"","","",null,""]
[289,null,null,null,"",null,null,"","","",null,null,"","","",null,""]
[290,null,null,null,"",null,null,"","","",null,null,"","","",null,""]
[291,null,null,null,"",null,null,"","","",null,null,"","","",null,""]
[292,null,null,null,"",null,null,"","","",null,null,"","","",null,""]
[293,null,null,null,"",null,null,"","","",null,null,"","","",null,""]
[294,null,null,null,"",null,null,"","","",null,null,"","","",null,""]
[295,null,null,null,"",null,null,"","","",null,null,"","","",null,""]
[296,null,null,null,"",null,null,"","","",null,null,"","","",null,""]
[297,null,null,null,"",null,null,"","","",null,null,"","","",null,""]
[298,null,null,null,"",null,null,"","","",null,null,"","","",null,""]
[299,null,null,null,"",null,null,"","","",null,null,"","","",null,""]
[300,null,null,null,"",null,null,"","","",null,null,"","","",null,""]
[301,null,null,null,"",null,null,"","","",null,null,"","","",null,""]
[302,null,null,null,"",null,null,"","","",null,null,"","","",null,""]
[303,null,null,null,"",null,null,"","","",null,null,"","","",null,""]
[304,null,null,null,"",null,null,"","","",null,null,"","","",null,""]
[305,null,null,null,"",null,null,"","","",null,null,"","","",null,""]
[306,null,null,null,"",null,null,"","","",null,null,"","","",null,""]
[307,null,null,null,"",null,null,"","","",null,null,"","","",null,""]
[308,null,null,null,"",null,null,"","","",null,null,"","","",null,""]
[309,null,null,null,"",null,null,"","","",null,null,"","","",null,""]
[310,null,null,null,"",null,null,"","","",null,null,"","","",null,""]
[311,null,null,null,"",null,null,"","","",null,null,"","","",null,""]
[312,null,null,null,"",null,null,"","","",null,null,"","","",null,""]
[313,null,null,null,"",null,null,"","","",null,null,"","","",null,""]
[314,null,null,null,"",null,null,"","","",null,null,"","","",null,""]
[315,null,null,null,"",null,null,"","","",null,null,"","","",null,""]
[316,null,null,null,"",null,null,"","","",null,null,"","","",null,""]
[317,null,null,null,"",null,null,"","","",null,null,"","","",null,""]
[318,null,null,null,"",null,null,"","","",null,null,"","","",null,""]
[319,null,null,null,"",null,null,"","","",null,null,"","","",null,""]
[320,null,null,null,"",null,null,"","","",null,null,"","","",null,""]
[321,null,null,null,"",null,null,"","","",null,null,"","","",null,""]
[322,null,null,null,{"$f":"IF(IF(D333=$M$4,$M$8,IF(D333=$N$4,$N$8,IF(D333=$O$4,$O$8,IF(D333=$P$4,$P$8,IF(D333=$Q$4,$Q$8,\"\")))))>1,IF(D333=$M$4,$M$8,IF(D333=$N$4,$N$8,IF(D333=$O$4,$O$8,IF(D333=$P$4,$P$8,IF(D333=$Q$4,$Q$8,\"\"))))),1)","v":""},null,null,{"$f":"IFERROR(AVERAGE(F333:G333),\"\")","v":""},{"$f":"IFERROR(ABS(IF(D333=$M$4,$M$5,IF(D333=$N$4,$N$5,IF(D333=$O$4,$O$5,IF(D333=$P$4,$P$5,IF(D333=$Q$4,$Q$5,\"\")))))-H333),\"\")","v":""},{"$f":"IF(AND($F333<>\"\",$G333<>\"\"),IF(I333>$E333,\"n.OK\",\"OK\"),\"\")","v":""},null,null,{"$f":"IFERROR(AVERAGE(K333:L333),\"\")","v":""},{"$f":"IFERROR(ABS(IF(D333=$M$4,$M$5,IF(D333=$N$4,$N$5,IF(D333=$O$4,$O$5,IF(D333=$P$4,$P$5,IF(D333=$Q$4,$Q$5,\"\")))))-M333),\"\")","v":""},{"$f":"IF(AND($K333<>\"\",$L333<>\"\"),IF(N333>$E333,\"n.OK\",\"OK\"),\"\")","v":""},null,{"$f":"IF(AND($J333<>\"\",$P333<>\"\"),IF(OR(AND(J333=\"OK\",P333=\"OK\"),AND(O333=\"OK\",P333=\"OK\")),\"Y\",\"N\"),\"\")","v":""}]
[323,null,null,null,"",null,null,"","","",null,null,"","","",null,""]
[324,null,null,null,"",null,null,"","","",null,null,"","","",null,""]
[325,null,null,null,"",null,null,"","","",null,null,"","","",null,""]
[326,null,null,null,"",null,null,"","","",null,null,"","","",null,""]
[327,null,null,null,"",null,null,"","","",null,null,"","","",null,""]
[328,null,null,null,"",null,null,"","","",null,null,"","","",null,""]
[329,null,null,null,"",null,null,"","","",null,null,"","","",null,""]
[330,null,null,null,"",null,null,"","","",null,null,"","","",null,""]
[331,null,null,null,"",null,null,"","","",null,null,"","","",null,""]
[332,null,null,null,"",null,null,"","","",null,null,"","","",null,""]
[333,null,null,null,"",null,null,"","","",null,null,"","","",null,""]
[334,null,null,null,"",null,null,"","","",null,null,"","","",null,""]
[335,null,null,null,"",null,null,"","","",null,null,"","","",null,""]
[336,null,null,null,"",null,null,"","","",null,null,"","","",null,""]
[337,null,null,null,"",null,null,"","","",null,null,"","","",null,""]
[338,null,null,null,"",null,null,"","","",null,null,"","","",null,""]
[339,null,null,null,"",null,null,"","","",null,null,"","","",null,""]
[340,null,null,null,"",null,null,"","","",null,null,"","","",null,""]
[341,null,null,null,"",null,null,"","","",null,null,"","","",null,""]
[342,null,null,null,"",null,null,"","","",null,null,"","","",null,""]
[343,null,null,null,"",null,null,"","","",null,null,"","","",null,""]
[344,null,null,null,"",null,null,"","","",null,null,"","","",null,""]
[345,null,null,null,"",null,null,"","","",null,null,"","","",null,""]
[346,null,null,null,"",null,null,"","","",null,null,"","","",null,""]
[347,null,null,null,"",null,null,"","","",null,null,"","","",null,""]
[348,null,null,null,"",null,null,"","","",null,null,"","","",null,""]
[349,null,null,null,"",null,null,"","","",null,null,"","","",null,""]
[350,null,null,null,"",null,null,"","","",null,null,"","","",null,""]
[351,null,null,null,"",null,null,"","","",null,null,"","","",null,""]
[352,null,null,null,"",null,null,"","","",null,null,"","","",null,""]
[353,null,null,null,"",null,null,"","","",null,null,"","","",null,""]
[354,null,null,null,"",null,null,"","","",null,null,"","","",null,""]
[355,null,null,null,"",null,null,"","","",null,null,"","","",null,""]
[356,null,null,null,"",null,null,"","","",null,null,"","","",null,""]
[357,null,null,null,"",null,null,"","","",null,null,"","","",null,""]
[358,null,null,null,"",null,null,"","","",null,null,"","","",null,""]
[359,null,null,null,"",null,null,"","","",null,null,"","","",null,""]
[360,null,null,null,"",null,null,"","","",null,null,"","","",null,""]
[361,null,null,null,"",null,null,"","","",null,null,"","","",null,""]
[362,null,null,null,"",null,null,"","","",null,null,"","","",null,""]
[363,null,null,null,"",null,null,"","","",null,null,"","","",null,""]
[364,null,null,null,"",null,null,"","","",null,null,"","","",null,""]
[365,null,null,null,"",null,null,"","","",null,null,"","","",null,""]
[366,null,null,null,"",null,null,"","","",null,null,"","","",null,""]
[367,null,null,null,"",null,null,"","","",null,null,"","","",null,""]
[368,null,null,null,"",null,null,"","","",null,null,"","","",null,""]
[369,null,null,null,"",null,null,"","","",null,null,"","","",null,""]
[370,null,null,null,"",null,null,"","","",null,null,"","","",null,""]
[371,null,null,null,"",null,null,"","","",null,null,"","","",null,""]
[372,null,null,null,"",null,null,"","","",null,null,"","","",null,""]
[373,null,null,null,"",null,null,"","","",null,null,"","","",null,""]
[374,null,null,null,"",null,null,"","","",null,null,"","","",null,""]
[375,null,null,null,"",null,null,"","","",null,null,"","","",null,""]
[376,null,null,null,"",null,null,"","","",null,null,"","","",null,""]
[377,null,null,null,"",null,null,"","","",null,null,"","","",null,""]
[378,null,null,null,"",null,null,"","","",null,null,"","","",null,""]
[379,null,null,null,"",null,null,"","","",null,null,"","","",null,""]
[380,null,null,null,"",null,null,"","","",null,null,"","","",null,""]
[381,null,null,null,"",null,null,"","","",null,null,"","","",null,""]
[382,null,null,null,"",null,null,"","","",null,null,"","","",null,""]
[383,null,null,null,"",null,null,"","","",null,null,"","","",null,""]
[384,null,null,null,"",null,null,"","","",null,null,"","","",null,""]
[385,null,null,null,"",null,null,"","","",null,null,"","","",null,""]
[386,null,null,null,{"$f":"IF(IF(D397=$M$4,$M$8,IF(D397=$N$4,$N$8,IF(D397=$O$4,$O$8,IF(D397=$P$4,$P$8,IF(D397=$Q$4,$Q$8,\"\")))))>1,IF(D397=$M$4,$M$8,IF(D397=$N$4,$N$8,IF(D397=$O$4,$O$8,IF(D397=$P$4,$P$8,IF(D397=$Q$4,$Q$8,\"\"))))),1)","v":""},null,null,{"$f":"IFERROR(AVERAGE(F397:G397),\"\")","v":""},{"$f":"IFERROR(ABS(IF(D397=$M$4,$M$5,IF(D397=$N$4,$N$5,IF(D397=$O$4,$O$5,IF(D397=$P$4,$P$5,IF(D397=$Q$4,$Q$5,\"\")))))-H397),\"\")","v":""},{"$f":"IF(AND($F397<>\"\",$G397<>\"\"),IF(I397>$E397,\"n.OK\",\"OK\"),\"\")","v":""},null,null,{"$f":"IFERROR(AVERAGE(K397:L397),\"\")","v":""},{"$f":"IFERROR(ABS(IF(D397=$M$4,$M$5,IF(D397=$N$4,$N$5,IF(D397=$O$4,$O$5,IF(D397=$P$4,$P$5,IF(D397=$Q$4,$Q$5,\"\")))))-M397),\"\")","v":""},{"$f":"IF(AND($K397<>\"\",$L397<>\"\"),IF(N397>$E397,\"n.OK\",\"OK\"),\"\")","v":""},null,{"$f":"IF(AND($J397<>\"\",$P397<>\"\"),IF(OR(AND(J397=\"OK\",P397=\"OK\"),AND(O397=\"OK\",P397=\"OK\")),\"Y\",\"N\"),\"\")","v":""}]
[387,null,null,null,"",null,null,"","","",null,null,"","","",null,""]
[388,null,null,null,"",null,null,"","","",null,null,"","","",null,""]
[389,null,null,null,"",null,null,"","","",null,null,"","","",null,""]
[390,null,null,null,"",null,null,"","","",null,null,"","","",null,""]
[391,null,null,null,"",null,null,"","","",null,null,"","","",null,""]
[392,null,null,null,"",null,null,"","","",null,null,"","","",null,""]
[393,null,null,null,"",null,null,"","","",null,null,"","","",null,""]
[394,null,null,null,"",null,null,"","","",null,null,"","","",null,""]
[395,null,null,null,"",null,null,"","","",null,null,"","","",null,""]
[396,null,null,null,"",null,null,"","","",null,null,"","","",null,""]
[397,null,null,null,"",null,null,"","","",null,null,"","","",null,""]
[398,null,null,null,"",null,null,"","","",null,null,"","","",null,""]
[399,null,null,null,"",null,null,"","","",null,null,"","","",null,""]
[400,null,null,null,"",null,null,"","","",null,null,"","","",null,""]
[401,null,null,null,"",null,null,"","","",null,null,"","","",null,""]
[402,null,null,null,"",null,null,"","","",null,null,"","","",null,""]
[403,null,null,null,"",null,null,"","","",null,null,"","","",null,""]
[404,null,null,null,"",null,null,"","","",null,null,"","","",null,""]
[405,null,null,null,"",null,null,"","","",null,null,"","","",null,""]
[406,null,null,null,"",null,null,"","","",null,null,"","","",null,""]
[407,null,null,null,"",null,null,"","","",null,null,"","","",null,""]
[408,null,null,null,"",null,null,"","","",null,null,"","","",null,""]
[409,null,null,null,"",null,null,"","","",null,null,"","","",null,""]
[410,null,null,null,"",null,null,"","","",null,null,"","","",null,""]
[411,null,null,null,"",null,null,"","","",null,null,"","","",null,""]
[412,null,null,null,"",null,null,"","","",null,null,"","","",null,""]
[413,null,null,null,"",null,null,"","","",null,null,"","","",null,""]
[414,null,null,null,"",null,null,"","","",null,null,"","","",null,""]
[415,null,null,null,"",null,null,"","","",null,null,"","","",null,""]
[416,null,null,null,"",null,null,"","","",null,null,"","","",null,""]
[417,null,null,null,"",null,null,"","","",null,null,"","","",null,""]
[418,null,null,null,"",null,null,"","","",null,null,"","","",null,""]
[419,null,null,null,"",null,null,"","","",null,null,"","","",null,""]
[420,null,null,null,"",null,null,"","","",null,null,"","","",null,""]
[421,null,null,null,"",null,null,"","","",null,null,"","","",null,""]
[422,null,null,null,"",null,null,"","","",null,null,"","","",null,""]
[423,null,null,null,"",null,null,"","","",null,null,"","","",null,""]
[424,null,null,null,"",null,null,"","","",null,null,"","","",null,""]
[425,null,null,null,"",null,null,"","","",null,null,"","","",null,""]
[426,null,null,null,"",null,null,"","","",null,null,"","","",null,""]
[427,null,null,null,"",null,null,"","","",null,null,"","","",null,""]
[428,null,null,null,"",null,null,"","","",null,null,"","","",null,""]
[429,null,null,null,"",null,null,"","","",null,null,"","","",null,""]
[430,null,null,null,"",null,null,"","","",null,null,"","","",null,""]
[431,null,null,null,"",null,null,"","","",null,null,"","","",null,""]
[432,null,null,null,"",null,null,"","","",null,null,"","","",null,""]
[433,null,null,null,"",null,null,"","","",null,null,"","","",null,""]
[434,null,null,null,"",null,null,"","","",null,null,"","","",null,""]
[435,null,null,null,"",null,null,"","","",null,null,"","","",null,""]
[436,null,null,null,"",null,null,"","","",null,null,"","","",null,""]
[437,null,null,null,"",null,null,"","","",null,null,"","","",null,""]
[438,null,null,null,"",null,null,"","","",null,null,"","","",null,""]
[439,null,null,null,"",null,null,"","","",null,null,"","","",null,""]
[440,null,null,null,"",null,null,"","","",null,null,"","","",null,""]
[441,null,null,null,"",null,null,"","","",null,null,"","","",null,""]
[442,null,null,null,"",null,null,"","","",null,null,"","","",null,""]
[443,null,null,null,"",null,null,"","","",null,null,"","","",null,""]
[444,null,null,null,"",null,null,"","","",null,null,"","","",null,""]
[445,null,null,null,"",null,null,"","","",null,null,"","","",null,""]
[446,null,null,null,"",null,null,"","","",null,null,"","","",null,""]
[447,null,null,null,"",null,null,"","","",null,null,"","","",null,""]
[448,null,null,null,"",null,null,"","","",null,null,"","","",null,""]
[449,null,null,null,"",null,null,"","","",null,null,"","","",null,""]
[450,null,null,null,{"$f":"IF(IF(D461=$M$4,$M$8,IF(D461=$N$4,$N$8,IF(D461=$O$4,$O$8,IF(D461=$P$4,$P$8,IF(D461=$Q$4,$Q$8,\"\")))))>1,IF(D461=$M$4,$M$8,IF(D461=$N$4,$N$8,IF(D461=$O$4,$O$8,IF(D461=$P$4,$P$8,IF(D461=$Q$4,$Q$8,\"\"))))),1)","v":""},null,null,{"$f":"IFERROR(AVERAGE(F461:G461),\"\")","v":""},{"$f":"IFERROR(ABS(IF(D461=$M$4,$M$5,IF(D461=$N$4,$N$5,IF(D461=$O$4,$O$5,IF(D461=$P$4,$P$5,IF(D461=$Q$4,$Q$5,\"\")))))-H461),\"\")","v":""},{"$f":"IF(AND($F461<>\"\",$G461<>\"\"),IF(I461>$E461,\"n.OK\",\"OK\"),\"\")","v":""},null,null,{"$f":"IFERROR(AVERAGE(K461:L461),\"\")","v":""},{"$f":"IFERROR(ABS(IF(D461=$M$4,$M$5,IF(D461=$N$4,$N$5,IF(D461=$O$4,$O$5,IF(D461=$P$4,$P$5,IF(D461=$Q$4,$Q$5,\"\")))))-M461),\"\")","v":""},{"$f":"IF(AND($K461<>\"\",$L461<>\"\"),IF(N461>$E461,\"n.OK\",\"OK\"),\"\")","v":""},null,{"$f":"IF(AND($J461<>\"\",$P461<>\"\"),IF(OR(AND(J461=\"OK\",P461=\"OK\"),AND(O461=\"OK\",P461=\"OK\")),\"Y\",\"N\"),\"\")","v":""}]
[451,null,null,null,"",null,null,"","","",null,null,"","","",null,""]
[452,null,null,null,"",null,null,"","","",null,null,"","","",null,""]
[453,null,null,null,"",null,null,"","","",null,null,"","","",null,""]
[454,null,null,null,"",null,null,"","","",null,null,"","","",null,""]
[455,null,null,null,"",null,null,"","","",null,null,"","","",null,""]
[456,null,null,null,"",null,null,"","","",null,null,"","","",null,""]
[457,null,null,null,"",null,null,"","","",null,null,"","","",null,""]
[458,null,null,null,"",null,null,"","","",null,null,"","","",null,""]
[459,null,null,null,"",null,null,"","","",null,null,"","","",null,""]
[460,null,null,null,"",null,null,"","","",null,null,"","","",null,""]
[461,null,null,null,"",null,null,"","","",null,null,"","","",null,""]
[462,null,null,null,"",null,null,"","","",null,null,"","","",null,""]
[463,null,null,null,"",null,null,"","","",null,null,"","","",null,""]
[464,null,null,null,"",null,null,"","","",null,null,"","","",null,""]
[465,null,null,null,"",null,null,"","","",null,null,"","","",null,""]
[466,null,null,null,"",null,null,"","","",null,null,"","","",null,""]
[467,null,null,null,"",null,null,"","","",null,null,"","","",null,""]
[468,null,null,null,"",null,null,"","","",null,null,"","","",null,""]
[469,null,null,null,"",null,null,"","","",null,null,"","","",null,""]
[470,null,null,null,"",null,null,"","","",null,null,"","","",null,""]
[471,null,null,null,"",null,null,"","","",null,null,"","","",null,""]
[472,null,null,null,"",null,null,"","","",null,null,"","","",null,""]
[473,null,null,null,"",null,null,"","","",null,null,"","","",null,""]
[474,null,null,null,"",null,null,"","","",null,null,"","","",null,""]
[475,null,null,null,"",null,null,"","","",null,null,"","","",null,""]
[476,null,null,null,"",null,null,"","","",null,null,"","","",null,""]
[477,null,null,null,"",null,null,"","","",null,null,"","","",null,""]
[478,null,null,null,"",null,null,"","","",null,null,"","","",null,""]
[479,null,null,null,"",null,null,"","","",null,null,"","","",null,""]
[480,null,null,null,"",null,null,"","","",null,null,"","","",null,""]
[481,null,null,null,"",null,null,"","","",null,null,"","","",null,""]
[482,null,null,null,"",null,null,"","","",null,null,"","","",null,""]
[483,null,null,null,"",null,null,"","","",null,null,"","","",null,""]
[484,null,null,null,"",null,null,"","","",null,null,"","","",null,""]
[485,null,null,null,"",null,null,"","","",null,null,"","","",null,""]
[486,null,null,null,"",null,null,"","","",null,null,"","","",null,""]
[487,null,null,null,"",null,null,"","","",null,null,"","","",null,""]
[488,null,null,null,"",null,null,"","","",null,null,"","","",null,""]
[489,null,null,null,"",null,null,"","","",null,null,"","","",null,""]
[490,null,null,null,"",null,null,"","","",null,null,"","","",null,""]
[491,null,null,null,"",null,null,"","","",null,null,"","","",null,""]
[492,null,null,null,"",null,null,"","","",null,null,"","","",null,""]
[493,null,null,null,"",null,null,"","","",null,null,"","","",null,""]
[494,null,null,null,"",null,null,"","","",null,null,"","","",null,""]
[495,null,null,null,"",null,null,"","","",null,null,"","","",null,""]
[496,null,null,null,"",null,null,"","","",null,null,"","","",null,""]
[497,null,null,null,"",null,null,"","","",null,null,"","","",null,""]
[498,null,null,null,"",null,null,"","","",null,null,"","","",null,""]
[499,null,null,null,"",null,null,"","","",null,null,"","","",null,""]
[500,null,null,null,"",null,null,"","","",null,null,"","","",null,""]
[501,null,null,null,"",null,null,"","","",null,null,"","","",null,""]
[502,null,null,null,"",null,null,"","","",null,null,"","","",null,""]
[503,null,null,null,"",null,null,"","","",null,null,"","","",null,""]
[504,null,null,null,"",null,null,"","","",null,null,"","","",null,""]
[505,null,null,null,"",null,null,"","","",null,null,"","","",null,""]
[506,null,null,null,"",null,null,"","","",null,null,"","","",null,""]
[507,null,null,null,"",null,null,"","","",null,null,"","","",null,""]
[508,null,null,null,"",null,null,"","","",null,null,"","","",null,""]
[509,null,null,null,"",null,null,"","","",null,null,"","","",null,""]
[510,null,null,null,"",null,null,"","","",null,null,"","","",null,""]
[511,null,null,null,"",null,null,"","","",null,null,"","","",null,""]
[512,null,null,null,"",null,null,"","","",null,null,"","","",null,""]
[513,null,null,null,"",null,null,"","","",null,null,"","","",null,""]
[514,null,null,null,{"$f":"IF(IF(D525=$M$4,$M$8,IF(D525=$N$4,$N$8,IF(D525=$O$4,$O$8,IF(D525=$P$4,$P$8,IF(D525=$Q$4,$Q$8,\"\")))))>1,IF(D525=$M$4,$M$8,IF(D525=$N$4,$N$8,IF(D525=$O$4,$O$8,IF(D525=$P$4,$P$8,IF(D525=$Q$4,$Q$8,\"\"))))),1)","v":""},null,null,{"$f":"IFERROR(AVERAGE(F525:G525),\"\")","v":""},{"$f":"IFERROR(ABS(IF(D525=$M$4,$M$5,IF(D525=$N$4,$N$5,IF(D525=$O$4,$O$5,IF(D525=$P$4,$P$5,IF(D525=$Q$4,$Q$5,\"\")))))-H525),\"\")","v":""},{"$f":"IF(AND($F525<>\"\",$G525<>\"\"),IF(I525>$E525,\"n.OK\",\"OK\"),\"\")","v":""},null,null,{"$f":"IFERROR(AVERAGE(K525:L525),\"\")","v":""},{"$f":"IFERROR(ABS(IF(D525=$M$4,$M$5,IF(D525=$N$4,$N$5,IF(D525=$O$4,$O$5,IF(D525=$P$4,$P$5,IF(D525=$Q$4,$Q$5,\"\")))))-M525),\"\")","v":""},{"$f":"IF(AND($K525<>\"\",$L525<>\"\"),IF(N525>$E525,\"n.OK\",\"OK\"),\"\")","v":""},null,{"$f":"IF(AND($J525<>\"\",$P525<>\"\"),IF(OR(AND(J525=\"OK\",P525=\"OK\"),AND(O525=\"OK\",P525=\"OK\")),\"Y\",\"N\"),\"\")","v":""}]
[515,null,null,null,"",null,null,"","","",null,null,"","","",null,""]
[516,null,null,null,"",null,null,"","","",null,null,"","","",null,""]
[517,null,null,null,"",null,null,"","","",null,null,"","","",null,""]
[518,null,null,null,"",null,null,"","","",null,null,"","","",null,""]
[519,null,null,null,"",null,null,"","","",null,null,"","","",null,""]
[520,null,null,null,"",null,null,"","","",null,null,"","","",null,""]
[521,null,null,null,"",null,null,"","","",null,null,"","","",null,""]
[522,null,null,null,"",null,null,"","","",null,null,"","","",null,""]
[523,null,null,null,"",null,null,"","","",null,null,"","","",null,""]
[524,null,null,null,"",null,null,"","","",null,null,"","","",null,""]
[525,null,null,null,"",null,null,"","","",null,null,"","","",null,""]
[526,null,null,null,"",null,null,"","","",null,null,"","","",null,""]
[527,null,null,null,"",null,null,"","","",null,null,"","","",null,""]
[528,null,null,null,"",null,null,"","","",null,null,"","","",null,""]
[529,null,null,null,"",null,null,"","","",null,null,"","","",null,""]
[530,null,null,null,"",null,null,"","","",null,null,"","","",null,""]
[531,null,null,null,"",null,null,"","","",null,null,"","","",null,""]
[532,null,null,null,"",null,null,"","","",null,null,"","","",null,""]
[533,null,null,null,"",null,null,"","","",null,null,"","","",null,""]
[534,null,null,null,"",null,null,"","","",null,null,"","","",null,""]
[535,null,null,null,"",null,null,"","","",null,null,"","","",null,""]
[536,null,null,null,"",null,null,"","","",null,null,"","","",null,""]
[537,null,null,null,"",null,null,"","","",null,null,"","","",null,""]
[538,null,null,null,"",null,null,"","","",null,null,"","","",null,""]
[539,null,null,null,"",null,null,"","","",null,null,"","","",null,""]
[540,null,null,null,"",null,null,"","","",null,null,"","","",null,""]
[541,null,null,null,"",null,null,"","","",null,null,"","","",null,""]
[542,null,null,null,"",null,null,"","","",null,null,"","","",null,""]
[543,null,null,null,"",null,null,"","","",null,null,"","","",null,""]
[544,null,null,null,"",null,null,"","","",null,null,"","","",null,""]
[545,null,null,null,"",null,null,"","","",null,null,"","","",null,""]
[546,null,null,null,"",null,null,"","","",null,null,"","","",null,""]
[547,null,null,null,"",null,null,"","","",null,null,"","","",null,""]
[548,null,null,null,"",null,null,"","","",null,null,"","","",null,""]
[549,null,null,null,"",null,null,"","","",null,null,"","","",null,""]
[550,null,null,null,"",null,null,"","","",null,null,"","","",null,""]
[551,null,null,null,"",null,null,"","","",null,null,"","","",null,""]
[552,null,null,null,"",null,null,"","","",null,null,"","","",null,""]
[553,null,null,null,"",null,null,"","","",null,null,"","","",null,""]
[554,null,null,null,"",null,null,"","","",null,null,"","","",null,""]
[555,null,null,null,"",null,null,"","","",null,null,"","","",null,""]
[556,null,null,null,"",null,null,"","","",null,null,"","","",null,""]
[557,null,null,null,"",null,null,"","","",null,null,"","","",null,""]
[558,null,null,null,"",null,null,"","","",null,null,"","","",null,""]
[559,null,null,null,"",null,null,"","","",null,null,"","","",null,""]
[560,null,null,null,"",null,null,"","","",null,null,"","","",null,""]
[561,null,null,null,"",null,null,"","","",null,null,"","","",null,""]
[562,null,null,null,"",null,null,"","","",null,null,"","","",null,""]
[563,null,null,null,"",null,null,"","","",null,null,"","","",null,""]
[564,null,null,null,"",null,null,"","","",null,null,"","","",null,""]
[565,null,null,null,"",null,null,"","","",null,null,"","","",null,""]
[566,null,null,null,"",null,null,"","","",null,null,"","","",null,""]
[567,null,null,null,"",null,null,"","","",null,null,"","","",null,""]
[568,null,null,null,"",null,null,"","","",null,null,"","","",null,""]
[569,null,null,null,"",null,null,"","","",null,null,"","","",null,""]
[570,null,null,null,"",null,null,"","","",null,null,"","","",null,""]
[571,null,null,null,"",null,null,"","","",null,null,"","","",null,""]
[572,null,null,null,"",null,null,"","","",null,null,"","","",null,""]
[573,null,null,null,"",null,null,"","","",null,null,"","","",null,""]
[574,null,null,null,"",null,null,"","","",null,null,"","","",null,""]
[575,null,null,null,"",null,null,"","","",null,null,"","","",null,""]
[576,null,null,null,"",null,null,"","","",null,null,"","","",null,""]
[577,null,null,null,"",null,null,"","","",null,null,"","","",null,""]
[578,null,null,null,{"$f":"IF(IF(D589=$M$4,$M$8,IF(D589=$N$4,$N$8,IF(D589=$O$4,$O$8,IF(D589=$P$4,$P$8,IF(D589=$Q$4,$Q$8,\"\")))))>1,IF(D589=$M$4,$M$8,IF(D589=$N$4,$N$8,IF(D589=$O$4,$O$8,IF(D589=$P$4,$P$8,IF(D589=$Q$4,$Q$8,\"\"))))),1)","v":""},null,null,{"$f":"IFERROR(AVERAGE(F589:G589),\"\")","v":""},{"$f":"IFERROR(ABS(IF(D589=$M$4,$M$5,IF(D589=$N$4,$N$5,IF(D589=$O$4,$O$5,IF(D589=$P$4,$P$5,IF(D589=$Q$4,$Q$5,\"\")))))-H589),\"\")","v":""},{"$f":"IF(AND($F589<>\"\",$G589<>\"\"),IF(I589>$E589,\"n.OK\",\"OK\"),\"\")","v":""},null,null,{"$f":"IFERROR(AVERAGE(K589:L589),\"\")","v":""},{"$f":"IFERROR(ABS(IF(D589=$M$4,$M$5,IF(D589=$N$4,$N$5,IF(D589=$O$4,$O$5,IF(D589=$P$4,$P$5,IF(D589=$Q$4,$Q$5,\"\")))))-M589),\"\")","v":""},{"$f":"IF(AND($K589<>\"\",$L589<>\"\"),IF(N589>$E589,\"n.OK\",\"OK\"),\"\")","v":""},null,{"$f":"IF(AND($J589<>\"\",$P589<>\"\"),IF(OR(AND(J589=\"OK\",P589=\"OK\"),AND(O589=\"OK\",P589=\"OK\")),\"Y\",\"N\"),\"\")","v":""}]
[579,null,null,null,"",null,null,"","","",null,null,"","","",null,""]
[580,null,null,null,"",null,null,"","","",null,null,"","","",null,""]
[581,null,null,null,"",null,null,"","","",null,null,"","","",null,""]
[582,null,null,null,"",null,null,"","","",null,null,"","","",null,""]
[583,null,null,null,"",null,null,"","","",null,null,"","","",null,""]
[584,null,null,null,"",null,null,"","","",null,null,"","","",null,""]
[585,null,null,null,"",null,null,"","","",null,null,"","","",null,""]
[586,null,null,null,"",null,null,"","","",null,null,"","","",null,""]
[587,null,null,null,"",null,null,"","","",null,null,"","","",null,""]
[588,null,null,null,"",null,null,"","","",null,null,"","","",null,""]
[589,null,null,null,"",null,null,"","","",null,null,"","","",null,""]
[590,null,null,null,"",null,null,"","","",null,null,"","","",null,""]
[591,null,null,null,"",null,null,"","","",null,null,"","","",null,""]
[592,null,null,null,"",null,null,"","","",null,null,"","","",null,""]
[593,null,null,null,"",null,null,"","","",null,null,"","","",null,""]
[594,null,null,null,"",null,null,"","","",null,null,"","","",null,""]
[595,null,null,null,"",null,null,"","","",null,null,"","","",null,""]
[596,null,null,null,"",null,null,"","","",null,null,"","","",null,""]
[597,null,null,null,"",null,null,"","","",null,null,"","","",null,""]
[598,null,null,null,"",null,null,"","","",null,null,"","","",null,""]
[599,null,null,null,"",null,null,"","","",null,null,"","","",null,""]
[600,null,null,null,"",null,null,"","","",null,null,"","","",null,""]
[601,null,null,null,"",null,null,"","","",null,null,"","","",null,""]
[602,null,null,null,"",null,null,"","","",null,null,"","","",null,""]
[603,null,null,null,"",null,null,"","","",null,null,"","","",null,""]
[604,null,null,null,"",null,null,"","","",null,null,"","","",null,""]
[605,null,null,null,"",null,null,"","","",null,null,"","","",null,""]
[606,null,null,null,"",null,null,"","","",null,null,"","","",null,""]
[607,null,null,null,"",null,null,"","","",null,null,"","","",null,""]
[608,null,null,null,"",null,null,"","","",null,null,"","","",null,""]
[609,null,null,null,"",null,null,"","","",null,null,"","","",null,""]
[610,null,null,null,"",null,null,"","","",null,null,"","","",null,""]
[611,null,null,null,"",null,null,"","","",null,null,"","","",null,""]
[612,null,null,null,"",null,null,"","","",null,null,"","","",null,""]
[613,null,null,null,"",null,null,"","","",null,null,"","","",null,""]
[614,null,null,null,"",null,null,"","","",null,null,"","","",null,""]
[615,null,null,null,"",null,null,"","","",null,null,"","","",null,""]
[616,null,null,null,"",null,null,"","","",null,null,"","","",null,""]
[617,null,null,null,"",null,null,"","","",null,null,"","","",null,""]
[618,null,null,null,"",null,null,"","","",null,null,"","","",null,""]
[619,null,null,null,"",null,null,"","","",null,null,"","","",null,""]
[620,null,null,null,"",null,null,"","","",null,null,"","","",null,""]
[621,null,null,null,"",null,null,"","","",null,null,"","","",null,""]
[622,null,null,null,"",null,null,"","","",null,null,"","","",null,""]
[623,null,null,null,"",null,null,"","","",null,null,"","","",null,""]
[624,null,null,null,"",null,null,"","","",null,null,"","","",null,""]
[625,null,null,null,"",null,null,"","","",null,null,"","","",null,""]
[626,null,null,null,"",null,null,"","","",null,null,"","","",null,""]
[627,null,null,null,"",null,null,"","","",null,null,"","","",null,""]
[628,null,null,null,"",null,null,"","","",null,null,"","","",null,""]
[629,null,null,null,"",null,null,"","","",null,null,"","","",null,""]
[630,null,null,null,"",null,null,"","","",null,null,"","","",null,""]
[631,null,null,null,"",null,null,"","","",null,null,"","","",null,""]
[632,null,null,null,"",null,null,"","","",null,null,"","","",null,""]
[633,null,null,null,"",null,null,"","","",null,null,"","","",null,""]
[634,null,null,null,"",null,null,"","","",null,null,"","","",null,""]
[635,null,null,null,"",null,null,"","","",null,null,"","","",null,""]
[636,null,null,null,"",null,null,"","","",null,null,"","","",null,""]
[637,null,null,null,"",null,null,"","","",null,null,"","","",null,""]
[638,null,null,null,"",null,null,"","","",null,null,"","","",null,""]
[639,null,null,null,"",null,null,"","","",null,null,"","","",null,""]
[640,null,null,null,"",null,null,"","","",null,null,"","","",null,""]
[641,null,null,null,"",null,null,"","","",null,null,"","","",null,""]
[642,null,null,null,{"$f":"IF(IF(D653=$M$4,$M$8,IF(D653=$N$4,$N$8,IF(D653=$O$4,$O$8,IF(D653=$P$4,$P$8,IF(D653=$Q$4,$Q$8,\"\")))))>1,IF(D653=$M$4,$M$8,IF(D653=$N$4,$N$8,IF(D653=$O$4,$O$8,IF(D653=$P$4,$P$8,IF(D653=$Q$4,$Q$8,\"\"))))),1)","v":""},null,null,{"$f":"IFERROR(AVERAGE(F653:G653),\"\")","v":""},{"$f":"IFERROR(ABS(IF(D653=$M$4,$M$5,IF(D653=$N$4,$N$5,IF(D653=$O$4,$O$5,IF(D653=$P$4,$P$5,IF(D653=$Q$4,$Q$5,\"\")))))-H653),\"\")","v":""},{"$f":"IF(AND($F653<>\"\",$G653<>\"\"),IF(I653>$E653,\"n.OK\",\"OK\"),\"\")","v":""},null,null,{"$f":"IFERROR(AVERAGE(K653:L653),\"\")","v":""},{"$f":"IFERROR(ABS(IF(D653=$M$4,$M$5,IF(D653=$N$4,$N$5,IF(D653=$O$4,$O$5,IF(D653=$P$4,$P$5,IF(D653=$Q$4,$Q$5,\"\")))))-M653),\"\")","v":""},{"$f":"IF(AND($K653<>\"\",$L653<>\"\"),IF(N653>$E653,\"n.OK\",\"OK\"),\"\")","v":""},null,{"$f":"IF(AND($J653<>\"\",$P653<>\"\"),IF(OR(AND(J653=\"OK\",P653=\"OK\"),AND(O653=\"OK\",P653=\"OK\")),\"Y\",\"N\"),\"\")","v":""}]
[643,null,null,null,"",null,null,"","","",null,null,"","","",null,""]
[644,null,null,null,"",null,null,"","","",null,null,"","","",null,""]
[645,null,null,null,"",null,null,"","","",null,null,"","","",null,""]
[646,null,null,null,"",null,null,"","","",null,null,"","","",null,""]
[647,null,null,null,"",null,null,"","","",null,null,"","","",null,""]
[648,null,null,null,"",null,null,"","","",null,null,"","","",null,""]
[649,null,null,null,"",null,null,"","","",null,null,"","","",null,""]
[650,null,null,null,"",null,null,"","","",null,null,"","","",null,""]
[651,null,null,null,"",null,null,"","","",null,null,"","","",null,""]
[652,null,null,null,"",null,null,"","","",null,null,"","","",null,""]
[653,null,null,null,"",null,null,"","","",null,null,"","","",null,""]
[654,null,null,null,"",null,null,"","","",null,null,"","","",null,""]
[655,null,null,null,"",null,null,"","","",null,null,"","","",null,""]
[656,null,null,null,"",null,null,"","","",null,null,"","","",null,""]
[657,null,null,null,"",null,null,"","","",null,null,"","","",null,""]
[658,null,null,null,"",null,null,"","","",null,null,"","","",null,""]
[659,null,null,null,"",null,null,"","","",null,null,"","","",null,""]
[660,null,null,null,"",null,null,"","","",null,null,"","","",null,""]
[661,null,null,null,"",null,null,"","","",null,null,"","","",null,""]
[662,null,null,null,"",null,null,"","","",null,null,"","","",null,""]
[663,null,null,null,"",null,null,"","","",null,null,"","","",null,""]
[664,null,null,null,"",null,null,"","","",null,null,"","","",null,""]
[665,null,null,null,"",null,null,"","","",null,null,"","","",null,""]
[666,null,null,null,"",null,null,"","","",null,null,"","","",null,""]
[667,null,null,null,"",null,null,"","","",null,null,"","","",null,""]
[668,null,null,null,"",null,null,"","","",null,null,"","","",null,""]
[669,null,null,null,"",null,null,"","","",null,null,"","","",null,""]
[670,null,null,null,"",null,null,"","","",null,null,"","","",null,""]
[671,null,null,null,"",null,null,"","","",null,null,"","","",null,""]
[672,null,null,null,"",null,null,"","","",null,null,"","","",null,""]
[673,null,null,null,"",null,null,"","","",null,null,"","","",null,""]
[674,null,null,null,"",null,null,"","","",null,null,"","","",null,""]
[675,null,null,null,"",null,null,"","","",null,null,"","","",null,""]
[676,null,null,null,"",null,null,"","","",null,null,"","","",null,""]
[677,null,null,null,"",null,null,"","","",null,null,"","","",null,""]
[678,null,null,null,"",null,null,"","","",null,null,"","","",null,""]
[679,null,null,null,"",null,null,"","","",null,null,"","","",null,""]
[680,null,null,null,"",null,null,"","","",null,null,"","","",null,""]
[681,null,null,null,"",null,null,"","","",null,null,"","","",null,""]
[682,null,null,null,"",null,null,"","","",null,null,"","","",null,""]
[683,null,null,null,"",null,null,"","","",null,null,"","","",null,""]
[684,null,null,null,"",null,null,"","","",null,null,"","","",null,""]
[685,null,null,null,"",null,null,"","","",null,null,"","","",null,""]
[686,null,null,null,"",null,null,"","","",null,null,"","","",null,""]
[687,null,null,null,"",null,null,"","","",null,null,"","","",null,""]
[688,null,null,null,"",null,null,"","","",null,null,"","","",null,""]
[689,null,null,null,"",null,null,"","","",null,null,"","","",null,""]
[690,null,null,null,"",null,null,"","","",null,null,"","","",null,""]
[691,null,null,null,"",null,null,"","","",null,null,"","","",null,""]
[692,null,null,null,"",null,null,"","","",null,null,"","","",null,""]
[693,null,null,null,"",null,null,"","","",null,null,"","","",null,""]
[694,null,null,null,"",null,null,"","","",null,null,"","","",null,""]
[695,null,null,null,"",null,null,"","","",null,null,"","","",null,""]
[696,null,null,null,"",null,null,"","","",null,null,"","","",null,""]
[697,null,null,null,"",null,null,"","","",null,null,"","","",null,""]
[698,null,null,null,"",null,null,"","","",null,null,"","","",null,""]
[699,null,null,null,"",null,null,"","","",null,null,"","","",null,""]
[700,null,null,null,"",null,null,"","","",null,null,"","","",null,""]
[701,null,null,null,"",null,null,"","","",null,null,"","","",null,""]
[702,null,null,null,"",null,null,"","","",null,null,"","","",null,""]
[703,null,null,null,"",null,null,"","","",null,null,"","","",null,""]
[704,null,null,null,"",null,null,"","","",null,null,"","","",null,""]
[705,null,null,null,"",null,null,"","","",null,null,"","","",null,""]
[706,null,null,null,{"$f":"IF(IF(D717=$M$4,$M$8,IF(D717=$N$4,$N$8,IF(D717=$O$4,$O$8,IF(D717=$P$4,$P$8,IF(D717=$Q$4,$Q$8,\"\")))))>1,IF(D717=$M$4,$M$8,IF(D717=$N$4,$N$8,IF(D717=$O$4,$O$8,IF(D717=$P$4,$P$8,IF(D717=$Q$4,$Q$8,\"\"))))),1)","v":""},null,null,{"$f":"IFERROR(AVERAGE(F717:G717),\"\")","v":""},{"$f":"IFERROR(ABS(IF(D717=$M$4,$M$5,IF(D717=$N$4,$N$5,IF(D717=$O$4,$O$5,IF(D717=$P$4,$P$5,IF(D717=$Q$4,$Q$5,\"\")))))-H717),\"\")","v":""},{"$f":"IF(AND($F717<>\"\",$G717<>\"\"),IF(I717>$E717,\"n.OK\",\"OK\"),\"\")","v":""},null,null,{"$f":"IFERROR(AVERAGE(K717:L717),\"\")","v":""},{"$f":"IFERROR(ABS(IF(D717=$M$4,$M$5,IF(D717=$N$4,$N$5,IF(D717=$O$4,$O$5,IF(D717=$P$4,$P$5,IF(D717=$Q$4,$Q$5,\"\")))))-M717),\"\")","v":""},{"$f":"IF(AND($K717<>\"\",$L717<>\"\"),IF(N717>$E717,\"n.OK\",\"OK\"),\"\")","v":""},null,{"$f":"IF(AND($J717<>\"\",$P717<>\"\"),IF(OR(AND(J717=\"OK\",P717=\"OK\"),AND(O717=\"OK\",P717=\"OK\")),\"Y\",\"N\"),\"\")","v":""}]
[707,null,null,null,"",null,null,"","","",null,null,"","","",null,""]
[708,null,null,null,"",null,null,"","","",null,null,"","","",null,""]
[709,null,null,null,"",null,null,"","","",null,null,"","","",null,""]
[710,null,null,null,"",null,null,"","","",null,null,"","","",null,""]
[711,null,null,null,"",null,null,"","","",null,null,"","","",null,""]
[712,null,null,null,"",null,null,"","","",null,null,"","","",null,""]
[713,null,null,null,"",null,null,"","","",null,null,"","","",null,""]
[714,null,null,null,"",null,null,"","","",null,null,"","","",null,""]
[715,null,null,null,"",null,null,"","","",null,null,"","","",null,""]
[716,null,null,null,"",null,null,"","","",null,null,"","","",null,""]
[717,null,null,null,"",null,null,"","","",null,null,"","","",null,""]
[718,null,null,null,"",null,null,"","","",null,null,"","","",null,""]
[719,null,null,null,"",null,null,"","","",null,null,"","","",null,""]
[720,null,null,null,"",null,null,"","","",null,null,"","","",null,""]
[721,null,null,null,"",null,null,"","","",null,null,"","","",null,""]
[722,null,null,null,"",null,null,"","","",null,null,"","","",null,""]
[723,null,null,null,"",null,null,"","","",null,null,"","","",null,""]
[724,null,null,null,"",null,null,"","","",null,null,"","","",null,""]
[725,null,null,null,"",null,null,"","","",null,null,"","","",null,""]
[726,null,null,null,"",null,null,"","","",null,null,"","","",null,""]
[727,null,null,null,"",null,null,"","","",null,null,"","","",null,""]
[728,null,null,null,"",null,null,"","","",null,null,"","","",null,""]
[729,null,null,null,"",null,null,"","","",null,null,"","","",null,""]
[730,null,null,null,"",null,null,"","","",null,null,"","","",null,""]
[731,null,null,null,"",null,null,"","","",null,null,"","","",null,""]
[732,null,null,null,"",null,null,"","","",null,null,"","","",null,""]
[733,null,null,null,"",null,null,"","","",null,null,"","","",null,""]
[734,null,null,null,"",null,null,"","","",null,null,"","","",null,""]
[735,null,null,null,"",null,null,"","","",null,null,"","","",null,""]
[736,null,null,null,"",null,null,"","","",null,null,"","","",null,""]
[737,null,null,null,"",null,null,"","","",null,null,"","","",null,""]
[738,null,null,null,"",null,null,"","","",null,null,"","","",null,""]
[739,null,null,null,"",null,null,"","","",null,null,"","","",null,""]
[740,null,null,null,"",null,null,"","","",null,null,"","","",null,""]
[741,null,null,null,"",null,null,"","","",null,null,"","","",null,""]
[742,null,null,null,"",null,null,"","","",null,null,"","","",null,""]
[743,null,null,null,"",null,null,"","","",null,null,"","","",null,""]
[744,null,null,null,"",null,null,"","","",null,null,"","","",null,""]
[745,null,null,null,"",null,null,"","","",null,null,"","","",null,""]
[746,null,null,null,"",null,null,"","","",null,null,"","","",null,""]
[747,null,null,null,"",null,null,"","","",null,null,"","","",null,""]
[748,null,null,null,"",null,null,"","","",null,null,"","","",null,""]
[749,null,null,null,"",null,null,"","","",null,null,"","","",null,""]
[750,null,null,null,"",null,null,"","","",null,null,"","","",null,""]
[751,null,null,null,"",null,null,"","","",null,null,"","","",null,""]
[752,null,null,null,"",null,null,"","","",null,null,"","","",null,""]
[753,null,null,null,"",null,null,"","","",null,null,"","","",null,""]
[754,null,null,null,"",null,null,"","","",null,null,"","","",null,""]
[755,null,null,null,"",null,null,"","","",null,null,"","","",null,""]
[756,null,null,null,"",null,null,"","","",null,null,"","","",null,""]
[757,null,null,null,"",null,null,"","","",null,null,"","","",null,""]
[758,null,null,null,"",null,null,"","","",null,null,"","","",null,""]
[759,null,null,null,"",null,null,"","","",null,null,"","","",null,""]
[760,null,null,null,"",null,null,"","","",null,null,"","","",null,""]
[761,null,null,null,"",null,null,"","","",null,null,"","","",null,""]
[762,null,null,null,"",null,null,"","","",null,null,"","","",null,""]
[763,null,null,null,"",null,null,"","","",null,null,"","","",null,""]
[764,null,null,null,"",null,null,"","","",null,null,"","","",null,""]
[765,null,null,null,"",null,null,"","","",null,null,"","","",null,""]
[766,null,null,null,"",null,null,"","","",null,null,"","","",null,""]
[767,null,null,null,"",null,null,"","","",null,null,"","","",null,""]
[768,null,null,null,"",null,null,"","","",null,null,"","","",null,""]
[769,null,null,null,"",null,null,"","","",null,null,"","","",null,""]
[770,null,null,null,{"$f":"IF(IF(D781=$M$4,$M$8,IF(D781=$N$4,$N$8,IF(D781=$O$4,$O$8,IF(D781=$P$4,$P$8,IF(D781=$Q$4,$Q$8,\"\")))))>1,IF(D781=$M$4,$M$8,IF(D781=$N$4,$N$8,IF(D781=$O$4,$O$8,IF(D781=$P$4,$P$8,IF(D781=$Q$4,$Q$8,\"\"))))),1)","v":""},null,null,{"$f":"IFERROR(AVERAGE(F781:G781),\"\")","v":""},{"$f":"IFERROR(ABS(IF(D781=$M$4,$M$5,IF(D781=$N$4,$N$5,IF(D781=$O$4,$O$5,IF(D781=$P$4,$P$5,IF(D781=$Q$4,$Q$5,\"\")))))-H781),\"\")","v":""},{"$f":"IF(AND($F781<>\"\",$G781<>\"\"),IF(I781>$E781,\"n.OK\",\"OK\"),\"\")","v":""},null,null,{"$f":"IFERROR(AVERAGE(K781:L781),\"\")","v":""},{"$f":"IFERROR(ABS(IF(D781=$M$4,$M$5,IF(D781=$N$4,$N$5,IF(D781=$O$4,$O$5,IF(D781=$P$4,$P$5,IF(D781=$Q$4,$Q$5,\"\")))))-M781),\"\")","v":""},{"$f":"IF(AND($K781<>\"\",$L781<>\"\"),IF(N781>$E781,\"n.OK\",\"OK\"),\"\")","v":""},null,{"$f":"IF(AND($J781<>\"\",$P781<>\"\"),IF(OR(AND(J781=\"OK\",P781=\"OK\"),AND(O781=\"OK\",P781=\"OK\")),\"Y\",\"N\"),\"\")","v":""}]
[771,null,null,null,"",null,null,"","","",null,null,"","","",null,""]
[772,null,null,null,"",null,null,"","","",null,null,"","","",null,""]
[773,null,null,null,"",null,null,"","","",null,null,"","","",null,""]
[774,null,null,null,"",null,null,"","","",null,null,"","","",null,""]
[775,null,null,null,"",null,null,"","","",null,null,"","","",null,""]
[776,null,null,null,"",null,null,"","","",null,null,"","","",null,""]
[777,null,null,null,"",null,null,"","","",null,null,"","","",null,""]
[778,null,null,null,"",null,null,"","","",null,null,"","","",null,""]
[779,null,null,null,"",null,null,"","","",null,null,"","","",null,""]
[780,null,null,null,"",null,null,"","","",null,null,"","","",null,""]
[781,null,null,null,"",null,null,"","","",null,null,"","","",null,""]
[782,null,null,null,"",null,null,"","","",null,null,"","","",null,""]
[783,null,null,null,"",null,null,"","","",null,null,"","","",null,""]
[784,null,null,null,"",null,null,"","","",null,null,"","","",null,""]
[785,null,null,null,"",null,null,"","","",null,null,"","","",null,""]
[786,null,null,null,"",null,null,"","","",null,null,"","","",null,""]
[787,null,null,null,"",null,null,"","","",null,null,"","","",null,""]
[788,null,null,null,"",null,null,"","","",null,null,"","","",null,""]
[789,null,null,null,"",null,null,"","","",null,null,"","","",null,""]
[790,null,null,null,"",null,null,"","","",null,null,"","","",null,""]
[791,null,null,null,"",null,null,"","","",null,null,"","","",null,""]
[792,null,null,null,"",null,null,"","","",null,null,"","","",null,""]
[793,null,null,null,"",null,null,"","","",null,null,"","","",null,""]
[794,null,null,null,"",null,null,"","","",null,null,"","","",null,""]
[795,null,null,null,"",null,null,"","","",null,null,"","","",null,""]
[796,null,null,null,"",null,null,"","","",null,null,"","","",null,""]
[797,null,null,null,"",null,null,"","","",null,null,"","","",null,""]
[798,null,null,null,"",null,null,"","","",null,null,"","","",null,""]
[799,null,null,null,"",null,null,"","","",null,null,"","","",null,""]
[800,null,null,null,"",null,null,"","","",null,null,"","","",null,""]
[801,null,null,null,"",null,null,"","","",null,null,"","","",null,""]
[802,null,null,null,"",null,null,"","","",null,null,"","","",null,""]
[803,null,null,null,"",null,null,"","","",null,null,"","","",null,""]
[804,null,null,null,"",null,null,"","","",null,null,"","","",null,""]
[805,null,null,null,"",null,null,"","","",null,null,"","","",null,""]
[806,null,null,null,"",null,null,"","","",null,null,"","","",null,""]
[807,null,null,null,"",null,null,"","","",null,null,"","","",null,""]
[808,null,null,null,"",null,null,"","","",null,null,"","","",null,""]
[809,null,null,null,"",null,null,"","","",null,null,"","","",null,""]
[810,null,null,null,"",null,null,"","","",null,null,"","","",null,""]
[811,null,null,null,"",null,null,"","","",null,null,"","","",null,""]
[812,null,null,null,"",null,null,"","","",null,null,"","","",null,""]
[813,null,null,null,"",null,null,"","","",null,null,"","","",null,""]
[814,null,null,null,"",null,null,"","","",null,null,"","","",null,""]
[815,null,null,null,"",null,null,"","","",null,null,"","","",null,""]
[816,null,null,null,"",null,null,"","","",null,null,"","","",null,""]
[817,null,null,null,"",null,null,"","","",null,null,"","","",null,""]
[818,null,null,null,"",null,null,"","","",null,null,"","","",null,""]
[819,null,null,null,"",null,null,"","","",null,null,"","","",null,""]
[820,null,null,null,"",null,null,"","","",null,null,"","","",null,""]
[821,null,null,null,"",null,null,"","","",null,null,"","","",null,""]
[822,null,null,null,"",null,null,"","","",null,null,"","","",null,""]
[823,null,null,null,"",null,null,"","","",null,null,"","","",null,""]
[824,null,null,null,"",null,null,"","","",null,null,"","","",null,""]
[825,null,null,null,"",null,null,"","","",null,null,"","","",null,""]
[826,null,null,null,"",null,null,"","","",null,null,"","","",null,""]
[827,null,null,null,"",null,null,"","","",null,null,"","","",null,""]
[828,null,null,null,"",null,null,"","","",null,null,"","","",null,""]
[829,null,null,null,"",null,null,"","","",null,null,"","","",null,""]
[830,null,null,null,"",null,null,"","","",null,null,"","","",null,""]
[831,null,null,null,"",null,null,"","","",null,null,"","","",null,""]
[832,null,null,null,"",null,null,"","","",null,null,"","","",null,""]
[833,null,null,null,"",null,null,"","","",null,null,"","","",null,""]
[834,null,null,null,{"$f":"IF(IF(D845=$M$4,$M$8,IF(D845=$N$4,$N$8,IF(D845=$O$4,$O$8,IF(D845=$P$4,$P$8,IF(D845=$Q$4,$Q$8,\"\")))))>1,IF(D845=$M$4,$M$8,IF(D845=$N$4,$N$8,IF(D845=$O$4,$O$8,IF(D845=$P$4,$P$8,IF(D845=$Q$4,$Q$8,\"\"))))),1)","v":""},null,null,{"$f":"IFERROR(AVERAGE(F845:G845),\"\")","v":""},{"$f":"IFERROR(ABS(IF(D845=$M$4,$M$5,IF(D845=$N$4,$N$5,IF(D845=$O$4,$O$5,IF(D845=$P$4,$P$5,IF(D845=$Q$4,$Q$5,\"\")))))-H845),\"\")","v":""},{"$f":"IF(AND($F845<>\"\",$G845<>\"\"),IF(I845>$E845,\"n.OK\",\"OK\"),\"\")","v":""},null,null,{"$f":"IFERROR(AVERAGE(K845:L845),\"\")","v":""},{"$f":"IFERROR(ABS(IF(D845=$M$4,$M$5,IF(D845=$N$4,$N$5,IF(D845=$O$4,$O$5,IF(D845=$P$4,$P$5,IF(D845=$Q$4,$Q$5,\"\")))))-M845),\"\")","v":""},{"$f":"IF(AND($K845<>\"\",$L845<>\"\"),IF(N845>$E845,\"n.OK\",\"OK\"),\"\")","v":""},null,{"$f":"IF(AND($J845<>\"\",$P845<>\"\"),IF(OR(AND(J845=\"OK\",P845=\"OK\"),AND(O845=\"OK\",P845=\"OK\")),\"Y\",\"N\"),\"\")","v":""}]
[835,null,null,null,"",null,null,"","","",null,null,"","","",null,""]
[836,null,null,null,"",null,null,"","","",null,null,"","","",null,""]
[837,null,null,null,"",null,null,"","","",null,null,"","","",null,""]
[838,null,null,null,"",null,null,"","","",null,null,"","","",null,""]
[839,null,null,null,"",null,null,"","","",null,null,"","","",null,""]
[840,null,null,null,"",null,null,"","","",null,null,"","","",null,""]
[841,null,null,null,"",null,null,"","","",null,null,"","","",null,""]
[842,null,null,null,"",null,null,"","","",null,null,"","","",null,""]
[843,null,null,null,"",null,null,"","","",null,null,"","","",null,""]
[844,null,null,null,"",null,null,"","","",null,null,"","","",null,""]
[845,null,null,null,"",null,null,"","","",null,null,"","","",null,""]
[846,null,null,null,"",null,null,"","","",null,null,"","","",null,""]
[847,null,null,null,"",null,null,"","","",null,null,"","","",null,""]
[848,null,null,null,"",null,null,"","","",null,null,"","","",null,""]
[849,null,null,null,"",null,null,"","","",null,null,"","","",null,""]
[850,null,null,null,"",null,null,"","","",null,null,"","","",null,""]
[851,null,null,null,"",null,null,"","","",null,null,"","","",null,""]
[852,null,null,null,"",null,null,"","","",null,null,"","","",null,""]
[853,null,null,null,"",null,null,"","","",null,null,"","","",null,""]
[854,null,null,null,"",null,null,"","","",null,null,"","","",null,""]
[855,null,null,null,"",null,null,"","","",null,null,"","","",null,""]
[856,null,null,null,"",null,null,"","","",null,null,"","","",null,""]
[857,null,null,null,"",null,null,"","","",null,null,"","","",null,""]
[858,null,null,null,"",null,null,"","","",null,null,"","","",null,""]
[859,null,null,null,"",null,null,"","","",null,null,"","","",null,""]
[860,null,null,null,"",null,null,"","","",null,null,"","","",null,""]
[861,null,null,null,"",null,null,"","","",null,null,"","","",null,""]
[862,null,null,null,"",null,null,"","","",null,null,"","","",null,""]
[863,null,null,null,"",null,null,"","","",null,null,"","","",null,""]
[864,null,null,null,"",null,null,"","","",null,null,"","","",null,""]
[865,null,null,null,"",null,null,"","","",null,null,"","","",null,""]
[866,null,null,null,"",null,null,"","","",null,null,"","","",null,""]
[867,null,null,null,"",null,null,"","","",null,null,"","","",null,""]
[868,null,null,null,"",null,null,"","","",null,null,"","","",null,""]
[869,null,null,null,"",null,null,"","","",null,null,"","","",null,""]
[870,null,null,null,"",null,null,"","","",null,null,"","","",null,""]
[871,null,null,null,"",null,null,"","","",null,null,"","","",null,""]
[872,null,null,null,"",null,null,"","","",null,null,"","","",null,""]
[873,null,null,null,"",null,null,"","","",null,null,"","","",null,""]
[874,null,null,null,"",null,null,"","","",null,null,"","","",null,""]
[875,null,null,null,"",null,null,"","","",null,null,"","","",null,""]
[876,null,null,null,"",null,null,"","","",null,null,"","","",null,""]
[877,null,null,null,"",null,null,"","","",null,null,"","","",null,""]
[878,null,null,null,"",null,null,"","","",null,null,"","","",null,""]
[879,null,null,null,"",null,null,"","","",null,null,"","","",null,""]
[880,null,null,null,"",null,null,"","","",null,null,"","","",null,""]
[881,null,null,null,"",null,null,"","","",null,null,"","","",null,""]
[882,null,null,null,"",null,null,"","","",null,null,"","","",null,""]
[883,null,null,null,"",null,null,"","","",null,null,"","","",null,""]
[884,null,null,null,"",null,null,"","","",null,null,"","","",null,""]
[885,null,null,null,"",null,null,"","","",null,null,"","","",null,""]
[886,null,null,null,"",null,null,"","","",null,null,"","","",null,""]
[887,null,null,null,"",null,null,"","","",null,null,"","","",null,""]
[888,null,null,null,"",null,null,"","","",null,null,"","","",null,""]
[889,null,null,null,"",null,null,"","","",null,null,"","","",null,""]
[890,null,null,null,"",null,null,"","","",null,null,"","","",null,""]
[891,null,null,null,"",null,null,"","","",null,null,"","","",null,""]
[892,null,null,null,"",null,null,"","","",null,null,"","","",null,""]
[893,null,null,null,"",null,null,"","","",null,null,"","","",null,""]
[894,null,null,null,"",null,null,"","","",null,null,"","","",null,""]
[895,null,null,null,"",null,null,"","","",null,null,"","","",null,""]
[896,null,null,null,"",null,null,"","","",null,null,"","","",null,""]
[897,null,null,null,"",null,null,"","","",null,null,"","","",null,""]
[898,null,null,null,{"$f":"IF(IF(D909=$M$4,$M$8,IF(D909=$N$4,$N$8,IF(D909=$O$4,$O$8,IF(D909=$P$4,$P$8,IF(D909=$Q$4,$Q$8,\"\")))))>1,IF(D909=$M$4,$M$8,IF(D909=$N$4,$N$8,IF(D909=$O$4,$O$8,IF(D909=$P$4,$P$8,IF(D909=$Q$4,$Q$8,\"\"))))),1)","v":""},null,null,{"$f":"IFERROR(AVERAGE(F909:G909),\"\")","v":""},{"$f":"IFERROR(ABS(IF(D909=$M$4,$M$5,IF(D909=$N$4,$N$5,IF(D909=$O$4,$O$5,IF(D909=$P$4,$P$5,IF(D909=$Q$4,$Q$5,\"\")))))-H909),\"\")","v":""},{"$f":"IF(AND($F909<>\"\",$G909<>\"\"),IF(I909>$E909,\"n.OK\",\"OK\"),\"\")","v":""},null,null,{"$f":"IFERROR(AVERAGE(K909:L909),\"\")","v":""},{"$f":"IFERROR(ABS(IF(D909=$M$4,$M$5,IF(D909=$N$4,$N$5,IF(D909=$O$4,$O$5,IF(D909=$P$4,$P$5,IF(D909=$Q$4,$Q$5,\"\")))))-M909),\"\")","v":""},{"$f":"IF(AND($K909<>\"\",$L909<>\"\"),IF(N909>$E909,\"n.OK\",\"OK\"),\"\")","v":""},null,{"$f":"IF(AND($J909<>\"\",$P909<>\"\"),IF(OR(AND(J909=\"OK\",P909=\"OK\"),AND(O909=\"OK\",P909=\"OK\")),\"Y\",\"N\"),\"\")","v":""}]
[899,null,null,null,"",null,null,"","","",null,null,"","","",null,""]
[900,null,null,null,"",null,null,"","","",null,null,"","","",null,""]
[901,null,null,null,"",null,null,"","","",null,null,"","","",null,""]
[902,null,null,null,"",null,null,"","","",null,null,"","","",null,""]
[903,null,null,null,"",null,null,"","","",null,null,"","","",null,""]
[904,null,null,null,"",null,null,"","","",null,null,"","","",null,""]
[905,null,null,null,"",null,null,"","","",null,null,"","","",null,""]
[906,null,null,null,"",null,null,"","","",null,null,"","","",null,""]
[907,null,null,null,"",null,null,"","","",null,null,"","","",null,""]
[908,null,null,null,"",null,null,"","","",null,null,"","","",null,""]
[909,null,null,null,"",null,null,"","","",null,null,"","","",null,""]
[910,null,null,null,"",null,null,"","","",null,null,"","","",null,""]
[911,null,null,null,"",null,null,"","","",null,null,"","","",null,""]
[912,null,null,null,"",null,null,"","","",null,null,"","","",null,""]
[913,null,null,null,"",null,null,"","","",null,null,"","","",null,""]
[914,null,null,null,"",null,null,"","","",null,null,"","","",null,""]
[915,null,null,null,"",null,null,"","","",null,null,"","","",null,""]
[916,null,null,null,"",null,null,"","","",null,null,"","","",null,""]
[917,null,null,null,"",null,null,"","","",null,null,"","","",null,""]
[918,null,null,null,"",null,null,"","","",null,null,"","","",null,""]
[919,null,null,null,"",null,null,"","","",null,null,"","","",null,""]
[920,null,null,null,"",null,null,"","","",null,null,"","","",null,""]
[921,null,null,null,"",null,null,"","","",null,null,"","","",null,""]
[922,null,null,null,"",null,null,"","","",null,null,"","","",null,""]
[923,null,null,null,"",null,null,"","","",null,null,"","","",null,""]
[924,null,null,null,"",null,null,"","","",null,null,"","","",null,""]
[925,null,null,null,"",null,null,"","","",null,null,"","","",null,""]
[926,null,null,null,"",null,null,"","","",null,null,"","","",null,""]
[927,null,null,null,"",null,null,"","","",null,null,"","","",null,""]
[928,null,null,null,"",null,null,"","","",null,null,"","","",null,""]
[929,null,null,null,"",null,null,"","","",null,null,"","","",null,""]
[930,null,null,null,"",null,null,"","","",null,null,"","","",null,""]
[931,null,null,null,"",null,null,"","","",null,null,"","","",null,""]
[932,null,null,null,"",null,null,"","","",null,null,"","","",null,""]
[933,null,null,null,"",null,null,"","","",null,null,"","","",null,""]
[934,null,null,null,"",null,null,"","","",null,null,"","","",null,""]
[935,null,null,null,"",null,null,"","","",null,null,"","","",null,""]
[936,null,null,null,"",null,null,"","","",null,null,"","","",null,""]
[937,null,null,null,"",null,null,"","","",null,null,"","","",null,""]
[938,null,null,null,"",null,null,"","","",null,null,"","","",null,""]
[939,null,null,null,"",null,null,"","","",null,null,"","","",null,""]
[940,null,null,null,"",null,null,"","","",null,null,"","","",null,""]
[941,null,null,null,"",null,null,"","","",null,null,"","","",null,""]
[942,null,null,null,"",null,null,"","","",null,null,"","","",null,""]
[943,null,null,null,"",null,null,"","","",null,null,"","","",null,""]
[944,null,null,null,"",null,null,"","","",null,null,"","","",null,""]
[945,null,null,null,"",null,null,"","","",null,null,"","","",null,""]
[946,null,null,null,"",null,null,"","","",null,null,"","","",null,""]
[947,null,null,null,"",null,null,"","","",null,null,"","","",null,""]
[948,null,null,null,"",null,null,"","","",null,null,"","","",null,""]
[949,null,null,null,"",null,null,"","","",null,null,"","","",null,""]
[950,null,null,null,"",null,null,"","","",null,null,"","","",null,""]
[951,null,null,null,"",null,null,"","","",null,null,"","","",null,""]
[952,null,null,null,"",null,null,"","","",null,null,"","","",null,""]
[953,null,null,null,"",null,null,"","","",null,null,"","","",null,""]
[954,null,null,null,"",null,null,"","","",null,null,"","","",null,""]
[955,null,null,null,"",null,null,"","","",null,null,"","","",null,""]
[956,null,null,null,"",null,null,"","","",null,null,"","","",null,""]
[957,null,null,null,"",null,null,"","","",null,null,"","","",null,""]
[958,null,null,null,"",null,null,"","","",null,null,"","","",null,""]
[959,null,null,null,"",null,null,"","","",null,null,"","","",null,""]
[960,null,null,null,"",null,null,"","","",null,null,"","","",null,""]
[961,null,null,null,"",null,null,"","","",null,null,"","","",null,""]
[962,null,null,null,{"$f":"IF(IF(D973=$M$4,$M$8,IF(D973=$N$4,$N$8,IF(D973=$O$4,$O$8,IF(D973=$P$4,$P$8,IF(D973=$Q$4,$Q$8,\"\")))))>1,IF(D973=$M$4,$M$8,IF(D973=$N$4,$N$8,IF(D973=$O$4,$O$8,IF(D973=$P$4,$P$8,IF(D973=$Q$4,$Q$8,\"\"))))),1)","v":""},null,null,{"$f":"IFERROR(AVERAGE(F973:G973),\"\")","v":""},{"$f":"IFERROR(ABS(IF(D973=$M$4,$M$5,IF(D973=$N$4,$N$5,IF(D973=$O$4,$O$5,IF(D973=$P$4,$P$5,IF(D973=$Q$4,$Q$5,\"\")))))-H973),\"\")","v":""},{"$f":"IF(AND($F973<>\"\",$G973<>\"\"),IF(I973>$E973,\"n.OK\",\"OK\"),\"\")","v":""},null,null,{"$f":"IFERROR(AVERAGE(K973:L973),\"\")","v":""},{"$f":"IFERROR(ABS(IF(D973=$M$4,$M$5,IF(D973=$N$4,$N$5,IF(D973=$O$4,$O$5,IF(D973=$P$4,$P$5,IF(D973=$Q$4,$Q$5,\"\")))))-M973),\"\")","v":""},{"$f":"IF(AND($K973<>\"\",$L973<>\"\"),IF(N973>$E973,\"n.OK\",\"OK\"),\"\")","v":""},null,{"$f":"IF(AND($J973<>\"\",$P973<>\"\"),IF(OR(AND(J973=\"OK\",P973=\"OK\"),AND(O973=\"OK\",P973=\"OK\")),\"Y\",\"N\"),\"\")","v":""}]
[963,null,null,null,"",null,null,"","","",null,null,"","","",null,""]
[964,null,null,null,"",null,null,"","","",null,null,"","","",null,""]
[965,null,null,null,"",null,null,"","","",null,null,"","","",null,""]
[966,null,null,null,"",null,null,"","","",null,null,"","","",null,""]
[967,null,null,null,"",null,null,"","","",null,null,"","","",null,""]
[968,null,null,null,"",null,null,"","","",null,null,"","","",null,""]
[969,null,null,null,"",null,null,"","","",null,null,"","","",null,""]
[970,null,null,null,"",null,null,"","","",null,null,"","","",null,""]
[971,null,null,null,"",null,null,"","","",null,null,"","","",null,""]
[972,null,null,null,"",null,null,"","","",null,null,"","","",null,""]
[973,null,null,null,"",null,null,"","","",null,null,"","","",null,""]
[974,null,null,null,"",null,null,"","","",null,null,"","","",null,""]
[975,null,null,null,"",null,null,"","","",null,null,"","","",null,""]
[976,null,null,null,"",null,null,"","","",null,null,"","","",null,""]
[977,null,null,null,"",null,null,"","","",null,null,"","","",null,""]
[978,null,null,null,"",null,null,"","","",null,null,"","","",null,""]
[979,null,null,null,"",null,null,"","","",null,null,"","","",null,""]
[980,null,null,null,"",null,null,"","","",null,null,"","","",null,""]
[981,null,null,null,"",null,null,"","","",null,null,"","","",null,""]
[982,null,null,null,"",null,null,"","","",null,null,"","","",null,""]
[983,null,null,null,"",null,null,"","","",null,null,"","","",null,""]
[984,null,null,null,"",null,null,"","","",null,null,"","","",null,""]
[985,null,null,null,"",null,null,"","","",null,null,"","","",null,""]
[986,null,null,null,"",null,null,"","","",null,null,"","","",null,""]
[987,null,null,null,"",null,null,"","","",null,null,"","","",null,""]
[988,null,null,null,"",null,null,"","","",null,null,"","","",null,""]
[989,null,null,null,"",null,null,"","","",null,null,"","","",null,""]
[990,null,null,null,"",null,null,"","","",null,null,"","","",null,""]
[991,null,null,null,"",null,null,"","","",null,null,"","","",null,""]
[992,null,null,null,"",null,null,"","","",null,null,"","","",null,""]
[993,null,null,null,"",null,null,"","","",null,null,"","","",null,""]
[994,null,null,null,"",null,null,"","","",null,null,"","","",null,""]
[995,null,null,null,"",null,null,"","","",null,null,"","","",null,""]
[996,null,null,null,"",null,null,"","","",null,null,"","","",null,""]
[997,null,null,null,"",null,null,"","","",null,null,"","","",null,""]
[998,null,null,null,"",null,null,"","","",null,null,"","","",null,""]
[999,null,null,null,"",null,null,"","","",null,null,"","","",null,""]
[1000,null,null,null,"",null,null,"","","",null,null,"","","",null,""]
[1001,null,null,null,"",null,null,"","","",null,null,"","","",null,""]
[1002,null,null,null,"",null,null,"","","",null,null,"","","",null,""]
[1003,null,null,null,"",null,null,"","","",null,null,"","","",null,""]
[1004,null,null,null,"",null,null,"","","",null,null,"","","",null,""]
[1005,null,null,null,"",null,null,"","","",null,null,"","","",null,""]
[1006,null,null,null,"",null,null,"","","",null,null,"","","",null,""]
[1007,null,null,null,"",null,null,"","","",null,null,"","","",null,""]
[1008,null,null,null,"",null,null,"","","",null,null,"","","",null,""]
[1009,null,null,null,"",null,null,"","","",null,null,"","","",null,""]
[1010,null,null,null,"",null,null,"","","",null,null,"","","",null,""]
[1011,null,null,null,"",null,null,"","","",null,null,"","","",null,""]
[1012,null,null,null,"",null,null,"","","",null,null,"","","",null,""]
[1013,null,null,null,"",null,null,"","","",null,null,"","","",null,""]
[1014,null,null,null,"",null,null,"","","",null,null,"","","",null,""]
[1015,null,null,null,"",null,null,"","","",null,null,"","","",null,""]
[1016,null,null,null,"",null,null,"","","",null,null,"","","",null,""]
[1017,null,null,null,"",null,null,"","","",null,null,"","","",null,""]
[1018,null,null,null,"",null,null,"","","",null,null,"","","",null,""]
[1019,null,null,null,"",null,null,"","","",null,null,"","","",null,""]
[1020,null,null,null,"",null,null,"","","",null,null,"","","",null,""]
[1021,null,null,null,"",null,null,"","","",null,null,"","","",null,""]
[1022,null,null,null,"",null,null,"","","",null,null,"","","",null,""]
[1023,null,null,null,"",null,null,"","","",null,null,"","","",null,""]
[1024,null,null,null,"",null,null,"","","",null,null,"","","",null,""]
[1025,null,null,null,"",null,null,"","","",null,null,"","","",null,""]
[1026,null,null,null,{"$f":"IF(IF(D1037=$M$4,$M$8,IF(D1037=$N$4,$N$8,IF(D1037=$O$4,$O$8,IF(D1037=$P$4,$P$8,IF(D1037=$Q$4,$Q$8,\"\")))))>1,IF(D1037=$M$4,$M$8,IF(D1037=$N$4,$N$8,IF(D1037=$O$4,$O$8,IF(D1037=$P$4,$P$8,IF(D1037=$Q$4,$Q$8,\"\"))))),1)","v":""},null,null,{"$f":"IFERROR(AVERAGE(F1037:G1037),\"\")","v":""},{"$f":"IFERROR(ABS(IF(D1037=$M$4,$M$5,IF(D1037=$N$4,$N$5,IF(D1037=$O$4,$O$5,IF(D1037=$P$4,$P$5,IF(D1037=$Q$4,$Q$5,\"\")))))-H1037),\"\")","v":""},{"$f":"IF(AND($F1037<>\"\",$G1037<>\"\"),IF(I1037>$E1037,\"n.OK\",\"OK\"),\"\")","v":""},null,null,{"$f":"IFERROR(AVERAGE(K1037:L1037),\"\")","v":""},{"$f":"IFERROR(ABS(IF(D1037=$M$4,$M$5,IF(D1037=$N$4,$N$5,IF(D1037=$O$4,$O$5,IF(D1037=$P$4,$P$5,IF(D1037=$Q$4,$Q$5,\"\")))))-M1037),\"\")","v":""},{"$f":"IF(AND($K1037<>\"\",$L1037<>\"\"),IF(N1037>$E1037,\"n.OK\",\"OK\"),\"\")","v":""},null,{"$f":"IF(AND($J1037<>\"\",$P1037<>\"\"),IF(OR(AND(J1037=\"OK\",P1037=\"OK\"),AND(O1037=\"OK\",P1037=\"OK\")),\"Y\",\"N\"),\"\")","v":""}]
[1027,null,null,null,"",null,null,"","","",null,null,"","","",null,""]
[1028,null,null,null,"",null,null,"","","",null,null,"","","",null,""]
[1029,null,null,null,"",null,null,"","","",null,null,"","","",null,""]
[1030,null,null,null,"",null,null,"","","",null,null,"","","",null,""]
[1031,null,null,null,"",null,null,"","","",null,null,"","","",null,""]
[1032,null,null,null,"",null,null,"","","",null,null,"","","",null,""]
[1033,null,null,null,"",null,null,"","","",null,null,"","","",null,""]
[1034,null,null,null,"",null,null,"","","",null,null,"","","",null,""]
[1035,null,null,null,"",null,null,"","","",null,null,"","","",null,""]
[1036,null,null,null,"",null,null,"","","",null,null,"","","",null,""]
[1037,null,null,null,"",null,null,"","","",null,null,"","","",null,""]
[1038,null,null,null,"",null,null,"","","",null,null,"","","",null,""]
[1039,null,null,null,"",null,null,"","","",null,null,"","","",null,""]
[1040,null,null,null,"",null,null,"","","",null,null,"","","",null,""]
[1041,null,null,null,"",null,null,"","","",null,null,"","","",null,""]
[1042,null,null,null,"",null,null,"","","",null,null,"","","",null,""]
[1043,null,null,null,"",null,null,"","","",null,null,"","","",null,""]
[1044,null,null,null,"",null,null,"","","",null,null,"","","",null,""]
[1045,null,null,null,"",null,null,"","","",null,null,"","","",null,""]
[1046,null,null,null,"",null,null,"","","",null,null,"","","",null,""]
[1047,null,null,null,"",null,null,"","","",null,null,"","","",null,""]
[1048,null,null,null,"",null,null,"","","",null,null,"","","",null,""]
[1049,null,null,null,"",null,null,"","","",null,null,"","","",null,""]
[1050,null,null,null,"",null,null,"","","",null,null,"","","",null,""]
[1051,null,null,null,"",null,null,"","","",null,null,"","","",null,""]
[1052,null,null,null,"",null,null,"","","",null,null,"","","",null,""]
[1053,null,null,null,"",null,null,"","","",null,null,"","","",null,""]
[1054,null,null,null,"",null,null,"","","",null,null,"","","",null,""]
[1055,null,null,null,"",null,null,"","","",null,null,"","","",null,""]
[1056,null,null,null,"",null,null,"","","",null,null,"","","",null,""]
[1057,null,null,null,"",null,null,"","","",null,null,"","","",null,""]
[1058,null,null,null,"",null,null,"","","",null,null,"","","",null,""]
[1059,null,null,null,"",null,null,"","","",null,null,"","","",null,""]
[1060,null,null,null,"",null,null,"","","",null,null,"","","",null,""]
[1061,null,null,null,"",null,null,"","","",null,null,"","","",null,""]
[1062,null,null,null,"",null,null,"","","",null,null,"","","",null,""]
[1063,null,null,null,"",null,null,"","","",null,null,"","","",null,""]
[1064,null,null,null,"",null,null,"","","",null,null,"","","",null,""]
[1065,null,null,null,"",null,null,"","","",null,null,"","","",null,""]
[1066,null,null,null,"",null,null,"","","",null,null,"","","",null,""]
[1067,null,null,null,"",null,null,"","","",null,null,"","","",null,""]
[1068,null,null,null,"",null,null,"","","",null,null,"","","",null,""]
[1069,null,null,null,"",null,null,"","","",null,null,"","","",null,""]
[1070,null,null,null,"",null,null,"","","",null,null,"","","",null,""]
[1071,null,null,null,"",null,null,"","","",null,null,"","","",null,""]
[1072,null,null,null,"",null,null,"","","",null,null,"","","",null,""]
[1073,null,null,null,"",null,null,"","","",null,null,"","","",null,""]
[1074,null,null,null,"",null,null,"","","",null,null,"","","",null,""]
[1075,null,null,null,"",null,null,"","","",null,null,"","","",null,""]
[1076,null,null,null,"",null,null,"","","",null,null,"","","",null,""]
[1077,null,null,null,"",null,null,"","","",null,null,"","","",null,""]
[1078,null,null,null,"",null,null,"","","",null,null,"","","",null,""]
[1079,null,null,null,"",null,null,"","","",null,null,"","","",null,""]
[1080,null,null,null,"",null,null,"","","",null,null,"","","",null,""]
[1081,null,null,null,"",null,null,"","","",null,null,"","","",null,""]
[1082,null,null,null,"",null,null,"","","",null,null,"","","",null,""]
[1083,null,null,null,"",null,null,"","","",null,null,"","","",null,""]
[1084,null,null,null,"",null,null,"","","",null,null,"","","",null,""]
[1085,null,null,null,"",null,null,"","","",null,null,"","","",null,""]
[1086,null,null,null,"",null,null,"","","",null,null,"","","",null,""]
[1087,null,null,null,"",null,null,"","","",null,null,"","","",null,""]
[1088,null,null,null,"",null,null,"","","",null,null,"","","",null,""]
[1089,null,null,null,"",null,null,"","","",null,null,"","","",null,""]
[1090,null,null,null,{"$f":"IF(IF(D1101=$M$4,$M$8,IF(D1101=$N$4,$N$8,IF(D1101=$O$4,$O$8,IF(D1101=$P$4,$P$8,IF(D1101=$Q$4,$Q$8,\"\")))))>1,IF(D1101=$M$4,$M$8,IF(D1101=$N$4,$N$8,IF(D1101=$O$4,$O$8,IF(D1101=$P$4,$P$8,IF(D1101=$Q$4,$Q$8,\"\"))))),1)","v":""},null,null,{"$f":"IFERROR(AVERAGE(F1101:G1101),\"\")","v":""},{"$f":"IFERROR(ABS(IF(D1101=$M$4,$M$5,IF(D1101=$N$4,$N$5,IF(D1101=$O$4,$O$5,IF(D1101=$P$4,$P$5,IF(D1101=$Q$4,$Q$5,\"\")))))-H1101),\"\")","v":""},{"$f":"IF(AND($F1101<>\"\",$G1101<>\"\"),IF(I1101>$E1101,\"n.OK\",\"OK\"),\"\")","v":""},null,null,{"$f":"IFERROR(AVERAGE(K1101:L1101),\"\")","v":""},{"$f":"IFERROR(ABS(IF(D1101=$M$4,$M$5,IF(D1101=$N$4,$N$5,IF(D1101=$O$4,$O$5,IF(D1101=$P$4,$P$5,IF(D1101=$Q$4,$Q$5,\"\")))))-M1101),\"\")","v":""},{"$f":"IF(AND($K1101<>\"\",$L1101<>\"\"),IF(N1101>$E1101,\"n.OK\",\"OK\"),\"\")","v":""},null,{"$f":"IF(AND($J1101<>\"\",$P1101<>\"\"),IF(OR(AND(J1101=\"OK\",P1101=\"OK\"),AND(O1101=\"OK\",P1101=\"OK\")),\"Y\",\"N\"),\"\")","v":""}]
[1091,null,null,null,"",null,null,"","","",null,null,"","","",null,""]
[1092,null,null,null,"",null,null,"","","",null,null,"","","",null,""]
[1093,null,null,null,"",null,null,"","","",null,null,"","","",null,""]
[1094,null,null,null,"",null,null,"","","",null,null,"","","",null,""]
[1095,null,null,null,"",null,null,"","","",null,null,"","","",null,""]
[1096,null,null,null,"",null,null,"","","",null,null,"","","",null,""]
[1097,null,null,null,"",null,null,"","","",null,null,"","","",null,""]
[1098,null,null,null,"",null,null,"","","",null,null,"","","",null,""]
[1099,null,null,null,"",null,null,"","","",null,null,"","","",null,""]
[1100,null,null,null,"",null,null,"","","",null,null,"","","",null,""]
[1101,null,null,null,"",null,null,"","","",null,null,"","","",null,""]
[1102,null,null,null,"",null,null,"","","",null,null,"","","",null,""]
[1103,null,null,null,"",null,null,"","","",null,null,"","","",null,""]
[1104,null,null,null,"",null,null,"","","",null,null,"","","",null,""]
[1105,null,null,null,"",null,null,"","","",null,null,"","","",null,""]
[1106,null,null,null,"",null,null,"","","",null,null,"","","",null,""]
[1107,null,null,null,"",null,null,"","","",null,null,"","","",null,""]
[1108,null,null,null,"",null,null,"","","",null,null,"","","",null,""]
[1109,null,null,null,"",null,null,"","","",null,null,"","","",null,""]
[1110,null,null,null,"",null,null,"","","",null,null,"","","",null,""]
[1111,null,null,null,"",null,null,"","","",null,null,"","","",null,""]
[1112,null,null,null,"",null,null,"","","",null,null,"","","",null,""]
[1113,null,null,null,"",null,null,"","","",null,null,"","","",null,""]
[1114,null,null,null,"",null,null,"","","",null,null,"","","",null,""]
[1115,null,null,null,"",null,null,"","","",null,null,"","","",null,""]
[1116,null,null,null,"",null,null,"","","",null,null,"","","",null,""]
[1117,null,null,null,"",null,null,"","","",null,null,"","","",null,""]
[1118,null,null,null,"",null,null,"","","",null,null,"","","",null,""]
[1119,null,null,null,"",null,null,"","","",null,null,"","","",null,""]
[1120,null,null,null,"",null,null,"","","",null,null,"","","",null,""]
[1121,null,null,null,"",null,null,"","","",null,null,"","","",null,""]
[1122,null,null,null,"",null,null,"","","",null,null,"","","",null,""]
[1123,null,null,null,"",null,null,"","","",null,null,"","","",null,""]
[1124,null,null,null,"",null,null,"","","",null,null,"","","",null,""]
[1125,null,null,null,"",null,null,"","","",null,null,"","","",null,""]
[1126,null,null,null,"",null,null,"","","",null,null,"","","",null,""]
[1127,null,null,null,"",null,null,"","","",null,null,"","","",null,""]
[1128,null,null,null,"",null,null,"","","",null,null,"","","",null,""]
[1129,null,null,null,"",null,null,"","","",null,null,"","","",null,""]
[1130,null,null,null,"",null,null,"","","",null,null,"","","",null,""]
[1131,null,null,null,"",null,null,"","","",null,null,"","","",null,""]
[1132,null,null,null,"",null,null,"","","",null,null,"","","",null,""]
[1133,null,null,null,"",null,null,"","","",null,null,"","","",null,""]
[1134,null,null,null,"",null,null,"","","",null,null,"","","",null,""]
[1135,null,null,null,"",null,null,"","","",null,null,"","","",null,""]
[1136,null,null,null,"",null,null,"","","",null,null,"","","",null,""]
[1137,null,null,null,"",null,null,"","","",null,null,"","","",null,""]
[1138,null,null,null,"",null,null,"","","",null,null,"","","",null,""]
[1139,null,null,null,"",null,null,"","","",null,null,"","","",null,""]
[1140,null,null,null,"",null,null,"","","",null,null,"","","",null,""]
[1141,null,null,null,"",null,null,"","","",null,null,"","","",null,""]
[1142,null,null,null,"",null,null,"","","",null,null,"","","",null,""]
[1143,null,null,null,"",null,null,"","","",null,null,"","","",null,""]
[1144,null,null,null,"",null,null,"","","",null,null,"","","",null,""]
[1145,null,null,null,"",null,null,"","","",null,null,"","","",null,""]
[1146,null,null,null,"",null,null,"","","",null,null,"","","",null,""]
[1147,null,null,null,"",null,null,"","","",null,null,"","","",null,""]
[1148,null,null,null,"",null,null,"","","",null,null,"","","",null,""]
[1149,null,null,null,"",null,null,"","","",null,null,"","","",null,""]
[1150,null,null,null,"",null,null,"","","",null,null,"","","",null,""]
[1151,null,null,null,"",null,null,"","","",null,null,"","","",null,""]
[1152,null,null,null,"",null,null,"","","",null,null,"","","",null,""]
[1153,null,null,null,"",null,null,"","","",null,null,"","","",null,""]
[1154,null,null,null,{"$f":"IF(IF(D1165=$M$4,$M$8,IF(D1165=$N$4,$N$8,IF(D1165=$O$4,$O$8,IF(D1165=$P$4,$P$8,IF(D1165=$Q$4,$Q$8,\"\")))))>1,IF(D1165=$M$4,$M$8,IF(D1165=$N$4,$N$8,IF(D1165=$O$4,$O$8,IF(D1165=$P$4,$P$8,IF(D1165=$Q$4,$Q$8,\"\"))))),1)","v":""},null,null,{"$f":"IFERROR(AVERAGE(F1165:G1165),\"\")","v":""},{"$f":"IFERROR(ABS(IF(D1165=$M$4,$M$5,IF(D1165=$N$4,$N$5,IF(D1165=$O$4,$O$5,IF(D1165=$P$4,$P$5,IF(D1165=$Q$4,$Q$5,\"\")))))-H1165),\"\")","v":""},{"$f":"IF(AND($F1165<>\"\",$G1165<>\"\"),IF(I1165>$E1165,\"n.OK\",\"OK\"),\"\")","v":""},null,null,{"$f":"IFERROR(AVERAGE(K1165:L1165),\"\")","v":""},{"$f":"IFERROR(ABS(IF(D1165=$M$4,$M$5,IF(D1165=$N$4,$N$5,IF(D1165=$O$4,$O$5,IF(D1165=$P$4,$P$5,IF(D1165=$Q$4,$Q$5,\"\")))))-M1165),\"\")","v":""},{"$f":"IF(AND($K1165<>\"\",$L1165<>\"\"),IF(N1165>$E1165,\"n.OK\",\"OK\"),\"\")","v":""},null,{"$f":"IF(AND($J1165<>\"\",$P1165<>\"\"),IF(OR(AND(J1165=\"OK\",P1165=\"OK\"),AND(O1165=\"OK\",P1165=\"OK\")),\"Y\",\"N\"),\"\")","v":""}]
[1155,null,null,null,"",null,null,"","","",null,null,"","","",null,""]
[1156,null,null,null,"",null,null,"","","",null,null,"","","",null,""]
[1157,null,null,null,"",null,null,"","","",null,null,"","","",null,""]
[1158,null,null,null,"",null,null,"","","",null,null,"","","",null,""]
[1159,null,null,null,"",null,null,"","","",null,null,"","","",null,""]
[1160,null,null,null,"",null,null,"","","",null,null,"","","",null,""]
[1161,null,null,null,"",null,null,"","","",null,null,"","","",null,""]
[1162,null,null,null,"",null,null,"","","",null,null,"","","",null,""]
[1163,null,null,null,"",null,null,"","","",null,null,"","","",null,""]
[1164,null,null,null,"",null,null,"","","",null,null,"","","",null,""]
[1165,null,null,null,"",null,null,"","","",null,null,"","","",null,""]
[1166,null,null,null,"",null,null,"","","",null,null,"","","",null,""]
[1167,null,null,null,"",null,null,"","","",null,null,"","","",null,""]
[1168,null,null,null,"",null,null,"","","",null,null,"","","",null,""]
[1169,null,null,null,"",null,null,"","","",null,null,"","","",null,""]
[1170,null,null,null,"",null,null,"","","",null,null,"","","",null,""]
[1171,null,null,null,"",null,null,"","","",null,null,"","","",null,""]
[1172,null,null,null,"",null,null,"","","",null,null,"","","",null,""]
[1173,null,null,null,"",null,null,"","","",null,null,"","","",null,""]
[1174,null,null,null,"",null,null,"","","",null,null,"","","",null,""]
[1175,null,null,null,"",null,null,"","","",null,null,"","","",null,""]
[1176,null,null,null,"",null,null,"","","",null,null,"","","",null,""]
[1177,null,null,null,"",null,null,"","","",null,null,"","","",null,""]
[1178,null,null,null,"",null,null,"","","",null,null,"","","",null,""]
[1179,null,null,null,"",null,null,"","","",null,null,"","","",null,""]
[1180,null,null,null,"",null,null,"","","",null,null,"","","",null,""]
[1181,null,null,null,"",null,null,"","","",null,null,"","","",null,""]
[1182,null,null,null,"",null,null,"","","",null,null,"","","",null,""]
[1183,null,null,null,"",null,null,"","","",null,null,"","","",null,""]
[1184,null,null,null,"",null,null,"","","",null,null,"","","",null,""]
[1185,null,null,null,"",null,null,"","","",null,null,"","","",null,""]
[1186,null,null,null,"",null,null,"","","",null,null,"","","",null,""]
[1187,null,null,null,"",null,null,"","","",null,null,"","","",null,""]
[1188,null,null,null,"",null,null,"","","",null,null,"","","",null,""]
[1189,null,null,null,"",null,null,"","","",null,null,"","","",null,""]
[1190,null,null,null,"",null,null,"","","",null,null,"","","",null,""]
[1191,null,null,null,"",null,null,"","","",null,null,"","","",null,""]
[1192,null,null,null,"",null,null,"","","",null,null,"","","",null,""]
[1193,null,null,null,"",null,null,"","","",null,null,"","","",null,""]
[1194,null,null,null,"",null,null,"","","",null,null,"","","",null,""]
[1195,null,null,null,"",null,null,"","","",null,null,"","","",null,""]
[1196,null,null,null,"",null,null,"","","",null,null,"","","",null,""]
[1197,null,null,null,"",null,null,"","","",null,null,"","","",null,""]
[1198,null,null,null,"",null,null,"","","",null,null,"","","",null,""]
[1199,null,null,null,"",null,null,"","","",null,null,"","","",null,""]
[1200,null,null,null,"",null,null,"","","",null,null,"","","",null,""]
[1201,null,null,null,"",null,null,"","","",null,null,"","","",null,""]
[1202,null,null,null,"",null,null,"","","",null,null,"","","",null,""]
[1203,null,null,null,"",null,null,"","","",null,null,"","","",null,""]
[1204,null,null,null,"",null,null,"","","",null,null,"","","",null,""]
[1205,null,null,null,"",null,null,"","","",null,null,"","","",null,""]
[1206,null,null,null,"",null,null,"","","",null,null,"","","",null,""]
[1207,null,null,null,"",null,null,"","","",null,null,"","","",null,""]
[1208,null,null,null,"",null,null,"","","",null,null,"","","",null,""]
[1209,null,null,null,"",null,null,"","","",null,null,"","","",null,""]
[1210,null,null,null,"",null,null,"","","",null,null,"","","",null,""]
[1211,null,null,null,"",null,null,"","","",null,null,"","","",null,""]
[1212,null,null,null,"",null,null,"","","",null,null,"","","",null,""]
[1213,null,null,null,"",null,null,"","","",null,null,"","","",null,""]
[1214,null,null,null,"",null,null,"","","",null,null,"","","",null,""]
[1215,null,null,null,"",null,null,"","","",null,null,"","","",null,""]
[1216,null,null,null,"",null,null,"","","",null,null,"","","",null,""]
[1217,null,null,null,"",null,null,"","","",null,null,"","","",null,""]
[1218,null,null,null,{"$f":"IF(IF(D1229=$M$4,$M$8,IF(D1229=$N$4,$N$8,IF(D1229=$O$4,$O$8,IF(D1229=$P$4,$P$8,IF(D1229=$Q$4,$Q$8,\"\")))))>1,IF(D1229=$M$4,$M$8,IF(D1229=$N$4,$N$8,IF(D1229=$O$4,$O$8,IF(D1229=$P$4,$P$8,IF(D1229=$Q$4,$Q$8,\"\"))))),1)","v":""},null,null,{"$f":"IFERROR(AVERAGE(F1229:G1229),\"\")","v":""},{"$f":"IFERROR(ABS(IF(D1229=$M$4,$M$5,IF(D1229=$N$4,$N$5,IF(D1229=$O$4,$O$5,IF(D1229=$P$4,$P$5,IF(D1229=$Q$4,$Q$5,\"\")))))-H1229),\"\")","v":""},{"$f":"IF(AND($F1229<>\"\",$G1229<>\"\"),IF(I1229>$E1229,\"n.OK\",\"OK\"),\"\")","v":""},null,null,{"$f":"IFERROR(AVERAGE(K1229:L1229),\"\")","v":""},{"$f":"IFERROR(ABS(IF(D1229=$M$4,$M$5,IF(D1229=$N$4,$N$5,IF(D1229=$O$4,$O$5,IF(D1229=$P$4,$P$5,IF(D1229=$Q$4,$Q$5,\"\")))))-M1229),\"\")","v":""},{"$f":"IF(AND($K1229<>\"\",$L1229<>\"\"),IF(N1229>$E1229,\"n.OK\",\"OK\"),\"\")","v":""},null,{"$f":"IF(AND($J1229<>\"\",$P1229<>\"\"),IF(OR(AND(J1229=\"OK\",P1229=\"OK\"),AND(O1229=\"OK\",P1229=\"OK\")),\"Y\",\"N\"),\"\")","v":""}]
[1219,null,null,null,"",null,null,"","","",null,null,"","","",null,""]
[1220,null,null,null,"",null,null,"","","",null,null,"","","",null,""]
[1221,null,null,null,"",null,null,"","","",null,null,"","","",null,""]
[1222,null,null,null,"",null,null,"","","",null,null,"","","",null,""]
[1223,null,null,null,"",null,null,"","","",null,null,"","","",null,""]
[1224,null,null,null,"",null,null,"","","",null,null,"","","",null,""]
[1225,null,null,null,"",null,null,"","","",null,null,"","","",null,""]
[1226,null,null,null,"",null,null,"","","",null,null,"","","",null,""]
[1227,null,null,null,"",null,null,"","","",null,null,"","","",null,""]
[1228,null,null,null,"",null,null,"","","",null,null,"","","",null,""]
[1229,null,null,null,"",null,null,"","","",null,null,"","","",null,""]
[1230,null,null,null,"",null,null,"","","",null,null,"","","",null,""]
[1231,null,null,null,"",null,null,"","","",null,null,"","","",null,""]
[1232,null,null,null,"",null,null,"","","",null,null,"","","",null,""]
[1233,null,null,null,"",null,null,"","","",null,null,"","","",null,""]
[1234,null,null,null,"",null,null,"","","",null,null,"","","",null,""]
[1235,null,null,null,"",null,null,"","","",null,null,"","","",null,""]
[1236,null,null,null,"",null,null,"","","",null,null,"","","",null,""]
[1237,null,null,null,"",null,null,"","","",null,null,"","","",null,""]
[1238,null,null,null,"",null,null,"","","",null,null,"","","",null,""]
[1239,null,null,null,"",null,null,"","","",null,null,"","","",null,""]
[1240,null,null,null,"",null,null,"","","",null,null,"","","",null,""]
[1241,null,null,null,"",null,null,"","","",null,null,"","","",null,""]
[1242,null,null,null,"",null,null,"","","",null,null,"","","",null,""]
[1243,null,null,null,"",null,null,"","","",null,null,"","","",null,""]
[1244,null,null,null,"",null,null,"","","",null,null,"","","",null,""]
[1245,null,null,null,"",null,null,"","","",null,null,"","","",null,""]
[1246,null,null,null,"",null,null,"","","",null,null,"","","",null,""]
[1247,null,null,null,"",null,null,"","","",null,null,"","","",null,""]
[1248,null,null,null,"",null,null,"","","",null,null,"","","",null,""]
[1249,null,null,null,"",null,null,"","","",null,null,"","","",null,""]
[1250,null,null,null,"",null,null,"","","",null,null,"","","",null,""]
[1251,null,null,null,"",null,null,"","","",null,null,"","","",null,""]
[1252,null,null,null,"",null,null,"","","",null,null,"","","",null,""]
[1253,null,null,null,"",null,null,"","","",null,null,"","","",null,""]
[1254,null,null,null,"",null,null,"","","",null,null,"","","",null,""]
[1255,null,null,null,"",null,null,"","","",null,null,"","","",null,""]
[1256,null,null,null,"",null,null,"","","",null,null,"","","",null,""]
[1257,null,null,null,"",null,null,"","","",null,null,"","","",null,""]
[1258,null,null,null,"",null,null,"","","",null,null,"","","",null,""]
[1259,null,null,null,"",null,null,"","","",null,null,"","","",null,""]
[1260,null,null,null,"",null,null,"","","",null,null,"","","",null,""]
[1261,null,null,null,"",null,null,"","","",null,null,"","","",null,""]
[1262,null,null,null,"",null,null,"","","",null,null,"","","",null,""]
[1263,null,null,null,"",null,null,"","","",null,null,"","","",null,""]
[1264,null,null,null,"",null,null,"","","",null,null,"","","",null,""]
[1265,null,null,null,"",null,null,"","","",null,null,"","","",null,""]
[1266,null,null,null,"",null,null,"","","",null,null,"","","",null,""]
[1267,null,null,null,"",null,null,"","","",null,null,"","","",null,""]
[1268,null,null,null,"",null,null,"","","",null,null,"","","",null,""]
[1269,null,null,null,"",null,null,"","","",null,null,"","","",null,""]
[1270,null,null,null,"",null,null,"","","",null,null,"","","",null,""]
[1271,null,null,null,"",null,null,"","","",null,null,"","","",null,""]
[1272,null,null,null,"",null,null,"","","",null,null,"","","",null,""]
[1273,null,null,null,"",null,null,"","","",null,null,"","","",null,""]
[1274,null,null,null,"",null,null,"","","",null,null,"","","",null,""]
[1275,null,null,null,"",null,null,"","","",null,null,"","","",null,""]
[1276,null,null,null,"",null,null,"","","",null,null,"","","",null,""]
[1277,null,null,null,"",null,null,"","","",null,null,"","","",null,""]
[1278,null,null,null,"",null,null,"","","",null,null,"","","",null,""]
[1279,null,null,null,"",null,null,"","","",null,null,"","","",null,""]
[1280,null,null,null,"",null,null,"","","",null,null,"","","",null,""]
[1281,null,null,null,"",null,null,"","","",null,null,"","","",null,""]
[1282,null,null,null,{"$f":"IF(IF(D1293=$M$4,$M$8,IF(D1293=$N$4,$N$8,IF(D1293=$O$4,$O$8,IF(D1293=$P$4,$P$8,IF(D1293=$Q$4,$Q$8,\"\")))))>1,IF(D1293=$M$4,$M$8,IF(D1293=$N$4,$N$8,IF(D1293=$O$4,$O$8,IF(D1293=$P$4,$P$8,IF(D1293=$Q$4,$Q$8,\"\"))))),1)","v":""},null,null,{"$f":"IFERROR(AVERAGE(F1293:G1293),\"\")","v":""},{"$f":"IFERROR(ABS(IF(D1293=$M$4,$M$5,IF(D1293=$N$4,$N$5,IF(D1293=$O$4,$O$5,IF(D1293=$P$4,$P$5,IF(D1293=$Q$4,$Q$5,\"\")))))-H1293),\"\")","v":""},{"$f":"IF(AND($F1293<>\"\",$G1293<>\"\"),IF(I1293>$E1293,\"n.OK\",\"OK\"),\"\")","v":""},null,null,{"$f":"IFERROR(AVERAGE(K1293:L1293),\"\")","v":""},{"$f":"IFERROR(ABS(IF(D1293=$M$4,$M$5,IF(D1293=$N$4,$N$5,IF(D1293=$O$4,$O$5,IF(D1293=$P$4,$P$5,IF(D1293=$Q$4,$Q$5,\"\")))))-M1293),\"\")","v":""},{"$f":"IF(AND($K1293<>\"\",$L1293<>\"\"),IF(N1293>$E1293,\"n.OK\",\"OK\"),\"\")","v":""},null,{"$f":"IF(AND($J1293<>\"\",$P1293<>\"\"),IF(OR(AND(J1293=\"OK\",P1293=\"OK\"),AND(O1293=\"OK\",P1293=\"OK\")),\"Y\",\"N\"),\"\")","v":""}]
[1283,null,null,null,"",null,null,"","","",null,null,"","","",null,""]
[1284,null,null,null,"",null,null,"","","",null,null,"","","",null,""]
[1285,null,null,null,"",null,null,"","","",null,null,"","","",null,""]
[1286,null,null,null,"",null,null,"","","",null,null,"","","",null,""]
[1287,null,null,null,"",null,null,"","","",null,null,"","","",null,""]
[1288,null,null,null,"",null,null,"","","",null,null,"","","",null,""]
[1289,null,null,null,"",null,null,"","","",null,null,"","","",null,""]
[1290,null,null,null,"",null,null,"","","",null,null,"","","",null,""]
[1291,null,null,null,"",null,null,"","","",null,null,"","","",null,""]
[1292,null,null,null,"",null,null,"","","",null,null,"","","",null,""]
[1293,null,null,null,"",null,null,"","","",null,null,"","","",null,""]
[1294,null,null,null,"",null,null,"","","",null,null,"","","",null,""]
[1295,null,null,null,"",null,null,"","","",null,null,"","","",null,""]
[1296,null,null,null,"",null,null,"","","",null,null,"","","",null,""]
[1297,null,null,null,"",null,null,"","","",null,null,"","","",null,""]
[1298,null,null,null,"",null,null,"","","",null,null,"","","",null,""]
[1299,null,null,null,"",null,null,"","","",null,null,"","","",null,""]
[1300,null,null,null,"",null,null,"","","",null,null,"","","",null,""]
[1301,null,null,null,"",null,null,"","","",null,null,"","","",null,""]
[1302,null,null,null,"",null,null,"","","",null,null,"","","",null,""]
[1303,null,null,null,"",null,null,"","","",null,null,"","","",null,""]
[1304,null,null,null,"",null,null,"","","",null,null,"","","",null,""]
[1305,null,null,null,"",null,null,"","","",null,null,"","","",null,""]
[1306,null,null,null,"",null,null,"","","",null,null,"","","",null,""]
[1307,null,null,null,"",null,null,"","","",null,null,"","","",null,""]
[1308,null,null,null,"",null,null,"","","",null,null,"","","",null,""]
[1309,null,null,null,"",null,null,"","","",null,null,"","","",null,""]
[1310,null,null,null,"",null,null,"","","",null,null,"","","",null,""]
[1311,null,null,null,"",null,null,"","","",null,null,"","","",null,""]
[1312,null,null,null,"",null,null,"","","",null,null,"","","",null,""]
[1313,null,null,null,"",null,null,"","","",null,null,"","","",null,""]
[1314,null,null,null,"",null,null,"","","",null,null,"","","",null,""]
[1315,null,null,null,"",null,null,"","","",null,null,"","","",null,""]
[1316,null,null,null,"",null,null,"","","",null,null,"","","",null,""]
[1317,null,null,null,"",null,null,"","","",null,null,"","","",null,""]
[1318,null,null,null,"",null,null,"","","",null,null,"","","",null,""]
[1319,null,null,null,"",null,null,"","","",null,null,"","","",null,""]
[1320,null,null,null,"",null,null,"","","",null,null,"","","",null,""]
[1321,null,null,null,"",null,null,"","","",null,null,"","","",null,""]
[1322,null,null,null,"",null,null,"","","",null,null,"","","",null,""]
[1323,null,null,null,"",null,null,"","","",null,null,"","","",null,""]
[1324,null,null,null,"",null,null,"","","",null,null,"","","",null,""]
[1325,null,null,null,"",null,null,"","","",null,null,"","","",null,""]
[1326,null,null,null,"",null,null,"","","",null,null,"","","",null,""]
[1327,null,null,null,"",null,null,"","","",null,null,"","","",null,""]
[1328,null,null,null,"",null,null,"","","",null,null,"","","",null,""]
[1329,null,null,null,"",null,null,"","","",null,null,"","","",null,""]
[1330,null,null,null,"",null,null,"","","",null,null,"","","",null,""]
[1331,null,null,null,"",null,null,"","","",null,null,"","","",null,""]
[1332,null,null,null,"",null,null,"","","",null,null,"","","",null,""]
[1333,null,null,null,"",null,null,"","","",null,null,"","","",null,""]
[1334,null,null,null,"",null,null,"","","",null,null,"","","",null,""]
[1335,null,null,null,"",null,null,"","","",null,null,"","","",null,""]
[1336,null,null,null,"",null,null,"","","",null,null,"","","",null,""]
[1337,null,null,null,"",null,null,"","","",null,null,"","","",null,""]
[1338,null,null,null,"",null,null,"","","",null,null,"","","",null,""]
[1339,null,null,null,"",null,null,"","","",null,null,"","","",null,""]
[1340,null,null,null,"",null,null,"","","",null,null,"","","",null,""]
[1341,null,null,null,"",null,null,"","","",null,null,"","","",null,""]
[1342,null,null,null,"",null,null,"","","",null,null,"","","",null,""]
[1343,null,null,null,"",null,null,"","","",null,null,"","","",null,""]
[1344,null,null,null,"",null,null,"","","",null,null,"","","",null,""]
[1345,null,null,null,"",null,null,"","","",null,null,"","","",null,""]
[1346,null,null,null,{"$f":"IF(IF(D1357=$M$4,$M$8,IF(D1357=$N$4,$N$8,IF(D1357=$O$4,$O$8,IF(D1357=$P$4,$P$8,IF(D1357=$Q$4,$Q$8,\"\")))))>1,IF(D1357=$M$4,$M$8,IF(D1357=$N$4,$N$8,IF(D1357=$O$4,$O$8,IF(D1357=$P$4,$P$8,IF(D1357=$Q$4,$Q$8,\"\"))))),1)","v":""},null,null,{"$f":"IFERROR(AVERAGE(F1357:G1357),\"\")","v":""},{"$f":"IFERROR(ABS(IF(D1357=$M$4,$M$5,IF(D1357=$N$4,$N$5,IF(D1357=$O$4,$O$5,IF(D1357=$P$4,$P$5,IF(D1357=$Q$4,$Q$5,\"\")))))-H1357),\"\")","v":""},{"$f":"IF(AND($F1357<>\"\",$G1357<>\"\"),IF(I1357>$E1357,\"n.OK\",\"OK\"),\"\")","v":""},null,null,{"$f":"IFERROR(AVERAGE(K1357:L1357),\"\")","v":""},{"$f":"IFERROR(ABS(IF(D1357=$M$4,$M$5,IF(D1357=$N$4,$N$5,IF(D1357=$O$4,$O$5,IF(D1357=$P$4,$P$5,IF(D1357=$Q$4,$Q$5,\"\")))))-M1357),\"\")","v":""},{"$f":"IF(AND($K1357<>\"\",$L1357<>\"\"),IF(N1357>$E1357,\"n.OK\",\"OK\"),\"\")","v":""},null,{"$f":"IF(AND($J1357<>\"\",$P1357<>\"\"),IF(OR(AND(J1357=\"OK\",P1357=\"OK\"),AND(O1357=\"OK\",P1357=\"OK\")),\"Y\",\"N\"),\"\")","v":""}]
[1347,null,null,null,"",null,null,"","","",null,null,"","","",null,""]
[1348,null,null,null,"",null,null,"","","",null,null,"","","",null,""]
[1349,null,null,null,"",null,null,"","","",null,null,"","","",null,""]
[1350,null,null,null,"",null,null,"","","",null,null,"","","",null,""]
[1351,null,null,null,"",null,null,"","","",null,null,"","","",null,""]
[1352,null,null,null,"",null,null,"","","",null,null,"","","",null,""]
[1353,null,null,null,"",null,null,"","","",null,null,"","","",null,""]
[1354,null,null,null,"",null,null,"","","",null,null,"","","",null,""]
[1355,null,null,null,"",null,null,"","","",null,null,"","","",null,""]
[1356,null,null,null,"",null,null,"","","",null,null,"","","",null,""]
[1357,null,null,null,"",null,null,"","","",null,null,"","","",null,""]
[1358,null,null,null,"",null,null,"","","",null,null,"","","",null,""]
[1359,null,null,null,"",null,null,"","","",null,null,"","","",null,""]
[1360,null,null,null,"",null,null,"","","",null,null,"","","",null,""]
[1361,null,null,null,"",null,null,"","","",null,null,"","","",null,""]
[1362,null,null,null,"",null,null,"","","",null,null,"","","",null,""]
[1363,null,null,null,"",null,null,"","","",null,null,"","","",null,""]
[1364,null,null,null,"",null,null,"","","",null,null,"","","",null,""]
[1365,null,null,null,"",null,null,"","","",null,null,"","","",null,""]
[1366,null,null,null,"",null,null,"","","",null,null,"","","",null,""]
[1367,null,null,null,"",null,null,"","","",null,null,"","","",null,""]
[1368,null,null,null,"",null,null,"","","",null,null,"","","",null,""]
[1369,null,null,null,"",null,null,"","","",null,null,"","","",null,""]
[1370,null,null,null,"",null,null,"","","",null,null,"","","",null,""]
[1371,null,null,null,"",null,null,"","","",null,null,"","","",null,""]
[1372,null,null,null,"",null,null,"","","",null,null,"","","",null,""]
[1373,null,null,null,"",null,null,"","","",null,null,"","","",null,""]
[1374,null,null,null,"",null,null,"","","",null,null,"","","",null,""]
[1375,null,null,null,"",null,null,"","","",null,null,"","","",null,""]
[1376,null,null,null,"",null,null,"","","",null,null,"","","",null,""]
[1377,null,null,null,"",null,null,"","","",null,null,"","","",null,""]
[1378,null,null,null,"",null,null,"","","",null,null,"","","",null,""]
[1379,null,null,null,"",null,null,"","","",null,null,"","","",null,""]
[1380,null,null,null,"",null,null,"","","",null,null,"","","",null,""]
[1381,null,null,null,"",null,null,"","","",null,null,"","","",null,""]
[1382,null,null,null,"",null,null,"","","",null,null,"","","",null,""]
[1383,null,null,null,"",null,null,"","","",null,null,"","","",null,""]
[1384,null,null,null,"",null,null,"","","",null,null,"","","",null,""]
[1385,null,null,null,"",null,null,"","","",null,null,"","","",null,""]
[1386,null,null,null,"",null,null,"","","",null,null,"","","",null,""]
[1387,null,null,null,"",null,null,"","","",null,null,"","","",null,""]
[1388,null,null,null,"",null,null,"","","",null,null,"","","",null,""]
[1389,null,null,null,"",null,null,"","","",null,null,"","","",null,""]
[1390,null,null,null,"",null,null,"","","",null,null,"","","",null,""]
[1391,null,null,null,"",null,null,"","","",null,null,"","","",null,""]
[1392,null,null,null,"",null,null,"","","",null,null,"","","",null,""]
[1393,null,null,null,"",null,null,"","","",null,null,"","","",null,""]
[1394,null,null,null,"",null,null,"","","",null,null,"","","",null,""]
[1395,null,null,null,"",null,null,"","","",null,null,"","","",null,""]
[1396,null,null,null,"",null,null,"","","",null,null,"","","",null,""]
[1397,null,null,null,"",null,null,"","","",null,null,"","","",null,""]
[1398,null,null,null,"",null,null,"","","",null,null,"","","",null,""]
[1399,null,null,null,"",null,null,"","","",null,null,"","","",null,""]
[1400,null,null,null,"",null,null,"","","",null,null,"","","",null,""]
[1401,null,null,null,"",null,null,"","","",null,null,"","","",null,""]
[1402,null,null,null,"",null,null,"","","",null,null,"","","",null,""]
[1403,null,null,null,"",null,null,"","","",null,null,"","","",null,""]
[1404,null,null,null,"",null,null,"","","",null,null,"","","",null,""]
[1405,null,null,null,"",null,null,"","","",null,null,"","","",null,""]
[1406,null,null,null,"",null,null,"","","",null,null,"","","",null,""]
[1407,null,null,null,"",null,null,"","","",null,null,"","","",null,""]
[1408,null,null,null,"",null,null,"","","",null,null,"","","",null,""]
[1409,null,null,null,"",null,null,"","","",null,null,"","","",null,""]
[1410,null,null,null,{"$f":"IF(IF(D1421=$M$4,$M$8,IF(D1421=$N$4,$N$8,IF(D1421=$O$4,$O$8,IF(D1421=$P$4,$P$8,IF(D1421=$Q$4,$Q$8,\"\")))))>1,IF(D1421=$M$4,$M$8,IF(D1421=$N$4,$N$8,IF(D1421=$O$4,$O$8,IF(D1421=$P$4,$P$8,IF(D1421=$Q$4,$Q$8,\"\"))))),1)","v":""},null,null,{"$f":"IFERROR(AVERAGE(F1421:G1421),\"\")","v":""},{"$f":"IFERROR(ABS(IF(D1421=$M$4,$M$5,IF(D1421=$N$4,$N$5,IF(D1421=$O$4,$O$5,IF(D1421=$P$4,$P$5,IF(D1421=$Q$4,$Q$5,\"\")))))-H1421),\"\")","v":""},{"$f":"IF(AND($F1421<>\"\",$G1421<>\"\"),IF(I1421>$E1421,\"n.OK\",\"OK\"),\"\")","v":""},null,null,{"$f":"IFERROR(AVERAGE(K1421:L1421),\"\")","v":""},{"$f":"IFERROR(ABS(IF(D1421=$M$4,$M$5,IF(D1421=$N$4,$N$5,IF(D1421=$O$4,$O$5,IF(D1421=$P$4,$P$5,IF(D1421=$Q$4,$Q$5,\"\")))))-M1421),\"\")","v":""},{"$f":"IF(AND($K1421<>\"\",$L1421<>\"\"),IF(N1421>$E1421,\"n.OK\",\"OK\"),\"\")","v":""},null,{"$f":"IF(AND($J1421<>\"\",$P1421<>\"\"),IF(OR(AND(J1421=\"OK\",P1421=\"OK\"),AND(O1421=\"OK\",P1421=\"OK\")),\"Y\",\"N\"),\"\")","v":""}]
[1411,null,null,null,"",null,null,"","","",null,null,"","","",null,""]
[1412,null,null,null,"",null,null,"","","",null,null,"","","",null,""]
[1413,null,null,null,"",null,null,"","","",null,null,"","","",null,""]
[1414,null,null,null,"",null,null,"","","",null,null,"","","",null,""]
[1415,null,null,null,"",null,null,"","","",null,null,"","","",null,""]
[1416,null,null,null,"",null,null,"","","",null,null,"","","",null,""]
[1417,null,null,null,"",null,null,"","","",null,null,"","","",null,""]
[1418,null,null,null,"",null,null,"","","",null,null,"","","",null,""]
[1419,null,null,null,"",null,null,"","","",null,null,"","","",null,""]
[1420,null,null,null,"",null,null,"","","",null,null,"","","",null,""]
[1421,null,null,null,"",null,null,"","","",null,null,"","","",null,""]
[1422,null,null,null,"",null,null,"","","",null,null,"","","",null,""]
[1423,null,null,null,"",null,null,"","","",null,null,"","","",null,""]
[1424,null,null,null,"",null,null,"","","",null,null,"","","",null,""]
[1425,null,null,null,"",null,null,"","","",null,null,"","","",null,""]
[1426,null,null,null,"",null,null,"","","",null,null,"","","",null,""]
[1427,null,null,null,"",null,null,"","","",null,null,"","","",null,""]
[1428,null,null,null,"",null,null,"","","",null,null,"","","",null,""]
[1429,null,null,null,"",null,null,"","","",null,null,"","","",null,""]
[1430,null,null,null,"",null,null,"","","",null,null,"","","",null,""]
[1431,null,null,null,"",null,null,"","","",null,null,"","","",null,""]
[1432,null,null,null,"",null,null,"","","",null,null,"","","",null,""]
[1433,null,null,null,"",null,null,"","","",null,null,"","","",null,""]
[1434,null,null,null,"",null,null,"","","",null,null,"","","",null,""]
[1435,null,null,null,"",null,null,"","","",null,null,"","","",null,""]
[1436,null,null,null,"",null,null,"","","",null,null,"","","",null,""]
[1437,null,null,null,"",null,null,"","","",null,null,"","","",null,""]
[1438,null,null,null,"",null,null,"","","",null,null,"","","",null,""]
[1439,null,null,null,"",null,null,"","","",null,null,"","","",null,""]
[1440,null,null,null,"",null,null,"","","",null,null,"","","",null,""]
[1441,null,null,null,"",null,null,"","","",null,null,"","","",null,""]
[1442,null,null,null,"",null,null,"","","",null,null,"","","",null,""]
[1443,null,null,null,"",null,null,"","","",null,null,"","","",null,""]
[1444,null,null,null,"",null,null,"","","",null,null,"","","",null,""]
[1445,null,null,null,"",null,null,"","","",null,null,"","","",null,""]
[1446,null,null,null,"",null,null,"","","",null,null,"","","",null,""]
[1447,null,null,null,"",null,null,"","","",null,null,"","","",null,""]
[1448,null,null,null,"",null,null,"","","",null,null,"","","",null,""]
[1449,null,null,null,"",null,null,"","","",null,null,"","","",null,""]
[1450,null,null,null,"",null,null,"","","",null,null,"","","",null,""]
[1451,null,null,null,"",null,null,"","","",null,null,"","","",null,""]
[1452,null,null,null,"",null,null,"","","",null,null,"","","",null,""]
[1453,null,null,null,"",null,null,"","","",null,null,"","","",null,""]
[1454,null,null,null,"",null,null,"","","",null,null,"","","",null,""]
[1455,null,null,null,"",null,null,"","","",null,null,"","","",null,""]
[1456,null,null,null,"",null,null,"","","",null,null,"","","",null,""]
[1457,null,null,null,"",null,null,"","","",null,null,"","","",null,""]
[1458,null,null,null,"",null,null,"","","",null,null,"","","",null,""]
[1459,null,null,null,"",null,null,"","","",null,null,"","","",null,""]
[1460,null,null,null,"",null,null,"","","",null,null,"","","",null,""]
[1461,null,null,null,"",null,null,"","","",null,null,"","","",null,""]
[1462,null,null,null,"",null,null,"","","",null,null,"","","",null,""]
[1463,null,null,null,"",null,null,"","","",null,null,"","","",null,""]
[1464,null,null,null,"",null,null,"","","",null,null,"","","",null,""]
[1465,null,null,null,"",null,null,"","","",null,null,"","","",null,""]
[1466,null,null,null,"",null,null,"","","",null,null,"","","",null,""]
[1467,null,null,null,"",null,null,"","","",null,null,"","","",null,""]
[1468,null,null,null,"",null,null,"","","",null,null,"","","",null,""]
[1469,null,null,null,"",null,null,"","","",null,null,"","","",null,""]
[1470,null,null,null,"",null,null,"","","",null,null,"","","",null,""]
[1471,null,null,null,"",null,null,"","","",null,null,"","","",null,""]
[1472,null,null,null,"",null,null,"","","",null,null,"","","",null,""]
[1473,null,null,null,"",null,null,"","","",null,null,"","","",null,""]
[1474,null,null,null,{"$f":"IF(IF(D1485=$M$4,$M$8,IF(D1485=$N$4,$N$8,IF(D1485=$O$4,$O$8,IF(D1485=$P$4,$P$8,IF(D1485=$Q$4,$Q$8,\"\")))))>1,IF(D1485=$M$4,$M$8,IF(D1485=$N$4,$N$8,IF(D1485=$O$4,$O$8,IF(D1485=$P$4,$P$8,IF(D1485=$Q$4,$Q$8,\"\"))))),1)","v":""},null,null,{"$f":"IFERROR(AVERAGE(F1485:G1485),\"\")","v":""},{"$f":"IFERROR(ABS(IF(D1485=$M$4,$M$5,IF(D1485=$N$4,$N$5,IF(D1485=$O$4,$O$5,IF(D1485=$P$4,$P$5,IF(D1485=$Q$4,$Q$5,\"\")))))-H1485),\"\")","v":""},{"$f":"IF(AND($F1485<>\"\",$G1485<>\"\"),IF(I1485>$E1485,\"n.OK\",\"OK\"),\"\")","v":""},null,null,{"$f":"IFERROR(AVERAGE(K1485:L1485),\"\")","v":""},{"$f":"IFERROR(ABS(IF(D1485=$M$4,$M$5,IF(D1485=$N$4,$N$5,IF(D1485=$O$4,$O$5,IF(D1485=$P$4,$P$5,IF(D1485=$Q$4,$Q$5,\"\")))))-M1485),\"\")","v":""},{"$f":"IF(AND($K1485<>\"\",$L1485<>\"\"),IF(N1485>$E1485,\"n.OK\",\"OK\"),\"\")","v":""},null,{"$f":"IF(AND($J1485<>\"\",$P1485<>\"\"),IF(OR(AND(J1485=\"OK\",P1485=\"OK\"),AND(O1485=\"OK\",P1485=\"OK\")),\"Y\",\"N\"),\"\")","v":""}]
[1475,null,null,null,"",null,null,"","","",null,null,"","","",null,""]
[1476,null,null,null,"",null,null,"","","",null,null,"","","",null,""]
[1477,null,null,null,"",null,null,"","","",null,null,"","","",null,""]
[1478,null,null,null,"",null,null,"","","",null,null,"","","",null,""]
[1479,null,null,null,"",null,null,"","","",null,null,"","","",null,""]
[1480,null,null,null,"",null,null,"","","",null,null,"","","",null,""]
[1481,null,null,null,"",null,null,"","","",null,null,"","","",null,""]
[1482,null,null,null,"",null,null,"","","",null,null,"","","",null,""]
[1483,null,null,null,"",null,null,"","","",null,null,"","","",null,""]
[1484,null,null,null,"",null,null,"","","",null,null,"","","",null,""]
[1485,null,null,null,"",null,null,"","","",null,null,"","","",null,""]
[1486,null,null,null,"",null,null,"","","",null,null,"","","",null,""]
[1487,null,null,null,"",null,null,"","","",null,null,"","","",null,""]
[1488,null,null,null,"",null,null,"","","",null,null,"","","",null,""]
[1489,null,null,null,"",null,null,"","","",null,null,"","","",null,""]
[1490,null,null,null,"",null,null,"","","",null,null,"","","",null,""]
[1491,null,null,null,"",null,null,"","","",null,null,"","","",null,""]
[1492,null,null,null,"",null,null,"","","",null,null,"","","",null,""]
[1493,null,null,null,"",null,null,"","","",null,null,"","","",null,""]
[1494,null,null,null,"",null,null,"","","",null,null,"","","",null,""]
[1495,null,null,null,"",null,null,"","","",null,null,"","","",null,""]
[1496,null,null,null,"",null,null,"","","",null,null,"","","",null,""]
[1497,null,null,null,"",null,null,"","","",null,null,"","","",null,""]
[1498,null,null,null,"",null,null,"","","",null,null,"","","",null,""]
[1499,null,null,null,"",null,null,"","","",null,null,"","","",null,""]
[1500,null,null,null,"",null,null,"","","",null,null,"","","",null,""]
[1501,null,null,null,"",null,null,"","","",null,null,"","","",null,""]

{"sheet":"Periodic check","index":3,"n_rows":1511,"n_cols":23,"rows_kept":1511,"cut":false,"hidden":false,"merged":[[0,0,0,15],[8,1,8,3],[3,0,3,3],[1,0,1,15],[2,0,2,3],[7,0,7,3],[7,5,7,6],[4,0,4,3],[5,0,5,3],[5,5,5,6],[6,0,6,3],[6,5,6,6]]}
["Periodische Prüfung / Periodic Check"]
[]
["Härtevergleichsplatte / Hardness reference block: ",null,null,null,{"$f":"IF(Setup!H17<>\"\",Setup!H17,\"\")","v":""}]
["Kalibrierte Härte / Calibrated hardness value:",null,null,null,{"$f":"IF(Setup!H21<>\"\",Setup!H21,\"\")","v":null}]
["brel, allowed [%]:",null,null,null,{"$f":"Setup!$H$24","v":null}]
[]
[]
[]
[null,"Anzahl der Messungen auf Diagramm:",null,null,null,50,"Mögliche Anzahl:",{"$f":"IF(ISNUMBER($F$9), IF(AND(COUNTA($F$11:$F$1511)>$F$9,$F$9>1),$F$9,COUNTA($F$11:$F$1511)-0),COUNTA($F$11:$F$1511)-0)","v":null},null,null,null,null,null,null,null,null,"für periodische Prüfung ist jede Messwert zu prüfen. Wenn wenigstens einer die zulässige Abweichung brel überschreitet, ist die ganze reihe sofort ungültig",null,null,null,null,"zulässige Abweichung in Prozent (relativ).\n\nNur für Diagramm sind Werte in die Spalte kopiert"]
["Nummer / No","Prüfer /\nOperator","Datum /\nDate","Bemerkungen,\nMaterialien /\nRemarks,\nmaterials","Spaltenname kann über den Button <Entsperren> editiert werden /\nName of column can be edited with the <Unlock> button","Härtever-\ngleichsplatte\nMessung /\nHardness reference block\nTest\n1","Härtever-\ngleichsplatte\nMessung /\nHardness reference block\nTest\n2","Härtever-\ngleichsplatte\nMessung /\nHardness reference block\nTest\n3","Härtever-\ngleichsplatte\nMessung /\nHardness reference block\nTest\n4","Härtever-\ngleichsplatte\nMessung /\nHardness reference block\nTest\n5","brel[%]\nMessung /\nTest\n1","brel[%]\nMessung /\nTest\n2","brel[%]\nMessung /\nTest\n3","brel[%]\nMessung /\nTest\n4","brel[%]\nMessung /\nTest\n5","Periodische Prüfung /\nPeriodic check","brel Überschreitung Messung 1","brel Überschreitung Messung 2","brel Überschreitung Messung 3","brel Überschreitung Messung 4","brel Überschreitung Messung 5"," +brel,zulässig\n[%]"," -brel,zulässig\n[%]"]
[0,"Calibration",{"$f":"RIGHT(Setup!$H$19,10)","v":""},null,null,{"$f":"Setup!H28","v":null},{"$f":"Setup!I28","v":null},{"$f":"Setup!J28","v":null},{"$f":"Setup!K28","v":null},{"$f":"Setup!L28","v":null},{"$f":"IF(F11>0,100*((F11-$E$4)/$E$4),\"\")","v":null},{"$f":"IF(G11>0,100*((G11-$E$4)/$E$4),\"\")","v":null},{"$f":"IF(H11>0,100*((H11-$E$4)/$E$4),\"\")","v":null},{"$f":"IF(I11>0,100*((I11-$E$4)/$E$4),\"\")","v":null},{"$f":"IF(J11>0,100*((J11-$E$4)/$E$4),\"\")","v":null},null,{"$f":"IF(F11<>\"\",IF(ABS(K11)>$E$5,\"n.i.O.\",\"i.O.\"),\"\")","v":""},{"$f":"IF(G11<>\"\",IF(ABS(L11)>$E$5,\"n.i.O.\",\"i.O.\"),\"\")","v":""},{"$f":"IF(H11<>\"\",IF(ABS(M11)>$E$5,\"n.i.O.\",\"i.O.\"),\"\")","v":""},{"$f":"IF(I11<>\"\",IF(ABS(N11)>$E$5,\"n.i.O.\",\"i.O.\"),\"\")","v":""},{"$f":"IF(J11<>\"\",IF(ABS(O11)>$E$5,\"n.i.O.\",\"i.O.\"),\"\")","v":""},{"$f":"IF(F11<>\"\",$E$5,\"\")","v":null},{"$f":"IF(F11<>\"\",$E$5*(-1),\"\")","v":null}]
[1,null,null,null,null,null,null,null,null,null,"","","","","",{"$f":"IF(F12>0,IF(AND(F12>0,G12>0),IF(OR(Q12=\"n.i.O.\",S12=\"n.i.O.\",T12=\"n.i.O.\",U12=\"n.i.O.\",V12=\"n.i.O.\"),\"<GA>\",\"OK\"),\"<Test 2>\"),\"\")","v":""},"","","","","","",""]
[2,null,null,null,null,null,null,null,null,null,"","","","","","","","","","","","",""]
[3,null,null,null,null,null,null,null,null,null,"","","","","","","","","","","","",""]
[4,null,null,null,null,null,null,null,null,null,"","","","","","","","","","","","",""]
[5,null,null,null,null,null,null,null,null,null,"","","","","","","","","","","","",""]
[6,null,null,null,null,null,null,null,null,null,"","","","","","","","","","","","",""]
[7,null,null,null,null,null,null,null,null,null,"","","","","","","","","","","","",""]
[8,null,null,null,null,null,null,null,null,null,"","","","","","","","","","","","",""]
[9,null,null,null,null,null,null,null,null,null,"","","","","","","","","","","","",""]
[10,null,null,null,null,null,null,null,null,null,"","","","","","","","","","","","",""]
[11,null,null,null,null,null,null,null,null,null,"","","","","","","","","","","","",""]
[12,null,null,null,null,null,null,null,null,null,"","","","","","","","","","","","",""]
[13,null,null,null,null,null,null,null,null,null,"","","","","","","","","","","","",""]
[14,null,null,null,null,null,null,null,null,null,"","","","","","","","","","","","",""]
[15,null,null,null,null,null,null,null,null,null,"","","","","","","","","","","","",""]
[16,null,null,null,null,null,null,null,null,null,"","","","","","","","","","","","",""]
[17,null,null,null,null,null,null,null,null,null,"","","","","","","","","","","","",""]
[18,null,null,null,null,null,null,null,null,null,"","","","","","","","","","","","",""]
[19,null,null,null,null,null,null,null,null,null,"","","","","","","","","","","","",""]
[20,null,null,null,null,null,null,null,null,null,"","","","","","","","","","","","",""]
[21,null,null,null,null,null,null,null,null,null,"","","","","","","","","","","","",""]
[22,null,null,null,null,null,null,null,null,null,"","","","","","","","","","","","",""]
[23,null,null,null,null,null,null,null,null,null,"","","","","","","","","","","","",""]
[24,null,null,null,null,null,null,null,null,null,"","","","","","","","","","","","",""]
[25,null,null,null,null,null,null,null,null,null,"","","","","","","","","","","","",""]
[26,null,null,null,null,null,null,null,null,null,"","","","","","","","","","","","",""]
[27,null,null,null,null,null,null,null,null,null,"","","","","","","","","","","","",""]
[28,null,null,null,null,null,null,null,null,null,"","","","","","","","","","","","",""]
[29,null,null,null,null,null,null,null,null,null,"","","","","","","","","","","","",""]
[30,null,null,null,null,null,null,null,null,null,"","","","","","","","","","","","",""]
[31,null,null,null,null,null,null,null,null,null,"","","","","","","","","","","","",""]
[32,null,null,null,null,null,null,null,null,null,"","","","","","","","","","","","",""]
[33,null,null,null,null,null,null,null,null,null,"","","","","","","","","","","","",""]
[34,null,null,null,null,null,null,null,null,null,"","","","","","","","","","","","",""]
[35,null,null,null,null,null,null,null,null,null,"","","","","","","","","","","","",""]
[36,null,null,null,null,null,null,null,null,null,"","","","","","","","","","","","",""]
[37,null,null,null,null,null,null,null,null,null,"","","","","","","","","","","","",""]
[38,null,null,null,null,null,null,null,null,null,"","","","","","","","","","","","",""]
[39,null,null,null,null,null,null,null,null,null,"","","","","","","","","","","","",""]
[40,null,null,null,null,null,null,null,null,null,"","","","","","","","","","","","",""]
[41,null,null,null,null,null,null,null,null,null,"","","","","","","","","","","","",""]
[42,null,null,null,null,null,null,null,null,null,"","","","","","","","","","","","",""]
[43,null,null,null,null,null,null,null,null,null,"","","","","","","","","","","","",""]
[44,null,null,null,null,null,null,null,null,null,"","","","","","","","","","","","",""]
[45,null,null,null,null,null,null,null,null,null,"","","","","","","","","","","","",""]
[46,null,null,null,null,null,null,null,null,null,"","","","","","","","","","","","",""]
[47,null,null,null,null,null,null,null,null,null,"","","","","","","","","","","","",""]
[48,null,null,null,null,null,null,null,null,null,"","","","","","","","","","","","",""]
[49,null,null,null,null,null,null,null,null,null,"","","","","","","","","","","","",""]
[50,null,null,null,null,null,null,null,null,null,"","","","","","","","","","","","",""]
[51,null,null,null,null,null,null,null,null,null,"","","","","","","","","","","","",""]
[52,null,null,null,null,null,null,null,null,null,"","","","","","","","","","","","",""]
[53,null,null,null,null,null,null,null,null,null,"","","","","","","","","","","","",""]
[54,null,null,null,null,null,null,null,null,null,"","","","","","","","","","","","",""]
[55,null,null,null,null,null,null,null,null,null,"","","","","","","","","","","","",""]
[56,null,null,null,null,null,null,null,null,null,"","","","","","","","","","","","",""]
[57,null,null,null,null,null,null,null,null,null,"","","","","","","","","","","","",""]
[58,null,null,null,null,null,null,null,null,null,"","","","","","","","","","","","",""]
[59,null,null,null,null,null,null,null,null,null,"","","","","","","","","","","","",""]
[60,null,null,null,null,null,null,null,null,null,"","","","","","","","","","","","",""]
[61,null,null,null,null,null,null,null,null,null,"","","","","","","","","","","","",""]
[62,null,null,null,null,null,null,null,null,null,"","","","","","","","","","","","",""]
[63,null,null,null,null,null,null,null,null,null,"","","","","","","","","","","","",""]
[64,null,null,null,null,null,null,null,null,null,{"$f":"IF(F75>0,100*((F75-$E$4)/$E$4),\"\")","v":""},{"$f":"IF(G75>0,100*((G75-$E$4)/$E$4),\"\")","v":""},{"$f":"IF(H75>0,100*((H75-$E$4)/$E$4),\"\")","v":""},{"$f":"IF(I75>0,100*((I75-$E$4)/$E$4),\"\")","v":""},{"$f":"IF(J75>0,100*((J75-$E$4)/$E$4),\"\")","v":""},"",{"$f":"IF(F75<>\"\",IF(ABS(K75)>$E$5,\"n.i.O.\",\"i.O.\"),\"\")","v":""},{"$f":"IF(G75<>\"\",IF(ABS(L75)>$E$5,\"n.i.O.\",\"i.O.\"),\"\")","v":""},{"$f":"IF(H75<>\"\",IF(ABS(M75)>$E$5,\"n.i.O.\",\"i.O.\"),\"\")","v":""},{"$f":"IF(I75<>\"\",IF(ABS(N75)>$E$5,\"n.i.O.\",\"i.O.\"),\"\")","v":""},{"$f":"IF(J75<>\"\",IF(ABS(O75)>$E$5,\"n.i.O.\",\"i.O.\"),\"\")","v":""},{"$f":"IF(F75<>\"\",$E$5,\"\")","v":""},{"$f":"IF(F75<>\"\",$E$5*(-1),\"\")","v":""}]
[65,null,null,null,null,null,null,null,null,null,"","","","","",{"$f":"IF(F76>0,IF(AND(F76>0,G76>0),IF(OR(Q76=\"n.i.O.\",S76=\"n.i.O.\",T76=\"n.i.O.\",U76=\"n.i.O.\",V76=\"n.i.O.\"),\"<GA>\",\"OK\"),\"<Test 2>\"),\"\")","v":""},"","","","","","",""]
[66,null,null,null,null,null,null,null,null,null,"","","","","","","","","","","","",""]
[67,null,null,null,null,null,null,null,null,null,"","","","","","","","","","","","",""]
[68,null,null,null,null,null,null,null,null,null,"","","","","","","","","","","","",""]
[69,null,null,null,null,null,null,null,null,null,"","","","","","","","","","","","",""]
[70,null,null,null,null,null,null,null,null,null,"","","","","","","","","","","","",""]
[71,null,null,null,null,null,null,null,null,null,"","","","","","","","","","","","",""]
[72,null,null,null,null,null,null,null,null,null,"","","","","","","","","","","","",""]
[73,null,null,null,null,null,null,null,null,null,"","","","","","","","","","","","",""]
[74,null,null,null,null,null,null,null,null,null,"","","","","","","","","","","","",""]
[75,null,null,null,null,null,null,null,null,null,"","","","","","","","","","","","",""]
[76,null,null,null,null,null,null,null,null,null,"","","","","","","","","","","","",""]
[77,null,null,null,null,null,null,null,null,null,"","","","","","","","","","","","",""]
[78,null,null,null,null,null,null,null,null,null,"","","","","","","","","","","","",""]
[79,null,null,null,null,null,null,null,null,null,"","","","","","","","","","","","",""]
[80,null,null,null,null,null,null,null,null,null,"","","","","","","","","","","","",""]
[81,null,null,null,null,null,null,null,null,null,"","","","","","","","","","","","",""]
[82,null,null,null,null,null,null,null,null,null,"","","","","","","","","","","","",""]
[83,null,null,null,null,null,null,null,null,null,"","","","","","","","","","","","",""]
[84,null,null,null,null,null,null,null,null,null,"","","","","","","","","","","","",""]
[85,null,null,null,null,null,null,null,null,null,"","","","","","","","","","","","",""]
[86,null,null,null,null,null,null,null,null,null,"","","","","","","","","","","","",""]
[87,null,null,null,null,null,null,null,null,null,"","","","","","","","","","","","",""]
[88,null,null,null,null,null,null,null,null,null,"","","","","","","","","","","","",""]
[89,null,null,null,null,null,null,null,null,null,"","","","","","","","","","","","",""]
[90,null,null,null,null,null,null,null,null,null,"","","","","","","","","","","","",""]
[91,null,null,null,null,null,null,null,null,null,"","","","","","","","","","","","",""]
[92,null,null,null,null,null,null,null,null,null,"","","","","","","","","","","","",""]
[93,null,null,null,null,null,null,null,null,null,"","","","","","","","","","","","",""]
[94,null,null,null,null,null,null,null,null,null,"","","","","","","","","","","","",""]
[95,null,null,null,null,null,null,null,null,null,"","","","","","","","","","","","",""]
[96,null,null,null,null,null,null,null,null,null,"","","","","","","","","","","","",""]
[97,null,null,null,null,null,null,null,null,null,"","","","","","","","","","","","",""]
[98,null,null,null,null,null,null,null,null,null,"","","","","","","","","","","","",""]
[99,null,null,null,null,null,null,null,null,null,"","","","","","","","","","","","",""]
[100,null,null,null,null,null,null,null,null,null,"","","","","","","","","","","","",""]
[101,null,null,null,null,null,null,null,null,null,"","","","","","","","","","","","",""]
[102,null,null,null,null,null,null,null,null,null,"","","","","","","","","","","","",""]
[103,null,null,null,null,null,null,null,null,null,"","","","","","","","","","","","",""]
[104,null,null,null,null,null,null,null,null,null,"","","","","","","","","","","","",""]
[105,null,null,null,null,null,null,null,null,null,"","","","","","","","","","","","",""]
[106,null,null,null,null,null,null,null,null,null,"","","","","","","","","","","","",""]
[107,null,null,null,null,null,null,null,null,null,"","","","","","","","","","","","",""]
[108,null,null,null,null,null,null,null,null,null,"","","","","","","","","","","","",""]
[109,null,null,null,null,null,null,null,null,null,"","","","","","","","","","","","",""]
[110,null,null,null,null,null,null,null,null,null,"","","","","","","","","","","","",""]
[111,null,null,null,null,null,null,null,null,null,"","","","","","","","","","","","",""]
[112,null,null,null,null,null,null,null,null,null,"","","","","","","","","","","","",""]
[113,null,null,null,null,null,null,null,null,null,"","","","","","","","","","","","",""]
[114,null,null,null,null,null,null,null,null,null,"","","","","","","","","","","","",""]
[115,null,null,null,null,null,null,null,null,null,"","","","","","","","","","","","",""]
[116,null,null,null,null,null,null,null,null,null,"","","","","","","","","","","","",""]
[117,null,null,null,null,null,null,null,null,null,"","","","","","","","","","","","",""]
[118,null,null,null,null,null,null,null,null,null,"","","","","","","","","","","","",""]
[119,null,null,null,null,null,null,null,null,null,"","","","","","","","","","","","",""]
[120,null,null,null,null,null,null,null,null,null,"","","","","","","","","","","","",""]
[121,null,null,null,null,null,null,null,null,null,"","","","","","","","","","","","",""]
[122,null,null,null,null,null,null,null,null,null,"","","","","","","","","","","","",""]
[123,null,null,null,null,null,null,null,null,null,"","","","","","","","","","","","",""]
[124,null,null,null,null,null,null,null,null,null,"","","","","","","","","","","","",""]
[125,null,null,null,null,null,null,null,null,null,"","","","","","","","","","","","",""]
[126,null,null,null,null,null,null,null,null,null,"","","","","","","","","","","","",""]
[127,null,null,null,null,null,null,null,null,null,"","","","","","","","","","","","",""]
[128,null,null,null,null,null,null,null,null,null,{"$f":"IF(F139>0,100*((F139-$E$4)/$E$4),\"\")","v":""},{"$f":"IF(G139>0,100*((G139-$E$4)/$E$4),\"\")","v":""},{"$f":"IF(H139>0,100*((H139-$E$4)/$E$4),\"\")","v":""},{"$f":"IF(I139>0,100*((I139-$E$4)/$E$4),\"\")","v":""},{"$f":"IF(J139>0,100*((J139-$E$4)/$E$4),\"\")","v":""},"",{"$f":"IF(F139<>\"\",IF(ABS(K139)>$E$5,\"n.i.O.\",\"i.O.\"),\"\")","v":""},{"$f":"IF(G139<>\"\",IF(ABS(L139)>$E$5,\"n.i.O.\",\"i.O.\"),\"\")","v":""},{"$f":"IF(H139<>\"\",IF(ABS(M139)>$E$5,\"n.i.O.\",\"i.O.\"),\"\")","v":""},{"$f":"IF(I139<>\"\",IF(ABS(N139)>$E$5,\"n.i.O.\",\"i.O.\"),\"\")","v":""},{"$f":"IF(J139<>\"\",IF(ABS(O139)>$E$5,\"n.i.O.\",\"i.O.\"),\"\")","v":""},{"$f":"IF(F139<>\"\",$E$5,\"\")","v":""},{"$f":"IF(F139<>\"\",$E$5*(-1),\"\")","v":""}]
[129,null,null,null,null,null,null,null,null,null,"","","","","",{"$f":"IF(F140>0,IF(AND(F140>0,G140>0),IF(OR(Q140=\"n.i.O.\",S140=\"n.i.O.\",T140=\"n.i.O.\",U140=\"n.i.O.\",V140=\"n.i.O.\"),\"<GA>\",\"OK\"),\"<Test 2>\"),\"\")","v":""},"","","","","","",""]
[130,null,null,null,null,null,null,null,null,null,"","","","","","","","","","","","",""]
[131,null,null,null,null,null,null,null,null,null,"","","","","","","","","","","","",""]
[132,null,null,null,null,null,null,null,null,null,"","","","","","","","","","","","",""]
[133,null,null,null,null,null,null,null,null,null,"","","","","","","","","","","","",""]
[134,null,null,null,null,null,null,null,null,null,"","","","","","","","","","","","",""]
[135,null,null,null,null,null,null,null,null,null,"","","","","","","","","","","","",""]
[136,null,null,null,null,null,null,null,null,null,"","","","","","","","","","","","",""]
[137,null,null,null,null,null,null,null,null,null,"","","","","","","","","","","","",""]
[138,null,null,null,null,null,null,null,null,null,"","","","","","","","","","","","",""]
[139,null,null,null,null,null,null,null,null,null,"","","","","","","","","","","","",""]
[140,null,null,null,null,null,null,null,null,null,"","","","","","","","","","","","",""]
[141,null,null,null,null,null,null,null,null,null,"","","","","","","","","","","","",""]
[142,null,null,null,null,null,null,null,null,null,"","","","","","","","","","","","",""]
[143,null,null,null,null,null,null,null,null,null,"","","","","","","","","","","","",""]
[144,null,null,null,null,null,null,null,null,null,"","","","","","","","","","","","",""]
[145,null,null,null,null,null,null,null,null,null,"","","","","","","","","","","","",""]
[146,null,null,null,null,null,null,null,null,null,"","","","","","","","","","","","",""]
[147,null,null,null,null,null,null,null,null,null,"","","","","","","","","","","","",""]
[148,null,null,null,null,null,null,null,null,null,"","","","","","","","","","","","",""]
[149,null,null,null,null,null,null,null,null,null,"","","","","","","","","","","","",""]
[150,null,null,null,null,null,null,null,null,null,"","","","","","","","","","","","",""]
[151,null,null,null,null,null,null,null,null,null,"","","","","","","","","","","","",""]
[152,null,null,null,null,null,null,null,null,null,"","","","","","","","","","","","",""]
[153,null,null,null,null,null,null,null,null,null,"","","","","","","","","","","","",""]
[154,null,null,null,null,null,null,null,null,null,"","","","","","","","","","","","",""]
[155,null,null,null,null,null,null,null,null,null,"","","","","","","","","","","","",""]
[156,null,null,null,null,null,null,null,null,null,"","","","","","","","","","","","",""]
[157,null,null,null,null,null,null,null,null,null,"","","","","","","","","","","","",""]
[158,null,null,null,null,null,null,null,null,null,"","","","","","","","","","","","",""]
[159,null,null,null,null,null,null,null,null,null,"","","","","","","","","","","","",""]
[160,null,null,null,null,null,null,null,null,null,"","","","","","","","","","","","",""]
[161,null,null,null,null,null,null,null,null,null,"","","","","","","","","","","","",""]
[162,null,null,null,null,null,null,null,null,null,"","","","","","","","","","","","",""]
[163,null,null,null,null,null,null,null,null,null,"","","","","","","","","","","","",""]
[164,null,null,null,null,null,null,null,null,null,"","","","","","","","","","","","",""]
[165,null,null,null,null,null,null,null,null,null,"","","","","","","","","","","","",""]
[166,null,null,null,null,null,null,null,null,null,"","","","","","","","","","","","",""]
[167,null,null,null,null,null,null,null,null,null,"","","","","","","","","","","","",""]
[168,null,null,null,null,null,null,null,null,null,"","","","","","","","","","","","",""]
[169,null,null,null,null,null,null,null,null,null,"","","","","","","","","","","","",""]
[170,null,null,null,null,null,null,null,null,null,"","","","","","","","","","","","",""]
[171,null,null,null,null,null,null,null,null,null,"","","","","","","","","","","","",""]
[172,null,null,null,null,null,null,null,null,null,"","","","","","","","","","","","",""]
[173,null,null,null,null,null,null,null,null,null,"","","","","","","","","","","","",""]
[174,null,null,null,null,null,null,null,null,null,"","","","","","","","","","","","",""]
[175,null,null,null,null,null,null,null,null,null,"","","","","","","","","","","","",""]
[176,null,null,null,null,null,null,null,null,null,"","","","","","","","","","","","",""]
[177,null,null,null,null,null,null,null,null,null,"","","","","","","","","","","","",""]
[178,null,null,null,null,null,null,null,null,null,"","","","","","","","","","","","",""]
[179,null,null,null,null,null,null,null,null,null,"","","","","","","","","","","","",""]
[180,null,null,null,null,null,null,null,null,null,"","","","","","","","","","","","",""]
[181,null,null,null,null,null,null,null,null,null,"","","","","","","","","","","","",""]
[182,null,null,null,null,null,null,null,null,null,"","","","","","","","","","","","",""]
[183,null,null,null,null,null,null,null,null,null,"","","","","","","","","","","","",""]
[184,null,null,null,null,null,null,null,null,null,"","","","","","","","","","","","",""]
[185,null,null,null,null,null,null,null,null,null,"","","","","","","","","","","","",""]
[186,null,null,null,null,null,null,null,null,null,"","","","","","","","","","","","",""]
[187,null,null,null,null,null,null,null,null,null,"","","","","","","","","","","","",""]
[188,null,null,null,null,null,null,null,null,null,"","","","","","","","","","","","",""]
[189,null,null,null,null,null,null,null,null,null,"","","","","","","","","","","","",""]
[190,null,null,null,null,null,null,null,null,null,"","","","","","","","","","","","",""]
[191,null,null,null,null,null,null,null,null,null,"","","","","","","","","","","","",""]
[192,null,null,null,null,null,null,null,null,null,{"$f":"IF(F203>0,100*((F203-$E$4)/$E$4),\"\")","v":""},{"$f":"IF(G203>0,100*((G203-$E$4)/$E$4),\"\")","v":""},{"$f":"IF(H203>0,100*((H203-$E$4)/$E$4),\"\")","v":""},{"$f":"IF(I203>0,100*((I203-$E$4)/$E$4),\"\")","v":""},{"$f":"IF(J203>0,100*((J203-$E$4)/$E$4),\"\")","v":""},"",{"$f":"IF(F203<>\"\",IF(ABS(K203)>$E$5,\"n.i.O.\",\"i.O.\"),\"\")","v":""},{"$f":"IF(G203<>\"\",IF(ABS(L203)>$E$5,\"n.i.O.\",\"i.O.\"),\"\")","v":""},{"$f":"IF(H203<>\"\",IF(ABS(M203)>$E$5,\"n.i.O.\",\"i.O.\"),\"\")","v":""},{"$f":"IF(I203<>\"\",IF(ABS(N203)>$E$5,\"n.i.O.\",\"i.O.\"),\"\")","v":""},{"$f":"IF(J203<>\"\",IF(ABS(O203)>$E$5,\"n.i.O.\",\"i.O.\"),\"\")","v":""},{"$f":"IF(F203<>\"\",$E$5,\"\")","v":""},{"$f":"IF(F203<>\"\",$E$5*(-1),\"\")","v":""}]
[193,null,null,null,null,null,null,null,null,null,"","","","","",{"$f":"IF(F204>0,IF(AND(F204>0,G204>0),IF(OR(Q204=\"n.i.O.\",S204=\"n.i.O.\",T204=\"n.i.O.\",U204=\"n.i.O.\",V204=\"n.i.O.\"),\"<GA>\",\"OK\"),\"<Test 2>\"),\"\")","v":""},"","","","","","",""]
[194,null,null,null,null,null,null,null,null,null,"","","","","","","","","","","","",""]
[195,null,null,null,null,null,null,null,null,null,"","","","","","","","","","","","",""]
[196,null,null,null,null,null,null,null,null,null,"","","","","","","","","","","","",""]
[197,null,null,null,null,null,null,null,null,null,"","","","","","","","","","","","",""]
[198,null,null,null,null,null,null,null,null,null,"","","","","","","","","","","","",""]
[199,null,null,null,null,null,null,null,null,null,"","","","","","","","","","","","",""]
[200,null,null,null,null,null,null,null,null,null,"","","","","","","","","","","","",""]
[201,null,null,null,null,null,null,null,null,null,"","","","","","","","","","","","",""]
[202,null,null,null,null,null,null,null,null,null,"","","","","","","","","","","","",""]
[203,null,null,null,null,null,null,null,null,null,"","","","","","","","","","","","",""]
[204,null,null,null,null,null,null,null,null,null,"","","","","","","","","","","","",""]
[205,null,null,null,null,null,null,null,null,null,"","","","","","","","","","","","",""]
[206,null,null,null,null,null,null,null,null,null,"","","","","","","","","","","","",""]
[207,null,null,null,null,null,null,null,null,null,"","","","","","","","","","","","",""]
[208,null,null,null,null,null,null,null,null,null,"","","","","","","","","","","","",""]
[209,null,null,null,null,null,null,null,null,null,"","","","","","","","","","","","",""]
[210,null,null,null,null,null,null,null,null,null,"","","","","","","","","","","","",""]
[211,null,null,null,null,null,null,null,null,null,"","","","","","","","","","","","",""]
[212,null,null,null,null,null,null,null,null,null,"","","","","","","","","","","","",""]
[213,null,null,null,null,null,null,null,null,null,"","","","","","","","","","","","",""]
[214,null,null,null,null,null,null,null,null,null,"","","","","","","","","","","","",""]
[215,null,null,null,null,null,null,null,null,null,"","","","","","","","","","","","",""]
[216,null,null,null,null,null,null,null,null,null,"","","","","","","","","","","","",""]
[217,null,null,null,null,null,null,null,null,null,"","","","","","","","","","","","",""]
[218,null,null,null,null,null,null,null,null,null,"","","","","","","","","","","","",""]
[219,null,null,null,null,null,null,null,null,null,"","","","","","","","","","","","",""]
[220,null,null,null,null,null,null,null,null,null,"","","","","","","","","","","","",""]
[221,null,null,null,null,null,null,null,null,null,"","","","","","","","","","","","",""]
[222,null,null,null,null,null,null,null,null,null,"","","","","","","","","","","","",""]
[223,null,null,null,null,null,null,null,null,null,"","","","","","","","","","","","",""]
[224,null,null,null,null,null,null,null,null,null,"","","","","","","","","","","","",""]
[225,null,null,null,null,null,null,null,null,null,"","","","","","","","","","","","",""]
[226,null,null,null,null,null,null,null,null,null,"","","","","","","","","","","","",""]
[227,null,null,null,null,null,null,null,null,null,"","","","","","","","","","","","",""]
[228,null,null,null,null,null,null,null,null,null,"","","","","","","","","","","","",""]
[229,null,null,null,null,null,null,null,null,null,"","","","","","","","","","","","",""]
[230,null,null,null,null,null,null,null,null,null,"","","","","","","","","","","","",""]
[231,null,null,null,null,null,null,null,null,null,"","","","","","","","","","","","",""]
[232,null,null,null,null,null,null,null,null,null,"","","","","","","","","","","","",""]
[233,null,null,null,null,null,null,null,null,null,"","","","","","","","","","","","",""]
[234,null,null,null,null,null,null,null,null,null,"","","","","","","","","","","","",""]
[235,null,null,null,null,null,null,null,null,null,"","","","","","","","","","","","",""]
[236,null,null,null,null,null,null,null,null,null,"","","","","","","","","","","","",""]
[237,null,null,null,null,null,null,null,null,null,"","","","","","","","","","","","",""]
[238,null,null,null,null,null,null,null,null,null,"","","","","","","","","","","","",""]
[239,null,null,null,null,null,null,null,null,null,"","","","","","","","","","","","",""]
[240,null,null,null,null,null,null,null,null,null,"","","","","","","","","","","","",""]
[241,null,null,null,null,null,null,null,null,null,"","","","","","","","","","","","",""]
[242,null,null,null,null,null,null,null,null,null,"","","","","","","","","","","","",""]
[243,null,null,null,null,null,null,null,null,null,"","","","","","","","","","","","",""]
[244,null,null,null,null,null,null,null,null,null,"","","","","","","","","","","","",""]
[245,null,null,null,null,null,null,null,null,null,"","","","","","","","","","","","",""]
[246,null,null,null,null,null,null,null,null,null,"","","","","","","","","","","","",""]
[247,null,null,null,null,null,null,null,null,null,"","","","","","","","","","","","",""]
[248,null,null,null,null,null,null,null,null,null,"","","","","","","","","","","","",""]
[249,null,null,null,null,null,null,null,null,null,"","","","","","","","","","","","",""]
[250,null,null,null,null,null,null,null,null,null,"","","","","","","","","","","","",""]
[251,null,null,null,null,null,null,null,null,null,"","","","","","","","","","","","",""]
[252,null,null,null,null,null,null,null,null,null,"","","","","","","","","","","","",""]
[253,null,null,null,null,null,null,null,null,null,"","","","","","","","","","","","",""]
[254,null,null,null,null,null,null,null,null,null,"","","","","","","","","","","","",""]
[255,null,null,null,null,null,null,null,null,null,"","","","","","","","","","","","",""]
[256,null,null,null,null,null,null,null,null,null,{"$f":"IF(F267>0,100*((F267-$E$4)/$E$4),\"\")","v":""},{"$f":"IF(G267>0,100*((G267-$E$4)/$E$4),\"\")","v":""},{"$f":"IF(H267>0,100*((H267-$E$4)/$E$4),\"\")","v":""},{"$f":"IF(I267>0,100*((I267-$E$4)/$E$4),\"\")","v":""},{"$f":"IF(J267>0,100*((J267-$E$4)/$E$4),\"\")","v":""},"",{"$f":"IF(F267<>\"\",IF(ABS(K267)>$E$5,\"n.i.O.\",\"i.O.\"),\"\")","v":""},{"$f":"IF(G267<>\"\",IF(ABS(L267)>$E$5,\"n.i.O.\",\"i.O.\"),\"\")","v":""},{"$f":"IF(H267<>\"\",IF(ABS(M267)>$E$5,\"n.i.O.\",\"i.O.\"),\"\")","v":""},{"$f":"IF(I267<>\"\",IF(ABS(N267)>$E$5,\"n.i.O.\",\"i.O.\"),\"\")","v":""},{"$f":"IF(J267<>\"\",IF(ABS(O267)>$E$5,\"n.i.O.\",\"i.O.\"),\"\")","v":""},{"$f":"IF(F267<>\"\",$E$5,\"\")","v":""},{"$f":"IF(F267<>\"\",$E$5*(-1),\"\")","v":""}]
[257,null,null,null,null,null,null,null,null,null,"","","","","",{"$f":"IF(F268>0,IF(AND(F268>0,G268>0),IF(OR(Q268=\"n.i.O.\",S268=\"n.i.O.\",T268=\"n.i.O.\",U268=\"n.i.O.\",V268=\"n.i.O.\"),\"<GA>\",\"OK\"),\"<Test 2>\"),\"\")","v":""},"","","","","","",""]
[258,null,null,null,null,null,null,null,null,null,"","","","","","","","","","","","",""]
[259,null,null,null,null,null,null,null,null,null,"","","","","","","","","","","","",""]
[260,null,null,null,null,null,null,null,null,null,"","","","","","","","","","","","",""]
[261,null,null,null,null,null,null,null,null,null,"","","","","","","","","","","","",""]
[262,null,null,null,null,null,null,null,null,null,"","","","","","","","","","","","",""]
[263,null,null,null,null,null,null,null,null,null,"","","","","","","","","","","","",""]
[264,null,null,null,null,null,null,null,null,null,"","","","","","","","","","","","",""]
[265,null,null,null,null,null,null,null,null,null,"","","","","","","","","","","","",""]
[266,null,null,null,null,null,null,null,null,null,"","","","","","","","","","","","",""]
[267,null,null,null,null,null,null,null,null,null,"","","","","","","","","","","","",""]
[268,null,null,null,null,null,null,null,null,null,"","","","","","","","","","","","",""]
[269,null,null,null,null,null,null,null,null,null,"","","","","","","","","","","","",""]
[270,null,null,null,null,null,null,null,null,null,"","","","","","","","","","","","",""]
[271,null,null,null,null,null,null,null,null,null,"","","","","","","","","","","","",""]
[272,null,null,null,null,null,null,null,null,null,"","","","","","","","","","","","",""]
[273,null,null,null,null,null,null,null,null,null,"","","","","","","","","","","","",""]
[274,null,null,null,null,null,null,null,null,null,"","","","","","","","","","","","",""]
[275,null,null,null,null,null,null,null,null,null,"","","","","","","","","","","","",""]
[276,null,null,null,null,null,null,null,null,null,"","","","","","","","","","","","",""]
[277,null,null,null,null,null,null,null,null,null,"","","","","","","","","","","","",""]
[278,null,null,null,null,null,null,null,null,null,"","","","","","","","","","","","",""]
[279,null,null,null,null,null,null,null,null,null,"","","","","","","","","","","","",""]
[280,null,null,null,null,null,null,null,null,null,"","","","","","","","","","","","",""]
[281,null,null,null,null,null,null,null,null,null,"","","","","","","","","","","","",""]
[282,null,null,null,null,null,null,null,null,null,"","","","","","","","","","","","",""]
[283,null,null,null,null,null,null,null,null,null,"","","","","","","","","","","","",""]
[284,null,null,null,null,null,null,null,null,null,"","","","","","","","","","","","",""]
[285,null,null,null,null,null,null,null,null,null,"","","","","","","","","","","","",""]
[286,null,null,null,null,null,null,null,null,null,"","","","","","","","","","","","",""]
[287,null,null,null,null,null,null,null,null,null,"","","","","","","","","","","","",""]
[288,null,null,null,null,null,null,null,null,null,"","","","","","","","","","","","",""]
[289,null,null,null,null,null,null,null,null,null,"","","","","","","","","","","","",""]
[290,null,null,null,null,null,null,null,null,null,"","","","","","","","","","","","",""]
[291,null,null,null,null,null,null,null,null,null,"","","","","","","","","","","","",""]
[292,null,null,null,null,null,null,null,null,null,"","","","","","","","","","","","",""]
[293,null,null,null,null,null,null,null,null,null,"","","","","","","","","","","","",""]
[294,null,null,null,null,null,null,null,null,null,"","","","","","","","","","","","",""]
[295,null,null,null,null,null,null,null,null,null,"","","","","","","","","","","","",""]
[296,null,null,null,null,null,null,null,null,null,"","","","","","","","","","","","",""]
[297,null,null,null,null,null,null,null,null,null,"","","","","","","","","","","","",""]
[298,null,null,null,null,null,null,null,null,null,"","","","","","","","","","","","",""]
[299,null,null,null,null,null,null,null,null,null,"","","","","","","","","","","","",""]
[300,null,null,null,null,null,null,null,null,null,"","","","","","","","","","","","",""]
[301,null,null,null,null,null,null,null,null,null,"","","","","","","","","","","","",""]
[302,null,null,null,null,null,null,null,null,null,"","","","","","","","","","","","",""]
[303,null,null,null,null,null,null,null,null,null,"","","","","","","","","","","","",""]
[304,null,null,null,null,null,null,null,null,null,"","","","","","","","","","","","",""]
[305,null,null,null,null,null,null,null,null,null,"","","","","","","","","","","","",""]
[306,null,null,null,null,null,null,null,null,null,"","","","","","","","","","","","",""]
[307,null,null,null,null,null,null,null,null,null,"","","","","","","","","","","","",""]
[308,null,null,null,null,null,null,null,null,null,"","","","","","","","","","","","",""]
[309,null,null,null,null,null,null,null,null,null,"","","","","","","","","","","","",""]
[310,null,null,null,null,null,null,null,null,null,"","","","","","","","","","","","",""]
[311,null,null,null,null,null,null,null,null,null,"","","","","","","","","","","","",""]
[312,null,null,null,null,null,null,null,null,null,"","","","","","","","","","","","",""]
[313,null,null,null,null,null,null,null,null,null,"","","","","","","","","","","","",""]
[314,null,null,null,null,null,null,null,null,null,"","","","","","","","","","","","",""]
[315,null,null,null,null,null,null,null,null,null,"","","","","","","","","","","","",""]
[316,null,null,null,null,null,null,null,null,null,"","","","","","","","","","","","",""]
[317,null,null,null,null,null,null,null,null,null,"","","","","","","","","","","","",""]
[318,null,null,null,null,null,null,null,null,null,"","","","","","","","","","","","",""]
[319,null,null,null,null,null,null,null,null,null,"","","","","","","","","","","","",""]
[320,null,null,null,null,null,null,null,null,null,{"$f":"IF(F331>0,100*((F331-$E$4)/$E$4),\"\")","v":""},{"$f":"IF(G331>0,100*((G331-$E$4)/$E$4),\"\")","v":""},{"$f":"IF(H331>0,100*((H331-$E$4)/$E$4),\"\")","v":""},{"$f":"IF(I331>0,100*((I331-$E$4)/$E$4),\"\")","v":""},{"$f":"IF(J331>0,100*((J331-$E$4)/$E$4),\"\")","v":""},"",{"$f":"IF(F331<>\"\",IF(ABS(K331)>$E$5,\"n.i.O.\",\"i.O.\"),\"\")","v":""},{"$f":"IF(G331<>\"\",IF(ABS(L331)>$E$5,\"n.i.O.\",\"i.O.\"),\"\")","v":""},{"$f":"IF(H331<>\"\",IF(ABS(M331)>$E$5,\"n.i.O.\",\"i.O.\"),\"\")","v":""},{"$f":"IF(I331<>\"\",IF(ABS(N331)>$E$5,\"n.i.O.\",\"i.O.\"),\"\")","v":""},{"$f":"IF(J331<>\"\",IF(ABS(O331)>$E$5,\"n.i.O.\",\"i.O.\"),\"\")","v":""},{"$f":"IF(F331<>\"\",$E$5,\"\")","v":""},{"$f":"IF(F331<>\"\",$E$5*(-1),\"\")","v":""}]
[321,null,null,null,null,null,null,null,null,null,"","","","","",{"$f":"IF(F332>0,IF(AND(F332>0,G332>0),IF(OR(Q332=\"n.i.O.\",S332=\"n.i.O.\",T332=\"n.i.O.\",U332=\"n.i.O.\",V332=\"n.i.O.\"),\"<GA>\",\"OK\"),\"<Test 2>\"),\"\")","v":""},"","","","","","",""]
[322,null,null,null,null,null,null,null,null,null,"","","","","","","","","","","","",""]
[323,null,null,null,null,null,null,null,null,null,"","","","","","","","","","","","",""]
[324,null,null,null,null,null,null,null,null,null,"","","","","","","","","","","","",""]
[325,null,null,null,null,null,null,null,null,null,"","","","","","","","","","","","",""]
[326,null,null,null,null,null,null,null,null,null,"","","","","","","","","","","","",""]
[327,null,null,null,null,null,null,null,null,null,"","","","","","","","","","","","",""]
[328,null,null,null,null,null,null,null,null,null,"","","","","","","","","","","","",""]
[329,null,null,null,null,null,null,null,null,null,"","","","","","","","","","","","",""]
[330,null,null,null,null,null,null,null,null,null,"","","","","","","","","","","","",""]
[331,null,null,null,null,null,null,null,null,null,"","","","","","","","","","","","",""]
[332,null,null,null,null,null,null,null,null,null,"","","","","","","","","","","","",""]
[333,null,null,null,null,null,null,null,null,null,"","","","","","","","","","","","",""]
[334,null,null,null,null,null,null,null,null,null,"","","","","","","","","","","","",""]
[335,null,null,null,null,null,null,null,null,null,"","","","","","","","","","","","",""]
[336,null,null,null,null,null,null,null,null,null,"","","","","","","","","","","","",""]
[337,null,null,null,null,null,null,null,null,null,"","","","","","","","","","","","",""]
[338,null,null,null,null,null,null,null,null,null,"","","","","","","","","","","","",""]
[339,null,null,null,null,null,null,null,null,null,"","","","","","","","","","","","",""]
[340,null,null,null,null,null,null,null,null,null,"","","","","","","","","","","","",""]
[341,null,null,null,null,null,null,null,null,null,"","","","","","","","","","","","",""]
[342,null,null,null,null,null,null,null,null,null,"","","","","","","","","","","","",""]
[343,null,null,null,null,null,null,null,null,null,"","","","","","","","","","","","",""]
[344,null,null,null,null,null,null,null,null,null,"","","","","","","","","","","","",""]
[345,null,null,null,null,null,null,null,null,null,"","","","","","","","","","","","",""]
[346,null,null,null,null,null,null,null,null,null,"","","","","","","","","","","","",""]
[347,null,null,null,null,null,null,null,null,null,"","","","","","","","","","","","",""]
[348,null,null,null,null,null,null,null,null,null,"","","","","","","","","","","","",""]
[349,null,null,null,null,null,null,null,null,null,"","","","","","","","","","","","",""]
[350,null,null,null,null,null,null,null,null,null,"","","","","","","","","","","","",""]
[351,null,null,null,null,null,null,null,null,null,"","","","","","","","","","","","",""]
[352,null,null,null,null,null,null,null,null,null,"","","","","","","","","","","","",""]
[353,null,null,null,null,null,null,null,null,null,"","","","","","","","","","","","",""]
[354,null,null,null,null,null,null,null,null,null,"","","","","","","","","","","","",""]
[355,null,null,null,null,null,null,null,null,null,"","","","","","","","","","","","",""]
[356,null,null,null,null,null,null,null,null,null,"","","","","","","","","","","","",""]
[357,null,null,null,null,null,null,null,null,null,"","","","","","","","","","","","",""]
[358,null,null,null,null,null,null,null,null,null,"","","","","","","","","","","","",""]
[359,null,null,null,null,null,null,null,null,null,"","","","","","","","","","","","",""]
[360,null,null,null,null,null,null,null,null,null,"","","","","","","","","","","","",""]
[361,null,null,null,null,null,null,null,null,null,"","","","","","","","","","","","",""]
[362,null,null,null,null,null,null,null,null,null,"","","","","","","","","","","","",""]
[363,null,null,null,null,null,null,null,null,null,"","","","","","","","","","","","",""]
[364,null,null,null,null,null,null,null,null,null,"","","","","","","","","","","","",""]
[365,null,null,null,null,null,null,null,null,null,"","","","","","","","","","","","",""]
[366,null,null,null,null,null,null,null,null,null,"","","","","","","","","","","","",""]
[367,null,null,null,null,null,null,null,null,null,"","","","","","","","","","","","",""]
[368,null,null,null,null,null,null,null,null,null,"","","","","","","","","","","","",""]
[369,null,null,null,null,null,null,null,null,null,"","","","","","","","","","","","",""]
[370,null,null,null,null,null,null,null,null,null,"","","","","","","","","","","","",""]
[371,null,null,null,null,null,null,null,null,null,"","","","","","","","","","","","",""]
[372,null,null,null,null,null,null,null,null,null,"","","","","","","","","","","","",""]
[373,null,null,null,null,null,null,null,null,null,"","","","","","","","","","","","",""]
[374,null,null,null,null,null,null,null,null,null,"","","","","","","","","","","","",""]
[375,null,null,null,null,null,null,null,null,null,"","","","","","","","","","","","",""]
[376,null,null,null,null,null,null,null,null,null,"","","","","","","","","","","","",""]
[377,null,null,null,null,null,null,null,null,null,"","","","","","","","","","","","",""]
[378,null,null,null,null,null,null,null,null,null,"","","","","","","","","","","","",""]
[379,null,null,null,null,null,null,null,null,null,"","","","","","","","","","","","",""]
[380,null,null,null,null,null,null,null,null,null,"","","","","","","","","","","","",""]
[381,null,null,null,null,null,null,null,null,null,"","","","","","","","","","","","",""]
[382,null,null,null,null,null,null,null,null,null,"","","","","","","","","","","","",""]
[383,null,null,null,null,null,null,null,null,null,"","","","","","","","","","","","",""]
[384,null,null,null,null,null,null,null,null,null,{"$f":"IF(F395>0,100*((F395-$E$4)/$E$4),\"\")","v":""},{"$f":"IF(G395>0,100*((G395-$E$4)/$E$4),\"\")","v":""},{"$f":"IF(H395>0,100*((H395-$E$4)/$E$4),\"\")","v":""},{"$f":"IF(I395>0,100*((I395-$E$4)/$E$4),\"\")","v":""},{"$f":"IF(J395>0,100*((J395-$E$4)/$E$4),\"\")","v":""},"",{"$f":"IF(F395<>\"\",IF(ABS(K395)>$E$5,\"n.i.O.\",\"i.O.\"),\"\")","v":""},{"$f":"IF(G395<>\"\",IF(ABS(L395)>$E$5,\"n.i.O.\",\"i.O.\"),\"\")","v":""},{"$f":"IF(H395<>\"\",IF(ABS(M395)>$E$5,\"n.i.O.\",\"i.O.\"),\"\")","v":""},{"$f":"IF(I395<>\"\",IF(ABS(N395)>$E$5,\"n.i.O.\",\"i.O.\"),\"\")","v":""},{"$f":"IF(J395<>\"\",IF(ABS(O395)>$E$5,\"n.i.O.\",\"i.O.\"),\"\")","v":""},{"$f":"IF(F395<>\"\",$E$5,\"\")","v":""},{"$f":"IF(F395<>\"\",$E$5*(-1),\"\")","v":""}]
[385,null,null,null,null,null,null,null,null,null,"","","","","",{"$f":"IF(F396>0,IF(AND(F396>0,G396>0),IF(OR(Q396=\"n.i.O.\",S396=\"n.i.O.\",T396=\"n.i.O.\",U396=\"n.i.O.\",V396=\"n.i.O.\"),\"<GA>\",\"OK\"),\"<Test 2>\"),\"\")","v":""},"","","","","","",""]
[386,null,null,null,null,null,null,null,null,null,"","","","","","","","","","","","",""]
[387,null,null,null,null,null,null,null,null,null,"","","","","","","","","","","","",""]
[388,null,null,null,null,null,null,null,null,null,"","","","","","","","","","","","",""]
[389,null,null,null,null,null,null,null,null,null,"","","","","","","","","","","","",""]
[390,null,null,null,null,null,null,null,null,null,"","","","","","","","","","","","",""]
[391,null,null,null,null,null,null,null,null,null,"","","","","","","","","","","","",""]
[392,null,null,null,null,null,null,null,null,null,"","","","","","","","","","","","",""]
[393,null,null,null,null,null,null,null,null,null,"","","","","","","","","","","","",""]
[394,null,null,null,null,null,null,null,null,null,"","","","","","","","","","","","",""]
[395,null,null,null,null,null,null,null,null,null,"","","","","","","","","","","","",""]
[396,null,null,null,null,null,null,null,null,null,"","","","","","","","","","","","",""]
[397,null,null,null,null,null,null,null,null,null,"","","","","","","","","","","","",""]
[398,null,null,null,null,null,null,null,null,null,"","","","","","","","","","","","",""]
[399,null,null,null,null,null,null,null,null,null,"","","","","","","","","","","","",""]
[400,null,null,null,null,null,null,null,null,null,"","","","","","","","","","","","",""]
[401,null,null,null,null,null,null,null,null,null,"","","","","","","","","","","","",""]
[402,null,null,null,null,null,null,null,null,null,"","","","","","","","","","","","",""]
[403,null,null,null,null,null,null,null,null,null,"","","","","","","","","","","","",""]
[404,null,null,null,null,null,null,null,null,null,"","","","","","","","","","","","",""]
[405,null,null,null,null,null,null,null,null,null,"","","","","","","","","","","","",""]
[406,null,null,null,null,null,null,null,null,null,"","","","","","","","","","","","",""]
[407,null,null,null,null,null,null,null,null,null,"","","","","","","","","","","","",""]
[408,null,null,null,null,null,null,null,null,null,"","","","","","","","","","","","",""]
[409,null,null,null,null,null,null,null,null,null,"","","","","","","","","","","","",""]
[410,null,null,null,null,null,null,null,null,null,"","","","","","","","","","","","",""]
[411,null,null,null,null,null,null,null,null,null,"","","","","","","","","","","","",""]
[412,null,null,null,null,null,null,null,null,null,"","","","","","","","","","","","",""]
[413,null,null,null,null,null,null,null,null,null,"","","","","","","","","","","","",""]
[414,null,null,null,null,null,null,null,null,null,"","","","","","","","","","","","",""]
[415,null,null,null,null,null,null,null,null,null,"","","","","","","","","","","","",""]
[416,null,null,null,null,null,null,null,null,null,"","","","","","","","","","","","",""]
[417,null,null,null,null,null,null,null,null,null,"","","","","","","","","","","","",""]
[418,null,null,null,null,null,null,null,null,null,"","","","","","","","","","","","",""]
[419,null,null,null,null,null,null,null,null,null,"","","","","","","","","","","","",""]
[420,null,null,null,null,null,null,null,null,null,"","","","","","","","","","","","",""]
[421,null,null,null,null,null,null,null,null,null,"","","","","","","","","","","","",""]
[422,null,null,null,null,null,null,null,null,null,"","","","","","","","","","","","",""]
[423,null,null,null,null,null,null,null,null,null,"","","","","","","","","","","","",""]
[424,null,null,null,null,null,null,null,null,null,"","","","","","","","","","","","",""]
[425,null,null,null,null,null,null,null,null,null,"","","","","","","","","","","","",""]
[426,null,null,null,null,null,null,null,null,null,"","","","","","","","","","","","",""]
[427,null,null,null,null,null,null,null,null,null,"","","","","","","","","","","","",""]
[428,null,null,null,null,null,null,null,null,null,"","","","","","","","","","","","",""]
[429,null,null,null,null,null,null,null,null,null,"","","","","","","","","","","","",""]
[430,null,null,null,null,null,null,null,null,null,"","","","","","","","","","","","",""]
[431,null,null,null,null,null,null,null,null,null,"","","","","","","","","","","","",""]
[432,null,null,null,null,null,null,null,null,null,"","","","","","","","","","","","",""]
[433,null,null,null,null,null,null,null,null,null,"","","","","","","","","","","","",""]
[434,null,null,null,null,null,null,null,null,null,"","","","","","","","","","","","",""]
[435,null,null,null,null,null,null,null,null,null,"","","","","","","","","","","","",""]
[436,null,null,null,null,null,null,null,null,null,"","","","","","","","","","","","",""]
[437,null,null,null,null,null,null,null,null,null,"","","","","","","","","","","","",""]
[438,null,null,null,null,null,null,null,null,null,"","","","","","","","","","","","",""]
[439,null,null,null,null,null,null,null,null,null,"","","","","","","","","","","","",""]
[440,null,null,null,null,null,null,null,null,null,"","","","","","","","","","","","",""]
[441,null,null,null,null,null,null,null,null,null,"","","","","","","","","","","","",""]
[442,null,null,null,null,null,null,null,null,null,"","","","","","","","","","","","",""]
[443,null,null,null,null,null,null,null,null,null,"","","","","","","","","","","","",""]
[444,null,null,null,null,null,null,null,null,null,"","","","","","","","","","","","",""]
[445,null,null,null,null,null,null,null,null,null,"","","","","","","","","","","","",""]
[446,null,null,null,null,null,null,null,null,null,"","","","","","","","","","","","",""]
[447,null,null,null,null,null,null,null,null,null,"","","","","","","","","","","","",""]
[448,null,null,null,null,null,null,null,null,null,{"$f":"IF(F459>0,100*((F459-$E$4)/$E$4),\"\")","v":""},{"$f":"IF(G459>0,100*((G459-$E$4)/$E$4),\"\")","v":""},{"$f":"IF(H459>0,100*((H459-$E$4)/$E$4),\"\")","v":""},{"$f":"IF(I459>0,100*((I459-$E$4)/$E$4),\"\")","v":""},{"$f":"IF(J459>0,100*((J459-$E$4)/$E$4),\"\")","v":""},"",{"$f":"IF(F459<>\"\",IF(ABS(K459)>$E$5,\"n.i.O.\",\"i.O.\"),\"\")","v":""},{"$f":"IF(G459<>\"\",IF(ABS(L459)>$E$5,\"n.i.O.\",\"i.O.\"),\"\")","v":""},{"$f":"IF(H459<>\"\",IF(ABS(M459)>$E$5,\"n.i.O.\",\"i.O.\"),\"\")","v":""},{"$f":"IF(I459<>\"\",IF(ABS(N459)>$E$5,\"n.i.O.\",\"i.O.\"),\"\")","v":""},{"$f":"IF(J459<>\"\",IF(ABS(O459)>$E$5,\"n.i.O.\",\"i.O.\"),\"\")","v":""},{"$f":"IF(F459<>\"\",$E$5,\"\")","v":""},{"$f":"IF(F459<>\"\",$E$5*(-1),\"\")","v":""}]
[449,null,null,null,null,null,null,null,null,null,"","","","","",{"$f":"IF(F460>0,IF(AND(F460>0,G460>0),IF(OR(Q460=\"n.i.O.\",S460=\"n.i.O.\",T460=\"n.i.O.\",U460=\"n.i.O.\",V460=\"n.i.O.\"),\"<GA>\",\"OK\"),\"<Test 2>\"),\"\")","v":""},"","","","","","",""]
[450,null,null,null,null,null,null,null,null,null,"","","","","","","","","","","","",""]
[451,null,null,null,null,null,null,null,null,null,"","","","","","","","","","","","",""]
[452,null,null,null,null,null,null,null,null,null,"","","","","","","","","","","","",""]
[453,null,null,null,null,null,null,null,null,null,"","","","","","","","","","","","",""]
[454,null,null,null,null,null,null,null,null,null,"","","","","","","","","","","","",""]
[455,null,null,null,null,null,null,null,null,null,"","","","","","","","","","","","",""]
[456,null,null,null,null,null,null,null,null,null,"","","","","","","","","","","","",""]
[457,null,null,null,null,null,null,null,null,null,"","","","","","","","","","","","",""]
[458,null,null,null,null,null,null,null,null,null,"","","","","","","","","","","","",""]
[459,null,null,null,null,null,null,null,null,null,"","","","","","","","","","","","",""]
[460,null,null,null,null,null,null,null,null,null,"","","","","","","","","","","","",""]
[461,null,null,null,null,null,null,null,null,null,"","","","","","","","","","","","",""]
[462,null,null,null,null,null,null,null,null,null,"","","","","","","","","","","","",""]
[463,null,null,null,null,null,null,null,null,null,"","","","","","","","","","","","",""]
[464,null,null,null,null,null,null,null,null,null,"","","","","","","","","","","","",""]
[465,null,null,null,null,null,null,null,null,null,"","","","","","","","","","","","",""]
[466,null,null,null,null,null,null,null,null,null,"","","","","","","","","","","","",""]
[467,null,null,null,null,null,null,null,null,null,"","","","","","","","","","","","",""]
[468,null,null,null,null,null,null,null,null,null,"","","","","","","","","","","","",""]
[469,null,null,null,null,null,null,null,null,null,"","","","","","","","","","","","",""]
[470,null,null,null,null,null,null,null,null,null,"","","","","","","","","","","","",""]
[471,null,null,null,null,null,null,null,null,null,"","","","","","","","","","","","",""]
[472,null,null,null,null,null,null,null,null,null,"","","","","","","","","","","","",""]
[473,null,null,null,null,null,null,null,null,null,"","","","","","","","","","","","",""]
[474,null,null,null,null,null,null,null,null,null,"","","","","","","","","","","","",""]
[475,null,null,null,null,null,null,null,null,null,"","","","","","","","","","","","",""]
[476,null,null,null,null,null,null,null,null,null,"","","","","","","","","","","","",""]
[477,null,null,null,null,null,null,null,null,null,"","","","","","","","","","","","",""]
[478,null,null,null,null,null,null,null,null,null,"","","","","","","","","","","","",""]
[479,null,null,null,null,null,null,null,null,null,"","","","","","","","","","","","",""]
[480,null,null,null,null,null,null,null,null,null,"","","","","","","","","","","","",""]
[481,null,null,null,null,null,null,null,null,null,"","","","","","","","","","","","",""]
[482,null,null,null,null,null,null,null,null,null,"","","","","","","","","","","","",""]
[483,null,null,null,null,null,null,null,null,null,"","","","","","","","","","","","",""]
[484,null,null,null,null,null,null,null,null,null,"","","","","","","","","","","","",""]
[485,null,null,null,null,null,null,null,null,null,"","","","","","","","","","","","",""]
[486,null,null,null,null,null,null,null,null,null,"","","","","","","","","","","","",""]
[487,null,null,null,null,null,null,null,null,null,"","","","","","","","","","","","",""]
[488,null,null,null,null,null,null,null,null,null,"","","","","","","","","","","","",""]
[489,null,null,null,null,null,null,null,null,null,"","","","","","","","","","","","",""]
[490,null,null,null,null,null,null,null,null,null,"","","","","","","","","","","","",""]
[491,null,null,null,null,null,null,null,null,null,"","","","","","","","","","","","",""]
[492,null,null,null,null,null,null,null,null,null,"","","","","","","","","","","","",""]
[493,null,null,null,null,null,null,null,null,null,"","","","","","","","","","","","",""]
[494,null,null,null,null,null,null,null,null,null,"","","","","","","","","","","","",""]
[495,null,null,null,null,null,null,null,null,null,"","","","","","","","","","","","",""]
[496,null,null,null,null,null,null,null,null,null,"","","","","","","","","","","","",""]
[497,null,null,null,null,null,null,null,null,null,"","","","","","","","","","","","",""]
[498,null,null,null,null,null,null,null,null,null,"","","","","","","","","","","","",""]
[499,null,null,null,null,null,null,null,null,null,"","","","","","","","","","","","",""]
[500,null,null,null,null,null,null,null,null,null,"","","","","","","","","","","","",""]
[501,null,null,null,null,null,null,null,null,null,"","","","","","","","","","","","",""]
[502,null,null,null,null,null,null,null,null,null,"","","","","","","","","","","","",""]
[503,null,null,null,null,null,null,null,null,null,"","","","","","","","","","","","",""]
[504,null,null,null,null,null,null,null,null,null,"","","","","","","","","","","","",""]
[505,null,null,null,null,null,null,null,null,null,"","","","","","","","","","","","",""]
[506,null,null,null,null,null,null,null,null,null,"","","","","","","","","","","","",""]
[507,null,null,null,null,null,null,null,null,null,"","","","","","","","","","","","",""]
[508,null,null,null,null,null,null,null,null,null,"","","","","","","","","","","","",""]
[509,null,null,null,null,null,null,null,null,null,"","","","","","","","","","","","",""]
[510,null,null,null,null,null,null,null,null,null,"","","","","","","","","","","","",""]
[511,null,null,null,null,null,null,null,null,null,"","","","","","","","","","","","",""]
[512,null,null,null,null,null,null,null,null,null,{"$f":"IF(F523>0,100*((F523-$E$4)/$E$4),\"\")","v":""},{"$f":"IF(G523>0,100*((G523-$E$4)/$E$4),\"\")","v":""},{"$f":"IF(H523>0,100*((H523-$E$4)/$E$4),\"\")","v":""},{"$f":"IF(I523>0,100*((I523-$E$4)/$E$4),\"\")","v":""},{"$f":"IF(J523>0,100*((J523-$E$4)/$E$4),\"\")","v":""},"",{"$f":"IF(F523<>\"\",IF(ABS(K523)>$E$5,\"n.i.O.\",\"i.O.\"),\"\")","v":""},{"$f":"IF(G523<>\"\",IF(ABS(L523)>$E$5,\"n.i.O.\",\"i.O.\"),\"\")","v":""},{"$f":"IF(H523<>\"\",IF(ABS(M523)>$E$5,\"n.i.O.\",\"i.O.\"),\"\")","v":""},{"$f":"IF(I523<>\"\",IF(ABS(N523)>$E$5,\"n.i.O.\",\"i.O.\"),\"\")","v":""},{"$f":"IF(J523<>\"\",IF(ABS(O523)>$E$5,\"n.i.O.\",\"i.O.\"),\"\")","v":""},{"$f":"IF(F523<>\"\",$E$5,\"\")","v":""},{"$f":"IF(F523<>\"\",$E$5*(-1),\"\")","v":""}]
[513,null,null,null,null,null,null,null,null,null,"","","","","",{"$f":"IF(F524>0,IF(AND(F524>0,G524>0),IF(OR(Q524=\"n.i.O.\",S524=\"n.i.O.\",T524=\"n.i.O.\",U524=\"n.i.O.\",V524=\"n.i.O.\"),\"<GA>\",\"OK\"),\"<Test 2>\"),\"\")","v":""},"","","","","","",""]
[514,null,null,null,null,null,null,null,null,null,"","","","","","","","","","","","",""]
[515,null,null,null,null,null,null,null,null,null,"","","","","","","","","","","","",""]
[516,null,null,null,null,null,null,null,null,null,"","","","","","","","","","","","",""]
[517,null,null,null,null,null,null,null,null,null,"","","","","","","","","","","","",""]
[518,null,null,null,null,null,null,null,null,null,"","","","","","","","","","","","",""]
[519,null,null,null,null,null,null,null,null,null,"","","","","","","","","","","","",""]
[520,null,null,null,null,null,null,null,null,null,"","","","","","","","","","","","",""]
[521,null,null,null,null,null,null,null,null,null,"","","","","","","","","","","","",""]
[522,null,null,null,null,null,null,null,null,null,"","","","","","","","","","","","",""]
[523,null,null,null,null,null,null,null,null,null,"","","","","","","","","","","","",""]
[524,null,null,null,null,null,null,null,null,null,"","","","","","","","","","","","",""]
[525,null,null,null,null,null,null,null,null,null,"","","","","","","","","","","","",""]
[526,null,null,null,null,null,null,null,null,null,"","","","","","","","","","","","",""]
[527,null,null,null,null,null,null,null,null,null,"","","","","","","","","","","","",""]
[528,null,null,null,null,null,null,null,null,null,"","","","","","","","","","","","",""]
[529,null,null,null,null,null,null,null,null,null,"","","","","","","","","","","","",""]
[530,null,null,null,null,null,null,null,null,null,"","","","","","","","","","","","",""]
[531,null,null,null,null,null,null,null,null,null,"","","","","","","","","","","","",""]
[532,null,null,null,null,null,null,null,null,null,"","","","","","","","","","","","",""]
[533,null,null,null,null,null,null,null,null,null,"","","","","","","","","","","","",""]
[534,null,null,null,null,null,null,null,null,null,"","","","","","","","","","","","",""]
[535,null,null,null,null,null,null,null,null,null,"","","","","","","","","","","","",""]
[536,null,null,null,null,null,null,null,null,null,"","","","","","","","","","","","",""]
[537,null,null,null,null,null,null,null,null,null,"","","","","","","","","","","","",""]
[538,null,null,null,null,null,null,null,null,null,"","","","","","","","","","","","",""]
[539,null,null,null,null,null,null,null,null,null,"","","","","","","","","","","","",""]
[540,null,null,null,null,null,null,null,null,null,"","","","","","","","","","","","",""]
[541,null,null,null,null,null,null,null,null,null,"","","","","","","","","","","","",""]
[542,null,null,null,null,null,null,null,null,null,"","","","","","","","","","","","",""]
[543,null,null,null,null,null,null,null,null,null,"","","","","","","","","","","","",""]
[544,null,null,null,null,null,null,null,null,null,"","","","","","","","","","","","",""]
[545,null,null,null,null,null,null,null,null,null,"","","","","","","","","","","","",""]
[546,null,null,null,null,null,null,null,null,null,"","","","","","","","","","","","",""]
[547,null,null,null,null,null,null,null,null,null,"","","","","","","","","","","","",""]
[548,null,null,null,null,null,null,null,null,null,"","","","","","","","","","","","",""]
[549,null,null,null,null,null,null,null,null,null,"","","","","","","","","","","","",""]
[550,null,null,null,null,null,null,null,null,null,"","","","","","","","","","","","",""]
[551,null,null,null,null,null,null,null,null,null,"","","","","","","","","","","","",""]
[552,null,null,null,null,null,null,null,null,null,"","","","","","","","","","","","",""]
[553,null,null,null,null,null,null,null,null,null,"","","","","","","","","","","","",""]
[554,null,null,null,null,null,null,null,null,null,"","","","","","","","","","","","",""]
[555,null,null,null,null,null,null,null,null,null,"","","","","","","","","","","","",""]
[556,null,null,null,null,null,null,null,null,null,"","","","","","","","","","","","",""]
[557,null,null,null,null,null,null,null,null,null,"","","","","","","","","","","","",""]
[558,null,null,null,null,null,null,null,null,null,"","","","","","","","","","","","",""]
[559,null,null,null,null,null,null,null,null,null,"","","","","","","","","","","","",""]
[560,null,null,null,null,null,null,null,null,null,"","","","","","","","","","","","",""]
[561,null,null,null,null,null,null,null,null,null,"","","","","","","","","","","","",""]
[562,null,null,null,null,null,null,null,null,null,"","","","","","","","","","","","",""]
[563,null,null,null,null,null,null,null,null,null,"","","","","","","","","","","","",""]
[564,null,null,null,null,null,null,null,null,null,"","","","","","","","","","","","",""]
[565,null,null,null,null,null,null,null,null,null,"","","","","","","","","","","","",""]
[566,null,null,null,null,null,null,null,null,null,"","","","","","","","","","","","",""]
[567,null,null,null,null,null,null,null,null,null,"","","","","","","","","","","","",""]
[568,null,null,null,null,null,null,null,null,null,"","","","","","","","","","","","",""]
[569,null,null,null,null,null,null,null,null,null,"","","","","","","","","","","","",""]
[570,null,null,null,null,null,null,null,null,null,"","","","","","","","","","","","",""]
[571,null,null,null,null,null,null,null,null,null,"","","","","","","","","","","","",""]
[572,null,null,null,null,null,null,null,null,null,"","","","","","","","","","","","",""]
[573,null,null,null,null,null,null,null,null,null,"","","","","","","","","","","","",""]
[574,null,null,null,null,null,null,null,null,null,"","","","","","","","","","","","",""]
[575,null,null,null,null,null,null,null,null,null,"","","","","","","","","","","","",""]
[576,null,null,null,null,null,null,null,null,null,{"$f":"IF(F587>0,100*((F587-$E$4)/$E$4),\"\")","v":""},{"$f":"IF(G587>0,100*((G587-$E$4)/$E$4),\"\")","v":""},{"$f":"IF(H587>0,100*((H587-$E$4)/$E$4),\"\")","v":""},{"$f":"IF(I587>0,100*((I587-$E$4)/$E$4),\"\")","v":""},{"$f":"IF(J587>0,100*((J587-$E$4)/$E$4),\"\")","v":""},"",{"$f":"IF(F587<>\"\",IF(ABS(K587)>$E$5,\"n.i.O.\",\"i.O.\"),\"\")","v":""},{"$f":"IF(G587<>\"\",IF(ABS(L587)>$E$5,\"n.i.O.\",\"i.O.\"),\"\")","v":""},{"$f":"IF(H587<>\"\",IF(ABS(M587)>$E$5,\"n.i.O.\",\"i.O.\"),\"\")","v":""},{"$f":"IF(I587<>\"\",IF(ABS(N587)>$E$5,\"n.i.O.\",\"i.O.\"),\"\")","v":""},{"$f":"IF(J587<>\"\",IF(ABS(O587)>$E$5,\"n.i.O.\",\"i.O.\"),\"\")","v":""},{"$f":"IF(F587<>\"\",$E$5,\"\")","v":""},{"$f":"IF(F587<>\"\",$E$5*(-1),\"\")","v":""}]
[577,null,null,null,null,null,null,null,null,null,"","","","","",{"$f":"IF(F588>0,IF(AND(F588>0,G588>0),IF(OR(Q588=\"n.i.O.\",S588=\"n.i.O.\",T588=\"n.i.O.\",U588=\"n.i.O.\",V588=\"n.i.O.\"),\"<GA>\",\"OK\"),\"<Test 2>\"),\"\")","v":""},"","","","","","",""]
[578,null,null,null,null,null,null,null,null,null,"","","","","","","","","","","","",""]
[579,null,null,null,null,null,null,null,null,null,"","","","","","","","","","","","",""]
[580,null,null,null,null,null,null,null,null,null,"","","","","","","","","","","","",""]
[581,null,null,null,null,null,null,null,null,null,"","","","","","","","","","","","",""]
[582,null,null,null,null,null,null,null,null,null,"","","","","","","","","","","","",""]
[583,null,null,null,null,null,null,null,null,null,"","","","","","","","","","","","",""]
[584,null,null,null,null,null,null,null,null,null,"","","","","","","","","","","","",""]
[585,null,null,null,null,null,null,null,null,null,"","","","","","","","","","","","",""]
[586,null,null,null,null,null,null,null,null,null,"","","","","","","","","","","","",""]
[587,null,null,null,null,null,null,null,null,null,"","","","","","","","","","","","",""]
[588,null,null,null,null,null,null,null,null,null,"","","","","","","","","","","","",""]
[589,null,null,null,null,null,null,null,null,null,"","","","","","","","","","","","",""]
[590,null,null,null,null,null,null,null,null,null,"","","","","","","","","","","","",""]
[591,null,null,null,null,null,null,null,null,null,"","","","","","","","","","","","",""]
[592,null,null,null,null,null,null,null,null,null,"","","","","","","","","","","","",""]
[593,null,null,null,null,null,null,null,null,null,"","","","","","","","","","","","",""]
[594,null,null,null,null,null,null,null,null,null,"","","","","","","","","","","","",""]
[595,null,null,null,null,null,null,null,null,null,"","","","","","","","","","","","",""]
[596,null,null,null,null,null,null,null,null,null,"","","","","","","","","","","","",""]
[597,null,null,null,null,null,null,null,null,null,"","","","","","","","","","","","",""]
[598,null,null,null,null,null,null,null,null,null,"","","","","","","","","","","","",""]
[599,null,null,null,null,null,null,null,null,null,"","","","","","","","","","","","",""]
[600,null,null,null,null,null,null,null,null,null,"","","","","","","","","","","","",""]
[601,null,null,null,null,null,null,null,null,null,"","","","","","","","","","","","",""]
[602,null,null,null,null,null,null,null,null,null,"","","","","","","","","","","","",""]
[603,null,null,null,null,null,null,null,null,null,"","","","","","","","","","","","",""]
[604,null,null,null,null,null,null,null,null,null,"","","","","","","","","","","","",""]
[605,null,null,null,null,null,null,null,null,null,"","","","","","","","","","","","",""]
[606,null,null,null,null,null,null,null,null,null,"","","","","","","","","","","","",""]
[607,null,null,null,null,null,null,null,null,null,"","","","","","","","","","","","",""]
[608,null,null,null,null,null,null,null,null,null,"","","","","","","","","","","","",""]
[609,null,null,null,null,null,null,null,null,null,"","","","","","","","","","","","",""]
[610,null,null,null,null,null,null,null,null,null,"","","","","","","","","","","","",""]
[611,null,null,null,null,null,null,null,null,null,"","","","","","","","","","","","",""]
[612,null,null,null,null,null,null,null,null,null,"","","","","","","","","","","","",""]
[613,null,null,null,null,null,null,null,null,null,"","","","","","","","","","","","",""]
[614,null,null,null,null,null,null,null,null,null,"","","","","","","","","","","","",""]
[615,null,null,null,null,null,null,null,null,null,"","","","","","","","","","","","",""]
[616,null,null,null,null,null,null,null,null,null,"","","","","","","","","","","","",""]
[617,null,null,null,null,null,null,null,null,null,"","","","","","","","","","","","",""]
[618,null,null,null,null,null,null,null,null,null,"","","","","","","","","","","","",""]
[619,null,null,null,null,null,null,null,null,null,"","","","","","","","","","","","",""]
[620,null,null,null,null,null,null,null,null,null,"","","","","","","","","","","","",""]
[621,null,null,null,null,null,null,null,null,null,"","","","","","","","","","","","",""]
[622,null,null,null,null,null,null,null,null,null,"","","","","","","","","","","","",""]
[623,null,null,null,null,null,null,null,null,null,"","","","","","","","","","","","",""]
[624,null,null,null,null,null,null,null,null,null,"","","","","","","","","","","","",""]
[625,null,null,null,null,null,null,null,null,null,"","","","","","","","","","","","",""]
[626,null,null,null,null,null,null,null,null,null,"","","","","","","","","","","","",""]
[627,null,null,null,null,null,null,null,null,null,"","","","","","","","","","","","",""]
[628,null,null,null,null,null,null,null,null,null,"","","","","","","","","","","","",""]
[629,null,null,null,null,null,null,null,null,null,"","","","","","","","","","","","",""]
[630,null,null,null,null,null,null,null,null,null,"","","","","","","","","","","","",""]
[631,null,null,null,null,null,null,null,null,null,"","","","","","","","","","","","",""]
[632,null,null,null,null,null,null,null,null,null,"","","","","","","","","","","","",""]
[633,null,null,null,null,null,null,null,null,null,"","","","","","","","","","","","",""]
[634,null,null,null,null,null,null,null,null,null,"","","","","","","","","","","","",""]
[635,null,null,null,null,null,null,null,null,null,"","","","","","","","","","","","",""]
[636,null,null,null,null,null,null,null,null,null,"","","","","","","","","","","","",""]
[637,null,null,null,null,null,null,null,null,null,"","","","","","","","","","","","",""]
[638,null,null,null,null,null,null,null,null,null,"","","","","","","","","","","","",""]
[639,null,null,null,null,null,null,null,null,null,"","","","","","","","","","","","",""]
[640,null,null,null,null,null,null,null,null,null,{"$f":"IF(F651>0,100*((F651-$E$4)/$E$4),\"\")","v":""},{"$f":"IF(G651>0,100*((G651-$E$4)/$E$4),\"\")","v":""},{"$f":"IF(H651>0,100*((H651-$E$4)/$E$4),\"\")","v":""},{"$f":"IF(I651>0,100*((I651-$E$4)/$E$4),\"\")","v":""},{"$f":"IF(J651>0,100*((J651-$E$4)/$E$4),\"\")","v":""},"",{"$f":"IF(F651<>\"\",IF(ABS(K651)>$E$5,\"n.i.O.\",\"i.O.\"),\"\")","v":""},{"$f":"IF(G651<>\"\",IF(ABS(L651)>$E$5,\"n.i.O.\",\"i.O.\"),\"\")","v":""},{"$f":"IF(H651<>\"\",IF(ABS(M651)>$E$5,\"n.i.O.\",\"i.O.\"),\"\")","v":""},{"$f":"IF(I651<>\"\",IF(ABS(N651)>$E$5,\"n.i.O.\",\"i.O.\"),\"\")","v":""},{"$f":"IF(J651<>\"\",IF(ABS(O651)>$E$5,\"n.i.O.\",\"i.O.\"),\"\")","v":""},{"$f":"IF(F651<>\"\",$E$5,\"\")","v":""},{"$f":"IF(F651<>\"\",$E$5*(-1),\"\")","v":""}]
[641,null,null,null,null,null,null,null,null,null,"","","","","",{"$f":"IF(F652>0,IF(AND(F652>0,G652>0),IF(OR(Q652=\"n.i.O.\",S652=\"n.i.O.\",T652=\"n.i.O.\",U652=\"n.i.O.\",V652=\"n.i.O.\"),\"<GA>\",\"OK\"),\"<Test 2>\"),\"\")","v":""},"","","","","","",""]
[642,null,null,null,null,null,null,null,null,null,"","","","","","","","","","","","",""]
[643,null,null,null,null,null,null,null,null,null,"","","","","","","","","","","","",""]
[644,null,null,null,null,null,null,null,null,null,"","","","","","","","","","","","",""]
[645,null,null,null,null,null,null,null,null,null,"","","","","","","","","","","","",""]
[646,null,null,null,null,null,null,null,null,null,"","","","","","","","","","","","",""]
[647,null,null,null,null,null,null,null,null,null,"","","","","","","","","","","","",""]
[648,null,null,null,null,null,null,null,null,null,"","","","","","","","","","","","",""]
[649,null,null,null,null,null,null,null,null,null,"","","","","","","","","","","","",""]
[650,null,null,null,null,null,null,null,null,null,"","","","","","","","","","","","",""]
[651,null,null,null,null,null,null,null,null,null,"","","","","","","","","","","","",""]
[652,null,null,null,null,null,null,null,null,null,"","","","","","","","","","","","",""]
[653,null,null,null,null,null,null,null,null,null,"","","","","","","","","","","","",""]
[654,null,null,null,null,null,null,null,null,null,"","","","","","","","","","","","",""]
[655,null,null,null,null,null,null,null,null,null,"","","","","","","","","","","","",""]
[656,null,null,null,null,null,null,null,null,null,"","","","","","","","","","","","",""]
[657,null,null,null,null,null,null,null,null,null,"","","","","","","","","","","","",""]
[658,null,null,null,null,null,null,null,null,null,"","","","","","","","","","","","",""]
[659,null,null,null,null,null,null,null,null,null,"","","","","","","","","","","","",""]
[660,null,null,null,null,null,null,null,null,null,"","","","","","","","","","","","",""]
[661,null,null,null,null,null,null,null,null,null,"","","","","","","","","","","","",""]
[662,null,null,null,null,null,null,null,null,null,"","","","","","","","","","","","",""]
[663,null,null,null,null,null,null,null,null,null,"","","","","","","","","","","","",""]
[664,null,null,null,null,null,null,null,null,null,"","","","","","","","","","","","",""]
[665,null,null,null,null,null,null,null,null,null,"","","","","","","","","","","","",""]
[666,null,null,null,null,null,null,null,null,null,"","","","","","","","","","","","",""]
[667,null,null,null,null,null,null,null,null,null,"","","","","","","","","","","","",""]
[668,null,null,null,null,null,null,null,null,null,"","","","","","","","","","","","",""]
[669,null,null,null,null,null,null,null,null,null,"","","","","","","","","","","","",""]
[670,null,null,null,null,null,null,null,null,null,"","","","","","","","","","","","",""]
[671,null,null,null,null,null,null,null,null,null,"","","","","","","","","","","","",""]
[672,null,null,null,null,null,null,null,null,null,"","","","","","","","","","","","",""]
[673,null,null,null,null,null,null,null,null,null,"","","","","","","","","","","","",""]
[674,null,null,null,null,null,null,null,null,null,"","","","","","","","","","","","",""]
[675,null,null,null,null,null,null,null,null,null,"","","","","","","","","","","","",""]
[676,null,null,null,null,null,null,null,null,null,"","","","","","","","","","","","",""]
[677,null,null,null,null,null,null,null,null,null,"","","","","","","","","","","","",""]
[678,null,null,null,null,null,null,null,null,null,"","","","","","","","","","","","",""]
[679,null,null,null,null,null,null,null,null,null,"","","","","","","","","","","","",""]
[680,null,null,null,null,null,null,null,null,null,"","","","","","","","","","","","",""]
[681,null,null,null,null,null,null,null,null,null,"","","","","","","","","","","","",""]
[682,null,null,null,null,null,null,null,null,null,"","","","","","","","","","","","",""]
[683,null,null,null,null,null,null,null,null,null,"","","","","","","","","","","","",""]
[684,null,null,null,null,null,null,null,null,null,"","","","","","","","","","","","",""]
[685,null,null,null,null,null,null,null,null,null,"","","","","","","","","","","","",""]
[686,null,null,null,null,null,null,null,null,null,"","","","","","","","","","","","",""]
[687,null,null,null,null,null,null,null,null,null,"","","","","","","","","","","","",""]
[688,null,null,null,null,null,null,null,null,null,"","","","","","","","","","","","",""]
[689,null,null,null,null,null,null,null,null,null,"","","","","","","","","","","","",""]
[690,null,null,null,null,null,null,null,null,null,"","","","","","","","","","","","",""]
[691,null,null,null,null,null,null,null,null,null,"","","","","","","","","","","","",""]
[692,null,null,null,null,null,null,null,null,null,"","","","","","","","","","","","",""]
[693,null,null,null,null,null,null,null,null,null,"","","","","","","","","","","","",""]
[694,null,null,null,null,null,null,null,null,null,"","","","","","","","","","","","",""]
[695,null,null,null,null,null,null,null,null,null,"","","","","","","","","","","","",""]
[696,null,null,null,null,null,null,null,null,null,"","","","","","","","","","","","",""]
[697,null,null,null,null,null,null,null,null,null,"","","","","","","","","","","","",""]
[698,null,null,null,null,null,null,null,null,null,"","","","","","","","","","","","",""]
[699,null,null,null,null,null,null,null,null,null,"","","","","","","","","","","","",""]
[700,null,null,null,null,null,null,null,null,null,"","","","","","","","","","","","",""]
[701,null,null,null,null,null,null,null,null,null,"","","","","","","","","","","","",""]
[702,null,null,null,null,null,null,null,null,null,"","","","","","","","","","","","",""]
[703,null,null,null,null,null,null,null,null,null,"","","","","","","","","","","","",""]
[704,null,null,null,null,null,null,null,null,null,{"$f":"IF(F715>0,100*((F715-$E$4)/$E$4),\"\")","v":""},{"$f":"IF(G715>0,100*((G715-$E$4)/$E$4),\"\")","v":""},{"$f":"IF(H715>0,100*((H715-$E$4)/$E$4),\"\")","v":""},{"$f":"IF(I715>0,100*((I715-$E$4)/$E$4),\"\")","v":""},{"$f":"IF(J715>0,100*((J715-$E$4)/$E$4),\"\")","v":""},"",{"$f":"IF(F715<>\"\",IF(ABS(K715)>$E$5,\"n.i.O.\",\"i.O.\"),\"\")","v":""},{"$f":"IF(G715<>\"\",IF(ABS(L715)>$E$5,\"n.i.O.\",\"i.O.\"),\"\")","v":""},{"$f":"IF(H715<>\"\",IF(ABS(M715)>$E$5,\"n.i.O.\",\"i.O.\"),\"\")","v":""},{"$f":"IF(I715<>\"\",IF(ABS(N715)>$E$5,\"n.i.O.\",\"i.O.\"),\"\")","v":""},{"$f":"IF(J715<>\"\",IF(ABS(O715)>$E$5,\"n.i.O.\",\"i.O.\"),\"\")","v":""},{"$f":"IF(F715<>\"\",$E$5,\"\")","v":""},{"$f":"IF(F715<>\"\",$E$5*(-1),\"\")","v":""}]
[705,null,null,null,null,null,null,null,null,null,"","","","","",{"$f":"IF(F716>0,IF(AND(F716>0,G716>0),IF(OR(Q716=\"n.i.O.\",S716=\"n.i.O.\",T716=\"n.i.O.\",U716=\"n.i.O.\",V716=\"n.i.O.\"),\"<GA>\",\"OK\"),\"<Test 2>\"),\"\")","v":""},"","","","","","",""]
[706,null,null,null,null,null,null,null,null,null,"","","","","","","","","","","","",""]
[707,null,null,null,null,null,null,null,null,null,"","","","","","","","","","","","",""]
[708,null,null,null,null,null,null,null,null,null,"","","","","","","","","","","","",""]
[709,null,null,null,null,null,null,null,null,null,"","","","","","","","","","","","",""]
[710,null,null,null,null,null,null,null,null,null,"","","","","","","","","","","","",""]
[711,null,null,null,null,null,null,null,null,null,"","","","","","","","","","","","",""]
[712,null,null,null,null,null,null,null,null,null,"","","","","","","","","","","","",""]
[713,null,null,null,null,null,null,null,null,null,"","","","","","","","","","","","",""]
[714,null,null,null,null,null,null,null,null,null,"","","","","","","","","","","","",""]
[715,null,null,null,null,null,null,null,null,null,"","","","","","","","","","","","",""]
[716,null,null,null,null,null,null,null,null,null,"","","","","","","","","","","","",""]
[717,null,null,null,null,null,null,null,null,null,"","","","","","","","","","","","",""]
[718,null,null,null,null,null,null,null,null,null,"","","","","","","","","","","","",""]
[719,null,null,null,null,null,null,null,null,null,"","","","","","","","","","","","",""]
[720,null,null,null,null,null,null,null,null,null,"","","","","","","","","","","","",""]
[721,null,null,null,null,null,null,null,null,null,"","","","","","","","","","","","",""]
[722,null,null,null,null,null,null,null,null,null,"","","","","","","","","","","","",""]
[723,null,null,null,null,null,null,null,null,null,"","","","","","","","","","","","",""]
[724,null,null,null,null,null,null,null,null,null,"","","","","","","","","","","","",""]
[725,null,null,null,null,null,null,null,null,null,"","","","","","","","","","","","",""]
[726,null,null,null,null,null,null,null,null,null,"","","","","","","","","","","","",""]
[727,null,null,null,null,null,null,null,null,null,"","","","","","","","","","","","",""]
[728,null,null,null,null,null,null,null,null,null,"","","","","","","","","","","","",""]
[729,null,null,null,null,null,null,null,null,null,"","","","","","","","","","","","",""]
[730,null,null,null,null,null,null,null,null,null,"","","","","","","","","","","","",""]
[731,null,null,null,null,null,null,null,null,null,"","","","","","","","","","","","",""]
[732,null,null,null,null,null,null,null,null,null,"","","","","","","","","","","","",""]
[733,null,null,null,null,null,null,null,null,null,"","","","","","","","","","","","",""]
[734,null,null,null,null,null,null,null,null,null,"","","","","","","","","","","","",""]
[735,null,null,null,null,null,null,null,null,null,"","","","","","","","","","","","",""]
[736,null,null,null,null,null,null,null,null,null,"","","","","","","","","","","","",""]
[737,null,null,null,null,null,null,null,null,null,"","","","","","","","","","","","",""]
[738,null,null,null,null,null,null,null,null,null,"","","","","","","","","","","","",""]
[739,null,null,null,null,null,null,null,null,null,"","","","","","","","","","","","",""]
[740,null,null,null,null,null,null,null,null,null,"","","","","","","","","","","","",""]
[741,null,null,null,null,null,null,null,null,null,"","","","","","","","","","","","",""]
[742,null,null,null,null,null,null,null,null,null,"","","","","","","","","","","","",""]
[743,null,null,null,null,null,null,null,null,null,"","","","","","","","","","","","",""]
[744,null,null,null,null,null,null,null,null,null,"","","","","","","","","","","","",""]
[745,null,null,null,null,null,null,null,null,null,"","","","","","","","","","","","",""]
[746,null,null,null,null,null,null,null,null,null,"","","","","","","","","","","","",""]
[747,null,null,null,null,null,null,null,null,null,"","","","","","","","","","","","",""]
[748,null,null,null,null,null,null,null,null,null,"","","","","","","","","","","","",""]
[749,null,null,null,null,null,null,null,null,null,"","","","","","","","","","","","",""]
[750,null,null,null,null,null,null,null,null,null,"","","","","","","","","","","","",""]
[751,null,null,null,null,null,null,null,null,null,"","","","","","","","","","","","",""]
[752,null,null,null,null,null,null,null,null,null,"","","","","","","","","","","","",""]
[753,null,null,null,null,null,null,null,null,null,"","","","","","","","","","","","",""]
[754,null,null,null,null,null,null,null,null,null,"","","","","","","","","","","","",""]
[755,null,null,null,null,null,null,null,null,null,"","","","","","","","","","","","",""]
[756,null,null,null,null,null,null,null,null,null,"","","","","","","","","","","","",""]
[757,null,null,null,null,null,null,null,null,null,"","","","","","","","","","","","",""]
[758,null,null,null,null,null,null,null,null,null,"","","","","","","","","","","","",""]
[759,null,null,null,null,null,null,null,null,null,"","","","","","","","","","","","",""]
[760,null,null,null,null,null,null,null,null,null,"","","","","","","","","","","","",""]
[761,null,null,null,null,null,null,null,null,null,"","","","","","","","","","","","",""]
[762,null,null,null,null,null,null,null,null,null,"","","","","","","","","","","","",""]
[763,null,null,null,null,null,null,null,null,null,"","","","","","","","","","","","",""]
[764,null,null,null,null,null,null,null,null,null,"","","","","","","","","","","","",""]
[765,null,null,null,null,null,null,null,null,null,"","","","","","","","","","","","",""]
[766,null,null,null,null,null,null,null,null,null,"","","","","","","","","","","","",""]
[767,null,null,null,null,null,null,null,null,null,"","","","","","","","","","","","",""]
[768,null,null,null,null,null,null,null,null,null,{"$f":"IF(F779>0,100*((F779-$E$4)/$E$4),\"\")","v":""},{"$f":"IF(G779>0,100*((G779-$E$4)/$E$4),\"\")","v":""},{"$f":"IF(H779>0,100*((H779-$E$4)/$E$4),\"\")","v":""},{"$f":"IF(I779>0,100*((I779-$E$4)/$E$4),\"\")","v":""},{"$f":"IF(J779>0,100*((J779-$E$4)/$E$4),\"\")","v":""},"",{"$f":"IF(F779<>\"\",IF(ABS(K779)>$E$5,\"n.i.O.\",\"i.O.\"),\"\")","v":""},{"$f":"IF(G779<>\"\",IF(ABS(L779)>$E$5,\"n.i.O.\",\"i.O.\"),\"\")","v":""},{"$f":"IF(H779<>\"\",IF(ABS(M779)>$E$5,\"n.i.O.\",\"i.O.\"),\"\")","v":""},{"$f":"IF(I779<>\"\",IF(ABS(N779)>$E$5,\"n.i.O.\",\"i.O.\"),\"\")","v":""},{"$f":"IF(J779<>\"\",IF(ABS(O779)>$E$5,\"n.i.O.\",\"i.O.\"),\"\")","v":""},{"$f":"IF(F779<>\"\",$E$5,\"\")","v":""},{"$f":"IF(F779<>\"\",$E$5*(-1),\"\")","v":""}]
[769,null,null,null,null,null,null,null,null,null,"","","","","",{"$f":"IF(F780>0,IF(AND(F780>0,G780>0),IF(OR(Q780=\"n.i.O.\",S780=\"n.i.O.\",T780=\"n.i.O.\",U780=\"n.i.O.\",V780=\"n.i.O.\"),\"<GA>\",\"OK\"),\"<Test 2>\"),\"\")","v":""},"","","","","","",""]
[770,null,null,null,null,null,null,null,null,null,"","","","","","","","","","","","",""]
[771,null,null,null,null,null,null,null,null,null,"","","","","","","","","","","","",""]
[772,null,null,null,null,null,null,null,null,null,"","","","","","","","","","","","",""]
[773,null,null,null,null,null,null,null,null,null,"","","","","","","","","","","","",""]
[774,null,null,null,null,null,null,null,null,null,"","","","","","","","","","","","",""]
[775,null,null,null,null,null,null,null,null,null,"","","","","","","","","","","","",""]
[776,null,null,null,null,null,null,null,null,null,"","","","","","","","","","","","",""]
[777,null,null,null,null,null,null,null,null,null,"","","","","","","","","","","","",""]
[778,null,null,null,null,null,null,null,null,null,"","","","","","","","","","","","",""]
[779,null,null,null,null,null,null,null,null,null,"","","","","","","","","","","","",""]
[780,null,null,null,null,null,null,null,null,null,"","","","","","","","","","","","",""]
[781,null,null,null,null,null,null,null,null,null,"","","","","","","","","","","","",""]
[782,null,null,null,null,null,null,null,null,null,"","","","","","","","","","","","",""]
[783,null,null,null,null,null,null,null,null,null,"","","","","","","","","","","","",""]
[784,null,null,null,null,null,null,null,null,null,"","","","","","","","","","","","",""]
[785,null,null,null,null,null,null,null,null,null,"","","","","","","","","","","","",""]
[786,null,null,null,null,null,null,null,null,null,"","","","","","","","","","","","",""]
[787,null,null,null,null,null,null,null,null,null,"","","","","","","","","","","","",""]
[788,null,null,null,null,null,null,null,null,null,"","","","","","","","","","","","",""]
[789,null,null,null,null,null,null,null,null,null,"","","","","","","","","","","","",""]
[790,null,null,null,null,null,null,null,null,null,"","","","","","","","","","","","",""]
[791,null,null,null,null,null,null,null,null,null,"","","","","","","","","","","","",""]
[792,null,null,null,null,null,null,null,null,null,"","","","","","","","","","","","",""]
[793,null,null,null,null,null,null,null,null,null,"","","","","","","","","","","","",""]
[794,null,null,null,null,null,null,null,null,null,"","","","","","","","","","","","",""]
[795,null,null,null,null,null,null,null,null,null,"","","","","","","","","","","","",""]
[796,null,null,null,null,null,null,null,null,null,"","","","","","","","","","","","",""]
[797,null,null,null,null,null,null,null,null,null,"","","","","","","","","","","","",""]
[798,null,null,null,null,null,null,null,null,null,"","","","","","","","","","","","",""]
[799,null,null,null,null,null,null,null,null,null,"","","","","","","","","","","","",""]
[800,null,null,null,null,null,null,null,null,null,"","","","","","","","","","","","",""]
[801,null,null,null,null,null,null,null,null,null,"","","","","","","","","","","","",""]
[802,null,null,null,null,null,null,null,null,null,"","","","","","","","","","","","",""]
[803,null,null,null,null,null,null,null,null,null,"","","","","","","","","","","","",""]
[804,null,null,null,null,null,null,null,null,null,"","","","","","","","","","","","",""]
[805,null,null,null,null,null,null,null,null,null,"","","","","","","","","","","","",""]
[806,null,null,null,null,null,null,null,null,null,"","","","","","","","","","","","",""]
[807,null,null,null,null,null,null,null,null,null,"","","","","","","","","","","","",""]
[808,null,null,null,null,null,null,null,null,null,"","","","","","","","","","","","",""]
[809,null,null,null,null,null,null,null,null,null,"","","","","","","","","","","","",""]
[810,null,null,null,null,null,null,null,null,null,"","","","","","","","","","","","",""]
[811,null,null,null,null,null,null,null,null,null,"","","","","","","","","","","","",""]
[812,null,null,null,null,null,null,null,null,null,"","","","","","","","","","","","",""]
[813,null,null,null,null,null,null,null,null,null,"","","","","","","","","","","","",""]
[814,null,null,null,null,null,null,null,null,null,"","","","","","","","","","","","",""]
[815,null,null,null,null,null,null,null,null,null,"","","","","","","","","","","","",""]
[816,null,null,null,null,null,null,null,null,null,"","","","","","","","","","","","",""]
[817,null,null,null,null,null,null,null,null,null,"","","","","","","","","","","","",""]
[818,null,null,null,null,null,null,null,null,null,"","","","","","","","","","","","",""]
[819,null,null,null,null,null,null,null,null,null,"","","","","","","","","","","","",""]
[820,null,null,null,null,null,null,null,null,null,"","","","","","","","","","","","",""]
[821,null,null,null,null,null,null,null,null,null,"","","","","","","","","","","","",""]
[822,null,null,null,null,null,null,null,null,null,"","","","","","","","","","","","",""]
[823,null,null,null,null,null,null,null,null,null,"","","","","","","","","","","","",""]
[824,null,null,null,null,null,null,null,null,null,"","","","","","","","","","","","",""]
[825,null,null,null,null,null,null,null,null,null,"","","","","","","","","","","","",""]
[826,null,null,null,null,null,null,null,null,null,"","","","","","","","","","","","",""]
[827,null,null,null,null,null,null,null,null,null,"","","","","","","","","","","","",""]
[828,null,null,null,null,null,null,null,null,null,"","","","","","","","","","","","",""]
[829,null,null,null,null,null,null,null,null,null,"","","","","","","","","","","","",""]
[830,null,null,null,null,null,null,null,null,null,"","","","","","","","","","","","",""]
[831,null,null,null,null,null,null,null,null,null,"","","","","","","","","","","","",""]
[832,null,null,null,null,null,null,null,null,null,{"$f":"IF(F843>0,100*((F843-$E$4)/$E$4),\"\")","v":""},{"$f":"IF(G843>0,100*((G843-$E$4)/$E$4),\"\")","v":""},{"$f":"IF(H843>0,100*((H843-$E$4)/$E$4),\"\")","v":""},{"$f":"IF(I843>0,100*((I843-$E$4)/$E$4),\"\")","v":""},{"$f":"IF(J843>0,100*((J843-$E$4)/$E$4),\"\")","v":""},"",{"$f":"IF(F843<>\"\",IF(ABS(K843)>$E$5,\"n.i.O.\",\"i.O.\"),\"\")","v":""},{"$f":"IF(G843<>\"\",IF(ABS(L843)>$E$5,\"n.i.O.\",\"i.O.\"),\"\")","v":""},{"$f":"IF(H843<>\"\",IF(ABS(M843)>$E$5,\"n.i.O.\",\"i.O.\"),\"\")","v":""},{"$f":"IF(I843<>\"\",IF(ABS(N843)>$E$5,\"n.i.O.\",\"i.O.\"),\"\")","v":""},{"$f":"IF(J843<>\"\",IF(ABS(O843)>$E$5,\"n.i.O.\",\"i.O.\"),\"\")","v":""},{"$f":"IF(F843<>\"\",$E$5,\"\")","v":""},{"$f":"IF(F843<>\"\",$E$5*(-1),\"\")","v":""}]
[833,null,null,null,null,null,null,null,null,null,"","","","","",{"$f":"IF(F844>0,IF(AND(F844>0,G844>0),IF(OR(Q844=\"n.i.O.\",S844=\"n.i.O.\",T844=\"n.i.O.\",U844=\"n.i.O.\",V844=\"n.i.O.\"),\"<GA>\",\"OK\"),\"<Test 2>\"),\"\")","v":""},"","","","","","",""]
[834,null,null,null,null,null,null,null,null,null,"","","","","","","","","","","","",""]
[835,null,null,null,null,null,null,null,null,null,"","","","","","","","","","","","",""]
[836,null,null,null,null,null,null,null,null,null,"","","","","","","","","","","","",""]
[837,null,null,null,null,null,null,null,null,null,"","","","","","","","","","","","",""]
[838,null,null,null,null,null,null,null,null,null,"","","","","","","","","","","","",""]
[839,null,null,null,null,null,null,null,null,null,"","","","","","","","","","","","",""]
[840,null,null,null,null,null,null,null,null,null,"","","","","","","","","","","","",""]
[841,null,null,null,null,null,null,null,null,null,"","","","","","","","","","","","",""]
[842,null,null,null,null,null,null,null,null,null,"","","","","","","","","","","","",""]
[843,null,null,null,null,null,null,null,null,null,"","","","","","","","","","","","",""]
[844,null,null,null,null,null,null,null,null,null,"","","","","","","","","","","","",""]
[845,null,null,null,null,null,null,null,null,null,"","","","","","","","","","","","",""]
[846,null,null,null,null,null,null,null,null,null,"","","","","","","","","","","","",""]
[847,null,null,null,null,null,null,null,null,null,"","","","","","","","","","","","",""]
[848,null,null,null,null,null,null,null,null,null,"","","","","","","","","","","","",""]
[849,null,null,null,null,null,null,null,null,null,"","","","","","","","","","","","",""]
[850,null,null,null,null,null,null,null,null,null,"","","","","","","","","","","","",""]
[851,null,null,null,null,null,null,null,null,null,"","","","","","","","","","","","",""]
[852,null,null,null,null,null,null,null,null,null,"","","","","","","","","","","","",""]
[853,null,null,null,null,null,null,null,null,null,"","","","","","","","","","","","",""]
[854,null,null,null,null,null,null,null,null,null,"","","","","","","","","","","","",""]
[855,null,null,null,null,null,null,null,null,null,"","","","","","","","","","","","",""]
[856,null,null,null,null,null,null,null,null,null,"","","","","","","","","","","","",""]
[857,null,null,null,null,null,null,null,null,null,"","","","","","","","","","","","",""]
[858,null,null,null,null,null,null,null,null,null,"","","","","","","","","","","","",""]
[859,null,null,null,null,null,null,null,null,null,"","","","","","","","","","","","",""]
[860,null,null,null,null,null,null,null,null,null,"","","","","","","","","","","","",""]
[861,null,null,null,null,null,null,null,null,null,"","","","","","","","","","","","",""]
[862,null,null,null,null,null,null,null,null,null,"","","","","","","","","","","","",""]
[863,null,null,null,null,null,null,null,null,null,"","","","","","","","","","","","",""]
[864,null,null,null,null,null,null,null,null,null,"","","","","","","","","","","","",""]
[865,null,null,null,null,null,null,null,null,null,"","","","","","","","","","","","",""]
[866,null,null,null,null,null,null,null,null,null,"","","","","","","","","","","","",""]
[867,null,null,null,null,null,null,null,null,null,"","","","","","","","","","","","",""]
[868,null,null,null,null,null,null,null,null,null,"","","","","","","","","","","","",""]
[869,null,null,null,null,null,null,null,null,null,"","","","","","","","","","","","",""]
[870,null,null,null,null,null,null,null,null,null,"","","","","","","","","","","","",""]
[871,null,null,null,null,null,null,null,null,null,"","","","","","","","","","","","",""]
[872,null,null,null,null,null,null,null,null,null,"","","","","","","","","","","","",""]
[873,null,null,null,null,null,null,null,null,null,"","","","","","","","","","","","",""]
[874,null,null,null,null,null,null,null,null,null,"","","","","","","","","","","","",""]
[875,null,null,null,null,null,null,null,null,null,"","","","","","","","","","","","",""]
[876,null,null,null,null,null,null,null,null,null,"","","","","","","","","","","","",""]
[877,null,null,null,null,null,null,null,null,null,"","","","","","","","","","","","",""]
[878,null,null,null,null,null,null,null,null,null,"","","","","","","","","","","","",""]
[879,null,null,null,null,null,null,null,null,null,"","","","","","","","","","","","",""]
[880,null,null,null,null,null,null,null,null,null,"","","","","","","","","","","","",""]
[881,null,null,null,null,null,null,null,null,null,"","","","","","","","","","","","",""]
[882,null,null,null,null,null,null,null,null,null,"","","","","","","","","","","","",""]
[883,null,null,null,null,null,null,null,null,null,"","","","","","","","","","","","",""]
[884,null,null,null,null,null,null,null,null,null,"","","","","","","","","","","","",""]
[885,null,null,null,null,null,null,null,null,null,"","","","","","","","","","","","",""]
[886,null,null,null,null,null,null,null,null,null,"","","","","","","","","","","","",""]
[887,null,null,null,null,null,null,null,null,null,"","","","","","","","","","","","",""]
[888,null,null,null,null,null,null,null,null,null,"","","","","","","","","","","","",""]
[889,null,null,null,null,null,null,null,null,null,"","","","","","","","","","","","",""]
[890,null,null,null,null,null,null,null,null,null,"","","","","","","","","","","","",""]
[891,null,null,null,null,null,null,null,null,null,"","","","","","","","","","","","",""]
[892,null,null,null,null,null,null,null,null,null,"","","","","","","","","","","","",""]
[893,null,null,null,null,null,null,null,null,null,"","","","","","","","","","","","",""]
[894,null,null,null,null,null,null,null,null,null,"","","","","","","","","","","","",""]
[895,null,null,null,null,null,null,null,null,null,"","","","","","","","","","","","",""]
[896,null,null,null,null,null,null,null,null,null,{"$f":"IF(F907>0,100*((F907-$E$4)/$E$4),\"\")","v":""},{"$f":"IF(G907>0,100*((G907-$E$4)/$E$4),\"\")","v":""},{"$f":"IF(H907>0,100*((H907-$E$4)/$E$4),\"\")","v":""},{"$f":"IF(I907>0,100*((I907-$E$4)/$E$4),\"\")","v":""},{"$f":"IF(J907>0,100*((J907-$E$4)/$E$4),\"\")","v":""},"",{"$f":"IF(F907<>\"\",IF(ABS(K907)>$E$5,\"n.i.O.\",\"i.O.\"),\"\")","v":""},{"$f":"IF(G907<>\"\",IF(ABS(L907)>$E$5,\"n.i.O.\",\"i.O.\"),\"\")","v":""},{"$f":"IF(H907<>\"\",IF(ABS(M907)>$E$5,\"n.i.O.\",\"i.O.\"),\"\")","v":""},{"$f":"IF(I907<>\"\",IF(ABS(N907)>$E$5,\"n.i.O.\",\"i.O.\"),\"\")","v":""},{"$f":"IF(J907<>\"\",IF(ABS(O907)>$E$5,\"n.i.O.\",\"i.O.\"),\"\")","v":""},{"$f":"IF(F907<>\"\",$E$5,\"\")","v":""},{"$f":"IF(F907<>\"\",$E$5*(-1),\"\")","v":""}]
[897,null,null,null,null,null,null,null,null,null,"","","","","",{"$f":"IF(F908>0,IF(AND(F908>0,G908>0),IF(OR(Q908=\"n.i.O.\",S908=\"n.i.O.\",T908=\"n.i.O.\",U908=\"n.i.O.\",V908=\"n.i.O.\"),\"<GA>\",\"OK\"),\"<Test 2>\"),\"\")","v":""},"","","","","","",""]
[898,null,null,null,null,null,null,null,null,null,"","","","","","","","","","","","",""]
[899,null,null,null,null,null,null,null,null,null,"","","","","","","","","","","","",""]
[900,null,null,null,null,null,null,null,null,null,"","","","","","","","","","","","",""]
[901,null,null,null,null,null,null,null,null,null,"","","","","","","","","","","","",""]
[902,null,null,null,null,null,null,null,null,null,"","","","","","","","","","","","",""]
[903,null,null,null,null,null,null,null,null,null,"","","","","","","","","","","","",""]
[904,null,null,null,null,null,null,null,null,null,"","","","","","","","","","","","",""]
[905,null,null,null,null,null,null,null,null,null,"","","","","","","","","","","","",""]
[906,null,null,null,null,null,null,null,null,null,"","","","","","","","","","","","",""]
[907,null,null,null,null,null,null,null,null,null,"","","","","","","","","","","","",""]
[908,null,null,null,null,null,null,null,null,null,"","","","","","","","","","","","",""]
[909,null,null,null,null,null,null,null,null,null,"","","","","","","","","","","","",""]
[910,null,null,null,null,null,null,null,null,null,"","","","","","","","","","","","",""]
[911,null,null,null,null,null,null,null,null,null,"","","","","","","","","","","","",""]
[912,null,null,null,null,null,null,null,null,null,"","","","","","","","","","","","",""]
[913,null,null,null,null,null,null,null,null,null,"","","","","","","","","","","","",""]
[914,null,null,null,null,null,null,null,null,null,"","","","","","","","","","","","",""]
[915,null,null,null,null,null,null,null,null,null,"","","","","","","","","","","","",""]
[916,null,null,null,null,null,null,null,null,null,"","","","","","","","","","","","",""]
[917,null,null,null,null,null,null,null,null,null,"","","","","","","","","","","","",""]
[918,null,null,null,null,null,null,null,null,null,"","","","","","","","","","","","",""]
[919,null,null,null,null,null,null,null,null,null,"","","","","","","","","","","","",""]
[920,null,null,null,null,null,null,null,null,null,"","","","","","","","","","","","",""]
[921,null,null,null,null,null,null,null,null,null,"","","","","","","","","","","","",""]
[922,null,null,null,null,null,null,null,null,null,"","","","","","","","","","","","",""]
[923,null,null,null,null,null,null,null,null,null,"","","","","","","","","","","","",""]
[924,null,null,null,null,null,null,null,null,null,"","","","","","","","","","","","",""]
[925,null,null,null,null,null,null,null,null,null,"","","","","","","","","","","","",""]
[926,null,null,null,null,null,null,null,null,null,"","","","","","","","","","","","",""]
[927,null,null,null,null,null,null,null,null,null,"","","","","","","","","","","","",""]
[928,null,null,null,null,null,null,null,null,null,"","","","","","","","","","","","",""]
[929,null,null,null,null,null,null,null,null,null,"","","","","","","","","","","","",""]
[930,null,null,null,null,null,null,null,null,null,"","","","","","","","","","","","",""]
[931,null,null,null,null,null,null,null,null,null,"","","","","","","","","","","","",""]
[932,null,null,null,null,null,null,null,null,null,"","","","","","","","","","","","",""]
[933,null,null,null,null,null,null,null,null,null,"","","","","","","","","","","","",""]
[934,null,null,null,null,null,null,null,null,null,"","","","","","","","","","","","",""]
[935,null,null,null,null,null,null,null,null,null,"","","","","","","","","","","","",""]
[936,null,null,null,null,null,null,null,null,null,"","","","","","","","","","","","",""]
[937,null,null,null,null,null,null,null,null,null,"","","","","","","","","","","","",""]
[938,null,null,null,null,null,null,null,null,null,"","","","","","","","","","","","",""]
[939,null,null,null,null,null,null,null,null,null,"","","","","","","","","","","","",""]
[940,null,null,null,null,null,null,null,null,null,"","","","","","","","","","","","",""]
[941,null,null,null,null,null,null,null,null,null,"","","","","","","","","","","","",""]
[942,null,null,null,null,null,null,null,null,null,"","","","","","","","","","","","",""]
[943,null,null,null,null,null,null,null,null,null,"","","","","","","","","","","","",""]
[944,null,null,null,null,null,null,null,null,null,"","","","","","","","","","","","",""]
[945,null,null,null,null,null,null,null,null,null,"","","","","","","","","","","","",""]
[946,null,null,null,null,null,null,null,null,null,"","","","","","","","","","","","",""]
[947,null,null,null,null,null,null,null,null,null,"","","","","","","","","","","","",""]
[948,null,null,null,null,null,null,null,null,null,"","","","","","","","","","","","",""]
[949,null,null,null,null,null,null,null,null,null,"","","","","","","","","","","","",""]
[950,null,null,null,null,null,null,null,null,null,"","","","","","","","","","","","",""]
[951,null,null,null,null,null,null,null,null,null,"","","","","","","","","","","","",""]
[952,null,null,null,null,null,null,null,null,null,"","","","","","","","","","","","",""]
[953,null,null,null,null,null,null,null,null,null,"","","","","","","","","","","","",""]
[954,null,null,null,null,null,null,null,null,null,"","","","","","","","","","","","",""]
[955,null,null,null,null,null,null,null,null,null,"","","","","","","","","","","","",""]
[956,null,null,null,null,null,null,null,null,null,"","","","","","","","","","","","",""]
[957,null,null,null,null,null,null,null,null,null,"","","","","","","","","","","","",""]
[958,null,null,null,null,null,null,null,null,null,"","","","","","","","","","","","",""]
[959,null,null,null,null,null,null,null,null,null,"","","","","","","","","","","","",""]
[960,null,null,null,null,null,null,null,null,null,{"$f":"IF(F971>0,100*((F971-$E$4)/$E$4),\"\")","v":""},{"$f":"IF(G971>0,100*((G971-$E$4)/$E$4),\"\")","v":""},{"$f":"IF(H971>0,100*((H971-$E$4)/$E$4),\"\")","v":""},{"$f":"IF(I971>0,100*((I971-$E$4)/$E$4),\"\")","v":""},{"$f":"IF(J971>0,100*((J971-$E$4)/$E$4),\"\")","v":""},"",{"$f":"IF(F971<>\"\",IF(ABS(K971)>$E$5,\"n.i.O.\",\"i.O.\"),\"\")","v":""},{"$f":"IF(G971<>\"\",IF(ABS(L971)>$E$5,\"n.i.O.\",\"i.O.\"),\"\")","v":""},{"$f":"IF(H971<>\"\",IF(ABS(M971)>$E$5,\"n.i.O.\",\"i.O.\"),\"\")","v":""},{"$f":"IF(I971<>\"\",IF(ABS(N971)>$E$5,\"n.i.O.\",\"i.O.\"),\"\")","v":""},{"$f":"IF(J971<>\"\",IF(ABS(O971)>$E$5,\"n.i.O.\",\"i.O.\"),\"\")","v":""},{"$f":"IF(F971<>\"\",$E$5,\"\")","v":""},{"$f":"IF(F971<>\"\",$E$5*(-1),\"\")","v":""}]
[961,null,null,null,null,null,null,null,null,null,"","","","","",{"$f":"IF(F972>0,IF(AND(F972>0,G972>0),IF(OR(Q972=\"n.i.O.\",S972=\"n.i.O.\",T972=\"n.i.O.\",U972=\"n.i.O.\",V972=\"n.i.O.\"),\"<GA>\",\"OK\"),\"<Test 2>\"),\"\")","v":""},"","","","","","",""]
[962,null,null,null,null,null,null,null,null,null,"","","","","","","","","","","","",""]
[963,null,null,null,null,null,null,null,null,null,"","","","","","","","","","","","",""]
[964,null,null,null,null,null,null,null,null,null,"","","","","","","","","","","","",""]
[965,null,null,null,null,null,null,null,null,null,"","","","","","","","","","","","",""]
[966,null,null,null,null,null,null,null,null,null,"","","","","","","","","","","","",""]
[967,null,null,null,null,null,null,null,null,null,"","","","","","","","","","","","",""]
[968,null,null,null,null,null,null,null,null,null,"","","","","","","","","","","","",""]
[969,null,null,null,null,null,null,null,null,null,"","","","","","","","","","","","",""]
[970,null,null,null,null,null,null,null,null,null,"","","","","","","","","","","","",""]
[971,null,null,null,null,null,null,null,null,null,"","","","","","","","","","","","",""]
[972,null,null,null,null,null,null,null,null,null,"","","","","","","","","","","","",""]
[973,null,null,null,null,null,null,null,null,null,"","","","","","","","","","","","",""]
[974,null,null,null,null,null,null,null,null,null,"","","","","","","","","","","","",""]
[975,null,null,null,null,null,null,null,null,null,"","","","","","","","","","","","",""]
[976,null,null,null,null,null,null,null,null,null,"","","","","","","","","","","","",""]
[977,null,null,null,null,null,null,null,null,null,"","","","","","","","","","","","",""]
[978,null,null,null,null,null,null,null,null,null,"","","","","","","","","","","","",""]
[979,null,null,null,null,null,null,null,null,null,"","","","","","","","","","","","",""]
[980,null,null,null,null,null,null,null,null,null,"","","","","","","","","","","","",""]
[981,null,null,null,null,null,null,null,null,null,"","","","","","","","","","","","",""]
[982,null,null,null,null,null,null,null,null,null,"","","","","","","","","","","","",""]
[983,null,null,null,null,null,null,null,null,null,"","","","","","","","","","","","",""]
[984,null,null,null,null,null,null,null,null,null,"","","","","","","","","","","","",""]
[985,null,null,null,null,null,null,null,null,null,"","","","","","","","","","","","",""]
[986,null,null,null,null,null,null,null,null,null,"","","","","","","","","","","","",""]
[987,null,null,null,null,null,null,null,null,null,"","","","","","","","","","","","",""]
[988,null,null,null,null,null,null,null,null,null,"","","","","","","","","","","","",""]
[989,null,null,null,null,null,null,null,null,null,"","","","","","","","","","","","",""]
[990,null,null,null,null,null,null,null,null,null,"","","","","","","","","","","","",""]
[991,null,null,null,null,null,null,null,null,null,"","","","","","","","","","","","",""]
[992,null,null,null,null,null,null,null,null,null,"","","","","","","","","","","","",""]
[993,null,null,null,null,null,null,null,null,null,"","","","","","","","","","","","",""]
[994,null,null,null,null,null,null,null,null,null,"","","","","","","","","","","","",""]
[995,null,null,null,null,null,null,null,null,null,"","","","","","","","","","","","",""]
[996,null,null,null,null,null,null,null,null,null,"","","","","","","","","","","","",""]
[997,null,null,null,null,null,null,null,null,null,"","","","","","","","","","","","",""]
[998,null,null,null,null,null,null,null,null,null,"","","","","","","","","","","","",""]
[999,null,null,null,null,null,null,null,null,null,"","","","","","","","","","","","",""]
[1000,null,null,null,null,null,null,null,null,null,"","","","","","","","","","","","",""]
[1001,null,null,null,null,null,null,null,null,null,"","","","","","","","","","","","",""]
[1002,null,null,null,null,null,null,null,null,null,"","","","","","","","","","","","",""]
[1003,null,null,null,null,null,null,null,null,null,"","","","","","","","","","","","",""]
[1004,null,null,null,null,null,null,null,null,null,"","","","","","","","","","","","",""]
[1005,null,null,null,null,null,null,null,null,null,"","","","","","","","","","","","",""]
[1006,null,null,null,null,null,null,null,null,null,"","","","","","","","","","","","",""]
[1007,null,null,null,null,null,null,null,null,null,"","","","","","","","","","","","",""]
[1008,null,null,null,null,null,null,null,null,null,"","","","","","","","","","","","",""]
[1009,null,null,null,null,null,null,null,null,null,"","","","","","","","","","","","",""]
[1010,null,null,null,null,null,null,null,null,null,"","","","","","","","","","","","",""]
[1011,null,null,null,null,null,null,null,null,null,"","","","","","","","","","","","",""]
[1012,null,null,null,null,null,null,null,null,null,"","","","","","","","","","","","",""]
[1013,null,null,null,null,null,null,null,null,null,"","","","","","","","","","","","",""]
[1014,null,null,null,null,null,null,null,null,null,"","","","","","","","","","","","",""]
[1015,null,null,null,null,null,null,null,null,null,"","","","","","","","","","","","",""]
[1016,null,null,null,null,null,null,null,null,null,"","","","","","","","","","","","",""]
[1017,null,null,null,null,null,null,null,null,null,"","","","","","","","","","","","",""]
[1018,null,null,null,null,null,null,null,null,null,"","","","","","","","","","","","",""]
[1019,null,null,null,null,null,null,null,null,null,"","","","","","","","","","","","",""]
[1020,null,null,null,null,null,null,null,null,null,"","","","","","","","","","","","",""]
[1021,null,null,null,null,null,null,null,null,null,"","","","","","","","","","","","",""]
[1022,null,null,null,null,null,null,null,null,null,"","","","","","","","","","","","",""]
[1023,null,null,null,null,null,null,null,null,null,"","","","","","","","","","","","",""]
[1024,null,null,null,null,null,null,null,null,null,{"$f":"IF(F1035>0,100*((F1035-$E$4)/$E$4),\"\")","v":""},{"$f":"IF(G1035>0,100*((G1035-$E$4)/$E$4),\"\")","v":""},{"$f":"IF(H1035>0,100*((H1035-$E$4)/$E$4),\"\")","v":""},{"$f":"IF(I1035>0,100*((I1035-$E$4)/$E$4),\"\")","v":""},{"$f":"IF(J1035>0,100*((J1035-$E$4)/$E$4),\"\")","v":""},"",{"$f":"IF(F1035<>\"\",IF(ABS(K1035)>$E$5,\"n.i.O.\",\"i.O.\"),\"\")","v":""},{"$f":"IF(G1035<>\"\",IF(ABS(L1035)>$E$5,\"n.i.O.\",\"i.O.\"),\"\")","v":""},{"$f":"IF(H1035<>\"\",IF(ABS(M1035)>$E$5,\"n.i.O.\",\"i.O.\"),\"\")","v":""},{"$f":"IF(I1035<>\"\",IF(ABS(N1035)>$E$5,\"n.i.O.\",\"i.O.\"),\"\")","v":""},{"$f":"IF(J1035<>\"\",IF(ABS(O1035)>$E$5,\"n.i.O.\",\"i.O.\"),\"\")","v":""},{"$f":"IF(F1035<>\"\",$E$5,\"\")","v":""},{"$f":"IF(F1035<>\"\",$E$5*(-1),\"\")","v":""}]
[1025,null,null,null,null,null,null,null,null,null,"","","","","",{"$f":"IF(F1036>0,IF(AND(F1036>0,G1036>0),IF(OR(Q1036=\"n.i.O.\",S1036=\"n.i.O.\",T1036=\"n.i.O.\",U1036=\"n.i.O.\",V1036=\"n.i.O.\"),\"<GA>\",\"OK\"),\"<Test 2>\"),\"\")","v":""},"","","","","","",""]
[1026,null,null,null,null,null,null,null,null,null,"","","","","","","","","","","","",""]
[1027,null,null,null,null,null,null,null,null,null,"","","","","","","","","","","","",""]
[1028,null,null,null,null,null,null,null,null,null,"","","","","","","","","","","","",""]
[1029,null,null,null,null,null,null,null,null,null,"","","","","","","","","","","","",""]
[1030,null,null,null,null,null,null,null,null,null,"","","","","","","","","","","","",""]
[1031,null,null,null,null,null,null,null,null,null,"","","","","","","","","","","","",""]
[1032,null,null,null,null,null,null,null,null,null,"","","","","","","","","","","","",""]
[1033,null,null,null,null,null,null,null,null,null,"","","","","","","","","","","","",""]
[1034,null,null,null,null,null,null,null,null,null,"","","","","","","","","","","","",""]
[1035,null,null,null,null,null,null,null,null,null,"","","","","","","","","","","","",""]
[1036,null,null,null,null,null,null,null,null,null,"","","","","","","","","","","","",""]
[1037,null,null,null,null,null,null,null,null,null,"","","","","","","","","","","","",""]
[1038,null,null,null,null,null,null,null,null,null,"","","","","","","","","","","","",""]
[1039,null,null,null,null,null,null,null,null,null,"","","","","","","","","","","","",""]
[1040,null,null,null,null,null,null,null,null,null,"","","","","","","","","","","","",""]
[1041,null,null,null,null,null,null,null,null,null,"","","","","","","","","","","","",""]
[1042,null,null,null,null,null,null,null,null,null,"","","","","","","","","","","","",""]
[1043,null,null,null,null,null,null,null,null,null,"","","","","","","","","","","","",""]
[1044,null,null,null,null,null,null,null,null,null,"","","","","","","","","","","","",""]
[1045,null,null,null,null,null,null,null,null,null,"","","","","","","","","","","","",""]
[1046,null,null,null,null,null,null,null,null,null,"","","","","","","","","","","","",""]
[1047,null,null,null,null,null,null,null,null,null,"","","","","","","","","","","","",""]
[1048,null,null,null,null,null,null,null,null,null,"","","","","","","","","","","","",""]
[1049,null,null,null,null,null,null,null,null,null,"","","","","","","","","","","","",""]
[1050,null,null,null,null,null,null,null,null,null,"","","","","","","","","","","","",""]
[1051,null,null,null,null,null,null,null,null,null,"","","","","","","","","","","","",""]
[1052,null,null,null,null,null,null,null,null,null,"","","","","","","","","","","","",""]
[1053,null,null,null,null,null,null,null,null,null,"","","","","","","","","","","","",""]
[1054,null,null,null,null,null,null,null,null,null,"","","","","","","","","","","","",""]
[1055,null,null,null,null,null,null,null,null,null,"","","","","","","","","","","","",""]
[1056,null,null,null,null,null,null,null,null,null,"","","","","","","","","","","","",""]
[1057,null,null,null,null,null,null,null,null,null,"","","","","","","","","","","","",""]
[1058,null,null,null,null,null,null,null,null,null,"","","","","","","","","","","","",""]
[1059,null,null,null,null,null,null,null,null,null,"","","","","","","","","","","","",""]
[1060,null,null,null,null,null,null,null,null,null,"","","","","","","","","","","","",""]
[1061,null,null,null,null,null,null,null,null,null,"","","","","","","","","","","","",""]
[1062,null,null,null,null,null,null,null,null,null,"","","","","","","","","","","","",""]
[1063,null,null,null,null,null,null,null,null,null,"","","","","","","","","","","","",""]
[1064,null,null,null,null,null,null,null,null,null,"","","","","","","","","","","","",""]
[1065,null,null,null,null,null,null,null,null,null,"","","","","","","","","","","","",""]
[1066,null,null,null,null,null,null,null,null,null,"","","","","","","","","","","","",""]
[1067,null,null,null,null,null,null,null,null,null,"","","","","","","","","","","","",""]
[1068,null,null,null,null,null,null,null,null,null,"","","","","","","","","","","","",""]
[1069,null,null,null,null,null,null,null,null,null,"","","","","","","","","","","","",""]
[1070,null,null,null,null,null,null,null,null,null,"","","","","","","","","","","","",""]
[1071,null,null,null,null,null,null,null,null,null,"","","","","","","","","","","","",""]
[1072,null,null,null,null,null,null,null,null,null,"","","","","","","","","","","","",""]
[1073,null,null,null,null,null,null,null,null,null,"","","","","","","","","","","","",""]
[1074,null,null,null,null,null,null,null,null,null,"","","","","","","","","","","","",""]
[1075,null,null,null,null,null,null,null,null,null,"","","","","","","","","","","","",""]
[1076,null,null,null,null,null,null,null,null,null,"","","","","","","","","","","","",""]
[1077,null,null,null,null,null,null,null,null,null,"","","","","","","","","","","","",""]
[1078,null,null,null,null,null,null,null,null,null,"","","","","","","","","","","","",""]
[1079,null,null,null,null,null,null,null,null,null,"","","","","","","","","","","","",""]
[1080,null,null,null,null,null,null,null,null,null,"","","","","","","","","","","","",""]
[1081,null,null,null,null,null,null,null,null,null,"","","","","","","","","","","","",""]
[1082,null,null,null,null,null,null,null,null,null,"","","","","","","","","","","","",""]
[1083,null,null,null,null,null,null,null,null,null,"","","","","","","","","","","","",""]
[1084,null,null,null,null,null,null,null,null,null,"","","","","","","","","","","","",""]
[1085,null,null,null,null,null,null,null,null,null,"","","","","","","","","","","","",""]
[1086,null,null,null,null,null,null,null,null,null,"","","","","","","","","","","","",""]
[1087,null,null,null,null,null,null,null,null,null,"","","","","","","","","","","","",""]
[1088,null,null,null,null,null,null,null,null,null,{"$f":"IF(F1099>0,100*((F1099-$E$4)/$E$4),\"\")","v":""},{"$f":"IF(G1099>0,100*((G1099-$E$4)/$E$4),\"\")","v":""},{"$f":"IF(H1099>0,100*((H1099-$E$4)/$E$4),\"\")","v":""},{"$f":"IF(I1099>0,100*((I1099-$E$4)/$E$4),\"\")","v":""},{"$f":"IF(J1099>0,100*((J1099-$E$4)/$E$4),\"\")","v":""},"",{"$f":"IF(F1099<>\"\",IF(ABS(K1099)>$E$5,\"n.i.O.\",\"i.O.\"),\"\")","v":""},{"$f":"IF(G1099<>\"\",IF(ABS(L1099)>$E$5,\"n.i.O.\",\"i.O.\"),\"\")","v":""},{"$f":"IF(H1099<>\"\",IF(ABS(M1099)>$E$5,\"n.i.O.\",\"i.O.\"),\"\")","v":""},{"$f":"IF(I1099<>\"\",IF(ABS(N1099)>$E$5,\"n.i.O.\",\"i.O.\"),\"\")","v":""},{"$f":"IF(J1099<>\"\",IF(ABS(O1099)>$E$5,\"n.i.O.\",\"i.O.\"),\"\")","v":""},{"$f":"IF(F1099<>\"\",$E$5,\"\")","v":""},{"$f":"IF(F1099<>\"\",$E$5*(-1),\"\")","v":""}]
[1089,null,null,null,null,null,null,null,null,null,"","","","","",{"$f":"IF(F1100>0,IF(AND(F1100>0,G1100>0),IF(OR(Q1100=\"n.i.O.\",S1100=\"n.i.O.\",T1100=\"n.i.O.\",U1100=\"n.i.O.\",V1100=\"n.i.O.\"),\"<GA>\",\"OK\"),\"<Test 2>\"),\"\")","v":""},"","","","","","",""]
[1090,null,null,null,null,null,null,null,null,null,"","","","","","","","","","","","",""]
[1091,null,null,null,null,null,null,null,null,null,"","","","","","","","","","","","",""]
[1092,null,null,null,null,null,null,null,null,null,"","","","","","","","","","","","",""]
[1093,null,null,null,null,null,null,null,null,null,"","","","","","","","","","","","",""]
[1094,null,null,null,null,null,null,null,null,null,"","","","","","","","","","","","",""]
[1095,null,null,null,null,null,null,null,null,null,"","","","","","","","","","","","",""]
[1096,null,null,null,null,null,null,null,null,null,"","","","","","","","","","","","",""]
[1097,null,null,null,null,null,null,null,null,null,"","","","","","","","","","","","",""]
[1098,null,null,null,null,null,null,null,null,null,"","","","","","","","","","","","",""]
[1099,null,null,null,null,null,null,null,null,null,"","","","","","","","","","","","",""]
[1100,null,null,null,null,null,null,null,null,null,"","","","","","","","","","","","",""]
[1101,null,null,null,null,null,null,null,null,null,"","","","","","","","","","","","",""]
[1102,null,null,null,null,null,null,null,null,null,"","","","","","","","","","","","",""]
[1103,null,null,null,null,null,null,null,null,null,"","","","","","","","","","","","",""]
[1104,null,null,null,null,null,null,null,null,null,"","","","","","","","","","","","",""]
[1105,null,null,null,null,null,null,null,null,null,"","","","","","","","","","","","",""]
[1106,null,null,null,null,null,null,null,null,null,"","","","","","","","","","","","",""]
[1107,null,null,null,null,null,null,null,null,null,"","","","","","","","","","","","",""]
[1108,null,null,null,null,null,null,null,null,null,"","","","","","","","","","","","",""]
[1109,null,null,null,null,null,null,null,null,null,"","","","","","","","","","","","",""]
[1110,null,null,null,null,null,null,null,null,null,"","","","","","","","","","","","",""]
[1111,null,null,null,null,null,null,null,null,null,"","","","","","","","","","","","",""]
[1112,null,null,null,null,null,null,null,null,null,"","","","","","","","","","","","",""]
[1113,null,null,null,null,null,null,null,null,null,"","","","","","","","","","","","",""]
[1114,null,null,null,null,null,null,null,null,null,"","","","","","","","","","","","",""]
[1115,null,null,null,null,null,null,null,null,null,"","","","","","","","","","","","",""]
[1116,null,null,null,null,null,null,null,null,null,"","","","","","","","","","","","",""]
[1117,null,null,null,null,null,null,null,null,null,"","","","","","","","","","","","",""]
[1118,null,null,null,null,null,null,null,null,null,"","","","","","","","","","","","",""]
[1119,null,null,null,null,null,null,null,null,null,"","","","","","","","","","","","",""]
[1120,null,null,null,null,null,null,null,null,null,"","","","","","","","","","","","",""]
[1121,null,null,null,null,null,null,null,null,null,"","","","","","","","","","","","",""]
[1122,null,null,null,null,null,null,null,null,null,"","","","","","","","","","","","",""]
[1123,null,null,null,null,null,null,null,null,null,"","","","","","","","","","","","",""]
[1124,null,null,null,null,null,null,null,null,null,"","","","","","","","","","","","",""]
[1125,null,null,null,null,null,null,null,null,null,"","","","","","","","","","","","",""]
[1126,null,null,null,null,null,null,null,null,null,"","","","","","","","","","","","",""]
[1127,null,null,null,null,null,null,null,null,null,"","","","","","","","","","","","",""]
[1128,null,null,null,null,null,null,null,null,null,"","","","","","","","","","","","",""]
[1129,null,null,null,null,null,null,null,null,null,"","","","","","","","","","","","",""]
[1130,null,null,null,null,null,null,null,null,null,"","","","","","","","","","","","",""]
[1131,null,null,null,null,null,null,null,null,null,"","","","","","","","","","","","",""]
[1132,null,null,null,null,null,null,null,null,null,"","","","","","","","","","","","",""]
[1133,null,null,null,null,null,null,null,null,null,"","","","","","","","","","","","",""]
[1134,null,null,null,null,null,null,null,null,null,"","","","","","","","","","","","",""]
[1135,null,null,null,null,null,null,null,null,null,"","","","","","","","","","","","",""]
[1136,null,null,null,null,null,null,null,null,null,"","","","","","","","","","","","",""]
[1137,null,null,null,null,null,null,null,null,null,"","","","","","","","","","","","",""]
[1138,null,null,null,null,null,null,null,null,null,"","","","","","","","","","","","",""]
[1139,null,null,null,null,null,null,null,null,null,"","","","","","","","","","","","",""]
[1140,null,null,null,null,null,null,null,null,null,"","","","","","","","","","","","",""]
[1141,null,null,null,null,null,null,null,null,null,"","","","","","","","","","","","",""]
[1142,null,null,null,null,null,null,null,null,null,"","","","","","","","","","","","",""]
[1143,null,null,null,null,null,null,null,null,null,"","","","","","","","","","","","",""]
[1144,null,null,null,null,null,null,null,null,null,"","","","","","","","","","","","",""]
[1145,null,null,null,null,null,null,null,null,null,"","","","","","","","","","","","",""]
[1146,null,null,null,null,null,null,null,null,null,"","","","","","","","","","","","",""]
[1147,null,null,null,null,null,null,null,null,null,"","","","","","","","","","","","",""]
[1148,null,null,null,null,null,null,null,null,null,"","","","","","","","","","","","",""]
[1149,null,null,null,null,null,null,null,null,null,"","","","","","","","","","","","",""]
[1150,null,null,null,null,null,null,null,null,null,"","","","","","","","","","","","",""]
[1151,null,null,null,null,null,null,null,null,null,"","","","","","","","","","","","",""]
[1152,null,null,null,null,null,null,null,null,null,{"$f":"IF(F1163>0,100*((F1163-$E$4)/$E$4),\"\")","v":""},{"$f":"IF(G1163>0,100*((G1163-$E$4)/$E$4),\"\")","v":""},{"$f":"IF(H1163>0,100*((H1163-$E$4)/$E$4),\"\")","v":""},{"$f":"IF(I1163>0,100*((I1163-$E$4)/$E$4),\"\")","v":""},{"$f":"IF(J1163>0,100*((J1163-$E$4)/$E$4),\"\")","v":""},"",{"$f":"IF(F1163<>\"\",IF(ABS(K1163)>$E$5,\"n.i.O.\",\"i.O.\"),\"\")","v":""},{"$f":"IF(G1163<>\"\",IF(ABS(L1163)>$E$5,\"n.i.O.\",\"i.O.\"),\"\")","v":""},{"$f":"IF(H1163<>\"\",IF(ABS(M1163)>$E$5,\"n.i.O.\",\"i.O.\"),\"\")","v":""},{"$f":"IF(I1163<>\"\",IF(ABS(N1163)>$E$5,\"n.i.O.\",\"i.O.\"),\"\")","v":""},{"$f":"IF(J1163<>\"\",IF(ABS(O1163)>$E$5,\"n.i.O.\",\"i.O.\"),\"\")","v":""},{"$f":"IF(F1163<>\"\",$E$5,\"\")","v":""},{"$f":"IF(F1163<>\"\",$E$5*(-1),\"\")","v":""}]
[1153,null,null,null,null,null,null,null,null,null,"","","","","",{"$f":"IF(F1164>0,IF(AND(F1164>0,G1164>0),IF(OR(Q1164=\"n.i.O.\",S1164=\"n.i.O.\",T1164=\"n.i.O.\",U1164=\"n.i.O.\",V1164=\"n.i.O.\"),\"<GA>\",\"OK\"),\"<Test 2>\"),\"\")","v":""},"","","","","","",""]
[1154,null,null,null,null,null,null,null,null,null,"","","","","","","","","","","","",""]
[1155,null,null,null,null,null,null,null,null,null,"","","","","","","","","","","","",""]
[1156,null,null,null,null,null,null,null,null,null,"","","","","","","","","","","","",""]
[1157,null,null,null,null,null,null,null,null,null,"","","","","","","","","","","","",""]
[1158,null,null,null,null,null,null,null,null,null,"","","","","","","","","","","","",""]
[1159,null,null,null,null,null,null,null,null,null,"","","","","","","","","","","","",""]
[1160,null,null,null,null,null,null,null,null,null,"","","","","","","","","","","","",""]
[1161,null,null,null,null,null,null,null,null,null,"","","","","","","","","","","","",""]
[1162,null,null,null,null,null,null,null,null,null,"","","","","","","","","","","","",""]
[1163,null,null,null,null,null,null,null,null,null,"","","","","","","","","","","","",""]
[1164,null,null,null,null,null,null,null,null,null,"","","","","","","","","","","","",""]
[1165,null,null,null,null,null,null,null,null,null,"","","","","","","","","","","","",""]
[1166,null,null,null,null,null,null,null,null,null,"","","","","","","","","","","","",""]
[1167,null,null,null,null,null,null,null,null,null,"","","","","","","","","","","","",""]
[1168,null,null,null,null,null,null,null,null,null,"","","","","","","","","","","","",""]
[1169,null,null,null,null,null,null,null,null,null,"","","","","","","","","","","","",""]
[1170,null,null,null,null,null,null,null,null,null,"","","","","","","","","","","","",""]
[1171,null,null,null,null,null,null,null,null,null,"","","","","","","","","","","","",""]
[1172,null,null,null,null,null,null,null,null,null,"","","","","","","","","","","","",""]
[1173,null,null,null,null,null,null,null,null,null,"","","","","","","","","","","","",""]
[1174,null,null,null,null,null,null,null,null,null,"","","","","","","","","","","","",""]
[1175,null,null,null,null,null,null,null,null,null,"","","","","","","","","","","","",""]
[1176,null,null,null,null,null,null,null,null,null,"","","","","","","","","","","","",""]
[1177,null,null,null,null,null,null,null,null,null,"","","","","","","","","","","","",""]
[1178,null,null,null,null,null,null,null,null,null,"","","","","","","","","","","","",""]
[1179,null,null,null,null,null,null,null,null,null,"","","","","","","","","","","","",""]
[1180,null,null,null,null,null,null,null,null,null,"","","","","","","","","","","","",""]
[1181,null,null,null,null,null,null,null,null,null,"","","","","","","","","","","","",""]
[1182,null,null,null,null,null,null,null,null,null,"","","","","","","","","","","","",""]
[1183,null,null,null,null,null,null,null,null,null,"","","","","","","","","","","","",""]
[1184,null,null,null,null,null,null,null,null,null,"","","","","","","","","","","","",""]
[1185,null,null,null,null,null,null,null,null,null,"","","","","","","","","","","","",""]
[1186,null,null,null,null,null,null,null,null,null,"","","","","","","","","","","","",""]
[1187,null,null,null,null,null,null,null,null,null,"","","","","","","","","","","","",""]
[1188,null,null,null,null,null,null,null,null,null,"","","","","","","","","","","","",""]
[1189,null,null,null,null,null,null,null,null,null,"","","","","","","","","","","","",""]
[1190,null,null,null,null,null,null,null,null,null,"","","","","","","","","","","","",""]
[1191,null,null,null,null,null,null,null,null,null,"","","","","","","","","","","","",""]
[1192,null,null,null,null,null,null,null,null,null,"","","","","","","","","","","","",""]
[1193,null,null,null,null,null,null,null,null,null,"","","","","","","","","","","","",""]
[1194,null,null,null,null,null,null,null,null,null,"","","","","","","","","","","","",""]
[1195,null,null,null,null,null,null,null,null,null,"","","","","","","","","","","","",""]
[1196,null,null,null,null,null,null,null,null,null,"","","","","","","","","","","","",""]
[1197,null,null,null,null,null,null,null,null,null,"","","","","","","","","","","","",""]
[1198,null,null,null,null,null,null,null,null,null,"","","","","","","","","","","","",""]
[1199,null,null,null,null,null,null,null,null,null,"","","","","","","","","","","","",""]
[1200,null,null,null,null,null,null,null,null,null,"","","","","","","","","","","","",""]
[1201,null,null,null,null,null,null,null,null,null,"","","","","","","","","","","","",""]
[1202,null,null,null,null,null,null,null,null,null,"","","","","","","","","","","","",""]
[1203,null,null,null,null,null,null,null,null,null,"","","","","","","","","","","","",""]
[1204,null,null,null,null,null,null,null,null,null,"","","","","","","","","","","","",""]
[1205,null,null,null,null,null,null,null,null,null,"","","","","","","","","","","","",""]
[1206,null,null,null,null,null,null,null,null,null,"","","","","","","","","","","","",""]
[1207,null,null,null,null,null,null,null,null,null,"","","","","","","","","","","","",""]
[1208,null,null,null,null,null,null,null,null,null,"","","","","","","","","","","","",""]
[1209,null,null,null,null,null,null,null,null,null,"","","","","","","","","","","","",""]
[1210,null,null,null,null,null,null,null,null,null,"","","","","","","","","","","","",""]
[1211,null,null,null,null,null,null,null,null,null,"","","","","","","","","","","","",""]
[1212,null,null,null,null,null,null,null,null,null,"","","","","","","","","","","","",""]
[1213,null,null,null,null,null,null,null,null,null,"","","","","","","","","","","","",""]
[1214,null,null,null,null,null,null,null,null,null,"","","","","","","","","","","","",""]
[1215,null,null,null,null,null,null,null,null,null,"","","","","","","","","","","","",""]
[1216,null,null,null,null,null,null,null,null,null,{"$f":"IF(F1227>0,100*((F1227-$E$4)/$E$4),\"\")","v":""},{"$f":"IF(G1227>0,100*((G1227-$E$4)/$E$4),\"\")","v":""},{"$f":"IF(H1227>0,100*((H1227-$E$4)/$E$4),\"\")","v":""},{"$f":"IF(I1227>0,100*((I1227-$E$4)/$E$4),\"\")","v":""},{"$f":"IF(J1227>0,100*((J1227-$E$4)/$E$4),\"\")","v":""},"",{"$f":"IF(F1227<>\"\",IF(ABS(K1227)>$E$5,\"n.i.O.\",\"i.O.\"),\"\")","v":""},{"$f":"IF(G1227<>\"\",IF(ABS(L1227)>$E$5,\"n.i.O.\",\"i.O.\"),\"\")","v":""},{"$f":"IF(H1227<>\"\",IF(ABS(M1227)>$E$5,\"n.i.O.\",\"i.O.\"),\"\")","v":""},{"$f":"IF(I1227<>\"\",IF(ABS(N1227)>$E$5,\"n.i.O.\",\"i.O.\"),\"\")","v":""},{"$f":"IF(J1227<>\"\",IF(ABS(O1227)>$E$5,\"n.i.O.\",\"i.O.\"),\"\")","v":""},{"$f":"IF(F1227<>\"\",$E$5,\"\")","v":""},{"$f":"IF(F1227<>\"\",$E$5*(-1),\"\")","v":""}]
[1217,null,null,null,null,null,null,null,null,null,"","","","","",{"$f":"IF(F1228>0,IF(AND(F1228>0,G1228>0),IF(OR(Q1228=\"n.i.O.\",S1228=\"n.i.O.\",T1228=\"n.i.O.\",U1228=\"n.i.O.\",V1228=\"n.i.O.\"),\"<GA>\",\"OK\"),\"<Test 2>\"),\"\")","v":""},"","","","","","",""]
[1218,null,null,null,null,null,null,null,null,null,"","","","","","","","","","","","",""]
[1219,null,null,null,null,null,null,null,null,null,"","","","","","","","","","","","",""]
[1220,null,null,null,null,null,null,null,null,null,"","","","","","","","","","","","",""]
[1221,null,null,null,null,null,null,null,null,null,"","","","","","","","","","","","",""]
[1222,null,null,null,null,null,null,null,null,null,"","","","","","","","","","","","",""]
[1223,null,null,null,null,null,null,null,null,null,"","","","","","","","","","","","",""]
[1224,null,null,null,null,null,null,null,null,null,"","","","","","","","","","","","",""]
[1225,null,null,null,null,null,null,null,null,null,"","","","","","","","","","","","",""]
[1226,null,null,null,null,null,null,null,null,null,"","","","","","","","","","","","",""]
[1227,null,null,null,null,null,null,null,null,null,"","","","","","","","","","","","",""]
[1228,null,null,null,null,null,null,null,null,null,"","","","","","","","","","","","",""]
[1229,null,null,null,null,null,null,null,null,null,"","","","","","","","","","","","",""]
[1230,null,null,null,null,null,null,null,null,null,"","","","","","","","","","","","",""]
[1231,null,null,null,null,null,null,null,null,null,"","","","","","","","","","","","",""]
[1232,null,null,null,null,null,null,null,null,null,"","","","","","","","","","","","",""]
[1233,null,null,null,null,null,null,null,null,null,"","","","","","","","","","","","",""]
[1234,null,null,null,null,null,null,null,null,null,"","","","","","","","","","","","",""]
[1235,null,null,null,null,null,null,null,null,null,"","","","","","","","","","","","",""]
[1236,null,null,null,null,null,null,null,null,null,"","","","","","","","","","","","",""]
[1237,null,null,null,null,null,null,null,null,null,"","","","","","","","","","","","",""]
[1238,null,null,null,null,null,null,null,null,null,"","","","","","","","","","","","",""]
[1239,null,null,null,null,null,null,null,null,null,"","","","","","","","","","","","",""]
[1240,null,null,null,null,null,null,null,null,null,"","","","","","","","","","","","",""]
[1241,null,null,null,null,null,null,null,null,null,"","","","","","","","","","","","",""]
[1242,null,null,null,null,null,null,null,null,null,"","","","","","","","","","","","",""]
[1243,null,null,null,null,null,null,null,null,null,"","","","","","","","","","","","",""]
[1244,null,null,null,null,null,null,null,null,null,"","","","","","","","","","","","",""]
[1245,null,null,null,null,null,null,null,null,null,"","","","","","","","","","","","",""]
[1246,null,null,null,null,null,null,null,null,null,"","","","","","","","","","","","",""]
[1247,null,null,null,null,null,null,null,null,null,"","","","","","","","","","","","",""]
[1248,null,null,null,null,null,null,null,null,null,"","","","","","","","","","","","",""]
[1249,null,null,null,null,null,null,null,null,null,"","","","","","","","","","","","",""]
[1250,null,null,null,null,null,null,null,null,null,"","","","","","","","","","","","",""]
[1251,null,null,null,null,null,null,null,null,null,"","","","","","","","","","","","",""]
[1252,null,null,null,null,null,null,null,null,null,"","","","","","","","","","","","",""]
[1253,null,null,null,null,null,null,null,null,null,"","","","","","","","","","","","",""]
[1254,null,null,null,null,null,null,null,null,null,"","","","","","","","","","","","",""]
[1255,null,null,null,null,null,null,null,null,null,"","","","","","","","","","","","",""]
[1256,null,null,null,null,null,null,null,null,null,"","","","","","","","","","","","",""]
[1257,null,null,null,null,null,null,null,null,null,"","","","","","","","","","","","",""]
[1258,null,null,null,null,null,null,null,null,null,"","","","","","","","","","","","",""]
[1259,null,null,null,null,null,null,null,null,null,"","","","","","","","","","","","",""]
[1260,null,null,null,null,null,null,null,null,null,"","","","","","","","","","","","",""]
[1261,null,null,null,null,null,null,null,null,null,"","","","","","","","","","","","",""]
[1262,null,null,null,null,null,null,null,null,null,"","","","","","","","","","","","",""]
[1263,null,null,null,null,null,null,null,null,null,"","","","","","","","","","","","",""]
[1264,null,null,null,null,null,null,null,null,null,"","","","","","","","","","","","",""]
[1265,null,null,null,null,null,null,null,null,null,"","","","","","","","","","","","",""]
[1266,null,null,null,null,null,null,null,null,null,"","","","","","","","","","","","",""]
[1267,null,null,null,null,null,null,null,null,null,"","","","","","","","","","","","",""]
[1268,null,null,null,null,null,null,null,null,null,"","","","","","","","","","","","",""]
[1269,null,null,null,null,null,null,null,null,null,"","","","","","","","","","","","",""]
[1270,null,null,null,null,null,null,null,null,null,"","","","","","","","","","","","",""]
[1271,null,null,null,null,null,null,null,null,null,"","","","","","","","","","","","",""]
[1272,null,null,null,null,null,null,null,null,null,"","","","","","","","","","","","",""]
[1273,null,null,null,null,null,null,null,null,null,"","","","","","","","","","","","",""]
[1274,null,null,null,null,null,null,null,null,null,"","","","","","","","","","","","",""]
[1275,null,null,null,null,null,null,null,null,null,"","","","","","","","","","","","",""]
[1276,null,null,null,null,null,null,null,null,null,"","","","","","","","","","","","",""]
[1277,null,null,null,null,null,null,null,null,null,"","","","","","","","","","","","",""]
[1278,null,null,null,null,null,null,null,null,null,"","","","","","","","","","","","",""]
[1279,null,null,null,null,null,null,null,null,null,"","","","","","","","","","","","",""]
[1280,null,null,null,null,null,null,null,null,null,{"$f":"IF(F1291>0,100*((F1291-$E$4)/$E$4),\"\")","v":""},{"$f":"IF(G1291>0,100*((G1291-$E$4)/$E$4),\"\")","v":""},{"$f":"IF(H1291>0,100*((H1291-$E$4)/$E$4),\"\")","v":""},{"$f":"IF(I1291>0,100*((I1291-$E$4)/$E$4),\"\")","v":""},{"$f":"IF(J1291>0,100*((J1291-$E$4)/$E$4),\"\")","v":""},"",{"$f":"IF(F1291<>\"\",IF(ABS(K1291)>$E$5,\"n.i.O.\",\"i.O.\"),\"\")","v":""},{"$f":"IF(G1291<>\"\",IF(ABS(L1291)>$E$5,\"n.i.O.\",\"i.O.\"),\"\")","v":""},{"$f":"IF(H1291<>\"\",IF(ABS(M1291)>$E$5,\"n.i.O.\",\"i.O.\"),\"\")","v":""},{"$f":"IF(I1291<>\"\",IF(ABS(N1291)>$E$5,\"n.i.O.\",\"i.O.\"),\"\")","v":""},{"$f":"IF(J1291<>\"\",IF(ABS(O1291)>$E$5,\"n.i.O.\",\"i.O.\"),\"\")","v":""},{"$f":"IF(F1291<>\"\",$E$5,\"\")","v":""},{"$f":"IF(F1291<>\"\",$E$5*(-1),\"\")","v":""}]
[1281,null,null,null,null,null,null,null,null,null,"","","","","",{"$f":"IF(F1292>0,IF(AND(F1292>0,G1292>0),IF(OR(Q1292=\"n.i.O.\",S1292=\"n.i.O.\",T1292=\"n.i.O.\",U1292=\"n.i.O.\",V1292=\"n.i.O.\"),\"<GA>\",\"OK\"),\"<Test 2>\"),\"\")","v":""},"","","","","","",""]
[1282,null,null,null,null,null,null,null,null,null,"","","","","","","","","","","","",""]
[1283,null,null,null,null,null,null,null,null,null,"","","","","","","","","","","","",""]
[1284,null,null,null,null,null,null,null,null,null,"","","","","","","","","","","","",""]
[1285,null,null,null,null,null,null,null,null,null,"","","","","","","","","","","","",""]
[1286,null,null,null,null,null,null,null,null,null,"","","","","","","","","","","","",""]
[1287,null,null,null,null,null,null,null,null,null,"","","","","","","","","","","","",""]
[1288,null,null,null,null,null,null,null,null,null,"","","","","","","","","","","","",""]
[1289,null,null,null,null,null,null,null,null,null,"","","","","","","","","","","","",""]
[1290,null,null,null,null,null,null,null,null,null,"","","","","","","","","","","","",""]
[1291,null,null,null,null,null,null,null,null,null,"","","","","","","","","","","","",""]
[1292,null,null,null,null,null,null,null,null,null,"","","","","","","","","","","","",""]
[1293,null,null,null,null,null,null,null,null,null,"","","","","","","","","","","","",""]
[1294,null,null,null,null,null,null,null,null,null,"","","","","","","","","","","","",""]
[1295,null,null,null,null,null,null,null,null,null,"","","","","","","","","","","","",""]
[1296,null,null,null,null,null,null,null,null,null,"","","","","","","","","","","","",""]
[1297,null,null,null,null,null,null,null,null,null,"","","","","","","","","","","","",""]
[1298,null,null,null,null,null,null,null,null,null,"","","","","","","","","","","","",""]
[1299,null,null,null,null,null,null,null,null,null,"","","","","","","","","","","","",""]
[1300,null,null,null,null,null,null,null,null,null,"","","","","","","","","","","","",""]
[1301,null,null,null,null,null,null,null,null,null,"","","","","","","","","","","","",""]
[1302,null,null,null,null,null,null,null,null,null,"","","","","","","","","","","","",""]
[1303,null,null,null,null,null,null,null,null,null,"","","","","","","","","","","","",""]
[1304,null,null,null,null,null,null,null,null,null,"","","","","","","","","","","","",""]
[1305,null,null,null,null,null,null,null,null,null,"","","","","","","","","","","","",""]
[1306,null,null,null,null,null,null,null,null,null,"","","","","","","","","","","","",""]
[1307,null,null,null,null,null,null,null,null,null,"","","","","","","","","","","","",""]
[1308,null,null,null,null,null,null,null,null,null,"","","","","","","","","","","","",""]
[1309,null,null,null,null,null,null,null,null,null,"","","","","","","","","","","","",""]
[1310,null,null,null,null,null,null,null,null,null,"","","","","","","","","","","","",""]
[1311,null,null,null,null,null,null,null,null,null,"","","","","","","","","","","","",""]
[1312,null,null,null,null,null,null,null,null,null,"","","","","","","","","","","","",""]
[1313,null,null,null,null,null,null,null,null,null,"","","","","","","","","","","","",""]
[1314,null,null,null,null,null,null,null,null,null,"","","","","","","","","","","","",""]
[1315,null,null,null,null,null,null,null,null,null,"","","","","","","","","","","","",""]
[1316,null,null,null,null,null,null,null,null,null,"","","","","","","","","","","","",""]
[1317,null,null,null,null,null,null,null,null,null,"","","","","","","","","","","","",""]
[1318,null,null,null,null,null,null,null,null,null,"","","","","","","","","","","","",""]
[1319,null,null,null,null,null,null,null,null,null,"","","","","","","","","","","","",""]
[1320,null,null,null,null,null,null,null,null,null,"","","","","","","","","","","","",""]
[1321,null,null,null,null,null,null,null,null,null,"","","","","","","","","","","","",""]
[1322,null,null,null,null,null,null,null,null,null,"","","","","","","","","","","","",""]
[1323,null,null,null,null,null,null,null,null,null,"","","","","","","","","","","","",""]
[1324,null,null,null,null,null,null,null,null,null,"","","","","","","","","","","","",""]
[1325,null,null,null,null,null,null,null,null,null,"","","","","","","","","","","","",""]
[1326,null,null,null,null,null,null,null,null,null,"","","","","","","","","","","","",""]
[1327,null,null,null,null,null,null,null,null,null,"","","","","","","","","","","","",""]
[1328,null,null,null,null,null,null,null,null,null,"","","","","","","","","","","","",""]
[1329,null,null,null,null,null,null,null,null,null,"","","","","","","","","","","","",""]
[1330,null,null,null,null,null,null,null,null,null,"","","","","","","","","","","","",""]
[1331,null,null,null,null,null,null,null,null,null,"","","","","","","","","","","","",""]
[1332,null,null,null,null,null,null,null,null,null,"","","","","","","","","","","","",""]
[1333,null,null,null,null,null,null,null,null,null,"","","","","","","","","","","","",""]
[1334,null,null,null,null,null,null,null,null,null,"","","","","","","","","","","","",""]
[1335,null,null,null,null,null,null,null,null,null,"","","","","","","","","","","","",""]
[1336,null,null,null,null,null,null,null,null,null,"","","","","","","","","","","","",""]
[1337,null,null,null,null,null,null,null,null,null,"","","","","","","","","","","","",""]
[1338,null,null,null,null,null,null,null,null,null,"","","","","","","","","","","","",""]
[1339,null,null,null,null,null,null,null,null,null,"","","","","","","","","","","","",""]
[1340,null,null,null,null,null,null,null,null,null,"","","","","","","","","","","","",""]
[1341,null,null,null,null,null,null,null,null,null,"","","","","","","","","","","","",""]
[1342,null,null,null,null,null,null,null,null,null,"","","","","","","","","","","","",""]
[1343,null,null,null,null,null,null,null,null,null,"","","","","","","","","","","","",""]
[1344,null,null,null,null,null,null,null,null,null,{"$f":"IF(F1355>0,100*((F1355-$E$4)/$E$4),\"\")","v":""},{"$f":"IF(G1355>0,100*((G1355-$E$4)/$E$4),\"\")","v":""},{"$f":"IF(H1355>0,100*((H1355-$E$4)/$E$4),\"\")","v":""},{"$f":"IF(I1355>0,100*((I1355-$E$4)/$E$4),\"\")","v":""},{"$f":"IF(J1355>0,100*((J1355-$E$4)/$E$4),\"\")","v":""},"",{"$f":"IF(F1355<>\"\",IF(ABS(K1355)>$E$5,\"n.i.O.\",\"i.O.\"),\"\")","v":""},{"$f":"IF(G1355<>\"\",IF(ABS(L1355)>$E$5,\"n.i.O.\",\"i.O.\"),\"\")","v":""},{"$f":"IF(H1355<>\"\",IF(ABS(M1355)>$E$5,\"n.i.O.\",\"i.O.\"),\"\")","v":""},{"$f":"IF(I1355<>\"\",IF(ABS(N1355)>$E$5,\"n.i.O.\",\"i.O.\"),\"\")","v":""},{"$f":"IF(J1355<>\"\",IF(ABS(O1355)>$E$5,\"n.i.O.\",\"i.O.\"),\"\")","v":""},{"$f":"IF(F1355<>\"\",$E$5,\"\")","v":""},{"$f":"IF(F1355<>\"\",$E$5*(-1),\"\")","v":""}]
[1345,null,null,null,null,null,null,null,null,null,"","","","","",{"$f":"IF(F1356>0,IF(AND(F1356>0,G1356>0),IF(OR(Q1356=\"n.i.O.\",S1356=\"n.i.O.\",T1356=\"n.i.O.\",U1356=\"n.i.O.\",V1356=\"n.i.O.\"),\"<GA>\",\"OK\"),\"<Test 2>\"),\"\")","v":""},"","","","","","",""]
[1346,null,null,null,null,null,null,null,null,null,"","","","","","","","","","","","",""]
[1347,null,null,null,null,null,null,null,null,null,"","","","","","","","","","","","",""]
[1348,null,null,null,null,null,null,null,null,null,"","","","","","","","","","","","",""]
[1349,null,null,null,null,null,null,null,null,null,"","","","","","","","","","","","",""]
[1350,null,null,null,null,null,null,null,null,null,"","","","","","","","","","","","",""]
[1351,null,null,null,null,null,null,null,null,null,"","","","","","","","","","","","",""]
[1352,null,null,null,null,null,null,null,null,null,"","","","","","","","","","","","",""]
[1353,null,null,null,null,null,null,null,null,null,"","","","","","","","","","","","",""]
[1354,null,null,null,null,null,null,null,null,null,"","","","","","","","","","","","",""]
[1355,null,null,null,null,null,null,null,null,null,"","","","","","","","","","","","",""]
[1356,null,null,null,null,null,null,null,null,null,"","","","","","","","","","","","",""]
[1357,null,null,null,null,null,null,null,null,null,"","","","","","","","","","","","",""]
[1358,null,null,null,null,null,null,null,null,null,"","","","","","","","","","","","",""]
[1359,null,null,null,null,null,null,null,null,null,"","","","","","","","","","","","",""]
[1360,null,null,null,null,null,null,null,null,null,"","","","","","","","","","","","",""]
[1361,null,null,null,null,null,null,null,null,null,"","","","","","","","","","","","",""]
[1362,null,null,null,null,null,null,null,null,null,"","","","","","","","","","","","",""]
[1363,null,null,null,null,null,null,null,null,null,"","","","","","","","","","","","",""]
[1364,null,null,null,null,null,null,null,null,null,"","","","","","","","","","","","",""]
[1365,null,null,null,null,null,null,null,null,null,"","","","","","","","","","","","",""]
[1366,null,null,null,null,null,null,null,null,null,"","","","","","","","","","","","",""]
[1367,null,null,null,null,null,null,null,null,null,"","","","","","","","","","","","",""]
[1368,null,null,null,null,null,null,null,null,null,"","","","","","","","","","","","",""]
[1369,null,null,null,null,null,null,null,null,null,"","","","","","","","","","","","",""]
[1370,null,null,null,null,null,null,null,null,null,"","","","","","","","","","","","",""]
[1371,null,null,null,null,null,null,null,null,null,"","","","","","","","","","","","",""]
[1372,null,null,null,null,null,null,null,null,null,"","","","","","","","","","","","",""]
[1373,null,null,null,null,null,null,null,null,null,"","","","","","","","","","","","",""]
[1374,null,null,null,null,null,null,null,null,null,"","","","","","","","","","","","",""]
[1375,null,null,null,null,null,null,null,null,null,"","","","","","","","","","","","",""]
[1376,null,null,null,null,null,null,null,null,null,"","","","","","","","","","","","",""]
[1377,null,null,null,null,null,null,null,null,null,"","","","","","","","","","","","",""]
[1378,null,null,null,null,null,null,null,null,null,"","","","","","","","","","","","",""]
[1379,null,null,null,null,null,null,null,null,null,"","","","","","","","","","","","",""]
[1380,null,null,null,null,null,null,null,null,null,"","","","","","","","","","","","",""]
[1381,null,null,null,null,null,null,null,null,null,"","","","","","","","","","","","",""]
[1382,null,null,null,null,null,null,null,null,null,"","","","","","","","","","","","",""]
[1383,null,null,null,null,null,null,null,null,null,"","","","","","","","","","","","",""]
[1384,null,null,null,null,null,null,null,null,null,"","","","","","","","","","","","",""]
[1385,null,null,null,null,null,null,null,null,null,"","","","","","","","","","","","",""]
[1386,null,null,null,null,null,null,null,null,null,"","","","","","","","","","","","",""]
[1387,null,null,null,null,null,null,null,null,null,"","","","","","","","","","","","",""]
[1388,null,null,null,null,null,null,null,null,null,"","","","","","","","","","","","",""]
[1389,null,null,null,null,null,null,null,null,null,"","","","","","","","","","","","",""]
[1390,null,null,null,null,null,null,null,null,null,"","","","","","","","","","","","",""]
[1391,null,null,null,null,null,null,null,null,null,"","","","","","","","","","","","",""]
[1392,null,null,null,null,null,null,null,null,null,"","","","","","","","","","","","",""]
[1393,null,null,null,null,null,null,null,null,null,"","","","","","","","","","","","",""]
[1394,null,null,null,null,null,null,null,null,null,"","","","","","","","","","","","",""]
[1395,null,null,null,null,null,null,null,null,null,"","","","","","","","","","","","",""]
[1396,null,null,null,null,null,null,null,null,null,"","","","","","","","","","","","",""]
[1397,null,null,null,null,null,null,null,null,null,"","","","","","","","","","","","",""]
[1398,null,null,null,null,null,null,null,null,null,"","","","","","","","","","","","",""]
[1399,null,null,null,null,null,null,null,null,null,"","","","","","","","","","","","",""]
[1400,null,null,null,null,null,null,null,null,null,"","","","","","","","","","","","",""]
[1401,null,null,null,null,null,null,null,null,null,"","","","","","","","","","","","",""]
[1402,null,null,null,null,null,null,null,null,null,"","","","","","","","","","","","",""]
[1403,null,null,null,null,null,null,null,null,null,"","","","","","","","","","","","",""]
[1404,null,null,null,null,null,null,null,null,null,"","","","","","","","","","","","",""]
[1405,null,null,null,null,null,null,null,null,null,"","","","","","","","","","","","",""]
[1406,null,null,null,null,null,null,null,null,null,"","","","","","","","","","","","",""]
[1407,null,null,null,null,null,null,null,null,null,"","","","","","","","","","","","",""]
[1408,null,null,null,null,null,null,null,null,null,{"$f":"IF(F1419>0,100*((F1419-$E$4)/$E$4),\"\")","v":""},{"$f":"IF(G1419>0,100*((G1419-$E$4)/$E$4),\"\")","v":""},{"$f":"IF(H1419>0,100*((H1419-$E$4)/$E$4),\"\")","v":""},{"$f":"IF(I1419>0,100*((I1419-$E$4)/$E$4),\"\")","v":""},{"$f":"IF(J1419>0,100*((J1419-$E$4)/$E$4),\"\")","v":""},"",{"$f":"IF(F1419<>\"\",IF(ABS(K1419)>$E$5,\"n.i.O.\",\"i.O.\"),\"\")","v":""},{"$f":"IF(G1419<>\"\",IF(ABS(L1419)>$E$5,\"n.i.O.\",\"i.O.\"),\"\")","v":""},{"$f":"IF(H1419<>\"\",IF(ABS(M1419)>$E$5,\"n.i.O.\",\"i.O.\"),\"\")","v":""},{"$f":"IF(I1419<>\"\",IF(ABS(N1419)>$E$5,\"n.i.O.\",\"i.O.\"),\"\")","v":""},{"$f":"IF(J1419<>\"\",IF(ABS(O1419)>$E$5,\"n.i.O.\",\"i.O.\"),\"\")","v":""},{"$f":"IF(F1419<>\"\",$E$5,\"\")","v":""},{"$f":"IF(F1419<>\"\",$E$5*(-1),\"\")","v":""}]
[1409,null,null,null,null,null,null,null,null,null,"","","","","",{"$f":"IF(F1420>0,IF(AND(F1420>0,G1420>0),IF(OR(Q1420=\"n.i.O.\",S1420=\"n.i.O.\",T1420=\"n.i.O.\",U1420=\"n.i.O.\",V1420=\"n.i.O.\"),\"<GA>\",\"OK\"),\"<Test 2>\"),\"\")","v":""},"","","","","","",""]
[1410,null,null,null,null,null,null,null,null,null,"","","","","","","","","","","","",""]
[1411,null,null,null,null,null,null,null,null,null,"","","","","","","","","","","","",""]
[1412,null,null,null,null,null,null,null,null,null,"","","","","","","","","","","","",""]
[1413,null,null,null,null,null,null,null,null,null,"","","","","","","","","","","","",""]
[1414,null,null,null,null,null,null,null,null,null,"","","","","","","","","","","","",""]
[1415,null,null,null,null,null,null,null,null,null,"","","","","","","","","","","","",""]
[1416,null,null,null,null,null,null,null,null,null,"","","","","","","","","","","","",""]
[1417,null,null,null,null,null,null,null,null,null,"","","","","","","","","","","","",""]
[1418,null,null,null,null,null,null,null,null,null,"","","","","","","","","","","","",""]
[1419,null,null,null,null,null,null,null,null,null,"","","","","","","","","","","","",""]
[1420,null,null,null,null,null,null,null,null,null,"","","","","","","","","","","","",""]
[1421,null,null,null,null,null,null,null,null,null,"","","","","","","","","","","","",""]
[1422,null,null,null,null,null,null,null,null,null,"","","","","","","","","","","","",""]
[1423,null,null,null,null,null,null,null,null,null,"","","","","","","","","","","","",""]
[1424,null,null,null,null,null,null,null,null,null,"","","","","","","","","","","","",""]
[1425,null,null,null,null,null,null,null,null,null,"","","","","","","","","","","","",""]
[1426,null,null,null,null,null,null,null,null,null,"","","","","","","","","","","","",""]
[1427,null,null,null,null,null,null,null,null,null,"","","","","","","","","","","","",""]
[1428,null,null,null,null,null,null,null,null,null,"","","","","","","","","","","","",""]
[1429,null,null,null,null,null,null,null,null,null,"","","","","","","","","","","","",""]
[1430,null,null,null,null,null,null,null,null,null,"","","","","","","","","","","","",""]
[1431,null,null,null,null,null,null,null,null,null,"","","","","","","","","","","","",""]
[1432,null,null,null,null,null,null,null,null,null,"","","","","","","","","","","","",""]
[1433,null,null,null,null,null,null,null,null,null,"","","","","","","","","","","","",""]
[1434,null,null,null,null,null,null,null,null,null,"","","","","","","","","","","","",""]
[1435,null,null,null,null,null,null,null,null,null,"","","","","","","","","","","","",""]
[1436,null,null,null,null,null,null,null,null,null,"","","","","","","","","","","","",""]
[1437,null,null,null,null,null,null,null,null,null,"","","","","","","","","","","","",""]
[1438,null,null,null,null,null,null,null,null,null,"","","","","","","","","","","","",""]
[1439,null,null,null,null,null,null,null,null,null,"","","","","","","","","","","","",""]
[1440,null,null,null,null,null,null,null,null,null,"","","","","","","","","","","","",""]
[1441,null,null,null,null,null,null,null,null,null,"","","","","","","","","","","","",""]
[1442,null,null,null,null,null,null,null,null,null,"","","","","","","","","","","","",""]
[1443,null,null,null,null,null,null,null,null,null,"","","","","","","","","","","","",""]
[1444,null,null,null,null,null,null,null,null,null,"","","","","","","","","","","","",""]
[1445,null,null,null,null,null,null,null,null,null,"","","","","","","","","","","","",""]
[1446,null,null,null,null,null,null,null,null,null,"","","","","","","","","","","","",""]
[1447,null,null,null,null,null,null,null,null,null,"","","","","","","","","","","","",""]
[1448,null,null,null,null,null,null,null,null,null,"","","","","","","","","","","","",""]
[1449,null,null,null,null,null,null,null,null,null,"","","","","","","","","","","","",""]
[1450,null,null,null,null,null,null,null,null,null,"","","","","","","","","","","","",""]
[1451,null,null,null,null,null,null,null,null,null,"","","","","","","","","","","","",""]
[1452,null,null,null,null,null,null,null,null,null,"","","","","","","","","","","","",""]
[1453,null,null,null,null,null,null,null,null,null,"","","","","","","","","","","","",""]
[1454,null,null,null,null,null,null,null,null,null,"","","","","","","","","","","","",""]
[1455,null,null,null,null,null,null,null,null,null,"","","","","","","","","","","","",""]
[1456,null,null,null,null,null,null,null,null,null,"","","","","","","","","","","","",""]
[1457,null,null,null,null,null,null,null,null,null,"","","","","","","","","","","","",""]
[1458,null,null,null,null,null,null,null,null,null,"","","","","","","","","","","","",""]
[1459,null,null,null,null,null,null,null,null,null,"","","","","","","","","","","","",""]
[1460,null,null,null,null,null,null,null,null,null,"","","","","","","","","","","","",""]
[1461,null,null,null,null,null,null,null,null,null,"","","","","","","","","","","","",""]
[1462,null,null,null,null,null,null,null,null,null,"","","","","","","","","","","","",""]
[1463,null,null,null,null,null,null,null,null,null,"","","","","","","","","","","","",""]
[1464,null,null,null,null,null,null,null,null,null,"","","","","","","","","","","","",""]
[1465,null,null,null,null,null,null,null,null,null,"","","","","","","","","","","","",""]
[1466,null,null,null,null,null,null,null,null,null,"","","","","","","","","","","","",""]
[1467,null,null,null,null,null,null,null,null,null,"","","","","","","","","","","","",""]
[1468,null,null,null,null,null,null,null,null,null,"","","","","","","","","","","","",""]
[1469,null,null,null,null,null,null,null,null,null,"","","","","","","","","","","","",""]
[1470,null,null,null,null,null,null,null,null,null,"","","","","","","","","","","","",""]
[1471,null,null,null,null,null,null,null,null,null,"","","","","","","","","","","","",""]
[1472,null,null,null,null,null,null,null,null,null,{"$f":"IF(F1483>0,100*((F1483-$E$4)/$E$4),\"\")","v":""},{"$f":"IF(G1483>0,100*((G1483-$E$4)/$E$4),\"\")","v":""},{"$f":"IF(H1483>0,100*((H1483-$E$4)/$E$4),\"\")","v":""},{"$f":"IF(I1483>0,100*((I1483-$E$4)/$E$4),\"\")","v":""},{"$f":"IF(J1483>0,100*((J1483-$E$4)/$E$4),\"\")","v":""},"",{"$f":"IF(F1483<>\"\",IF(ABS(K1483)>$E$5,\"n.i.O.\",\"i.O.\"),\"\")","v":""},{"$f":"IF(G1483<>\"\",IF(ABS(L1483)>$E$5,\"n.i.O.\",\"i.O.\"),\"\")","v":""},{"$f":"IF(H1483<>\"\",IF(ABS(M1483)>$E$5,\"n.i.O.\",\"i.O.\"),\"\")","v":""},{"$f":"IF(I1483<>\"\",IF(ABS(N1483)>$E$5,\"n.i.O.\",\"i.O.\"),\"\")","v":""},{"$f":"IF(J1483<>\"\",IF(ABS(O1483)>$E$5,\"n.i.O.\",\"i.O.\"),\"\")","v":""},{"$f":"IF(F1483<>\"\",$E$5,\"\")","v":""},{"$f":"IF(F1483<>\"\",$E$5*(-1),\"\")","v":""}]
[1473,null,null,null,null,null,null,null,null,null,"","","","","",{"$f":"IF(F1484>0,IF(AND(F1484>0,G1484>0),IF(OR(Q1484=\"n.i.O.\",S1484=\"n.i.O.\",T1484=\"n.i.O.\",U1484=\"n.i.O.\",V1484=\"n.i.O.\"),\"<GA>\",\"OK\"),\"<Test 2>\"),\"\")","v":""},"","","","","","",""]
[1474,null,null,null,null,null,null,null,null,null,"","","","","","","","","","","","",""]
[1475,null,null,null,null,null,null,null,null,null,"","","","","","","","","","","","",""]
[1476,null,null,null,null,null,null,null,null,null,"","","","","","","","","","","","",""]
[1477,null,null,null,null,null,null,null,null,null,"","","","","","","","","","","","",""]
[1478,null,null,null,null,null,null,null,null,null,"","","","","","","","","","","","",""]
[1479,null,null,null,null,null,null,null,null,null,"","","","","","","","","","","","",""]
[1480,null,null,null,null,null,null,null,null,null,"","","","","","","","","","","","",""]
[1481,null,null,null,null,null,null,null,null,null,"","","","","","","","","","","","",""]
[1482,null,null,null,null,null,null,null,null,null,"","","","","","","","","","","","",""]
[1483,null,null,null,null,null,null,null,null,null,"","","","","","","","","","","","",""]
[1484,null,null,null,null,null,null,null,null,null,"","","","","","","","","","","","",""]
[1485,null,null,null,null,null,null,null,null,null,"","","","","","","","","","","","",""]
[1486,null,null,null,null,null,null,null,null,null,"","","","","","","","","","","","",""]
[1487,null,null,null,null,null,null,null,null,null,"","","","","","","","","","","","",""]
[1488,null,null,null,null,null,null,null,null,null,"","","","","","","","","","","","",""]
[1489,null,null,null,null,null,null,null,null,null,"","","","","","","","","","","","",""]
[1490,null,null,null,null,null,null,null,null,null,"","","","","","","","","","","","",""]
[1491,null,null,null,null,null,null,null,null,null,"","","","","","","","","","","","",""]
[1492,null,null,null,null,null,null,null,null,null,"","","","","","","","","","","","",""]
[1493,null,null,null,null,null,null,null,null,null,"","","","","","","","","","","","",""]
[1494,null,null,null,null,null,null,null,null,null,"","","","","","","","","","","","",""]
[1495,null,null,null,null,null,null,null,null,null,"","","","","","","","","","","","",""]
[1496,null,null,null,null,null,null,null,null,null,"","","","","","","","","","","","",""]
[1497,null,null,null,null,null,null,null,null,null,"","","","","","","","","","","","",""]
[1498,null,null,null,null,null,null,null,null,null,"","","","","","","","","","","","",""]
[1499,null,null,null,null,null,null,null,null,null,"","","","","","","","","","","","",""]
[1500,null,null,null,null,null,null,null,null,null,"","","","","","","","","","","","",""]

{"sheet":"Data","index":4,"n_rows":1511,"n_cols":28,"rows_kept":1511,"cut":false,"hidden":false,"merged":[[0,0,0,13],[1,0,1,15],[2,0,2,3],[8,1,8,3],[3,0,3,3],[4,0,4,3],[5,0,5,3],[6,0,6,3],[6,5,6,6],[7,0,7,3],[7,5,7,6]]}
["Zusammenfassung / Summary",null,null,null,null,null,null,null,null,null,null,null,null,null,null,2]
[]
["Härtevergleichsplatte / Hardness reference block: ",null,null,null,{"$f":"IF(Setup!H17<>\"\",Setup!H17,\"\")","v":""}]
["Kalibrierte Härte / Calibrated hardness value:",null,null,null,{"$f":"IF(Setup!H21<>\"\",Setup!H21,\"\")","v":null}]
["brel, allowed [%]:",null,null,null,{"$f":"Setup!H24","v":null}]
["rrel, llowed [%]",null,null,null,{"$f":"Setup!H25","v":null}]
[null,null,null,null,null,null,null,null,null,null,null,null,null,null,null,null,null,null,null,null,null,null,null,null,"Auf die Spalten 1,2 und 3 greift Diagramm zu.\nDie Daten in den Spalten werden in Abhängigkeit von dem Auswahl\ndes Diagramms geändert.\n\nEigentlich wird Zelle O1 geprüft, in die Optionsfeld eine Zahl schreibt in Abhängigkeit von Auswahl."]
[null,null,null,null,null,null,null,null,null,null,null,null,null,null,null,null,null,"Zulässige Werte",null,null,"Fehlerbetrachtung",null,null,null,"Daten für dynamische Diagramm"]
[null,"Anzahl der Messungen auf Diagramm:",null,null,null,50,"Mögliche Anzahl:",{"$f":"IF(ISNUMBER($F$9), IF(AND(COUNTA($F$11:$F$1511)>$F$9,$F$9>1),$F$9,COUNTA($F$11:$F$1511)-0),COUNTA($F$11:$F$1511)-0)","v":null},null,null,null,null,null,null,null,null,"für RUN berechnung nöig",null,null,null,"WAHR, wenn Diagonale kleiner als 0,001mm sind,\nsonst\nWAHR, wenn gerechnete Wiederholpräzision die maximale Wiederhohlpräzision nicht überschreitet.\nFALSCH, wenn überschreitet",null,"mindestenst 6 Messwerten, die immer in eine positive oder negative Richtung abweichen.\nEs muss nicht unbedingt 6 Werten sein. Nach 2 oder 3 ist einfach zu früh zu entscheiden.\nZu lange abwarten ist sichere, aber braucht mehr Zeit. (6 ist ein guter Schnitt.)\n\nBeispiel:\nMesswert1 = 10;\nMesswert2 = 11;\nMesswert3 = 12;\nMesswert4 = 14;\n…\nMesswert6 = 20;\n\noder\nMesswert1 = 10;\nMesswert2 = 9;\nMesswert3 = 8;\n…\nMesswert6 = 2;\n\nWenn Trend auftritt, dann ist WAHR, sonst FALSCH","Wenn die letzte 7 Messwerten oberhalb oder unterhalb vom Mittelwert der Härte liegen.\n\nBeispiel:\nMittelwert = 10;\nMesswert1 = 11;\nMesswert2 = 10,1;\nMesswert3 = 11,3;\n…\nMesswert7 = 10,5;\n\noder\nMesswert1 = 9,8;\nMesswert2 = 9,9;\nMesswert3 = 9,5;\n...\nMesswert7 = 9,7;\n\nWAHR, wenn ein der beiden Fälle trifft zu, sonst FALSCH","Zeit","Spalte 1","Spalte 2","Spalte 3"]
["Nummer / No","Prüfer /\nOperator","Datum /\nDate","Bemerkungen,\nMaterialien /\nRemarks,\nmaterials",{"$f":"IF(EXACT('Periodic check'!E10,\"Spaltenname kann über den Button <Entsperren> editiert werden /\nName of column can be edited with the <Unlock> button\"),\"Spaltenname kann über den Button <Entsperren> in Periodic check editiert werden /\nName of column can be edited with the <Unlock> Button in Periodic check\",'Periodic check'!E10)","v":""},"Härtever-\ngleichsplatte\nMessung /\nHardness reference block\nTest\n1","Härtever-\ngleichsplatte\nMessung /\nHardness reference block\nTest\n2","Härtever-\ngleichsplatte\nMessung /\nHardness reference block\nTest\n3","Härtever-\ngleichsplatte\nMessung /\nHardness reference block\nTest\n4","Härtever-\ngleichsplatte\nMessung /\nHardness reference block\nTest\n5","Mittlere \nHärte / \nMean hardness","Relative\nMessabweichung /\nRelativ deviation of hardness\n\nb rel, (n=5) [%]","Standard-\nabweichung /\nStandard deviation","Wiederhol-\npräzision / Repeatability\n\nr","Relative\nWiederhol-\npräzision /\nRelative\nRepeatability \n\nr rel [%]","Grenzab-weichung / Wiederhol-präzision / \nLimit deviation / Repeatability \nGA / WHP","Mittelwert über alle Messungen Hquerquer"," +b rel, allowed [%]"," -b rel, allowed [%]","r rel, allowed [%]","WHP OK","GA OK","Trend","Run","Datum /\nDate\n(kurz, nur 8 Zeichen)",{"$f":"IF($P$1=1,\"\",S10)","v":""},{"$f":"IF($P$1=1,T10,R10)","v":""},{"$f":"IF($P$1=1,O10,L10)","v":""}]
[0,{"$f":"'Periodic check'!B11","v":""},{"$f":"RIGHT('Periodic check'!C11,10)","v":""},null,null,{"$f":"Setup!H28","v":null},{"$f":"Setup!I28","v":null},{"$f":"Setup!J28","v":null},{"$f":"Setup!K28","v":null},{"$f":"Setup!L28","v":null},{"$f":"IFERROR(AVERAGE(F11:J11),\"\")","v":null},null,null,null,null,null,null,{"$f":"IF(F11<>\"\",$E$5,\"\")","v":null},{"$f":"IF(F11<>\"\",$E$5*(-1),\"\")","v":null},{"$f":"IF(F11<>\"\",$E$6,\"\")","v":null},{"$f":"IFERROR(IF(OR((ABS(O11)<=$E$6),(N11<1)),TRUE,FALSE),\"\")","v":null},{"$f":"IFERROR(IF(ABS(L11)<=$E$5,TRUE,FALSE),\"\")","v":null},{"$f":"FALSE()","v":null},{"$f":"FALSE()","v":null},{"$f":"C11","v":""},{"$f":"IF($P$1=1,#N/A,S11)","v":null}]
[1,null,null,null,null,null,null,null,null,null,{"$f":"IFERROR(AVERAGE(F12:J12),\"\")","v":""},{"$f":"IFERROR((K12-$E$4)*100/$E$4,\"\")","v":""},{"$f":"IFERROR(ROUND(STDEV(F12:J12),2),\"\")","v":""},{"$f":"IF(ISNUMBER(F12),(MAX(F12:J12)-MIN(F12:J12)),\"\")","v":""},{"$f":"IFERROR(N12*100/K12,\"\")","v":""},{"$f":"IF(F12>0,IF(U12=FALSE,IF(V12=FALSE,\"<GA+WHP>\",\"<WHP>\"),IF(V12=FALSE,\"<GA>\",\"\")) & IF(W12=TRUE,\"<Trend>\",\"\") & IF(X12=TRUE,\"<Run>\",\"\")& IF(AND(ABS(U12+V12=2),W12+X12=0),\"OK\",\"\"),\"\")","v":""},{"$f":"IFERROR(AVERAGE($K$12:K12),\"\")","v":""},"","","","","",{"$f":"FALSE()","v":null},{"$f":"FALSE()","v":null},{"$f":"IFERROR(RIGHT(C12,10),\"\")","v":""},"","",""]
[2,null,null,null,null,null,null,null,null,null,"","","","","",{"$f":"IF(F13>0,IF(U13=FALSE,IF(V13=FALSE,\"<GA+WHP>\",\"<WHP>\"),IF(V13=FALSE,\"<GA>\",\"\")) & IF(W13=TRUE,\"<Trend>\",\"\") & IF(X13=TRUE,\"<Run>\",\"\")& IF(AND(ABS(U13+V13=2),W13+X13=0),\"OK\",\"\"),\"\")","v":""},{"$f":"IFERROR(AVERAGE($K$12:K13),\"\")","v":""},"","","","","",{"$f":"FALSE()","v":null},{"$f":"FALSE()","v":null},{"$f":"IFERROR(RIGHT(C13,10),\"\")","v":""},"","",""]
[3,null,null,null,null,null,null,null,null,null,"","","","","","",{"$f":"IFERROR(AVERAGE($K$12:K14),\"\")","v":""},"","","","","",{"$f":"FALSE()","v":null},{"$f":"FALSE()","v":null},"","","",""]
[4,null,null,null,null,null,null,null,null,null,"","","","","","",{"$f":"IFERROR(AVERAGE($K$12:K15),\"\")","v":""},"","","","","",{"$f":"FALSE()","v":null},{"$f":"FALSE()","v":null},"","","",""]
[5,null,null,null,null,null,null,null,null,null,"","","","","","",{"$f":"IFERROR(AVERAGE($K$12:K16),\"\")","v":""},"","","","","",{"$f":"FALSE()","v":null},{"$f":"FALSE()","v":null},"","","",""]
[6,null,null,null,null,null,null,null,null,null,"","","","","","",{"$f":"IFERROR(AVERAGE($K$12:K17),\"\")","v":""},"","","","","",{"$f":"OR(AND(K17>K16,K16>K15,K15>K14,K14>K13,K13>K12,K12>K11),AND(K17<K16,K16<K15,K15<K14,K14<K13,K13<K12,K12<K11))","v":null},{"$f":"OR(AND(K17>Q17,K16>Q17,K15>Q17,K14>Q17,K13>Q17,K12>Q17,K11>Q17),AND(K17<Q17,K16<Q17,K15<Q17,K14<Q17,K13<Q17,K12<Q17,K11<Q17))","v":null},"","","",""]
[7,null,null,null,null,null,null,null,null,null,"","","","","","",{"$f":"IFERROR(AVERAGE($K$12:K18),\"\")","v":""},"","","","","",null,null,"","","",""]
[8,null,null,null,null,null,null,null,null,null,"","","","","","",{"$f":"IFERROR(AVERAGE($K$12:K19),\"\")","v":""},"","","","","",null,null,"","","",""]
[9,null,null,null,null,null,null,null,null,null,"","","","","","",{"$f":"IFERROR(AVERAGE($K$12:K20),\"\")","v":""},"","","","","",null,null,"","","",""]
[10,null,null,null,null,null,null,null,null,null,"","","","","","",{"$f":"IFERROR(AVERAGE($K$12:K21),\"\")","v":""},"","","","","",null,null,"","","",""]
[11,null,null,null,null,null,null,null,null,null,"","","","","","",{"$f":"IFERROR(AVERAGE($K$12:K22),\"\")","v":""},"","","","","",null,null,"","","",""]
[12,null,null,null,null,null,null,null,null,null,"","","","","","",{"$f":"IFERROR(AVERAGE($K$12:K23),\"\")","v":""},"","","","","",null,null,"","","",""]
[13,null,null,null,null,null,null,null,null,null,"","","","","","",{"$f":"IFERROR(AVERAGE($K$12:K24),\"\")","v":""},"","","","","",null,null,"","","",""]
[14,null,null,null,null,null,null,null,null,null,"","","","","","",{"$f":"IFERROR(AVERAGE($K$12:K25),\"\")","v":""},"","","","","",null,null,"","","",""]
[15,null,null,null,null,null,null,null,null,null,"","","","","","",{"$f":"IFERROR(AVERAGE($K$12:K26),\"\")","v":""},"","","","","",null,null,"","","",""]
[16,null,null,null,null,null,null,null,null,null,"","","","","","",{"$f":"IFERROR(AVERAGE($K$12:K27),\"\")","v":""},"","","","","",null,null,"","","",""]
[17,null,null,null,null,null,null,null,null,null,"","","","","","",{"$f":"IFERROR(AVERAGE($K$12:K28),\"\")","v":""},"","","","","",null,null,"","","",""]
[18,null,null,null,null,null,null,null,null,null,"","","","","","",{"$f":"IFERROR(AVERAGE($K$12:K29),\"\")","v":""},"","","","","",null,null,"","","",""]
[19,null,null,null,null,null,null,null,null,null,"","","","","","",{"$f":"IFERROR(AVERAGE($K$12:K30),\"\")","v":""},"","","","","",null,null,"","","",""]
[20,null,null,null,null,null,null,null,null,null,"","","","","","",{"$f":"IFERROR(AVERAGE($K$12:K31),\"\")","v":""},"","","","","",null,null,"","","",""]
[21,null,null,null,null,null,null,null,null,null,"","","","","","",{"$f":"IFERROR(AVERAGE($K$12:K32),\"\")","v":""},"","","","","",null,null,"","","",""]
[22,null,null,null,null,null,null,null,null,null,"","","","","","",{"$f":"IFERROR(AVERAGE($K$12:K33),\"\")","v":""},"","","","","",null,null,"","","",""]
[23,null,null,null,null,null,null,null,null,null,"","","","","","",{"$f":"IFERROR(AVERAGE($K$12:K34),\"\")","v":""},"","","","","",null,null,"","","",""]
[24,null,null,null,null,null,null,null,null,null,"","","","","","",{"$f":"IFERROR(AVERAGE($K$12:K35),\"\")","v":""},"","","","","",null,null,"","","",""]
[25,null,null,null,null,null,null,null,null,null,"","","","","","",{"$f":"IFERROR(AVERAGE($K$12:K36),\"\")","v":""},"","","","","",null,null,"","","",""]
[26,null,null,null,null,null,null,null,null,null,"","","","","","",{"$f":"IFERROR(AVERAGE($K$12:K37),\"\")","v":""},"","","","","",null,null,"","","",""]
[27,null,null,null,null,null,null,null,null,null,"","","","","","",{"$f":"IFERROR(AVERAGE($K$12:K38),\"\")","v":""},"","","","","",null,null,"","","",""]
[28,null,null,null,null,null,null,null,null,null,"","","","","","",{"$f":"IFERROR(AVERAGE($K$12:K39),\"\")","v":""},"","","","","",null,null,"","","",""]
[29,null,null,null,null,null,null,null,null,null,"","","","","","",{"$f":"IFERROR(AVERAGE($K$12:K40),\"\")","v":""},"","","","","",null,null,"","","",""]
[30,null,null,null,null,null,null,null,null,null,"","","","","","",{"$f":"IFERROR(AVERAGE($K$12:K41),\"\")","v":""},"","","","","",null,null,"","","",""]
[31,null,null,null,null,null,null,null,null,null,"","","","","","",{"$f":"IFERROR(AVERAGE($K$12:K42),\"\")","v":""},"","","","","",null,null,"","","",""]
[32,null,null,null,null,null,null,null,null,null,"","","","","","",{"$f":"IFERROR(AVERAGE($K$12:K43),\"\")","v":""},"","","","","",null,null,"","","",""]
[33,null,null,null,null,null,null,null,null,null,"","","","","","",{"$f":"IFERROR(AVERAGE($K$12:K44),\"\")","v":""},"","","","","",null,null,"","","",""]
[34,null,null,null,null,null,null,null,null,null,"","","","","","",{"$f":"IFERROR(AVERAGE($K$12:K45),\"\")","v":""},"","","","","",null,null,"","","",""]
[35,null,null,null,null,null,null,null,null,null,"","","","","","",{"$f":"IFERROR(AVERAGE($K$12:K46),\"\")","v":""},"","","","","",null,null,"","","",""]
[36,null,null,null,null,null,null,null,null,null,"","","","","","",{"$f":"IFERROR(AVERAGE($K$12:K47),\"\")","v":""},"","","","","",null,null,"","","",""]
[37,null,null,null,null,null,null,null,null,null,"","","","","","",{"$f":"IFERROR(AVERAGE($K$12:K48),\"\")","v":""},"","","","","",null,null,"","","",""]
[38,null,null,null,null,null,null,null,null,null,"","","","","","",{"$f":"IFERROR(AVERAGE($K$12:K49),\"\")","v":""},"","","","","",null,null,"","","",""]
[39,null,null,null,null,null,null,null,null,null,"","","","","","",{"$f":"IFERROR(AVERAGE($K$12:K50),\"\")","v":""},"","","","","",null,null,"","","",""]
[40,null,null,null,null,null,null,null,null,null,"","","","","","",{"$f":"IFERROR(AVERAGE($K$12:K51),\"\")","v":""},"","","","","",null,null,"","","",""]
[41,null,null,null,null,null,null,null,null,null,"","","","","","",{"$f":"IFERROR(AVERAGE($K$12:K52),\"\")","v":""},"","","","","",null,null,"","","",""]
[42,null,null,null,null,null,null,null,null,null,"","","","","","",{"$f":"IFERROR(AVERAGE($K$12:K53),\"\")","v":""},"","","","","",null,null,"","","",""]
[43,null,null,null,null,null,null,null,null,null,"","","","","","",{"$f":"IFERROR(AVERAGE($K$12:K54),\"\")","v":""},"","","","","",null,null,"","","",""]
[44,null,null,null,null,null,null,null,null,null,"","","","","","",{"$f":"IFERROR(AVERAGE($K$12:K55),\"\")","v":""},"","","","","",null,null,"","","",""]
[45,null,null,null,null,null,null,null,null,null,"","","","","","",{"$f":"IFERROR(AVERAGE($K$12:K56),\"\")","v":""},"","","","","",null,null,"","","",""]
[46,null,null,null,null,null,null,null,null,null,"","","","","","",{"$f":"IFERROR(AVERAGE($K$12:K57),\"\")","v":""},"","","","","",null,null,"","","",""]
[47,null,null,null,null,null,null,null,null,null,"","","","","","",{"$f":"IFERROR(AVERAGE($K$12:K58),\"\")","v":""},"","","","","",null,null,"","","",""]
[48,null,null,null,null,null,null,null,null,null,"","","","","","",{"$f":"IFERROR(AVERAGE($K$12:K59),\"\")","v":""},"","","","","",null,null,"","","",""]
[49,null,null,null,null,null,null,null,null,null,"","","","","","",{"$f":"IFERROR(AVERAGE($K$12:K60),\"\")","v":""},"","","","","",null,null,"","","",""]
[50,null,null,null,null,null,null,null,null,null,"","","","","","",{"$f":"IFERROR(AVERAGE($K$12:K61),\"\")","v":""},"","","","","",null,null,"","","",""]
[51,null,null,null,null,null,null,null,null,null,"","","","","","",{"$f":"IFERROR(AVERAGE($K$12:K62),\"\")","v":""},"","","","","",null,null,"","","",""]
[52,null,null,null,null,null,null,null,null,null,"","","","","","",{"$f":"IFERROR(AVERAGE($K$12:K63),\"\")","v":""},"","","","","",null,null,"","","",""]
[53,null,null,null,null,null,null,null,null,null,"","","","","","",{"$f":"IFERROR(AVERAGE($K$12:K64),\"\")","v":""},"","","","","",null,null,"","","",""]
[54,null,null,null,null,null,null,null,null,null,"","","","","","",{"$f":"IFERROR(AVERAGE($K$12:K65),\"\")","v":""},"","","","","",null,null,"","","",""]
[55,null,null,null,null,null,null,null,null,null,"","","","","","",{"$f":"IFERROR(AVERAGE($K$12:K66),\"\")","v":""},"","","","","",null,null,"","","",""]
[56,null,null,null,null,null,null,null,null,null,"","","","","","",{"$f":"IFERROR(AVERAGE($K$12:K67),\"\")","v":""},"","","","","",null,null,"","","",""]
[57,null,null,null,null,null,null,null,null,null,"","","","","","",{"$f":"IFERROR(AVERAGE($K$12:K68),\"\")","v":""},"","","","","",null,null,"","","",""]
[58,null,null,null,null,null,null,null,null,null,"","","","","","",{"$f":"IFERROR(AVERAGE($K$12:K69),\"\")","v":""},"","","","","",null,null,"","","",""]
[59,null,null,null,null,null,null,null,null,null,"","","","","","",{"$f":"IFERROR(AVERAGE($K$12:K70),\"\")","v":""},"","","","","",null,null,"","","",""]
[60,null,null,null,null,null,null,null,null,null,"","","","","","",{"$f":"IFERROR(AVERAGE($K$12:K71),\"\")","v":""},"","","","","",null,null,"","","",""]
[61,null,null,null,null,null,null,null,null,null,"","","","","","",{"$f":"IFERROR(AVERAGE($K$12:K72),\"\")","v":""},"","","","","",null,null,"","","",""]
[62,null,null,null,null,null,null,null,null,null,"","","","","","",{"$f":"IFERROR(AVERAGE($K$12:K73),\"\")","v":""},"","","","","",null,null,"","","",""]
[63,null,null,null,null,null,null,null,null,null,"","","","","","",{"$f":"IFERROR(AVERAGE($K$12:K74),\"\")","v":""},"","","","","",null,null,"","",{"$f":"IF($P$1=1,T74,R74)","v":""},{"$f":"IF($P$1=1,O74,L74)","v":""}]
[64,null,null,null,null,null,null,null,null,null,"","","","","","",{"$f":"IFERROR(AVERAGE($K$12:K75),\"\")","v":""},{"$f":"IF(F75<>\"\",$E$5,\"\")","v":""},{"$f":"IF(F75<>\"\",$E$5*(-1),\"\")","v":""},{"$f":"IF(F75<>\"\",$E$6,\"\")","v":""},{"$f":"IFERROR(IF(OR((ABS(O75)<=$E$6),(N75<1)),TRUE,FALSE),\"\")","v":""},{"$f":"IFERROR(IF(ABS(L75)<=$E$5,TRUE,FALSE),\"\")","v":""},null,null,"",{"$f":"IF($P$1=1,#N/A,S75)","v":""},"",""]
[65,null,null,null,null,null,null,null,null,null,{"$f":"IFERROR(AVERAGE(F76:J76),\"\")","v":""},{"$f":"IFERROR((K76-$E$4)*100/$E$4,\"\")","v":""},{"$f":"IFERROR(ROUND(STDEV(F76:J76),2),\"\")","v":""},{"$f":"IF(ISNUMBER(F76),(MAX(F76:J76)-MIN(F76:J76)),\"\")","v":""},{"$f":"IFERROR(N76*100/K76,\"\")","v":""},"",{"$f":"IFERROR(AVERAGE($K$12:K76),\"\")","v":""},"","","","","",null,null,"","","",""]
[66,null,null,null,null,null,null,null,null,null,"","","","","",{"$f":"IF(F77>0,IF(U77=FALSE,IF(V77=FALSE,\"<GA+WHP>\",\"<WHP>\"),IF(V77=FALSE,\"<GA>\",\"\")) & IF(W77=TRUE,\"<Trend>\",\"\") & IF(X77=TRUE,\"<Run>\",\"\")& IF(AND(ABS(U77+V77=2),W77+X77=0),\"OK\",\"\"),\"\")","v":""},{"$f":"IFERROR(AVERAGE($K$12:K77),\"\")","v":""},"","","","","",null,null,{"$f":"IFERROR(RIGHT(C77,10),\"\")","v":""},"","",""]
[67,null,null,null,null,null,null,null,null,null,"","","","","","",{"$f":"IFERROR(AVERAGE($K$12:K78),\"\")","v":""},"","","","","",null,null,"","","",""]
[68,null,null,null,null,null,null,null,null,null,"","","","","","",{"$f":"IFERROR(AVERAGE($K$12:K79),\"\")","v":""},"","","","","",null,null,"","","",""]
[69,null,null,null,null,null,null,null,null,null,"","","","","","",{"$f":"IFERROR(AVERAGE($K$12:K80),\"\")","v":""},"","","","","",null,null,"","","",""]
[70,null,null,null,null,null,null,null,null,null,"","","","","","",{"$f":"IFERROR(AVERAGE($K$12:K81),\"\")","v":""},"","","","","",{"$f":"OR(AND(K81>K80,K80>K79,K79>K78,K78>K77,K77>K76,K76>K75),AND(K81<K80,K80<K79,K79<K78,K78<K77,K77<K76,K76<K75))","v":null},{"$f":"OR(AND(K81>Q81,K80>Q81,K79>Q81,K78>Q81,K77>Q81,K76>Q81,K75>Q81),AND(K81<Q81,K80<Q81,K79<Q81,K78<Q81,K77<Q81,K76<Q81,K75<Q81))","v":null},"","","",""]
[71,null,null,null,null,null,null,null,null,null,"","","","","","",{"$f":"IFERROR(AVERAGE($K$12:K82),\"\")","v":""},"","","","","",null,null,"","","",""]
[72,null,null,null,null,null,null,null,null,null,"","","","","","",{"$f":"IFERROR(AVERAGE($K$12:K83),\"\")","v":""},"","","","","",null,null,"","","",""]
[73,null,null,null,null,null,null,null,null,null,"","","","","","",{"$f":"IFERROR(AVERAGE($K$12:K84),\"\")","v":""},"","","","","",null,null,"","","",""]
[74,null,null,null,null,null,null,null,null,null,"","","","","","",{"$f":"IFERROR(AVERAGE($K$12:K85),\"\")","v":""},"","","","","",null,null,"","","",""]
[75,null,null,null,null,null,null,null,null,null,"","","","","","",{"$f":"IFERROR(AVERAGE($K$12:K86),\"\")","v":""},"","","","","",null,null,"","","",""]
[76,null,null,null,null,null,null,null,null,null,"","","","","","",{"$f":"IFERROR(AVERAGE($K$12:K87),\"\")","v":""},"","","","","",null,null,"","","",""]
[77,null,null,null,null,null,null,null,null,null,"","","","","","",{"$f":"IFERROR(AVERAGE($K$12:K88),\"\")","v":""},"","","","","",null,null,"","","",""]
[78,null,null,null,null,null,null,null,null,null,"","","","","","",{"$f":"IFERROR(AVERAGE($K$12:K89),\"\")","v":""},"","","","","",null,null,"","","",""]
[79,null,null,null,null,null,null,null,null,null,"","","","","","",{"$f":"IFERROR(AVERAGE($K$12:K90),\"\")","v":""},"","","","","",null,null,"","","",""]
[80,null,null,null,null,null,null,null,null,null,"","","","","","",{"$f":"IFERROR(AVERAGE($K$12:K91),\"\")","v":""},"","","","","",null,null,"","","",""]
[81,null,null,null,null,null,null,null,null,null,"","","","","","",{"$f":"IFERROR(AVERAGE($K$12:K92),\"\")","v":""},"","","","","",null,null,"","","",""]
[82,null,null,null,null,null,null,null,null,null,"","","","","","",{"$f":"IFERROR(AVERAGE($K$12:K93),\"\")","v":""},"","","","","",null,null,"","","",""]
[83,null,null,null,null,null,null,null,null,null,"","","","","","",{"$f":"IFERROR(AVERAGE($K$12:K94),\"\")","v":""},"","","","","",null,null,"","","",""]
[84,null,null,null,null,null,null,null,null,null,"","","","","","",{"$f":"IFERROR(AVERAGE($K$12:K95),\"\")","v":""},"","","","","",null,null,"","","",""]
[85,null,null,null,null,null,null,null,null,null,"","","","","","",{"$f":"IFERROR(AVERAGE($K$12:K96),\"\")","v":""},"","","","","",null,null,"","","",""]
[86,null,null,null,null,null,null,null,null,null,"","","","","","",{"$f":"IFERROR(AVERAGE($K$12:K97),\"\")","v":""},"","","","","",null,null,"","","",""]
[87,null,null,null,null,null,null,null,null,null,"","","","","","",{"$f":"IFERROR(AVERAGE($K$12:K98),\"\")","v":""},"","","","","",null,null,"","","",""]
[88,null,null,null,null,null,null,null,null,null,"","","","","","",{"$f":"IFERROR(AVERAGE($K$12:K99),\"\")","v":""},"","","","","",null,null,"","","",""]
[89,null,null,null,null,null,null,null,null,null,"","","","","","",{"$f":"IFERROR(AVERAGE($K$12:K100),\"\")","v":""},"","","","","",null,null,"","","",""]
[90,null,null,null,null,null,null,null,null,null,"","","","","","",{"$f":"IFERROR(AVERAGE($K$12:K101),\"\")","v":""},"","","","","",null,null,"","","",""]
[91,null,null,null,null,null,null,null,null,null,"","","","","","",{"$f":"IFERROR(AVERAGE($K$12:K102),\"\")","v":""},"","","","","",null,null,"","","",""]
[92,null,null,null,null,null,null,null,null,null,"","","","","","",{"$f":"IFERROR(AVERAGE($K$12:K103),\"\")","v":""},"","","","","",null,null,"","","",""]
[93,null,null,null,null,null,null,null,null,null,"","","","","","",{"$f":"IFERROR(AVERAGE($K$12:K104),\"\")","v":""},"","","","","",null,null,"","","",""]
[94,null,null,null,null,null,null,null,null,null,"","","","","","",{"$f":"IFERROR(AVERAGE($K$12:K105),\"\")","v":""},"","","","","",null,null,"","","",""]
[95,null,null,null,null,null,null,null,null,null,"","","","","","",{"$f":"IFERROR(AVERAGE($K$12:K106),\"\")","v":""},"","","","","",null,null,"","","",""]
[96,null,null,null,null,null,null,null,null,null,"","","","","","",{"$f":"IFERROR(AVERAGE($K$12:K107),\"\")","v":""},"","","","","",null,null,"","","",""]
[97,null,null,null,null,null,null,null,null,null,"","","","","","",{"$f":"IFERROR(AVERAGE($K$12:K108),\"\")","v":""},"","","","","",null,null,"","","",""]
[98,null,null,null,null,null,null,null,null,null,"","","","","","",{"$f":"IFERROR(AVERAGE($K$12:K109),\"\")","v":""},"","","","","",null,null,"","","",""]
[99,null,null,null,null,null,null,null,null,null,"","","","","","",{"$f":"IFERROR(AVERAGE($K$12:K110),\"\")","v":""},"","","","","",null,null,"","","",""]
[100,null,null,null,null,null,null,null,null,null,"","","","","","",{"$f":"IFERROR(AVERAGE($K$12:K111),\"\")","v":""},"","","","","",null,null,"","","",""]
[101,null,null,null,null,null,null,null,null,null,"","","","","","",{"$f":"IFERROR(AVERAGE($K$12:K112),\"\")","v":""},"","","","","",null,null,"","","",""]
[102,null,null,null,null,null,null,null,null,null,"","","","","","",{"$f":"IFERROR(AVERAGE($K$12:K113),\"\")","v":""},"","","","","",null,null,"","","",""]
[103,null,null,null,null,null,null,null,null,null,"","","","","","",{"$f":"IFERROR(AVERAGE($K$12:K114),\"\")","v":""},"","","","","",null,null,"","","",""]
[104,null,null,null,null,null,null,null,null,null,"","","","","","",{"$f":"IFERROR(AVERAGE($K$12:K115),\"\")","v":""},"","","","","",null,null,"","","",""]
[105,null,null,null,null,null,null,null,null,null,"","","","","","",{"$f":"IFERROR(AVERAGE($K$12:K116),\"\")","v":""},"","","","","",null,null,"","","",""]
[106,null,null,null,null,null,null,null,null,null,"","","","","","",{"$f":"IFERROR(AVERAGE($K$12:K117),\"\")","v":""},"","","","","",null,null,"","","",""]
[107,null,null,null,null,null,null,null,null,null,"","","","","","",{"$f":"IFERROR(AVERAGE($K$12:K118),\"\")","v":""},"","","","","",null,null,"","","",""]
[108,null,null,null,null,null,null,null,null,null,"","","","","","",{"$f":"IFERROR(AVERAGE($K$12:K119),\"\")","v":""},"","","","","",null,null,"","","",""]
[109,null,null,null,null,null,null,null,null,null,"","","","","","",{"$f":"IFERROR(AVERAGE($K$12:K120),\"\")","v":""},"","","","","",null,null,"","","",""]
[110,null,null,null,null,null,null,null,null,null,"","","","","","",{"$f":"IFERROR(AVERAGE($K$12:K121),\"\")","v":""},"","","","","",null,null,"","","",""]
[111,null,null,null,null,null,null,null,null,null,"","","","","","",{"$f":"IFERROR(AVERAGE($K$12:K122),\"\")","v":""},"","","","","",null,null,"","","",""]
[112,null,null,null,null,null,null,null,null,null,"","","","","","",{"$f":"IFERROR(AVERAGE($K$12:K123),\"\")","v":""},"","","","","",null,null,"","","",""]
[113,null,null,null,null,null,null,null,null,null,"","","","","","",{"$f":"IFERROR(AVERAGE($K$12:K124),\"\")","v":""},"","","","","",null,null,"","","",""]
[114,null,null,null,null,null,null,null,null,null,"","","","","","",{"$f":"IFERROR(AVERAGE($K$12:K125),\"\")","v":""},"","","","","",null,null,"","","",""]
[115,null,null,null,null,null,null,null,null,null,"","","","","","",{"$f":"IFERROR(AVERAGE($K$12:K126),\"\")","v":""},"","","","","",null,null,"","","",""]
[116,null,null,null,null,null,null,null,null,null,"","","","","","",{"$f":"IFERROR(AVERAGE($K$12:K127),\"\")","v":""},"","","","","",null,null,"","","",""]
[117,null,null,null,null,null,null,null,null,null,"","","","","","",{"$f":"IFERROR(AVERAGE($K$12:K128),\"\")","v":""},"","","","","",null,null,"","","",""]
[118,null,null,null,null,null,null,null,null,null,"","","","","","",{"$f":"IFERROR(AVERAGE($K$12:K129),\"\")","v":""},"","","","","",null,null,"","","",""]
[119,null,null,null,null,null,null,null,null,null,"","","","","","",{"$f":"IFERROR(AVERAGE($K$12:K130),\"\")","v":""},"","","","","",null,null,"","","",""]
[120,null,null,null,null,null,null,null,null,null,"","","","","","",{"$f":"IFERROR(AVERAGE($K$12:K131),\"\")","v":""},"","","","","",null,null,"","","",""]
[121,null,null,null,null,null,null,null,null,null,"","","","","","",{"$f":"IFERROR(AVERAGE($K$12:K132),\"\")","v":""},"","","","","",null,null,"","","",""]
[122,null,null,null,null,null,null,null,null,null,"","","","","","",{"$f":"IFERROR(AVERAGE($K$12:K133),\"\")","v":""},"","","","","",null,null,"","","",""]
[123,null,null,null,null,null,null,null,null,null,"","","","","","",{"$f":"IFERROR(AVERAGE($K$12:K134),\"\")","v":""},"","","","","",null,null,"","","",""]
[124,null,null,null,null,null,null,null,null,null,"","","","","","",{"$f":"IFERROR(AVERAGE($K$12:K135),\"\")","v":""},"","","","","",null,null,"","","",""]
[125,null,null,null,null,null,null,null,null,null,"","","","","","",{"$f":"IFERROR(AVERAGE($K$12:K136),\"\")","v":""},"","","","","",null,null,"","","",""]
[126,null,null,null,null,null,null,null,null,null,"","","","","","",{"$f":"IFERROR(AVERAGE($K$12:K137),\"\")","v":""},"","","","","",null,null,"","","",""]
[127,null,null,null,null,null,null,null,null,null,"","","","","","",{"$f":"IFERROR(AVERAGE($K$12:K138),\"\")","v":""},"","","","","",null,null,"","",{"$f":"IF($P$1=1,T138,R138)","v":""},{"$f":"IF($P$1=1,O138,L138)","v":""}]
[128,null,null,null,null,null,null,null,null,null,"","","","","","",{"$f":"IFERROR(AVERAGE($K$12:K139),\"\")","v":""},{"$f":"IF(F139<>\"\",$E$5,\"\")","v":""},{"$f":"IF(F139<>\"\",$E$5*(-1),\"\")","v":""},{"$f":"IF(F139<>\"\",$E$6,\"\")","v":""},{"$f":"IFERROR(IF(OR((ABS(O139)<=$E$6),(N139<1)),TRUE,FALSE),\"\")","v":""},{"$f":"IFERROR(IF(ABS(L139)<=$E$5,TRUE,FALSE),\"\")","v":""},null,null,"",{"$f":"IF($P$1=1,#N/A,S139)","v":""},"",""]
[129,null,null,null,null,null,null,null,null,null,{"$f":"IFERROR(AVERAGE(F140:J140),\"\")","v":""},{"$f":"IFERROR((K140-$E$4)*100/$E$4,\"\")","v":""},{"$f":"IFERROR(ROUND(STDEV(F140:J140),2),\"\")","v":""},{"$f":"IF(ISNUMBER(F140),(MAX(F140:J140)-MIN(F140:J140)),\"\")","v":""},{"$f":"IFERROR(N140*100/K140,\"\")","v":""},"",{"$f":"IFERROR(AVERAGE($K$12:K140),\"\")","v":""},"","","","","",null,null,"","","",""]
[130,null,null,null,null,null,null,null,null,null,"","","","","",{"$f":"IF(F141>0,IF(U141=FALSE,IF(V141=FALSE,\"<GA+WHP>\",\"<WHP>\"),IF(V141=FALSE,\"<GA>\",\"\")) & IF(W141=TRUE,\"<Trend>\",\"\") & IF(X141=TRUE,\"<Run>\",\"\")& IF(AND(ABS(U141+V141=2),W141+X141=0),\"OK\",\"\"),\"\")","v":""},{"$f":"IFERROR(AVERAGE($K$12:K141),\"\")","v":""},"","","","","",null,null,{"$f":"IFERROR(RIGHT(C141,10),\"\")","v":""},"","",""]
[131,null,null,null,null,null,null,null,null,null,"","","","","","",{"$f":"IFERROR(AVERAGE($K$12:K142),\"\")","v":""},"","","","","",null,null,"","","",""]
[132,null,null,null,null,null,null,null,null,null,"","","","","","",{"$f":"IFERROR(AVERAGE($K$12:K143),\"\")","v":""},"","","","","",null,null,"","","",""]
[133,null,null,null,null,null,null,null,null,null,"","","","","","",{"$f":"IFERROR(AVERAGE($K$12:K144),\"\")","v":""},"","","","","",null,null,"","","",""]
[134,null,null,null,null,null,null,null,null,null,"","","","","","",{"$f":"IFERROR(AVERAGE($K$12:K145),\"\")","v":""},"","","","","",{"$f":"OR(AND(K145>K144,K144>K143,K143>K142,K142>K141,K141>K140,K140>K139),AND(K145<K144,K144<K143,K143<K142,K142<K141,K141<K140,K140<K139))","v":null},{"$f":"OR(AND(K145>Q145,K144>Q145,K143>Q145,K142>Q145,K141>Q145,K140>Q145,K139>Q145),AND(K145<Q145,K144<Q145,K143<Q145,K142<Q145,K141<Q145,K140<Q145,K139<Q145))","v":null},"","","",""]
[135,null,null,null,null,null,null,null,null,null,"","","","","","",{"$f":"IFERROR(AVERAGE($K$12:K146),\"\")","v":""},"","","","","",null,null,"","","",""]
[136,null,null,null,null,null,null,null,null,null,"","","","","","",{"$f":"IFERROR(AVERAGE($K$12:K147),\"\")","v":""},"","","","","",null,null,"","","",""]
[137,null,null,null,null,null,null,null,null,null,"","","","","","",{"$f":"IFERROR(AVERAGE($K$12:K148),\"\")","v":""},"","","","","",null,null,"","","",""]
[138,null,null,null,null,null,null,null,null,null,"","","","","","",{"$f":"IFERROR(AVERAGE($K$12:K149),\"\")","v":""},"","","","","",null,null,"","","",""]
[139,null,null,null,null,null,null,null,null,null,"","","","","","",{"$f":"IFERROR(AVERAGE($K$12:K150),\"\")","v":""},"","","","","",null,null,"","","",""]
[140,null,null,null,null,null,null,null,null,null,"","","","","","",{"$f":"IFERROR(AVERAGE($K$12:K151),\"\")","v":""},"","","","","",null,null,"","","",""]
[141,null,null,null,null,null,null,null,null,null,"","","","","","",{"$f":"IFERROR(AVERAGE($K$12:K152),\"\")","v":""},"","","","","",null,null,"","","",""]
[142,null,null,null,null,null,null,null,null,null,"","","","","","",{"$f":"IFERROR(AVERAGE($K$12:K153),\"\")","v":""},"","","","","",null,null,"","","",""]
[143,null,null,null,null,null,null,null,null,null,"","","","","","",{"$f":"IFERROR(AVERAGE($K$12:K154),\"\")","v":""},"","","","","",null,null,"","","",""]
[144,null,null,null,null,null,null,null,null,null,"","","","","","",{"$f":"IFERROR(AVERAGE($K$12:K155),\"\")","v":""},"","","","","",null,null,"","","",""]
[145,null,null,null,null,null,null,null,null,null,"","","","","","",{"$f":"IFERROR(AVERAGE($K$12:K156),\"\")","v":""},"","","","","",null,null,"","","",""]
[146,null,null,null,null,null,null,null,null,null,"","","","","","",{"$f":"IFERROR(AVERAGE($K$12:K157),\"\")","v":""},"","","","","",null,null,"","","",""]
[147,null,null,null,null,null,null,null,null,null,"","","","","","",{"$f":"IFERROR(AVERAGE($K$12:K158),\"\")","v":""},"","","","","",null,null,"","","",""]
[148,null,null,null,null,null,null,null,null,null,"","","","","","",{"$f":"IFERROR(AVERAGE($K$12:K159),\"\")","v":""},"","","","","",null,null,"","","",""]
[149,null,null,null,null,null,null,null,null,null,"","","","","","",{"$f":"IFERROR(AVERAGE($K$12:K160),\"\")","v":""},"","","","","",null,null,"","","",""]
[150,null,null,null,null,null,null,null,null,null,"","","","","","",{"$f":"IFERROR(AVERAGE($K$12:K161),\"\")","v":""},"","","","","",null,null,"","","",""]
[151,null,null,null,null,null,null,null,null,null,"","","","","","",{"$f":"IFERROR(AVERAGE($K$12:K162),\"\")","v":""},"","","","","",null,null,"","","",""]
[152,null,null,null,null,null,null,null,null,null,"","","","","","",{"$f":"IFERROR(AVERAGE($K$12:K163),\"\")","v":""},"","","","","",null,null,"","","",""]
[153,null,null,null,null,null,null,null,null,null,"","","","","","",{"$f":"IFERROR(AVERAGE($K$12:K164),\"\")","v":""},"","","","","",null,null,"","","",""]
[154,null,null,null,null,null,null,null,null,null,"","","","","","",{"$f":"IFERROR(AVERAGE($K$12:K165),\"\")","v":""},"","","","","",null,null,"","","",""]
[155,null,null,null,null,null,null,null,null,null,"","","","","","",{"$f":"IFERROR(AVERAGE($K$12:K166),\"\")","v":""},"","","","","",null,null,"","","",""]
[156,null,null,null,null,null,null,null,null,null,"","","","","","",{"$f":"IFERROR(AVERAGE($K$12:K167),\"\")","v":""},"","","","","",null,null,"","","",""]
[157,null,null,null,null,null,null,null,null,null,"","","","","","",{"$f":"IFERROR(AVERAGE($K$12:K168),\"\")","v":""},"","","","","",null,null,"","","",""]
[158,null,null,null,null,null,null,null,null,null,"","","","","","",{"$f":"IFERROR(AVERAGE($K$12:K169),\"\")","v":""},"","","","","",null,null,"","","",""]
[159,null,null,null,null,null,null,null,null,null,"","","","","","",{"$f":"IFERROR(AVERAGE($K$12:K170),\"\")","v":""},"","","","","",null,null,"","","",""]
[160,null,null,null,null,null,null,null,null,null,"","","","","","",{"$f":"IFERROR(AVERAGE($K$12:K171),\"\")","v":""},"","","","","",null,null,"","","",""]
[161,null,null,null,null,null,null,null,null,null,"","","","","","",{"$f":"IFERROR(AVERAGE($K$12:K172),\"\")","v":""},"","","","","",null,null,"","","",""]
[162,null,null,null,null,null,null,null,null,null,"","","","","","",{"$f":"IFERROR(AVERAGE($K$12:K173),\"\")","v":""},"","","","","",null,null,"","","",""]
[163,null,null,null,null,null,null,null,null,null,"","","","","","",{"$f":"IFERROR(AVERAGE($K$12:K174),\"\")","v":""},"","","","","",null,null,"","","",""]
[164,null,null,null,null,null,null,null,null,null,"","","","","","",{"$f":"IFERROR(AVERAGE($K$12:K175),\"\")","v":""},"","","","","",null,null,"","","",""]
[165,null,null,null,null,null,null,null,null,null,"","","","","","",{"$f":"IFERROR(AVERAGE($K$12:K176),\"\")","v":""},"","","","","",null,null,"","","",""]
[166,null,null,null,null,null,null,null,null,null,"","","","","","",{"$f":"IFERROR(AVERAGE($K$12:K177),\"\")","v":""},"","","","","",null,null,"","","",""]
[167,null,null,null,null,null,null,null,null,null,"","","","","","",{"$f":"IFERROR(AVERAGE($K$12:K178),\"\")","v":""},"","","","","",null,null,"","","",""]
[168,null,null,null,null,null,null,null,null,null,"","","","","","",{"$f":"IFERROR(AVERAGE($K$12:K179),\"\")","v":""},"","","","","",null,null,"","","",""]
[169,null,null,null,null,null,null,null,null,null,"","","","","","",{"$f":"IFERROR(AVERAGE($K$12:K180),\"\")","v":""},"","","","","",null,null,"","","",""]
[170,null,null,null,null,null,null,null,null,null,"","","","","","",{"$f":"IFERROR(AVERAGE($K$12:K181),\"\")","v":""},"","","","","",null,null,"","","",""]
[171,null,null,null,null,null,null,null,null,null,"","","","","","",{"$f":"IFERROR(AVERAGE($K$12:K182),\"\")","v":""},"","","","","",null,null,"","","",""]
[172,null,null,null,null,null,null,null,null,null,"","","","","","",{"$f":"IFERROR(AVERAGE($K$12:K183),\"\")","v":""},"","","","","",null,null,"","","",""]
[173,null,null,null,null,null,null,null,null,null,"","","","","","",{"$f":"IFERROR(AVERAGE($K$12:K184),\"\")","v":""},"","","","","",null,null,"","","",""]
[174,null,null,null,null,null,null,null,null,null,"","","","","","",{"$f":"IFERROR(AVERAGE($K$12:K185),\"\")","v":""},"","","","","",null,null,"","","",""]
[175,null,null,null,null,null,null,null,null,null,"","","","","","",{"$f":"IFERROR(AVERAGE($K$12:K186),\"\")","v":""},"","","","","",null,null,"","","",""]
[176,null,null,null,null,null,null,null,null,null,"","","","","","",{"$f":"IFERROR(AVERAGE($K$12:K187),\"\")","v":""},"","","","","",null,null,"","","",""]
[177,null,null,null,null,null,null,null,null,null,"","","","","","",{"$f":"IFERROR(AVERAGE($K$12:K188),\"\")","v":""},"","","","","",null,null,"","","",""]
[178,null,null,null,null,null,null,null,null,null,"","","","","","",{"$f":"IFERROR(AVERAGE($K$12:K189),\"\")","v":""},"","","","","",null,null,"","","",""]
[179,null,null,null,null,null,null,null,null,null,"","","","","","",{"$f":"IFERROR(AVERAGE($K$12:K190),\"\")","v":""},"","","","","",null,null,"","","",""]
[180,null,null,null,null,null,null,null,null,null,"","","","","","",{"$f":"IFERROR(AVERAGE($K$12:K191),\"\")","v":""},"","","","","",null,null,"","","",""]
[181,null,null,null,null,null,null,null,null,null,"","","","","","",{"$f":"IFERROR(AVERAGE($K$12:K192),\"\")","v":""},"","","","","",null,null,"","","",""]
[182,null,null,null,null,null,null,null,null,null,"","","","","","",{"$f":"IFERROR(AVERAGE($K$12:K193),\"\")","v":""},"","","","","",null,null,"","","",""]
[183,null,null,null,null,null,null,null,null,null,"","","","","","",{"$f":"IFERROR(AVERAGE($K$12:K194),\"\")","v":""},"","","","","",null,null,"","","",""]
[184,null,null,null,null,null,null,null,null,null,"","","","","","",{"$f":"IFERROR(AVERAGE($K$12:K195),\"\")","v":""},"","","","","",null,null,"","","",""]
[185,null,null,null,null,null,null,null,null,null,"","","","","","",{"$f":"IFERROR(AVERAGE($K$12:K196),\"\")","v":""},"","","","","",null,null,"","","",""]
[186,null,null,null,null,null,null,null,null,null,"","","","","","",{"$f":"IFERROR(AVERAGE($K$12:K197),\"\")","v":""},"","","","","",null,null,"","","",""]
[187,null,null,null,null,null,null,null,null,null,"","","","","","",{"$f":"IFERROR(AVERAGE($K$12:K198),\"\")","v":""},"","","","","",null,null,"","","",""]
[188,null,null,null,null,null,null,null,null,null,"","","","","","",{"$f":"IFERROR(AVERAGE($K$12:K199),\"\")","v":""},"","","","","",null,null,"","","",""]
[189,null,null,null,null,null,null,null,null,null,"","","","","","",{"$f":"IFERROR(AVERAGE($K$12:K200),\"\")","v":""},"","","","","",null,null,"","","",""]
[190,null,null,null,null,null,null,null,null,null,"","","","","","",{"$f":"IFERROR(AVERAGE($K$12:K201),\"\")","v":""},"","","","","",null,null,"","","",""]
[191,null,null,null,null,null,null,null,null,null,"","","","","","",{"$f":"IFERROR(AVERAGE($K$12:K202),\"\")","v":""},"","","","","",null,null,"","",{"$f":"IF($P$1=1,T202,R202)","v":""},{"$f":"IF($P$1=1,O202,L202)","v":""}]
[192,null,null,null,null,null,null,null,null,null,"","","","","","",{"$f":"IFERROR(AVERAGE($K$12:K203),\"\")","v":""},{"$f":"IF(F203<>\"\",$E$5,\"\")","v":""},{"$f":"IF(F203<>\"\",$E$5*(-1),\"\")","v":""},{"$f":"IF(F203<>\"\",$E$6,\"\")","v":""},{"$f":"IFERROR(IF(OR((ABS(O203)<=$E$6),(N203<1)),TRUE,FALSE),\"\")","v":""},{"$f":"IFERROR(IF(ABS(L203)<=$E$5,TRUE,FALSE),\"\")","v":""},null,null,"",{"$f":"IF($P$1=1,#N/A,S203)","v":""},"",""]
[193,null,null,null,null,null,null,null,null,null,{"$f":"IFERROR(AVERAGE(F204:J204),\"\")","v":""},{"$f":"IFERROR((K204-$E$4)*100/$E$4,\"\")","v":""},{"$f":"IFERROR(ROUND(STDEV(F204:J204),2),\"\")","v":""},{"$f":"IF(ISNUMBER(F204),(MAX(F204:J204)-MIN(F204:J204)),\"\")","v":""},{"$f":"IFERROR(N204*100/K204,\"\")","v":""},"",{"$f":"IFERROR(AVERAGE($K$12:K204),\"\")","v":""},"","","","","",null,null,"","","",""]
[194,null,null,null,null,null,null,null,null,null,"","","","","",{"$f":"IF(F205>0,IF(U205=FALSE,IF(V205=FALSE,\"<GA+WHP>\",\"<WHP>\"),IF(V205=FALSE,\"<GA>\",\"\")) & IF(W205=TRUE,\"<Trend>\",\"\") & IF(X205=TRUE,\"<Run>\",\"\")& IF(AND(ABS(U205+V205=2),W205+X205=0),\"OK\",\"\"),\"\")","v":""},{"$f":"IFERROR(AVERAGE($K$12:K205),\"\")","v":""},"","","","","",null,null,{"$f":"IFERROR(RIGHT(C205,10),\"\")","v":""},"","",""]
[195,null,null,null,null,null,null,null,null,null,"","","","","","",{"$f":"IFERROR(AVERAGE($K$12:K206),\"\")","v":""},"","","","","",null,null,"","","",""]
[196,null,null,null,null,null,null,null,null,null,"","","","","","",{"$f":"IFERROR(AVERAGE($K$12:K207),\"\")","v":""},"","","","","",null,null,"","","",""]
[197,null,null,null,null,null,null,null,null,null,"","","","","","",{"$f":"IFERROR(AVERAGE($K$12:K208),\"\")","v":""},"","","","","",null,null,"","","",""]
[198,null,null,null,null,null,null,null,null,null,"","","","","","",{"$f":"IFERROR(AVERAGE($K$12:K209),\"\")","v":""},"","","","","",{"$f":"OR(AND(K209>K208,K208>K207,K207>K206,K206>K205,K205>K204,K204>K203),AND(K209<K208,K208<K207,K207<K206,K206<K205,K205<K204,K204<K203))","v":null},{"$f":"OR(AND(K209>Q209,K208>Q209,K207>Q209,K206>Q209,K205>Q209,K204>Q209,K203>Q209),AND(K209<Q209,K208<Q209,K207<Q209,K206<Q209,K205<Q209,K204<Q209,K203<Q209))","v":null},"","","",""]
[199,null,null,null,null,null,null,null,null,null,"","","","","","",{"$f":"IFERROR(AVERAGE($K$12:K210),\"\")","v":""},"","","","","",null,null,"","","",""]
[200,null,null,null,null,null,null,null,null,null,"","","","","","",{"$f":"IFERROR(AVERAGE($K$12:K211),\"\")","v":""},"","","","","",null,null,"","","",""]
[201,null,null,null,null,null,null,null,null,null,"","","","","","",{"$f":"IFERROR(AVERAGE($K$12:K212),\"\")","v":""},"","","","","",null,null,"","","",""]
[202,null,null,null,null,null,null,null,null,null,"","","","","","",{"$f":"IFERROR(AVERAGE($K$12:K213),\"\")","v":""},"","","","","",null,null,"","","",""]
[203,null,null,null,null,null,null,null,null,null,"","","","","","",{"$f":"IFERROR(AVERAGE($K$12:K214),\"\")","v":""},"","","","","",null,null,"","","",""]
[204,null,null,null,null,null,null,null,null,null,"","","","","","",{"$f":"IFERROR(AVERAGE($K$12:K215),\"\")","v":""},"","","","","",null,null,"","","",""]
[205,null,null,null,null,null,null,null,null,null,"","","","","","",{"$f":"IFERROR(AVERAGE($K$12:K216),\"\")","v":""},"","","","","",null,null,"","","",""]
[206,null,null,null,null,null,null,null,null,null,"","","","","","",{"$f":"IFERROR(AVERAGE($K$12:K217),\"\")","v":""},"","","","","",null,null,"","","",""]
[207,null,null,null,null,null,null,null,null,null,"","","","","","",{"$f":"IFERROR(AVERAGE($K$12:K218),\"\")","v":""},"","","","","",null,null,"","","",""]
[208,null,null,null,null,null,null,null,null,null,"","","","","","",{"$f":"IFERROR(AVERAGE($K$12:K219),\"\")","v":""},"","","","","",null,null,"","","",""]
[209,null,null,null,null,null,null,null,null,null,"","","","","","",{"$f":"IFERROR(AVERAGE($K$12:K220),\"\")","v":""},"","","","","",null,null,"","","",""]
[210,null,null,null,null,null,null,null,null,null,"","","","","","",{"$f":"IFERROR(AVERAGE($K$12:K221),\"\")","v":""},"","","","","",null,null,"","","",""]
[211,null,null,null,null,null,null,null,null,null,"","","","","","",{"$f":"IFERROR(AVERAGE($K$12:K222),\"\")","v":""},"","","","","",null,null,"","","",""]
[212,null,null,null,null,null,null,null,null,null,"","","","","","",{"$f":"IFERROR(AVERAGE($K$12:K223),\"\")","v":""},"","","","","",null,null,"","","",""]
[213,null,null,null,null,null,null,null,null,null,"","","","","","",{"$f":"IFERROR(AVERAGE($K$12:K224),\"\")","v":""},"","","","","",null,null,"","","",""]
[214,null,null,null,null,null,null,null,null,null,"","","","","","",{"$f":"IFERROR(AVERAGE($K$12:K225),\"\")","v":""},"","","","","",null,null,"","","",""]
[215,null,null,null,null,null,null,null,null,null,"","","","","","",{"$f":"IFERROR(AVERAGE($K$12:K226),\"\")","v":""},"","","","","",null,null,"","","",""]
[216,null,null,null,null,null,null,null,null,null,"","","","","","",{"$f":"IFERROR(AVERAGE($K$12:K227),\"\")","v":""},"","","","","",null,null,"","","",""]
[217,null,null,null,null,null,null,null,null,null,"","","","","","",{"$f":"IFERROR(AVERAGE($K$12:K228),\"\")","v":""},"","","","","",null,null,"","","",""]
[218,null,null,null,null,null,null,null,null,null,"","","","","","",{"$f":"IFERROR(AVERAGE($K$12:K229),\"\")","v":""},"","","","","",null,null,"","","",""]
[219,null,null,null,null,null,null,null,null,null,"","","","","","",{"$f":"IFERROR(AVERAGE($K$12:K230),\"\")","v":""},"","","","","",null,null,"","","",""]
[220,null,null,null,null,null,null,null,null,null,"","","","","","",{"$f":"IFERROR(AVERAGE($K$12:K231),\"\")","v":""},"","","","","",null,null,"","","",""]
[221,null,null,null,null,null,null,null,null,null,"","","","","","",{"$f":"IFERROR(AVERAGE($K$12:K232),\"\")","v":""},"","","","","",null,null,"","","",""]
[222,null,null,null,null,null,null,null,null,null,"","","","","","",{"$f":"IFERROR(AVERAGE($K$12:K233),\"\")","v":""},"","","","","",null,null,"","","",""]
[223,null,null,null,null,null,null,null,null,null,"","","","","","",{"$f":"IFERROR(AVERAGE($K$12:K234),\"\")","v":""},"","","","","",null,null,"","","",""]
[224,null,null,null,null,null,null,null,null,null,"","","","","","",{"$f":"IFERROR(AVERAGE($K$12:K235),\"\")","v":""},"","","","","",null,null,"","","",""]
[225,null,null,null,null,null,null,null,null,null,"","","","","","",{"$f":"IFERROR(AVERAGE($K$12:K236),\"\")","v":""},"","","","","",null,null,"","","",""]
[226,null,null,null,null,null,null,null,null,null,"","","","","","",{"$f":"IFERROR(AVERAGE($K$12:K237),\"\")","v":""},"","","","","",null,null,"","","",""]
[227,null,null,null,null,null,null,null,null,null,"","","","","","",{"$f":"IFERROR(AVERAGE($K$12:K238),\"\")","v":""},"","","","","",null,null,"","","",""]
[228,null,null,null,null,null,null,null,null,null,"","","","","","",{"$f":"IFERROR(AVERAGE($K$12:K239),\"\")","v":""},"","","","","",null,null,"","","",""]
[229,null,null,null,null,null,null,null,null,null,"","","","","","",{"$f":"IFERROR(AVERAGE($K$12:K240),\"\")","v":""},"","","","","",null,null,"","","",""]
[230,null,null,null,null,null,null,null,null,null,"","","","","","",{"$f":"IFERROR(AVERAGE($K$12:K241),\"\")","v":""},"","","","","",null,null,"","","",""]
[231,null,null,null,null,null,null,null,null,null,"","","","","","",{"$f":"IFERROR(AVERAGE($K$12:K242),\"\")","v":""},"","","","","",null,null,"","","",""]
[232,null,null,null,null,null,null,null,null,null,"","","","","","",{"$f":"IFERROR(AVERAGE($K$12:K243),\"\")","v":""},"","","","","",null,null,"","","",""]
[233,null,null,null,null,null,null,null,null,null,"","","","","","",{"$f":"IFERROR(AVERAGE($K$12:K244),\"\")","v":""},"","","","","",null,null,"","","",""]
[234,null,null,null,null,null,null,null,null,null,"","","","","","",{"$f":"IFERROR(AVERAGE($K$12:K245),\"\")","v":""},"","","","","",null,null,"","","",""]
[235,null,null,null,null,null,null,null,null,null,"","","","","","",{"$f":"IFERROR(AVERAGE($K$12:K246),\"\")","v":""},"","","","","",null,null,"","","",""]
[236,null,null,null,null,null,null,null,null,null,"","","","","","",{"$f":"IFERROR(AVERAGE($K$12:K247),\"\")","v":""},"","","","","",null,null,"","","",""]
[237,null,null,null,null,null,null,null,null,null,"","","","","","",{"$f":"IFERROR(AVERAGE($K$12:K248),\"\")","v":""},"","","","","",null,null,"","","",""]
[238,null,null,null,null,null,null,null,null,null,"","","","","","",{"$f":"IFERROR(AVERAGE($K$12:K249),\"\")","v":""},"","","","","",null,null,"","","",""]
[239,null,null,null,null,null,null,null,null,null,"","","","","","",{"$f":"IFERROR(AVERAGE($K$12:K250),\"\")","v":""},"","","","","",null,null,"","","",""]
[240,null,null,null,null,null,null,null,null,null,"","","","","","",{"$f":"IFERROR(AVERAGE($K$12:K251),\"\")","v":""},"","","","","",null,null,"","","",""]
[241,null,null,null,null,null,null,null,null,null,"","","","","","",{"$f":"IFERROR(AVERAGE($K$12:K252),\"\")","v":""},"","","","","",null,null,"","","",""]
[242,null,null,null,null,null,null,null,null,null,"","","","","","",{"$f":"IFERROR(AVERAGE($K$12:K253),\"\")","v":""},"","","","","",null,null,"","","",""]
[243,null,null,null,null,null,null,null,null,null,"","","","","","",{"$f":"IFERROR(AVERAGE($K$12:K254),\"\")","v":""},"","","","","",null,null,"","","",""]
[244,null,null,null,null,null,null,null,null,null,"","","","","","",{"$f":"IFERROR(AVERAGE($K$12:K255),\"\")","v":""},"","","","","",null,null,"","","",""]
[245,null,null,null,null,null,null,null,null,null,"","","","","","",{"$f":"IFERROR(AVERAGE($K$12:K256),\"\")","v":""},"","","","","",null,null,"","","",""]
[246,null,null,null,null,null,null,null,null,null,"","","","","","",{"$f":"IFERROR(AVERAGE($K$12:K257),\"\")","v":""},"","","","","",null,null,"","","",""]
[247,null,null,null,null,null,null,null,null,null,"","","","","","",{"$f":"IFERROR(AVERAGE($K$12:K258),\"\")","v":""},"","","","","",null,null,"","","",""]
[248,null,null,null,null,null,null,null,null,null,"","","","","","",{"$f":"IFERROR(AVERAGE($K$12:K259),\"\")","v":""},"","","","","",null,null,"","","",""]
[249,null,null,null,null,null,null,null,null,null,"","","","","","",{"$f":"IFERROR(AVERAGE($K$12:K260),\"\")","v":""},"","","","","",null,null,"","","",""]
[250,null,null,null,null,null,null,null,null,null,"","","","","","",{"$f":"IFERROR(AVERAGE($K$12:K261),\"\")","v":""},"","","","","",null,null,"","","",""]
[251,null,null,null,null,null,null,null,null,null,"","","","","","",{"$f":"IFERROR(AVERAGE($K$12:K262),\"\")","v":""},"","","","","",null,null,"","","",""]
[252,null,null,null,null,null,null,null,null,null,"","","","","","",{"$f":"IFERROR(AVERAGE($K$12:K263),\"\")","v":""},"","","","","",null,null,"","","",""]
[253,null,null,null,null,null,null,null,null,null,"","","","","","",{"$f":"IFERROR(AVERAGE($K$12:K264),\"\")","v":""},"","","","","",null,null,"","","",""]
[254,null,null,null,null,null,null,null,null,null,"","","","","","",{"$f":"IFERROR(AVERAGE($K$12:K265),\"\")","v":""},"","","","","",null,null,"","","",""]
[255,null,null,null,null,null,null,null,null,null,"","","","","","",{"$f":"IFERROR(AVERAGE($K$12:K266),\"\")","v":""},"","","","","",null,null,"","",{"$f":"IF($P$1=1,T266,R266)","v":""},{"$f":"IF($P$1=1,O266,L266)","v":""}]
[256,null,null,null,null,null,null,null,null,null,"","","","","","",{"$f":"IFERROR(AVERAGE($K$12:K267),\"\")","v":""},{"$f":"IF(F267<>\"\",$E$5,\"\")","v":""},{"$f":"IF(F267<>\"\",$E$5*(-1),\"\")","v":""},{"$f":"IF(F267<>\"\",$E$6,\"\")","v":""},{"$f":"IFERROR(IF(OR((ABS(O267)<=$E$6),(N267<1)),TRUE,FALSE),\"\")","v":""},{"$f":"IFERROR(IF(ABS(L267)<=$E$5,TRUE,FALSE),\"\")","v":""},null,null,"",{"$f":"IF($P$1=1,#N/A,S267)","v":""},"",""]
[257,null,null,null,null,null,null,null,null,null,{"$f":"IFERROR(AVERAGE(F268:J268),\"\")","v":""},{"$f":"IFERROR((K268-$E$4)*100/$E$4,\"\")","v":""},{"$f":"IFERROR(ROUND(STDEV(F268:J268),2),\"\")","v":""},{"$f":"IF(ISNUMBER(F268),(MAX(F268:J268)-MIN(F268:J268)),\"\")","v":""},{"$f":"IFERROR(N268*100/K268,\"\")","v":""},"",{"$f":"IFERROR(AVERAGE($K$12:K268),\"\")","v":""},"","","","","",null,null,"","","",""]
[258,null,null,null,null,null,null,null,null,null,"","","","","",{"$f":"IF(F269>0,IF(U269=FALSE,IF(V269=FALSE,\"<GA+WHP>\",\"<WHP>\"),IF(V269=FALSE,\"<GA>\",\"\")) & IF(W269=TRUE,\"<Trend>\",\"\") & IF(X269=TRUE,\"<Run>\",\"\")& IF(AND(ABS(U269+V269=2),W269+X269=0),\"OK\",\"\"),\"\")","v":""},{"$f":"IFERROR(AVERAGE($K$12:K269),\"\")","v":""},"","","","","",null,null,{"$f":"IFERROR(RIGHT(C269,10),\"\")","v":""},"","",""]
[259,null,null,null,null,null,null,null,null,null,"","","","","","",{"$f":"IFERROR(AVERAGE($K$12:K270),\"\")","v":""},"","","","","",null,null,"","","",""]
[260,null,null,null,null,null,null,null,null,null,"","","","","","",{"$f":"IFERROR(AVERAGE($K$12:K271),\"\")","v":""},"","","","","",null,null,"","","",""]
[261,null,null,null,null,null,null,null,null,null,"","","","","","",{"$f":"IFERROR(AVERAGE($K$12:K272),\"\")","v":""},"","","","","",null,null,"","","",""]
[262,null,null,null,null,null,null,null,null,null,"","","","","","",{"$f":"IFERROR(AVERAGE($K$12:K273),\"\")","v":""},"","","","","",{"$f":"OR(AND(K273>K272,K272>K271,K271>K270,K270>K269,K269>K268,K268>K267),AND(K273<K272,K272<K271,K271<K270,K270<K269,K269<K268,K268<K267))","v":null},{"$f":"OR(AND(K273>Q273,K272>Q273,K271>Q273,K270>Q273,K269>Q273,K268>Q273,K267>Q273),AND(K273<Q273,K272<Q273,K271<Q273,K270<Q273,K269<Q273,K268<Q273,K267<Q273))","v":null},"","","",""]
[263,null,null,null,null,null,null,null,null,null,"","","","","","",{"$f":"IFERROR(AVERAGE($K$12:K274),\"\")","v":""},"","","","","",null,null,"","","",""]
[264,null,null,null,null,null,null,null,null,null,"","","","","","",{"$f":"IFERROR(AVERAGE($K$12:K275),\"\")","v":""},"","","","","",null,null,"","","",""]
[265,null,null,null,null,null,null,null,null,null,"","","","","","",{"$f":"IFERROR(AVERAGE($K$12:K276),\"\")","v":""},"","","","","",null,null,"","","",""]
[266,null,null,null,null,null,null,null,null,null,"","","","","","",{"$f":"IFERROR(AVERAGE($K$12:K277),\"\")","v":""},"","","","","",null,null,"","","",""]
[267,null,null,null,null,null,null,null,null,null,"","","","","","",{"$f":"IFERROR(AVERAGE($K$12:K278),\"\")","v":""},"","","","","",null,null,"","","",""]
[268,null,null,null,null,null,null,null,null,null,"","","","","","",{"$f":"IFERROR(AVERAGE($K$12:K279),\"\")","v":""},"","","","","",null,null,"","","",""]
[269,null,null,null,null,null,null,null,null,null,"","","","","","",{"$f":"IFERROR(AVERAGE($K$12:K280),\"\")","v":""},"","","","","",null,null,"","","",""]
[270,null,null,null,null,null,null,null,null,null,"","","","","","",{"$f":"IFERROR(AVERAGE($K$12:K281),\"\")","v":""},"","","","","",null,null,"","","",""]
[271,null,null,null,null,null,null,null,null,null,"","","","","","",{"$f":"IFERROR(AVERAGE($K$12:K282),\"\")","v":""},"","","","","",null,null,"","","",""]
[272,null,null,null,null,null,null,null,null,null,"","","","","","",{"$f":"IFERROR(AVERAGE($K$12:K283),\"\")","v":""},"","","","","",null,null,"","","",""]
[273,null,null,null,null,null,null,null,null,null,"","","","","","",{"$f":"IFERROR(AVERAGE($K$12:K284),\"\")","v":""},"","","","","",null,null,"","","",""]
[274,null,null,null,null,null,null,null,null,null,"","","","","","",{"$f":"IFERROR(AVERAGE($K$12:K285),\"\")","v":""},"","","","","",null,null,"","","",""]
[275,null,null,null,null,null,null,null,null,null,"","","","","","",{"$f":"IFERROR(AVERAGE($K$12:K286),\"\")","v":""},"","","","","",null,null,"","","",""]
[276,null,null,null,null,null,null,null,null,null,"","","","","","",{"$f":"IFERROR(AVERAGE($K$12:K287),\"\")","v":""},"","","","","",null,null,"","","",""]
[277,null,null,null,null,null,null,null,null,null,"","","","","","",{"$f":"IFERROR(AVERAGE($K$12:K288),\"\")","v":""},"","","","","",null,null,"","","",""]
[278,null,null,null,null,null,null,null,null,null,"","","","","","",{"$f":"IFERROR(AVERAGE($K$12:K289),\"\")","v":""},"","","","","",null,null,"","","",""]
[279,null,null,null,null,null,null,null,null,null,"","","","","","",{"$f":"IFERROR(AVERAGE($K$12:K290),\"\")","v":""},"","","","","",null,null,"","","",""]
[280,null,null,null,null,null,null,null,null,null,"","","","","","",{"$f":"IFERROR(AVERAGE($K$12:K291),\"\")","v":""},"","","","","",null,null,"","","",""]
[281,null,null,null,null,null,null,null,null,null,"","","","","","",{"$f":"IFERROR(AVERAGE($K$12:K292),\"\")","v":""},"","","","","",null,null,"","","",""]
[282,null,null,null,null,null,null,null,null,null,"","","","","","",{"$f":"IFERROR(AVERAGE($K$12:K293),\"\")","v":""},"","","","","",null,null,"","","",""]
[283,null,null,null,null,null,null,null,null,null,"","","","","","",{"$f":"IFERROR(AVERAGE($K$12:K294),\"\")","v":""},"","","","","",null,null,"","","",""]
[284,null,null,null,null,null,null,null,null,null,"","","","","","",{"$f":"IFERROR(AVERAGE($K$12:K295),\"\")","v":""},"","","","","",null,null,"","","",""]
[285,null,null,null,null,null,null,null,null,null,"","","","","","",{"$f":"IFERROR(AVERAGE($K$12:K296),\"\")","v":""},"","","","","",null,null,"","","",""]
[286,null,null,null,null,null,null,null,null,null,"","","","","","",{"$f":"IFERROR(AVERAGE($K$12:K297),\"\")","v":""},"","","","","",null,null,"","","",""]
[287,null,null,null,null,null,null,null,null,null,"","","","","","",{"$f":"IFERROR(AVERAGE($K$12:K298),\"\")","v":""},"","","","","",null,null,"","","",""]
[288,null,null,null,null,null,null,null,null,null,"","","","","","",{"$f":"IFERROR(AVERAGE($K$12:K299),\"\")","v":""},"","","","","",null,null,"","","",""]
[289,null,null,null,null,null,null,null,null,null,"","","","","","",{"$f":"IFERROR(AVERAGE($K$12:K300),\"\")","v":""},"","","","","",null,null,"","","",""]
[290,null,null,null,null,null,null,null,null,null,"","","","","","",{"$f":"IFERROR(AVERAGE($K$12:K301),\"\")","v":""},"","","","","",null,null,"","","",""]
[291,null,null,null,null,null,null,null,null,null,"","","","","","",{"$f":"IFERROR(AVERAGE($K$12:K302),\"\")","v":""},"","","","","",null,null,"","","",""]
[292,null,null,null,null,null,null,null,null,null,"","","","","","",{"$f":"IFERROR(AVERAGE($K$12:K303),\"\")","v":""},"","","","","",null,null,"","","",""]
[293,null,null,null,null,null,null,null,null,null,"","","","","","",{"$f":"IFERROR(AVERAGE($K$12:K304),\"\")","v":""},"","","","","",null,null,"","","",""]
[294,null,null,null,null,null,null,null,null,null,"","","","","","",{"$f":"IFERROR(AVERAGE($K$12:K305),\"\")","v":""},"","","","","",null,null,"","","",""]
[295,null,null,null,null,null,null,null,null,null,"","","","","","",{"$f":"IFERROR(AVERAGE($K$12:K306),\"\")","v":""},"","","","","",null,null,"","","",""]
[296,null,null,null,null,null,null,null,null,null,"","","","","","",{"$f":"IFERROR(AVERAGE($K$12:K307),\"\")","v":""},"","","","","",null,null,"","","",""]
[297,null,null,null,null,null,null,null,null,null,"","","","","","",{"$f":"IFERROR(AVERAGE($K$12:K308),\"\")","v":""},"","","","","",null,null,"","","",""]
[298,null,null,null,null,null,null,null,null,null,"","","","","","",{"$f":"IFERROR(AVERAGE($K$12:K309),\"\")","v":""},"","","","","",null,null,"","","",""]
[299,null,null,null,null,null,null,null,null,null,"","","","","","",{"$f":"IFERROR(AVERAGE($K$12:K310),\"\")","v":""},"","","","","",null,null,"","","",""]
[300,null,null,null,null,null,null,null,null,null,"","","","","","",{"$f":"IFERROR(AVERAGE($K$12:K311),\"\")","v":""},"","","","","",null,null,"","","",""]
[301,null,null,null,null,null,null,null,null,null,"","","","","","",{"$f":"IFERROR(AVERAGE($K$12:K312),\"\")","v":""},"","","","","",null,null,"","","",""]
[302,null,null,null,null,null,null,null,null,null,"","","","","","",{"$f":"IFERROR(AVERAGE($K$12:K313),\"\")","v":""},"","","","","",null,null,"","","",""]
[303,null,null,null,null,null,null,null,null,null,"","","","","","",{"$f":"IFERROR(AVERAGE($K$12:K314),\"\")","v":""},"","","","","",null,null,"","","",""]
[304,null,null,null,null,null,null,null,null,null,"","","","","","",{"$f":"IFERROR(AVERAGE($K$12:K315),\"\")","v":""},"","","","","",null,null,"","","",""]
[305,null,null,null,null,null,null,null,null,null,"","","","","","",{"$f":"IFERROR(AVERAGE($K$12:K316),\"\")","v":""},"","","","","",null,null,"","","",""]
[306,null,null,null,null,null,null,null,null,null,"","","","","","",{"$f":"IFERROR(AVERAGE($K$12:K317),\"\")","v":""},"","","","","",null,null,"","","",""]
[307,null,null,null,null,null,null,null,null,null,"","","","","","",{"$f":"IFERROR(AVERAGE($K$12:K318),\"\")","v":""},"","","","","",null,null,"","","",""]
[308,null,null,null,null,null,null,null,null,null,"","","","","","",{"$f":"IFERROR(AVERAGE($K$12:K319),\"\")","v":""},"","","","","",null,null,"","","",""]
[309,null,null,null,null,null,null,null,null,null,"","","","","","",{"$f":"IFERROR(AVERAGE($K$12:K320),\"\")","v":""},"","","","","",null,null,"","","",""]
[310,null,null,null,null,null,null,null,null,null,"","","","","","",{"$f":"IFERROR(AVERAGE($K$12:K321),\"\")","v":""},"","","","","",null,null,"","","",""]
[311,null,null,null,null,null,null,null,null,null,"","","","","","",{"$f":"IFERROR(AVERAGE($K$12:K322),\"\")","v":""},"","","","","",null,null,"","","",""]
[312,null,null,null,null,null,null,null,null,null,"","","","","","",{"$f":"IFERROR(AVERAGE($K$12:K323),\"\")","v":""},"","","","","",null,null,"","","",""]
[313,null,null,null,null,null,null,null,null,null,"","","","","","",{"$f":"IFERROR(AVERAGE($K$12:K324),\"\")","v":""},"","","","","",null,null,"","","",""]
[314,null,null,null,null,null,null,null,null,null,"","","","","","",{"$f":"IFERROR(AVERAGE($K$12:K325),\"\")","v":""},"","","","","",null,null,"","","",""]
[315,null,null,null,null,null,null,null,null,null,"","","","","","",{"$f":"IFERROR(AVERAGE($K$12:K326),\"\")","v":""},"","","","","",null,null,"","","",""]
[316,null,null,null,null,null,null,null,null,null,"","","","","","",{"$f":"IFERROR(AVERAGE($K$12:K327),\"\")","v":""},"","","","","",null,null,"","","",""]
[317,null,null,null,null,null,null,null,null,null,"","","","","","",{"$f":"IFERROR(AVERAGE($K$12:K328),\"\")","v":""},"","","","","",null,null,"","","",""]
[318,null,null,null,null,null,null,null,null,null,"","","","","","",{"$f":"IFERROR(AVERAGE($K$12:K329),\"\")","v":""},"","","","","",null,null,"","","",""]
[319,null,null,null,null,null,null,null,null,null,"","","","","","",{"$f":"IFERROR(AVERAGE($K$12:K330),\"\")","v":""},"","","","","",null,null,"","",{"$f":"IF($P$1=1,T330,R330)","v":""},{"$f":"IF($P$1=1,O330,L330)","v":""}]
[320,null,null,null,null,null,null,null,null,null,"","","","","","",{"$f":"IFERROR(AVERAGE($K$12:K331),\"\")","v":""},{"$f":"IF(F331<>\"\",$E$5,\"\")","v":""},{"$f":"IF(F331<>\"\",$E$5*(-1),\"\")","v":""},{"$f":"IF(F331<>\"\",$E$6,\"\")","v":""},{"$f":"IFERROR(IF(OR((ABS(O331)<=$E$6),(N331<1)),TRUE,FALSE),\"\")","v":""},{"$f":"IFERROR(IF(ABS(L331)<=$E$5,TRUE,FALSE),\"\")","v":""},null,null,"",{"$f":"IF($P$1=1,#N/A,S331)","v":""},"",""]
[321,null,null,null,null,null,null,null,null,null,{"$f":"IFERROR(AVERAGE(F332:J332),\"\")","v":""},{"$f":"IFERROR((K332-$E$4)*100/$E$4,\"\")","v":""},{"$f":"IFERROR(ROUND(STDEV(F332:J332),2),\"\")","v":""},{"$f":"IF(ISNUMBER(F332),(MAX(F332:J332)-MIN(F332:J332)),\"\")","v":""},{"$f":"IFERROR(N332*100/K332,\"\")","v":""},"",{"$f":"IFERROR(AVERAGE($K$12:K332),\"\")","v":""},"","","","","",null,null,"","","",""]
[322,null,null,null,null,null,null,null,null,null,"","","","","",{"$f":"IF(F333>0,IF(U333=FALSE,IF(V333=FALSE,\"<GA+WHP>\",\"<WHP>\"),IF(V333=FALSE,\"<GA>\",\"\")) & IF(W333=TRUE,\"<Trend>\",\"\") & IF(X333=TRUE,\"<Run>\",\"\")& IF(AND(ABS(U333+V333=2),W333+X333=0),\"OK\",\"\"),\"\")","v":""},{"$f":"IFERROR(AVERAGE($K$12:K333),\"\")","v":""},"","","","","",null,null,{"$f":"IFERROR(RIGHT(C333,10),\"\")","v":""},"","",""]
[323,null,null,null,null,null,null,null,null,null,"","","","","","",{"$f":"IFERROR(AVERAGE($K$12:K334),\"\")","v":""},"","","","","",null,null,"","","",""]
[324,null,null,null,null,null,null,null,null,null,"","","","","","",{"$f":"IFERROR(AVERAGE($K$12:K335),\"\")","v":""},"","","","","",null,null,"","","",""]
[325,null,null,null,null,null,null,null,null,null,"","","","","","",{"$f":"IFERROR(AVERAGE($K$12:K336),\"\")","v":""},"","","","","",null,null,"","","",""]
[326,null,null,null,null,null,null,null,null,null,"","","","","","",{"$f":"IFERROR(AVERAGE($K$12:K337),\"\")","v":""},"","","","","",{"$f":"OR(AND(K337>K336,K336>K335,K335>K334,K334>K333,K333>K332,K332>K331),AND(K337<K336,K336<K335,K335<K334,K334<K333,K333<K332,K332<K331))","v":null},{"$f":"OR(AND(K337>Q337,K336>Q337,K335>Q337,K334>Q337,K333>Q337,K332>Q337,K331>Q337),AND(K337<Q337,K336<Q337,K335<Q337,K334<Q337,K333<Q337,K332<Q337,K331<Q337))","v":null},"","","",""]
[327,null,null,null,null,null,null,null,null,null,"","","","","","",{"$f":"IFERROR(AVERAGE($K$12:K338),\"\")","v":""},"","","","","",null,null,"","","",""]
[328,null,null,null,null,null,null,null,null,null,"","","","","","",{"$f":"IFERROR(AVERAGE($K$12:K339),\"\")","v":""},"","","","","",null,null,"","","",""]
[329,null,null,null,null,null,null,null,null,null,"","","","","","",{"$f":"IFERROR(AVERAGE($K$12:K340),\"\")","v":""},"","","","","",null,null,"","","",""]
[330,null,null,null,null,null,null,null,null,null,"","","","","","",{"$f":"IFERROR(AVERAGE($K$12:K341),\"\")","v":""},"","","","","",null,null,"","","",""]
[331,null,null,null,null,null,null,null,null,null,"","","","","","",{"$f":"IFERROR(AVERAGE($K$12:K342),\"\")","v":""},"","","","","",null,null,"","","",""]
[332,null,null,null,null,null,null,null,null,null,"","","","","","",{"$f":"IFERROR(AVERAGE($K$12:K343),\"\")","v":""},"","","","","",null,null,"","","",""]
[333,null,null,null,null,null,null,null,null,null,"","","","","","",{"$f":"IFERROR(AVERAGE($K$12:K344),\"\")","v":""},"","","","","",null,null,"","","",""]
[334,null,null,null,null,null,null,null,null,null,"","","","","","",{"$f":"IFERROR(AVERAGE($K$12:K345),\"\")","v":""},"","","","","",null,null,"","","",""]
[335,null,null,null,null,null,null,null,null,null,"","","","","","",{"$f":"IFERROR(AVERAGE($K$12:K346),\"\")","v":""},"","","","","",null,null,"","","",""]
[336,null,null,null,null,null,null,null,null,null,"","","","","","",{"$f":"IFERROR(AVERAGE($K$12:K347),\"\")","v":""},"","","","","",null,null,"","","",""]
[337,null,null,null,null,null,null,null,null,null,"","","","","","",{"$f":"IFERROR(AVERAGE($K$12:K348),\"\")","v":""},"","","","","",null,null,"","","",""]
[338,null,null,null,null,null,null,null,null,null,"","","","","","",{"$f":"IFERROR(AVERAGE($K$12:K349),\"\")","v":""},"","","","","",null,null,"","","",""]
[339,null,null,null,null,null,null,null,null,null,"","","","","","",{"$f":"IFERROR(AVERAGE($K$12:K350),\"\")","v":""},"","","","","",null,null,"","","",""]
[340,null,null,null,null,null,null,null,null,null,"","","","","","",{"$f":"IFERROR(AVERAGE($K$12:K351),\"\")","v":""},"","","","","",null,null,"","","",""]
[341,null,null,null,null,null,null,null,null,null,"","","","","","",{"$f":"IFERROR(AVERAGE($K$12:K352),\"\")","v":""},"","","","","",null,null,"","","",""]
[342,null,null,null,null,null,null,null,null,null,"","","","","","",{"$f":"IFERROR(AVERAGE($K$12:K353),\"\")","v":""},"","","","","",null,null,"","","",""]
[343,null,null,null,null,null,null,null,null,null,"","","","","","",{"$f":"IFERROR(AVERAGE($K$12:K354),\"\")","v":""},"","","","","",null,null,"","","",""]
[344,null,null,null,null,null,null,null,null,null,"","","","","","",{"$f":"IFERROR(AVERAGE($K$12:K355),\"\")","v":""},"","","","","",null,null,"","","",""]
[345,null,null,null,null,null,null,null,null,null,"","","","","","",{"$f":"IFERROR(AVERAGE($K$12:K356),\"\")","v":""},"","","","","",null,null,"","","",""]
[346,null,null,null,null,null,null,null,null,null,"","","","","","",{"$f":"IFERROR(AVERAGE($K$12:K357),\"\")","v":""},"","","","","",null,null,"","","",""]
[347,null,null,null,null,null,null,null,null,null,"","","","","","",{"$f":"IFERROR(AVERAGE($K$12:K358),\"\")","v":""},"","","","","",null,null,"","","",""]
[348,null,null,null,null,null,null,null,null,null,"","","","","","",{"$f":"IFERROR(AVERAGE($K$12:K359),\"\")","v":""},"","","","","",null,null,"","","",""]
[349,null,null,null,null,null,null,null,null,null,"","","","","","",{"$f":"IFERROR(AVERAGE($K$12:K360),\"\")","v":""},"","","","","",null,null,"","","",""]
[350,null,null,null,null,null,null,null,null,null,"","","","","","",{"$f":"IFERROR(AVERAGE($K$12:K361),\"\")","v":""},"","","","","",null,null,"","","",""]
[351,null,null,null,null,null,null,null,null,null,"","","","","","",{"$f":"IFERROR(AVERAGE($K$12:K362),\"\")","v":""},"","","","","",null,null,"","","",""]
[352,null,null,null,null,null,null,null,null,null,"","","","","","",{"$f":"IFERROR(AVERAGE($K$12:K363),\"\")","v":""},"","","","","",null,null,"","","",""]
[353,null,null,null,null,null,null,null,null,null,"","","","","","",{"$f":"IFERROR(AVERAGE($K$12:K364),\"\")","v":""},"","","","","",null,null,"","","",""]
[354,null,null,null,null,null,null,null,null,null,"","","","","","",{"$f":"IFERROR(AVERAGE($K$12:K365),\"\")","v":""},"","","","","",null,null,"","","",""]
[355,null,null,null,null,null,null,null,null,null,"","","","","","",{"$f":"IFERROR(AVERAGE($K$12:K366),\"\")","v":""},"","","","","",null,null,"","","",""]
[356,null,null,null,null,null,null,null,null,null,"","","","","","",{"$f":"IFERROR(AVERAGE($K$12:K367),\"\")","v":""},"","","","","",null,null,"","","",""]
[357,null,null,null,null,null,null,null,null,null,"","","","","","",{"$f":"IFERROR(AVERAGE($K$12:K368),\"\")","v":""},"","","","","",null,null,"","","",""]
[358,null,null,null,null,null,null,null,null,null,"","","","","","",{"$f":"IFERROR(AVERAGE($K$12:K369),\"\")","v":""},"","","","","",null,null,"","","",""]
[359,null,null,null,null,null,null,null,null,null,"","","","","","",{"$f":"IFERROR(AVERAGE($K$12:K370),\"\")","v":""},"","","","","",null,null,"","","",""]
[360,null,null,null,null,null,null,null,null,null,"","","","","","",{"$f":"IFERROR(AVERAGE($K$12:K371),\"\")","v":""},"","","","","",null,null,"","","",""]
[361,null,null,null,null,null,null,null,null,null,"","","","","","",{"$f":"IFERROR(AVERAGE($K$12:K372),\"\")","v":""},"","","","","",null,null,"","","",""]
[362,null,null,null,null,null,null,null,null,null,"","","","","","",{"$f":"IFERROR(AVERAGE($K$12:K373),\"\")","v":""},"","","","","",null,null,"","","",""]
[363,null,null,null,null,null,null,null,null,null,"","","","","","",{"$f":"IFERROR(AVERAGE($K$12:K374),\"\")","v":""},"","","","","",null,null,"","","",""]
[364,null,null,null,null,null,null,null,null,null,"","","","","","",{"$f":"IFERROR(AVERAGE($K$12:K375),\"\")","v":""},"","","","","",null,null,"","","",""]
[365,null,null,null,null,null,null,null,null,null,"","","","","","",{"$f":"IFERROR(AVERAGE($K$12:K376),\"\")","v":""},"","","","","",null,null,"","","",""]
[366,null,null,null,null,null,null,null,null,null,"","","","","","",{"$f":"IFERROR(AVERAGE($K$12:K377),\"\")","v":""},"","","","","",null,null,"","","",""]
[367,null,null,null,null,null,null,null,null,null,"","","","","","",{"$f":"IFERROR(AVERAGE($K$12:K378),\"\")","v":""},"","","","","",null,null,"","","",""]
[368,null,null,null,null,null,null,null,null,null,"","","","","","",{"$f":"IFERROR(AVERAGE($K$12:K379),\"\")","v":""},"","","","","",null,null,"","","",""]
[369,null,null,null,null,null,null,null,null,null,"","","","","","",{"$f":"IFERROR(AVERAGE($K$12:K380),\"\")","v":""},"","","","","",null,null,"","","",""]
[370,null,null,null,null,null,null,null,null,null,"","","","","","",{"$f":"IFERROR(AVERAGE($K$12:K381),\"\")","v":""},"","","","","",null,null,"","","",""]
[371,null,null,null,null,null,null,null,null,null,"","","","","","",{"$f":"IFERROR(AVERAGE($K$12:K382),\"\")","v":""},"","","","","",null,null,"","","",""]
[372,null,null,null,null,null,null,null,null,null,"","","","","","",{"$f":"IFERROR(AVERAGE($K$12:K383),\"\")","v":""},"","","","","",null,null,"","","",""]
[373,null,null,null,null,null,null,null,null,null,"","","","","","",{"$f":"IFERROR(AVERAGE($K$12:K384),\"\")","v":""},"","","","","",null,null,"","","",""]
[374,null,null,null,null,null,null,null,null,null,"","","","","","",{"$f":"IFERROR(AVERAGE($K$12:K385),\"\")","v":""},"","","","","",null,null,"","","",""]
[375,null,null,null,null,null,null,null,null,null,"","","","","","",{"$f":"IFERROR(AVERAGE($K$12:K386),\"\")","v":""},"","","","","",null,null,"","","",""]
[376,null,null,null,null,null,null,null,null,null,"","","","","","",{"$f":"IFERROR(AVERAGE($K$12:K387),\"\")","v":""},"","","","","",null,null,"","","",""]
[377,null,null,null,null,null,null,null,null,null,"","","","","","",{"$f":"IFERROR(AVERAGE($K$12:K388),\"\")","v":""},"","","","","",null,null,"","","",""]
[378,null,null,null,null,null,null,null,null,null,"","","","","","",{"$f":"IFERROR(AVERAGE($K$12:K389),\"\")","v":""},"","","","","",null,null,"","","",""]
[379,null,null,null,null,null,null,null,null,null,"","","","","","",{"$f":"IFERROR(AVERAGE($K$12:K390),\"\")","v":""},"","","","","",null,null,"","","",""]
[380,null,null,null,null,null,null,null,null,null,"","","","","","",{"$f":"IFERROR(AVERAGE($K$12:K391),\"\")","v":""},"","","","","",null,null,"","","",""]
[381,null,null,null,null,null,null,null,null,null,"","","","","","",{"$f":"IFERROR(AVERAGE($K$12:K392),\"\")","v":""},"","","","","",null,null,"","","",""]
[382,null,null,null,null,null,null,null,null,null,"","","","","","",{"$f":"IFERROR(AVERAGE($K$12:K393),\"\")","v":""},"","","","","",null,null,"","","",""]
[383,null,null,null,null,null,null,null,null,null,"","","","","","",{"$f":"IFERROR(AVERAGE($K$12:K394),\"\")","v":""},"","","","","",null,null,"","",{"$f":"IF($P$1=1,T394,R394)","v":""},{"$f":"IF($P$1=1,O394,L394)","v":""}]
[384,null,null,null,null,null,null,null,null,null,"","","","","","",{"$f":"IFERROR(AVERAGE($K$12:K395),\"\")","v":""},{"$f":"IF(F395<>\"\",$E$5,\"\")","v":""},{"$f":"IF(F395<>\"\",$E$5*(-1),\"\")","v":""},{"$f":"IF(F395<>\"\",$E$6,\"\")","v":""},{"$f":"IFERROR(IF(OR((ABS(O395)<=$E$6),(N395<1)),TRUE,FALSE),\"\")","v":""},{"$f":"IFERROR(IF(ABS(L395)<=$E$5,TRUE,FALSE),\"\")","v":""},null,null,"",{"$f":"IF($P$1=1,#N/A,S395)","v":""},"",""]
[385,null,null,null,null,null,null,null,null,null,{"$f":"IFERROR(AVERAGE(F396:J396),\"\")","v":""},{"$f":"IFERROR((K396-$E$4)*100/$E$4,\"\")","v":""},{"$f":"IFERROR(ROUND(STDEV(F396:J396),2),\"\")","v":""},{"$f":"IF(ISNUMBER(F396),(MAX(F396:J396)-MIN(F396:J396)),\"\")","v":""},{"$f":"IFERROR(N396*100/K396,\"\")","v":""},"",{"$f":"IFERROR(AVERAGE($K$12:K396),\"\")","v":""},"","","","","",null,null,"","","",""]
[386,null,null,null,null,null,null,null,null,null,"","","","","",{"$f":"IF(F397>0,IF(U397=FALSE,IF(V397=FALSE,\"<GA+WHP>\",\"<WHP>\"),IF(V397=FALSE,\"<GA>\",\"\")) & IF(W397=TRUE,\"<Trend>\",\"\") & IF(X397=TRUE,\"<Run>\",\"\")& IF(AND(ABS(U397+V397=2),W397+X397=0),\"OK\",\"\"),\"\")","v":""},{"$f":"IFERROR(AVERAGE($K$12:K397),\"\")","v":""},"","","","","",null,null,{"$f":"IFERROR(RIGHT(C397,10),\"\")","v":""},"","",""]
[387,null,null,null,null,null,null,null,null,null,"","","","","","",{"$f":"IFERROR(AVERAGE($K$12:K398),\"\")","v":""},"","","","","",null,null,"","","",""]
[388,null,null,null,null,null,null,null,null,null,"","","","","","",{"$f":"IFERROR(AVERAGE($K$12:K399),\"\")","v":""},"","","","","",null,null,"","","",""]
[389,null,null,null,null,null,null,null,null,null,"","","","","","",{"$f":"IFERROR(AVERAGE($K$12:K400),\"\")","v":""},"","","","","",null,null,"","","",""]
[390,null,null,null,null,null,null,null,null,null,"","","","","","",{"$f":"IFERROR(AVERAGE($K$12:K401),\"\")","v":""},"","","","","",{"$f":"OR(AND(K401>K400,K400>K399,K399>K398,K398>K397,K397>K396,K396>K395),AND(K401<K400,K400<K399,K399<K398,K398<K397,K397<K396,K396<K395))","v":null},{"$f":"OR(AND(K401>Q401,K400>Q401,K399>Q401,K398>Q401,K397>Q401,K396>Q401,K395>Q401),AND(K401<Q401,K400<Q401,K399<Q401,K398<Q401,K397<Q401,K396<Q401,K395<Q401))","v":null},"","","",""]
[391,null,null,null,null,null,null,null,null,null,"","","","","","",{"$f":"IFERROR(AVERAGE($K$12:K402),\"\")","v":""},"","","","","",null,null,"","","",""]
[392,null,null,null,null,null,null,null,null,null,"","","","","","",{"$f":"IFERROR(AVERAGE($K$12:K403),\"\")","v":""},"","","","","",null,null,"","","",""]
[393,null,null,null,null,null,null,null,null,null,"","","","","","",{"$f":"IFERROR(AVERAGE($K$12:K404),\"\")","v":""},"","","","","",null,null,"","","",""]
[394,null,null,null,null,null,null,null,null,null,"","","","","","",{"$f":"IFERROR(AVERAGE($K$12:K405),\"\")","v":""},"","","","","",null,null,"","","",""]
[395,null,null,null,null,null,null,null,null,null,"","","","","","",{"$f":"IFERROR(AVERAGE($K$12:K406),\"\")","v":""},"","","","","",null,null,"","","",""]
[396,null,null,null,null,null,null,null,null,null,"","","","","","",{"$f":"IFERROR(AVERAGE($K$12:K407),\"\")","v":""},"","","","","",null,null,"","","",""]
[397,null,null,null,null,null,null,null,null,null,"","","","","","",{"$f":"IFERROR(AVERAGE($K$12:K408),\"\")","v":""},"","","","","",null,null,"","","",""]
[398,null,null,null,null,null,null,null,null,null,"","","","","","",{"$f":"IFERROR(AVERAGE($K$12:K409),\"\")","v":""},"","","","","",null,null,"","","",""]
[399,null,null,null,null,null,null,null,null,null,"","","","","","",{"$f":"IFERROR(AVERAGE($K$12:K410),\"\")","v":""},"","","","","",null,null,"","","",""]
[400,null,null,null,null,null,null,null,null,null,"","","","","","",{"$f":"IFERROR(AVERAGE($K$12:K411),\"\")","v":""},"","","","","",null,null,"","","",""]
[401,null,null,null,null,null,null,null,null,null,"","","","","","",{"$f":"IFERROR(AVERAGE($K$12:K412),\"\")","v":""},"","","","","",null,null,"","","",""]
[402,null,null,null,null,null,null,null,null,null,"","","","","","",{"$f":"IFERROR(AVERAGE($K$12:K413),\"\")","v":""},"","","","","",null,null,"","","",""]
[403,null,null,null,null,null,null,null,null,null,"","","","","","",{"$f":"IFERROR(AVERAGE($K$12:K414),\"\")","v":""},"","","","","",null,null,"","","",""]
[404,null,null,null,null,null,null,null,null,null,"","","","","","",{"$f":"IFERROR(AVERAGE($K$12:K415),\"\")","v":""},"","","","","",null,null,"","","",""]
[405,null,null,null,null,null,null,null,null,null,"","","","","","",{"$f":"IFERROR(AVERAGE($K$12:K416),\"\")","v":""},"","","","","",null,null,"","","",""]
[406,null,null,null,null,null,null,null,null,null,"","","","","","",{"$f":"IFERROR(AVERAGE($K$12:K417),\"\")","v":""},"","","","","",null,null,"","","",""]
[407,null,null,null,null,null,null,null,null,null,"","","","","","",{"$f":"IFERROR(AVERAGE($K$12:K418),\"\")","v":""},"","","","","",null,null,"","","",""]
[408,null,null,null,null,null,null,null,null,null,"","","","","","",{"$f":"IFERROR(AVERAGE($K$12:K419),\"\")","v":""},"","","","","",null,null,"","","",""]
[409,null,null,null,null,null,null,null,null,null,"","","","","","",{"$f":"IFERROR(AVERAGE($K$12:K420),\"\")","v":""},"","","","","",null,null,"","","",""]
[410,null,null,null,null,null,null,null,null,null,"","","","","","",{"$f":"IFERROR(AVERAGE($K$12:K421),\"\")","v":""},"","","","","",null,null,"","","",""]
[411,null,null,null,null,null,null,null,null,null,"","","","","","",{"$f":"IFERROR(AVERAGE($K$12:K422),\"\")","v":""},"","","","","",null,null,"","","",""]
[412,null,null,null,null,null,null,null,null,null,"","","","","","",{"$f":"IFERROR(AVERAGE($K$12:K423),\"\")","v":""},"","","","","",null,null,"","","",""]
[413,null,null,null,null,null,null,null,null,null,"","","","","","",{"$f":"IFERROR(AVERAGE($K$12:K424),\"\")","v":""},"","","","","",null,null,"","","",""]
[414,null,null,null,null,null,null,null,null,null,"","","","","","",{"$f":"IFERROR(AVERAGE($K$12:K425),\"\")","v":""},"","","","","",null,null,"","","",""]
[415,null,null,null,null,null,null,null,null,null,"","","","","","",{"$f":"IFERROR(AVERAGE($K$12:K426),\"\")","v":""},"","","","","",null,null,"","","",""]
[416,null,null,null,null,null,null,null,null,null,"","","","","","",{"$f":"IFERROR(AVERAGE($K$12:K427),\"\")","v":""},"","","","","",null,null,"","","",""]
[417,null,null,null,null,null,null,null,null,null,"","","","","","",{"$f":"IFERROR(AVERAGE($K$12:K428),\"\")","v":""},"","","","","",null,null,"","","",""]
[418,null,null,null,null,null,null,null,null,null,"","","","","","",{"$f":"IFERROR(AVERAGE($K$12:K429),\"\")","v":""},"","","","","",null,null,"","","",""]
[419,null,null,null,null,null,null,null,null,null,"","","","","","",{"$f":"IFERROR(AVERAGE($K$12:K430),\"\")","v":""},"","","","","",null,null,"","","",""]
[420,null,null,null,null,null,null,null,null,null,"","","","","","",{"$f":"IFERROR(AVERAGE($K$12:K431),\"\")","v":""},"","","","","",null,null,"","","",""]
[421,null,null,null,null,null,null,null,null,null,"","","","","","",{"$f":"IFERROR(AVERAGE($K$12:K432),\"\")","v":""},"","","","","",null,null,"","","",""]
[422,null,null,null,null,null,null,null,null,null,"","","","","","",{"$f":"IFERROR(AVERAGE($K$12:K433),\"\")","v":""},"","","","","",null,null,"","","",""]
[423,null,null,null,null,null,null,null,null,null,"","","","","","",{"$f":"IFERROR(AVERAGE($K$12:K434),\"\")","v":""},"","","","","",null,null,"","","",""]
[424,null,null,null,null,null,null,null,null,null,"","","","","","",{"$f":"IFERROR(AVERAGE($K$12:K435),\"\")","v":""},"","","","","",null,null,"","","",""]
[425,null,null,null,null,null,null,null,null,null,"","","","","","",{"$f":"IFERROR(AVERAGE($K$12:K436),\"\")","v":""},"","","","","",null,null,"","","",""]
[426,null,null,null,null,null,null,null,null,null,"","","","","","",{"$f":"IFERROR(AVERAGE($K$12:K437),\"\")","v":""},"","","","","",null,null,"","","",""]
[427,null,null,null,null,null,null,null,null,null,"","","","","","",{"$f":"IFERROR(AVERAGE($K$12:K438),\"\")","v":""},"","","","","",null,null,"","","",""]
[428,null,null,null,null,null,null,null,null,null,"","","","","","",{"$f":"IFERROR(AVERAGE($K$12:K439),\"\")","v":""},"","","","","",null,null,"","","",""]
[429,null,null,null,null,null,null,null,null,null,"","","","","","",{"$f":"IFERROR(AVERAGE($K$12:K440),\"\")","v":""},"","","","","",null,null,"","","",""]
[430,null,null,null,null,null,null,null,null,null,"","","","","","",{"$f":"IFERROR(AVERAGE($K$12:K441),\"\")","v":""},"","","","","",null,null,"","","",""]
[431,null,null,null,null,null,null,null,null,null,"","","","","","",{"$f":"IFERROR(AVERAGE($K$12:K442),\"\")","v":""},"","","","","",null,null,"","","",""]
[432,null,null,null,null,null,null,null,null,null,"","","","","","",{"$f":"IFERROR(AVERAGE($K$12:K443),\"\")","v":""},"","","","","",null,null,"","","",""]
[433,null,null,null,null,null,null,null,null,null,"","","","","","",{"$f":"IFERROR(AVERAGE($K$12:K444),\"\")","v":""},"","","","","",null,null,"","","",""]
[434,null,null,null,null,null,null,null,null,null,"","","","","","",{"$f":"IFERROR(AVERAGE($K$12:K445),\"\")","v":""},"","","","","",null,null,"","","",""]
[435,null,null,null,null,null,null,null,null,null,"","","","","","",{"$f":"IFERROR(AVERAGE($K$12:K446),\"\")","v":""},"","","","","",null,null,"","","",""]
[436,null,null,null,null,null,null,null,null,null,"","","","","","",{"$f":"IFERROR(AVERAGE($K$12:K447),\"\")","v":""},"","","","","",null,null,"","","",""]
[437,null,null,null,null,null,null,null,null,null,"","","","","","",{"$f":"IFERROR(AVERAGE($K$12:K448),\"\")","v":""},"","","","","",null,null,"","","",""]
[438,null,null,null,null,null,null,null,null,null,"","","","","","",{"$f":"IFERROR(AVERAGE($K$12:K449),\"\")","v":""},"","","","","",null,null,"","","",""]
[439,null,null,null,null,null,null,null,null,null,"","","","","","",{"$f":"IFERROR(AVERAGE($K$12:K450),\"\")","v":""},"","","","","",null,null,"","","",""]
[440,null,null,null,null,null,null,null,null,null,"","","","","","",{"$f":"IFERROR(AVERAGE($K$12:K451),\"\")","v":""},"","","","","",null,null,"","","",""]
[441,null,null,null,null,null,null,null,null,null,"","","","","","",{"$f":"IFERROR(AVERAGE($K$12:K452),\"\")","v":""},"","","","","",null,null,"","","",""]
[442,null,null,null,null,null,null,null,null,null,"","","","","","",{"$f":"IFERROR(AVERAGE($K$12:K453),\"\")","v":""},"","","","","",null,null,"","","",""]
[443,null,null,null,null,null,null,null,null,null,"","","","","","",{"$f":"IFERROR(AVERAGE($K$12:K454),\"\")","v":""},"","","","","",null,null,"","","",""]
[444,null,null,null,null,null,null,null,null,null,"","","","","","",{"$f":"IFERROR(AVERAGE($K$12:K455),\"\")","v":""},"","","","","",null,null,"","","",""]
[445,null,null,null,null,null,null,null,null,null,"","","","","","",{"$f":"IFERROR(AVERAGE($K$12:K456),\"\")","v":""},"","","","","",null,null,"","","",""]
[446,null,null,null,null,null,null,null,null,null,"","","","","","",{"$f":"IFERROR(AVERAGE($K$12:K457),\"\")","v":""},"","","","","",null,null,"","","",""]
[447,null,null,null,null,null,null,null,null,null,"","","","","","",{"$f":"IFERROR(AVERAGE($K$12:K458),\"\")","v":""},"","","","","",null,null,"","",{"$f":"IF($P$1=1,T458,R458)","v":""},{"$f":"IF($P$1=1,O458,L458)","v":""}]
[448,null,null,null,null,null,null,null,null,null,"","","","","","",{"$f":"IFERROR(AVERAGE($K$12:K459),\"\")","v":""},{"$f":"IF(F459<>\"\",$E$5,\"\")","v":""},{"$f":"IF(F459<>\"\",$E$5*(-1),\"\")","v":""},{"$f":"IF(F459<>\"\",$E$6,\"\")","v":""},{"$f":"IFERROR(IF(OR((ABS(O459)<=$E$6),(N459<1)),TRUE,FALSE),\"\")","v":""},{"$f":"IFERROR(IF(ABS(L459)<=$E$5,TRUE,FALSE),\"\")","v":""},null,null,"",{"$f":"IF($P$1=1,#N/A,S459)","v":""},"",""]
[449,null,null,null,null,null,null,null,null,null,{"$f":"IFERROR(AVERAGE(F460:J460),\"\")","v":""},{"$f":"IFERROR((K460-$E$4)*100/$E$4,\"\")","v":""},{"$f":"IFERROR(ROUND(STDEV(F460:J460),2),\"\")","v":""},{"$f":"IF(ISNUMBER(F460),(MAX(F460:J460)-MIN(F460:J460)),\"\")","v":""},{"$f":"IFERROR(N460*100/K460,\"\")","v":""},"",{"$f":"IFERROR(AVERAGE($K$12:K460),\"\")","v":""},"","","","","",null,null,"","","",""]
[450,null,null,null,null,null,null,null,null,null,"","","","","",{"$f":"IF(F461>0,IF(U461=FALSE,IF(V461=FALSE,\"<GA+WHP>\",\"<WHP>\"),IF(V461=FALSE,\"<GA>\",\"\")) & IF(W461=TRUE,\"<Trend>\",\"\") & IF(X461=TRUE,\"<Run>\",\"\")& IF(AND(ABS(U461+V461=2),W461+X461=0),\"OK\",\"\"),\"\")","v":""},{"$f":"IFERROR(AVERAGE($K$12:K461),\"\")","v":""},"","","","","",null,null,{"$f":"IFERROR(RIGHT(C461,10),\"\")","v":""},"","",""]
[451,null,null,null,null,null,null,null,null,null,"","","","","","",{"$f":"IFERROR(AVERAGE($K$12:K462),\"\")","v":""},"","","","","",null,null,"","","",""]
[452,null,null,null,null,null,null,null,null,null,"","","","","","",{"$f":"IFERROR(AVERAGE($K$12:K463),\"\")","v":""},"","","","","",null,null,"","","",""]
[453,null,null,null,null,null,null,null,null,null,"","","","","","",{"$f":"IFERROR(AVERAGE($K$12:K464),\"\")","v":""},"","","","","",null,null,"","","",""]
[454,null,null,null,null,null,null,null,null,null,"","","","","","",{"$f":"IFERROR(AVERAGE($K$12:K465),\"\")","v":""},"","","","","",{"$f":"OR(AND(K465>K464,K464>K463,K463>K462,K462>K461,K461>K460,K460>K459),AND(K465<K464,K464<K463,K463<K462,K462<K461,K461<K460,K460<K459))","v":null},{"$f":"OR(AND(K465>Q465,K464>Q465,K463>Q465,K462>Q465,K461>Q465,K460>Q465,K459>Q465),AND(K465<Q465,K464<Q465,K463<Q465,K462<Q465,K461<Q465,K460<Q465,K459<Q465))","v":null},"","","",""]
[455,null,null,null,null,null,null,null,null,null,"","","","","","",{"$f":"IFERROR(AVERAGE($K$12:K466),\"\")","v":""},"","","","","",null,null,"","","",""]
[456,null,null,null,null,null,null,null,null,null,"","","","","","",{"$f":"IFERROR(AVERAGE($K$12:K467),\"\")","v":""},"","","","","",null,null,"","","",""]
[457,null,null,null,null,null,null,null,null,null,"","","","","","",{"$f":"IFERROR(AVERAGE($K$12:K468),\"\")","v":""},"","","","","",null,null,"","","",""]
[458,null,null,null,null,null,null,null,null,null,"","","","","","",{"$f":"IFERROR(AVERAGE($K$12:K469),\"\")","v":""},"","","","","",null,null,"","","",""]
[459,null,null,null,null,null,null,null,null,null,"","","","","","",{"$f":"IFERROR(AVERAGE($K$12:K470),\"\")","v":""},"","","","","",null,null,"","","",""]
[460,null,null,null,null,null,null,null,null,null,"","","","","","",{"$f":"IFERROR(AVERAGE($K$12:K471),\"\")","v":""},"","","","","",null,null,"","","",""]
[461,null,null,null,null,null,null,null,null,null,"","","","","","",{"$f":"IFERROR(AVERAGE($K$12:K472),\"\")","v":""},"","","","","",null,null,"","","",""]
[462,null,null,null,null,null,null,null,null,null,"","","","","","",{"$f":"IFERROR(AVERAGE($K$12:K473),\"\")","v":""},"","","","","",null,null,"","","",""]
[463,null,null,null,null,null,null,null,null,null,"","","","","","",{"$f":"IFERROR(AVERAGE($K$12:K474),\"\")","v":""},"","","","","",null,null,"","","",""]
[464,null,null,null,null,null,null,null,null,null,"","","","","","",{"$f":"IFERROR(AVERAGE($K$12:K475),\"\")","v":""},"","","","","",null,null,"","","",""]
[465,null,null,null,null,null,null,null,null,null,"","","","","","",{"$f":"IFERROR(AVERAGE($K$12:K476),\"\")","v":""},"","","","","",null,null,"","","",""]
[466,null,null,null,null,null,null,null,null,null,"","","","","","",{"$f":"IFERROR(AVERAGE($K$12:K477),\"\")","v":""},"","","","","",null,null,"","","",""]
[467,null,null,null,null,null,null,null,null,null,"","","","","","",{"$f":"IFERROR(AVERAGE($K$12:K478),\"\")","v":""},"","","","","",null,null,"","","",""]
[468,null,null,null,null,null,null,null,null,null,"","","","","","",{"$f":"IFERROR(AVERAGE($K$12:K479),\"\")","v":""},"","","","","",null,null,"","","",""]
[469,null,null,null,null,null,null,null,null,null,"","","","","","",{"$f":"IFERROR(AVERAGE($K$12:K480),\"\")","v":""},"","","","","",null,null,"","","",""]
[470,null,null,null,null,null,null,null,null,null,"","","","","","",{"$f":"IFERROR(AVERAGE($K$12:K481),\"\")","v":""},"","","","","",null,null,"","","",""]
[471,null,null,null,null,null,null,null,null,null,"","","","","","",{"$f":"IFERROR(AVERAGE($K$12:K482),\"\")","v":""},"","","","","",null,null,"","","",""]
[472,null,null,null,null,null,null,null,null,null,"","","","","","",{"$f":"IFERROR(AVERAGE($K$12:K483),\"\")","v":""},"","","","","",null,null,"","","",""]
[473,null,null,null,null,null,null,null,null,null,"","","","","","",{"$f":"IFERROR(AVERAGE($K$12:K484),\"\")","v":""},"","","","","",null,null,"","","",""]
[474,null,null,null,null,null,null,null,null,null,"","","","","","",{"$f":"IFERROR(AVERAGE($K$12:K485),\"\")","v":""},"","","","","",null,null,"","","",""]
[475,null,null,null,null,null,null,null,null,null,"","","","","","",{"$f":"IFERROR(AVERAGE($K$12:K486),\"\")","v":""},"","","","","",null,null,"","","",""]
[476,null,null,null,null,null,null,null,null,null,"","","","","","",{"$f":"IFERROR(AVERAGE($K$12:K487),\"\")","v":""},"","","","","",null,null,"","","",""]
[477,null,null,null,null,null,null,null,null,null,"","","","","","",{"$f":"IFERROR(AVERAGE($K$12:K488),\"\")","v":""},"","","","","",null,null,"","","",""]
[478,null,null,null,null,null,null,null,null,null,"","","","","","",{"$f":"IFERROR(AVERAGE($K$12:K489),\"\")","v":""},"","","","","",null,null,"","","",""]
[479,null,null,null,null,null,null,null,null,null,"","","","","","",{"$f":"IFERROR(AVERAGE($K$12:K490),\"\")","v":""},"","","","","",null,null,"","","",""]
[480,null,null,null,null,null,null,null,null,null,"","","","","","",{"$f":"IFERROR(AVERAGE($K$12:K491),\"\")","v":""},"","","","","",null,null,"","","",""]
[481,null,null,null,null,null,null,null,null,null,"","","","","","",{"$f":"IFERROR(AVERAGE($K$12:K492),\"\")","v":""},"","","","","",null,null,"","","",""]
[482,null,null,null,null,null,null,null,null,null,"","","","","","",{"$f":"IFERROR(AVERAGE($K$12:K493),\"\")","v":""},"","","","","",null,null,"","","",""]
[483,null,null,null,null,null,null,null,null,null,"","","","","","",{"$f":"IFERROR(AVERAGE($K$12:K494),\"\")","v":""},"","","","","",null,null,"","","",""]
[484,null,null,null,null,null,null,null,null,null,"","","","","","",{"$f":"IFERROR(AVERAGE($K$12:K495),\"\")","v":""},"","","","","",null,null,"","","",""]
[485,null,null,null,null,null,null,null,null,null,"","","","","","",{"$f":"IFERROR(AVERAGE($K$12:K496),\"\")","v":""},"","","","","",null,null,"","","",""]
[486,null,null,null,null,null,null,null,null,null,"","","","","","",{"$f":"IFERROR(AVERAGE($K$12:K497),\"\")","v":""},"","","","","",null,null,"","","",""]
[487,null,null,null,null,null,null,null,null,null,"","","","","","",{"$f":"IFERROR(AVERAGE($K$12:K498),\"\")","v":""},"","","","","",null,null,"","","",""]
[488,null,null,null,null,null,null,null,null,null,"","","","","","",{"$f":"IFERROR(AVERAGE($K$12:K499),\"\")","v":""},"","","","","",null,null,"","","",""]
[489,null,null,null,null,null,null,null,null,null,"","","","","","",{"$f":"IFERROR(AVERAGE($K$12:K500),\"\")","v":""},"","","","","",null,null,"","","",""]
[490,null,null,null,null,null,null,null,null,null,"","","","","","",{"$f":"IFERROR(AVERAGE($K$12:K501),\"\")","v":""},"","","","","",null,null,"","","",""]
[491,null,null,null,null,null,null,null,null,null,"","","","","","",{"$f":"IFERROR(AVERAGE($K$12:K502),\"\")","v":""},"","","","","",null,null,"","","",""]
[492,null,null,null,null,null,null,null,null,null,"","","","","","",{"$f":"IFERROR(AVERAGE($K$12:K503),\"\")","v":""},"","","","","",null,null,"","","",""]
[493,null,null,null,null,null,null,null,null,null,"","","","","","",{"$f":"IFERROR(AVERAGE($K$12:K504),\"\")","v":""},"","","","","",null,null,"","","",""]
[494,null,null,null,null,null,null,null,null,null,"","","","","","",{"$f":"IFERROR(AVERAGE($K$12:K505),\"\")","v":""},"","","","","",null,null,"","","",""]
[495,null,null,null,null,null,null,null,null,null,"","","","","","",{"$f":"IFERROR(AVERAGE($K$12:K506),\"\")","v":""},"","","","","",null,null,"","","",""]
[496,null,null,null,null,null,null,null,null,null,"","","","","","",{"$f":"IFERROR(AVERAGE($K$12:K507),\"\")","v":""},"","","","","",null,null,"","","",""]
[497,null,null,null,null,null,null,null,null,null,"","","","","","",{"$f":"IFERROR(AVERAGE($K$12:K508),\"\")","v":""},"","","","","",null,null,"","","",""]
[498,null,null,null,null,null,null,null,null,null,"","","","","","",{"$f":"IFERROR(AVERAGE($K$12:K509),\"\")","v":""},"","","","","",null,null,"","","",""]
[499,null,null,null,null,null,null,null,null,null,"","","","","","",{"$f":"IFERROR(AVERAGE($K$12:K510),\"\")","v":""},"","","","","",null,null,"","","",""]
[500,null,null,null,null,null,null,null,null,null,"","","","","","",{"$f":"IFERROR(AVERAGE($K$12:K511),\"\")","v":""},"","","","","",null,null,"","","",""]
[501,null,null,null,null,null,null,null,null,null,"","","","","","",{"$f":"IFERROR(AVERAGE($K$12:K512),\"\")","v":""},"","","","","",null,null,"","","",""]
[502,null,null,null,null,null,null,null,null,null,"","","","","","",{"$f":"IFERROR(AVERAGE($K$12:K513),\"\")","v":""},"","","","","",null,null,"","","",""]
[503,null,null,null,null,null,null,null,null,null,"","","","","","",{"$f":"IFERROR(AVERAGE($K$12:K514),\"\")","v":""},"","","","","",null,null,"","","",""]
[504,null,null,null,null,null,null,null,null,null,"","","","","","",{"$f":"IFERROR(AVERAGE($K$12:K515),\"\")","v":""},"","","","","",null,null,"","","",""]
[505,null,null,null,null,null,null,null,null,null,"","","","","","",{"$f":"IFERROR(AVERAGE($K$12:K516),\"\")","v":""},"","","","","",null,null,"","","",""]
[506,null,null,null,null,null,null,null,null,null,"","","","","","",{"$f":"IFERROR(AVERAGE($K$12:K517),\"\")","v":""},"","","","","",null,null,"","","",""]
[507,null,null,null,null,null,null,null,null,null,"","","","","","",{"$f":"IFERROR(AVERAGE($K$12:K518),\"\")","v":""},"","","","","",null,null,"","","",""]
[508,null,null,null,null,null,null,null,null,null,"","","","","","",{"$f":"IFERROR(AVERAGE($K$12:K519),\"\")","v":""},"","","","","",null,null,"","","",""]
[509,null,null,null,null,null,null,null,null,null,"","","","","","",{"$f":"IFERROR(AVERAGE($K$12:K520),\"\")","v":""},"","","","","",null,null,"","","",""]
[510,null,null,null,null,null,null,null,null,null,"","","","","","",{"$f":"IFERROR(AVERAGE($K$12:K521),\"\")","v":""},"","","","","",null,null,"","","",""]
[511,null,null,null,null,null,null,null,null,null,"","","","","","",{"$f":"IFERROR(AVERAGE($K$12:K522),\"\")","v":""},"","","","","",null,null,"","",{"$f":"IF($P$1=1,T522,R522)","v":""},{"$f":"IF($P$1=1,O522,L522)","v":""}]
[512,null,null,null,null,null,null,null,null,null,"","","","","","",{"$f":"IFERROR(AVERAGE($K$12:K523),\"\")","v":""},{"$f":"IF(F523<>\"\",$E$5,\"\")","v":""},{"$f":"IF(F523<>\"\",$E$5*(-1),\"\")","v":""},{"$f":"IF(F523<>\"\",$E$6,\"\")","v":""},{"$f":"IFERROR(IF(OR((ABS(O523)<=$E$6),(N523<1)),TRUE,FALSE),\"\")","v":""},{"$f":"IFERROR(IF(ABS(L523)<=$E$5,TRUE,FALSE),\"\")","v":""},null,null,"",{"$f":"IF($P$1=1,#N/A,S523)","v":""},"",""]
[513,null,null,null,null,null,null,null,null,null,{"$f":"IFERROR(AVERAGE(F524:J524),\"\")","v":""},{"$f":"IFERROR((K524-$E$4)*100/$E$4,\"\")","v":""},{"$f":"IFERROR(ROUND(STDEV(F524:J524),2),\"\")","v":""},{"$f":"IF(ISNUMBER(F524),(MAX(F524:J524)-MIN(F524:J524)),\"\")","v":""},{"$f":"IFERROR(N524*100/K524,\"\")","v":""},"",{"$f":"IFERROR(AVERAGE($K$12:K524),\"\")","v":""},"","","","","",null,null,"","","",""]
[514,null,null,null,null,null,null,null,null,null,"","","","","",{"$f":"IF(F525>0,IF(U525=FALSE,IF(V525=FALSE,\"<GA+WHP>\",\"<WHP>\"),IF(V525=FALSE,\"<GA>\",\"\")) & IF(W525=TRUE,\"<Trend>\",\"\") & IF(X525=TRUE,\"<Run>\",\"\")& IF(AND(ABS(U525+V525=2),W525+X525=0),\"OK\",\"\"),\"\")","v":""},{"$f":"IFERROR(AVERAGE($K$12:K525),\"\")","v":""},"","","","","",null,null,{"$f":"IFERROR(RIGHT(C525,10),\"\")","v":""},"","",""]
[515,null,null,null,null,null,null,null,null,null,"","","","","","",{"$f":"IFERROR(AVERAGE($K$12:K526),\"\")","v":""},"","","","","",null,null,"","","",""]
[516,null,null,null,null,null,null,null,null,null,"","","","","","",{"$f":"IFERROR(AVERAGE($K$12:K527),\"\")","v":""},"","","","","",null,null,"","","",""]
[517,null,null,null,null,null,null,null,null,null,"","","","","","",{"$f":"IFERROR(AVERAGE($K$12:K528),\"\")","v":""},"","","","","",null,null,"","","",""]
[518,null,null,null,null,null,null,null,null,null,"","","","","","",{"$f":"IFERROR(AVERAGE($K$12:K529),\"\")","v":""},"","","","","",{"$f":"OR(AND(K529>K528,K528>K527,K527>K526,K526>K525,K525>K524,K524>K523),AND(K529<K528,K528<K527,K527<K526,K526<K525,K525<K524,K524<K523))","v":null},{"$f":"OR(AND(K529>Q529,K528>Q529,K527>Q529,K526>Q529,K525>Q529,K524>Q529,K523>Q529),AND(K529<Q529,K528<Q529,K527<Q529,K526<Q529,K525<Q529,K524<Q529,K523<Q529))","v":null},"","","",""]
[519,null,null,null,null,null,null,null,null,null,"","","","","","",{"$f":"IFERROR(AVERAGE($K$12:K530),\"\")","v":""},"","","","","",null,null,"","","",""]
[520,null,null,null,null,null,null,null,null,null,"","","","","","",{"$f":"IFERROR(AVERAGE($K$12:K531),\"\")","v":""},"","","","","",null,null,"","","",""]
[521,null,null,null,null,null,null,null,null,null,"","","","","","",{"$f":"IFERROR(AVERAGE($K$12:K532),\"\")","v":""},"","","","","",null,null,"","","",""]
[522,null,null,null,null,null,null,null,null,null,"","","","","","",{"$f":"IFERROR(AVERAGE($K$12:K533),\"\")","v":""},"","","","","",null,null,"","","",""]
[523,null,null,null,null,null,null,null,null,null,"","","","","","",{"$f":"IFERROR(AVERAGE($K$12:K534),\"\")","v":""},"","","","","",null,null,"","","",""]
[524,null,null,null,null,null,null,null,null,null,"","","","","","",{"$f":"IFERROR(AVERAGE($K$12:K535),\"\")","v":""},"","","","","",null,null,"","","",""]
[525,null,null,null,null,null,null,null,null,null,"","","","","","",{"$f":"IFERROR(AVERAGE($K$12:K536),\"\")","v":""},"","","","","",null,null,"","","",""]
[526,null,null,null,null,null,null,null,null,null,"","","","","","",{"$f":"IFERROR(AVERAGE($K$12:K537),\"\")","v":""},"","","","","",null,null,"","","",""]
[527,null,null,null,null,null,null,null,null,null,"","","","","","",{"$f":"IFERROR(AVERAGE($K$12:K538),\"\")","v":""},"","","","","",null,null,"","","",""]
[528,null,null,null,null,null,null,null,null,null,"","","","","","",{"$f":"IFERROR(AVERAGE($K$12:K539),\"\")","v":""},"","","","","",null,null,"","","",""]
[529,null,null,null,null,null,null,null,null,null,"","","","","","",{"$f":"IFERROR(AVERAGE($K$12:K540),\"\")","v":""},"","","","","",null,null,"","","",""]
[530,null,null,null,null,null,null,null,null,null,"","","","","","",{"$f":"IFERROR(AVERAGE($K$12:K541),\"\")","v":""},"","","","","",null,null,"","","",""]
[531,null,null,null,null,null,null,null,null,null,"","","","","","",{"$f":"IFERROR(AVERAGE($K$12:K542),\"\")","v":""},"","","","","",null,null,"","","",""]
[532,null,null,null,null,null,null,null,null,null,"","","","","","",{"$f":"IFERROR(AVERAGE($K$12:K543),\"\")","v":""},"","","","","",null,null,"","","",""]
[533,null,null,null,null,null,null,null,null,null,"","","","","","",{"$f":"IFERROR(AVERAGE($K$12:K544),\"\")","v":""},"","","","","",null,null,"","","",""]
[534,null,null,null,null,null,null,null,null,null,"","","","","","",{"$f":"IFERROR(AVERAGE($K$12:K545),\"\")","v":""},"","","","","",null,null,"","","",""]
[535,null,null,null,null,null,null,null,null,null,"","","","","","",{"$f":"IFERROR(AVERAGE($K$12:K546),\"\")","v":""},"","","","","",null,null,"","","",""]
[536,null,null,null,null,null,null,null,null,null,"","","","","","",{"$f":"IFERROR(AVERAGE($K$12:K547),\"\")","v":""},"","","","","",null,null,"","","",""]
[537,null,null,null,null,null,null,null,null,null,"","","","","","",{"$f":"IFERROR(AVERAGE($K$12:K548),\"\")","v":""},"","","","","",null,null,"","","",""]
[538,null,null,null,null,null,null,null,null,null,"","","","","","",{"$f":"IFERROR(AVERAGE($K$12:K549),\"\")","v":""},"","","","","",null,null,"","","",""]
[539,null,null,null,null,null,null,null,null,null,"","","","","","",{"$f":"IFERROR(AVERAGE($K$12:K550),\"\")","v":""},"","","","","",null,null,"","","",""]
[540,null,null,null,null,null,null,null,null,null,"","","","","","",{"$f":"IFERROR(AVERAGE($K$12:K551),\"\")","v":""},"","","","","",null,null,"","","",""]
[541,null,null,null,null,null,null,null,null,null,"","","","","","",{"$f":"IFERROR(AVERAGE($K$12:K552),\"\")","v":""},"","","","","",null,null,"","","",""]
[542,null,null,null,null,null,null,null,null,null,"","","","","","",{"$f":"IFERROR(AVERAGE($K$12:K553),\"\")","v":""},"","","","","",null,null,"","","",""]
[543,null,null,null,null,null,null,null,null,null,"","","","","","",{"$f":"IFERROR(AVERAGE($K$12:K554),\"\")","v":""},"","","","","",null,null,"","","",""]
[544,null,null,null,null,null,null,null,null,null,"","","","","","",{"$f":"IFERROR(AVERAGE($K$12:K555),\"\")","v":""},"","","","","",null,null,"","","",""]
[545,null,null,null,null,null,null,null,null,null,"","","","","","",{"$f":"IFERROR(AVERAGE($K$12:K556),\"\")","v":""},"","","","","",null,null,"","","",""]
[546,null,null,null,null,null,null,null,null,null,"","","","","","",{"$f":"IFERROR(AVERAGE($K$12:K557),\"\")","v":""},"","","","","",null,null,"","","",""]
[547,null,null,null,null,null,null,null,null,null,"","","","","","",{"$f":"IFERROR(AVERAGE($K$12:K558),\"\")","v":""},"","","","","",null,null,"","","",""]
[548,null,null,null,null,null,null,null,null,null,"","","","","","",{"$f":"IFERROR(AVERAGE($K$12:K559),\"\")","v":""},"","","","","",null,null,"","","",""]
[549,null,null,null,null,null,null,null,null,null,"","","","","","",{"$f":"IFERROR(AVERAGE($K$12:K560),\"\")","v":""},"","","","","",null,null,"","","",""]
[550,null,null,null,null,null,null,null,null,null,"","","","","","",{"$f":"IFERROR(AVERAGE($K$12:K561),\"\")","v":""},"","","","","",null,null,"","","",""]
[551,null,null,null,null,null,null,null,null,null,"","","","","","",{"$f":"IFERROR(AVERAGE($K$12:K562),\"\")","v":""},"","","","","",null,null,"","","",""]
[552,null,null,null,null,null,null,null,null,null,"","","","","","",{"$f":"IFERROR(AVERAGE($K$12:K563),\"\")","v":""},"","","","","",null,null,"","","",""]
[553,null,null,null,null,null,null,null,null,null,"","","","","","",{"$f":"IFERROR(AVERAGE($K$12:K564),\"\")","v":""},"","","","","",null,null,"","","",""]
[554,null,null,null,null,null,null,null,null,null,"","","","","","",{"$f":"IFERROR(AVERAGE($K$12:K565),\"\")","v":""},"","","","","",null,null,"","","",""]
[555,null,null,null,null,null,null,null,null,null,"","","","","","",{"$f":"IFERROR(AVERAGE($K$12:K566),\"\")","v":""},"","","","","",null,null,"","","",""]
[556,null,null,null,null,null,null,null,null,null,"","","","","","",{"$f":"IFERROR(AVERAGE($K$12:K567),\"\")","v":""},"","","","","",null,null,"","","",""]
[557,null,null,null,null,null,null,null,null,null,"","","","","","",{"$f":"IFERROR(AVERAGE($K$12:K568),\"\")","v":""},"","","","","",null,null,"","","",""]
[558,null,null,null,null,null,null,null,null,null,"","","","","","",{"$f":"IFERROR(AVERAGE($K$12:K569),\"\")","v":""},"","","","","",null,null,"","","",""]
[559,null,null,null,null,null,null,null,null,null,"","","","","","",{"$f":"IFERROR(AVERAGE($K$12:K570),\"\")","v":""},"","","","","",null,null,"","","",""]
[560,null,null,null,null,null,null,null,null,null,"","","","","","",{"$f":"IFERROR(AVERAGE($K$12:K571),\"\")","v":""},"","","","","",null,null,"","","",""]
[561,null,null,null,null,null,null,null,null,null,"","","","","","",{"$f":"IFERROR(AVERAGE($K$12:K572),\"\")","v":""},"","","","","",null,null,"","","",""]
[562,null,null,null,null,null,null,null,null,null,"","","","","","",{"$f":"IFERROR(AVERAGE($K$12:K573),\"\")","v":""},"","","","","",null,null,"","","",""]
[563,null,null,null,null,null,null,null,null,null,"","","","","","",{"$f":"IFERROR(AVERAGE($K$12:K574),\"\")","v":""},"","","","","",null,null,"","","",""]
[564,null,null,null,null,null,null,null,null,null,"","","","","","",{"$f":"IFERROR(AVERAGE($K$12:K575),\"\")","v":""},"","","","","",null,null,"","","",""]
[565,null,null,null,null,null,null,null,null,null,"","","","","","",{"$f":"IFERROR(AVERAGE($K$12:K576),\"\")","v":""},"","","","","",null,null,"","","",""]
[566,null,null,null,null,null,null,null,null,null,"","","","","","",{"$f":"IFERROR(AVERAGE($K$12:K577),\"\")","v":""},"","","","","",null,null,"","","",""]
[567,null,null,null,null,null,null,null,null,null,"","","","","","",{"$f":"IFERROR(AVERAGE($K$12:K578),\"\")","v":""},"","","","","",null,null,"","","",""]
[568,null,null,null,null,null,null,null,null,null,"","","","","","",{"$f":"IFERROR(AVERAGE($K$12:K579),\"\")","v":""},"","","","","",null,null,"","","",""]
[569,null,null,null,null,null,null,null,null,null,"","","","","","",{"$f":"IFERROR(AVERAGE($K$12:K580),\"\")","v":""},"","","","","",null,null,"","","",""]
[570,null,null,null,null,null,null,null,null,null,"","","","","","",{"$f":"IFERROR(AVERAGE($K$12:K581),\"\")","v":""},"","","","","",null,null,"","","",""]
[571,null,null,null,null,null,null,null,null,null,"","","","","","",{"$f":"IFERROR(AVERAGE($K$12:K582),\"\")","v":""},"","","","","",null,null,"","","",""]
[572,null,null,null,null,null,null,null,null,null,"","","","","","",{"$f":"IFERROR(AVERAGE($K$12:K583),\"\")","v":""},"","","","","",null,null,"","","",""]
[573,null,null,null,null,null,null,null,null,null,"","","","","","",{"$f":"IFERROR(AVERAGE($K$12:K584),\"\")","v":""},"","","","","",null,null,"","","",""]
[574,null,null,null,null,null,null,null,null,null,"","","","","","",{"$f":"IFERROR(AVERAGE($K$12:K585),\"\")","v":""},"","","","","",null,null,"","","",""]
[575,null,null,null,null,null,null,null,null,null,"","","","","","",{"$f":"IFERROR(AVERAGE($K$12:K586),\"\")","v":""},"","","","","",null,null,"","",{"$f":"IF($P$1=1,T586,R586)","v":""},{"$f":"IF($P$1=1,O586,L586)","v":""}]
[576,null,null,null,null,null,null,null,null,null,"","","","","","",{"$f":"IFERROR(AVERAGE($K$12:K587),\"\")","v":""},{"$f":"IF(F587<>\"\",$E$5,\"\")","v":""},{"$f":"IF(F587<>\"\",$E$5*(-1),\"\")","v":""},{"$f":"IF(F587<>\"\",$E$6,\"\")","v":""},{"$f":"IFERROR(IF(OR((ABS(O587)<=$E$6),(N587<1)),TRUE,FALSE),\"\")","v":""},{"$f":"IFERROR(IF(ABS(L587)<=$E$5,TRUE,FALSE),\"\")","v":""},null,null,"",{"$f":"IF($P$1=1,#N/A,S587)","v":""},"",""]
[577,null,null,null,null,null,null,null,null,null,{"$f":"IFERROR(AVERAGE(F588:J588),\"\")","v":""},{"$f":"IFERROR((K588-$E$4)*100/$E$4,\"\")","v":""},{"$f":"IFERROR(ROUND(STDEV(F588:J588),2),\"\")","v":""},{"$f":"IF(ISNUMBER(F588),(MAX(F588:J588)-MIN(F588:J588)),\"\")","v":""},{"$f":"IFERROR(N588*100/K588,\"\")","v":""},"",{"$f":"IFERROR(AVERAGE($K$12:K588),\"\")","v":""},"","","","","",null,null,"","","",""]
[578,null,null,null,null,null,null,null,null,null,"","","","","",{"$f":"IF(F589>0,IF(U589=FALSE,IF(V589=FALSE,\"<GA+WHP>\",\"<WHP>\"),IF(V589=FALSE,\"<GA>\",\"\")) & IF(W589=TRUE,\"<Trend>\",\"\") & IF(X589=TRUE,\"<Run>\",\"\")& IF(AND(ABS(U589+V589=2),W589+X589=0),\"OK\",\"\"),\"\")","v":""},{"$f":"IFERROR(AVERAGE($K$12:K589),\"\")","v":""},"","","","","",null,null,{"$f":"IFERROR(RIGHT(C589,10),\"\")","v":""},"","",""]
[579,null,null,null,null,null,null,null,null,null,"","","","","","",{"$f":"IFERROR(AVERAGE($K$12:K590),\"\")","v":""},"","","","","",null,null,"","","",""]
[580,null,null,null,null,null,null,null,null,null,"","","","","","",{"$f":"IFERROR(AVERAGE($K$12:K591),\"\")","v":""},"","","","","",null,null,"","","",""]
[581,null,null,null,null,null,null,null,null,null,"","","","","","",{"$f":"IFERROR(AVERAGE($K$12:K592),\"\")","v":""},"","","","","",null,null,"","","",""]
[582,null,null,null,null,null,null,null,null,null,"","","","","","",{"$f":"IFERROR(AVERAGE($K$12:K593),\"\")","v":""},"","","","","",{"$f":"OR(AND(K593>K592,K592>K591,K591>K590,K590>K589,K589>K588,K588>K587),AND(K593<K592,K592<K591,K591<K590,K590<K589,K589<K588,K588<K587))","v":null},{"$f":"OR(AND(K593>Q593,K592>Q593,K591>Q593,K590>Q593,K589>Q593,K588>Q593,K587>Q593),AND(K593<Q593,K592<Q593,K591<Q593,K590<Q593,K589<Q593,K588<Q593,K587<Q593))","v":null},"","","",""]
[583,null,null,null,null,null,null,null,null,null,"","","","","","",{"$f":"IFERROR(AVERAGE($K$12:K594),\"\")","v":""},"","","","","",null,null,"","","",""]
[584,null,null,null,null,null,null,null,null,null,"","","","","","",{"$f":"IFERROR(AVERAGE($K$12:K595),\"\")","v":""},"","","","","",null,null,"","","",""]
[585,null,null,null,null,null,null,null,null,null,"","","","","","",{"$f":"IFERROR(AVERAGE($K$12:K596),\"\")","v":""},"","","","","",null,null,"","","",""]
[586,null,null,null,null,null,null,null,null,null,"","","","","","",{"$f":"IFERROR(AVERAGE($K$12:K597),\"\")","v":""},"","","","","",null,null,"","","",""]
[587,null,null,null,null,null,null,null,null,null,"","","","","","",{"$f":"IFERROR(AVERAGE($K$12:K598),\"\")","v":""},"","","","","",null,null,"","","",""]
[588,null,null,null,null,null,null,null,null,null,"","","","","","",{"$f":"IFERROR(AVERAGE($K$12:K599),\"\")","v":""},"","","","","",null,null,"","","",""]
[589,null,null,null,null,null,null,null,null,null,"","","","","","",{"$f":"IFERROR(AVERAGE($K$12:K600),\"\")","v":""},"","","","","",null,null,"","","",""]
[590,null,null,null,null,null,null,null,null,null,"","","","","","",{"$f":"IFERROR(AVERAGE($K$12:K601),\"\")","v":""},"","","","","",null,null,"","","",""]
[591,null,null,null,null,null,null,null,null,null,"","","","","","",{"$f":"IFERROR(AVERAGE($K$12:K602),\"\")","v":""},"","","","","",null,null,"","","",""]
[592,null,null,null,null,null,null,null,null,null,"","","","","","",{"$f":"IFERROR(AVERAGE($K$12:K603),\"\")","v":""},"","","","","",null,null,"","","",""]
[593,null,null,null,null,null,null,null,null,null,"","","","","","",{"$f":"IFERROR(AVERAGE($K$12:K604),\"\")","v":""},"","","","","",null,null,"","","",""]
[594,null,null,null,null,null,null,null,null,null,"","","","","","",{"$f":"IFERROR(AVERAGE($K$12:K605),\"\")","v":""},"","","","","",null,null,"","","",""]
[595,null,null,null,null,null,null,null,null,null,"","","","","","",{"$f":"IFERROR(AVERAGE($K$12:K606),\"\")","v":""},"","","","","",null,null,"","","",""]
[596,null,null,null,null,null,null,null,null,null,"","","","","","",{"$f":"IFERROR(AVERAGE($K$12:K607),\"\")","v":""},"","","","","",null,null,"","","",""]
[597,null,null,null,null,null,null,null,null,null,"","","","","","",{"$f":"IFERROR(AVERAGE($K$12:K608),\"\")","v":""},"","","","","",null,null,"","","",""]
[598,null,null,null,null,null,null,null,null,null,"","","","","","",{"$f":"IFERROR(AVERAGE($K$12:K609),\"\")","v":""},"","","","","",null,null,"","","",""]
[599,null,null,null,null,null,null,null,null,null,"","","","","","",{"$f":"IFERROR(AVERAGE($K$12:K610),\"\")","v":""},"","","","","",null,null,"","","",""]
[600,null,null,null,null,null,null,null,null,null,"","","","","","",{"$f":"IFERROR(AVERAGE($K$12:K611),\"\")","v":""},"","","","","",null,null,"","","",""]
[601,null,null,null,null,null,null,null,null,null,"","","","","","",{"$f":"IFERROR(AVERAGE($K$12:K612),\"\")","v":""},"","","","","",null,null,"","","",""]
[602,null,null,null,null,null,null,null,null,null,"","","","","","",{"$f":"IFERROR(AVERAGE($K$12:K613),\"\")","v":""},"","","","","",null,null,"","","",""]
[603,null,null,null,null,null,null,null,null,null,"","","","","","",{"$f":"IFERROR(AVERAGE($K$12:K614),\"\")","v":""},"","","","","",null,null,"","","",""]
[604,null,null,null,null,null,null,null,null,null,"","","","","","",{"$f":"IFERROR(AVERAGE($K$12:K615),\"\")","v":""},"","","","","",null,null,"","","",""]
[605,null,null,null,null,null,null,null,null,null,"","","","","","",{"$f":"IFERROR(AVERAGE($K$12:K616),\"\")","v":""},"","","","","",null,null,"","","",""]
[606,null,null,null,null,null,null,null,null,null,"","","","","","",{"$f":"IFERROR(AVERAGE($K$12:K617),\"\")","v":""},"","","","","",null,null,"","","",""]
[607,null,null,null,null,null,null,null,null,null,"","","","","","",{"$f":"IFERROR(AVERAGE($K$12:K618),\"\")","v":""},"","","","","",null,null,"","","",""]
[608,null,null,null,null,null,null,null,null,null,"","","","","","",{"$f":"IFERROR(AVERAGE($K$12:K619),\"\")","v":""},"","","","","",null,null,"","","",""]
[609,null,null,null,null,null,null,null,null,null,"","","","","","",{"$f":"IFERROR(AVERAGE($K$12:K620),\"\")","v":""},"","","","","",null,null,"","","",""]
[610,null,null,null,null,null,null,null,null,null,"","","","","","",{"$f":"IFERROR(AVERAGE($K$12:K621),\"\")","v":""},"","","","","",null,null,"","","",""]
[611,null,null,null,null,null,null,null,null,null,"","","","","","",{"$f":"IFERROR(AVERAGE($K$12:K622),\"\")","v":""},"","","","","",null,null,"","","",""]
[612,null,null,null,null,null,null,null,null,null,"","","","","","",{"$f":"IFERROR(AVERAGE($K$12:K623),\"\")","v":""},"","","","","",null,null,"","","",""]
[613,null,null,null,null,null,null,null,null,null,"","","","","","",{"$f":"IFERROR(AVERAGE($K$12:K624),\"\")","v":""},"","","","","",null,null,"","","",""]
[614,null,null,null,null,null,null,null,null,null,"","","","","","",{"$f":"IFERROR(AVERAGE($K$12:K625),\"\")","v":""},"","","","","",null,null,"","","",""]
[615,null,null,null,null,null,null,null,null,null,"","","","","","",{"$f":"IFERROR(AVERAGE($K$12:K626),\"\")","v":""},"","","","","",null,null,"","","",""]
[616,null,null,null,null,null,null,null,null,null,"","","","","","",{"$f":"IFERROR(AVERAGE($K$12:K627),\"\")","v":""},"","","","","",null,null,"","","",""]
[617,null,null,null,null,null,null,null,null,null,"","","","","","",{"$f":"IFERROR(AVERAGE($K$12:K628),\"\")","v":""},"","","","","",null,null,"","","",""]
[618,null,null,null,null,null,null,null,null,null,"","","","","","",{"$f":"IFERROR(AVERAGE($K$12:K629),\"\")","v":""},"","","","","",null,null,"","","",""]
[619,null,null,null,null,null,null,null,null,null,"","","","","","",{"$f":"IFERROR(AVERAGE($K$12:K630),\"\")","v":""},"","","","","",null,null,"","","",""]
[620,null,null,null,null,null,null,null,null,null,"","","","","","",{"$f":"IFERROR(AVERAGE($K$12:K631),\"\")","v":""},"","","","","",null,null,"","","",""]
[621,null,null,null,null,null,null,null,null,null,"","","","","","",{"$f":"IFERROR(AVERAGE($K$12:K632),\"\")","v":""},"","","","","",null,null,"","","",""]
[622,null,null,null,null,null,null,null,null,null,"","","","","","",{"$f":"IFERROR(AVERAGE($K$12:K633),\"\")","v":""},"","","","","",null,null,"","","",""]
[623,null,null,null,null,null,null,null,null,null,"","","","","","",{"$f":"IFERROR(AVERAGE($K$12:K634),\"\")","v":""},"","","","","",null,null,"","","",""]
[624,null,null,null,null,null,null,null,null,null,"","","","","","",{"$f":"IFERROR(AVERAGE($K$12:K635),\"\")","v":""},"","","","","",null,null,"","","",""]
[625,null,null,null,null,null,null,null,null,null,"","","","","","",{"$f":"IFERROR(AVERAGE($K$12:K636),\"\")","v":""},"","","","","",null,null,"","","",""]
[626,null,null,null,null,null,null,null,null,null,"","","","","","",{"$f":"IFERROR(AVERAGE($K$12:K637),\"\")","v":""},"","","","","",null,null,"","","",""]
[627,null,null,null,null,null,null,null,null,null,"","","","","","",{"$f":"IFERROR(AVERAGE($K$12:K638),\"\")","v":""},"","","","","",null,null,"","","",""]
[628,null,null,null,null,null,null,null,null,null,"","","","","","",{"$f":"IFERROR(AVERAGE($K$12:K639),\"\")","v":""},"","","","","",null,null,"","","",""]
[629,null,null,null,null,null,null,null,null,null,"","","","","","",{"$f":"IFERROR(AVERAGE($K$12:K640),\"\")","v":""},"","","","","",null,null,"","","",""]
[630,null,null,null,null,null,null,null,null,null,"","","","","","",{"$f":"IFERROR(AVERAGE($K$12:K641),\"\")","v":""},"","","","","",null,null,"","","",""]
[631,null,null,null,null,null,null,null,null,null,"","","","","","",{"$f":"IFERROR(AVERAGE($K$12:K642),\"\")","v":""},"","","","","",null,null,"","","",""]
[632,null,null,null,null,null,null,null,null,null,"","","","","","",{"$f":"IFERROR(AVERAGE($K$12:K643),\"\")","v":""},"","","","","",null,null,"","","",""]
[633,null,null,null,null,null,null,null,null,null,"","","","","","",{"$f":"IFERROR(AVERAGE($K$12:K644),\"\")","v":""},"","","","","",null,null,"","","",""]
[634,null,null,null,null,null,null,null,null,null,"","","","","","",{"$f":"IFERROR(AVERAGE($K$12:K645),\"\")","v":""},"","","","","",null,null,"","","",""]
[635,null,null,null,null,null,null,null,null,null,"","","","","","",{"$f":"IFERROR(AVERAGE($K$12:K646),\"\")","v":""},"","","","","",null,null,"","","",""]
[636,null,null,null,null,null,null,null,null,null,"","","","","","",{"$f":"IFERROR(AVERAGE($K$12:K647),\"\")","v":""},"","","","","",null,null,"","","",""]
[637,null,null,null,null,null,null,null,null,null,"","","","","","",{"$f":"IFERROR(AVERAGE($K$12:K648),\"\")","v":""},"","","","","",null,null,"","","",""]
[638,null,null,null,null,null,null,null,null,null,"","","","","","",{"$f":"IFERROR(AVERAGE($K$12:K649),\"\")","v":""},"","","","","",null,null,"","","",""]
[639,null,null,null,null,null,null,null,null,null,"","","","","","",{"$f":"IFERROR(AVERAGE($K$12:K650),\"\")","v":""},"","","","","",null,null,"","",{"$f":"IF($P$1=1,T650,R650)","v":""},{"$f":"IF($P$1=1,O650,L650)","v":""}]
[640,null,null,null,null,null,null,null,null,null,"","","","","","",{"$f":"IFERROR(AVERAGE($K$12:K651),\"\")","v":""},{"$f":"IF(F651<>\"\",$E$5,\"\")","v":""},{"$f":"IF(F651<>\"\",$E$5*(-1),\"\")","v":""},{"$f":"IF(F651<>\"\",$E$6,\"\")","v":""},{"$f":"IFERROR(IF(OR((ABS(O651)<=$E$6),(N651<1)),TRUE,FALSE),\"\")","v":""},{"$f":"IFERROR(IF(ABS(L651)<=$E$5,TRUE,FALSE),\"\")","v":""},null,null,"",{"$f":"IF($P$1=1,#N/A,S651)","v":""},"",""]
[641,null,null,null,null,null,null,null,null,null,{"$f":"IFERROR(AVERAGE(F652:J652),\"\")","v":""},{"$f":"IFERROR((K652-$E$4)*100/$E$4,\"\")","v":""},{"$f":"IFERROR(ROUND(STDEV(F652:J652),2),\"\")","v":""},{"$f":"IF(ISNUMBER(F652),(MAX(F652:J652)-MIN(F652:J652)),\"\")","v":""},{"$f":"IFERROR(N652*100/K652,\"\")","v":""},"",{"$f":"IFERROR(AVERAGE($K$12:K652),\"\")","v":""},"","","","","",null,null,"","","",""]
[642,null,null,null,null,null,null,null,null,null,"","","","","",{"$f":"IF(F653>0,IF(U653=FALSE,IF(V653=FALSE,\"<GA+WHP>\",\"<WHP>\"),IF(V653=FALSE,\"<GA>\",\"\")) & IF(W653=TRUE,\"<Trend>\",\"\") & IF(X653=TRUE,\"<Run>\",\"\")& IF(AND(ABS(U653+V653=2),W653+X653=0),\"OK\",\"\"),\"\")","v":""},{"$f":"IFERROR(AVERAGE($K$12:K653),\"\")","v":""},"","","","","",null,null,{"$f":"IFERROR(RIGHT(C653,10),\"\")","v":""},"","",""]
[643,null,null,null,null,null,null,null,null,null,"","","","","","",{"$f":"IFERROR(AVERAGE($K$12:K654),\"\")","v":""},"","","","","",null,null,"","","",""]
[644,null,null,null,null,null,null,null,null,null,"","","","","","",{"$f":"IFERROR(AVERAGE($K$12:K655),\"\")","v":""},"","","","","",null,null,"","","",""]
[645,null,null,null,null,null,null,null,null,null,"","","","","","",{"$f":"IFERROR(AVERAGE($K$12:K656),\"\")","v":""},"","","","","",null,null,"","","",""]
[646,null,null,null,null,null,null,null,null,null,"","","","","","",{"$f":"IFERROR(AVERAGE($K$12:K657),\"\")","v":""},"","","","","",{"$f":"OR(AND(K657>K656,K656>K655,K655>K654,K654>K653,K653>K652,K652>K651),AND(K657<K656,K656<K655,K655<K654,K654<K653,K653<K652,K652<K651))","v":null},{"$f":"OR(AND(K657>Q657,K656>Q657,K655>Q657,K654>Q657,K653>Q657,K652>Q657,K651>Q657),AND(K657<Q657,K656<Q657,K655<Q657,K654<Q657,K653<Q657,K652<Q657,K651<Q657))","v":null},"","","",""]
[647,null,null,null,null,null,null,null,null,null,"","","","","","",{"$f":"IFERROR(AVERAGE($K$12:K658),\"\")","v":""},"","","","","",null,null,"","","",""]
[648,null,null,null,null,null,null,null,null,null,"","","","","","",{"$f":"IFERROR(AVERAGE($K$12:K659),\"\")","v":""},"","","","","",null,null,"","","",""]
[649,null,null,null,null,null,null,null,null,null,"","","","","","",{"$f":"IFERROR(AVERAGE($K$12:K660),\"\")","v":""},"","","","","",null,null,"","","",""]
[650,null,null,null,null,null,null,null,null,null,"","","","","","",{"$f":"IFERROR(AVERAGE($K$12:K661),\"\")","v":""},"","","","","",null,null,"","","",""]
[651,null,null,null,null,null,null,null,null,null,"","","","","","",{"$f":"IFERROR(AVERAGE($K$12:K662),\"\")","v":""},"","","","","",null,null,"","","",""]
[652,null,null,null,null,null,null,null,null,null,"","","","","","",{"$f":"IFERROR(AVERAGE($K$12:K663),\"\")","v":""},"","","","","",null,null,"","","",""]
[653,null,null,null,null,null,null,null,null,null,"","","","","","",{"$f":"IFERROR(AVERAGE($K$12:K664),\"\")","v":""},"","","","","",null,null,"","","",""]
[654,null,null,null,null,null,null,null,null,null,"","","","","","",{"$f":"IFERROR(AVERAGE($K$12:K665),\"\")","v":""},"","","","","",null,null,"","","",""]
[655,null,null,null,null,null,null,null,null,null,"","","","","","",{"$f":"IFERROR(AVERAGE($K$12:K666),\"\")","v":""},"","","","","",null,null,"","","",""]
[656,null,null,null,null,null,null,null,null,null,"","","","","","",{"$f":"IFERROR(AVERAGE($K$12:K667),\"\")","v":""},"","","","","",null,null,"","","",""]
[657,null,null,null,null,null,null,null,null,null,"","","","","","",{"$f":"IFERROR(AVERAGE($K$12:K668),\"\")","v":""},"","","","","",null,null,"","","",""]
[658,null,null,null,null,null,null,null,null,null,"","","","","","",{"$f":"IFERROR(AVERAGE($K$12:K669),\"\")","v":""},"","","","","",null,null,"","","",""]
[659,null,null,null,null,null,null,null,null,null,"","","","","","",{"$f":"IFERROR(AVERAGE($K$12:K670),\"\")","v":""},"","","","","",null,null,"","","",""]
[660,null,null,null,null,null,null,null,null,null,"","","","","","",{"$f":"IFERROR(AVERAGE($K$12:K671),\"\")","v":""},"","","","","",null,null,"","","",""]
[661,null,null,null,null,null,null,null,null,null,"","","","","","",{"$f":"IFERROR(AVERAGE($K$12:K672),\"\")","v":""},"","","","","",null,null,"","","",""]
[662,null,null,null,null,null,null,null,null,null,"","","","","","",{"$f":"IFERROR(AVERAGE($K$12:K673),\"\")","v":""},"","","","","",null,null,"","","",""]
[663,null,null,null,null,null,null,null,null,null,"","","","","","",{"$f":"IFERROR(AVERAGE($K$12:K674),\"\")","v":""},"","","","","",null,null,"","","",""]
[664,null,null,null,null,null,null,null,null,null,"","","","","","",{"$f":"IFERROR(AVERAGE($K$12:K675),\"\")","v":""},"","","","","",null,null,"","","",""]
[665,null,null,null,null,null,null,null,null,null,"","","","","","",{"$f":"IFERROR(AVERAGE($K$12:K676),\"\")","v":""},"","","","","",null,null,"","","",""]
[666,null,null,null,null,null,null,null,null,null,"","","","","","",{"$f":"IFERROR(AVERAGE($K$12:K677),\"\")","v":""},"","","","","",null,null,"","","",""]
[667,null,null,null,null,null,null,null,null,null,"","","","","","",{"$f":"IFERROR(AVERAGE($K$12:K678),\"\")","v":""},"","","","","",null,null,"","","",""]
[668,null,null,null,null,null,null,null,null,null,"","","","","","",{"$f":"IFERROR(AVERAGE($K$12:K679),\"\")","v":""},"","","","","",null,null,"","","",""]
[669,null,null,null,null,null,null,null,null,null,"","","","","","",{"$f":"IFERROR(AVERAGE($K$12:K680),\"\")","v":""},"","","","","",null,null,"","","",""]
[670,null,null,null,null,null,null,null,null,null,"","","","","","",{"$f":"IFERROR(AVERAGE($K$12:K681),\"\")","v":""},"","","","","",null,null,"","","",""]
[671,null,null,null,null,null,null,null,null,null,"","","","","","",{"$f":"IFERROR(AVERAGE($K$12:K682),\"\")","v":""},"","","","","",null,null,"","","",""]
[672,null,null,null,null,null,null,null,null,null,"","","","","","",{"$f":"IFERROR(AVERAGE($K$12:K683),\"\")","v":""},"","","","","",null,null,"","","",""]
[673,null,null,null,null,null,null,null,null,null,"","","","","","",{"$f":"IFERROR(AVERAGE($K$12:K684),\"\")","v":""},"","","","","",null,null,"","","",""]
[674,null,null,null,null,null,null,null,null,null,"","","","","","",{"$f":"IFERROR(AVERAGE($K$12:K685),\"\")","v":""},"","","","","",null,null,"","","",""]
[675,null,null,null,null,null,null,null,null,null,"","","","","","",{"$f":"IFERROR(AVERAGE($K$12:K686),\"\")","v":""},"","","","","",null,null,"","","",""]
[676,null,null,null,null,null,null,null,null,null,"","","","","","",{"$f":"IFERROR(AVERAGE($K$12:K687),\"\")","v":""},"","","","","",null,null,"","","",""]
[677,null,null,null,null,null,null,null,null,null,"","","","","","",{"$f":"IFERROR(AVERAGE($K$12:K688),\"\")","v":""},"","","","","",null,null,"","","",""]
[678,null,null,null,null,null,null,null,null,null,"","","","","","",{"$f":"IFERROR(AVERAGE($K$12:K689),\"\")","v":""},"","","","","",null,null,"","","",""]
[679,null,null,null,null,null,null,null,null,null,"","","","","","",{"$f":"IFERROR(AVERAGE($K$12:K690),\"\")","v":""},"","","","","",null,null,"","","",""]
[680,null,null,null,null,null,null,null,null,null,"","","","","","",{"$f":"IFERROR(AVERAGE($K$12:K691),\"\")","v":""},"","","","","",null,null,"","","",""]
[681,null,null,null,null,null,null,null,null,null,"","","","","","",{"$f":"IFERROR(AVERAGE($K$12:K692),\"\")","v":""},"","","","","",null,null,"","","",""]
[682,null,null,null,null,null,null,null,null,null,"","","","","","",{"$f":"IFERROR(AVERAGE($K$12:K693),\"\")","v":""},"","","","","",null,null,"","","",""]
[683,null,null,null,null,null,null,null,null,null,"","","","","","",{"$f":"IFERROR(AVERAGE($K$12:K694),\"\")","v":""},"","","","","",null,null,"","","",""]
[684,null,null,null,null,null,null,null,null,null,"","","","","","",{"$f":"IFERROR(AVERAGE($K$12:K695),\"\")","v":""},"","","","","",null,null,"","","",""]
[685,null,null,null,null,null,null,null,null,null,"","","","","","",{"$f":"IFERROR(AVERAGE($K$12:K696),\"\")","v":""},"","","","","",null,null,"","","",""]
[686,null,null,null,null,null,null,null,null,null,"","","","","","",{"$f":"IFERROR(AVERAGE($K$12:K697),\"\")","v":""},"","","","","",null,null,"","","",""]
[687,null,null,null,null,null,null,null,null,null,"","","","","","",{"$f":"IFERROR(AVERAGE($K$12:K698),\"\")","v":""},"","","","","",null,null,"","","",""]
[688,null,null,null,null,null,null,null,null,null,"","","","","","",{"$f":"IFERROR(AVERAGE($K$12:K699),\"\")","v":""},"","","","","",null,null,"","","",""]
[689,null,null,null,null,null,null,null,null,null,"","","","","","",{"$f":"IFERROR(AVERAGE($K$12:K700),\"\")","v":""},"","","","","",null,null,"","","",""]
[690,null,null,null,null,null,null,null,null,null,"","","","","","",{"$f":"IFERROR(AVERAGE($K$12:K701),\"\")","v":""},"","","","","",null,null,"","","",""]
[691,null,null,null,null,null,null,null,null,null,"","","","","","",{"$f":"IFERROR(AVERAGE($K$12:K702),\"\")","v":""},"","","","","",null,null,"","","",""]
[692,null,null,null,null,null,null,null,null,null,"","","","","","",{"$f":"IFERROR(AVERAGE($K$12:K703),\"\")","v":""},"","","","","",null,null,"","","",""]
[693,null,null,null,null,null,null,null,null,null,"","","","","","",{"$f":"IFERROR(AVERAGE($K$12:K704),\"\")","v":""},"","","","","",null,null,"","","",""]
[694,null,null,null,null,null,null,null,null,null,"","","","","","",{"$f":"IFERROR(AVERAGE($K$12:K705),\"\")","v":""},"","","","","",null,null,"","","",""]
[695,null,null,null,null,null,null,null,null,null,"","","","","","",{"$f":"IFERROR(AVERAGE($K$12:K706),\"\")","v":""},"","","","","",null,null,"","","",""]
[696,null,null,null,null,null,null,null,null,null,"","","","","","",{"$f":"IFERROR(AVERAGE($K$12:K707),\"\")","v":""},"","","","","",null,null,"","","",""]
[697,null,null,null,null,null,null,null,null,null,"","","","","","",{"$f":"IFERROR(AVERAGE($K$12:K708),\"\")","v":""},"","","","","",null,null,"","","",""]
[698,null,null,null,null,null,null,null,null,null,"","","","","","",{"$f":"IFERROR(AVERAGE($K$12:K709),\"\")","v":""},"","","","","",null,null,"","","",""]
[699,null,null,null,null,null,null,null,null,null,"","","","","","",{"$f":"IFERROR(AVERAGE($K$12:K710),\"\")","v":""},"","","","","",null,null,"","","",""]
[700,null,null,null,null,null,null,null,null,null,"","","","","","",{"$f":"IFERROR(AVERAGE($K$12:K711),\"\")","v":""},"","","","","",null,null,"","","",""]
[701,null,null,null,null,null,null,null,null,null,"","","","","","",{"$f":"IFERROR(AVERAGE($K$12:K712),\"\")","v":""},"","","","","",null,null,"","","",""]
[702,null,null,null,null,null,null,null,null,null,"","","","","","",{"$f":"IFERROR(AVERAGE($K$12:K713),\"\")","v":""},"","","","","",null,null,"","","",""]
[703,null,null,null,null,null,null,null,null,null,"","","","","","",{"$f":"IFERROR(AVERAGE($K$12:K714),\"\")","v":""},"","","","","",null,null,"","",{"$f":"IF($P$1=1,T714,R714)","v":""},{"$f":"IF($P$1=1,O714,L714)","v":""}]
[704,null,null,null,null,null,null,null,null,null,"","","","","","",{"$f":"IFERROR(AVERAGE($K$12:K715),\"\")","v":""},{"$f":"IF(F715<>\"\",$E$5,\"\")","v":""},{"$f":"IF(F715<>\"\",$E$5*(-1),\"\")","v":""},{"$f":"IF(F715<>\"\",$E$6,\"\")","v":""},{"$f":"IFERROR(IF(OR((ABS(O715)<=$E$6),(N715<1)),TRUE,FALSE),\"\")","v":""},{"$f":"IFERROR(IF(ABS(L715)<=$E$5,TRUE,FALSE),\"\")","v":""},null,null,"",{"$f":"IF($P$1=1,#N/A,S715)","v":""},"",""]
[705,null,null,null,null,null,null,null,null,null,{"$f":"IFERROR(AVERAGE(F716:J716),\"\")","v":""},{"$f":"IFERROR((K716-$E$4)*100/$E$4,\"\")","v":""},{"$f":"IFERROR(ROUND(STDEV(F716:J716),2),\"\")","v":""},{"$f":"IF(ISNUMBER(F716),(MAX(F716:J716)-MIN(F716:J716)),\"\")","v":""},{"$f":"IFERROR(N716*100/K716,\"\")","v":""},"",{"$f":"IFERROR(AVERAGE($K$12:K716),\"\")","v":""},"","","","","",null,null,"","","",""]
[706,null,null,null,null,null,null,null,null,null,"","","","","",{"$f":"IF(F717>0,IF(U717=FALSE,IF(V717=FALSE,\"<GA+WHP>\",\"<WHP>\"),IF(V717=FALSE,\"<GA>\",\"\")) & IF(W717=TRUE,\"<Trend>\",\"\") & IF(X717=TRUE,\"<Run>\",\"\")& IF(AND(ABS(U717+V717=2),W717+X717=0),\"OK\",\"\"),\"\")","v":""},{"$f":"IFERROR(AVERAGE($K$12:K717),\"\")","v":""},"","","","","",null,null,{"$f":"IFERROR(RIGHT(C717,10),\"\")","v":""},"","",""]
[707,null,null,null,null,null,null,null,null,null,"","","","","","",{"$f":"IFERROR(AVERAGE($K$12:K718),\"\")","v":""},"","","","","",null,null,"","","",""]
[708,null,null,null,null,null,null,null,null,null,"","","","","","",{"$f":"IFERROR(AVERAGE($K$12:K719),\"\")","v":""},"","","","","",null,null,"","","",""]
[709,null,null,null,null,null,null,null,null,null,"","","","","","",{"$f":"IFERROR(AVERAGE($K$12:K720),\"\")","v":""},"","","","","",null,null,"","","",""]
[710,null,null,null,null,null,null,null,null,null,"","","","","","",{"$f":"IFERROR(AVERAGE($K$12:K721),\"\")","v":""},"","","","","",{"$f":"OR(AND(K721>K720,K720>K719,K719>K718,K718>K717,K717>K716,K716>K715),AND(K721<K720,K720<K719,K719<K718,K718<K717,K717<K716,K716<K715))","v":null},{"$f":"OR(AND(K721>Q721,K720>Q721,K719>Q721,K718>Q721,K717>Q721,K716>Q721,K715>Q721),AND(K721<Q721,K720<Q721,K719<Q721,K718<Q721,K717<Q721,K716<Q721,K715<Q721))","v":null},"","","",""]
[711,null,null,null,null,null,null,null,null,null,"","","","","","",{"$f":"IFERROR(AVERAGE($K$12:K722),\"\")","v":""},"","","","","",null,null,"","","",""]
[712,null,null,null,null,null,null,null,null,null,"","","","","","",{"$f":"IFERROR(AVERAGE($K$12:K723),\"\")","v":""},"","","","","",null,null,"","","",""]
[713,null,null,null,null,null,null,null,null,null,"","","","","","",{"$f":"IFERROR(AVERAGE($K$12:K724),\"\")","v":""},"","","","","",null,null,"","","",""]
[714,null,null,null,null,null,null,null,null,null,"","","","","","",{"$f":"IFERROR(AVERAGE($K$12:K725),\"\")","v":""},"","","","","",null,null,"","","",""]
[715,null,null,null,null,null,null,null,null,null,"","","","","","",{"$f":"IFERROR(AVERAGE($K$12:K726),\"\")","v":""},"","","","","",null,null,"","","",""]
[716,null,null,null,null,null,null,null,null,null,"","","","","","",{"$f":"IFERROR(AVERAGE($K$12:K727),\"\")","v":""},"","","","","",null,null,"","","",""]
[717,null,null,null,null,null,null,null,null,null,"","","","","","",{"$f":"IFERROR(AVERAGE($K$12:K728),\"\")","v":""},"","","","","",null,null,"","","",""]
[718,null,null,null,null,null,null,null,null,null,"","","","","","",{"$f":"IFERROR(AVERAGE($K$12:K729),\"\")","v":""},"","","","","",null,null,"","","",""]
[719,null,null,null,null,null,null,null,null,null,"","","","","","",{"$f":"IFERROR(AVERAGE($K$12:K730),\"\")","v":""},"","","","","",null,null,"","","",""]
[720,null,null,null,null,null,null,null,null,null,"","","","","","",{"$f":"IFERROR(AVERAGE($K$12:K731),\"\")","v":""},"","","","","",null,null,"","","",""]
[721,null,null,null,null,null,null,null,null,null,"","","","","","",{"$f":"IFERROR(AVERAGE($K$12:K732),\"\")","v":""},"","","","","",null,null,"","","",""]
[722,null,null,null,null,null,null,null,null,null,"","","","","","",{"$f":"IFERROR(AVERAGE($K$12:K733),\"\")","v":""},"","","","","",null,null,"","","",""]
[723,null,null,null,null,null,null,null,null,null,"","","","","","",{"$f":"IFERROR(AVERAGE($K$12:K734),\"\")","v":""},"","","","","",null,null,"","","",""]
[724,null,null,null,null,null,null,null,null,null,"","","","","","",{"$f":"IFERROR(AVERAGE($K$12:K735),\"\")","v":""},"","","","","",null,null,"","","",""]
[725,null,null,null,null,null,null,null,null,null,"","","","","","",{"$f":"IFERROR(AVERAGE($K$12:K736),\"\")","v":""},"","","","","",null,null,"","","",""]
[726,null,null,null,null,null,null,null,null,null,"","","","","","",{"$f":"IFERROR(AVERAGE($K$12:K737),\"\")","v":""},"","","","","",null,null,"","","",""]
[727,null,null,null,null,null,null,null,null,null,"","","","","","",{"$f":"IFERROR(AVERAGE($K$12:K738),\"\")","v":""},"","","","","",null,null,"","","",""]
[728,null,null,null,null,null,null,null,null,null,"","","","","","",{"$f":"IFERROR(AVERAGE($K$12:K739),\"\")","v":""},"","","","","",null,null,"","","",""]
[729,null,null,null,null,null,null,null,null,null,"","","","","","",{"$f":"IFERROR(AVERAGE($K$12:K740),\"\")","v":""},"","","","","",null,null,"","","",""]
[730,null,null,null,null,null,null,null,null,null,"","","","","","",{"$f":"IFERROR(AVERAGE($K$12:K741),\"\")","v":""},"","","","","",null,null,"","","",""]
[731,null,null,null,null,null,null,null,null,null,"","","","","","",{"$f":"IFERROR(AVERAGE($K$12:K742),\"\")","v":""},"","","","","",null,null,"","","",""]
[732,null,null,null,null,null,null,null,null,null,"","","","","","",{"$f":"IFERROR(AVERAGE($K$12:K743),\"\")","v":""},"","","","","",null,null,"","","",""]
[733,null,null,null,null,null,null,null,null,null,"","","","","","",{"$f":"IFERROR(AVERAGE($K$12:K744),\"\")","v":""},"","","","","",null,null,"","","",""]
[734,null,null,null,null,null,null,null,null,null,"","","","","","",{"$f":"IFERROR(AVERAGE($K$12:K745),\"\")","v":""},"","","","","",null,null,"","","",""]
[735,null,null,null,null,null,null,null,null,null,"","","","","","",{"$f":"IFERROR(AVERAGE($K$12:K746),\"\")","v":""},"","","","","",null,null,"","","",""]
[736,null,null,null,null,null,null,null,null,null,"","","","","","",{"$f":"IFERROR(AVERAGE($K$12:K747),\"\")","v":""},"","","","","",null,null,"","","",""]
[737,null,null,null,null,null,null,null,null,null,"","","","","","",{"$f":"IFERROR(AVERAGE($K$12:K748),\"\")","v":""},"","","","","",null,null,"","","",""]
[738,null,null,null,null,null,null,null,null,null,"","","","","","",{"$f":"IFERROR(AVERAGE($K$12:K749),\"\")","v":""},"","","","","",null,null,"","","",""]
[739,null,null,null,null,null,null,null,null,null,"","","","","","",{"$f":"IFERROR(AVERAGE($K$12:K750),\"\")","v":""},"","","","","",null,null,"","","",""]
[740,null,null,null,null,null,null,null,null,null,"","","","","","",{"$f":"IFERROR(AVERAGE($K$12:K751),\"\")","v":""},"","","","","",null,null,"","","",""]
[741,null,null,null,null,null,null,null,null,null,"","","","","","",{"$f":"IFERROR(AVERAGE($K$12:K752),\"\")","v":""},"","","","","",null,null,"","","",""]
[742,null,null,null,null,null,null,null,null,null,"","","","","","",{"$f":"IFERROR(AVERAGE($K$12:K753),\"\")","v":""},"","","","","",null,null,"","","",""]
[743,null,null,null,null,null,null,null,null,null,"","","","","","",{"$f":"IFERROR(AVERAGE($K$12:K754),\"\")","v":""},"","","","","",null,null,"","","",""]
[744,null,null,null,null,null,null,null,null,null,"","","","","","",{"$f":"IFERROR(AVERAGE($K$12:K755),\"\")","v":""},"","","","","",null,null,"","","",""]
[745,null,null,null,null,null,null,null,null,null,"","","","","","",{"$f":"IFERROR(AVERAGE($K$12:K756),\"\")","v":""},"","","","","",null,null,"","","",""]
[746,null,null,null,null,null,null,null,null,null,"","","","","","",{"$f":"IFERROR(AVERAGE($K$12:K757),\"\")","v":""},"","","","","",null,null,"","","",""]
[747,null,null,null,null,null,null,null,null,null,"","","","","","",{"$f":"IFERROR(AVERAGE($K$12:K758),\"\")","v":""},"","","","","",null,null,"","","",""]
[748,null,null,null,null,null,null,null,null,null,"","","","","","",{"$f":"IFERROR(AVERAGE($K$12:K759),\"\")","v":""},"","","","","",null,null,"","","",""]
[749,null,null,null,null,null,null,null,null,null,"","","","","","",{"$f":"IFERROR(AVERAGE($K$12:K760),\"\")","v":""},"","","","","",null,null,"","","",""]
[750,null,null,null,null,null,null,null,null,null,"","","","","","",{"$f":"IFERROR(AVERAGE($K$12:K761),\"\")","v":""},"","","","","",null,null,"","","",""]
[751,null,null,null,null,null,null,null,null,null,"","","","","","",{"$f":"IFERROR(AVERAGE($K$12:K762),\"\")","v":""},"","","","","",null,null,"","","",""]
[752,null,null,null,null,null,null,null,null,null,"","","","","","",{"$f":"IFERROR(AVERAGE($K$12:K763),\"\")","v":""},"","","","","",null,null,"","","",""]
[753,null,null,null,null,null,null,null,null,null,"","","","","","",{"$f":"IFERROR(AVERAGE($K$12:K764),\"\")","v":""},"","","","","",null,null,"","","",""]
[754,null,null,null,null,null,null,null,null,null,"","","","","","",{"$f":"IFERROR(AVERAGE($K$12:K765),\"\")","v":""},"","","","","",null,null,"","","",""]
[755,null,null,null,null,null,null,null,null,null,"","","","","","",{"$f":"IFERROR(AVERAGE($K$12:K766),\"\")","v":""},"","","","","",null,null,"","","",""]
[756,null,null,null,null,null,null,null,null,null,"","","","","","",{"$f":"IFERROR(AVERAGE($K$12:K767),\"\")","v":""},"","","","","",null,null,"","","",""]
[757,null,null,null,null,null,null,null,null,null,"","","","","","",{"$f":"IFERROR(AVERAGE($K$12:K768),\"\")","v":""},"","","","","",null,null,"","","",""]
[758,null,null,null,null,null,null,null,null,null,"","","","","","",{"$f":"IFERROR(AVERAGE($K$12:K769),\"\")","v":""},"","","","","",null,null,"","","",""]
[759,null,null,null,null,null,null,null,null,null,"","","","","","",{"$f":"IFERROR(AVERAGE($K$12:K770),\"\")","v":""},"","","","","",null,null,"","","",""]
[760,null,null,null,null,null,null,null,null,null,"","","","","","",{"$f":"IFERROR(AVERAGE($K$12:K771),\"\")","v":""},"","","","","",null,null,"","","",""]
[761,null,null,null,null,null,null,null,null,null,"","","","","","",{"$f":"IFERROR(AVERAGE($K$12:K772),\"\")","v":""},"","","","","",null,null,"","","",""]
[762,null,null,null,null,null,null,null,null,null,"","","","","","",{"$f":"IFERROR(AVERAGE($K$12:K773),\"\")","v":""},"","","","","",null,null,"","","",""]
[763,null,null,null,null,null,null,null,null,null,"","","","","","",{"$f":"IFERROR(AVERAGE($K$12:K774),\"\")","v":""},"","","","","",null,null,"","","",""]
[764,null,null,null,null,null,null,null,null,null,"","","","","","",{"$f":"IFERROR(AVERAGE($K$12:K775),\"\")","v":""},"","","","","",null,null,"","","",""]
[765,null,null,null,null,null,null,null,null,null,"","","","","","",{"$f":"IFERROR(AVERAGE($K$12:K776),\"\")","v":""},"","","","","",null,null,"","","",""]
[766,null,null,null,null,null,null,null,null,null,"","","","","","",{"$f":"IFERROR(AVERAGE($K$12:K777),\"\")","v":""},"","","","","",null,null,"","","",""]
[767,null,null,null,null,null,null,null,null,null,"","","","","","",{"$f":"IFERROR(AVERAGE($K$12:K778),\"\")","v":""},"","","","","",null,null,"","",{"$f":"IF($P$1=1,T778,R778)","v":""},{"$f":"IF($P$1=1,O778,L778)","v":""}]
[768,null,null,null,null,null,null,null,null,null,"","","","","","",{"$f":"IFERROR(AVERAGE($K$12:K779),\"\")","v":""},{"$f":"IF(F779<>\"\",$E$5,\"\")","v":""},{"$f":"IF(F779<>\"\",$E$5*(-1),\"\")","v":""},{"$f":"IF(F779<>\"\",$E$6,\"\")","v":""},{"$f":"IFERROR(IF(OR((ABS(O779)<=$E$6),(N779<1)),TRUE,FALSE),\"\")","v":""},{"$f":"IFERROR(IF(ABS(L779)<=$E$5,TRUE,FALSE),\"\")","v":""},null,null,"",{"$f":"IF($P$1=1,#N/A,S779)","v":""},"",""]
[769,null,null,null,null,null,null,null,null,null,{"$f":"IFERROR(AVERAGE(F780:J780),\"\")","v":""},{"$f":"IFERROR((K780-$E$4)*100/$E$4,\"\")","v":""},{"$f":"IFERROR(ROUND(STDEV(F780:J780),2),\"\")","v":""},{"$f":"IF(ISNUMBER(F780),(MAX(F780:J780)-MIN(F780:J780)),\"\")","v":""},{"$f":"IFERROR(N780*100/K780,\"\")","v":""},"",{"$f":"IFERROR(AVERAGE($K$12:K780),\"\")","v":""},"","","","","",null,null,"","","",""]
[770,null,null,null,null,null,null,null,null,null,"","","","","",{"$f":"IF(F781>0,IF(U781=FALSE,IF(V781=FALSE,\"<GA+WHP>\",\"<WHP>\"),IF(V781=FALSE,\"<GA>\",\"\")) & IF(W781=TRUE,\"<Trend>\",\"\") & IF(X781=TRUE,\"<Run>\",\"\")& IF(AND(ABS(U781+V781=2),W781+X781=0),\"OK\",\"\"),\"\")","v":""},{"$f":"IFERROR(AVERAGE($K$12:K781),\"\")","v":""},"","","","","",null,null,{"$f":"IFERROR(RIGHT(C781,10),\"\")","v":""},"","",""]
[771,null,null,null,null,null,null,null,null,null,"","","","","","",{"$f":"IFERROR(AVERAGE($K$12:K782),\"\")","v":""},"","","","","",null,null,"","","",""]
[772,null,null,null,null,null,null,null,null,null,"","","","","","",{"$f":"IFERROR(AVERAGE($K$12:K783),\"\")","v":""},"","","","","",null,null,"","","",""]
[773,null,null,null,null,null,null,null,null,null,"","","","","","",{"$f":"IFERROR(AVERAGE($K$12:K784),\"\")","v":""},"","","","","",null,null,"","","",""]
[774,null,null,null,null,null,null,null,null,null,"","","","","","",{"$f":"IFERROR(AVERAGE($K$12:K785),\"\")","v":""},"","","","","",{"$f":"OR(AND(K785>K784,K784>K783,K783>K782,K782>K781,K781>K780,K780>K779),AND(K785<K784,K784<K783,K783<K782,K782<K781,K781<K780,K780<K779))","v":null},{"$f":"OR(AND(K785>Q785,K784>Q785,K783>Q785,K782>Q785,K781>Q785,K780>Q785,K779>Q785),AND(K785<Q785,K784<Q785,K783<Q785,K782<Q785,K781<Q785,K780<Q785,K779<Q785))","v":null},"","","",""]
[775,null,null,null,null,null,null,null,null,null,"","","","","","",{"$f":"IFERROR(AVERAGE($K$12:K786),\"\")","v":""},"","","","","",null,null,"","","",""]
[776,null,null,null,null,null,null,null,null,null,"","","","","","",{"$f":"IFERROR(AVERAGE($K$12:K787),\"\")","v":""},"","","","","",null,null,"","","",""]
[777,null,null,null,null,null,null,null,null,null,"","","","","","",{"$f":"IFERROR(AVERAGE($K$12:K788),\"\")","v":""},"","","","","",null,null,"","","",""]
[778,null,null,null,null,null,null,null,null,null,"","","","","","",{"$f":"IFERROR(AVERAGE($K$12:K789),\"\")","v":""},"","","","","",null,null,"","","",""]
[779,null,null,null,null,null,null,null,null,null,"","","","","","",{"$f":"IFERROR(AVERAGE($K$12:K790),\"\")","v":""},"","","","","",null,null,"","","",""]
[780,null,null,null,null,null,null,null,null,null,"","","","","","",{"$f":"IFERROR(AVERAGE($K$12:K791),\"\")","v":""},"","","","","",null,null,"","","",""]
[781,null,null,null,null,null,null,null,null,null,"","","","","","",{"$f":"IFERROR(AVERAGE($K$12:K792),\"\")","v":""},"","","","","",null,null,"","","",""]
[782,null,null,null,null,null,null,null,null,null,"","","","","","",{"$f":"IFERROR(AVERAGE($K$12:K793),\"\")","v":""},"","","","","",null,null,"","","",""]
[783,null,null,null,null,null,null,null,null,null,"","","","","","",{"$f":"IFERROR(AVERAGE($K$12:K794),\"\")","v":""},"","","","","",null,null,"","","",""]
[784,null,null,null,null,null,null,null,null,null,"","","","","","",{"$f":"IFERROR(AVERAGE($K$12:K795),\"\")","v":""},"","","","","",null,null,"","","",""]
[785,null,null,null,null,null,null,null,null,null,"","","","","","",{"$f":"IFERROR(AVERAGE($K$12:K796),\"\")","v":""},"","","","","",null,null,"","","",""]
[786,null,null,null,null,null,null,null,null,null,"","","","","","",{"$f":"IFERROR(AVERAGE($K$12:K797),\"\")","v":""},"","","","","",null,null,"","","",""]
[787,null,null,null,null,null,null,null,null,null,"","","","","","",{"$f":"IFERROR(AVERAGE($K$12:K798),\"\")","v":""},"","","","","",null,null,"","","",""]
[788,null,null,null,null,null,null,null,null,null,"","","","","","",{"$f":"IFERROR(AVERAGE($K$12:K799),\"\")","v":""},"","","","","",null,null,"","","",""]
[789,null,null,null,null,null,null,null,null,null,"","","","","","",{"$f":"IFERROR(AVERAGE($K$12:K800),\"\")","v":""},"","","","","",null,null,"","","",""]
[790,null,null,null,null,null,null,null,null,null,"","","","","","",{"$f":"IFERROR(AVERAGE($K$12:K801),\"\")","v":""},"","","","","",null,null,"","","",""]
[791,null,null,null,null,null,null,null,null,null,"","","","","","",{"$f":"IFERROR(AVERAGE($K$12:K802),\"\")","v":""},"","","","","",null,null,"","","",""]
[792,null,null,null,null,null,null,null,null,null,"","","","","","",{"$f":"IFERROR(AVERAGE($K$12:K803),\"\")","v":""},"","","","","",null,null,"","","",""]
[793,null,null,null,null,null,null,null,null,null,"","","","","","",{"$f":"IFERROR(AVERAGE($K$12:K804),\"\")","v":""},"","","","","",null,null,"","","",""]
[794,null,null,null,null,null,null,null,null,null,"","","","","","",{"$f":"IFERROR(AVERAGE($K$12:K805),\"\")","v":""},"","","","","",null,null,"","","",""]
[795,null,null,null,null,null,null,null,null,null,"","","","","","",{"$f":"IFERROR(AVERAGE($K$12:K806),\"\")","v":""},"","","","","",null,null,"","","",""]
[796,null,null,null,null,null,null,null,null,null,"","","","","","",{"$f":"IFERROR(AVERAGE($K$12:K807),\"\")","v":""},"","","","","",null,null,"","","",""]
[797,null,null,null,null,null,null,null,null,null,"","","","","","",{"$f":"IFERROR(AVERAGE($K$12:K808),\"\")","v":""},"","","","","",null,null,"","","",""]
[798,null,null,null,null,null,null,null,null,null,"","","","","","",{"$f":"IFERROR(AVERAGE($K$12:K809),\"\")","v":""},"","","","","",null,null,"","","",""]
[799,null,null,null,null,null,null,null,null,null,"","","","","","",{"$f":"IFERROR(AVERAGE($K$12:K810),\"\")","v":""},"","","","","",null,null,"","","",""]
[800,null,null,null,null,null,null,null,null,null,"","","","","","",{"$f":"IFERROR(AVERAGE($K$12:K811),\"\")","v":""},"","","","","",null,null,"","","",""]
[801,null,null,null,null,null,null,null,null,null,"","","","","","",{"$f":"IFERROR(AVERAGE($K$12:K812),\"\")","v":""},"","","","","",null,null,"","","",""]
[802,null,null,null,null,null,null,null,null,null,"","","","","","",{"$f":"IFERROR(AVERAGE($K$12:K813),\"\")","v":""},"","","","","",null,null,"","","",""]
[803,null,null,null,null,null,null,null,null,null,"","","","","","",{"$f":"IFERROR(AVERAGE($K$12:K814),\"\")","v":""},"","","","","",null,null,"","","",""]
[804,null,null,null,null,null,null,null,null,null,"","","","","","",{"$f":"IFERROR(AVERAGE($K$12:K815),\"\")","v":""},"","","","","",null,null,"","","",""]
[805,null,null,null,null,null,null,null,null,null,"","","","","","",{"$f":"IFERROR(AVERAGE($K$12:K816),\"\")","v":""},"","","","","",null,null,"","","",""]
[806,null,null,null,null,null,null,null,null,null,"","","","","","",{"$f":"IFERROR(AVERAGE($K$12:K817),\"\")","v":""},"","","","","",null,null,"","","",""]
[807,null,null,null,null,null,null,null,null,null,"","","","","","",{"$f":"IFERROR(AVERAGE($K$12:K818),\"\")","v":""},"","","","","",null,null,"","","",""]
[808,null,null,null,null,null,null,null,null,null,"","","","","","",{"$f":"IFERROR(AVERAGE($K$12:K819),\"\")","v":""},"","","","","",null,null,"","","",""]
[809,null,null,null,null,null,null,null,null,null,"","","","","","",{"$f":"IFERROR(AVERAGE($K$12:K820),\"\")","v":""},"","","","","",null,null,"","","",""]
[810,null,null,null,null,null,null,null,null,null,"","","","","","",{"$f":"IFERROR(AVERAGE($K$12:K821),\"\")","v":""},"","","","","",null,null,"","","",""]
[811,null,null,null,null,null,null,null,null,null,"","","","","","",{"$f":"IFERROR(AVERAGE($K$12:K822),\"\")","v":""},"","","","","",null,null,"","","",""]
[812,null,null,null,null,null,null,null,null,null,"","","","","","",{"$f":"IFERROR(AVERAGE($K$12:K823),\"\")","v":""},"","","","","",null,null,"","","",""]
[813,null,null,null,null,null,null,null,null,null,"","","","","","",{"$f":"IFERROR(AVERAGE($K$12:K824),\"\")","v":""},"","","","","",null,null,"","","",""]
[814,null,null,null,null,null,null,null,null,null,"","","","","","",{"$f":"IFERROR(AVERAGE($K$12:K825),\"\")","v":""},"","","","","",null,null,"","","",""]
[815,null,null,null,null,null,null,null,null,null,"","","","","","",{"$f":"IFERROR(AVERAGE($K$12:K826),\"\")","v":""},"","","","","",null,null,"","","",""]
[816,null,null,null,null,null,null,null,null,null,"","","","","","",{"$f":"IFERROR(AVERAGE($K$12:K827),\"\")","v":""},"","","","","",null,null,"","","",""]
[817,null,null,null,null,null,null,null,null,null,"","","","","","",{"$f":"IFERROR(AVERAGE($K$12:K828),\"\")","v":""},"","","","","",null,null,"","","",""]
[818,null,null,null,null,null,null,null,null,null,"","","","","","",{"$f":"IFERROR(AVERAGE($K$12:K829),\"\")","v":""},"","","","","",null,null,"","","",""]
[819,null,null,null,null,null,null,null,null,null,"","","","","","",{"$f":"IFERROR(AVERAGE($K$12:K830),\"\")","v":""},"","","","","",null,null,"","","",""]
[820,null,null,null,null,null,null,null,null,null,"","","","","","",{"$f":"IFERROR(AVERAGE($K$12:K831),\"\")","v":""},"","","","","",null,null,"","","",""]
[821,null,null,null,null,null,null,null,null,null,"","","","","","",{"$f":"IFERROR(AVERAGE($K$12:K832),\"\")","v":""},"","","","","",null,null,"","","",""]
[822,null,null,null,null,null,null,null,null,null,"","","","","","",{"$f":"IFERROR(AVERAGE($K$12:K833),\"\")","v":""},"","","","","",null,null,"","","",""]
[823,null,null,null,null,null,null,null,null,null,"","","","","","",{"$f":"IFERROR(AVERAGE($K$12:K834),\"\")","v":""},"","","","","",null,null,"","","",""]
[824,null,null,null,null,null,null,null,null,null,"","","","","","",{"$f":"IFERROR(AVERAGE($K$12:K835),\"\")","v":""},"","","","","",null,null,"","","",""]
[825,null,null,null,null,null,null,null,null,null,"","","","","","",{"$f":"IFERROR(AVERAGE($K$12:K836),\"\")","v":""},"","","","","",null,null,"","","",""]
[826,null,null,null,null,null,null,null,null,null,"","","","","","",{"$f":"IFERROR(AVERAGE($K$12:K837),\"\")","v":""},"","","","","",null,null,"","","",""]
[827,null,null,null,null,null,null,null,null,null,"","","","","","",{"$f":"IFERROR(AVERAGE($K$12:K838),\"\")","v":""},"","","","","",null,null,"","","",""]
[828,null,null,null,null,null,null,null,null,null,"","","","","","",{"$f":"IFERROR(AVERAGE($K$12:K839),\"\")","v":""},"","","","","",null,null,"","","",""]
[829,null,null,null,null,null,null,null,null,null,"","","","","","",{"$f":"IFERROR(AVERAGE($K$12:K840),\"\")","v":""},"","","","","",null,null,"","","",""]
[830,null,null,null,null,null,null,null,null,null,"","","","","","",{"$f":"IFERROR(AVERAGE($K$12:K841),\"\")","v":""},"","","","","",null,null,"","","",""]
[831,null,null,null,null,null,null,null,null,null,"","","","","","",{"$f":"IFERROR(AVERAGE($K$12:K842),\"\")","v":""},"","","","","",null,null,"","",{"$f":"IF($P$1=1,T842,R842)","v":""},{"$f":"IF($P$1=1,O842,L842)","v":""}]
[832,null,null,null,null,null,null,null,null,null,"","","","","","",{"$f":"IFERROR(AVERAGE($K$12:K843),\"\")","v":""},{"$f":"IF(F843<>\"\",$E$5,\"\")","v":""},{"$f":"IF(F843<>\"\",$E$5*(-1),\"\")","v":""},{"$f":"IF(F843<>\"\",$E$6,\"\")","v":""},{"$f":"IFERROR(IF(OR((ABS(O843)<=$E$6),(N843<1)),TRUE,FALSE),\"\")","v":""},{"$f":"IFERROR(IF(ABS(L843)<=$E$5,TRUE,FALSE),\"\")","v":""},null,null,"",{"$f":"IF($P$1=1,#N/A,S843)","v":""},"",""]
[833,null,null,null,null,null,null,null,null,null,{"$f":"IFERROR(AVERAGE(F844:J844),\"\")","v":""},{"$f":"IFERROR((K844-$E$4)*100/$E$4,\"\")","v":""},{"$f":"IFERROR(ROUND(STDEV(F844:J844),2),\"\")","v":""},{"$f":"IF(ISNUMBER(F844),(MAX(F844:J844)-MIN(F844:J844)),\"\")","v":""},{"$f":"IFERROR(N844*100/K844,\"\")","v":""},"",{"$f":"IFERROR(AVERAGE($K$12:K844),\"\")","v":""},"","","","","",null,null,"","","",""]
[834,null,null,null,null,null,null,null,null,null,"","","","","",{"$f":"IF(F845>0,IF(U845=FALSE,IF(V845=FALSE,\"<GA+WHP>\",\"<WHP>\"),IF(V845=FALSE,\"<GA>\",\"\")) & IF(W845=TRUE,\"<Trend>\",\"\") & IF(X845=TRUE,\"<Run>\",\"\")& IF(AND(ABS(U845+V845=2),W845+X845=0),\"OK\",\"\"),\"\")","v":""},{"$f":"IFERROR(AVERAGE($K$12:K845),\"\")","v":""},"","","","","",null,null,{"$f":"IFERROR(RIGHT(C845,10),\"\")","v":""},"","",""]
[835,null,null,null,null,null,null,null,null,null,"","","","","","",{"$f":"IFERROR(AVERAGE($K$12:K846),\"\")","v":""},"","","","","",null,null,"","","",""]
[836,null,null,null,null,null,null,null,null,null,"","","","","","",{"$f":"IFERROR(AVERAGE($K$12:K847),\"\")","v":""},"","","","","",null,null,"","","",""]
[837,null,null,null,null,null,null,null,null,null,"","","","","","",{"$f":"IFERROR(AVERAGE($K$12:K848),\"\")","v":""},"","","","","",null,null,"","","",""]
[838,null,null,null,null,null,null,null,null,null,"","","","","","",{"$f":"IFERROR(AVERAGE($K$12:K849),\"\")","v":""},"","","","","",{"$f":"OR(AND(K849>K848,K848>K847,K847>K846,K846>K845,K845>K844,K844>K843),AND(K849<K848,K848<K847,K847<K846,K846<K845,K845<K844,K844<K843))","v":null},{"$f":"OR(AND(K849>Q849,K848>Q849,K847>Q849,K846>Q849,K845>Q849,K844>Q849,K843>Q849),AND(K849<Q849,K848<Q849,K847<Q849,K846<Q849,K845<Q849,K844<Q849,K843<Q849))","v":null},"","","",""]
[839,null,null,null,null,null,null,null,null,null,"","","","","","",{"$f":"IFERROR(AVERAGE($K$12:K850),\"\")","v":""},"","","","","",null,null,"","","",""]
[840,null,null,null,null,null,null,null,null,null,"","","","","","",{"$f":"IFERROR(AVERAGE($K$12:K851),\"\")","v":""},"","","","","",null,null,"","","",""]
[841,null,null,null,null,null,null,null,null,null,"","","","","","",{"$f":"IFERROR(AVERAGE($K$12:K852),\"\")","v":""},"","","","","",null,null,"","","",""]
[842,null,null,null,null,null,null,null,null,null,"","","","","","",{"$f":"IFERROR(AVERAGE($K$12:K853),\"\")","v":""},"","","","","",null,null,"","","",""]
[843,null,null,null,null,null,null,null,null,null,"","","","","","",{"$f":"IFERROR(AVERAGE($K$12:K854),\"\")","v":""},"","","","","",null,null,"","","",""]
[844,null,null,null,null,null,null,null,null,null,"","","","","","",{"$f":"IFERROR(AVERAGE($K$12:K855),\"\")","v":""},"","","","","",null,null,"","","",""]
[845,null,null,null,null,null,null,null,null,null,"","","","","","",{"$f":"IFERROR(AVERAGE($K$12:K856),\"\")","v":""},"","","","","",null,null,"","","",""]
[846,null,null,null,null,null,null,null,null,null,"","","","","","",{"$f":"IFERROR(AVERAGE($K$12:K857),\"\")","v":""},"","","","","",null,null,"","","",""]
[847,null,null,null,null,null,null,null,null,null,"","","","","","",{"$f":"IFERROR(AVERAGE($K$12:K858),\"\")","v":""},"","","","","",null,null,"","","",""]
[848,null,null,null,null,null,null,null,null,null,"","","","","","",{"$f":"IFERROR(AVERAGE($K$12:K859),\"\")","v":""},"","","","","",null,null,"","","",""]
[849,null,null,null,null,null,null,null,null,null,"","","","","","",{"$f":"IFERROR(AVERAGE($K$12:K860),\"\")","v":""},"","","","","",null,null,"","","",""]
[850,null,null,null,null,null,null,null,null,null,"","","","","","",{"$f":"IFERROR(AVERAGE($K$12:K861),\"\")","v":""},"","","","","",null,null,"","","",""]
[851,null,null,null,null,null,null,null,null,null,"","","","","","",{"$f":"IFERROR(AVERAGE($K$12:K862),\"\")","v":""},"","","","","",null,null,"","","",""]
[852,null,null,null,null,null,null,null,null,null,"","","","","","",{"$f":"IFERROR(AVERAGE($K$12:K863),\"\")","v":""},"","","","","",null,null,"","","",""]
[853,null,null,null,null,null,null,null,null,null,"","","","","","",{"$f":"IFERROR(AVERAGE($K$12:K864),\"\")","v":""},"","","","","",null,null,"","","",""]
[854,null,null,null,null,null,null,null,null,null,"","","","","","",{"$f":"IFERROR(AVERAGE($K$12:K865),\"\")","v":""},"","","","","",null,null,"","","",""]
[855,null,null,null,null,null,null,null,null,null,"","","","","","",{"$f":"IFERROR(AVERAGE($K$12:K866),\"\")","v":""},"","","","","",null,null,"","","",""]
[856,null,null,null,null,null,null,null,null,null,"","","","","","",{"$f":"IFERROR(AVERAGE($K$12:K867),\"\")","v":""},"","","","","",null,null,"","","",""]
[857,null,null,null,null,null,null,null,null,null,"","","","","","",{"$f":"IFERROR(AVERAGE($K$12:K868),\"\")","v":""},"","","","","",null,null,"","","",""]
[858,null,null,null,null,null,null,null,null,null,"","","","","","",{"$f":"IFERROR(AVERAGE($K$12:K869),\"\")","v":""},"","","","","",null,null,"","","",""]
[859,null,null,null,null,null,null,null,null,null,"","","","","","",{"$f":"IFERROR(AVERAGE($K$12:K870),\"\")","v":""},"","","","","",null,null,"","","",""]
[860,null,null,null,null,null,null,null,null,null,"","","","","","",{"$f":"IFERROR(AVERAGE($K$12:K871),\"\")","v":""},"","","","","",null,null,"","","",""]
[861,null,null,null,null,null,null,null,null,null,"","","","","","",{"$f":"IFERROR(AVERAGE($K$12:K872),\"\")","v":""},"","","","","",null,null,"","","",""]
[862,null,null,null,null,null,null,null,null,null,"","","","","","",{"$f":"IFERROR(AVERAGE($K$12:K873),\"\")","v":""},"","","","","",null,null,"","","",""]
[863,null,null,null,null,null,null,null,null,null,"","","","","","",{"$f":"IFERROR(AVERAGE($K$12:K874),\"\")","v":""},"","","","","",null,null,"","","",""]
[864,null,null,null,null,null,null,null,null,null,"","","","","","",{"$f":"IFERROR(AVERAGE($K$12:K875),\"\")","v":""},"","","","","",null,null,"","","",""]
[865,null,null,null,null,null,null,null,null,null,"","","","","","",{"$f":"IFERROR(AVERAGE($K$12:K876),\"\")","v":""},"","","","","",null,null,"","","",""]
[866,null,null,null,null,null,null,null,null,null,"","","","","","",{"$f":"IFERROR(AVERAGE($K$12:K877),\"\")","v":""},"","","","","",null,null,"","","",""]
[867,null,null,null,null,null,null,null,null,null,"","","","","","",{"$f":"IFERROR(AVERAGE($K$12:K878),\"\")","v":""},"","","","","",null,null,"","","",""]
[868,null,null,null,null,null,null,null,null,null,"","","","","","",{"$f":"IFERROR(AVERAGE($K$12:K879),\"\")","v":""},"","","","","",null,null,"","","",""]
[869,null,null,null,null,null,null,null,null,null,"","","","","","",{"$f":"IFERROR(AVERAGE($K$12:K880),\"\")","v":""},"","","","","",null,null,"","","",""]
[870,null,null,null,null,null,null,null,null,null,"","","","","","",{"$f":"IFERROR(AVERAGE($K$12:K881),\"\")","v":""},"","","","","",null,null,"","","",""]
[871,null,null,null,null,null,null,null,null,null,"","","","","","",{"$f":"IFERROR(AVERAGE($K$12:K882),\"\")","v":""},"","","","","",null,null,"","","",""]
[872,null,null,null,null,null,null,null,null,null,"","","","","","",{"$f":"IFERROR(AVERAGE($K$12:K883),\"\")","v":""},"","","","","",null,null,"","","",""]
[873,null,null,null,null,null,null,null,null,null,"","","","","","",{"$f":"IFERROR(AVERAGE($K$12:K884),\"\")","v":""},"","","","","",null,null,"","","",""]
[874,null,null,null,null,null,null,null,null,null,"","","","","","",{"$f":"IFERROR(AVERAGE($K$12:K885),\"\")","v":""},"","","","","",null,null,"","","",""]
[875,null,null,null,null,null,null,null,null,null,"","","","","","",{"$f":"IFERROR(AVERAGE($K$12:K886),\"\")","v":""},"","","","","",null,null,"","","",""]
[876,null,null,null,null,null,null,null,null,null,"","","","","","",{"$f":"IFERROR(AVERAGE($K$12:K887),\"\")","v":""},"","","","","",null,null,"","","",""]
[877,null,null,null,null,null,null,null,null,null,"","","","","","",{"$f":"IFERROR(AVERAGE($K$12:K888),\"\")","v":""},"","","","","",null,null,"","","",""]
[878,null,null,null,null,null,null,null,null,null,"","","","","","",{"$f":"IFERROR(AVERAGE($K$12:K889),\"\")","v":""},"","","","","",null,null,"","","",""]
[879,null,null,null,null,null,null,null,null,null,"","","","","","",{"$f":"IFERROR(AVERAGE($K$12:K890),\"\")","v":""},"","","","","",null,null,"","","",""]
[880,null,null,null,null,null,null,null,null,null,"","","","","","",{"$f":"IFERROR(AVERAGE($K$12:K891),\"\")","v":""},"","","","","",null,null,"","","",""]
[881,null,null,null,null,null,null,null,null,null,"","","","","","",{"$f":"IFERROR(AVERAGE($K$12:K892),\"\")","v":""},"","","","","",null,null,"","","",""]
[882,null,null,null,null,null,null,null,null,null,"","","","","","",{"$f":"IFERROR(AVERAGE($K$12:K893),\"\")","v":""},"","","","","",null,null,"","","",""]
[883,null,null,null,null,null,null,null,null,null,"","","","","","",{"$f":"IFERROR(AVERAGE($K$12:K894),\"\")","v":""},"","","","","",null,null,"","","",""]
[884,null,null,null,null,null,null,null,null,null,"","","","","","",{"$f":"IFERROR(AVERAGE($K$12:K895),\"\")","v":""},"","","","","",null,null,"","","",""]
[885,null,null,null,null,null,null,null,null,null,"","","","","","",{"$f":"IFERROR(AVERAGE($K$12:K896),\"\")","v":""},"","","","","",null,null,"","","",""]
[886,null,null,null,null,null,null,null,null,null,"","","","","","",{"$f":"IFERROR(AVERAGE($K$12:K897),\"\")","v":""},"","","","","",null,null,"","","",""]
[887,null,null,null,null,null,null,null,null,null,"","","","","","",{"$f":"IFERROR(AVERAGE($K$12:K898),\"\")","v":""},"","","","","",null,null,"","","",""]
[888,null,null,null,null,null,null,null,null,null,"","","","","","",{"$f":"IFERROR(AVERAGE($K$12:K899),\"\")","v":""},"","","","","",null,null,"","","",""]
[889,null,null,null,null,null,null,null,null,null,"","","","","","",{"$f":"IFERROR(AVERAGE($K$12:K900),\"\")","v":""},"","","","","",null,null,"","","",""]
[890,null,null,null,null,null,null,null,null,null,"","","","","","",{"$f":"IFERROR(AVERAGE($K$12:K901),\"\")","v":""},"","","","","",null,null,"","","",""]
[891,null,null,null,null,null,null,null,null,null,"","","","","","",{"$f":"IFERROR(AVERAGE($K$12:K902),\"\")","v":""},"","","","","",null,null,"","","",""]
[892,null,null,null,null,null,null,null,null,null,"","","","","","",{"$f":"IFERROR(AVERAGE($K$12:K903),\"\")","v":""},"","","","","",null,null,"","","",""]
[893,null,null,null,null,null,null,null,null,null,"","","","","","",{"$f":"IFERROR(AVERAGE($K$12:K904),\"\")","v":""},"","","","","",null,null,"","","",""]
[894,null,null,null,null,null,null,null,null,null,"","","","","","",{"$f":"IFERROR(AVERAGE($K$12:K905),\"\")","v":""},"","","","","",null,null,"","","",""]
[895,null,null,null,null,null,null,null,null,null,"","","","","","",{"$f":"IFERROR(AVERAGE($K$12:K906),\"\")","v":""},"","","","","",null,null,"","",{"$f":"IF($P$1=1,T906,R906)","v":""},{"$f":"IF($P$1=1,O906,L906)","v":""}]
[896,null,null,null,null,null,null,null,null,null,"","","","","","",{"$f":"IFERROR(AVERAGE($K$12:K907),\"\")","v":""},{"$f":"IF(F907<>\"\",$E$5,\"\")","v":""},{"$f":"IF(F907<>\"\",$E$5*(-1),\"\")","v":""},{"$f":"IF(F907<>\"\",$E$6,\"\")","v":""},{"$f":"IFERROR(IF(OR((ABS(O907)<=$E$6),(N907<1)),TRUE,FALSE),\"\")","v":""},{"$f":"IFERROR(IF(ABS(L907)<=$E$5,TRUE,FALSE),\"\")","v":""},null,null,"",{"$f":"IF($P$1=1,#N/A,S907)","v":""},"",""]
[897,null,null,null,null,null,null,null,null,null,{"$f":"IFERROR(AVERAGE(F908:J908),\"\")","v":""},{"$f":"IFERROR((K908-$E$4)*100/$E$4,\"\")","v":""},{"$f":"IFERROR(ROUND(STDEV(F908:J908),2),\"\")","v":""},{"$f":"IF(ISNUMBER(F908),(MAX(F908:J908)-MIN(F908:J908)),\"\")","v":""},{"$f":"IFERROR(N908*100/K908,\"\")","v":""},"",{"$f":"IFERROR(AVERAGE($K$12:K908),\"\")","v":""},"","","","","",null,null,"","","",""]
[898,null,null,null,null,null,null,null,null,null,"","","","","",{"$f":"IF(F909>0,IF(U909=FALSE,IF(V909=FALSE,\"<GA+WHP>\",\"<WHP>\"),IF(V909=FALSE,\"<GA>\",\"\")) & IF(W909=TRUE,\"<Trend>\",\"\") & IF(X909=TRUE,\"<Run>\",\"\")& IF(AND(ABS(U909+V909=2),W909+X909=0),\"OK\",\"\"),\"\")","v":""},{"$f":"IFERROR(AVERAGE($K$12:K909),\"\")","v":""},"","","","","",null,null,{"$f":"IFERROR(RIGHT(C909,10),\"\")","v":""},"","",""]
[899,null,null,null,null,null,null,null,null,null,"","","","","","",{"$f":"IFERROR(AVERAGE($K$12:K910),\"\")","v":""},"","","","","",null,null,"","","",""]
[900,null,null,null,null,null,null,null,null,null,"","","","","","",{"$f":"IFERROR(AVERAGE($K$12:K911),\"\")","v":""},"","","","","",null,null,"","","",""]
[901,null,null,null,null,null,null,null,null,null,"","","","","","",{"$f":"IFERROR(AVERAGE($K$12:K912),\"\")","v":""},"","","","","",null,null,"","","",""]
[902,null,null,null,null,null,null,null,null,null,"","","","","","",{"$f":"IFERROR(AVERAGE($K$12:K913),\"\")","v":""},"","","","","",{"$f":"OR(AND(K913>K912,K912>K911,K911>K910,K910>K909,K909>K908,K908>K907),AND(K913<K912,K912<K911,K911<K910,K910<K909,K909<K908,K908<K907))","v":null},{"$f":"OR(AND(K913>Q913,K912>Q913,K911>Q913,K910>Q913,K909>Q913,K908>Q913,K907>Q913),AND(K913<Q913,K912<Q913,K911<Q913,K910<Q913,K909<Q913,K908<Q913,K907<Q913))","v":null},"","","",""]
[903,null,null,null,null,null,null,null,null,null,"","","","","","",{"$f":"IFERROR(AVERAGE($K$12:K914),\"\")","v":""},"","","","","",null,null,"","","",""]
[904,null,null,null,null,null,null,null,null,null,"","","","","","",{"$f":"IFERROR(AVERAGE($K$12:K915),\"\")","v":""},"","","","","",null,null,"","","",""]
[905,null,null,null,null,null,null,null,null,null,"","","","","","",{"$f":"IFERROR(AVERAGE($K$12:K916),\"\")","v":""},"","","","","",null,null,"","","",""]
[906,null,null,null,null,null,null,null,null,null,"","","","","","",{"$f":"IFERROR(AVERAGE($K$12:K917),\"\")","v":""},"","","","","",null,null,"","","",""]
[907,null,null,null,null,null,null,null,null,null,"","","","","","",{"$f":"IFERROR(AVERAGE($K$12:K918),\"\")","v":""},"","","","","",null,null,"","","",""]
[908,null,null,null,null,null,null,null,null,null,"","","","","","",{"$f":"IFERROR(AVERAGE($K$12:K919),\"\")","v":""},"","","","","",null,null,"","","",""]
[909,null,null,null,null,null,null,null,null,null,"","","","","","",{"$f":"IFERROR(AVERAGE($K$12:K920),\"\")","v":""},"","","","","",null,null,"","","",""]
[910,null,null,null,null,null,null,null,null,null,"","","","","","",{"$f":"IFERROR(AVERAGE($K$12:K921),\"\")","v":""},"","","","","",null,null,"","","",""]
[911,null,null,null,null,null,null,null,null,null,"","","","","","",{"$f":"IFERROR(AVERAGE($K$12:K922),\"\")","v":""},"","","","","",null,null,"","","",""]
[912,null,null,null,null,null,null,null,null,null,"","","","","","",{"$f":"IFERROR(AVERAGE($K$12:K923),\"\")","v":""},"","","","","",null,null,"","","",""]
[913,null,null,null,null,null,null,null,null,null,"","","","","","",{"$f":"IFERROR(AVERAGE($K$12:K924),\"\")","v":""},"","","","","",null,null,"","","",""]
[914,null,null,null,null,null,null,null,null,null,"","","","","","",{"$f":"IFERROR(AVERAGE($K$12:K925),\"\")","v":""},"","","","","",null,null,"","","",""]
[915,null,null,null,null,null,null,null,null,null,"","","","","","",{"$f":"IFERROR(AVERAGE($K$12:K926),\"\")","v":""},"","","","","",null,null,"","","",""]
[916,null,null,null,null,null,null,null,null,null,"","","","","","",{"$f":"IFERROR(AVERAGE($K$12:K927),\"\")","v":""},"","","","","",null,null,"","","",""]
[917,null,null,null,null,null,null,null,null,null,"","","","","","",{"$f":"IFERROR(AVERAGE($K$12:K928),\"\")","v":""},"","","","","",null,null,"","","",""]
[918,null,null,null,null,null,null,null,null,null,"","","","","","",{"$f":"IFERROR(AVERAGE($K$12:K929),\"\")","v":""},"","","","","",null,null,"","","",""]
[919,null,null,null,null,null,null,null,null,null,"","","","","","",{"$f":"IFERROR(AVERAGE($K$12:K930),\"\")","v":""},"","","","","",null,null,"","","",""]
[920,null,null,null,null,null,null,null,null,null,"","","","","","",{"$f":"IFERROR(AVERAGE($K$12:K931),\"\")","v":""},"","","","","",null,null,"","","",""]
[921,null,null,null,null,null,null,null,null,null,"","","","","","",{"$f":"IFERROR(AVERAGE($K$12:K932),\"\")","v":""},"","","","","",null,null,"","","",""]
[922,null,null,null,null,null,null,null,null,null,"","","","","","",{"$f":"IFERROR(AVERAGE($K$12:K933),\"\")","v":""},"","","","","",null,null,"","","",""]
[923,null,null,null,null,null,null,null,null,null,"","","","","","",{"$f":"IFERROR(AVERAGE($K$12:K934),\"\")","v":""},"","","","","",null,null,"","","",""]
[924,null,null,null,null,null,null,null,null,null,"","","","","","",{"$f":"IFERROR(AVERAGE($K$12:K935),\"\")","v":""},"","","","","",null,null,"","","",""]
[925,null,null,null,null,null,null,null,null,null,"","","","","","",{"$f":"IFERROR(AVERAGE($K$12:K936),\"\")","v":""},"","","","","",null,null,"","","",""]
[926,null,null,null,null,null,null,null,null,null,"","","","","","",{"$f":"IFERROR(AVERAGE($K$12:K937),\"\")","v":""},"","","","","",null,null,"","","",""]
[927,null,null,null,null,null,null,null,null,null,"","","","","","",{"$f":"IFERROR(AVERAGE($K$12:K938),\"\")","v":""},"","","","","",null,null,"","","",""]
[928,null,null,null,null,null,null,null,null,null,"","","","","","",{"$f":"IFERROR(AVERAGE($K$12:K939),\"\")","v":""},"","","","","",null,null,"","","",""]
[929,null,null,null,null,null,null,null,null,null,"","","","","","",{"$f":"IFERROR(AVERAGE($K$12:K940),\"\")","v":""},"","","","","",null,null,"","","",""]
[930,null,null,null,null,null,null,null,null,null,"","","","","","",{"$f":"IFERROR(AVERAGE($K$12:K941),\"\")","v":""},"","","","","",null,null,"","","",""]
[931,null,null,null,null,null,null,null,null,null,"","","","","","",{"$f":"IFERROR(AVERAGE($K$12:K942),\"\")","v":""},"","","","","",null,null,"","","",""]
[932,null,null,null,null,null,null,null,null,null,"","","","","","",{"$f":"IFERROR(AVERAGE($K$12:K943),\"\")","v":""},"","","","","",null,null,"","","",""]
[933,null,null,null,null,null,null,null,null,null,"","","","","","",{"$f":"IFERROR(AVERAGE($K$12:K944),\"\")","v":""},"","","","","",null,null,"","","",""]
[934,null,null,null,null,null,null,null,null,null,"","","","","","",{"$f":"IFERROR(AVERAGE($K$12:K945),\"\")","v":""},"","","","","",null,null,"","","",""]
[935,null,null,null,null,null,null,null,null,null,"","","","","","",{"$f":"IFERROR(AVERAGE($K$12:K946),\"\")","v":""},"","","","","",null,null,"","","",""]
[936,null,null,null,null,null,null,null,null,null,"","","","","","",{"$f":"IFERROR(AVERAGE($K$12:K947),\"\")","v":""},"","","","","",null,null,"","","",""]
[937,null,null,null,null,null,null,null,null,null,"","","","","","",{"$f":"IFERROR(AVERAGE($K$12:K948),\"\")","v":""},"","","","","",null,null,"","","",""]
[938,null,null,null,null,null,null,null,null,null,"","","","","","",{"$f":"IFERROR(AVERAGE($K$12:K949),\"\")","v":""},"","","","","",null,null,"","","",""]
[939,null,null,null,null,null,null,null,null,null,"","","","","","",{"$f":"IFERROR(AVERAGE($K$12:K950),\"\")","v":""},"","","","","",null,null,"","","",""]
[940,null,null,null,null,null,null,null,null,null,"","","","","","",{"$f":"IFERROR(AVERAGE($K$12:K951),\"\")","v":""},"","","","","",null,null,"","","",""]
[941,null,null,null,null,null,null,null,null,null,"","","","","","",{"$f":"IFERROR(AVERAGE($K$12:K952),\"\")","v":""},"","","","","",null,null,"","","",""]
[942,null,null,null,null,null,null,null,null,null,"","","","","","",{"$f":"IFERROR(AVERAGE($K$12:K953),\"\")","v":""},"","","","","",null,null,"","","",""]
[943,null,null,null,null,null,null,null,null,null,"","","","","","",{"$f":"IFERROR(AVERAGE($K$12:K954),\"\")","v":""},"","","","","",null,null,"","","",""]
[944,null,null,null,null,null,null,null,null,null,"","","","","","",{"$f":"IFERROR(AVERAGE($K$12:K955),\"\")","v":""},"","","","","",null,null,"","","",""]
[945,null,null,null,null,null,null,null,null,null,"","","","","","",{"$f":"IFERROR(AVERAGE($K$12:K956),\"\")","v":""},"","","","","",null,null,"","","",""]
[946,null,null,null,null,null,null,null,null,null,"","","","","","",{"$f":"IFERROR(AVERAGE($K$12:K957),\"\")","v":""},"","","","","",null,null,"","","",""]
[947,null,null,null,null,null,null,null,null,null,"","","","","","",{"$f":"IFERROR(AVERAGE($K$12:K958),\"\")","v":""},"","","","","",null,null,"","","",""]
[948,null,null,null,null,null,null,null,null,null,"","","","","","",{"$f":"IFERROR(AVERAGE($K$12:K959),\"\")","v":""},"","","","","",null,null,"","","",""]
[949,null,null,null,null,null,null,null,null,null,"","","","","","",{"$f":"IFERROR(AVERAGE($K$12:K960),\"\")","v":""},"","","","","",null,null,"","","",""]
[950,null,null,null,null,null,null,null,null,null,"","","","","","",{"$f":"IFERROR(AVERAGE($K$12:K961),\"\")","v":""},"","","","","",null,null,"","","",""]
[951,null,null,null,null,null,null,null,null,null,"","","","","","",{"$f":"IFERROR(AVERAGE($K$12:K962),\"\")","v":""},"","","","","",null,null,"","","",""]
[952,null,null,null,null,null,null,null,null,null,"","","","","","",{"$f":"IFERROR(AVERAGE($K$12:K963),\"\")","v":""},"","","","","",null,null,"","","",""]
[953,null,null,null,null,null,null,null,null,null,"","","","","","",{"$f":"IFERROR(AVERAGE($K$12:K964),\"\")","v":""},"","","","","",null,null,"","","",""]
[954,null,null,null,null,null,null,null,null,null,"","","","","","",{"$f":"IFERROR(AVERAGE($K$12:K965),\"\")","v":""},"","","","","",null,null,"","","",""]
[955,null,null,null,null,null,null,null,null,null,"","","","","","",{"$f":"IFERROR(AVERAGE($K$12:K966),\"\")","v":""},"","","","","",null,null,"","","",""]
[956,null,null,null,null,null,null,null,null,null,"","","","","","",{"$f":"IFERROR(AVERAGE($K$12:K967),\"\")","v":""},"","","","","",null,null,"","","",""]
[957,null,null,null,null,null,null,null,null,null,"","","","","","",{"$f":"IFERROR(AVERAGE($K$12:K968),\"\")","v":""},"","","","","",null,null,"","","",""]
[958,null,null,null,null,null,null,null,null,null,"","","","","","",{"$f":"IFERROR(AVERAGE($K$12:K969),\"\")","v":""},"","","","","",null,null,"","","",""]
[959,null,null,null,null,null,null,null,null,null,"","","","","","",{"$f":"IFERROR(AVERAGE($K$12:K970),\"\")","v":""},"","","","","",null,null,"","",{"$f":"IF($P$1=1,T970,R970)","v":""},{"$f":"IF($P$1=1,O970,L970)","v":""}]
[960,null,null,null,null,null,null,null,null,null,"","","","","","",{"$f":"IFERROR(AVERAGE($K$12:K971),\"\")","v":""},{"$f":"IF(F971<>\"\",$E$5,\"\")","v":""},{"$f":"IF(F971<>\"\",$E$5*(-1),\"\")","v":""},{"$f":"IF(F971<>\"\",$E$6,\"\")","v":""},{"$f":"IFERROR(IF(OR((ABS(O971)<=$E$6),(N971<1)),TRUE,FALSE),\"\")","v":""},{"$f":"IFERROR(IF(ABS(L971)<=$E$5,TRUE,FALSE),\"\")","v":""},null,null,"",{"$f":"IF($P$1=1,#N/A,S971)","v":""},"",""]
[961,null,null,null,null,null,null,null,null,null,{"$f":"IFERROR(AVERAGE(F972:J972),\"\")","v":""},{"$f":"IFERROR((K972-$E$4)*100/$E$4,\"\")","v":""},{"$f":"IFERROR(ROUND(STDEV(F972:J972),2),\"\")","v":""},{"$f":"IF(ISNUMBER(F972),(MAX(F972:J972)-MIN(F972:J972)),\"\")","v":""},{"$f":"IFERROR(N972*100/K972,\"\")","v":""},"",{"$f":"IFERROR(AVERAGE($K$12:K972),\"\")","v":""},"","","","","",null,null,"","","",""]
[962,null,null,null,null,null,null,null,null,null,"","","","","",{"$f":"IF(F973>0,IF(U973=FALSE,IF(V973=FALSE,\"<GA+WHP>\",\"<WHP>\"),IF(V973=FALSE,\"<GA>\",\"\")) & IF(W973=TRUE,\"<Trend>\",\"\") & IF(X973=TRUE,\"<Run>\",\"\")& IF(AND(ABS(U973+V973=2),W973+X973=0),\"OK\",\"\"),\"\")","v":""},{"$f":"IFERROR(AVERAGE($K$12:K973),\"\")","v":""},"","","","","",null,null,{"$f":"IFERROR(RIGHT(C973,10),\"\")","v":""},"","",""]
[963,null,null,null,null,null,null,null,null,null,"","","","","","",{"$f":"IFERROR(AVERAGE($K$12:K974),\"\")","v":""},"","","","","",null,null,"","","",""]
[964,null,null,null,null,null,null,null,null,null,"","","","","","",{"$f":"IFERROR(AVERAGE($K$12:K975),\"\")","v":""},"","","","","",null,null,"","","",""]
[965,null,null,null,null,null,null,null,null,null,"","","","","","",{"$f":"IFERROR(AVERAGE($K$12:K976),\"\")","v":""},"","","","","",null,null,"","","",""]
[966,null,null,null,null,null,null,null,null,null,"","","","","","",{"$f":"IFERROR(AVERAGE($K$12:K977),\"\")","v":""},"","","","","",{"$f":"OR(AND(K977>K976,K976>K975,K975>K974,K974>K973,K973>K972,K972>K971),AND(K977<K976,K976<K975,K975<K974,K974<K973,K973<K972,K972<K971))","v":null},{"$f":"OR(AND(K977>Q977,K976>Q977,K975>Q977,K974>Q977,K973>Q977,K972>Q977,K971>Q977),AND(K977<Q977,K976<Q977,K975<Q977,K974<Q977,K973<Q977,K972<Q977,K971<Q977))","v":null},"","","",""]
[967,null,null,null,null,null,null,null,null,null,"","","","","","",{"$f":"IFERROR(AVERAGE($K$12:K978),\"\")","v":""},"","","","","",null,null,"","","",""]
[968,null,null,null,null,null,null,null,null,null,"","","","","","",{"$f":"IFERROR(AVERAGE($K$12:K979),\"\")","v":""},"","","","","",null,null,"","","",""]
[969,null,null,null,null,null,null,null,null,null,"","","","","","",{"$f":"IFERROR(AVERAGE($K$12:K980),\"\")","v":""},"","","","","",null,null,"","","",""]
[970,null,null,null,null,null,null,null,null,null,"","","","","","",{"$f":"IFERROR(AVERAGE($K$12:K981),\"\")","v":""},"","","","","",null,null,"","","",""]
[971,null,null,null,null,null,null,null,null,null,"","","","","","",{"$f":"IFERROR(AVERAGE($K$12:K982),\"\")","v":""},"","","","","",null,null,"","","",""]
[972,null,null,null,null,null,null,null,null,null,"","","","","","",{"$f":"IFERROR(AVERAGE($K$12:K983),\"\")","v":""},"","","","","",null,null,"","","",""]
[973,null,null,null,null,null,null,null,null,null,"","","","","","",{"$f":"IFERROR(AVERAGE($K$12:K984),\"\")","v":""},"","","","","",null,null,"","","",""]
[974,null,null,null,null,null,null,null,null,null,"","","","","","",{"$f":"IFERROR(AVERAGE($K$12:K985),\"\")","v":""},"","","","","",null,null,"","","",""]
[975,null,null,null,null,null,null,null,null,null,"","","","","","",{"$f":"IFERROR(AVERAGE($K$12:K986),\"\")","v":""},"","","","","",null,null,"","","",""]
[976,null,null,null,null,null,null,null,null,null,"","","","","","",{"$f":"IFERROR(AVERAGE($K$12:K987),\"\")","v":""},"","","","","",null,null,"","","",""]
[977,null,null,null,null,null,null,null,null,null,"","","","","","",{"$f":"IFERROR(AVERAGE($K$12:K988),\"\")","v":""},"","","","","",null,null,"","","",""]
[978,null,null,null,null,null,null,null,null,null,"","","","","","",{"$f":"IFERROR(AVERAGE($K$12:K989),\"\")","v":""},"","","","","",null,null,"","","",""]
[979,null,null,null,null,null,null,null,null,null,"","","","","","",{"$f":"IFERROR(AVERAGE($K$12:K990),\"\")","v":""},"","","","","",null,null,"","","",""]
[980,null,null,null,null,null,null,null,null,null,"","","","","","",{"$f":"IFERROR(AVERAGE($K$12:K991),\"\")","v":""},"","","","","",null,null,"","","",""]
[981,null,null,null,null,null,null,null,null,null,"","","","","","",{"$f":"IFERROR(AVERAGE($K$12:K992),\"\")","v":""},"","","","","",null,null,"","","",""]
[982,null,null,null,null,null,null,null,null,null,"","","","","","",{"$f":"IFERROR(AVERAGE($K$12:K993),\"\")","v":""},"","","","","",null,null,"","","",""]
[983,null,null,null,null,null,null,null,null,null,"","","","","","",{"$f":"IFERROR(AVERAGE($K$12:K994),\"\")","v":""},"","","","","",null,null,"","","",""]
[984,null,null,null,null,null,null,null,null,null,"","","","","","",{"$f":"IFERROR(AVERAGE($K$12:K995),\"\")","v":""},"","","","","",null,null,"","","",""]
[985,null,null,null,null,null,null,null,null,null,"","","","","","",{"$f":"IFERROR(AVERAGE($K$12:K996),\"\")","v":""},"","","","","",null,null,"","","",""]
[986,null,null,null,null,null,null,null,null,null,"","","","","","",{"$f":"IFERROR(AVERAGE($K$12:K997),\"\")","v":""},"","","","","",null,null,"","","",""]
[987,null,null,null,null,null,null,null,null,null,"","","","","","",{"$f":"IFERROR(AVERAGE($K$12:K998),\"\")","v":""},"","","","","",null,null,"","","",""]
[988,null,null,null,null,null,null,null,null,null,"","","","","","",{"$f":"IFERROR(AVERAGE($K$12:K999),\"\")","v":""},"","","","","",null,null,"","","",""]
[989,null,null,null,null,null,null,null,null,null,"","","","","","",{"$f":"IFERROR(AVERAGE($K$12:K1000),\"\")","v":""},"","","","","",null,null,"","","",""]
[990,null,null,null,null,null,null,null,null,null,"","","","","","",{"$f":"IFERROR(AVERAGE($K$12:K1001),\"\")","v":""},"","","","","",null,null,"","","",""]
[991,null,null,null,null,null,null,null,null,null,"","","","","","",{"$f":"IFERROR(AVERAGE($K$12:K1002),\"\")","v":""},"","","","","",null,null,"","","",""]
[992,null,null,null,null,null,null,null,null,null,"","","","","","",{"$f":"IFERROR(AVERAGE($K$12:K1003),\"\")","v":""},"","","","","",null,null,"","","",""]
[993,null,null,null,null,null,null,null,null,null,"","","","","","",{"$f":"IFERROR(AVERAGE($K$12:K1004),\"\")","v":""},"","","","","",null,null,"","","",""]
[994,null,null,null,null,null,null,null,null,null,"","","","","","",{"$f":"IFERROR(AVERAGE($K$12:K1005),\"\")","v":""},"","","","","",null,null,"","","",""]
[995,null,null,null,null,null,null,null,null,null,"","","","","","",{"$f":"IFERROR(AVERAGE($K$12:K1006),\"\")","v":""},"","","","","",null,null,"","","",""]
[996,null,null,null,null,null,null,null,null,null,"","","","","","",{"$f":"IFERROR(AVERAGE($K$12:K1007),\"\")","v":""},"","","","","",null,null,"","","",""]
[997,null,null,null,null,null,null,null,null,null,"","","","","","",{"$f":"IFERROR(AVERAGE($K$12:K1008),\"\")","v":""},"","","","","",null,null,"","","",""]
[998,null,null,null,null,null,null,null,null,null,"","","","","","",{"$f":"IFERROR(AVERAGE($K$12:K1009),\"\")","v":""},"","","","","",null,null,"","","",""]
[999,null,null,null,null,null,null,null,null,null,"","","","","","",{"$f":"IFERROR(AVERAGE($K$12:K1010),\"\")","v":""},"","","","","",null,null,"","","",""]
[1000,null,null,null,null,null,null,null,null,null,"","","","","","",{"$f":"IFERROR(AVERAGE($K$12:K1011),\"\")","v":""},"","","","","",null,null,"","","",""]
[1001,null,null,null,null,null,null,null,null,null,"","","","","","",{"$f":"IFERROR(AVERAGE($K$12:K1012),\"\")","v":""},"","","","","",null,null,"","","",""]
[1002,null,null,null,null,null,null,null,null,null,"","","","","","",{"$f":"IFERROR(AVERAGE($K$12:K1013),\"\")","v":""},"","","","","",null,null,"","","",""]
[1003,null,null,null,null,null,null,null,null,null,"","","","","","",{"$f":"IFERROR(AVERAGE($K$12:K1014),\"\")","v":""},"","","","","",null,null,"","","",""]
[1004,null,null,null,null,null,null,null,null,null,"","","","","","",{"$f":"IFERROR(AVERAGE($K$12:K1015),\"\")","v":""},"","","","","",null,null,"","","",""]
[1005,null,null,null,null,null,null,null,null,null,"","","","","","",{"$f":"IFERROR(AVERAGE($K$12:K1016),\"\")","v":""},"","","","","",null,null,"","","",""]
[1006,null,null,null,null,null,null,null,null,null,"","","","","","",{"$f":"IFERROR(AVERAGE($K$12:K1017),\"\")","v":""},"","","","","",null,null,"","","",""]
[1007,null,null,null,null,null,null,null,null,null,"","","","","","",{"$f":"IFERROR(AVERAGE($K$12:K1018),\"\")","v":""},"","","","","",null,null,"","","",""]
[1008,null,null,null,null,null,null,null,null,null,"","","","","","",{"$f":"IFERROR(AVERAGE($K$12:K1019),\"\")","v":""},"","","","","",null,null,"","","",""]
[1009,null,null,null,null,null,null,null,null,null,"","","","","","",{"$f":"IFERROR(AVERAGE($K$12:K1020),\"\")","v":""},"","","","","",null,null,"","","",""]
[1010,null,null,null,null,null,null,null,null,null,"","","","","","",{"$f":"IFERROR(AVERAGE($K$12:K1021),\"\")","v":""},"","","","","",null,null,"","","",""]
[1011,null,null,null,null,null,null,null,null,null,"","","","","","",{"$f":"IFERROR(AVERAGE($K$12:K1022),\"\")","v":""},"","","","","",null,null,"","","",""]
[1012,null,null,null,null,null,null,null,null,null,"","","","","","",{"$f":"IFERROR(AVERAGE($K$12:K1023),\"\")","v":""},"","","","","",null,null,"","","",""]
[1013,null,null,null,null,null,null,null,null,null,"","","","","","",{"$f":"IFERROR(AVERAGE($K$12:K1024),\"\")","v":""},"","","","","",null,null,"","","",""]
[1014,null,null,null,null,null,null,null,null,null,"","","","","","",{"$f":"IFERROR(AVERAGE($K$12:K1025),\"\")","v":""},"","","","","",null,null,"","","",""]
[1015,null,null,null,null,null,null,null,null,null,"","","","","","",{"$f":"IFERROR(AVERAGE($K$12:K1026),\"\")","v":""},"","","","","",null,null,"","","",""]
[1016,null,null,null,null,null,null,null,null,null,"","","","","","",{"$f":"IFERROR(AVERAGE($K$12:K1027),\"\")","v":""},"","","","","",null,null,"","","",""]
[1017,null,null,null,null,null,null,null,null,null,"","","","","","",{"$f":"IFERROR(AVERAGE($K$12:K1028),\"\")","v":""},"","","","","",null,null,"","","",""]
[1018,null,null,null,null,null,null,null,null,null,"","","","","","",{"$f":"IFERROR(AVERAGE($K$12:K1029),\"\")","v":""},"","","","","",null,null,"","","",""]
[1019,null,null,null,null,null,null,null,null,null,"","","","","","",{"$f":"IFERROR(AVERAGE($K$12:K1030),\"\")","v":""},"","","","","",null,null,"","","",""]
[1020,null,null,null,null,null,null,null,null,null,"","","","","","",{"$f":"IFERROR(AVERAGE($K$12:K1031),\"\")","v":""},"","","","","",null,null,"","","",""]
[1021,null,null,null,null,null,null,null,null,null,"","","","","","",{"$f":"IFERROR(AVERAGE($K$12:K1032),\"\")","v":""},"","","","","",null,null,"","","",""]
[1022,null,null,null,null,null,null,null,null,null,"","","","","","",{"$f":"IFERROR(AVERAGE($K$12:K1033),\"\")","v":""},"","","","","",null,null,"","","",""]
[1023,null,null,null,null,null,null,null,null,null,"","","","","","",{"$f":"IFERROR(AVERAGE($K$12:K1034),\"\")","v":""},"","","","","",null,null,"","",{"$f":"IF($P$1=1,T1034,R1034)","v":""},{"$f":"IF($P$1=1,O1034,L1034)","v":""}]
[1024,null,null,null,null,null,null,null,null,null,"","","","","","",{"$f":"IFERROR(AVERAGE($K$12:K1035),\"\")","v":""},{"$f":"IF(F1035<>\"\",$E$5,\"\")","v":""},{"$f":"IF(F1035<>\"\",$E$5*(-1),\"\")","v":""},{"$f":"IF(F1035<>\"\",$E$6,\"\")","v":""},{"$f":"IFERROR(IF(OR((ABS(O1035)<=$E$6),(N1035<1)),TRUE,FALSE),\"\")","v":""},{"$f":"IFERROR(IF(ABS(L1035)<=$E$5,TRUE,FALSE),\"\")","v":""},null,null,"",{"$f":"IF($P$1=1,#N/A,S1035)","v":""},"",""]
[1025,null,null,null,null,null,null,null,null,null,{"$f":"IFERROR(AVERAGE(F1036:J1036),\"\")","v":""},{"$f":"IFERROR((K1036-$E$4)*100/$E$4,\"\")","v":""},{"$f":"IFERROR(ROUND(STDEV(F1036:J1036),2),\"\")","v":""},{"$f":"IF(ISNUMBER(F1036),(MAX(F1036:J1036)-MIN(F1036:J1036)),\"\")","v":""},{"$f":"IFERROR(N1036*100/K1036,\"\")","v":""},"",{"$f":"IFERROR(AVERAGE($K$12:K1036),\"\")","v":""},"","","","","",null,null,"","","",""]
[1026,null,null,null,null,null,null,null,null,null,"","","","","",{"$f":"IF(F1037>0,IF(U1037=FALSE,IF(V1037=FALSE,\"<GA+WHP>\",\"<WHP>\"),IF(V1037=FALSE,\"<GA>\",\"\")) & IF(W1037=TRUE,\"<Trend>\",\"\") & IF(X1037=TRUE,\"<Run>\",\"\")& IF(AND(ABS(U1037+V1037=2),W1037+X1037=0),\"OK\",\"\"),\"\")","v":""},{"$f":"IFERROR(AVERAGE($K$12:K1037),\"\")","v":""},"","","","","",null,null,{"$f":"IFERROR(RIGHT(C1037,10),\"\")","v":""},"","",""]
[1027,null,null,null,null,null,null,null,null,null,"","","","","","",{"$f":"IFERROR(AVERAGE($K$12:K1038),\"\")","v":""},"","","","","",null,null,"","","",""]
[1028,null,null,null,null,null,null,null,null,null,"","","","","","",{"$f":"IFERROR(AVERAGE($K$12:K1039),\"\")","v":""},"","","","","",null,null,"","","",""]
[1029,null,null,null,null,null,null,null,null,null,"","","","","","",{"$f":"IFERROR(AVERAGE($K$12:K1040),\"\")","v":""},"","","","","",null,null,"","","",""]
[1030,null,null,null,null,null,null,null,null,null,"","","","","","",{"$f":"IFERROR(AVERAGE($K$12:K1041),\"\")","v":""},"","","","","",{"$f":"OR(AND(K1041>K1040,K1040>K1039,K1039>K1038,K1038>K1037,K1037>K1036,K1036>K1035),AND(K1041<K1040,K1040<K1039,K1039<K1038,K1038<K1037,K1037<K1036,K1036<K1035))","v":null},{"$f":"OR(AND(K1041>Q1041,K1040>Q1041,K1039>Q1041,K1038>Q1041,K1037>Q1041,K1036>Q1041,K1035>Q1041),AND(K1041<Q1041,K1040<Q1041,K1039<Q1041,K1038<Q1041,K1037<Q1041,K1036<Q1041,K1035<Q1041))","v":null},"","","",""]
[1031,null,null,null,null,null,null,null,null,null,"","","","","","",{"$f":"IFERROR(AVERAGE($K$12:K1042),\"\")","v":""},"","","","","",null,null,"","","",""]
[1032,null,null,null,null,null,null,null,null,null,"","","","","","",{"$f":"IFERROR(AVERAGE($K$12:K1043),\"\")","v":""},"","","","","",null,null,"","","",""]
[1033,null,null,null,null,null,null,null,null,null,"","","","","","",{"$f":"IFERROR(AVERAGE($K$12:K1044),\"\")","v":""},"","","","","",null,null,"","","",""]
[1034,null,null,null,null,null,null,null,null,null,"","","","","","",{"$f":"IFERROR(AVERAGE($K$12:K1045),\"\")","v":""},"","","","","",null,null,"","","",""]
[1035,null,null,null,null,null,null,null,null,null,"","","","","","",{"$f":"IFERROR(AVERAGE($K$12:K1046),\"\")","v":""},"","","","","",null,null,"","","",""]
[1036,null,null,null,null,null,null,null,null,null,"","","","","","",{"$f":"IFERROR(AVERAGE($K$12:K1047),\"\")","v":""},"","","","","",null,null,"","","",""]
[1037,null,null,null,null,null,null,null,null,null,"","","","","","",{"$f":"IFERROR(AVERAGE($K$12:K1048),\"\")","v":""},"","","","","",null,null,"","","",""]
[1038,null,null,null,null,null,null,null,null,null,"","","","","","",{"$f":"IFERROR(AVERAGE($K$12:K1049),\"\")","v":""},"","","","","",null,null,"","","",""]
[1039,null,null,null,null,null,null,null,null,null,"","","","","","",{"$f":"IFERROR(AVERAGE($K$12:K1050),\"\")","v":""},"","","","","",null,null,"","","",""]
[1040,null,null,null,null,null,null,null,null,null,"","","","","","",{"$f":"IFERROR(AVERAGE($K$12:K1051),\"\")","v":""},"","","","","",null,null,"","","",""]
[1041,null,null,null,null,null,null,null,null,null,"","","","","","",{"$f":"IFERROR(AVERAGE($K$12:K1052),\"\")","v":""},"","","","","",null,null,"","","",""]
[1042,null,null,null,null,null,null,null,null,null,"","","","","","",{"$f":"IFERROR(AVERAGE($K$12:K1053),\"\")","v":""},"","","","","",null,null,"","","",""]
[1043,null,null,null,null,null,null,null,null,null,"","","","","","",{"$f":"IFERROR(AVERAGE($K$12:K1054),\"\")","v":""},"","","","","",null,null,"","","",""]
[1044,null,null,null,null,null,null,null,null,null,"","","","","","",{"$f":"IFERROR(AVERAGE($K$12:K1055),\"\")","v":""},"","","","","",null,null,"","","",""]
[1045,null,null,null,null,null,null,null,null,null,"","","","","","",{"$f":"IFERROR(AVERAGE($K$12:K1056),\"\")","v":""},"","","","","",null,null,"","","",""]
[1046,null,null,null,null,null,null,null,null,null,"","","","","","",{"$f":"IFERROR(AVERAGE($K$12:K1057),\"\")","v":""},"","","","","",null,null,"","","",""]
[1047,null,null,null,null,null,null,null,null,null,"","","","","","",{"$f":"IFERROR(AVERAGE($K$12:K1058),\"\")","v":""},"","","","","",null,null,"","","",""]
[1048,null,null,null,null,null,null,null,null,null,"","","","","","",{"$f":"IFERROR(AVERAGE($K$12:K1059),\"\")","v":""},"","","","","",null,null,"","","",""]
[1049,null,null,null,null,null,null,null,null,null,"","","","","","",{"$f":"IFERROR(AVERAGE($K$12:K1060),\"\")","v":""},"","","","","",null,null,"","","",""]
[1050,null,null,null,null,null,null,null,null,null,"","","","","","",{"$f":"IFERROR(AVERAGE($K$12:K1061),\"\")","v":""},"","","","","",null,null,"","","",""]
[1051,null,null,null,null,null,null,null,null,null,"","","","","","",{"$f":"IFERROR(AVERAGE($K$12:K1062),\"\")","v":""},"","","","","",null,null,"","","",""]
[1052,null,null,null,null,null,null,null,null,null,"","","","","","",{"$f":"IFERROR(AVERAGE($K$12:K1063),\"\")","v":""},"","","","","",null,null,"","","",""]
[1053,null,null,null,null,null,null,null,null,null,"","","","","","",{"$f":"IFERROR(AVERAGE($K$12:K1064),\"\")","v":""},"","","","","",null,null,"","","",""]
[1054,null,null,null,null,null,null,null,null,null,"","","","","","",{"$f":"IFERROR(AVERAGE($K$12:K1065),\"\")","v":""},"","","","","",null,null,"","","",""]
[1055,null,null,null,null,null,null,null,null,null,"","","","","","",{"$f":"IFERROR(AVERAGE($K$12:K1066),\"\")","v":""},"","","","","",null,null,"","","",""]
[1056,null,null,null,null,null,null,null,null,null,"","","","","","",{"$f":"IFERROR(AVERAGE($K$12:K1067),\"\")","v":""},"","","","","",null,null,"","","",""]
[1057,null,null,null,null,null,null,null,null,null,"","","","","","",{"$f":"IFERROR(AVERAGE($K$12:K1068),\"\")","v":""},"","","","","",null,null,"","","",""]
[1058,null,null,null,null,null,null,null,null,null,"","","","","","",{"$f":"IFERROR(AVERAGE($K$12:K1069),\"\")","v":""},"","","","","",null,null,"","","",""]
[1059,null,null,null,null,null,null,null,null,null,"","","","","","",{"$f":"IFERROR(AVERAGE($K$12:K1070),\"\")","v":""},"","","","","",null,null,"","","",""]
[1060,null,null,null,null,null,null,null,null,null,"","","","","","",{"$f":"IFERROR(AVERAGE($K$12:K1071),\"\")","v":""},"","","","","",null,null,"","","",""]
[1061,null,null,null,null,null,null,null,null,null,"","","","","","",{"$f":"IFERROR(AVERAGE($K$12:K1072),\"\")","v":""},"","","","","",null,null,"","","",""]
[1062,null,null,null,null,null,null,null,null,null,"","","","","","",{"$f":"IFERROR(AVERAGE($K$12:K1073),\"\")","v":""},"","","","","",null,null,"","","",""]
[1063,null,null,null,null,null,null,null,null,null,"","","","","","",{"$f":"IFERROR(AVERAGE($K$12:K1074),\"\")","v":""},"","","","","",null,null,"","","",""]
[1064,null,null,null,null,null,null,null,null,null,"","","","","","",{"$f":"IFERROR(AVERAGE($K$12:K1075),\"\")","v":""},"","","","","",null,null,"","","",""]
[1065,null,null,null,null,null,null,null,null,null,"","","","","","",{"$f":"IFERROR(AVERAGE($K$12:K1076),\"\")","v":""},"","","","","",null,null,"","","",""]
[1066,null,null,null,null,null,null,null,null,null,"","","","","","",{"$f":"IFERROR(AVERAGE($K$12:K1077),\"\")","v":""},"","","","","",null,null,"","","",""]
[1067,null,null,null,null,null,null,null,null,null,"","","","","","",{"$f":"IFERROR(AVERAGE($K$12:K1078),\"\")","v":""},"","","","","",null,null,"","","",""]
[1068,null,null,null,null,null,null,null,null,null,"","","","","","",{"$f":"IFERROR(AVERAGE($K$12:K1079),\"\")","v":""},"","","","","",null,null,"","","",""]
[1069,null,null,null,null,null,null,null,null,null,"","","","","","",{"$f":"IFERROR(AVERAGE($K$12:K1080),\"\")","v":""},"","","","","",null,null,"","","",""]
[1070,null,null,null,null,null,null,null,null,null,"","","","","","",{"$f":"IFERROR(AVERAGE($K$12:K1081),\"\")","v":""},"","","","","",null,null,"","","",""]
[1071,null,null,null,null,null,null,null,null,null,"","","","","","",{"$f":"IFERROR(AVERAGE($K$12:K1082),\"\")","v":""},"","","","","",null,null,"","","",""]
[1072,null,null,null,null,null,null,null,null,null,"","","","","","",{"$f":"IFERROR(AVERAGE($K$12:K1083),\"\")","v":""},"","","","","",null,null,"","","",""]
[1073,null,null,null,null,null,null,null,null,null,"","","","","","",{"$f":"IFERROR(AVERAGE($K$12:K1084),\"\")","v":""},"","","","","",null,null,"","","",""]
[1074,null,null,null,null,null,null,null,null,null,"","","","","","",{"$f":"IFERROR(AVERAGE($K$12:K1085),\"\")","v":""},"","","","","",null,null,"","","",""]
[1075,null,null,null,null,null,null,null,null,null,"","","","","","",{"$f":"IFERROR(AVERAGE($K$12:K1086),\"\")","v":""},"","","","","",null,null,"","","",""]
[1076,null,null,null,null,null,null,null,null,null,"","","","","","",{"$f":"IFERROR(AVERAGE($K$12:K1087),\"\")","v":""},"","","","","",null,null,"","","",""]
[1077,null,null,null,null,null,null,null,null,null,"","","","","","",{"$f":"IFERROR(AVERAGE($K$12:K1088),\"\")","v":""},"","","","","",null,null,"","","",""]
[1078,null,null,null,null,null,null,null,null,null,"","","","","","",{"$f":"IFERROR(AVERAGE($K$12:K1089),\"\")","v":""},"","","","","",null,null,"","","",""]
[1079,null,null,null,null,null,null,null,null,null,"","","","","","",{"$f":"IFERROR(AVERAGE($K$12:K1090),\"\")","v":""},"","","","","",null,null,"","","",""]
[1080,null,null,null,null,null,null,null,null,null,"","","","","","",{"$f":"IFERROR(AVERAGE($K$12:K1091),\"\")","v":""},"","","","","",null,null,"","","",""]
[1081,null,null,null,null,null,null,null,null,null,"","","","","","",{"$f":"IFERROR(AVERAGE($K$12:K1092),\"\")","v":""},"","","","","",null,null,"","","",""]
[1082,null,null,null,null,null,null,null,null,null,"","","","","","",{"$f":"IFERROR(AVERAGE($K$12:K1093),\"\")","v":""},"","","","","",null,null,"","","",""]
[1083,null,null,null,null,null,null,null,null,null,"","","","","","",{"$f":"IFERROR(AVERAGE($K$12:K1094),\"\")","v":""},"","","","","",null,null,"","","",""]
[1084,null,null,null,null,null,null,null,null,null,"","","","","","",{"$f":"IFERROR(AVERAGE($K$12:K1095),\"\")","v":""},"","","","","",null,null,"","","",""]
[1085,null,null,null,null,null,null,null,null,null,"","","","","","",{"$f":"IFERROR(AVERAGE($K$12:K1096),\"\")","v":""},"","","","","",null,null,"","","",""]
[1086,null,null,null,null,null,null,null,null,null,"","","","","","",{"$f":"IFERROR(AVERAGE($K$12:K1097),\"\")","v":""},"","","","","",null,null,"","","",""]
[1087,null,null,null,null,null,null,null,null,null,"","","","","","",{"$f":"IFERROR(AVERAGE($K$12:K1098),\"\")","v":""},"","","","","",null,null,"","",{"$f":"IF($P$1=1,T1098,R1098)","v":""},{"$f":"IF($P$1=1,O1098,L1098)","v":""}]
[1088,null,null,null,null,null,null,null,null,null,"","","","","","",{"$f":"IFERROR(AVERAGE($K$12:K1099),\"\")","v":""},{"$f":"IF(F1099<>\"\",$E$5,\"\")","v":""},{"$f":"IF(F1099<>\"\",$E$5*(-1),\"\")","v":""},{"$f":"IF(F1099<>\"\",$E$6,\"\")","v":""},{"$f":"IFERROR(IF(OR((ABS(O1099)<=$E$6),(N1099<1)),TRUE,FALSE),\"\")","v":""},{"$f":"IFERROR(IF(ABS(L1099)<=$E$5,TRUE,FALSE),\"\")","v":""},null,null,"",{"$f":"IF($P$1=1,#N/A,S1099)","v":""},"",""]
[1089,null,null,null,null,null,null,null,null,null,{"$f":"IFERROR(AVERAGE(F1100:J1100),\"\")","v":""},{"$f":"IFERROR((K1100-$E$4)*100/$E$4,\"\")","v":""},{"$f":"IFERROR(ROUND(STDEV(F1100:J1100),2),\"\")","v":""},{"$f":"IF(ISNUMBER(F1100),(MAX(F1100:J1100)-MIN(F1100:J1100)),\"\")","v":""},{"$f":"IFERROR(N1100*100/K1100,\"\")","v":""},"",{"$f":"IFERROR(AVERAGE($K$12:K1100),\"\")","v":""},"","","","","",null,null,"","","",""]
[1090,null,null,null,null,null,null,null,null,null,"","","","","",{"$f":"IF(F1101>0,IF(U1101=FALSE,IF(V1101=FALSE,\"<GA+WHP>\",\"<WHP>\"),IF(V1101=FALSE,\"<GA>\",\"\")) & IF(W1101=TRUE,\"<Trend>\",\"\") & IF(X1101=TRUE,\"<Run>\",\"\")& IF(AND(ABS(U1101+V1101=2),W1101+X1101=0),\"OK\",\"\"),\"\")","v":""},{"$f":"IFERROR(AVERAGE($K$12:K1101),\"\")","v":""},"","","","","",null,null,{"$f":"IFERROR(RIGHT(C1101,10),\"\")","v":""},"","",""]
[1091,null,null,null,null,null,null,null,null,null,"","","","","","",{"$f":"IFERROR(AVERAGE($K$12:K1102),\"\")","v":""},"","","","","",null,null,"","","",""]
[1092,null,null,null,null,null,null,null,null,null,"","","","","","",{"$f":"IFERROR(AVERAGE($K$12:K1103),\"\")","v":""},"","","","","",null,null,"","","",""]
[1093,null,null,null,null,null,null,null,null,null,"","","","","","",{"$f":"IFERROR(AVERAGE($K$12:K1104),\"\")","v":""},"","","","","",null,null,"","","",""]
[1094,null,null,null,null,null,null,null,null,null,"","","","","","",{"$f":"IFERROR(AVERAGE($K$12:K1105),\"\")","v":""},"","","","","",{"$f":"OR(AND(K1105>K1104,K1104>K1103,K1103>K1102,K1102>K1101,K1101>K1100,K1100>K1099),AND(K1105<K1104,K1104<K1103,K1103<K1102,K1102<K1101,K1101<K1100,K1100<K1099))","v":null},{"$f":"OR(AND(K1105>Q1105,K1104>Q1105,K1103>Q1105,K1102>Q1105,K1101>Q1105,K1100>Q1105,K1099>Q1105),AND(K1105<Q1105,K1104<Q1105,K1103<Q1105,K1102<Q1105,K1101<Q1105,K1100<Q1105,K1099<Q1105))","v":null},"","","",""]
[1095,null,null,null,null,null,null,null,null,null,"","","","","","",{"$f":"IFERROR(AVERAGE($K$12:K1106),\"\")","v":""},"","","","","",null,null,"","","",""]
[1096,null,null,null,null,null,null,null,null,null,"","","","","","",{"$f":"IFERROR(AVERAGE($K$12:K1107),\"\")","v":""},"","","","","",null,null,"","","",""]
[1097,null,null,null,null,null,null,null,null,null,"","","","","","",{"$f":"IFERROR(AVERAGE($K$12:K1108),\"\")","v":""},"","","","","",null,null,"","","",""]
[1098,null,null,null,null,null,null,null,null,null,"","","","","","",{"$f":"IFERROR(AVERAGE($K$12:K1109),\"\")","v":""},"","","","","",null,null,"","","",""]
[1099,null,null,null,null,null,null,null,null,null,"","","","","","",{"$f":"IFERROR(AVERAGE($K$12:K1110),\"\")","v":""},"","","","","",null,null,"","","",""]
[1100,null,null,null,null,null,null,null,null,null,"","","","","","",{"$f":"IFERROR(AVERAGE($K$12:K1111),\"\")","v":""},"","","","","",null,null,"","","",""]
[1101,null,null,null,null,null,null,null,null,null,"","","","","","",{"$f":"IFERROR(AVERAGE($K$12:K1112),\"\")","v":""},"","","","","",null,null,"","","",""]
[1102,null,null,null,null,null,null,null,null,null,"","","","","","",{"$f":"IFERROR(AVERAGE($K$12:K1113),\"\")","v":""},"","","","","",null,null,"","","",""]
[1103,null,null,null,null,null,null,null,null,null,"","","","","","",{"$f":"IFERROR(AVERAGE($K$12:K1114),\"\")","v":""},"","","","","",null,null,"","","",""]
[1104,null,null,null,null,null,null,null,null,null,"","","","","","",{"$f":"IFERROR(AVERAGE($K$12:K1115),\"\")","v":""},"","","","","",null,null,"","","",""]
[1105,null,null,null,null,null,null,null,null,null,"","","","","","",{"$f":"IFERROR(AVERAGE($K$12:K1116),\"\")","v":""},"","","","","",null,null,"","","",""]
[1106,null,null,null,null,null,null,null,null,null,"","","","","","",{"$f":"IFERROR(AVERAGE($K$12:K1117),\"\")","v":""},"","","","","",null,null,"","","",""]
[1107,null,null,null,null,null,null,null,null,null,"","","","","","",{"$f":"IFERROR(AVERAGE($K$12:K1118),\"\")","v":""},"","","","","",null,null,"","","",""]
[1108,null,null,null,null,null,null,null,null,null,"","","","","","",{"$f":"IFERROR(AVERAGE($K$12:K1119),\"\")","v":""},"","","","","",null,null,"","","",""]
[1109,null,null,null,null,null,null,null,null,null,"","","","","","",{"$f":"IFERROR(AVERAGE($K$12:K1120),\"\")","v":""},"","","","","",null,null,"","","",""]
[1110,null,null,null,null,null,null,null,null,null,"","","","","","",{"$f":"IFERROR(AVERAGE($K$12:K1121),\"\")","v":""},"","","","","",null,null,"","","",""]
[1111,null,null,null,null,null,null,null,null,null,"","","","","","",{"$f":"IFERROR(AVERAGE($K$12:K1122),\"\")","v":""},"","","","","",null,null,"","","",""]
[1112,null,null,null,null,null,null,null,null,null,"","","","","","",{"$f":"IFERROR(AVERAGE($K$12:K1123),\"\")","v":""},"","","","","",null,null,"","","",""]
[1113,null,null,null,null,null,null,null,null,null,"","","","","","",{"$f":"IFERROR(AVERAGE($K$12:K1124),\"\")","v":""},"","","","","",null,null,"","","",""]
[1114,null,null,null,null,null,null,null,null,null,"","","","","","",{"$f":"IFERROR(AVERAGE($K$12:K1125),\"\")","v":""},"","","","","",null,null,"","","",""]
[1115,null,null,null,null,null,null,null,null,null,"","","","","","",{"$f":"IFERROR(AVERAGE($K$12:K1126),\"\")","v":""},"","","","","",null,null,"","","",""]
[1116,null,null,null,null,null,null,null,null,null,"","","","","","",{"$f":"IFERROR(AVERAGE($K$12:K1127),\"\")","v":""},"","","","","",null,null,"","","",""]
[1117,null,null,null,null,null,null,null,null,null,"","","","","","",{"$f":"IFERROR(AVERAGE($K$12:K1128),\"\")","v":""},"","","","","",null,null,"","","",""]
[1118,null,null,null,null,null,null,null,null,null,"","","","","","",{"$f":"IFERROR(AVERAGE($K$12:K1129),\"\")","v":""},"","","","","",null,null,"","","",""]
[1119,null,null,null,null,null,null,null,null,null,"","","","","","",{"$f":"IFERROR(AVERAGE($K$12:K1130),\"\")","v":""},"","","","","",null,null,"","","",""]
[1120,null,null,null,null,null,null,null,null,null,"","","","","","",{"$f":"IFERROR(AVERAGE($K$12:K1131),\"\")","v":""},"","","","","",null,null,"","","",""]
[1121,null,null,null,null,null,null,null,null,null,"","","","","","",{"$f":"IFERROR(AVERAGE($K$12:K1132),\"\")","v":""},"","","","","",null,null,"","","",""]
[1122,null,null,null,null,null,null,null,null,null,"","","","","","",{"$f":"IFERROR(AVERAGE($K$12:K1133),\"\")","v":""},"","","","","",null,null,"","","",""]
[1123,null,null,null,null,null,null,null,null,null,"","","","","","",{"$f":"IFERROR(AVERAGE($K$12:K1134),\"\")","v":""},"","","","","",null,null,"","","",""]
[1124,null,null,null,null,null,null,null,null,null,"","","","","","",{"$f":"IFERROR(AVERAGE($K$12:K1135),\"\")","v":""},"","","","","",null,null,"","","",""]
[1125,null,null,null,null,null,null,null,null,null,"","","","","","",{"$f":"IFERROR(AVERAGE($K$12:K1136),\"\")","v":""},"","","","","",null,null,"","","",""]
[1126,null,null,null,null,null,null,null,null,null,"","","","","","",{"$f":"IFERROR(AVERAGE($K$12:K1137),\"\")","v":""},"","","","","",null,null,"","","",""]
[1127,null,null,null,null,null,null,null,null,null,"","","","","","",{"$f":"IFERROR(AVERAGE($K$12:K1138),\"\")","v":""},"","","","","",null,null,"","","",""]
[1128,null,null,null,null,null,null,null,null,null,"","","","","","",{"$f":"IFERROR(AVERAGE($K$12:K1139),\"\")","v":""},"","","","","",null,null,"","","",""]
[1129,null,null,null,null,null,null,null,null,null,"","","","","","",{"$f":"IFERROR(AVERAGE($K$12:K1140),\"\")","v":""},"","","","","",null,null,"","","",""]
[1130,null,null,null,null,null,null,null,null,null,"","","","","","",{"$f":"IFERROR(AVERAGE($K$12:K1141),\"\")","v":""},"","","","","",null,null,"","","",""]
[1131,null,null,null,null,null,null,null,null,null,"","","","","","",{"$f":"IFERROR(AVERAGE($K$12:K1142),\"\")","v":""},"","","","","",null,null,"","","",""]
[1132,null,null,null,null,null,null,null,null,null,"","","","","","",{"$f":"IFERROR(AVERAGE($K$12:K1143),\"\")","v":""},"","","","","",null,null,"","","",""]
[1133,null,null,null,null,null,null,null,null,null,"","","","","","",{"$f":"IFERROR(AVERAGE($K$12:K1144),\"\")","v":""},"","","","","",null,null,"","","",""]
[1134,null,null,null,null,null,null,null,null,null,"","","","","","",{"$f":"IFERROR(AVERAGE($K$12:K1145),\"\")","v":""},"","","","","",null,null,"","","",""]
[1135,null,null,null,null,null,null,null,null,null,"","","","","","",{"$f":"IFERROR(AVERAGE($K$12:K1146),\"\")","v":""},"","","","","",null,null,"","","",""]
[1136,null,null,null,null,null,null,null,null,null,"","","","","","",{"$f":"IFERROR(AVERAGE($K$12:K1147),\"\")","v":""},"","","","","",null,null,"","","",""]
[1137,null,null,null,null,null,null,null,null,null,"","","","","","",{"$f":"IFERROR(AVERAGE($K$12:K1148),\"\")","v":""},"","","","","",null,null,"","","",""]
[1138,null,null,null,null,null,null,null,null,null,"","","","","","",{"$f":"IFERROR(AVERAGE($K$12:K1149),\"\")","v":""},"","","","","",null,null,"","","",""]
[1139,null,null,null,null,null,null,null,null,null,"","","","","","",{"$f":"IFERROR(AVERAGE($K$12:K1150),\"\")","v":""},"","","","","",null,null,"","","",""]
[1140,null,null,null,null,null,null,null,null,null,"","","","","","",{"$f":"IFERROR(AVERAGE($K$12:K1151),\"\")","v":""},"","","","","",null,null,"","","",""]
[1141,null,null,null,null,null,null,null,null,null,"","","","","","",{"$f":"IFERROR(AVERAGE($K$12:K1152),\"\")","v":""},"","","","","",null,null,"","","",""]
[1142,null,null,null,null,null,null,null,null,null,"","","","","","",{"$f":"IFERROR(AVERAGE($K$12:K1153),\"\")","v":""},"","","","","",null,null,"","","",""]
[1143,null,null,null,null,null,null,null,null,null,"","","","","","",{"$f":"IFERROR(AVERAGE($K$12:K1154),\"\")","v":""},"","","","","",null,null,"","","",""]
[1144,null,null,null,null,null,null,null,null,null,"","","","","","",{"$f":"IFERROR(AVERAGE($K$12:K1155),\"\")","v":""},"","","","","",null,null,"","","",""]
[1145,null,null,null,null,null,null,null,null,null,"","","","","","",{"$f":"IFERROR(AVERAGE($K$12:K1156),\"\")","v":""},"","","","","",null,null,"","","",""]
[1146,null,null,null,null,null,null,null,null,null,"","","","","","",{"$f":"IFERROR(AVERAGE($K$12:K1157),\"\")","v":""},"","","","","",null,null,"","","",""]
[1147,null,null,null,null,null,null,null,null,null,"","","","","","",{"$f":"IFERROR(AVERAGE($K$12:K1158),\"\")","v":""},"","","","","",null,null,"","","",""]
[1148,null,null,null,null,null,null,null,null,null,"","","","","","",{"$f":"IFERROR(AVERAGE($K$12:K1159),\"\")","v":""},"","","","","",null,null,"","","",""]
[1149,null,null,null,null,null,null,null,null,null,"","","","","","",{"$f":"IFERROR(AVERAGE($K$12:K1160),\"\")","v":""},"","","","","",null,null,"","","",""]
[1150,null,null,null,null,null,null,null,null,null,"","","","","","",{"$f":"IFERROR(AVERAGE($K$12:K1161),\"\")","v":""},"","","","","",null,null,"","","",""]
[1151,null,null,null,null,null,null,null,null,null,"","","","","","",{"$f":"IFERROR(AVERAGE($K$12:K1162),\"\")","v":""},"","","","","",null,null,"","",{"$f":"IF($P$1=1,T1162,R1162)","v":""},{"$f":"IF($P$1=1,O1162,L1162)","v":""}]
[1152,null,null,null,null,null,null,null,null,null,"","","","","","",{"$f":"IFERROR(AVERAGE($K$12:K1163),\"\")","v":""},{"$f":"IF(F1163<>\"\",$E$5,\"\")","v":""},{"$f":"IF(F1163<>\"\",$E$5*(-1),\"\")","v":""},{"$f":"IF(F1163<>\"\",$E$6,\"\")","v":""},{"$f":"IFERROR(IF(OR((ABS(O1163)<=$E$6),(N1163<1)),TRUE,FALSE),\"\")","v":""},{"$f":"IFERROR(IF(ABS(L1163)<=$E$5,TRUE,FALSE),\"\")","v":""},null,null,"",{"$f":"IF($P$1=1,#N/A,S1163)","v":""},"",""]
[1153,null,null,null,null,null,null,null,null,null,{"$f":"IFERROR(AVERAGE(F1164:J1164),\"\")","v":""},{"$f":"IFERROR((K1164-$E$4)*100/$E$4,\"\")","v":""},{"$f":"IFERROR(ROUND(STDEV(F1164:J1164),2),\"\")","v":""},{"$f":"IF(ISNUMBER(F1164),(MAX(F1164:J1164)-MIN(F1164:J1164)),\"\")","v":""},{"$f":"IFERROR(N1164*100/K1164,\"\")","v":""},"",{"$f":"IFERROR(AVERAGE($K$12:K1164),\"\")","v":""},"","","","","",null,null,"","","",""]
[1154,null,null,null,null,null,null,null,null,null,"","","","","",{"$f":"IF(F1165>0,IF(U1165=FALSE,IF(V1165=FALSE,\"<GA+WHP>\",\"<WHP>\"),IF(V1165=FALSE,\"<GA>\",\"\")) & IF(W1165=TRUE,\"<Trend>\",\"\") & IF(X1165=TRUE,\"<Run>\",\"\")& IF(AND(ABS(U1165+V1165=2),W1165+X1165=0),\"OK\",\"\"),\"\")","v":""},{"$f":"IFERROR(AVERAGE($K$12:K1165),\"\")","v":""},"","","","","",null,null,{"$f":"IFERROR(RIGHT(C1165,10),\"\")","v":""},"","",""]
[1155,null,null,null,null,null,null,null,null,null,"","","","","","",{"$f":"IFERROR(AVERAGE($K$12:K1166),\"\")","v":""},"","","","","",null,null,"","","",""]
[1156,null,null,null,null,null,null,null,null,null,"","","","","","",{"$f":"IFERROR(AVERAGE($K$12:K1167),\"\")","v":""},"","","","","",null,null,"","","",""]
[1157,null,null,null,null,null,null,null,null,null,"","","","","","",{"$f":"IFERROR(AVERAGE($K$12:K1168),\"\")","v":""},"","","","","",null,null,"","","",""]
[1158,null,null,null,null,null,null,null,null,null,"","","","","","",{"$f":"IFERROR(AVERAGE($K$12:K1169),\"\")","v":""},"","","","","",{"$f":"OR(AND(K1169>K1168,K1168>K1167,K1167>K1166,K1166>K1165,K1165>K1164,K1164>K1163),AND(K1169<K1168,K1168<K1167,K1167<K1166,K1166<K1165,K1165<K1164,K1164<K1163))","v":null},{"$f":"OR(AND(K1169>Q1169,K1168>Q1169,K1167>Q1169,K1166>Q1169,K1165>Q1169,K1164>Q1169,K1163>Q1169),AND(K1169<Q1169,K1168<Q1169,K1167<Q1169,K1166<Q1169,K1165<Q1169,K1164<Q1169,K1163<Q1169))","v":null},"","","",""]
[1159,null,null,null,null,null,null,null,null,null,"","","","","","",{"$f":"IFERROR(AVERAGE($K$12:K1170),\"\")","v":""},"","","","","",null,null,"","","",""]
[1160,null,null,null,null,null,null,null,null,null,"","","","","","",{"$f":"IFERROR(AVERAGE($K$12:K1171),\"\")","v":""},"","","","","",null,null,"","","",""]
[1161,null,null,null,null,null,null,null,null,null,"","","","","","",{"$f":"IFERROR(AVERAGE($K$12:K1172),\"\")","v":""},"","","","","",null,null,"","","",""]
[1162,null,null,null,null,null,null,null,null,null,"","","","","","",{"$f":"IFERROR(AVERAGE($K$12:K1173),\"\")","v":""},"","","","","",null,null,"","","",""]
[1163,null,null,null,null,null,null,null,null,null,"","","","","","",{"$f":"IFERROR(AVERAGE($K$12:K1174),\"\")","v":""},"","","","","",null,null,"","","",""]
[1164,null,null,null,null,null,null,null,null,null,"","","","","","",{"$f":"IFERROR(AVERAGE($K$12:K1175),\"\")","v":""},"","","","","",null,null,"","","",""]
[1165,null,null,null,null,null,null,null,null,null,"","","","","","",{"$f":"IFERROR(AVERAGE($K$12:K1176),\"\")","v":""},"","","","","",null,null,"","","",""]
[1166,null,null,null,null,null,null,null,null,null,"","","","","","",{"$f":"IFERROR(AVERAGE($K$12:K1177),\"\")","v":""},"","","","","",null,null,"","","",""]
[1167,null,null,null,null,null,null,null,null,null,"","","","","","",{"$f":"IFERROR(AVERAGE($K$12:K1178),\"\")","v":""},"","","","","",null,null,"","","",""]
[1168,null,null,null,null,null,null,null,null,null,"","","","","","",{"$f":"IFERROR(AVERAGE($K$12:K1179),\"\")","v":""},"","","","","",null,null,"","","",""]
[1169,null,null,null,null,null,null,null,null,null,"","","","","","",{"$f":"IFERROR(AVERAGE($K$12:K1180),\"\")","v":""},"","","","","",null,null,"","","",""]
[1170,null,null,null,null,null,null,null,null,null,"","","","","","",{"$f":"IFERROR(AVERAGE($K$12:K1181),\"\")","v":""},"","","","","",null,null,"","","",""]
[1171,null,null,null,null,null,null,null,null,null,"","","","","","",{"$f":"IFERROR(AVERAGE($K$12:K1182),\"\")","v":""},"","","","","",null,null,"","","",""]
[1172,null,null,null,null,null,null,null,null,null,"","","","","","",{"$f":"IFERROR(AVERAGE($K$12:K1183),\"\")","v":""},"","","","","",null,null,"","","",""]
[1173,null,null,null,null,null,null,null,null,null,"","","","","","",{"$f":"IFERROR(AVERAGE($K$12:K1184),\"\")","v":""},"","","","","",null,null,"","","",""]
[1174,null,null,null,null,null,null,null,null,null,"","","","","","",{"$f":"IFERROR(AVERAGE($K$12:K1185),\"\")","v":""},"","","","","",null,null,"","","",""]
[1175,null,null,null,null,null,null,null,null,null,"","","","","","",{"$f":"IFERROR(AVERAGE($K$12:K1186),\"\")","v":""},"","","","","",null,null,"","","",""]
[1176,null,null,null,null,null,null,null,null,null,"","","","","","",{"$f":"IFERROR(AVERAGE($K$12:K1187),\"\")","v":""},"","","","","",null,null,"","","",""]
[1177,null,null,null,null,null,null,null,null,null,"","","","","","",{"$f":"IFERROR(AVERAGE($K$12:K1188),\"\")","v":""},"","","","","",null,null,"","","",""]
[1178,null,null,null,null,null,null,null,null,null,"","","","","","",{"$f":"IFERROR(AVERAGE($K$12:K1189),\"\")","v":""},"","","","","",null,null,"","","",""]
[1179,null,null,null,null,null,null,null,null,null,"","","","","","",{"$f":"IFERROR(AVERAGE($K$12:K1190),\"\")","v":""},"","","","","",null,null,"","","",""]
[1180,null,null,null,null,null,null,null,null,null,"","","","","","",{"$f":"IFERROR(AVERAGE($K$12:K1191),\"\")","v":""},"","","","","",null,null,"","","",""]
[1181,null,null,null,null,null,null,null,null,null,"","","","","","",{"$f":"IFERROR(AVERAGE($K$12:K1192),\"\")","v":""},"","","","","",null,null,"","","",""]
[1182,null,null,null,null,null,null,null,null,null,"","","","","","",{"$f":"IFERROR(AVERAGE($K$12:K1193),\"\")","v":""},"","","","","",null,null,"","","",""]
[1183,null,null,null,null,null,null,null,null,null,"","","","","","",{"$f":"IFERROR(AVERAGE($K$12:K1194),\"\")","v":""},"","","","","",null,null,"","","",""]
[1184,null,null,null,null,null,null,null,null,null,"","","","","","",{"$f":"IFERROR(AVERAGE($K$12:K1195),\"\")","v":""},"","","","","",null,null,"","","",""]
[1185,null,null,null,null,null,null,null,null,null,"","","","","","",{"$f":"IFERROR(AVERAGE($K$12:K1196),\"\")","v":""},"","","","","",null,null,"","","",""]
[1186,null,null,null,null,null,null,null,null,null,"","","","","","",{"$f":"IFERROR(AVERAGE($K$12:K1197),\"\")","v":""},"","","","","",null,null,"","","",""]
[1187,null,null,null,null,null,null,null,null,null,"","","","","","",{"$f":"IFERROR(AVERAGE($K$12:K1198),\"\")","v":""},"","","","","",null,null,"","","",""]
[1188,null,null,null,null,null,null,null,null,null,"","","","","","",{"$f":"IFERROR(AVERAGE($K$12:K1199),\"\")","v":""},"","","","","",null,null,"","","",""]
[1189,null,null,null,null,null,null,null,null,null,"","","","","","",{"$f":"IFERROR(AVERAGE($K$12:K1200),\"\")","v":""},"","","","","",null,null,"","","",""]
[1190,null,null,null,null,null,null,null,null,null,"","","","","","",{"$f":"IFERROR(AVERAGE($K$12:K1201),\"\")","v":""},"","","","","",null,null,"","","",""]
[1191,null,null,null,null,null,null,null,null,null,"","","","","","",{"$f":"IFERROR(AVERAGE($K$12:K1202),\"\")","v":""},"","","","","",null,null,"","","",""]
[1192,null,null,null,null,null,null,null,null,null,"","","","","","",{"$f":"IFERROR(AVERAGE($K$12:K1203),\"\")","v":""},"","","","","",null,null,"","","",""]
[1193,null,null,null,null,null,null,null,null,null,"","","","","","",{"$f":"IFERROR(AVERAGE($K$12:K1204),\"\")","v":""},"","","","","",null,null,"","","",""]
[1194,null,null,null,null,null,null,null,null,null,"","","","","","",{"$f":"IFERROR(AVERAGE($K$12:K1205),\"\")","v":""},"","","","","",null,null,"","","",""]
[1195,null,null,null,null,null,null,null,null,null,"","","","","","",{"$f":"IFERROR(AVERAGE($K$12:K1206),\"\")","v":""},"","","","","",null,null,"","","",""]
[1196,null,null,null,null,null,null,null,null,null,"","","","","","",{"$f":"IFERROR(AVERAGE($K$12:K1207),\"\")","v":""},"","","","","",null,null,"","","",""]
[1197,null,null,null,null,null,null,null,null,null,"","","","","","",{"$f":"IFERROR(AVERAGE($K$12:K1208),\"\")","v":""},"","","","","",null,null,"","","",""]
[1198,null,null,null,null,null,null,null,null,null,"","","","","","",{"$f":"IFERROR(AVERAGE($K$12:K1209),\"\")","v":""},"","","","","",null,null,"","","",""]
[1199,null,null,null,null,null,null,null,null,null,"","","","","","",{"$f":"IFERROR(AVERAGE($K$12:K1210),\"\")","v":""},"","","","","",null,null,"","","",""]
[1200,null,null,null,null,null,null,null,null,null,"","","","","","",{"$f":"IFERROR(AVERAGE($K$12:K1211),\"\")","v":""},"","","","","",null,null,"","","",""]
[1201,null,null,null,null,null,null,null,null,null,"","","","","","",{"$f":"IFERROR(AVERAGE($K$12:K1212),\"\")","v":""},"","","","","",null,null,"","","",""]
[1202,null,null,null,null,null,null,null,null,null,"","","","","","",{"$f":"IFERROR(AVERAGE($K$12:K1213),\"\")","v":""},"","","","","",null,null,"","","",""]
[1203,null,null,null,null,null,null,null,null,null,"","","","","","",{"$f":"IFERROR(AVERAGE($K$12:K1214),\"\")","v":""},"","","","","",null,null,"","","",""]
[1204,null,null,null,null,null,null,null,null,null,"","","","","","",{"$f":"IFERROR(AVERAGE($K$12:K1215),\"\")","v":""},"","","","","",null,null,"","","",""]
[1205,null,null,null,null,null,null,null,null,null,"","","","","","",{"$f":"IFERROR(AVERAGE($K$12:K1216),\"\")","v":""},"","","","","",null,null,"","","",""]
[1206,null,null,null,null,null,null,null,null,null,"","","","","","",{"$f":"IFERROR(AVERAGE($K$12:K1217),\"\")","v":""},"","","","","",null,null,"","","",""]
[1207,null,null,null,null,null,null,null,null,null,"","","","","","",{"$f":"IFERROR(AVERAGE($K$12:K1218),\"\")","v":""},"","","","","",null,null,"","","",""]
[1208,null,null,null,null,null,null,null,null,null,"","","","","","",{"$f":"IFERROR(AVERAGE($K$12:K1219),\"\")","v":""},"","","","","",null,null,"","","",""]
[1209,null,null,null,null,null,null,null,null,null,"","","","","","",{"$f":"IFERROR(AVERAGE($K$12:K1220),\"\")","v":""},"","","","","",null,null,"","","",""]
[1210,null,null,null,null,null,null,null,null,null,"","","","","","",{"$f":"IFERROR(AVERAGE($K$12:K1221),\"\")","v":""},"","","","","",null,null,"","","",""]
[1211,null,null,null,null,null,null,null,null,null,"","","","","","",{"$f":"IFERROR(AVERAGE($K$12:K1222),\"\")","v":""},"","","","","",null,null,"","","",""]
[1212,null,null,null,null,null,null,null,null,null,"","","","","","",{"$f":"IFERROR(AVERAGE($K$12:K1223),\"\")","v":""},"","","","","",null,null,"","","",""]
[1213,null,null,null,null,null,null,null,null,null,"","","","","","",{"$f":"IFERROR(AVERAGE($K$12:K1224),\"\")","v":""},"","","","","",null,null,"","","",""]
[1214,null,null,null,null,null,null,null,null,null,"","","","","","",{"$f":"IFERROR(AVERAGE($K$12:K1225),\"\")","v":""},"","","","","",null,null,"","","",""]
[1215,null,null,null,null,null,null,null,null,null,"","","","","","",{"$f":"IFERROR(AVERAGE($K$12:K1226),\"\")","v":""},"","","","","",null,null,"","",{"$f":"IF($P$1=1,T1226,R1226)","v":""},{"$f":"IF($P$1=1,O1226,L1226)","v":""}]
[1216,null,null,null,null,null,null,null,null,null,"","","","","","",{"$f":"IFERROR(AVERAGE($K$12:K1227),\"\")","v":""},{"$f":"IF(F1227<>\"\",$E$5,\"\")","v":""},{"$f":"IF(F1227<>\"\",$E$5*(-1),\"\")","v":""},{"$f":"IF(F1227<>\"\",$E$6,\"\")","v":""},{"$f":"IFERROR(IF(OR((ABS(O1227)<=$E$6),(N1227<1)),TRUE,FALSE),\"\")","v":""},{"$f":"IFERROR(IF(ABS(L1227)<=$E$5,TRUE,FALSE),\"\")","v":""},null,null,"",{"$f":"IF($P$1=1,#N/A,S1227)","v":""},"",""]
[1217,null,null,null,null,null,null,null,null,null,{"$f":"IFERROR(AVERAGE(F1228:J1228),\"\")","v":""},{"$f":"IFERROR((K1228-$E$4)*100/$E$4,\"\")","v":""},{"$f":"IFERROR(ROUND(STDEV(F1228:J1228),2),\"\")","v":""},{"$f":"IF(ISNUMBER(F1228),(MAX(F1228:J1228)-MIN(F1228:J1228)),\"\")","v":""},{"$f":"IFERROR(N1228*100/K1228,\"\")","v":""},"",{"$f":"IFERROR(AVERAGE($K$12:K1228),\"\")","v":""},"","","","","",null,null,"","","",""]
[1218,null,null,null,null,null,null,null,null,null,"","","","","",{"$f":"IF(F1229>0,IF(U1229=FALSE,IF(V1229=FALSE,\"<GA+WHP>\",\"<WHP>\"),IF(V1229=FALSE,\"<GA>\",\"\")) & IF(W1229=TRUE,\"<Trend>\",\"\") & IF(X1229=TRUE,\"<Run>\",\"\")& IF(AND(ABS(U1229+V1229=2),W1229+X1229=0),\"OK\",\"\"),\"\")","v":""},{"$f":"IFERROR(AVERAGE($K$12:K1229),\"\")","v":""},"","","","","",null,null,{"$f":"IFERROR(RIGHT(C1229,10),\"\")","v":""},"","",""]
[1219,null,null,null,null,null,null,null,null,null,"","","","","","",{"$f":"IFERROR(AVERAGE($K$12:K1230),\"\")","v":""},"","","","","",null,null,"","","",""]
[1220,null,null,null,null,null,null,null,null,null,"","","","","","",{"$f":"IFERROR(AVERAGE($K$12:K1231),\"\")","v":""},"","","","","",null,null,"","","",""]
[1221,null,null,null,null,null,null,null,null,null,"","","","","","",{"$f":"IFERROR(AVERAGE($K$12:K1232),\"\")","v":""},"","","","","",null,null,"","","",""]
[1222,null,null,null,null,null,null,null,null,null,"","","","","","",{"$f":"IFERROR(AVERAGE($K$12:K1233),\"\")","v":""},"","","","","",{"$f":"OR(AND(K1233>K1232,K1232>K1231,K1231>K1230,K1230>K1229,K1229>K1228,K1228>K1227),AND(K1233<K1232,K1232<K1231,K1231<K1230,K1230<K1229,K1229<K1228,K1228<K1227))","v":null},{"$f":"OR(AND(K1233>Q1233,K1232>Q1233,K1231>Q1233,K1230>Q1233,K1229>Q1233,K1228>Q1233,K1227>Q1233),AND(K1233<Q1233,K1232<Q1233,K1231<Q1233,K1230<Q1233,K1229<Q1233,K1228<Q1233,K1227<Q1233))","v":null},"","","",""]
[1223,null,null,null,null,null,null,null,null,null,"","","","","","",{"$f":"IFERROR(AVERAGE($K$12:K1234),\"\")","v":""},"","","","","",null,null,"","","",""]
[1224,null,null,null,null,null,null,null,null,null,"","","","","","",{"$f":"IFERROR(AVERAGE($K$12:K1235),\"\")","v":""},"","","","","",null,null,"","","",""]
[1225,null,null,null,null,null,null,null,null,null,"","","","","","",{"$f":"IFERROR(AVERAGE($K$12:K1236),\"\")","v":""},"","","","","",null,null,"","","",""]
[1226,null,null,null,null,null,null,null,null,null,"","","","","","",{"$f":"IFERROR(AVERAGE($K$12:K1237),\"\")","v":""},"","","","","",null,null,"","","",""]
[1227,null,null,null,null,null,null,null,null,null,"","","","","","",{"$f":"IFERROR(AVERAGE($K$12:K1238),\"\")","v":""},"","","","","",null,null,"","","",""]
[1228,null,null,null,null,null,null,null,null,null,"","","","","","",{"$f":"IFERROR(AVERAGE($K$12:K1239),\"\")","v":""},"","","","","",null,null,"","","",""]
[1229,null,null,null,null,null,null,null,null,null,"","","","","","",{"$f":"IFERROR(AVERAGE($K$12:K1240),\"\")","v":""},"","","","","",null,null,"","","",""]
[1230,null,null,null,null,null,null,null,null,null,"","","","","","",{"$f":"IFERROR(AVERAGE($K$12:K1241),\"\")","v":""},"","","","","",null,null,"","","",""]
[1231,null,null,null,null,null,null,null,null,null,"","","","","","",{"$f":"IFERROR(AVERAGE($K$12:K1242),\"\")","v":""},"","","","","",null,null,"","","",""]
[1232,null,null,null,null,null,null,null,null,null,"","","","","","",{"$f":"IFERROR(AVERAGE($K$12:K1243),\"\")","v":""},"","","","","",null,null,"","","",""]
[1233,null,null,null,null,null,null,null,null,null,"","","","","","",{"$f":"IFERROR(AVERAGE($K$12:K1244),\"\")","v":""},"","","","","",null,null,"","","",""]
[1234,null,null,null,null,null,null,null,null,null,"","","","","","",{"$f":"IFERROR(AVERAGE($K$12:K1245),\"\")","v":""},"","","","","",null,null,"","","",""]
[1235,null,null,null,null,null,null,null,null,null,"","","","","","",{"$f":"IFERROR(AVERAGE($K$12:K1246),\"\")","v":""},"","","","","",null,null,"","","",""]
[1236,null,null,null,null,null,null,null,null,null,"","","","","","",{"$f":"IFERROR(AVERAGE($K$12:K1247),\"\")","v":""},"","","","","",null,null,"","","",""]
[1237,null,null,null,null,null,null,null,null,null,"","","","","","",{"$f":"IFERROR(AVERAGE($K$12:K1248),\"\")","v":""},"","","","","",null,null,"","","",""]
[1238,null,null,null,null,null,null,null,null,null,"","","","","","",{"$f":"IFERROR(AVERAGE($K$12:K1249),\"\")","v":""},"","","","","",null,null,"","","",""]
[1239,null,null,null,null,null,null,null,null,null,"","","","","","",{"$f":"IFERROR(AVERAGE($K$12:K1250),\"\")","v":""},"","","","","",null,null,"","","",""]
[1240,null,null,null,null,null,null,null,null,null,"","","","","","",{"$f":"IFERROR(AVERAGE($K$12:K1251),\"\")","v":""},"","","","","",null,null,"","","",""]
[1241,null,null,null,null,null,null,null,null,null,"","","","","","",{"$f":"IFERROR(AVERAGE($K$12:K1252),\"\")","v":""},"","","","","",null,null,"","","",""]
[1242,null,null,null,null,null,null,null,null,null,"","","","","","",{"$f":"IFERROR(AVERAGE($K$12:K1253),\"\")","v":""},"","","","","",null,null,"","","",""]
[1243,null,null,null,null,null,null,null,null,null,"","","","","","",{"$f":"IFERROR(AVERAGE($K$12:K1254),\"\")","v":""},"","","","","",null,null,"","","",""]
[1244,null,null,null,null,null,null,null,null,null,"","","","","","",{"$f":"IFERROR(AVERAGE($K$12:K1255),\"\")","v":""},"","","","","",null,null,"","","",""]
[1245,null,null,null,null,null,null,null,null,null,"","","","","","",{"$f":"IFERROR(AVERAGE($K$12:K1256),\"\")","v":""},"","","","","",null,null,"","","",""]
[1246,null,null,null,null,null,null,null,null,null,"","","","","","",{"$f":"IFERROR(AVERAGE($K$12:K1257),\"\")","v":""},"","","","","",null,null,"","","",""]
[1247,null,null,null,null,null,null,null,null,null,"","","","","","",{"$f":"IFERROR(AVERAGE($K$12:K1258),\"\")","v":""},"","","","","",null,null,"","","",""]
[1248,null,null,null,null,null,null,null,null,null,"","","","","","",{"$f":"IFERROR(AVERAGE($K$12:K1259),\"\")","v":""},"","","","","",null,null,"","","",""]
[1249,null,null,null,null,null,null,null,null,null,"","","","","","",{"$f":"IFERROR(AVERAGE($K$12:K1260),\"\")","v":""},"","","","","",null,null,"","","",""]
[1250,null,null,null,null,null,null,null,null,null,"","","","","","",{"$f":"IFERROR(AVERAGE($K$12:K1261),\"\")","v":""},"","","","","",null,null,"","","",""]
[1251,null,null,null,null,null,null,null,null,null,"","","","","","",{"$f":"IFERROR(AVERAGE($K$12:K1262),\"\")","v":""},"","","","","",null,null,"","","",""]
[1252,null,null,null,null,null,null,null,null,null,"","","","","","",{"$f":"IFERROR(AVERAGE($K$12:K1263),\"\")","v":""},"","","","","",null,null,"","","",""]
[1253,null,null,null,null,null,null,null,null,null,"","","","","","",{"$f":"IFERROR(AVERAGE($K$12:K1264),\"\")","v":""},"","","","","",null,null,"","","",""]
[1254,null,null,null,null,null,null,null,null,null,"","","","","","",{"$f":"IFERROR(AVERAGE($K$12:K1265),\"\")","v":""},"","","","","",null,null,"","","",""]
[1255,null,null,null,null,null,null,null,null,null,"","","","","","",{"$f":"IFERROR(AVERAGE($K$12:K1266),\"\")","v":""},"","","","","",null,null,"","","",""]
[1256,null,null,null,null,null,null,null,null,null,"","","","","","",{"$f":"IFERROR(AVERAGE($K$12:K1267),\"\")","v":""},"","","","","",null,null,"","","",""]
[1257,null,null,null,null,null,null,null,null,null,"","","","","","",{"$f":"IFERROR(AVERAGE($K$12:K1268),\"\")","v":""},"","","","","",null,null,"","","",""]
[1258,null,null,null,null,null,null,null,null,null,"","","","","","",{"$f":"IFERROR(AVERAGE($K$12:K1269),\"\")","v":""},"","","","","",null,null,"","","",""]
[1259,null,null,null,null,null,null,null,null,null,"","","","","","",{"$f":"IFERROR(AVERAGE($K$12:K1270),\"\")","v":""},"","","","","",null,null,"","","",""]
[1260,null,null,null,null,null,null,null,null,null,"","","","","","",{"$f":"IFERROR(AVERAGE($K$12:K1271),\"\")","v":""},"","","","","",null,null,"","","",""]
[1261,null,null,null,null,null,null,null,null,null,"","","","","","",{"$f":"IFERROR(AVERAGE($K$12:K1272),\"\")","v":""},"","","","","",null,null,"","","",""]
[1262,null,null,null,null,null,null,null,null,null,"","","","","","",{"$f":"IFERROR(AVERAGE($K$12:K1273),\"\")","v":""},"","","","","",null,null,"","","",""]
[1263,null,null,null,null,null,null,null,null,null,"","","","","","",{"$f":"IFERROR(AVERAGE($K$12:K1274),\"\")","v":""},"","","","","",null,null,"","","",""]
[1264,null,null,null,null,null,null,null,null,null,"","","","","","",{"$f":"IFERROR(AVERAGE($K$12:K1275),\"\")","v":""},"","","","","",null,null,"","","",""]
[1265,null,null,null,null,null,null,null,null,null,"","","","","","",{"$f":"IFERROR(AVERAGE($K$12:K1276),\"\")","v":""},"","","","","",null,null,"","","",""]
[1266,null,null,null,null,null,null,null,null,null,"","","","","","",{"$f":"IFERROR(AVERAGE($K$12:K1277),\"\")","v":""},"","","","","",null,null,"","","",""]
[1267,null,null,null,null,null,null,null,null,null,"","","","","","",{"$f":"IFERROR(AVERAGE($K$12:K1278),\"\")","v":""},"","","","","",null,null,"","","",""]
[1268,null,null,null,null,null,null,null,null,null,"","","","","","",{"$f":"IFERROR(AVERAGE($K$12:K1279),\"\")","v":""},"","","","","",null,null,"","","",""]
[1269,null,null,null,null,null,null,null,null,null,"","","","","","",{"$f":"IFERROR(AVERAGE($K$12:K1280),\"\")","v":""},"","","","","",null,null,"","","",""]
[1270,null,null,null,null,null,null,null,null,null,"","","","","","",{"$f":"IFERROR(AVERAGE($K$12:K1281),\"\")","v":""},"","","","","",null,null,"","","",""]
[1271,null,null,null,null,null,null,null,null,null,"","","","","","",{"$f":"IFERROR(AVERAGE($K$12:K1282),\"\")","v":""},"","","","","",null,null,"","","",""]
[1272,null,null,null,null,null,null,null,null,null,"","","","","","",{"$f":"IFERROR(AVERAGE($K$12:K1283),\"\")","v":""},"","","","","",null,null,"","","",""]
[1273,null,null,null,null,null,null,null,null,null,"","","","","","",{"$f":"IFERROR(AVERAGE($K$12:K1284),\"\")","v":""},"","","","","",null,null,"","","",""]
[1274,null,null,null,null,null,null,null,null,null,"","","","","","",{"$f":"IFERROR(AVERAGE($K$12:K1285),\"\")","v":""},"","","","","",null,null,"","","",""]
[1275,null,null,null,null,null,null,null,null,null,"","","","","","",{"$f":"IFERROR(AVERAGE($K$12:K1286),\"\")","v":""},"","","","","",null,null,"","","",""]
[1276,null,null,null,null,null,null,null,null,null,"","","","","","",{"$f":"IFERROR(AVERAGE($K$12:K1287),\"\")","v":""},"","","","","",null,null,"","","",""]
[1277,null,null,null,null,null,null,null,null,null,"","","","","","",{"$f":"IFERROR(AVERAGE($K$12:K1288),\"\")","v":""},"","","","","",null,null,"","","",""]
[1278,null,null,null,null,null,null,null,null,null,"","","","","","",{"$f":"IFERROR(AVERAGE($K$12:K1289),\"\")","v":""},"","","","","",null,null,"","","",""]
[1279,null,null,null,null,null,null,null,null,null,"","","","","","",{"$f":"IFERROR(AVERAGE($K$12:K1290),\"\")","v":""},"","","","","",null,null,"","",{"$f":"IF($P$1=1,T1290,R1290)","v":""},{"$f":"IF($P$1=1,O1290,L1290)","v":""}]
[1280,null,null,null,null,null,null,null,null,null,"","","","","","",{"$f":"IFERROR(AVERAGE($K$12:K1291),\"\")","v":""},{"$f":"IF(F1291<>\"\",$E$5,\"\")","v":""},{"$f":"IF(F1291<>\"\",$E$5*(-1),\"\")","v":""},{"$f":"IF(F1291<>\"\",$E$6,\"\")","v":""},{"$f":"IFERROR(IF(OR((ABS(O1291)<=$E$6),(N1291<1)),TRUE,FALSE),\"\")","v":""},{"$f":"IFERROR(IF(ABS(L1291)<=$E$5,TRUE,FALSE),\"\")","v":""},null,null,"",{"$f":"IF($P$1=1,#N/A,S1291)","v":""},"",""]
[1281,null,null,null,null,null,null,null,null,null,{"$f":"IFERROR(AVERAGE(F1292:J1292),\"\")","v":""},{"$f":"IFERROR((K1292-$E$4)*100/$E$4,\"\")","v":""},{"$f":"IFERROR(ROUND(STDEV(F1292:J1292),2),\"\")","v":""},{"$f":"IF(ISNUMBER(F1292),(MAX(F1292:J1292)-MIN(F1292:J1292)),\"\")","v":""},{"$f":"IFERROR(N1292*100/K1292,\"\")","v":""},"",{"$f":"IFERROR(AVERAGE($K$12:K1292),\"\")","v":""},"","","","","",null,null,"","","",""]
[1282,null,null,null,null,null,null,null,null,null,"","","","","",{"$f":"IF(F1293>0,IF(U1293=FALSE,IF(V1293=FALSE,\"<GA+WHP>\",\"<WHP>\"),IF(V1293=FALSE,\"<GA>\",\"\")) & IF(W1293=TRUE,\"<Trend>\",\"\") & IF(X1293=TRUE,\"<Run>\",\"\")& IF(AND(ABS(U1293+V1293=2),W1293+X1293=0),\"OK\",\"\"),\"\")","v":""},{"$f":"IFERROR(AVERAGE($K$12:K1293),\"\")","v":""},"","","","","",null,null,{"$f":"IFERROR(RIGHT(C1293,10),\"\")","v":""},"","",""]
[1283,null,null,null,null,null,null,null,null,null,"","","","","","",{"$f":"IFERROR(AVERAGE($K$12:K1294),\"\")","v":""},"","","","","",null,null,"","","",""]
[1284,null,null,null,null,null,null,null,null,null,"","","","","","",{"$f":"IFERROR(AVERAGE($K$12:K1295),\"\")","v":""},"","","","","",null,null,"","","",""]
[1285,null,null,null,null,null,null,null,null,null,"","","","","","",{"$f":"IFERROR(AVERAGE($K$12:K1296),\"\")","v":""},"","","","","",null,null,"","","",""]
[1286,null,null,null,null,null,null,null,null,null,"","","","","","",{"$f":"IFERROR(AVERAGE($K$12:K1297),\"\")","v":""},"","","","","",{"$f":"OR(AND(K1297>K1296,K1296>K1295,K1295>K1294,K1294>K1293,K1293>K1292,K1292>K1291),AND(K1297<K1296,K1296<K1295,K1295<K1294,K1294<K1293,K1293<K1292,K1292<K1291))","v":null},{"$f":"OR(AND(K1297>Q1297,K1296>Q1297,K1295>Q1297,K1294>Q1297,K1293>Q1297,K1292>Q1297,K1291>Q1297),AND(K1297<Q1297,K1296<Q1297,K1295<Q1297,K1294<Q1297,K1293<Q1297,K1292<Q1297,K1291<Q1297))","v":null},"","","",""]
[1287,null,null,null,null,null,null,null,null,null,"","","","","","",{"$f":"IFERROR(AVERAGE($K$12:K1298),\"\")","v":""},"","","","","",null,null,"","","",""]
[1288,null,null,null,null,null,null,null,null,null,"","","","","","",{"$f":"IFERROR(AVERAGE($K$12:K1299),\"\")","v":""},"","","","","",null,null,"","","",""]
[1289,null,null,null,null,null,null,null,null,null,"","","","","","",{"$f":"IFERROR(AVERAGE($K$12:K1300),\"\")","v":""},"","","","","",null,null,"","","",""]
[1290,null,null,null,null,null,null,null,null,null,"","","","","","",{"$f":"IFERROR(AVERAGE($K$12:K1301),\"\")","v":""},"","","","","",null,null,"","","",""]
[1291,null,null,null,null,null,null,null,null,null,"","","","","","",{"$f":"IFERROR(AVERAGE($K$12:K1302),\"\")","v":""},"","","","","",null,null,"","","",""]
[1292,null,null,null,null,null,null,null,null,null,"","","","","","",{"$f":"IFERROR(AVERAGE($K$12:K1303),\"\")","v":""},"","","","","",null,null,"","","",""]
[1293,null,null,null,null,null,null,null,null,null,"","","","","","",{"$f":"IFERROR(AVERAGE($K$12:K1304),\"\")","v":""},"","","","","",null,null,"","","",""]
[1294,null,null,null,null,null,null,null,null,null,"","","","","","",{"$f":"IFERROR(AVERAGE($K$12:K1305),\"\")","v":""},"","","","","",null,null,"","","",""]
[1295,null,null,null,null,null,null,null,null,null,"","","","","","",{"$f":"IFERROR(AVERAGE($K$12:K1306),\"\")","v":""},"","","","","",null,null,"","","",""]
[1296,null,null,null,null,null,null,null,null,null,"","","","","","",{"$f":"IFERROR(AVERAGE($K$12:K1307),\"\")","v":""},"","","","","",null,null,"","","",""]
[1297,null,null,null,null,null,null,null,null,null,"","","","","","",{"$f":"IFERROR(AVERAGE($K$12:K1308),\"\")","v":""},"","","","","",null,null,"","","",""]
[1298,null,null,null,null,null,null,null,null,null,"","","","","","",{"$f":"IFERROR(AVERAGE($K$12:K1309),\"\")","v":""},"","","","","",null,null,"","","",""]
[1299,null,null,null,null,null,null,null,null,null,"","","","","","",{"$f":"IFERROR(AVERAGE($K$12:K1310),\"\")","v":""},"","","","","",null,null,"","","",""]
[1300,null,null,null,null,null,null,null,null,null,"","","","","","",{"$f":"IFERROR(AVERAGE($K$12:K1311),\"\")","v":""},"","","","","",null,null,"","","",""]
[1301,null,null,null,null,null,null,null,null,null,"","","","","","",{"$f":"IFERROR(AVERAGE($K$12:K1312),\"\")","v":""},"","","","","",null,null,"","","",""]
[1302,null,null,null,null,null,null,null,null,null,"","","","","","",{"$f":"IFERROR(AVERAGE($K$12:K1313),\"\")","v":""},"","","","","",null,null,"","","",""]
[1303,null,null,null,null,null,null,null,null,null,"","","","","","",{"$f":"IFERROR(AVERAGE($K$12:K1314),\"\")","v":""},"","","","","",null,null,"","","",""]
[1304,null,null,null,null,null,null,null,null,null,"","","","","","",{"$f":"IFERROR(AVERAGE($K$12:K1315),\"\")","v":""},"","","","","",null,null,"","","",""]
[1305,null,null,null,null,null,null,null,null,null,"","","","","","",{"$f":"IFERROR(AVERAGE($K$12:K1316),\"\")","v":""},"","","","","",null,null,"","","",""]
[1306,null,null,null,null,null,null,null,null,null,"","","","","","",{"$f":"IFERROR(AVERAGE($K$12:K1317),\"\")","v":""},"","","","","",null,null,"","","",""]
[1307,null,null,null,null,null,null,null,null,null,"","","","","","",{"$f":"IFERROR(AVERAGE($K$12:K1318),\"\")","v":""},"","","","","",null,null,"","","",""]
[1308,null,null,null,null,null,null,null,null,null,"","","","","","",{"$f":"IFERROR(AVERAGE($K$12:K1319),\"\")","v":""},"","","","","",null,null,"","","",""]
[1309,null,null,null,null,null,null,null,null,null,"","","","","","",{"$f":"IFERROR(AVERAGE($K$12:K1320),\"\")","v":""},"","","","","",null,null,"","","",""]
[1310,null,null,null,null,null,null,null,null,null,"","","","","","",{"$f":"IFERROR(AVERAGE($K$12:K1321),\"\")","v":""},"","","","","",null,null,"","","",""]
[1311,null,null,null,null,null,null,null,null,null,"","","","","","",{"$f":"IFERROR(AVERAGE($K$12:K1322),\"\")","v":""},"","","","","",null,null,"","","",""]
[1312,null,null,null,null,null,null,null,null,null,"","","","","","",{"$f":"IFERROR(AVERAGE($K$12:K1323),\"\")","v":""},"","","","","",null,null,"","","",""]
[1313,null,null,null,null,null,null,null,null,null,"","","","","","",{"$f":"IFERROR(AVERAGE($K$12:K1324),\"\")","v":""},"","","","","",null,null,"","","",""]
[1314,null,null,null,null,null,null,null,null,null,"","","","","","",{"$f":"IFERROR(AVERAGE($K$12:K1325),\"\")","v":""},"","","","","",null,null,"","","",""]
[1315,null,null,null,null,null,null,null,null,null,"","","","","","",{"$f":"IFERROR(AVERAGE($K$12:K1326),\"\")","v":""},"","","","","",null,null,"","","",""]
[1316,null,null,null,null,null,null,null,null,null,"","","","","","",{"$f":"IFERROR(AVERAGE($K$12:K1327),\"\")","v":""},"","","","","",null,null,"","","",""]
[1317,null,null,null,null,null,null,null,null,null,"","","","","","",{"$f":"IFERROR(AVERAGE($K$12:K1328),\"\")","v":""},"","","","","",null,null,"","","",""]
[1318,null,null,null,null,null,null,null,null,null,"","","","","","",{"$f":"IFERROR(AVERAGE($K$12:K1329),\"\")","v":""},"","","","","",null,null,"","","",""]
[1319,null,null,null,null,null,null,null,null,null,"","","","","","",{"$f":"IFERROR(AVERAGE($K$12:K1330),\"\")","v":""},"","","","","",null,null,"","","",""]
[1320,null,null,null,null,null,null,null,null,null,"","","","","","",{"$f":"IFERROR(AVERAGE($K$12:K1331),\"\")","v":""},"","","","","",null,null,"","","",""]
[1321,null,null,null,null,null,null,null,null,null,"","","","","","",{"$f":"IFERROR(AVERAGE($K$12:K1332),\"\")","v":""},"","","","","",null,null,"","","",""]
[1322,null,null,null,null,null,null,null,null,null,"","","","","","",{"$f":"IFERROR(AVERAGE($K$12:K1333),\"\")","v":""},"","","","","",null,null,"","","",""]
[1323,null,null,null,null,null,null,null,null,null,"","","","","","",{"$f":"IFERROR(AVERAGE($K$12:K1334),\"\")","v":""},"","","","","",null,null,"","","",""]
[1324,null,null,null,null,null,null,null,null,null,"","","","","","",{"$f":"IFERROR(AVERAGE($K$12:K1335),\"\")","v":""},"","","","","",null,null,"","","",""]
[1325,null,null,null,null,null,null,null,null,null,"","","","","","",{"$f":"IFERROR(AVERAGE($K$12:K1336),\"\")","v":""},"","","","","",null,null,"","","",""]
[1326,null,null,null,null,null,null,null,null,null,"","","","","","",{"$f":"IFERROR(AVERAGE($K$12:K1337),\"\")","v":""},"","","","","",null,null,"","","",""]
[1327,null,null,null,null,null,null,null,null,null,"","","","","","",{"$f":"IFERROR(AVERAGE($K$12:K1338),\"\")","v":""},"","","","","",null,null,"","","",""]
[1328,null,null,null,null,null,null,null,null,null,"","","","","","",{"$f":"IFERROR(AVERAGE($K$12:K1339),\"\")","v":""},"","","","","",null,null,"","","",""]
[1329,null,null,null,null,null,null,null,null,null,"","","","","","",{"$f":"IFERROR(AVERAGE($K$12:K1340),\"\")","v":""},"","","","","",null,null,"","","",""]
[1330,null,null,null,null,null,null,null,null,null,"","","","","","",{"$f":"IFERROR(AVERAGE($K$12:K1341),\"\")","v":""},"","","","","",null,null,"","","",""]
[1331,null,null,null,null,null,null,null,null,null,"","","","","","",{"$f":"IFERROR(AVERAGE($K$12:K1342),\"\")","v":""},"","","","","",null,null,"","","",""]
[1332,null,null,null,null,null,null,null,null,null,"","","","","","",{"$f":"IFERROR(AVERAGE($K$12:K1343),\"\")","v":""},"","","","","",null,null,"","","",""]
[1333,null,null,null,null,null,null,null,null,null,"","","","","","",{"$f":"IFERROR(AVERAGE($K$12:K1344),\"\")","v":""},"","","","","",null,null,"","","",""]
[1334,null,null,null,null,null,null,null,null,null,"","","","","","",{"$f":"IFERROR(AVERAGE($K$12:K1345),\"\")","v":""},"","","","","",null,null,"","","",""]
[1335,null,null,null,null,null,null,null,null,null,"","","","","","",{"$f":"IFERROR(AVERAGE($K$12:K1346),\"\")","v":""},"","","","","",null,null,"","","",""]
[1336,null,null,null,null,null,null,null,null,null,"","","","","","",{"$f":"IFERROR(AVERAGE($K$12:K1347),\"\")","v":""},"","","","","",null,null,"","","",""]
[1337,null,null,null,null,null,null,null,null,null,"","","","","","",{"$f":"IFERROR(AVERAGE($K$12:K1348),\"\")","v":""},"","","","","",null,null,"","","",""]
[1338,null,null,null,null,null,null,null,null,null,"","","","","","",{"$f":"IFERROR(AVERAGE($K$12:K1349),\"\")","v":""},"","","","","",null,null,"","","",""]
[1339,null,null,null,null,null,null,null,null,null,"","","","","","",{"$f":"IFERROR(AVERAGE($K$12:K1350),\"\")","v":""},"","","","","",null,null,"","","",""]
[1340,null,null,null,null,null,null,null,null,null,"","","","","","",{"$f":"IFERROR(AVERAGE($K$12:K1351),\"\")","v":""},"","","","","",null,null,"","","",""]
[1341,null,null,null,null,null,null,null,null,null,"","","","","","",{"$f":"IFERROR(AVERAGE($K$12:K1352),\"\")","v":""},"","","","","",null,null,"","","",""]
[1342,null,null,null,null,null,null,null,null,null,"","","","","","",{"$f":"IFERROR(AVERAGE($K$12:K1353),\"\")","v":""},"","","","","",null,null,"","","",""]
[1343,null,null,null,null,null,null,null,null,null,"","","","","","",{"$f":"IFERROR(AVERAGE($K$12:K1354),\"\")","v":""},"","","","","",null,null,"","",{"$f":"IF($P$1=1,T1354,R1354)","v":""},{"$f":"IF($P$1=1,O1354,L1354)","v":""}]
[1344,null,null,null,null,null,null,null,null,null,"","","","","","",{"$f":"IFERROR(AVERAGE($K$12:K1355),\"\")","v":""},{"$f":"IF(F1355<>\"\",$E$5,\"\")","v":""},{"$f":"IF(F1355<>\"\",$E$5*(-1),\"\")","v":""},{"$f":"IF(F1355<>\"\",$E$6,\"\")","v":""},{"$f":"IFERROR(IF(OR((ABS(O1355)<=$E$6),(N1355<1)),TRUE,FALSE),\"\")","v":""},{"$f":"IFERROR(IF(ABS(L1355)<=$E$5,TRUE,FALSE),\"\")","v":""},null,null,"",{"$f":"IF($P$1=1,#N/A,S1355)","v":""},"",""]
[1345,null,null,null,null,null,null,null,null,null,{"$f":"IFERROR(AVERAGE(F1356:J1356),\"\")","v":""},{"$f":"IFERROR((K1356-$E$4)*100/$E$4,\"\")","v":""},{"$f":"IFERROR(ROUND(STDEV(F1356:J1356),2),\"\")","v":""},{"$f":"IF(ISNUMBER(F1356),(MAX(F1356:J1356)-MIN(F1356:J1356)),\"\")","v":""},{"$f":"IFERROR(N1356*100/K1356,\"\")","v":""},"",{"$f":"IFERROR(AVERAGE($K$12:K1356),\"\")","v":""},"","","","","",null,null,"","","",""]
[1346,null,null,null,null,null,null,null,null,null,"","","","","",{"$f":"IF(F1357>0,IF(U1357=FALSE,IF(V1357=FALSE,\"<GA+WHP>\",\"<WHP>\"),IF(V1357=FALSE,\"<GA>\",\"\")) & IF(W1357=TRUE,\"<Trend>\",\"\") & IF(X1357=TRUE,\"<Run>\",\"\")& IF(AND(ABS(U1357+V1357=2),W1357+X1357=0),\"OK\",\"\"),\"\")","v":""},{"$f":"IFERROR(AVERAGE($K$12:K1357),\"\")","v":""},"","","","","",null,null,{"$f":"IFERROR(RIGHT(C1357,10),\"\")","v":""},"","",""]
[1347,null,null,null,null,null,null,null,null,null,"","","","","","",{"$f":"IFERROR(AVERAGE($K$12:K1358),\"\")","v":""},"","","","","",null,null,"","","",""]
[1348,null,null,null,null,null,null,null,null,null,"","","","","","",{"$f":"IFERROR(AVERAGE($K$12:K1359),\"\")","v":""},"","","","","",null,null,"","","",""]
[1349,null,null,null,null,null,null,null,null,null,"","","","","","",{"$f":"IFERROR(AVERAGE($K$12:K1360),\"\")","v":""},"","","","","",null,null,"","","",""]
[1350,null,null,null,null,null,null,null,null,null,"","","","","","",{"$f":"IFERROR(AVERAGE($K$12:K1361),\"\")","v":""},"","","","","",{"$f":"OR(AND(K1361>K1360,K1360>K1359,K1359>K1358,K1358>K1357,K1357>K1356,K1356>K1355),AND(K1361<K1360,K1360<K1359,K1359<K1358,K1358<K1357,K1357<K1356,K1356<K1355))","v":null},{"$f":"OR(AND(K1361>Q1361,K1360>Q1361,K1359>Q1361,K1358>Q1361,K1357>Q1361,K1356>Q1361,K1355>Q1361),AND(K1361<Q1361,K1360<Q1361,K1359<Q1361,K1358<Q1361,K1357<Q1361,K1356<Q1361,K1355<Q1361))","v":null},"","","",""]
[1351,null,null,null,null,null,null,null,null,null,"","","","","","",{"$f":"IFERROR(AVERAGE($K$12:K1362),\"\")","v":""},"","","","","",null,null,"","","",""]
[1352,null,null,null,null,null,null,null,null,null,"","","","","","",{"$f":"IFERROR(AVERAGE($K$12:K1363),\"\")","v":""},"","","","","",null,null,"","","",""]
[1353,null,null,null,null,null,null,null,null,null,"","","","","","",{"$f":"IFERROR(AVERAGE($K$12:K1364),\"\")","v":""},"","","","","",null,null,"","","",""]
[1354,null,null,null,null,null,null,null,null,null,"","","","","","",{"$f":"IFERROR(AVERAGE($K$12:K1365),\"\")","v":""},"","","","","",null,null,"","","",""]
[1355,null,null,null,null,null,null,null,null,null,"","","","","","",{"$f":"IFERROR(AVERAGE($K$12:K1366),\"\")","v":""},"","","","","",null,null,"","","",""]
[1356,null,null,null,null,null,null,null,null,null,"","","","","","",{"$f":"IFERROR(AVERAGE($K$12:K1367),\"\")","v":""},"","","","","",null,null,"","","",""]
[1357,null,null,null,null,null,null,null,null,null,"","","","","","",{"$f":"IFERROR(AVERAGE($K$12:K1368),\"\")","v":""},"","","","","",null,null,"","","",""]
[1358,null,null,null,null,null,null,null,null,null,"","","","","","",{"$f":"IFERROR(AVERAGE($K$12:K1369),\"\")","v":""},"","","","","",null,null,"","","",""]
[1359,null,null,null,null,null,null,null,null,null,"","","","","","",{"$f":"IFERROR(AVERAGE($K$12:K1370),\"\")","v":""},"","","","","",null,null,"","","",""]
[1360,null,null,null,null,null,null,null,null,null,"","","","","","",{"$f":"IFERROR(AVERAGE($K$12:K1371),\"\")","v":""},"","","","","",null,null,"","","",""]
[1361,null,null,null,null,null,null,null,null,null,"","","","","","",{"$f":"IFERROR(AVERAGE($K$12:K1372),\"\")","v":""},"","","","","",null,null,"","","",""]
[1362,null,null,null,null,null,null,null,null,null,"","","","","","",{"$f":"IFERROR(AVERAGE($K$12:K1373),\"\")","v":""},"","","","","",null,null,"","","",""]
[1363,null,null,null,null,null,null,null,null,null,"","","","","","",{"$f":"IFERROR(AVERAGE($K$12:K1374),\"\")","v":""},"","","","","",null,null,"","","",""]
[1364,null,null,null,null,null,null,null,null,null,"","","","","","",{"$f":"IFERROR(AVERAGE($K$12:K1375),\"\")","v":""},"","","","","",null,null,"","","",""]
[1365,null,null,null,null,null,null,null,null,null,"","","","","","",{"$f":"IFERROR(AVERAGE($K$12:K1376),\"\")","v":""},"","","","","",null,null,"","","",""]
[1366,null,null,null,null,null,null,null,null,null,"","","","","","",{"$f":"IFERROR(AVERAGE($K$12:K1377),\"\")","v":""},"","","","","",null,null,"","","",""]
[1367,null,null,null,null,null,null,null,null,null,"","","","","","",{"$f":"IFERROR(AVERAGE($K$12:K1378),\"\")","v":""},"","","","","",null,null,"","","",""]
[1368,null,null,null,null,null,null,null,null,null,"","","","","","",{"$f":"IFERROR(AVERAGE($K$12:K1379),\"\")","v":""},"","","","","",null,null,"","","",""]
[1369,null,null,null,null,null,null,null,null,null,"","","","","","",{"$f":"IFERROR(AVERAGE($K$12:K1380),\"\")","v":""},"","","","","",null,null,"","","",""]
[1370,null,null,null,null,null,null,null,null,null,"","","","","","",{"$f":"IFERROR(AVERAGE($K$12:K1381),\"\")","v":""},"","","","","",null,null,"","","",""]
[1371,null,null,null,null,null,null,null,null,null,"","","","","","",{"$f":"IFERROR(AVERAGE($K$12:K1382),\"\")","v":""},"","","","","",null,null,"","","",""]
[1372,null,null,null,null,null,null,null,null,null,"","","","","","",{"$f":"IFERROR(AVERAGE($K$12:K1383),\"\")","v":""},"","","","","",null,null,"","","",""]
[1373,null,null,null,null,null,null,null,null,null,"","","","","","",{"$f":"IFERROR(AVERAGE($K$12:K1384),\"\")","v":""},"","","","","",null,null,"","","",""]
[1374,null,null,null,null,null,null,null,null,null,"","","","","","",{"$f":"IFERROR(AVERAGE($K$12:K1385),\"\")","v":""},"","","","","",null,null,"","","",""]
[1375,null,null,null,null,null,null,null,null,null,"","","","","","",{"$f":"IFERROR(AVERAGE($K$12:K1386),\"\")","v":""},"","","","","",null,null,"","","",""]
[1376,null,null,null,null,null,null,null,null,null,"","","","","","",{"$f":"IFERROR(AVERAGE($K$12:K1387),\"\")","v":""},"","","","","",null,null,"","","",""]
[1377,null,null,null,null,null,null,null,null,null,"","","","","","",{"$f":"IFERROR(AVERAGE($K$12:K1388),\"\")","v":""},"","","","","",null,null,"","","",""]
[1378,null,null,null,null,null,null,null,null,null,"","","","","","",{"$f":"IFERROR(AVERAGE($K$12:K1389),\"\")","v":""},"","","","","",null,null,"","","",""]
[1379,null,null,null,null,null,null,null,null,null,"","","","","","",{"$f":"IFERROR(AVERAGE($K$12:K1390),\"\")","v":""},"","","","","",null,null,"","","",""]
[1380,null,null,null,null,null,null,null,null,null,"","","","","","",{"$f":"IFERROR(AVERAGE($K$12:K1391),\"\")","v":""},"","","","","",null,null,"","","",""]
[1381,null,null,null,null,null,null,null,null,null,"","","","","","",{"$f":"IFERROR(AVERAGE($K$12:K1392),\"\")","v":""},"","","","","",null,null,"","","",""]
[1382,null,null,null,null,null,null,null,null,null,"","","","","","",{"$f":"IFERROR(AVERAGE($K$12:K1393),\"\")","v":""},"","","","","",null,null,"","","",""]
[1383,null,null,null,null,null,null,null,null,null,"","","","","","",{"$f":"IFERROR(AVERAGE($K$12:K1394),\"\")","v":""},"","","","","",null,null,"","","",""]
[1384,null,null,null,null,null,null,null,null,null,"","","","","","",{"$f":"IFERROR(AVERAGE($K$12:K1395),\"\")","v":""},"","","","","",null,null,"","","",""]
[1385,null,null,null,null,null,null,null,null,null,"","","","","","",{"$f":"IFERROR(AVERAGE($K$12:K1396),\"\")","v":""},"","","","","",null,null,"","","",""]
[1386,null,null,null,null,null,null,null,null,null,"","","","","","",{"$f":"IFERROR(AVERAGE($K$12:K1397),\"\")","v":""},"","","","","",null,null,"","","",""]
[1387,null,null,null,null,null,null,null,null,null,"","","","","","",{"$f":"IFERROR(AVERAGE($K$12:K1398),\"\")","v":""},"","","","","",null,null,"","","",""]
[1388,null,null,null,null,null,null,null,null,null,"","","","","","",{"$f":"IFERROR(AVERAGE($K$12:K1399),\"\")","v":""},"","","","","",null,null,"","","",""]
[1389,null,null,null,null,null,null,null,null,null,"","","","","","",{"$f":"IFERROR(AVERAGE($K$12:K1400),\"\")","v":""},"","","","","",null,null,"","","",""]
[1390,null,null,null,null,null,null,null,null,null,"","","","","","",{"$f":"IFERROR(AVERAGE($K$12:K1401),\"\")","v":""},"","","","","",null,null,"","","",""]
[1391,null,null,null,null,null,null,null,null,null,"","","","","","",{"$f":"IFERROR(AVERAGE($K$12:K1402),\"\")","v":""},"","","","","",null,null,"","","",""]
[1392,null,null,null,null,null,null,null,null,null,"","","","","","",{"$f":"IFERROR(AVERAGE($K$12:K1403),\"\")","v":""},"","","","","",null,null,"","","",""]
[1393,null,null,null,null,null,null,null,null,null,"","","","","","",{"$f":"IFERROR(AVERAGE($K$12:K1404),\"\")","v":""},"","","","","",null,null,"","","",""]
[1394,null,null,null,null,null,null,null,null,null,"","","","","","",{"$f":"IFERROR(AVERAGE($K$12:K1405),\"\")","v":""},"","","","","",null,null,"","","",""]
[1395,null,null,null,null,null,null,null,null,null,"","","","","","",{"$f":"IFERROR(AVERAGE($K$12:K1406),\"\")","v":""},"","","","","",null,null,"","","",""]
[1396,null,null,null,null,null,null,null,null,null,"","","","","","",{"$f":"IFERROR(AVERAGE($K$12:K1407),\"\")","v":""},"","","","","",null,null,"","","",""]
[1397,null,null,null,null,null,null,null,null,null,"","","","","","",{"$f":"IFERROR(AVERAGE($K$12:K1408),\"\")","v":""},"","","","","",null,null,"","","",""]
[1398,null,null,null,null,null,null,null,null,null,"","","","","","",{"$f":"IFERROR(AVERAGE($K$12:K1409),\"\")","v":""},"","","","","",null,null,"","","",""]
[1399,null,null,null,null,null,null,null,null,null,"","","","","","",{"$f":"IFERROR(AVERAGE($K$12:K1410),\"\")","v":""},"","","","","",null,null,"","","",""]
[1400,null,null,null,null,null,null,null,null,null,"","","","","","",{"$f":"IFERROR(AVERAGE($K$12:K1411),\"\")","v":""},"","","","","",null,null,"","","",""]
[1401,null,null,null,null,null,null,null,null,null,"","","","","","",{"$f":"IFERROR(AVERAGE($K$12:K1412),\"\")","v":""},"","","","","",null,null,"","","",""]
[1402,null,null,null,null,null,null,null,null,null,"","","","","","",{"$f":"IFERROR(AVERAGE($K$12:K1413),\"\")","v":""},"","","","","",null,null,"","","",""]
[1403,null,null,null,null,null,null,null,null,null,"","","","","","",{"$f":"IFERROR(AVERAGE($K$12:K1414),\"\")","v":""},"","","","","",null,null,"","","",""]
[1404,null,null,null,null,null,null,null,null,null,"","","","","","",{"$f":"IFERROR(AVERAGE($K$12:K1415),\"\")","v":""},"","","","","",null,null,"","","",""]
[1405,null,null,null,null,null,null,null,null,null,"","","","","","",{"$f":"IFERROR(AVERAGE($K$12:K1416),\"\")","v":""},"","","","","",null,null,"","","",""]
[1406,null,null,null,null,null,null,null,null,null,"","","","","","",{"$f":"IFERROR(AVERAGE($K$12:K1417),\"\")","v":""},"","","","","",null,null,"","","",""]
[1407,null,null,null,null,null,null,null,null,null,"","","","","","",{"$f":"IFERROR(AVERAGE($K$12:K1418),\"\")","v":""},"","","","","",null,null,"","",{"$f":"IF($P$1=1,T1418,R1418)","v":""},{"$f":"IF($P$1=1,O1418,L1418)","v":""}]
[1408,null,null,null,null,null,null,null,null,null,"","","","","","",{"$f":"IFERROR(AVERAGE($K$12:K1419),\"\")","v":""},{"$f":"IF(F1419<>\"\",$E$5,\"\")","v":""},{"$f":"IF(F1419<>\"\",$E$5*(-1),\"\")","v":""},{"$f":"IF(F1419<>\"\",$E$6,\"\")","v":""},{"$f":"IFERROR(IF(OR((ABS(O1419)<=$E$6),(N1419<1)),TRUE,FALSE),\"\")","v":""},{"$f":"IFERROR(IF(ABS(L1419)<=$E$5,TRUE,FALSE),\"\")","v":""},null,null,"",{"$f":"IF($P$1=1,#N/A,S1419)","v":""},"",""]
[1409,null,null,null,null,null,null,null,null,null,{"$f":"IFERROR(AVERAGE(F1420:J1420),\"\")","v":""},{"$f":"IFERROR((K1420-$E$4)*100/$E$4,\"\")","v":""},{"$f":"IFERROR(ROUND(STDEV(F1420:J1420),2),\"\")","v":""},{"$f":"IF(ISNUMBER(F1420),(MAX(F1420:J1420)-MIN(F1420:J1420)),\"\")","v":""},{"$f":"IFERROR(N1420*100/K1420,\"\")","v":""},"",{"$f":"IFERROR(AVERAGE($K$12:K1420),\"\")","v":""},"","","","","",null,null,"","","",""]
[1410,null,null,null,null,null,null,null,null,null,"","","","","",{"$f":"IF(F1421>0,IF(U1421=FALSE,IF(V1421=FALSE,\"<GA+WHP>\",\"<WHP>\"),IF(V1421=FALSE,\"<GA>\",\"\")) & IF(W1421=TRUE,\"<Trend>\",\"\") & IF(X1421=TRUE,\"<Run>\",\"\")& IF(AND(ABS(U1421+V1421=2),W1421+X1421=0),\"OK\",\"\"),\"\")","v":""},{"$f":"IFERROR(AVERAGE($K$12:K1421),\"\")","v":""},"","","","","",null,null,{"$f":"IFERROR(RIGHT(C1421,10),\"\")","v":""},"","",""]
[1411,null,null,null,null,null,null,null,null,null,"","","","","","",{"$f":"IFERROR(AVERAGE($K$12:K1422),\"\")","v":""},"","","","","",null,null,"","","",""]
[1412,null,null,null,null,null,null,null,null,null,"","","","","","",{"$f":"IFERROR(AVERAGE($K$12:K1423),\"\")","v":""},"","","","","",null,null,"","","",""]
[1413,null,null,null,null,null,null,null,null,null,"","","","","","",{"$f":"IFERROR(AVERAGE($K$12:K1424),\"\")","v":""},"","","","","",null,null,"","","",""]
[1414,null,null,null,null,null,null,null,null,null,"","","","","","",{"$f":"IFERROR(AVERAGE($K$12:K1425),\"\")","v":""},"","","","","",{"$f":"OR(AND(K1425>K1424,K1424>K1423,K1423>K1422,K1422>K1421,K1421>K1420,K1420>K1419),AND(K1425<K1424,K1424<K1423,K1423<K1422,K1422<K1421,K1421<K1420,K1420<K1419))","v":null},{"$f":"OR(AND(K1425>Q1425,K1424>Q1425,K1423>Q1425,K1422>Q1425,K1421>Q1425,K1420>Q1425,K1419>Q1425),AND(K1425<Q1425,K1424<Q1425,K1423<Q1425,K1422<Q1425,K1421<Q1425,K1420<Q1425,K1419<Q1425))","v":null},"","","",""]
[1415,null,null,null,null,null,null,null,null,null,"","","","","","",{"$f":"IFERROR(AVERAGE($K$12:K1426),\"\")","v":""},"","","","","",null,null,"","","",""]
[1416,null,null,null,null,null,null,null,null,null,"","","","","","",{"$f":"IFERROR(AVERAGE($K$12:K1427),\"\")","v":""},"","","","","",null,null,"","","",""]
[1417,null,null,null,null,null,null,null,null,null,"","","","","","",{"$f":"IFERROR(AVERAGE($K$12:K1428),\"\")","v":""},"","","","","",null,null,"","","",""]
[1418,null,null,null,null,null,null,null,null,null,"","","","","","",{"$f":"IFERROR(AVERAGE($K$12:K1429),\"\")","v":""},"","","","","",null,null,"","","",""]
[1419,null,null,null,null,null,null,null,null,null,"","","","","","",{"$f":"IFERROR(AVERAGE($K$12:K1430),\"\")","v":""},"","","","","",null,null,"","","",""]
[1420,null,null,null,null,null,null,null,null,null,"","","","","","",{"$f":"IFERROR(AVERAGE($K$12:K1431),\"\")","v":""},"","","","","",null,null,"","","",""]
[1421,null,null,null,null,null,null,null,null,null,"","","","","","",{"$f":"IFERROR(AVERAGE($K$12:K1432),\"\")","v":""},"","","","","",null,null,"","","",""]
[1422,null,null,null,null,null,null,null,null,null,"","","","","","",{"$f":"IFERROR(AVERAGE($K$12:K1433),\"\")","v":""},"","","","","",null,null,"","","",""]
[1423,null,null,null,null,null,null,null,null,null,"","","","","","",{"$f":"IFERROR(AVERAGE($K$12:K1434),\"\")","v":""},"","","","","",null,null,"","","",""]
[1424,null,null,null,null,null,null,null,null,null,"","","","","","",{"$f":"IFERROR(AVERAGE($K$12:K1435),\"\")","v":""},"","","","","",null,null,"","","",""]
[1425,null,null,null,null,null,null,null,null,null,"","","","","","",{"$f":"IFERROR(AVERAGE($K$12:K1436),\"\")","v":""},"","","","","",null,null,"","","",""]
[1426,null,null,null,null,null,null,null,null,null,"","","","","","",{"$f":"IFERROR(AVERAGE($K$12:K1437),\"\")","v":""},"","","","","",null,null,"","","",""]
[1427,null,null,null,null,null,null,null,null,null,"","","","","","",{"$f":"IFERROR(AVERAGE($K$12:K1438),\"\")","v":""},"","","","","",null,null,"","","",""]
[1428,null,null,null,null,null,null,null,null,null,"","","","","","",{"$f":"IFERROR(AVERAGE($K$12:K1439),\"\")","v":""},"","","","","",null,null,"","","",""]
[1429,null,null,null,null,null,null,null,null,null,"","","","","","",{"$f":"IFERROR(AVERAGE($K$12:K1440),\"\")","v":""},"","","","","",null,null,"","","",""]
[1430,null,null,null,null,null,null,null,null,null,"","","","","","",{"$f":"IFERROR(AVERAGE($K$12:K1441),\"\")","v":""},"","","","","",null,null,"","","",""]
[1431,null,null,null,null,null,null,null,null,null,"","","","","","",{"$f":"IFERROR(AVERAGE($K$12:K1442),\"\")","v":""},"","","","","",null,null,"","","",""]
[1432,null,null,null,null,null,null,null,null,null,"","","","","","",{"$f":"IFERROR(AVERAGE($K$12:K1443),\"\")","v":""},"","","","","",null,null,"","","",""]
[1433,null,null,null,null,null,null,null,null,null,"","","","","","",{"$f":"IFERROR(AVERAGE($K$12:K1444),\"\")","v":""},"","","","","",null,null,"","","",""]
[1434,null,null,null,null,null,null,null,null,null,"","","","","","",{"$f":"IFERROR(AVERAGE($K$12:K1445),\"\")","v":""},"","","","","",null,null,"","","",""]
[1435,null,null,null,null,null,null,null,null,null,"","","","","","",{"$f":"IFERROR(AVERAGE($K$12:K1446),\"\")","v":""},"","","","","",null,null,"","","",""]
[1436,null,null,null,null,null,null,null,null,null,"","","","","","",{"$f":"IFERROR(AVERAGE($K$12:K1447),\"\")","v":""},"","","","","",null,null,"","","",""]
[1437,null,null,null,null,null,null,null,null,null,"","","","","","",{"$f":"IFERROR(AVERAGE($K$12:K1448),\"\")","v":""},"","","","","",null,null,"","","",""]
[1438,null,null,null,null,null,null,null,null,null,"","","","","","",{"$f":"IFERROR(AVERAGE($K$12:K1449),\"\")","v":""},"","","","","",null,null,"","","",""]
[1439,null,null,null,null,null,null,null,null,null,"","","","","","",{"$f":"IFERROR(AVERAGE($K$12:K1450),\"\")","v":""},"","","","","",null,null,"","","",""]
[1440,null,null,null,null,null,null,null,null,null,"","","","","","",{"$f":"IFERROR(AVERAGE($K$12:K1451),\"\")","v":""},"","","","","",null,null,"","","",""]
[1441,null,null,null,null,null,null,null,null,null,"","","","","","",{"$f":"IFERROR(AVERAGE($K$12:K1452),\"\")","v":""},"","","","","",null,null,"","","",""]
[1442,null,null,null,null,null,null,null,null,null,"","","","","","",{"$f":"IFERROR(AVERAGE($K$12:K1453),\"\")","v":""},"","","","","",null,null,"","","",""]
[1443,null,null,null,null,null,null,null,null,null,"","","","","","",{"$f":"IFERROR(AVERAGE($K$12:K1454),\"\")","v":""},"","","","","",null,null,"","","",""]
[1444,null,null,null,null,null,null,null,null,null,"","","","","","",{"$f":"IFERROR(AVERAGE($K$12:K1455),\"\")","v":""},"","","","","",null,null,"","","",""]
[1445,null,null,null,null,null,null,null,null,null,"","","","","","",{"$f":"IFERROR(AVERAGE($K$12:K1456),\"\")","v":""},"","","","","",null,null,"","","",""]
[1446,null,null,null,null,null,null,null,null,null,"","","","","","",{"$f":"IFERROR(AVERAGE($K$12:K1457),\"\")","v":""},"","","","","",null,null,"","","",""]
[1447,null,null,null,null,null,null,null,null,null,"","","","","","",{"$f":"IFERROR(AVERAGE($K$12:K1458),\"\")","v":""},"","","","","",null,null,"","","",""]
[1448,null,null,null,null,null,null,null,null,null,"","","","","","",{"$f":"IFERROR(AVERAGE($K$12:K1459),\"\")","v":""},"","","","","",null,null,"","","",""]
[1449,null,null,null,null,null,null,null,null,null,"","","","","","",{"$f":"IFERROR(AVERAGE($K$12:K1460),\"\")","v":""},"","","","","",null,null,"","","",""]
[1450,null,null,null,null,null,null,null,null,null,"","","","","","",{"$f":"IFERROR(AVERAGE($K$12:K1461),\"\")","v":""},"","","","","",null,null,"","","",""]
[1451,null,null,null,null,null,null,null,null,null,"","","","","","",{"$f":"IFERROR(AVERAGE($K$12:K1462),\"\")","v":""},"","","","","",null,null,"","","",""]
[1452,null,null,null,null,null,null,null,null,null,"","","","","","",{"$f":"IFERROR(AVERAGE($K$12:K1463),\"\")","v":""},"","","","","",null,null,"","","",""]
[1453,null,null,null,null,null,null,null,null,null,"","","","","","",{"$f":"IFERROR(AVERAGE($K$12:K1464),\"\")","v":""},"","","","","",null,null,"","","",""]
[1454,null,null,null,null,null,null,null,null,null,"","","","","","",{"$f":"IFERROR(AVERAGE($K$12:K1465),\"\")","v":""},"","","","","",null,null,"","","",""]
[1455,null,null,null,null,null,null,null,null,null,"","","","","","",{"$f":"IFERROR(AVERAGE($K$12:K1466),\"\")","v":""},"","","","","",null,null,"","","",""]
[1456,null,null,null,null,null,null,null,null,null,"","","","","","",{"$f":"IFERROR(AVERAGE($K$12:K1467),\"\")","v":""},"","","","","",null,null,"","","",""]
[1457,null,null,null,null,null,null,null,null,null,"","","","","","",{"$f":"IFERROR(AVERAGE($K$12:K1468),\"\")","v":""},"","","","","",null,null,"","","",""]
[1458,null,null,null,null,null,null,null,null,null,"","","","","","",{"$f":"IFERROR(AVERAGE($K$12:K1469),\"\")","v":""},"","","","","",null,null,"","","",""]
[1459,null,null,null,null,null,null,null,null,null,"","","","","","",{"$f":"IFERROR(AVERAGE($K$12:K1470),\"\")","v":""},"","","","","",null,null,"","","",""]
[1460,null,null,null,null,null,null,null,null,null,"","","","","","",{"$f":"IFERROR(AVERAGE($K$12:K1471),\"\")","v":""},"","","","","",null,null,"","","",""]
[1461,null,null,null,null,null,null,null,null,null,"","","","","","",{"$f":"IFERROR(AVERAGE($K$12:K1472),\"\")","v":""},"","","","","",null,null,"","","",""]
[1462,null,null,null,null,null,null,null,null,null,"","","","","","",{"$f":"IFERROR(AVERAGE($K$12:K1473),\"\")","v":""},"","","","","",null,null,"","","",""]
[1463,null,null,null,null,null,null,null,null,null,"","","","","","",{"$f":"IFERROR(AVERAGE($K$12:K1474),\"\")","v":""},"","","","","",null,null,"","","",""]
[1464,null,null,null,null,null,null,null,null,null,"","","","","","",{"$f":"IFERROR(AVERAGE($K$12:K1475),\"\")","v":""},"","","","","",null,null,"","","",""]
[1465,null,null,null,null,null,null,null,null,null,"","","","","","",{"$f":"IFERROR(AVERAGE($K$12:K1476),\"\")","v":""},"","","","","",null,null,"","","",""]
[1466,null,null,null,null,null,null,null,null,null,"","","","","","",{"$f":"IFERROR(AVERAGE($K$12:K1477),\"\")","v":""},"","","","","",null,null,"","","",""]
[1467,null,null,null,null,null,null,null,null,null,"","","","","","",{"$f":"IFERROR(AVERAGE($K$12:K1478),\"\")","v":""},"","","","","",null,null,"","","",""]
[1468,null,null,null,null,null,null,null,null,null,"","","","","","",{"$f":"IFERROR(AVERAGE($K$12:K1479),\"\")","v":""},"","","","","",null,null,"","","",""]
[1469,null,null,null,null,null,null,null,null,null,"","","","","","",{"$f":"IFERROR(AVERAGE($K$12:K1480),\"\")","v":""},"","","","","",null,null,"","","",""]
[1470,null,null,null,null,null,null,null,null,null,"","","","","","",{"$f":"IFERROR(AVERAGE($K$12:K1481),\"\")","v":""},"","","","","",null,null,"","","",""]
[1471,null,null,null,null,null,null,null,null,null,"","","","","","",{"$f":"IFERROR(AVERAGE($K$12:K1482),\"\")","v":""},"","","","","",null,null,"","",{"$f":"IF($P$1=1,T1482,R1482)","v":""},{"$f":"IF($P$1=1,O1482,L1482)","v":""}]
[1472,null,null,null,null,null,null,null,null,null,"","","","","","",{"$f":"IFERROR(AVERAGE($K$12:K1483),\"\")","v":""},{"$f":"IF(F1483<>\"\",$E$5,\"\")","v":""},{"$f":"IF(F1483<>\"\",$E$5*(-1),\"\")","v":""},{"$f":"IF(F1483<>\"\",$E$6,\"\")","v":""},{"$f":"IFERROR(IF(OR((ABS(O1483)<=$E$6),(N1483<1)),TRUE,FALSE),\"\")","v":""},{"$f":"IFERROR(IF(ABS(L1483)<=$E$5,TRUE,FALSE),\"\")","v":""},null,null,"",{"$f":"IF($P$1=1,#N/A,S1483)","v":""},"",""]
[1473,null,null,null,null,null,null,null,null,null,{"$f":"IFERROR(AVERAGE(F1484:J1484),\"\")","v":""},{"$f":"IFERROR((K1484-$E$4)*100/$E$4,\"\")","v":""},{"$f":"IFERROR(ROUND(STDEV(F1484:J1484),2),\"\")","v":""},{"$f":"IF(ISNUMBER(F1484),(MAX(F1484:J1484)-MIN(F1484:J1484)),\"\")","v":""},{"$f":"IFERROR(N1484*100/K1484,\"\")","v":""},"",{"$f":"IFERROR(AVERAGE($K$12:K1484),\"\")","v":""},"","","","","",null,null,"","","",""]
[1474,null,null,null,null,null,null,null,null,null,"","","","","",{"$f":"IF(F1485>0,IF(U1485=FALSE,IF(V1485=FALSE,\"<GA+WHP>\",\"<WHP>\"),IF(V1485=FALSE,\"<GA>\",\"\")) & IF(W1485=TRUE,\"<Trend>\",\"\") & IF(X1485=TRUE,\"<Run>\",\"\")& IF(AND(ABS(U1485+V1485=2),W1485+X1485=0),\"OK\",\"\"),\"\")","v":""},{"$f":"IFERROR(AVERAGE($K$12:K1485),\"\")","v":""},"","","","","",null,null,{"$f":"IFERROR(RIGHT(C1485,10),\"\")","v":""},"","",""]
[1475,null,null,null,null,null,null,null,null,null,"","","","","","",{"$f":"IFERROR(AVERAGE($K$12:K1486),\"\")","v":""},"","","","","",null,null,"","","",""]
[1476,null,null,null,null,null,null,null,null,null,"","","","","","",{"$f":"IFERROR(AVERAGE($K$12:K1487),\"\")","v":""},"","","","","",null,null,"","","",""]
[1477,null,null,null,null,null,null,null,null,null,"","","","","","",{"$f":"IFERROR(AVERAGE($K$12:K1488),\"\")","v":""},"","","","","",null,null,"","","",""]
[1478,null,null,null,null,null,null,null,null,null,"","","","","","",{"$f":"IFERROR(AVERAGE($K$12:K1489),\"\")","v":""},"","","","","",{"$f":"OR(AND(K1489>K1488,K1488>K1487,K1487>K1486,K1486>K1485,K1485>K1484,K1484>K1483),AND(K1489<K1488,K1488<K1487,K1487<K1486,K1486<K1485,K1485<K1484,K1484<K1483))","v":null},{"$f":"OR(AND(K1489>Q1489,K1488>Q1489,K1487>Q1489,K1486>Q1489,K1485>Q1489,K1484>Q1489,K1483>Q1489),AND(K1489<Q1489,K1488<Q1489,K1487<Q1489,K1486<Q1489,K1485<Q1489,K1484<Q1489,K1483<Q1489))","v":null},"","","",""]
[1479,null,null,null,null,null,null,null,null,null,"","","","","","",{"$f":"IFERROR(AVERAGE($K$12:K1490),\"\")","v":""},"","","","","",null,null,"","","",""]
[1480,null,null,null,null,null,null,null,null,null,"","","","","","",{"$f":"IFERROR(AVERAGE($K$12:K1491),\"\")","v":""},"","","","","",null,null,"","","",""]
[1481,null,null,null,null,null,null,null,null,null,"","","","","","",{"$f":"IFERROR(AVERAGE($K$12:K1492),\"\")","v":""},"","","","","",null,null,"","","",""]
[1482,null,null,null,null,null,null,null,null,null,"","","","","","",{"$f":"IFERROR(AVERAGE($K$12:K1493),\"\")","v":""},"","","","","",null,null,"","","",""]
[1483,null,null,null,null,null,null,null,null,null,"","","","","","",{"$f":"IFERROR(AVERAGE($K$12:K1494),\"\")","v":""},"","","","","",null,null,"","","",""]
[1484,null,null,null,null,null,null,null,null,null,"","","","","","",{"$f":"IFERROR(AVERAGE($K$12:K1495),\"\")","v":""},"","","","","",null,null,"","","",""]
[1485,null,null,null,null,null,null,null,null,null,"","","","","","",{"$f":"IFERROR(AVERAGE($K$12:K1496),\"\")","v":""},"","","","","",null,null,"","","",""]
[1486,null,null,null,null,null,null,null,null,null,"","","","","","",{"$f":"IFERROR(AVERAGE($K$12:K1497),\"\")","v":""},"","","","","",null,null,"","","",""]
[1487,null,null,null,null,null,null,null,null,null,"","","","","","",{"$f":"IFERROR(AVERAGE($K$12:K1498),\"\")","v":""},"","","","","",null,null,"","","",""]
[1488,null,null,null,null,null,null,null,null,null,"","","","","","",{"$f":"IFERROR(AVERAGE($K$12:K1499),\"\")","v":""},"","","","","",null,null,"","","",""]
[1489,null,null,null,null,null,null,null,null,null,"","","","","","",{"$f":"IFERROR(AVERAGE($K$12:K1500),\"\")","v":""},"","","","","",null,null,"","","",""]
[1490,null,null,null,null,null,null,null,null,null,"","","","","","",{"$f":"IFERROR(AVERAGE($K$12:K1501),\"\")","v":""},"","","","","",null,null,"","","",""]
[1491,null,null,null,null,null,null,null,null,null,"","","","","","",{"$f":"IFERROR(AVERAGE($K$12:K1502),\"\")","v":""},"","","","","",null,null,"","","",""]
[1492,null,null,null,null,null,null,null,null,null,"","","","","","",{"$f":"IFERROR(AVERAGE($K$12:K1503),\"\")","v":""},"","","","","",null,null,"","","",""]
[1493,null,null,null,null,null,null,null,null,null,"","","","","","",{"$f":"IFERROR(AVERAGE($K$12:K1504),\"\")","v":""},"","","","","",null,null,"","","",""]
[1494,null,null,null,null,null,null,null,null,null,"","","","","","",{"$f":"IFERROR(AVERAGE($K$12:K1505),\"\")","v":""},"","","","","",null,null,"","","",""]
[1495,null,null,null,null,null,null,null,null,null,"","","","","","",{"$f":"IFERROR(AVERAGE($K$12:K1506),\"\")","v":""},"","","","","",null,null,"","","",""]
[1496,null,null,null,null,null,null,null,null,null,"","","","","","",{"$f":"IFERROR(AVERAGE($K$12:K1507),\"\")","v":""},"","","","","",null,null,"","","",""]
[1497,null,null,null,null,null,null,null,null,null,"","","","","","",{"$f":"IFERROR(AVERAGE($K$12:K1508),\"\")","v":""},"","","","","",null,null,"","","",""]
[1498,null,null,null,null,null,null,null,null,null,"","","","","","",{"$f":"IFERROR(AVERAGE($K$12:K1509),\"\")","v":""},"","","","","",null,null,"","","",""]
[1499,null,null,null,null,null,null,null,null,null,"","","","","","",{"$f":"IFERROR(AVERAGE($K$12:K1510),\"\")","v":""},"","","","","",null,null,"","","",""]
[1500,null,null,null,null,null,null,null,null,null,"","","","","","",{"$f":"IFERROR(AVERAGE($K$12:K1511),\"\")","v":""},"","","","","",null,null,"","","",""]

{"sheet":"Uncertainty","index":5,"n_rows":1511,"n_cols":249,"rows_kept":1511,"cut":false,"hidden":false,"merged":[[0,0,0,19],[1,0,1,20]]}
["Messunsicherheit Methode M2 nach DIN EN ISO / Uncertainty of measurement method M2  according ISO"]
[]
[null,null,null,"Härtevergleichsplatte / Hardness reference block: ",{"$f":"IF(Setup!H17<>\"\",Setup!H17,\"\")","v":""},null,null,null,"Firma / Company:",{"$f":"IF(Setup!H5<>\"\",Setup!H5,\"\")","v":""},null,null,null,null,null,null,"Werksbezeichnung / Factory identification:",{"$f":"IF(Setup!H10<>\"\",Setup!H10,\"\")","v":""},null,"t:",1.1399999999999999]
[null,null,null,"Kalibrierte Härte / Calibrated hardness value:",{"$f":"IF(Setup!H21<>\"\",Setup!H21,\"\")","v":null},null,null,null,"Abteilung / Department:",{"$f":"IF(Setup!H6<>\"\",Setup!H6,\"\")","v":""},null,null,null,null,null,null,"Herstellungsjahr / Year of the production:",{"$f":"IF(Setup!H11<>\"\",Setup!H11,\"\")","v":""},null,"k:",2]
[null,null,null,null,null,null,null,null,"Spezifikation / Specification:",{"$f":"IF(Setup!H7<>\"\",Setup!H7,\"\")","v":""},null,null,null,null,null,null,"Hersteller / Producer:",{"$f":"IF(Setup!H12<>\"\",Setup!H12,\"\")","v":""},null,"ums:",{"$f":"IFERROR(SQRT(J6^2/3)/2,\"\")","v":null}]
[null,null,null,null,null,null,null,null,"Skalenauflösung / Mimimal step:",{"$f":"IF(Setup!H8<>\"\",Setup!H8,\"\")","v":null},null,null,null,null,null,null,"Typ / Type:",{"$f":"IF(Setup!H13<>\"\",Setup!H13,\"\")","v":""},null,"UCRM:",{"$f":"IF(Setup!H22<>\"\",Setup!H22,\"\")","v":null}]
[null,null,null,null,null,null,null,null,"Stichprobenhäufigkeit / Frequency of inspection:",{"$f":"IF(Setup!H9<>\"\",Setup!H9,\"\")","v":""},null,null,null,null,null,null,null,null,null,"uCRM:",{"$f":"IFERROR(U6/2,\"\")","v":null}]
[null,null,null,null,null,null,null,null,null,null,null,null,null,null,null,null,null,null,null,null,null,null,null,null,"Spalte 25","Spalte 26","Spalte 27","Spalte 28","Spalte 29","Spalte 30","Spalte 31","Spalte 32","Spalte 33","Spalte 34","Spalte 35","Spalte 36","Spalte 37","Spalte 38","Spalte 39","Spalte 40","Spalte 41","Spalte 42","Spalte 43","Spalte 44","Spalte 45","Spalte 46","Spalte 47","Spalte 48","Spalte 49","Spalte 50","Spalte 51","Spalte 52","Spalte 53","Spalte 54","Spalte 55","Spalte 56","Spalte 57","Spalte 58","Spalte 59","Spalte 60","Spalte 61","Spalte 62","Spalte 63","Spalte 64","Spalte 65","Spalte 66","Spalte 67","Spalte 68","Spalte 69","Spalte 70","Spalte 71","Spalte 72","Spalte 73","Spalte 74","Spalte 75","Spalte 76","Spalte 77","Spalte 78","Spalte 79","Spalte 80","Spalte 81","Spalte 82","Spalte 83","Spalte 84","Spalte 85","Spalte 86","Spalte 87","Spalte 88","Spalte 89","Spalte 90","Spalte 91","Spalte 92","Spalte 93","Spalte 94","Spalte 95","Spalte 96","Spalte 97","Spalte 98","Spalte 99","Spalte 100","Spalte 101","Spalte 102","Spalte 103","Spalte 104","Spalte 105","Spalte 106","Spalte 107","Spalte 108","Spalte 109","Spalte 110","Spalte 111","Spalte 112","Spalte 113","Spalte 114","Spalte 115","Spalte 116","Spalte 117","Spalte 118","Spalte 119","Spalte 120","Spalte 121","Spalte 122","Spalte 123","Spalte 124","Spalte 125","Spalte 126","Spalte 127","Spalte 128","Spalte 129","Spalte 130","Spalte 131","Spalte 132","Spalte 133","Spalte 134","Spalte 135","Spalte 136","Spalte 137","Spalte 138","Spalte 139","Spalte 140","Spalte 141","Spalte 142","Spalte 143","Spalte 144","Spalte 145","Spalte 146","Spalte 147","Spalte 148","Spalte 149","Spalte 150","Spalte 151","Spalte 152","Spalte 153","Spalte 154","Spalte 155","Spalte 156","Spalte 157","Spalte 158","Spalte 159","Spalte 160","Spalte 161","Spalte 162","Spalte 163","Spalte 164","Spalte 165","Spalte 166","Spalte 167","Spalte 168","Spalte 169","Spalte 170","Spalte 171","Spalte 172","Spalte 173","Spalte 174","Spalte 175","Spalte 176","Spalte 177","Spalte 178","Spalte 179","Spalte 180","Spalte 181","Spalte 182","Spalte 183","Spalte 184","Spalte 185","Spalte 186","Spalte 187","Spalte 188","Spalte 189","Spalte 190","Spalte 191","Spalte 192","Spalte 193","Spalte 194","Spalte 195","Spalte 196","Spalte 197","Spalte 198","Spalte 199","Spalte 200","Spalte 201","Spalte 202","Spalte 203","Spalte 204","Spalte 205","Spalte 206","Spalte 207","Spalte 208","Spalte 209","Spalte 210","Spalte 211","Spalte 212","Spalte 213","Spalte 214","Spalte 215","Spalte 216","Spalte 217","Spalte 218","Spalte 219","Spalte 220","Spalte 221","Spalte 222","Spalte 223","Spalte 224","Spalte 225","Spalte 226","Spalte 227","Spalte 228","Spalte 229","Spalte 230","Spalte 231","Spalte 232","Spalte 233","Spalte 234","Spalte 235","Spalte 236","Spalte 237","Spalte 238","Spalte 239","Spalte 240","Spalte 241","Spalte 242","Spalte 243","Spalte 244","Spalte 245","Spalte 246","Spalte 247","Spalte 248","Spalte 249"]
[null,null,null,null,null,null,null,null,null,null,null,null,null,null,null,null,null,null,null,null,null,"t=Studentsfaktor\nStandartabweichung aus der Mittelwerte",null,null,1,1,1,1,1,1,1,1,{"$f":"Y9+1","v":null},{"$f":"Z9+1","v":null},null,null,null,null,null,null,null,null,null,null,null,null,null,null,null,null,null,null,null,null,null,null,null,null,null,null,null,null,null,null,null,null,null,null,null,null,null,null,null,null,null,null,null,null,null,null,null,null,null,null,null,null,null,null,null,null,null,null,null,null,null,null,null,{"$f":"CL9+1","v":null},null,null,null,null,null,null,null,null,null,null,null,null,null,null,null,null,null,null,null,null,null,null,null,null,null,null,null,null,null,null,null,null,null,null,null,null,null,null,null,null,null,null,null,null,null,null,null,null,null,null,null,null,null,null,null,null,null,null,null,null,null,null,null,{"$f":"EX9+1","v":null},null,null,null,null,null,null,null,null,null,null,null,null,null,null,null,null,null,null,null,null,null,null,null,null,null,null,null,null,null,null,null,null,null,null,null,null,null,null,null,null,null,null,null,null,null,null,null,null,null,null,null,null,null,null,null,null,null,null,null,null,null,null,null,{"$f":"HJ9+1","v":null}]
["Nummer / No","Prüfer /\nOperator","Datum /\nDate","Bemerkungen,\nMaterialien /\nRemarks,\nmaterials","Proben-nummer / Sample number","Probe Messung / Sample Test\n1","Probe Messung / Sample Test\n2","Probe Messung / Sample Test\n3","Probe Messung / Sample Test\n4","Probe Messung / Sample Test\n5",null,null,null,null,null,"Probe\nMittelwert /\nMean\nof sample","Messabweichung /\nDeviation of the hardness (bias)","Messabwei-\nchung\nüber alle Werte /\nBias of all values","Ergebnis ohne Korrektur /\nResult without correction","Ergebnis mit Korrektur /\nResult with correction","Anzahl Zusatz-\nmessungen /\nCount of\nadditional measurements max. 28","Studentsfaktor\n\nt","Sb","Mittelwert der Probe Messung xquer","Prüfer /\nOperator","Bemerkungen,\nMaterialien /\nRemarks,\nmaterials","Proben-nummer / Sample number ","Probe Messung / Sample Test\n1","Probe Messung / Sample Test\n2","Probe Messung / Sample Test\n3","Probe Messung / Sample Test\n4","Probe Messung / Sample Test\n5","Prüfer /\nOperator","Bemerkungen,\nMaterialien /\nRemarks,\nmaterials","Proben-nummer / Sample number ","Probe Messung / Sample Test\n1","Probe Messung / Sample Test\n2","Probe Messung / Sample Test\n3","Probe Messung / Sample Test\n4","Probe Messung / Sample Test\n5","Prüfer /\nOperator","Bemerkungen,\nMaterialien /\nRemarks,\nmaterials","Proben-nummer / Sample number ","Probe Messung / Sample Test\n1","Probe Messung / Sample Test\n2","Probe Messung / Sample Test\n3","Probe Messung / Sample Test\n4","Probe Messung / Sample Test\n5","Prüfer /\nOperator","Bemerkungen,\nMaterialien /\nRemarks,\nmaterials","Proben-nummer / Sample number ","Probe Messung / Sample Test\n1","Probe Messung / Sample Test\n2","Probe Messung / Sample Test\n3","Probe Messung / Sample Test\n4","Probe Messung / Sample Test\n5","Prüfer /\nOperator","Bemerkungen,\nMaterialien /\nRemarks,\nmaterials","Proben-nummer / Sample number ","Probe Messung / Sample Test\n1","Probe Messung / Sample Test\n2","Probe Messung / Sample Test\n3","Probe Messung / Sample Test\n4","Probe Messung / Sample Test\n5","Prüfer /\nOperator","Bemerkungen,\nMaterialien /\nRemarks,\nmaterials","Proben-nummer / Sample number ","Probe Messung / Sample Test\n1","Probe Messung / Sample Test\n2","Probe Messung / Sample Test\n3","Probe Messung / Sample Test\n4","Probe Messung / Sample Test\n5","Prüfer /\nOperator","Bemerkungen,\nMaterialien /\nRemarks,\nmaterials","Proben-nummer / Sample number ","Probe Messung / Sample Test\n1","Probe Messung / Sample Test\n2","Probe Messung / Sample Test\n3","Probe Messung / Sample Test\n4","Probe Messung / Sample Test\n5","Prüfer /\nOperator","Bemerkungen,\nMaterialien /\nRemarks,\nmaterials","Proben-nummer / Sample number ","Probe Messung / Sample Test\n1","Probe Messung / Sample Test\n2","Probe Messung / Sample Test\n3","Probe Messung / Sample Test\n4","Probe Messung / Sample Test\n5","Prüfer /\nOperator","Bemerkungen,\nMaterialien /\nRemarks,\nmaterials","Proben-nummer / Sample number ","Probe Messung / Sample Test\n1","Probe Messung / Sample Test\n2","Probe Messung / Sample Test\n3","Probe Messung / Sample Test\n4","Probe Messung / Sample Test\n5","Prüfer /\nOperator","Bemerkungen,\nMaterialien /\nRemarks,\nmaterials","Proben-nummer / Sample number ","Probe Messung / Sample Test\n1","Probe Messung / Sample Test\n2","Probe Messung / Sample Test\n3","Probe Messung / Sample Test\n4","Probe Messung / Sample Test\n5","Prüfer /\nOperator","Bemerkungen,\nMaterialien /\nRemarks,\nmaterials","Proben-nummer / Sample number ","Probe Messung / Sample Test\n1","Probe Messung / Sample Test\n2","Probe Messung / Sample Test\n3","Probe Messung / Sample Test\n4","Probe Messung / Sample Test\n5","Prüfer /\nOperator","Bemerkungen,\nMaterialien /\nRemarks,\nmaterials","Proben-nummer / Sample number ","Probe Messung / Sample Test\n1","Probe Messung / Sample Test\n2","Probe Messung / Sample Test\n3","Probe Messung / Sample Test\n4","Probe Messung / Sample Test\n5","Prüfer /\nOperator","Bemerkungen,\nMaterialien /\nRemarks,\nmaterials","Proben-nummer / Sample number ","Probe Messung / Sample Test\n1","Probe Messung / Sample Test\n2","Probe Messung / Sample Test\n3","Probe Messung / Sample Test\n4","Probe Messung / Sample Test\n5","Prüfer /\nOperator","Bemerkungen,\nMaterialien /\nRemarks,\nmaterials","Proben-nummer / Sample number ","Probe Messung / Sample Test\n1","Probe Messung / Sample Test\n2","Probe Messung / Sample Test\n3","Probe Messung / Sample Test\n4","Probe Messung / Sample Test\n5","Prüfer /\nOperator","Bemerkungen,\nMaterialien /\nRemarks,\nmaterials","Proben-nummer / Sample number ","Probe Messung / Sample Test\n1","Probe Messung / Sample Test\n2","Probe Messung / Sample Test\n3","Probe Messung / Sample Test\n4","Probe Messung / Sample Test\n5","Prüfer /\nOperator","Bemerkungen,\nMaterialien /\nRemarks,\nmaterials","Proben-nummer / Sample number ","Probe Messung / Sample Test\n1","Probe Messung / Sample Test\n2","Probe Messung / Sample Test\n3","Probe Messung / Sample Test\n4","Probe Messung / Sample Test\n5","Prüfer /\nOperator","Bemerkungen,\nMaterialien /\nRemarks,\nmaterials","Proben-nummer / Sample number ","Probe Messung / Sample Test\n1","Probe Messung / Sample Test\n2","Probe Messung / Sample Test\n3","Probe Messung / Sample Test\n4","Probe Messung / Sample Test\n5","Prüfer /\nOperator","Bemerkungen,\nMaterialien /\nRemarks,\nmaterials","Proben-nummer / Sample number ","Probe Messung / Sample Test\n1","Probe Messung / Sample Test\n2","Probe Messung / Sample Test\n3","Probe Messung / Sample Test\n4","Probe Messung / Sample Test\n5","Prüfer /\nOperator","Bemerkungen,\nMaterialien /\nRemarks,\nmaterials","Proben-nummer / Sample number ","Probe Messung / Sample Test\n1","Probe Messung / Sample Test\n2","Probe Messung / Sample Test\n3","Probe Messung / Sample Test\n4","Probe Messung / Sample Test\n5","Prüfer /\nOperator","Bemerkungen,\nMaterialien /\nRemarks,\nmaterials","Proben-nummer / Sample number ","Probe Messung / Sample Test\n1","Probe Messung / Sample Test\n2","Probe Messung / Sample Test\n3","Probe Messung / Sample Test\n4","Probe Messung / Sample Test\n5","Prüfer /\nOperator","Bemerkungen,\nMaterialien /\nRemarks,\nmaterials","Proben-nummer / Sample number ","Probe Messung / Sample Test\n1","Probe Messung / Sample Test\n2","Probe Messung / Sample Test\n3","Probe Messung / Sample Test\n4","Probe Messung / Sample Test\n5","Prüfer /\nOperator","Bemerkungen,\nMaterialien /\nRemarks,\nmaterials","Proben-nummer / Sample number ","Probe Messung / Sample Test\n1","Probe Messung / Sample Test\n2","Probe Messung / Sample Test\n3","Probe Messung / Sample Test\n4","Probe Messung / Sample Test\n5","Prüfer /\nOperator","Bemerkungen,\nMaterialien /\nRemarks,\nmaterials","Proben-nummer / Sample number ","Probe Messung / Sample Test\n1","Probe Messung / Sample Test\n2","Probe Messung / Sample Test\n3","Probe Messung / Sample Test\n4","Probe Messung / Sample Test\n5","Prüfer /\nOperator","Bemerkungen,\nMaterialien /\nRemarks,\nmaterials","Proben-nummer / Sample number ","Probe Messung / Sample Test\n1","Probe Messung / Sample Test\n2","Probe Messung / Sample Test\n3","Probe Messung / Sample Test\n4","Probe Messung / Sample Test\n5","Prüfer /\nOperator","Bemerkungen,\nMaterialien /\nRemarks,\nmaterials","Proben-nummer / Sample number ","Probe Messung / Sample Test\n1","Probe Messung / Sample Test\n2","Probe Messung / Sample Test\n3","Probe Messung / Sample Test\n4","Probe Messung / Sample Test\n5","Prüfer /\nOperator","Bemerkungen,\nMaterialien /\nRemarks,\nmaterials","Proben-nummer / Sample number ","Probe Messung / Sample Test\n1","Probe Messung / Sample Test\n2","Probe Messung / Sample Test\n3","Probe Messung / Sample Test\n4","Probe Messung / Sample Test\n5","Prüfer /\nOperator","Bemerkungen,\nMaterialien /\nRemarks,\nmaterials","Proben-nummer / Sample number ","Probe Messung / Sample Test\n1","Probe Messung / Sample Test\n2","Probe Messung / Sample Test\n3","Probe Messung / Sample Test\n4","Probe Messung / Sample Test\n5","Prüfer /\nOperator","Bemerkungen,\nMaterialien /\nRemarks,\nmaterials","Proben-nummer / Sample number ","Probe Messung / Sample Test\n1","Probe Messung / Sample Test\n2","Probe Messung / Sample Test\n3","Probe Messung / Sample Test\n4","Probe Messung / Sample Test\n5","Nummer der nächst möglichen Zusatzprüfung"]
[]
[1,null,{"$f":"RIGHT(Data!C12,10)","v":""},null,null,null,null,null,null,null,{"$f":"IFERROR($U$3*Data!M12/SQRT(COUNT(Data!F12:J12)),\"\")","v":""},"-","-",{"$f":"IF(COUNT(F12:J12)>=5,STDEV(F12:J12)*$U$3/SQRT((COUNT(F12:J12))),\"\")","v":""},{"$f":"IFERROR($U$4*SQRT($U$7^2+L12^2+K12^2+$U$5^2+N12^2),\"\")","v":""},{"$f":"IF(AND(F12<>\"\",G12<>\"\",H12<>\"\",I12<>\"\",J12<>\"\"),AVERAGE(F12:J12),\"\")","v":""},{"$f":"IFERROR((Data!K12-$E$4),\"\")","v":""},{"$f":"IF(AND(F12<>\"\",G12<>\"\",H12<>\"\",I12<>\"\",J12<>\"\"),Data!Q12-$E$4,\"\")","v":""},{"$f":"IF(O12<>\"\",FIXED(X12,1) & \" ± \" & FIXED(O12+ABS(R12),2),\"\")","v":""},"-",{"$f":"IF(IO12=\"\",\"\",IO12-1)","v":""},"-","-",{"$f":"IF(F12<>\"\",AVERAGE(F12:J12),\"\")","v":""}]
[2,null,{"$f":"RIGHT(Data!C13,10)","v":""},null,null,null,null,null,null,null,{"$f":"IFERROR($U$3*Data!M13/SQRT(COUNT(Data!F13:J13)),\"\")","v":""},{"$f":"IF(F13<>\"\",V13*W13/SQRT(A13),\"\")","v":""},{"$f":"IF(F13<>\"\",$U$4*SQRT($U$7^2+L13^2+K13^2+$U$5^2),\"\")","v":""},"","",{"$f":"IF(AND(F13<>\"\",G13<>\"\",H13<>\"\",I13<>\"\",J13<>\"\"),AVERAGE(F13:J13),\"\")","v":""},{"$f":"IFERROR((Data!K13-$E$4),\"\")","v":""},{"$f":"IF(AND(F13<>\"\",G13<>\"\",H13<>\"\",I13<>\"\",J13<>\"\"),Data!Q13-$E$4,\"\")","v":""},"",{"$f":"IF(F13<>\"\",FIXED(AVERAGE(F13:J13)-R13,1) & \" ± \" & FIXED(O13,2),\"\")","v":""},{"$f":"IF(IO13=\"\",\"\",IO13-1)","v":""},{"$f":"IF(F13<>\"\",TINV(1-0.68,A13-1),\"\")","v":""},{"$f":"IF(F13<>\"\",STDEV($Q$12:Q13),\"\")","v":""},""]
[3,null,{"$f":"RIGHT(Data!C14,10)","v":""},null,null,null,null,null,null,null,{"$f":"IFERROR($U$3*Data!M14/SQRT(COUNT(Data!F14:J14)),\"\")","v":""},"","","","","",{"$f":"IFERROR((Data!K14-$E$4),\"\")","v":""},{"$f":"IF(AND(F14<>\"\",G14<>\"\",H14<>\"\",I14<>\"\",J14<>\"\"),Data!Q14-$E$4,\"\")","v":""},"","","","",{"$f":"IF(F14<>\"\",STDEV($Q$12:Q14),\"\")","v":""},""]
[4,null,{"$f":"RIGHT(Data!C15,10)","v":""},null,null,null,null,null,null,null,{"$f":"IFERROR($U$3*Data!M15/SQRT(COUNT(Data!F15:J15)),\"\")","v":""},"","","","","",{"$f":"IFERROR((Data!K15-$E$4),\"\")","v":""},{"$f":"IF(AND(F15<>\"\",G15<>\"\",H15<>\"\",I15<>\"\",J15<>\"\"),Data!Q15-$E$4,\"\")","v":""},"","","","",{"$f":"IF(F15<>\"\",STDEV($Q$12:Q15),\"\")","v":""},""]
[5,null,{"$f":"RIGHT(Data!C16,10)","v":""},null,null,null,null,null,null,null,{"$f":"IFERROR($U$3*Data!M16/SQRT(COUNT(Data!F16:J16)),\"\")","v":""},"","","","","",{"$f":"IFERROR((Data!K16-$E$4),\"\")","v":""},{"$f":"IF(AND(F16<>\"\",G16<>\"\",H16<>\"\",I16<>\"\",J16<>\"\"),Data!Q16-$E$4,\"\")","v":""},"","","","",{"$f":"IF(F16<>\"\",STDEV($Q$12:Q16),\"\")","v":""},""]
[6,null,{"$f":"RIGHT(Data!C17,10)","v":""},null,null,null,null,null,null,null,{"$f":"IFERROR($U$3*Data!M17/SQRT(COUNT(Data!F17:J17)),\"\")","v":""},"","","","","",{"$f":"IFERROR((Data!K17-$E$4),\"\")","v":""},{"$f":"IF(AND(F17<>\"\",G17<>\"\",H17<>\"\",I17<>\"\",J17<>\"\"),Data!Q17-$E$4,\"\")","v":""},"","","","",{"$f":"IF(F17<>\"\",STDEV($Q$12:Q17),\"\")","v":""},""]
[7,null,{"$f":"RIGHT(Data!C18,10)","v":""},null,null,null,null,null,null,null,{"$f":"IFERROR($U$3*Data!M18/SQRT(COUNT(Data!F18:J18)),\"\")","v":""},"","","","","",{"$f":"IFERROR((Data!K18-$E$4),\"\")","v":""},{"$f":"IF(AND(F18<>\"\",G18<>\"\",H18<>\"\",I18<>\"\",J18<>\"\"),Data!Q18-$E$4,\"\")","v":""},"","","","",{"$f":"IF(F18<>\"\",STDEV($Q$12:Q18),\"\")","v":""},""]
[8,null,{"$f":"RIGHT(Data!C19,10)","v":""},null,null,null,null,null,null,null,{"$f":"IFERROR($U$3*Data!M19/SQRT(COUNT(Data!F19:J19)),\"\")","v":""},"","","","","",{"$f":"IFERROR((Data!K19-$E$4),\"\")","v":""},{"$f":"IF(AND(F19<>\"\",G19<>\"\",H19<>\"\",I19<>\"\",J19<>\"\"),Data!Q19-$E$4,\"\")","v":""},"","","","",{"$f":"IF(F19<>\"\",STDEV($Q$12:Q19),\"\")","v":""},""]
[9,null,{"$f":"RIGHT(Data!C20,10)","v":""},null,null,null,null,null,null,null,{"$f":"IFERROR($U$3*Data!M20/SQRT(COUNT(Data!F20:J20)),\"\")","v":""},"","","","","",{"$f":"IFERROR((Data!K20-$E$4),\"\")","v":""},{"$f":"IF(AND(F20<>\"\",G20<>\"\",H20<>\"\",I20<>\"\",J20<>\"\"),Data!Q20-$E$4,\"\")","v":""},"","","","",{"$f":"IF(F20<>\"\",STDEV($Q$12:Q20),\"\")","v":""},""]
[10,null,{"$f":"RIGHT(Data!C21,10)","v":""},null,null,null,null,null,null,null,{"$f":"IFERROR($U$3*Data!M21/SQRT(COUNT(Data!F21:J21)),\"\")","v":""},"","","","","",{"$f":"IFERROR((Data!K21-$E$4),\"\")","v":""},{"$f":"IF(AND(F21<>\"\",G21<>\"\",H21<>\"\",I21<>\"\",J21<>\"\"),Data!Q21-$E$4,\"\")","v":""},"","","","",{"$f":"IF(F21<>\"\",STDEV($Q$12:Q21),\"\")","v":""},""]
[11,null,{"$f":"RIGHT(Data!C22,10)","v":""},null,null,null,null,null,null,null,{"$f":"IFERROR($U$3*Data!M22/SQRT(COUNT(Data!F22:J22)),\"\")","v":""},"","","","","",{"$f":"IFERROR((Data!K22-$E$4),\"\")","v":""},{"$f":"IF(AND(F22<>\"\",G22<>\"\",H22<>\"\",I22<>\"\",J22<>\"\"),Data!Q22-$E$4,\"\")","v":""},"","","","",{"$f":"IF(F22<>\"\",STDEV($Q$12:Q22),\"\")","v":""},""]
[12,null,{"$f":"RIGHT(Data!C23,10)","v":""},null,null,null,null,null,null,null,{"$f":"IFERROR($U$3*Data!M23/SQRT(COUNT(Data!F23:J23)),\"\")","v":""},"","","","","",{"$f":"IFERROR((Data!K23-$E$4),\"\")","v":""},{"$f":"IF(AND(F23<>\"\",G23<>\"\",H23<>\"\",I23<>\"\",J23<>\"\"),Data!Q23-$E$4,\"\")","v":""},"","","","",{"$f":"IF(F23<>\"\",STDEV($Q$12:Q23),\"\")","v":""},""]
[13,null,{"$f":"RIGHT(Data!C24,10)","v":""},null,null,null,null,null,null,null,{"$f":"IFERROR($U$3*Data!M24/SQRT(COUNT(Data!F24:J24)),\"\")","v":""},"","","","","",{"$f":"IFERROR((Data!K24-$E$4),\"\")","v":""},{"$f":"IF(AND(F24<>\"\",G24<>\"\",H24<>\"\",I24<>\"\",J24<>\"\"),Data!Q24-$E$4,\"\")","v":""},"","","","",{"$f":"IF(F24<>\"\",STDEV($Q$12:Q24),\"\")","v":""},""]
[14,null,{"$f":"RIGHT(Data!C25,10)","v":""},null,null,null,null,null,null,null,{"$f":"IFERROR($U$3*Data!M25/SQRT(COUNT(Data!F25:J25)),\"\")","v":""},"","","","","",{"$f":"IFERROR((Data!K25-$E$4),\"\")","v":""},{"$f":"IF(AND(F25<>\"\",G25<>\"\",H25<>\"\",I25<>\"\",J25<>\"\"),Data!Q25-$E$4,\"\")","v":""},"","","","",{"$f":"IF(F25<>\"\",STDEV($Q$12:Q25),\"\")","v":""},""]
[15,null,{"$f":"RIGHT(Data!C26,10)","v":""},null,null,null,null,null,null,null,{"$f":"IFERROR($U$3*Data!M26/SQRT(COUNT(Data!F26:J26)),\"\")","v":""},"","","","","",{"$f":"IFERROR((Data!K26-$E$4),\"\")","v":""},{"$f":"IF(AND(F26<>\"\",G26<>\"\",H26<>\"\",I26<>\"\",J26<>\"\"),Data!Q26-$E$4,\"\")","v":""},"","","","",{"$f":"IF(F26<>\"\",STDEV($Q$12:Q26),\"\")","v":""},""]
[16,null,{"$f":"RIGHT(Data!C27,10)","v":""},null,null,null,null,null,null,null,{"$f":"IFERROR($U$3*Data!M27/SQRT(COUNT(Data!F27:J27)),\"\")","v":""},"","","","","",{"$f":"IFERROR((Data!K27-$E$4),\"\")","v":""},{"$f":"IF(AND(F27<>\"\",G27<>\"\",H27<>\"\",I27<>\"\",J27<>\"\"),Data!Q27-$E$4,\"\")","v":""},"","","","",{"$f":"IF(F27<>\"\",STDEV($Q$12:Q27),\"\")","v":""},""]
[17,null,{"$f":"RIGHT(Data!C28,10)","v":""},null,null,null,null,null,null,null,{"$f":"IFERROR($U$3*Data!M28/SQRT(COUNT(Data!F28:J28)),\"\")","v":""},"","","","","",{"$f":"IFERROR((Data!K28-$E$4),\"\")","v":""},{"$f":"IF(AND(F28<>\"\",G28<>\"\",H28<>\"\",I28<>\"\",J28<>\"\"),Data!Q28-$E$4,\"\")","v":""},"","","","",{"$f":"IF(F28<>\"\",STDEV($Q$12:Q28),\"\")","v":""},""]
[18,null,{"$f":"RIGHT(Data!C29,10)","v":""},null,null,null,null,null,null,null,{"$f":"IFERROR($U$3*Data!M29/SQRT(COUNT(Data!F29:J29)),\"\")","v":""},"","","","","",{"$f":"IFERROR((Data!K29-$E$4),\"\")","v":""},{"$f":"IF(AND(F29<>\"\",G29<>\"\",H29<>\"\",I29<>\"\",J29<>\"\"),Data!Q29-$E$4,\"\")","v":""},"","","","",{"$f":"IF(F29<>\"\",STDEV($Q$12:Q29),\"\")","v":""},""]
[19,null,{"$f":"RIGHT(Data!C30,10)","v":""},null,null,null,null,null,null,null,{"$f":"IFERROR($U$3*Data!M30/SQRT(COUNT(Data!F30:J30)),\"\")","v":""},"","","","","",{"$f":"IFERROR((Data!K30-$E$4),\"\")","v":""},{"$f":"IF(AND(F30<>\"\",G30<>\"\",H30<>\"\",I30<>\"\",J30<>\"\"),Data!Q30-$E$4,\"\")","v":""},"","","","",{"$f":"IF(F30<>\"\",STDEV($Q$12:Q30),\"\")","v":""},""]
[20,null,{"$f":"RIGHT(Data!C31,10)","v":""},null,null,null,null,null,null,null,{"$f":"IFERROR($U$3*Data!M31/SQRT(COUNT(Data!F31:J31)),\"\")","v":""},"","","","","",{"$f":"IFERROR((Data!K31-$E$4),\"\")","v":""},{"$f":"IF(AND(F31<>\"\",G31<>\"\",H31<>\"\",I31<>\"\",J31<>\"\"),Data!Q31-$E$4,\"\")","v":""},"","","","",{"$f":"IF(F31<>\"\",STDEV($Q$12:Q31),\"\")","v":""},""]
[21,null,{"$f":"RIGHT(Data!C32,10)","v":""},null,null,null,null,null,null,null,{"$f":"IFERROR($U$3*Data!M32/SQRT(COUNT(Data!F32:J32)),\"\")","v":""},"","","","","",{"$f":"IFERROR((Data!K32-$E$4),\"\")","v":""},{"$f":"IF(AND(F32<>\"\",G32<>\"\",H32<>\"\",I32<>\"\",J32<>\"\"),Data!Q32-$E$4,\"\")","v":""},"","","","",{"$f":"IF(F32<>\"\",STDEV($Q$12:Q32),\"\")","v":""},""]
[22,null,{"$f":"RIGHT(Data!C33,10)","v":""},null,null,null,null,null,null,null,{"$f":"IFERROR($U$3*Data!M33/SQRT(COUNT(Data!F33:J33)),\"\")","v":""},"","","","","",{"$f":"IFERROR((Data!K33-$E$4),\"\")","v":""},{"$f":"IF(AND(F33<>\"\",G33<>\"\",H33<>\"\",I33<>\"\",J33<>\"\"),Data!Q33-$E$4,\"\")","v":""},"","","","",{"$f":"IF(F33<>\"\",STDEV($Q$12:Q33),\"\")","v":""},""]
[23,null,{"$f":"RIGHT(Data!C34,10)","v":""},null,null,null,null,null,null,null,{"$f":"IFERROR($U$3*Data!M34/SQRT(COUNT(Data!F34:J34)),\"\")","v":""},"","","","","",{"$f":"IFERROR((Data!K34-$E$4),\"\")","v":""},{"$f":"IF(AND(F34<>\"\",G34<>\"\",H34<>\"\",I34<>\"\",J34<>\"\"),Data!Q34-$E$4,\"\")","v":""},"","","","",{"$f":"IF(F34<>\"\",STDEV($Q$12:Q34),\"\")","v":""},""]
[24,null,{"$f":"RIGHT(Data!C35,10)","v":""},null,null,null,null,null,null,null,{"$f":"IFERROR($U$3*Data!M35/SQRT(COUNT(Data!F35:J35)),\"\")","v":""},"","","","","",{"$f":"IFERROR((Data!K35-$E$4),\"\")","v":""},{"$f":"IF(AND(F35<>\"\",G35<>\"\",H35<>\"\",I35<>\"\",J35<>\"\"),Data!Q35-$E$4,\"\")","v":""},"","","","",{"$f":"IF(F35<>\"\",STDEV($Q$12:Q35),\"\")","v":""},""]
[25,null,{"$f":"RIGHT(Data!C36,10)","v":""},null,null,null,null,null,null,null,{"$f":"IFERROR($U$3*Data!M36/SQRT(COUNT(Data!F36:J36)),\"\")","v":""},"","","","","",{"$f":"IFERROR((Data!K36-$E$4),\"\")","v":""},{"$f":"IF(AND(F36<>\"\",G36<>\"\",H36<>\"\",I36<>\"\",J36<>\"\"),Data!Q36-$E$4,\"\")","v":""},"","","","",{"$f":"IF(F36<>\"\",STDEV($Q$12:Q36),\"\")","v":""},""]
[26,null,{"$f":"RIGHT(Data!C37,10)","v":""},null,null,null,null,null,null,null,{"$f":"IFERROR($U$3*Data!M37/SQRT(COUNT(Data!F37:J37)),\"\")","v":""},"","","","","",{"$f":"IFERROR((Data!K37-$E$4),\"\")","v":""},{"$f":"IF(AND(F37<>\"\",G37<>\"\",H37<>\"\",I37<>\"\",J37<>\"\"),Data!Q37-$E$4,\"\")","v":""},"","","","",{"$f":"IF(F37<>\"\",STDEV($Q$12:Q37),\"\")","v":""},""]
[27,null,{"$f":"RIGHT(Data!C38,10)","v":""},null,null,null,null,null,null,null,{"$f":"IFERROR($U$3*Data!M38/SQRT(COUNT(Data!F38:J38)),\"\")","v":""},"","","","","",{"$f":"IFERROR((Data!K38-$E$4),\"\")","v":""},{"$f":"IF(AND(F38<>\"\",G38<>\"\",H38<>\"\",I38<>\"\",J38<>\"\"),Data!Q38-$E$4,\"\")","v":""},"","","","",{"$f":"IF(F38<>\"\",STDEV($Q$12:Q38),\"\")","v":""},""]
[28,null,{"$f":"RIGHT(Data!C39,10)","v":""},null,null,null,null,null,null,null,{"$f":"IFERROR($U$3*Data!M39/SQRT(COUNT(Data!F39:J39)),\"\")","v":""},"","","","","",{"$f":"IFERROR((Data!K39-$E$4),\"\")","v":""},{"$f":"IF(AND(F39<>\"\",G39<>\"\",H39<>\"\",I39<>\"\",J39<>\"\"),Data!Q39-$E$4,\"\")","v":""},"","","","",{"$f":"IF(F39<>\"\",STDEV($Q$12:Q39),\"\")","v":""},""]
[29,null,{"$f":"RIGHT(Data!C40,10)","v":""},null,null,null,null,null,null,null,{"$f":"IFERROR($U$3*Data!M40/SQRT(COUNT(Data!F40:J40)),\"\")","v":""},"","","","","",{"$f":"IFERROR((Data!K40-$E$4),\"\")","v":""},{"$f":"IF(AND(F40<>\"\",G40<>\"\",H40<>\"\",I40<>\"\",J40<>\"\"),Data!Q40-$E$4,\"\")","v":""},"","","","",{"$f":"IF(F40<>\"\",STDEV($Q$12:Q40),\"\")","v":""},""]
[30,null,{"$f":"RIGHT(Data!C41,10)","v":""},null,null,null,null,null,null,null,{"$f":"IFERROR($U$3*Data!M41/SQRT(COUNT(Data!F41:J41)),\"\")","v":""},"","","","","",{"$f":"IFERROR((Data!K41-$E$4),\"\")","v":""},{"$f":"IF(AND(F41<>\"\",G41<>\"\",H41<>\"\",I41<>\"\",J41<>\"\"),Data!Q41-$E$4,\"\")","v":""},"","","","",{"$f":"IF(F41<>\"\",STDEV($Q$12:Q41),\"\")","v":""},""]
[31,null,{"$f":"RIGHT(Data!C42,10)","v":""},null,null,null,null,null,null,null,{"$f":"IFERROR($U$3*Data!M42/SQRT(COUNT(Data!F42:J42)),\"\")","v":""},"","","","","",{"$f":"IFERROR((Data!K42-$E$4),\"\")","v":""},{"$f":"IF(AND(F42<>\"\",G42<>\"\",H42<>\"\",I42<>\"\",J42<>\"\"),Data!Q42-$E$4,\"\")","v":""},"","","","",{"$f":"IF(F42<>\"\",STDEV($Q$12:Q42),\"\")","v":""},""]
[32,null,{"$f":"RIGHT(Data!C43,10)","v":""},null,null,null,null,null,null,null,{"$f":"IFERROR($U$3*Data!M43/SQRT(COUNT(Data!F43:J43)),\"\")","v":""},"","","","","",{"$f":"IFERROR((Data!K43-$E$4),\"\")","v":""},{"$f":"IF(AND(F43<>\"\",G43<>\"\",H43<>\"\",I43<>\"\",J43<>\"\"),Data!Q43-$E$4,\"\")","v":""},"","","","",{"$f":"IF(F43<>\"\",STDEV($Q$12:Q43),\"\")","v":""},""]
[33,null,{"$f":"RIGHT(Data!C44,10)","v":""},null,null,null,null,null,null,null,{"$f":"IFERROR($U$3*Data!M44/SQRT(COUNT(Data!F44:J44)),\"\")","v":""},"","","","","",{"$f":"IFERROR((Data!K44-$E$4),\"\")","v":""},{"$f":"IF(AND(F44<>\"\",G44<>\"\",H44<>\"\",I44<>\"\",J44<>\"\"),Data!Q44-$E$4,\"\")","v":""},"","","","",{"$f":"IF(F44<>\"\",STDEV($Q$12:Q44),\"\")","v":""},""]
[34,null,{"$f":"RIGHT(Data!C45,10)","v":""},null,null,null,null,null,null,null,{"$f":"IFERROR($U$3*Data!M45/SQRT(COUNT(Data!F45:J45)),\"\")","v":""},"","","","","",{"$f":"IFERROR((Data!K45-$E$4),\"\")","v":""},{"$f":"IF(AND(F45<>\"\",G45<>\"\",H45<>\"\",I45<>\"\",J45<>\"\"),Data!Q45-$E$4,\"\")","v":""},"","","","",{"$f":"IF(F45<>\"\",STDEV($Q$12:Q45),\"\")","v":""},""]
[35,null,{"$f":"RIGHT(Data!C46,10)","v":""},null,null,null,null,null,null,null,{"$f":"IFERROR($U$3*Data!M46/SQRT(COUNT(Data!F46:J46)),\"\")","v":""},"","","","","",{"$f":"IFERROR((Data!K46-$E$4),\"\")","v":""},{"$f":"IF(AND(F46<>\"\",G46<>\"\",H46<>\"\",I46<>\"\",J46<>\"\"),Data!Q46-$E$4,\"\")","v":""},"","","","",{"$f":"IF(F46<>\"\",STDEV($Q$12:Q46),\"\")","v":""},""]
[36,null,{"$f":"RIGHT(Data!C47,10)","v":""},null,null,null,null,null,null,null,{"$f":"IFERROR($U$3*Data!M47/SQRT(COUNT(Data!F47:J47)),\"\")","v":""},"","","","","",{"$f":"IFERROR((Data!K47-$E$4),\"\")","v":""},{"$f":"IF(AND(F47<>\"\",G47<>\"\",H47<>\"\",I47<>\"\",J47<>\"\"),Data!Q47-$E$4,\"\")","v":""},"","","","",{"$f":"IF(F47<>\"\",STDEV($Q$12:Q47),\"\")","v":""},""]
[37,null,{"$f":"RIGHT(Data!C48,10)","v":""},null,null,null,null,null,null,null,{"$f":"IFERROR($U$3*Data!M48/SQRT(COUNT(Data!F48:J48)),\"\")","v":""},"","","","","",{"$f":"IFERROR((Data!K48-$E$4),\"\")","v":""},{"$f":"IF(AND(F48<>\"\",G48<>\"\",H48<>\"\",I48<>\"\",J48<>\"\"),Data!Q48-$E$4,\"\")","v":""},"","","","",{"$f":"IF(F48<>\"\",STDEV($Q$12:Q48),\"\")","v":""},""]
[38,null,{"$f":"RIGHT(Data!C49,10)","v":""},null,null,null,null,null,null,null,{"$f":"IFERROR($U$3*Data!M49/SQRT(COUNT(Data!F49:J49)),\"\")","v":""},"","","","","",{"$f":"IFERROR((Data!K49-$E$4),\"\")","v":""},{"$f":"IF(AND(F49<>\"\",G49<>\"\",H49<>\"\",I49<>\"\",J49<>\"\"),Data!Q49-$E$4,\"\")","v":""},"","","","",{"$f":"IF(F49<>\"\",STDEV($Q$12:Q49),\"\")","v":""},""]
[39,null,{"$f":"RIGHT(Data!C50,10)","v":""},null,null,null,null,null,null,null,{"$f":"IFERROR($U$3*Data!M50/SQRT(COUNT(Data!F50:J50)),\"\")","v":""},"","","","","",{"$f":"IFERROR((Data!K50-$E$4),\"\")","v":""},{"$f":"IF(AND(F50<>\"\",G50<>\"\",H50<>\"\",I50<>\"\",J50<>\"\"),Data!Q50-$E$4,\"\")","v":""},"","","","",{"$f":"IF(F50<>\"\",STDEV($Q$12:Q50),\"\")","v":""},""]
[40,null,{"$f":"RIGHT(Data!C51,10)","v":""},null,null,null,null,null,null,null,{"$f":"IFERROR($U$3*Data!M51/SQRT(COUNT(Data!F51:J51)),\"\")","v":""},"","","","","",{"$f":"IFERROR((Data!K51-$E$4),\"\")","v":""},{"$f":"IF(AND(F51<>\"\",G51<>\"\",H51<>\"\",I51<>\"\",J51<>\"\"),Data!Q51-$E$4,\"\")","v":""},"","","","",{"$f":"IF(F51<>\"\",STDEV($Q$12:Q51),\"\")","v":""},""]
[41,null,{"$f":"RIGHT(Data!C52,10)","v":""},null,null,null,null,null,null,null,{"$f":"IFERROR($U$3*Data!M52/SQRT(COUNT(Data!F52:J52)),\"\")","v":""},"","","","","",{"$f":"IFERROR((Data!K52-$E$4),\"\")","v":""},{"$f":"IF(AND(F52<>\"\",G52<>\"\",H52<>\"\",I52<>\"\",J52<>\"\"),Data!Q52-$E$4,\"\")","v":""},"","","","",{"$f":"IF(F52<>\"\",STDEV($Q$12:Q52),\"\")","v":""},""]
[42,null,{"$f":"RIGHT(Data!C53,10)","v":""},null,null,null,null,null,null,null,{"$f":"IFERROR($U$3*Data!M53/SQRT(COUNT(Data!F53:J53)),\"\")","v":""},"","","","","",{"$f":"IFERROR((Data!K53-$E$4),\"\")","v":""},{"$f":"IF(AND(F53<>\"\",G53<>\"\",H53<>\"\",I53<>\"\",J53<>\"\"),Data!Q53-$E$4,\"\")","v":""},"","","","",{"$f":"IF(F53<>\"\",STDEV($Q$12:Q53),\"\")","v":""},""]
[43,null,{"$f":"RIGHT(Data!C54,10)","v":""},null,null,null,null,null,null,null,{"$f":"IFERROR($U$3*Data!M54/SQRT(COUNT(Data!F54:J54)),\"\")","v":""},"","","","","",{"$f":"IFERROR((Data!K54-$E$4),\"\")","v":""},{"$f":"IF(AND(F54<>\"\",G54<>\"\",H54<>\"\",I54<>\"\",J54<>\"\"),Data!Q54-$E$4,\"\")","v":""},"","","","",{"$f":"IF(F54<>\"\",STDEV($Q$12:Q54),\"\")","v":""},""]
[44,null,{"$f":"RIGHT(Data!C55,10)","v":""},null,null,null,null,null,null,null,{"$f":"IFERROR($U$3*Data!M55/SQRT(COUNT(Data!F55:J55)),\"\")","v":""},"","","","","",{"$f":"IFERROR((Data!K55-$E$4),\"\")","v":""},{"$f":"IF(AND(F55<>\"\",G55<>\"\",H55<>\"\",I55<>\"\",J55<>\"\"),Data!Q55-$E$4,\"\")","v":""},"","","","",{"$f":"IF(F55<>\"\",STDEV($Q$12:Q55),\"\")","v":""},""]
[45,null,{"$f":"RIGHT(Data!C56,10)","v":""},null,null,null,null,null,null,null,{"$f":"IFERROR($U$3*Data!M56/SQRT(COUNT(Data!F56:J56)),\"\")","v":""},"","","","","",{"$f":"IFERROR((Data!K56-$E$4),\"\")","v":""},{"$f":"IF(AND(F56<>\"\",G56<>\"\",H56<>\"\",I56<>\"\",J56<>\"\"),Data!Q56-$E$4,\"\")","v":""},"","","","",{"$f":"IF(F56<>\"\",STDEV($Q$12:Q56),\"\")","v":""},""]
[46,null,{"$f":"RIGHT(Data!C57,10)","v":""},null,null,null,null,null,null,null,{"$f":"IFERROR($U$3*Data!M57/SQRT(COUNT(Data!F57:J57)),\"\")","v":""},"","","","","",{"$f":"IFERROR((Data!K57-$E$4),\"\")","v":""},{"$f":"IF(AND(F57<>\"\",G57<>\"\",H57<>\"\",I57<>\"\",J57<>\"\"),Data!Q57-$E$4,\"\")","v":""},"","","","",{"$f":"IF(F57<>\"\",STDEV($Q$12:Q57),\"\")","v":""},""]
[47,null,{"$f":"RIGHT(Data!C58,10)","v":""},null,null,null,null,null,null,null,{"$f":"IFERROR($U$3*Data!M58/SQRT(COUNT(Data!F58:J58)),\"\")","v":""},"","","","","",{"$f":"IFERROR((Data!K58-$E$4),\"\")","v":""},{"$f":"IF(AND(F58<>\"\",G58<>\"\",H58<>\"\",I58<>\"\",J58<>\"\"),Data!Q58-$E$4,\"\")","v":""},"","","","",{"$f":"IF(F58<>\"\",STDEV($Q$12:Q58),\"\")","v":""},""]
[48,null,{"$f":"RIGHT(Data!C59,10)","v":""},null,null,null,null,null,null,null,{"$f":"IFERROR($U$3*Data!M59/SQRT(COUNT(Data!F59:J59)),\"\")","v":""},"","","","","",{"$f":"IFERROR((Data!K59-$E$4),\"\")","v":""},{"$f":"IF(AND(F59<>\"\",G59<>\"\",H59<>\"\",I59<>\"\",J59<>\"\"),Data!Q59-$E$4,\"\")","v":""},"","","","",{"$f":"IF(F59<>\"\",STDEV($Q$12:Q59),\"\")","v":""},""]
[49,null,{"$f":"RIGHT(Data!C60,10)","v":""},null,null,null,null,null,null,null,{"$f":"IFERROR($U$3*Data!M60/SQRT(COUNT(Data!F60:J60)),\"\")","v":""},"","","","","",{"$f":"IFERROR((Data!K60-$E$4),\"\")","v":""},{"$f":"IF(AND(F60<>\"\",G60<>\"\",H60<>\"\",I60<>\"\",J60<>\"\"),Data!Q60-$E$4,\"\")","v":""},"","","","",{"$f":"IF(F60<>\"\",STDEV($Q$12:Q60),\"\")","v":""},""]
[50,null,{"$f":"RIGHT(Data!C61,10)","v":""},null,null,null,null,null,null,null,{"$f":"IFERROR($U$3*Data!M61/SQRT(COUNT(Data!F61:J61)),\"\")","v":""},"","","","","",{"$f":"IFERROR((Data!K61-$E$4),\"\")","v":""},{"$f":"IF(AND(F61<>\"\",G61<>\"\",H61<>\"\",I61<>\"\",J61<>\"\"),Data!Q61-$E$4,\"\")","v":""},"","","","",{"$f":"IF(F61<>\"\",STDEV($Q$12:Q61),\"\")","v":""},""]
[51,null,{"$f":"RIGHT(Data!C62,10)","v":""},null,null,null,null,null,null,null,{"$f":"IFERROR($U$3*Data!M62/SQRT(COUNT(Data!F62:J62)),\"\")","v":""},"","","","","",{"$f":"IFERROR((Data!K62-$E$4),\"\")","v":""},{"$f":"IF(AND(F62<>\"\",G62<>\"\",H62<>\"\",I62<>\"\",J62<>\"\"),Data!Q62-$E$4,\"\")","v":""},"","","","",{"$f":"IF(F62<>\"\",STDEV($Q$12:Q62),\"\")","v":""},""]
[52,null,{"$f":"RIGHT(Data!C63,10)","v":""},null,null,null,null,null,null,null,{"$f":"IFERROR($U$3*Data!M63/SQRT(COUNT(Data!F63:J63)),\"\")","v":""},"","","","","",{"$f":"IFERROR((Data!K63-$E$4),\"\")","v":""},{"$f":"IF(AND(F63<>\"\",G63<>\"\",H63<>\"\",I63<>\"\",J63<>\"\"),Data!Q63-$E$4,\"\")","v":""},"","","","",{"$f":"IF(F63<>\"\",STDEV($Q$12:Q63),\"\")","v":""},""]
[53,null,{"$f":"RIGHT(Data!C64,10)","v":""},null,null,null,null,null,null,null,{"$f":"IFERROR($U$3*Data!M64/SQRT(COUNT(Data!F64:J64)),\"\")","v":""},"","","","","",{"$f":"IFERROR((Data!K64-$E$4),\"\")","v":""},{"$f":"IF(AND(F64<>\"\",G64<>\"\",H64<>\"\",I64<>\"\",J64<>\"\"),Data!Q64-$E$4,\"\")","v":""},"","","","",{"$f":"IF(F64<>\"\",STDEV($Q$12:Q64),\"\")","v":""},""]
[54,null,{"$f":"RIGHT(Data!C65,10)","v":""},null,null,null,null,null,null,null,{"$f":"IFERROR($U$3*Data!M65/SQRT(COUNT(Data!F65:J65)),\"\")","v":""},"","","","","",{"$f":"IFERROR((Data!K65-$E$4),\"\")","v":""},{"$f":"IF(AND(F65<>\"\",G65<>\"\",H65<>\"\",I65<>\"\",J65<>\"\"),Data!Q65-$E$4,\"\")","v":""},"","","","",{"$f":"IF(F65<>\"\",STDEV($Q$12:Q65),\"\")","v":""},""]
[55,null,{"$f":"RIGHT(Data!C66,10)","v":""},null,null,null,null,null,null,null,{"$f":"IFERROR($U$3*Data!M66/SQRT(COUNT(Data!F66:J66)),\"\")","v":""},"","","","","",{"$f":"IFERROR((Data!K66-$E$4),\"\")","v":""},{"$f":"IF(AND(F66<>\"\",G66<>\"\",H66<>\"\",I66<>\"\",J66<>\"\"),Data!Q66-$E$4,\"\")","v":""},"","","","",{"$f":"IF(F66<>\"\",STDEV($Q$12:Q66),\"\")","v":""},""]
[56,null,{"$f":"RIGHT(Data!C67,10)","v":""},null,null,null,null,null,null,null,{"$f":"IFERROR($U$3*Data!M67/SQRT(COUNT(Data!F67:J67)),\"\")","v":""},"","","","","",{"$f":"IFERROR((Data!K67-$E$4),\"\")","v":""},{"$f":"IF(AND(F67<>\"\",G67<>\"\",H67<>\"\",I67<>\"\",J67<>\"\"),Data!Q67-$E$4,\"\")","v":""},"","","","",{"$f":"IF(F67<>\"\",STDEV($Q$12:Q67),\"\")","v":""},""]
[57,null,{"$f":"RIGHT(Data!C68,10)","v":""},null,null,null,null,null,null,null,{"$f":"IFERROR($U$3*Data!M68/SQRT(COUNT(Data!F68:J68)),\"\")","v":""},"","","","","",{"$f":"IFERROR((Data!K68-$E$4),\"\")","v":""},{"$f":"IF(AND(F68<>\"\",G68<>\"\",H68<>\"\",I68<>\"\",J68<>\"\"),Data!Q68-$E$4,\"\")","v":""},"","","","",{"$f":"IF(F68<>\"\",STDEV($Q$12:Q68),\"\")","v":""},""]
[58,null,{"$f":"RIGHT(Data!C69,10)","v":""},null,null,null,null,null,null,null,{"$f":"IFERROR($U$3*Data!M69/SQRT(COUNT(Data!F69:J69)),\"\")","v":""},"","","","","",{"$f":"IFERROR((Data!K69-$E$4),\"\")","v":""},{"$f":"IF(AND(F69<>\"\",G69<>\"\",H69<>\"\",I69<>\"\",J69<>\"\"),Data!Q69-$E$4,\"\")","v":""},"","","","",{"$f":"IF(F69<>\"\",STDEV($Q$12:Q69),\"\")","v":""},""]
[59,null,{"$f":"RIGHT(Data!C70,10)","v":""},null,null,null,null,null,null,null,{"$f":"IFERROR($U$3*Data!M70/SQRT(COUNT(Data!F70:J70)),\"\")","v":""},"","","","","",{"$f":"IFERROR((Data!K70-$E$4),\"\")","v":""},{"$f":"IF(AND(F70<>\"\",G70<>\"\",H70<>\"\",I70<>\"\",J70<>\"\"),Data!Q70-$E$4,\"\")","v":""},"","","","",{"$f":"IF(F70<>\"\",STDEV($Q$12:Q70),\"\")","v":""},""]
[60,null,{"$f":"RIGHT(Data!C71,10)","v":""},null,null,null,null,null,null,null,{"$f":"IFERROR($U$3*Data!M71/SQRT(COUNT(Data!F71:J71)),\"\")","v":""},"","","","","",{"$f":"IFERROR((Data!K71-$E$4),\"\")","v":""},{"$f":"IF(AND(F71<>\"\",G71<>\"\",H71<>\"\",I71<>\"\",J71<>\"\"),Data!Q71-$E$4,\"\")","v":""},"","","","",{"$f":"IF(F71<>\"\",STDEV($Q$12:Q71),\"\")","v":""},""]
[61,null,{"$f":"RIGHT(Data!C72,10)","v":""},null,null,null,null,null,null,null,{"$f":"IFERROR($U$3*Data!M72/SQRT(COUNT(Data!F72:J72)),\"\")","v":""},"","","","","",{"$f":"IFERROR((Data!K72-$E$4),\"\")","v":""},{"$f":"IF(AND(F72<>\"\",G72<>\"\",H72<>\"\",I72<>\"\",J72<>\"\"),Data!Q72-$E$4,\"\")","v":""},"","","","",{"$f":"IF(F72<>\"\",STDEV($Q$12:Q72),\"\")","v":""},""]
[62,null,{"$f":"RIGHT(Data!C73,10)","v":""},null,null,null,null,null,null,null,{"$f":"IFERROR($U$3*Data!M73/SQRT(COUNT(Data!F73:J73)),\"\")","v":""},"","","","","",{"$f":"IFERROR((Data!K73-$E$4),\"\")","v":""},{"$f":"IF(AND(F73<>\"\",G73<>\"\",H73<>\"\",I73<>\"\",J73<>\"\"),Data!Q73-$E$4,\"\")","v":""},"","","","",{"$f":"IF(F73<>\"\",STDEV($Q$12:Q73),\"\")","v":""},""]
[63,null,{"$f":"RIGHT(Data!C74,10)","v":""},null,null,null,null,null,null,null,{"$f":"IFERROR($U$3*Data!M74/SQRT(COUNT(Data!F74:J74)),\"\")","v":""},"","","","","",{"$f":"IFERROR((Data!K74-$E$4),\"\")","v":""},{"$f":"IF(AND(F74<>\"\",G74<>\"\",H74<>\"\",I74<>\"\",J74<>\"\"),Data!Q74-$E$4,\"\")","v":""},"","","","",{"$f":"IF(F74<>\"\",STDEV($Q$12:Q74),\"\")","v":""},""]
[64,null,{"$f":"RIGHT(Data!C75,10)","v":""},null,null,null,null,null,null,null,{"$f":"IFERROR($U$3*Data!M75/SQRT(COUNT(Data!F75:J75)),\"\")","v":""},"","","","","",{"$f":"IFERROR((Data!K75-$E$4),\"\")","v":""},{"$f":"IF(AND(F75<>\"\",G75<>\"\",H75<>\"\",I75<>\"\",J75<>\"\"),Data!Q75-$E$4,\"\")","v":""},"","","","",{"$f":"IF(F75<>\"\",STDEV($Q$12:Q75),\"\")","v":""},""]
[65,null,{"$f":"RIGHT(Data!C76,10)","v":""},null,null,null,null,null,null,null,{"$f":"IFERROR($U$3*Data!M76/SQRT(COUNT(Data!F76:J76)),\"\")","v":""},"","",{"$f":"IF(COUNT(F76:J76)>=5,STDEV(F76:J76)*$U$3/SQRT((COUNT(F76:J76))),\"\")","v":""},{"$f":"IFERROR($U$4*SQRT($U$7^2+L76^2+K76^2+$U$5^2+N76^2),\"\")","v":""},"",{"$f":"IFERROR((Data!K76-$E$4),\"\")","v":""},{"$f":"IF(AND(F76<>\"\",G76<>\"\",H76<>\"\",I76<>\"\",J76<>\"\"),Data!Q76-$E$4,\"\")","v":""},{"$f":"IF(O76<>\"\",FIXED(X76,1) & \" ± \" & FIXED(O76+ABS(R76),2),\"\")","v":""},"","","",{"$f":"IF(F76<>\"\",STDEV($Q$12:Q76),\"\")","v":""},{"$f":"IF(F76<>\"\",AVERAGE(F76:J76),\"\")","v":""}]
[66,null,{"$f":"RIGHT(Data!C77,10)","v":""},null,null,null,null,null,null,null,{"$f":"IFERROR($U$3*Data!M77/SQRT(COUNT(Data!F77:J77)),\"\")","v":""},{"$f":"IF(F77<>\"\",V77*W77/SQRT(A77),\"\")","v":""},{"$f":"IF(F77<>\"\",$U$4*SQRT($U$7^2+L77^2+K77^2+$U$5^2),\"\")","v":""},"","",{"$f":"IF(AND(F77<>\"\",G77<>\"\",H77<>\"\",I77<>\"\",J77<>\"\"),AVERAGE(F77:J77),\"\")","v":""},{"$f":"IFERROR((Data!K77-$E$4),\"\")","v":""},{"$f":"IF(AND(F77<>\"\",G77<>\"\",H77<>\"\",I77<>\"\",J77<>\"\"),Data!Q77-$E$4,\"\")","v":""},"",{"$f":"IF(F77<>\"\",FIXED(AVERAGE(F77:J77)-R77,1) & \" ± \" & FIXED(O77,2),\"\")","v":""},{"$f":"IF(IO77=\"\",\"\",IO77-1)","v":""},{"$f":"IF(F77<>\"\",TINV(1-0.68,A77-1),\"\")","v":""},{"$f":"IF(F77<>\"\",STDEV($Q$12:Q77),\"\")","v":""},""]
[67,null,{"$f":"RIGHT(Data!C78,10)","v":""},null,null,null,null,null,null,null,{"$f":"IFERROR($U$3*Data!M78/SQRT(COUNT(Data!F78:J78)),\"\")","v":""},"","","","","",{"$f":"IFERROR((Data!K78-$E$4),\"\")","v":""},{"$f":"IF(AND(F78<>\"\",G78<>\"\",H78<>\"\",I78<>\"\",J78<>\"\"),Data!Q78-$E$4,\"\")","v":""},"","","","",{"$f":"IF(F78<>\"\",STDEV($Q$12:Q78),\"\")","v":""},""]
[68,null,{"$f":"RIGHT(Data!C79,10)","v":""},null,null,null,null,null,null,null,{"$f":"IFERROR($U$3*Data!M79/SQRT(COUNT(Data!F79:J79)),\"\")","v":""},"","","","","",{"$f":"IFERROR((Data!K79-$E$4),\"\")","v":""},{"$f":"IF(AND(F79<>\"\",G79<>\"\",H79<>\"\",I79<>\"\",J79<>\"\"),Data!Q79-$E$4,\"\")","v":""},"","","","",{"$f":"IF(F79<>\"\",STDEV($Q$12:Q79),\"\")","v":""},""]
[69,null,{"$f":"RIGHT(Data!C80,10)","v":""},null,null,null,null,null,null,null,{"$f":"IFERROR($U$3*Data!M80/SQRT(COUNT(Data!F80:J80)),\"\")","v":""},"","","","","",{"$f":"IFERROR((Data!K80-$E$4),\"\")","v":""},{"$f":"IF(AND(F80<>\"\",G80<>\"\",H80<>\"\",I80<>\"\",J80<>\"\"),Data!Q80-$E$4,\"\")","v":""},"","","","",{"$f":"IF(F80<>\"\",STDEV($Q$12:Q80),\"\")","v":""},""]
[70,null,{"$f":"RIGHT(Data!C81,10)","v":""},null,null,null,null,null,null,null,{"$f":"IFERROR($U$3*Data!M81/SQRT(COUNT(Data!F81:J81)),\"\")","v":""},"","","","","",{"$f":"IFERROR((Data!K81-$E$4),\"\")","v":""},{"$f":"IF(AND(F81<>\"\",G81<>\"\",H81<>\"\",I81<>\"\",J81<>\"\"),Data!Q81-$E$4,\"\")","v":""},"","","","",{"$f":"IF(F81<>\"\",STDEV($Q$12:Q81),\"\")","v":""},""]
[71,null,{"$f":"RIGHT(Data!C82,10)","v":""},null,null,null,null,null,null,null,{"$f":"IFERROR($U$3*Data!M82/SQRT(COUNT(Data!F82:J82)),\"\")","v":""},"","","","","",{"$f":"IFERROR((Data!K82-$E$4),\"\")","v":""},{"$f":"IF(AND(F82<>\"\",G82<>\"\",H82<>\"\",I82<>\"\",J82<>\"\"),Data!Q82-$E$4,\"\")","v":""},"","","","",{"$f":"IF(F82<>\"\",STDEV($Q$12:Q82),\"\")","v":""},""]
[72,null,{"$f":"RIGHT(Data!C83,10)","v":""},null,null,null,null,null,null,null,{"$f":"IFERROR($U$3*Data!M83/SQRT(COUNT(Data!F83:J83)),\"\")","v":""},"","","","","",{"$f":"IFERROR((Data!K83-$E$4),\"\")","v":""},{"$f":"IF(AND(F83<>\"\",G83<>\"\",H83<>\"\",I83<>\"\",J83<>\"\"),Data!Q83-$E$4,\"\")","v":""},"","","","",{"$f":"IF(F83<>\"\",STDEV($Q$12:Q83),\"\")","v":""},""]
[73,null,{"$f":"RIGHT(Data!C84,10)","v":""},null,null,null,null,null,null,null,{"$f":"IFERROR($U$3*Data!M84/SQRT(COUNT(Data!F84:J84)),\"\")","v":""},"","","","","",{"$f":"IFERROR((Data!K84-$E$4),\"\")","v":""},{"$f":"IF(AND(F84<>\"\",G84<>\"\",H84<>\"\",I84<>\"\",J84<>\"\"),Data!Q84-$E$4,\"\")","v":""},"","","","",{"$f":"IF(F84<>\"\",STDEV($Q$12:Q84),\"\")","v":""},""]
[74,null,{"$f":"RIGHT(Data!C85,10)","v":""},null,null,null,null,null,null,null,{"$f":"IFERROR($U$3*Data!M85/SQRT(COUNT(Data!F85:J85)),\"\")","v":""},"","","","","",{"$f":"IFERROR((Data!K85-$E$4),\"\")","v":""},{"$f":"IF(AND(F85<>\"\",G85<>\"\",H85<>\"\",I85<>\"\",J85<>\"\"),Data!Q85-$E$4,\"\")","v":""},"","","","",{"$f":"IF(F85<>\"\",STDEV($Q$12:Q85),\"\")","v":""},""]
[75,null,{"$f":"RIGHT(Data!C86,10)","v":""},null,null,null,null,null,null,null,{"$f":"IFERROR($U$3*Data!M86/SQRT(COUNT(Data!F86:J86)),\"\")","v":""},"","","","","",{"$f":"IFERROR((Data!K86-$E$4),\"\")","v":""},{"$f":"IF(AND(F86<>\"\",G86<>\"\",H86<>\"\",I86<>\"\",J86<>\"\"),Data!Q86-$E$4,\"\")","v":""},"","","","",{"$f":"IF(F86<>\"\",STDEV($Q$12:Q86),\"\")","v":""},""]
[76,null,{"$f":"RIGHT(Data!C87,10)","v":""},null,null,null,null,null,null,null,{"$f":"IFERROR($U$3*Data!M87/SQRT(COUNT(Data!F87:J87)),\"\")","v":""},"","","","","",{"$f":"IFERROR((Data!K87-$E$4),\"\")","v":""},{"$f":"IF(AND(F87<>\"\",G87<>\"\",H87<>\"\",I87<>\"\",J87<>\"\"),Data!Q87-$E$4,\"\")","v":""},"","","","",{"$f":"IF(F87<>\"\",STDEV($Q$12:Q87),\"\")","v":""},""]
[77,null,{"$f":"RIGHT(Data!C88,10)","v":""},null,null,null,null,null,null,null,{"$f":"IFERROR($U$3*Data!M88/SQRT(COUNT(Data!F88:J88)),\"\")","v":""},"","","","","",{"$f":"IFERROR((Data!K88-$E$4),\"\")","v":""},{"$f":"IF(AND(F88<>\"\",G88<>\"\",H88<>\"\",I88<>\"\",J88<>\"\"),Data!Q88-$E$4,\"\")","v":""},"","","","",{"$f":"IF(F88<>\"\",STDEV($Q$12:Q88),\"\")","v":""},""]
[78,null,{"$f":"RIGHT(Data!C89,10)","v":""},null,null,null,null,null,null,null,{"$f":"IFERROR($U$3*Data!M89/SQRT(COUNT(Data!F89:J89)),\"\")","v":""},"","","","","",{"$f":"IFERROR((Data!K89-$E$4),\"\")","v":""},{"$f":"IF(AND(F89<>\"\",G89<>\"\",H89<>\"\",I89<>\"\",J89<>\"\"),Data!Q89-$E$4,\"\")","v":""},"","","","",{"$f":"IF(F89<>\"\",STDEV($Q$12:Q89),\"\")","v":""},""]
[79,null,{"$f":"RIGHT(Data!C90,10)","v":""},null,null,null,null,null,null,null,{"$f":"IFERROR($U$3*Data!M90/SQRT(COUNT(Data!F90:J90)),\"\")","v":""},"","","","","",{"$f":"IFERROR((Data!K90-$E$4),\"\")","v":""},{"$f":"IF(AND(F90<>\"\",G90<>\"\",H90<>\"\",I90<>\"\",J90<>\"\"),Data!Q90-$E$4,\"\")","v":""},"","","","",{"$f":"IF(F90<>\"\",STDEV($Q$12:Q90),\"\")","v":""},""]
[80,null,{"$f":"RIGHT(Data!C91,10)","v":""},null,null,null,null,null,null,null,{"$f":"IFERROR($U$3*Data!M91/SQRT(COUNT(Data!F91:J91)),\"\")","v":""},"","","","","",{"$f":"IFERROR((Data!K91-$E$4),\"\")","v":""},{"$f":"IF(AND(F91<>\"\",G91<>\"\",H91<>\"\",I91<>\"\",J91<>\"\"),Data!Q91-$E$4,\"\")","v":""},"","","","",{"$f":"IF(F91<>\"\",STDEV($Q$12:Q91),\"\")","v":""},""]
[81,null,{"$f":"RIGHT(Data!C92,10)","v":""},null,null,null,null,null,null,null,{"$f":"IFERROR($U$3*Data!M92/SQRT(COUNT(Data!F92:J92)),\"\")","v":""},"","","","","",{"$f":"IFERROR((Data!K92-$E$4),\"\")","v":""},{"$f":"IF(AND(F92<>\"\",G92<>\"\",H92<>\"\",I92<>\"\",J92<>\"\"),Data!Q92-$E$4,\"\")","v":""},"","","","",{"$f":"IF(F92<>\"\",STDEV($Q$12:Q92),\"\")","v":""},""]
[82,null,{"$f":"RIGHT(Data!C93,10)","v":""},null,null,null,null,null,null,null,{"$f":"IFERROR($U$3*Data!M93/SQRT(COUNT(Data!F93:J93)),\"\")","v":""},"","","","","",{"$f":"IFERROR((Data!K93-$E$4),\"\")","v":""},{"$f":"IF(AND(F93<>\"\",G93<>\"\",H93<>\"\",I93<>\"\",J93<>\"\"),Data!Q93-$E$4,\"\")","v":""},"","","","",{"$f":"IF(F93<>\"\",STDEV($Q$12:Q93),\"\")","v":""},""]
[83,null,{"$f":"RIGHT(Data!C94,10)","v":""},null,null,null,null,null,null,null,{"$f":"IFERROR($U$3*Data!M94/SQRT(COUNT(Data!F94:J94)),\"\")","v":""},"","","","","",{"$f":"IFERROR((Data!K94-$E$4),\"\")","v":""},{"$f":"IF(AND(F94<>\"\",G94<>\"\",H94<>\"\",I94<>\"\",J94<>\"\"),Data!Q94-$E$4,\"\")","v":""},"","","","",{"$f":"IF(F94<>\"\",STDEV($Q$12:Q94),\"\")","v":""},""]
[84,null,{"$f":"RIGHT(Data!C95,10)","v":""},null,null,null,null,null,null,null,{"$f":"IFERROR($U$3*Data!M95/SQRT(COUNT(Data!F95:J95)),\"\")","v":""},"","","","","",{"$f":"IFERROR((Data!K95-$E$4),\"\")","v":""},{"$f":"IF(AND(F95<>\"\",G95<>\"\",H95<>\"\",I95<>\"\",J95<>\"\"),Data!Q95-$E$4,\"\")","v":""},"","","","",{"$f":"IF(F95<>\"\",STDEV($Q$12:Q95),\"\")","v":""},""]
[85,null,{"$f":"RIGHT(Data!C96,10)","v":""},null,null,null,null,null,null,null,{"$f":"IFERROR($U$3*Data!M96/SQRT(COUNT(Data!F96:J96)),\"\")","v":""},"","","","","",{"$f":"IFERROR((Data!K96-$E$4),\"\")","v":""},{"$f":"IF(AND(F96<>\"\",G96<>\"\",H96<>\"\",I96<>\"\",J96<>\"\"),Data!Q96-$E$4,\"\")","v":""},"","","","",{"$f":"IF(F96<>\"\",STDEV($Q$12:Q96),\"\")","v":""},""]
[86,null,{"$f":"RIGHT(Data!C97,10)","v":""},null,null,null,null,null,null,null,{"$f":"IFERROR($U$3*Data!M97/SQRT(COUNT(Data!F97:J97)),\"\")","v":""},"","","","","",{"$f":"IFERROR((Data!K97-$E$4),\"\")","v":""},{"$f":"IF(AND(F97<>\"\",G97<>\"\",H97<>\"\",I97<>\"\",J97<>\"\"),Data!Q97-$E$4,\"\")","v":""},"","","","",{"$f":"IF(F97<>\"\",STDEV($Q$12:Q97),\"\")","v":""},""]
[87,null,{"$f":"RIGHT(Data!C98,10)","v":""},null,null,null,null,null,null,null,{"$f":"IFERROR($U$3*Data!M98/SQRT(COUNT(Data!F98:J98)),\"\")","v":""},"","","","","",{"$f":"IFERROR((Data!K98-$E$4),\"\")","v":""},{"$f":"IF(AND(F98<>\"\",G98<>\"\",H98<>\"\",I98<>\"\",J98<>\"\"),Data!Q98-$E$4,\"\")","v":""},"","","","",{"$f":"IF(F98<>\"\",STDEV($Q$12:Q98),\"\")","v":""},""]
[88,null,{"$f":"RIGHT(Data!C99,10)","v":""},null,null,null,null,null,null,null,{"$f":"IFERROR($U$3*Data!M99/SQRT(COUNT(Data!F99:J99)),\"\")","v":""},"","","","","",{"$f":"IFERROR((Data!K99-$E$4),\"\")","v":""},{"$f":"IF(AND(F99<>\"\",G99<>\"\",H99<>\"\",I99<>\"\",J99<>\"\"),Data!Q99-$E$4,\"\")","v":""},"","","","",{"$f":"IF(F99<>\"\",STDEV($Q$12:Q99),\"\")","v":""},""]
[89,null,{"$f":"RIGHT(Data!C100,10)","v":""},null,null,null,null,null,null,null,{"$f":"IFERROR($U$3*Data!M100/SQRT(COUNT(Data!F100:J100)),\"\")","v":""},"","","","","",{"$f":"IFERROR((Data!K100-$E$4),\"\")","v":""},{"$f":"IF(AND(F100<>\"\",G100<>\"\",H100<>\"\",I100<>\"\",J100<>\"\"),Data!Q100-$E$4,\"\")","v":""},"","","","",{"$f":"IF(F100<>\"\",STDEV($Q$12:Q100),\"\")","v":""},""]
[90,null,{"$f":"RIGHT(Data!C101,10)","v":""},null,null,null,null,null,null,null,{"$f":"IFERROR($U$3*Data!M101/SQRT(COUNT(Data!F101:J101)),\"\")","v":""},"","","","","",{"$f":"IFERROR((Data!K101-$E$4),\"\")","v":""},{"$f":"IF(AND(F101<>\"\",G101<>\"\",H101<>\"\",I101<>\"\",J101<>\"\"),Data!Q101-$E$4,\"\")","v":""},"","","","",{"$f":"IF(F101<>\"\",STDEV($Q$12:Q101),\"\")","v":""},""]
[91,null,{"$f":"RIGHT(Data!C102,10)","v":""},null,null,null,null,null,null,null,{"$f":"IFERROR($U$3*Data!M102/SQRT(COUNT(Data!F102:J102)),\"\")","v":""},"","","","","",{"$f":"IFERROR((Data!K102-$E$4),\"\")","v":""},{"$f":"IF(AND(F102<>\"\",G102<>\"\",H102<>\"\",I102<>\"\",J102<>\"\"),Data!Q102-$E$4,\"\")","v":""},"","","","",{"$f":"IF(F102<>\"\",STDEV($Q$12:Q102),\"\")","v":""},""]
[92,null,{"$f":"RIGHT(Data!C103,10)","v":""},null,null,null,null,null,null,null,{"$f":"IFERROR($U$3*Data!M103/SQRT(COUNT(Data!F103:J103)),\"\")","v":""},"","","","","",{"$f":"IFERROR((Data!K103-$E$4),\"\")","v":""},{"$f":"IF(AND(F103<>\"\",G103<>\"\",H103<>\"\",I103<>\"\",J103<>\"\"),Data!Q103-$E$4,\"\")","v":""},"","","","",{"$f":"IF(F103<>\"\",STDEV($Q$12:Q103),\"\")","v":""},""]
[93,null,{"$f":"RIGHT(Data!C104,10)","v":""},null,null,null,null,null,null,null,{"$f":"IFERROR($U$3*Data!M104/SQRT(COUNT(Data!F104:J104)),\"\")","v":""},"","","","","",{"$f":"IFERROR((Data!K104-$E$4),\"\")","v":""},{"$f":"IF(AND(F104<>\"\",G104<>\"\",H104<>\"\",I104<>\"\",J104<>\"\"),Data!Q104-$E$4,\"\")","v":""},"","","","",{"$f":"IF(F104<>\"\",STDEV($Q$12:Q104),\"\")","v":""},""]
[94,null,{"$f":"RIGHT(Data!C105,10)","v":""},null,null,null,null,null,null,null,{"$f":"IFERROR($U$3*Data!M105/SQRT(COUNT(Data!F105:J105)),\"\")","v":""},"","","","","",{"$f":"IFERROR((Data!K105-$E$4),\"\")","v":""},{"$f":"IF(AND(F105<>\"\",G105<>\"\",H105<>\"\",I105<>\"\",J105<>\"\"),Data!Q105-$E$4,\"\")","v":""},"","","","",{"$f":"IF(F105<>\"\",STDEV($Q$12:Q105),\"\")","v":""},""]
[95,null,{"$f":"RIGHT(Data!C106,10)","v":""},null,null,null,null,null,null,null,{"$f":"IFERROR($U$3*Data!M106/SQRT(COUNT(Data!F106:J106)),\"\")","v":""},"","","","","",{"$f":"IFERROR((Data!K106-$E$4),\"\")","v":""},{"$f":"IF(AND(F106<>\"\",G106<>\"\",H106<>\"\",I106<>\"\",J106<>\"\"),Data!Q106-$E$4,\"\")","v":""},"","","","",{"$f":"IF(F106<>\"\",STDEV($Q$12:Q106),\"\")","v":""},""]
[96,null,{"$f":"RIGHT(Data!C107,10)","v":""},null,null,null,null,null,null,null,{"$f":"IFERROR($U$3*Data!M107/SQRT(COUNT(Data!F107:J107)),\"\")","v":""},"","","","","",{"$f":"IFERROR((Data!K107-$E$4),\"\")","v":""},{"$f":"IF(AND(F107<>\"\",G107<>\"\",H107<>\"\",I107<>\"\",J107<>\"\"),Data!Q107-$E$4,\"\")","v":""},"","","","",{"$f":"IF(F107<>\"\",STDEV($Q$12:Q107),\"\")","v":""},""]
[97,null,{"$f":"RIGHT(Data!C108,10)","v":""},null,null,null,null,null,null,null,{"$f":"IFERROR($U$3*Data!M108/SQRT(COUNT(Data!F108:J108)),\"\")","v":""},"","","","","",{"$f":"IFERROR((Data!K108-$E$4),\"\")","v":""},{"$f":"IF(AND(F108<>\"\",G108<>\"\",H108<>\"\",I108<>\"\",J108<>\"\"),Data!Q108-$E$4,\"\")","v":""},"","","","",{"$f":"IF(F108<>\"\",STDEV($Q$12:Q108),\"\")","v":""},""]
[98,null,{"$f":"RIGHT(Data!C109,10)","v":""},null,null,null,null,null,null,null,{"$f":"IFERROR($U$3*Data!M109/SQRT(COUNT(Data!F109:J109)),\"\")","v":""},"","","","","",{"$f":"IFERROR((Data!K109-$E$4),\"\")","v":""},{"$f":"IF(AND(F109<>\"\",G109<>\"\",H109<>\"\",I109<>\"\",J109<>\"\"),Data!Q109-$E$4,\"\")","v":""},"","","","",{"$f":"IF(F109<>\"\",STDEV($Q$12:Q109),\"\")","v":""},""]
[99,null,{"$f":"RIGHT(Data!C110,10)","v":""},null,null,null,null,null,null,null,{"$f":"IFERROR($U$3*Data!M110/SQRT(COUNT(Data!F110:J110)),\"\")","v":""},"","","","","",{"$f":"IFERROR((Data!K110-$E$4),\"\")","v":""},{"$f":"IF(AND(F110<>\"\",G110<>\"\",H110<>\"\",I110<>\"\",J110<>\"\"),Data!Q110-$E$4,\"\")","v":""},"","","","",{"$f":"IF(F110<>\"\",STDEV($Q$12:Q110),\"\")","v":""},""]
[100,null,{"$f":"RIGHT(Data!C111,10)","v":""},null,null,null,null,null,null,null,{"$f":"IFERROR($U$3*Data!M111/SQRT(COUNT(Data!F111:J111)),\"\")","v":""},"","","","","",{"$f":"IFERROR((Data!K111-$E$4),\"\")","v":""},{"$f":"IF(AND(F111<>\"\",G111<>\"\",H111<>\"\",I111<>\"\",J111<>\"\"),Data!Q111-$E$4,\"\")","v":""},"","","","",{"$f":"IF(F111<>\"\",STDEV($Q$12:Q111),\"\")","v":""},""]
[101,null,{"$f":"RIGHT(Data!C112,10)","v":""},null,null,null,null,null,null,null,{"$f":"IFERROR($U$3*Data!M112/SQRT(COUNT(Data!F112:J112)),\"\")","v":""},"","","","","",{"$f":"IFERROR((Data!K112-$E$4),\"\")","v":""},{"$f":"IF(AND(F112<>\"\",G112<>\"\",H112<>\"\",I112<>\"\",J112<>\"\"),Data!Q112-$E$4,\"\")","v":""},"","","","",{"$f":"IF(F112<>\"\",STDEV($Q$12:Q112),\"\")","v":""},""]
[102,null,{"$f":"RIGHT(Data!C113,10)","v":""},null,null,null,null,null,null,null,{"$f":"IFERROR($U$3*Data!M113/SQRT(COUNT(Data!F113:J113)),\"\")","v":""},"","","","","",{"$f":"IFERROR((Data!K113-$E$4),\"\")","v":""},{"$f":"IF(AND(F113<>\"\",G113<>\"\",H113<>\"\",I113<>\"\",J113<>\"\"),Data!Q113-$E$4,\"\")","v":""},"","","","",{"$f":"IF(F113<>\"\",STDEV($Q$12:Q113),\"\")","v":""},""]
[103,null,{"$f":"RIGHT(Data!C114,10)","v":""},null,null,null,null,null,null,null,{"$f":"IFERROR($U$3*Data!M114/SQRT(COUNT(Data!F114:J114)),\"\")","v":""},"","","","","",{"$f":"IFERROR((Data!K114-$E$4),\"\")","v":""},{"$f":"IF(AND(F114<>\"\",G114<>\"\",H114<>\"\",I114<>\"\",J114<>\"\"),Data!Q114-$E$4,\"\")","v":""},"","","","",{"$f":"IF(F114<>\"\",STDEV($Q$12:Q114),\"\")","v":""},""]
[104,null,{"$f":"RIGHT(Data!C115,10)","v":""},null,null,null,null,null,null,null,{"$f":"IFERROR($U$3*Data!M115/SQRT(COUNT(Data!F115:J115)),\"\")","v":""},"","","","","",{"$f":"IFERROR((Data!K115-$E$4),\"\")","v":""},{"$f":"IF(AND(F115<>\"\",G115<>\"\",H115<>\"\",I115<>\"\",J115<>\"\"),Data!Q115-$E$4,\"\")","v":""},"","","","",{"$f":"IF(F115<>\"\",STDEV($Q$12:Q115),\"\")","v":""},""]
[105,null,{"$f":"RIGHT(Data!C116,10)","v":""},null,null,null,null,null,null,null,{"$f":"IFERROR($U$3*Data!M116/SQRT(COUNT(Data!F116:J116)),\"\")","v":""},"","","","","",{"$f":"IFERROR((Data!K116-$E$4),\"\")","v":""},{"$f":"IF(AND(F116<>\"\",G116<>\"\",H116<>\"\",I116<>\"\",J116<>\"\"),Data!Q116-$E$4,\"\")","v":""},"","","","",{"$f":"IF(F116<>\"\",STDEV($Q$12:Q116),\"\")","v":""},""]
[106,null,{"$f":"RIGHT(Data!C117,10)","v":""},null,null,null,null,null,null,null,{"$f":"IFERROR($U$3*Data!M117/SQRT(COUNT(Data!F117:J117)),\"\")","v":""},"","","","","",{"$f":"IFERROR((Data!K117-$E$4),\"\")","v":""},{"$f":"IF(AND(F117<>\"\",G117<>\"\",H117<>\"\",I117<>\"\",J117<>\"\"),Data!Q117-$E$4,\"\")","v":""},"","","","",{"$f":"IF(F117<>\"\",STDEV($Q$12:Q117),\"\")","v":""},""]
[107,null,{"$f":"RIGHT(Data!C118,10)","v":""},null,null,null,null,null,null,null,{"$f":"IFERROR($U$3*Data!M118/SQRT(COUNT(Data!F118:J118)),\"\")","v":""},"","","","","",{"$f":"IFERROR((Data!K118-$E$4),\"\")","v":""},{"$f":"IF(AND(F118<>\"\",G118<>\"\",H118<>\"\",I118<>\"\",J118<>\"\"),Data!Q118-$E$4,\"\")","v":""},"","","","",{"$f":"IF(F118<>\"\",STDEV($Q$12:Q118),\"\")","v":""},""]
[108,null,{"$f":"RIGHT(Data!C119,10)","v":""},null,null,null,null,null,null,null,{"$f":"IFERROR($U$3*Data!M119/SQRT(COUNT(Data!F119:J119)),\"\")","v":""},"","","","","",{"$f":"IFERROR((Data!K119-$E$4),\"\")","v":""},{"$f":"IF(AND(F119<>\"\",G119<>\"\",H119<>\"\",I119<>\"\",J119<>\"\"),Data!Q119-$E$4,\"\")","v":""},"","","","",{"$f":"IF(F119<>\"\",STDEV($Q$12:Q119),\"\")","v":""},""]
[109,null,{"$f":"RIGHT(Data!C120,10)","v":""},null,null,null,null,null,null,null,{"$f":"IFERROR($U$3*Data!M120/SQRT(COUNT(Data!F120:J120)),\"\")","v":""},"","","","","",{"$f":"IFERROR((Data!K120-$E$4),\"\")","v":""},{"$f":"IF(AND(F120<>\"\",G120<>\"\",H120<>\"\",I120<>\"\",J120<>\"\"),Data!Q120-$E$4,\"\")","v":""},"","","","",{"$f":"IF(F120<>\"\",STDEV($Q$12:Q120),\"\")","v":""},""]
[110,null,{"$f":"RIGHT(Data!C121,10)","v":""},null,null,null,null,null,null,null,{"$f":"IFERROR($U$3*Data!M121/SQRT(COUNT(Data!F121:J121)),\"\")","v":""},"","","","","",{"$f":"IFERROR((Data!K121-$E$4),\"\")","v":""},{"$f":"IF(AND(F121<>\"\",G121<>\"\",H121<>\"\",I121<>\"\",J121<>\"\"),Data!Q121-$E$4,\"\")","v":""},"","","","",{"$f":"IF(F121<>\"\",STDEV($Q$12:Q121),\"\")","v":""},""]
[111,null,{"$f":"RIGHT(Data!C122,10)","v":""},null,null,null,null,null,null,null,{"$f":"IFERROR($U$3*Data!M122/SQRT(COUNT(Data!F122:J122)),\"\")","v":""},"","","","","",{"$f":"IFERROR((Data!K122-$E$4),\"\")","v":""},{"$f":"IF(AND(F122<>\"\",G122<>\"\",H122<>\"\",I122<>\"\",J122<>\"\"),Data!Q122-$E$4,\"\")","v":""},"","","","",{"$f":"IF(F122<>\"\",STDEV($Q$12:Q122),\"\")","v":""},""]
[112,null,{"$f":"RIGHT(Data!C123,10)","v":""},null,null,null,null,null,null,null,{"$f":"IFERROR($U$3*Data!M123/SQRT(COUNT(Data!F123:J123)),\"\")","v":""},"","","","","",{"$f":"IFERROR((Data!K123-$E$4),\"\")","v":""},{"$f":"IF(AND(F123<>\"\",G123<>\"\",H123<>\"\",I123<>\"\",J123<>\"\"),Data!Q123-$E$4,\"\")","v":""},"","","","",{"$f":"IF(F123<>\"\",STDEV($Q$12:Q123),\"\")","v":""},""]
[113,null,{"$f":"RIGHT(Data!C124,10)","v":""},null,null,null,null,null,null,null,{"$f":"IFERROR($U$3*Data!M124/SQRT(COUNT(Data!F124:J124)),\"\")","v":""},"","","","","",{"$f":"IFERROR((Data!K124-$E$4),\"\")","v":""},{"$f":"IF(AND(F124<>\"\",G124<>\"\",H124<>\"\",I124<>\"\",J124<>\"\"),Data!Q124-$E$4,\"\")","v":""},"","","","",{"$f":"IF(F124<>\"\",STDEV($Q$12:Q124),\"\")","v":""},""]
[114,null,{"$f":"RIGHT(Data!C125,10)","v":""},null,null,null,null,null,null,null,{"$f":"IFERROR($U$3*Data!M125/SQRT(COUNT(Data!F125:J125)),\"\")","v":""},"","","","","",{"$f":"IFERROR((Data!K125-$E$4),\"\")","v":""},{"$f":"IF(AND(F125<>\"\",G125<>\"\",H125<>\"\",I125<>\"\",J125<>\"\"),Data!Q125-$E$4,\"\")","v":""},"","","","",{"$f":"IF(F125<>\"\",STDEV($Q$12:Q125),\"\")","v":""},""]
[115,null,{"$f":"RIGHT(Data!C126,10)","v":""},null,null,null,null,null,null,null,{"$f":"IFERROR($U$3*Data!M126/SQRT(COUNT(Data!F126:J126)),\"\")","v":""},"","","","","",{"$f":"IFERROR((Data!K126-$E$4),\"\")","v":""},{"$f":"IF(AND(F126<>\"\",G126<>\"\",H126<>\"\",I126<>\"\",J126<>\"\"),Data!Q126-$E$4,\"\")","v":""},"","","","",{"$f":"IF(F126<>\"\",STDEV($Q$12:Q126),\"\")","v":""},""]
[116,null,{"$f":"RIGHT(Data!C127,10)","v":""},null,null,null,null,null,null,null,{"$f":"IFERROR($U$3*Data!M127/SQRT(COUNT(Data!F127:J127)),\"\")","v":""},"","","","","",{"$f":"IFERROR((Data!K127-$E$4),\"\")","v":""},{"$f":"IF(AND(F127<>\"\",G127<>\"\",H127<>\"\",I127<>\"\",J127<>\"\"),Data!Q127-$E$4,\"\")","v":""},"","","","",{"$f":"IF(F127<>\"\",STDEV($Q$12:Q127),\"\")","v":""},""]
[117,null,{"$f":"RIGHT(Data!C128,10)","v":""},null,null,null,null,null,null,null,{"$f":"IFERROR($U$3*Data!M128/SQRT(COUNT(Data!F128:J128)),\"\")","v":""},"","","","","",{"$f":"IFERROR((Data!K128-$E$4),\"\")","v":""},{"$f":"IF(AND(F128<>\"\",G128<>\"\",H128<>\"\",I128<>\"\",J128<>\"\"),Data!Q128-$E$4,\"\")","v":""},"","","","",{"$f":"IF(F128<>\"\",STDEV($Q$12:Q128),\"\")","v":""},""]
[118,null,{"$f":"RIGHT(Data!C129,10)","v":""},null,null,null,null,null,null,null,{"$f":"IFERROR($U$3*Data!M129/SQRT(COUNT(Data!F129:J129)),\"\")","v":""},"","","","","",{"$f":"IFERROR((Data!K129-$E$4),\"\")","v":""},{"$f":"IF(AND(F129<>\"\",G129<>\"\",H129<>\"\",I129<>\"\",J129<>\"\"),Data!Q129-$E$4,\"\")","v":""},"","","","",{"$f":"IF(F129<>\"\",STDEV($Q$12:Q129),\"\")","v":""},""]
[119,null,{"$f":"RIGHT(Data!C130,10)","v":""},null,null,null,null,null,null,null,{"$f":"IFERROR($U$3*Data!M130/SQRT(COUNT(Data!F130:J130)),\"\")","v":""},"","","","","",{"$f":"IFERROR((Data!K130-$E$4),\"\")","v":""},{"$f":"IF(AND(F130<>\"\",G130<>\"\",H130<>\"\",I130<>\"\",J130<>\"\"),Data!Q130-$E$4,\"\")","v":""},"","","","",{"$f":"IF(F130<>\"\",STDEV($Q$12:Q130),\"\")","v":""},""]
[120,null,{"$f":"RIGHT(Data!C131,10)","v":""},null,null,null,null,null,null,null,{"$f":"IFERROR($U$3*Data!M131/SQRT(COUNT(Data!F131:J131)),\"\")","v":""},"","","","","",{"$f":"IFERROR((Data!K131-$E$4),\"\")","v":""},{"$f":"IF(AND(F131<>\"\",G131<>\"\",H131<>\"\",I131<>\"\",J131<>\"\"),Data!Q131-$E$4,\"\")","v":""},"","","","",{"$f":"IF(F131<>\"\",STDEV($Q$12:Q131),\"\")","v":""},""]
[121,null,{"$f":"RIGHT(Data!C132,10)","v":""},null,null,null,null,null,null,null,{"$f":"IFERROR($U$3*Data!M132/SQRT(COUNT(Data!F132:J132)),\"\")","v":""},"","","","","",{"$f":"IFERROR((Data!K132-$E$4),\"\")","v":""},{"$f":"IF(AND(F132<>\"\",G132<>\"\",H132<>\"\",I132<>\"\",J132<>\"\"),Data!Q132-$E$4,\"\")","v":""},"","","","",{"$f":"IF(F132<>\"\",STDEV($Q$12:Q132),\"\")","v":""},""]
[122,null,{"$f":"RIGHT(Data!C133,10)","v":""},null,null,null,null,null,null,null,{"$f":"IFERROR($U$3*Data!M133/SQRT(COUNT(Data!F133:J133)),\"\")","v":""},"","","","","",{"$f":"IFERROR((Data!K133-$E$4),\"\")","v":""},{"$f":"IF(AND(F133<>\"\",G133<>\"\",H133<>\"\",I133<>\"\",J133<>\"\"),Data!Q133-$E$4,\"\")","v":""},"","","","",{"$f":"IF(F133<>\"\",STDEV($Q$12:Q133),\"\")","v":""},""]
[123,null,{"$f":"RIGHT(Data!C134,10)","v":""},null,null,null,null,null,null,null,{"$f":"IFERROR($U$3*Data!M134/SQRT(COUNT(Data!F134:J134)),\"\")","v":""},"","","","","",{"$f":"IFERROR((Data!K134-$E$4),\"\")","v":""},{"$f":"IF(AND(F134<>\"\",G134<>\"\",H134<>\"\",I134<>\"\",J134<>\"\"),Data!Q134-$E$4,\"\")","v":""},"","","","",{"$f":"IF(F134<>\"\",STDEV($Q$12:Q134),\"\")","v":""},""]
[124,null,{"$f":"RIGHT(Data!C135,10)","v":""},null,null,null,null,null,null,null,{"$f":"IFERROR($U$3*Data!M135/SQRT(COUNT(Data!F135:J135)),\"\")","v":""},"","","","","",{"$f":"IFERROR((Data!K135-$E$4),\"\")","v":""},{"$f":"IF(AND(F135<>\"\",G135<>\"\",H135<>\"\",I135<>\"\",J135<>\"\"),Data!Q135-$E$4,\"\")","v":""},"","","","",{"$f":"IF(F135<>\"\",STDEV($Q$12:Q135),\"\")","v":""},""]
[125,null,{"$f":"RIGHT(Data!C136,10)","v":""},null,null,null,null,null,null,null,{"$f":"IFERROR($U$3*Data!M136/SQRT(COUNT(Data!F136:J136)),\"\")","v":""},"","","","","",{"$f":"IFERROR((Data!K136-$E$4),\"\")","v":""},{"$f":"IF(AND(F136<>\"\",G136<>\"\",H136<>\"\",I136<>\"\",J136<>\"\"),Data!Q136-$E$4,\"\")","v":""},"","","","",{"$f":"IF(F136<>\"\",STDEV($Q$12:Q136),\"\")","v":""},""]
[126,null,{"$f":"RIGHT(Data!C137,10)","v":""},null,null,null,null,null,null,null,{"$f":"IFERROR($U$3*Data!M137/SQRT(COUNT(Data!F137:J137)),\"\")","v":""},"","","","","",{"$f":"IFERROR((Data!K137-$E$4),\"\")","v":""},{"$f":"IF(AND(F137<>\"\",G137<>\"\",H137<>\"\",I137<>\"\",J137<>\"\"),Data!Q137-$E$4,\"\")","v":""},"","","","",{"$f":"IF(F137<>\"\",STDEV($Q$12:Q137),\"\")","v":""},""]
[127,null,{"$f":"RIGHT(Data!C138,10)","v":""},null,null,null,null,null,null,null,{"$f":"IFERROR($U$3*Data!M138/SQRT(COUNT(Data!F138:J138)),\"\")","v":""},"","","","","",{"$f":"IFERROR((Data!K138-$E$4),\"\")","v":""},{"$f":"IF(AND(F138<>\"\",G138<>\"\",H138<>\"\",I138<>\"\",J138<>\"\"),Data!Q138-$E$4,\"\")","v":""},"","","","",{"$f":"IF(F138<>\"\",STDEV($Q$12:Q138),\"\")","v":""},""]
[128,null,{"$f":"RIGHT(Data!C139,10)","v":""},null,null,null,null,null,null,null,{"$f":"IFERROR($U$3*Data!M139/SQRT(COUNT(Data!F139:J139)),\"\")","v":""},"","","","","",{"$f":"IFERROR((Data!K139-$E$4),\"\")","v":""},{"$f":"IF(AND(F139<>\"\",G139<>\"\",H139<>\"\",I139<>\"\",J139<>\"\"),Data!Q139-$E$4,\"\")","v":""},"","","","",{"$f":"IF(F139<>\"\",STDEV($Q$12:Q139),\"\")","v":""},""]
[129,null,{"$f":"RIGHT(Data!C140,10)","v":""},null,null,null,null,null,null,null,{"$f":"IFERROR($U$3*Data!M140/SQRT(COUNT(Data!F140:J140)),\"\")","v":""},"","",{"$f":"IF(COUNT(F140:J140)>=5,STDEV(F140:J140)*$U$3/SQRT((COUNT(F140:J140))),\"\")","v":""},{"$f":"IFERROR($U$4*SQRT($U$7^2+L140^2+K140^2+$U$5^2+N140^2),\"\")","v":""},"",{"$f":"IFERROR((Data!K140-$E$4),\"\")","v":""},{"$f":"IF(AND(F140<>\"\",G140<>\"\",H140<>\"\",I140<>\"\",J140<>\"\"),Data!Q140-$E$4,\"\")","v":""},{"$f":"IF(O140<>\"\",FIXED(X140,1) & \" ± \" & FIXED(O140+ABS(R140),2),\"\")","v":""},"","","",{"$f":"IF(F140<>\"\",STDEV($Q$12:Q140),\"\")","v":""},{"$f":"IF(F140<>\"\",AVERAGE(F140:J140),\"\")","v":""}]
[130,null,{"$f":"RIGHT(Data!C141,10)","v":""},null,null,null,null,null,null,null,{"$f":"IFERROR($U$3*Data!M141/SQRT(COUNT(Data!F141:J141)),\"\")","v":""},{"$f":"IF(F141<>\"\",V141*W141/SQRT(A141),\"\")","v":""},{"$f":"IF(F141<>\"\",$U$4*SQRT($U$7^2+L141^2+K141^2+$U$5^2),\"\")","v":""},"","",{"$f":"IF(AND(F141<>\"\",G141<>\"\",H141<>\"\",I141<>\"\",J141<>\"\"),AVERAGE(F141:J141),\"\")","v":""},{"$f":"IFERROR((Data!K141-$E$4),\"\")","v":""},{"$f":"IF(AND(F141<>\"\",G141<>\"\",H141<>\"\",I141<>\"\",J141<>\"\"),Data!Q141-$E$4,\"\")","v":""},"",{"$f":"IF(F141<>\"\",FIXED(AVERAGE(F141:J141)-R141,1) & \" ± \" & FIXED(O141,2),\"\")","v":""},{"$f":"IF(IO141=\"\",\"\",IO141-1)","v":""},{"$f":"IF(F141<>\"\",TINV(1-0.68,A141-1),\"\")","v":""},{"$f":"IF(F141<>\"\",STDEV($Q$12:Q141),\"\")","v":""},""]
[131,null,{"$f":"RIGHT(Data!C142,10)","v":""},null,null,null,null,null,null,null,{"$f":"IFERROR($U$3*Data!M142/SQRT(COUNT(Data!F142:J142)),\"\")","v":""},"","","","","",{"$f":"IFERROR((Data!K142-$E$4),\"\")","v":""},{"$f":"IF(AND(F142<>\"\",G142<>\"\",H142<>\"\",I142<>\"\",J142<>\"\"),Data!Q142-$E$4,\"\")","v":""},"","","","",{"$f":"IF(F142<>\"\",STDEV($Q$12:Q142),\"\")","v":""},""]
[132,null,{"$f":"RIGHT(Data!C143,10)","v":""},null,null,null,null,null,null,null,{"$f":"IFERROR($U$3*Data!M143/SQRT(COUNT(Data!F143:J143)),\"\")","v":""},"","","","","",{"$f":"IFERROR((Data!K143-$E$4),\"\")","v":""},{"$f":"IF(AND(F143<>\"\",G143<>\"\",H143<>\"\",I143<>\"\",J143<>\"\"),Data!Q143-$E$4,\"\")","v":""},"","","","",{"$f":"IF(F143<>\"\",STDEV($Q$12:Q143),\"\")","v":""},""]
[133,null,{"$f":"RIGHT(Data!C144,10)","v":""},null,null,null,null,null,null,null,{"$f":"IFERROR($U$3*Data!M144/SQRT(COUNT(Data!F144:J144)),\"\")","v":""},"","","","","",{"$f":"IFERROR((Data!K144-$E$4),\"\")","v":""},{"$f":"IF(AND(F144<>\"\",G144<>\"\",H144<>\"\",I144<>\"\",J144<>\"\"),Data!Q144-$E$4,\"\")","v":""},"","","","",{"$f":"IF(F144<>\"\",STDEV($Q$12:Q144),\"\")","v":""},""]
[134,null,{"$f":"RIGHT(Data!C145,10)","v":""},null,null,null,null,null,null,null,{"$f":"IFERROR($U$3*Data!M145/SQRT(COUNT(Data!F145:J145)),\"\")","v":""},"","","","","",{"$f":"IFERROR((Data!K145-$E$4),\"\")","v":""},{"$f":"IF(AND(F145<>\"\",G145<>\"\",H145<>\"\",I145<>\"\",J145<>\"\"),Data!Q145-$E$4,\"\")","v":""},"","","","",{"$f":"IF(F145<>\"\",STDEV($Q$12:Q145),\"\")","v":""},""]
[135,null,{"$f":"RIGHT(Data!C146,10)","v":""},null,null,null,null,null,null,null,{"$f":"IFERROR($U$3*Data!M146/SQRT(COUNT(Data!F146:J146)),\"\")","v":""},"","","","","",{"$f":"IFERROR((Data!K146-$E$4),\"\")","v":""},{"$f":"IF(AND(F146<>\"\",G146<>\"\",H146<>\"\",I146<>\"\",J146<>\"\"),Data!Q146-$E$4,\"\")","v":""},"","","","",{"$f":"IF(F146<>\"\",STDEV($Q$12:Q146),\"\")","v":""},""]
[136,null,{"$f":"RIGHT(Data!C147,10)","v":""},null,null,null,null,null,null,null,{"$f":"IFERROR($U$3*Data!M147/SQRT(COUNT(Data!F147:J147)),\"\")","v":""},"","","","","",{"$f":"IFERROR((Data!K147-$E$4),\"\")","v":""},{"$f":"IF(AND(F147<>\"\",G147<>\"\",H147<>\"\",I147<>\"\",J147<>\"\"),Data!Q147-$E$4,\"\")","v":""},"","","","",{"$f":"IF(F147<>\"\",STDEV($Q$12:Q147),\"\")","v":""},""]
[137,null,{"$f":"RIGHT(Data!C148,10)","v":""},null,null,null,null,null,null,null,{"$f":"IFERROR($U$3*Data!M148/SQRT(COUNT(Data!F148:J148)),\"\")","v":""},"","","","","",{"$f":"IFERROR((Data!K148-$E$4),\"\")","v":""},{"$f":"IF(AND(F148<>\"\",G148<>\"\",H148<>\"\",I148<>\"\",J148<>\"\"),Data!Q148-$E$4,\"\")","v":""},"","","","",{"$f":"IF(F148<>\"\",STDEV($Q$12:Q148),\"\")","v":""},""]
[138,null,{"$f":"RIGHT(Data!C149,10)","v":""},null,null,null,null,null,null,null,{"$f":"IFERROR($U$3*Data!M149/SQRT(COUNT(Data!F149:J149)),\"\")","v":""},"","","","","",{"$f":"IFERROR((Data!K149-$E$4),\"\")","v":""},{"$f":"IF(AND(F149<>\"\",G149<>\"\",H149<>\"\",I149<>\"\",J149<>\"\"),Data!Q149-$E$4,\"\")","v":""},"","","","",{"$f":"IF(F149<>\"\",STDEV($Q$12:Q149),\"\")","v":""},""]
[139,null,{"$f":"RIGHT(Data!C150,10)","v":""},null,null,null,null,null,null,null,{"$f":"IFERROR($U$3*Data!M150/SQRT(COUNT(Data!F150:J150)),\"\")","v":""},"","","","","",{"$f":"IFERROR((Data!K150-$E$4),\"\")","v":""},{"$f":"IF(AND(F150<>\"\",G150<>\"\",H150<>\"\",I150<>\"\",J150<>\"\"),Data!Q150-$E$4,\"\")","v":""},"","","","",{"$f":"IF(F150<>\"\",STDEV($Q$12:Q150),\"\")","v":""},""]
[140,null,{"$f":"RIGHT(Data!C151,10)","v":""},null,null,null,null,null,null,null,{"$f":"IFERROR($U$3*Data!M151/SQRT(COUNT(Data!F151:J151)),\"\")","v":""},"","","","","",{"$f":"IFERROR((Data!K151-$E$4),\"\")","v":""},{"$f":"IF(AND(F151<>\"\",G151<>\"\",H151<>\"\",I151<>\"\",J151<>\"\"),Data!Q151-$E$4,\"\")","v":""},"","","","",{"$f":"IF(F151<>\"\",STDEV($Q$12:Q151),\"\")","v":""},""]
[141,null,{"$f":"RIGHT(Data!C152,10)","v":""},null,null,null,null,null,null,null,{"$f":"IFERROR($U$3*Data!M152/SQRT(COUNT(Data!F152:J152)),\"\")","v":""},"","","","","",{"$f":"IFERROR((Data!K152-$E$4),\"\")","v":""},{"$f":"IF(AND(F152<>\"\",G152<>\"\",H152<>\"\",I152<>\"\",J152<>\"\"),Data!Q152-$E$4,\"\")","v":""},"","","","",{"$f":"IF(F152<>\"\",STDEV($Q$12:Q152),\"\")","v":""},""]
[142,null,{"$f":"RIGHT(Data!C153,10)","v":""},null,null,null,null,null,null,null,{"$f":"IFERROR($U$3*Data!M153/SQRT(COUNT(Data!F153:J153)),\"\")","v":""},"","","","","",{"$f":"IFERROR((Data!K153-$E$4),\"\")","v":""},{"$f":"IF(AND(F153<>\"\",G153<>\"\",H153<>\"\",I153<>\"\",J153<>\"\"),Data!Q153-$E$4,\"\")","v":""},"","","","",{"$f":"IF(F153<>\"\",STDEV($Q$12:Q153),\"\")","v":""},""]
[143,null,{"$f":"RIGHT(Data!C154,10)","v":""},null,null,null,null,null,null,null,{"$f":"IFERROR($U$3*Data!M154/SQRT(COUNT(Data!F154:J154)),\"\")","v":""},"","","","","",{"$f":"IFERROR((Data!K154-$E$4),\"\")","v":""},{"$f":"IF(AND(F154<>\"\",G154<>\"\",H154<>\"\",I154<>\"\",J154<>\"\"),Data!Q154-$E$4,\"\")","v":""},"","","","",{"$f":"IF(F154<>\"\",STDEV($Q$12:Q154),\"\")","v":""},""]
[144,null,{"$f":"RIGHT(Data!C155,10)","v":""},null,null,null,null,null,null,null,{"$f":"IFERROR($U$3*Data!M155/SQRT(COUNT(Data!F155:J155)),\"\")","v":""},"","","","","",{"$f":"IFERROR((Data!K155-$E$4),\"\")","v":""},{"$f":"IF(AND(F155<>\"\",G155<>\"\",H155<>\"\",I155<>\"\",J155<>\"\"),Data!Q155-$E$4,\"\")","v":""},"","","","",{"$f":"IF(F155<>\"\",STDEV($Q$12:Q155),\"\")","v":""},""]
[145,null,{"$f":"RIGHT(Data!C156,10)","v":""},null,null,null,null,null,null,null,{"$f":"IFERROR($U$3*Data!M156/SQRT(COUNT(Data!F156:J156)),\"\")","v":""},"","","","","",{"$f":"IFERROR((Data!K156-$E$4),\"\")","v":""},{"$f":"IF(AND(F156<>\"\",G156<>\"\",H156<>\"\",I156<>\"\",J156<>\"\"),Data!Q156-$E$4,\"\")","v":""},"","","","",{"$f":"IF(F156<>\"\",STDEV($Q$12:Q156),\"\")","v":""},""]
[146,null,{"$f":"RIGHT(Data!C157,10)","v":""},null,null,null,null,null,null,null,{"$f":"IFERROR($U$3*Data!M157/SQRT(COUNT(Data!F157:J157)),\"\")","v":""},"","","","","",{"$f":"IFERROR((Data!K157-$E$4),\"\")","v":""},{"$f":"IF(AND(F157<>\"\",G157<>\"\",H157<>\"\",I157<>\"\",J157<>\"\"),Data!Q157-$E$4,\"\")","v":""},"","","","",{"$f":"IF(F157<>\"\",STDEV($Q$12:Q157),\"\")","v":""},""]
[147,null,{"$f":"RIGHT(Data!C158,10)","v":""},null,null,null,null,null,null,null,{"$f":"IFERROR($U$3*Data!M158/SQRT(COUNT(Data!F158:J158)),\"\")","v":""},"","","","","",{"$f":"IFERROR((Data!K158-$E$4),\"\")","v":""},{"$f":"IF(AND(F158<>\"\",G158<>\"\",H158<>\"\",I158<>\"\",J158<>\"\"),Data!Q158-$E$4,\"\")","v":""},"","","","",{"$f":"IF(F158<>\"\",STDEV($Q$12:Q158),\"\")","v":""},""]
[148,null,{"$f":"RIGHT(Data!C159,10)","v":""},null,null,null,null,null,null,null,{"$f":"IFERROR($U$3*Data!M159/SQRT(COUNT(Data!F159:J159)),\"\")","v":""},"","","","","",{"$f":"IFERROR((Data!K159-$E$4),\"\")","v":""},{"$f":"IF(AND(F159<>\"\",G159<>\"\",H159<>\"\",I159<>\"\",J159<>\"\"),Data!Q159-$E$4,\"\")","v":""},"","","","",{"$f":"IF(F159<>\"\",STDEV($Q$12:Q159),\"\")","v":""},""]
[149,null,{"$f":"RIGHT(Data!C160,10)","v":""},null,null,null,null,null,null,null,{"$f":"IFERROR($U$3*Data!M160/SQRT(COUNT(Data!F160:J160)),\"\")","v":""},"","","","","",{"$f":"IFERROR((Data!K160-$E$4),\"\")","v":""},{"$f":"IF(AND(F160<>\"\",G160<>\"\",H160<>\"\",I160<>\"\",J160<>\"\"),Data!Q160-$E$4,\"\")","v":""},"","","","",{"$f":"IF(F160<>\"\",STDEV($Q$12:Q160),\"\")","v":""},""]
[150,null,{"$f":"RIGHT(Data!C161,10)","v":""},null,null,null,null,null,null,null,{"$f":"IFERROR($U$3*Data!M161/SQRT(COUNT(Data!F161:J161)),\"\")","v":""},"","","","","",{"$f":"IFERROR((Data!K161-$E$4),\"\")","v":""},{"$f":"IF(AND(F161<>\"\",G161<>\"\",H161<>\"\",I161<>\"\",J161<>\"\"),Data!Q161-$E$4,\"\")","v":""},"","","","",{"$f":"IF(F161<>\"\",STDEV($Q$12:Q161),\"\")","v":""},""]
[151,null,{"$f":"RIGHT(Data!C162,10)","v":""},null,null,null,null,null,null,null,{"$f":"IFERROR($U$3*Data!M162/SQRT(COUNT(Data!F162:J162)),\"\")","v":""},"","","","","",{"$f":"IFERROR((Data!K162-$E$4),\"\")","v":""},{"$f":"IF(AND(F162<>\"\",G162<>\"\",H162<>\"\",I162<>\"\",J162<>\"\"),Data!Q162-$E$4,\"\")","v":""},"","","","",{"$f":"IF(F162<>\"\",STDEV($Q$12:Q162),\"\")","v":""},""]
[152,null,{"$f":"RIGHT(Data!C163,10)","v":""},null,null,null,null,null,null,null,{"$f":"IFERROR($U$3*Data!M163/SQRT(COUNT(Data!F163:J163)),\"\")","v":""},"","","","","",{"$f":"IFERROR((Data!K163-$E$4),\"\")","v":""},{"$f":"IF(AND(F163<>\"\",G163<>\"\",H163<>\"\",I163<>\"\",J163<>\"\"),Data!Q163-$E$4,\"\")","v":""},"","","","",{"$f":"IF(F163<>\"\",STDEV($Q$12:Q163),\"\")","v":""},""]
[153,null,{"$f":"RIGHT(Data!C164,10)","v":""},null,null,null,null,null,null,null,{"$f":"IFERROR($U$3*Data!M164/SQRT(COUNT(Data!F164:J164)),\"\")","v":""},"","","","","",{"$f":"IFERROR((Data!K164-$E$4),\"\")","v":""},{"$f":"IF(AND(F164<>\"\",G164<>\"\",H164<>\"\",I164<>\"\",J164<>\"\"),Data!Q164-$E$4,\"\")","v":""},"","","","",{"$f":"IF(F164<>\"\",STDEV($Q$12:Q164),\"\")","v":""},""]
[154,null,{"$f":"RIGHT(Data!C165,10)","v":""},null,null,null,null,null,null,null,{"$f":"IFERROR($U$3*Data!M165/SQRT(COUNT(Data!F165:J165)),\"\")","v":""},"","","","","",{"$f":"IFERROR((Data!K165-$E$4),\"\")","v":""},{"$f":"IF(AND(F165<>\"\",G165<>\"\",H165<>\"\",I165<>\"\",J165<>\"\"),Data!Q165-$E$4,\"\")","v":""},"","","","",{"$f":"IF(F165<>\"\",STDEV($Q$12:Q165),\"\")","v":""},""]
[155,null,{"$f":"RIGHT(Data!C166,10)","v":""},null,null,null,null,null,null,null,{"$f":"IFERROR($U$3*Data!M166/SQRT(COUNT(Data!F166:J166)),\"\")","v":""},"","","","","",{"$f":"IFERROR((Data!K166-$E$4),\"\")","v":""},{"$f":"IF(AND(F166<>\"\",G166<>\"\",H166<>\"\",I166<>\"\",J166<>\"\"),Data!Q166-$E$4,\"\")","v":""},"","","","",{"$f":"IF(F166<>\"\",STDEV($Q$12:Q166),\"\")","v":""},""]
[156,null,{"$f":"RIGHT(Data!C167,10)","v":""},null,null,null,null,null,null,null,{"$f":"IFERROR($U$3*Data!M167/SQRT(COUNT(Data!F167:J167)),\"\")","v":""},"","","","","",{"$f":"IFERROR((Data!K167-$E$4),\"\")","v":""},{"$f":"IF(AND(F167<>\"\",G167<>\"\",H167<>\"\",I167<>\"\",J167<>\"\"),Data!Q167-$E$4,\"\")","v":""},"","","","",{"$f":"IF(F167<>\"\",STDEV($Q$12:Q167),\"\")","v":""},""]
[157,null,{"$f":"RIGHT(Data!C168,10)","v":""},null,null,null,null,null,null,null,{"$f":"IFERROR($U$3*Data!M168/SQRT(COUNT(Data!F168:J168)),\"\")","v":""},"","","","","",{"$f":"IFERROR((Data!K168-$E$4),\"\")","v":""},{"$f":"IF(AND(F168<>\"\",G168<>\"\",H168<>\"\",I168<>\"\",J168<>\"\"),Data!Q168-$E$4,\"\")","v":""},"","","","",{"$f":"IF(F168<>\"\",STDEV($Q$12:Q168),\"\")","v":""},""]
[158,null,{"$f":"RIGHT(Data!C169,10)","v":""},null,null,null,null,null,null,null,{"$f":"IFERROR($U$3*Data!M169/SQRT(COUNT(Data!F169:J169)),\"\")","v":""},"","","","","",{"$f":"IFERROR((Data!K169-$E$4),\"\")","v":""},{"$f":"IF(AND(F169<>\"\",G169<>\"\",H169<>\"\",I169<>\"\",J169<>\"\"),Data!Q169-$E$4,\"\")","v":""},"","","","",{"$f":"IF(F169<>\"\",STDEV($Q$12:Q169),\"\")","v":""},""]
[159,null,{"$f":"RIGHT(Data!C170,10)","v":""},null,null,null,null,null,null,null,{"$f":"IFERROR($U$3*Data!M170/SQRT(COUNT(Data!F170:J170)),\"\")","v":""},"","","","","",{"$f":"IFERROR((Data!K170-$E$4),\"\")","v":""},{"$f":"IF(AND(F170<>\"\",G170<>\"\",H170<>\"\",I170<>\"\",J170<>\"\"),Data!Q170-$E$4,\"\")","v":""},"","","","",{"$f":"IF(F170<>\"\",STDEV($Q$12:Q170),\"\")","v":""},""]
[160,null,{"$f":"RIGHT(Data!C171,10)","v":""},null,null,null,null,null,null,null,{"$f":"IFERROR($U$3*Data!M171/SQRT(COUNT(Data!F171:J171)),\"\")","v":""},"","","","","",{"$f":"IFERROR((Data!K171-$E$4),\"\")","v":""},{"$f":"IF(AND(F171<>\"\",G171<>\"\",H171<>\"\",I171<>\"\",J171<>\"\"),Data!Q171-$E$4,\"\")","v":""},"","","","",{"$f":"IF(F171<>\"\",STDEV($Q$12:Q171),\"\")","v":""},""]
[161,null,{"$f":"RIGHT(Data!C172,10)","v":""},null,null,null,null,null,null,null,{"$f":"IFERROR($U$3*Data!M172/SQRT(COUNT(Data!F172:J172)),\"\")","v":""},"","","","","",{"$f":"IFERROR((Data!K172-$E$4),\"\")","v":""},{"$f":"IF(AND(F172<>\"\",G172<>\"\",H172<>\"\",I172<>\"\",J172<>\"\"),Data!Q172-$E$4,\"\")","v":""},"","","","",{"$f":"IF(F172<>\"\",STDEV($Q$12:Q172),\"\")","v":""},""]
[162,null,{"$f":"RIGHT(Data!C173,10)","v":""},null,null,null,null,null,null,null,{"$f":"IFERROR($U$3*Data!M173/SQRT(COUNT(Data!F173:J173)),\"\")","v":""},"","","","","",{"$f":"IFERROR((Data!K173-$E$4),\"\")","v":""},{"$f":"IF(AND(F173<>\"\",G173<>\"\",H173<>\"\",I173<>\"\",J173<>\"\"),Data!Q173-$E$4,\"\")","v":""},"","","","",{"$f":"IF(F173<>\"\",STDEV($Q$12:Q173),\"\")","v":""},""]
[163,null,{"$f":"RIGHT(Data!C174,10)","v":""},null,null,null,null,null,null,null,{"$f":"IFERROR($U$3*Data!M174/SQRT(COUNT(Data!F174:J174)),\"\")","v":""},"","","","","",{"$f":"IFERROR((Data!K174-$E$4),\"\")","v":""},{"$f":"IF(AND(F174<>\"\",G174<>\"\",H174<>\"\",I174<>\"\",J174<>\"\"),Data!Q174-$E$4,\"\")","v":""},"","","","",{"$f":"IF(F174<>\"\",STDEV($Q$12:Q174),\"\")","v":""},""]
[164,null,{"$f":"RIGHT(Data!C175,10)","v":""},null,null,null,null,null,null,null,{"$f":"IFERROR($U$3*Data!M175/SQRT(COUNT(Data!F175:J175)),\"\")","v":""},"","","","","",{"$f":"IFERROR((Data!K175-$E$4),\"\")","v":""},{"$f":"IF(AND(F175<>\"\",G175<>\"\",H175<>\"\",I175<>\"\",J175<>\"\"),Data!Q175-$E$4,\"\")","v":""},"","","","",{"$f":"IF(F175<>\"\",STDEV($Q$12:Q175),\"\")","v":""},""]
[165,null,{"$f":"RIGHT(Data!C176,10)","v":""},null,null,null,null,null,null,null,{"$f":"IFERROR($U$3*Data!M176/SQRT(COUNT(Data!F176:J176)),\"\")","v":""},"","","","","",{"$f":"IFERROR((Data!K176-$E$4),\"\")","v":""},{"$f":"IF(AND(F176<>\"\",G176<>\"\",H176<>\"\",I176<>\"\",J176<>\"\"),Data!Q176-$E$4,\"\")","v":""},"","","","",{"$f":"IF(F176<>\"\",STDEV($Q$12:Q176),\"\")","v":""},""]
[166,null,{"$f":"RIGHT(Data!C177,10)","v":""},null,null,null,null,null,null,null,{"$f":"IFERROR($U$3*Data!M177/SQRT(COUNT(Data!F177:J177)),\"\")","v":""},"","","","","",{"$f":"IFERROR((Data!K177-$E$4),\"\")","v":""},{"$f":"IF(AND(F177<>\"\",G177<>\"\",H177<>\"\",I177<>\"\",J177<>\"\"),Data!Q177-$E$4,\"\")","v":""},"","","","",{"$f":"IF(F177<>\"\",STDEV($Q$12:Q177),\"\")","v":""},""]
[167,null,{"$f":"RIGHT(Data!C178,10)","v":""},null,null,null,null,null,null,null,{"$f":"IFERROR($U$3*Data!M178/SQRT(COUNT(Data!F178:J178)),\"\")","v":""},"","","","","",{"$f":"IFERROR((Data!K178-$E$4),\"\")","v":""},{"$f":"IF(AND(F178<>\"\",G178<>\"\",H178<>\"\",I178<>\"\",J178<>\"\"),Data!Q178-$E$4,\"\")","v":""},"","","","",{"$f":"IF(F178<>\"\",STDEV($Q$12:Q178),\"\")","v":""},""]
[168,null,{"$f":"RIGHT(Data!C179,10)","v":""},null,null,null,null,null,null,null,{"$f":"IFERROR($U$3*Data!M179/SQRT(COUNT(Data!F179:J179)),\"\")","v":""},"","","","","",{"$f":"IFERROR((Data!K179-$E$4),\"\")","v":""},{"$f":"IF(AND(F179<>\"\",G179<>\"\",H179<>\"\",I179<>\"\",J179<>\"\"),Data!Q179-$E$4,\"\")","v":""},"","","","",{"$f":"IF(F179<>\"\",STDEV($Q$12:Q179),\"\")","v":""},""]
[169,null,{"$f":"RIGHT(Data!C180,10)","v":""},null,null,null,null,null,null,null,{"$f":"IFERROR($U$3*Data!M180/SQRT(COUNT(Data!F180:J180)),\"\")","v":""},"","","","","",{"$f":"IFERROR((Data!K180-$E$4),\"\")","v":""},{"$f":"IF(AND(F180<>\"\",G180<>\"\",H180<>\"\",I180<>\"\",J180<>\"\"),Data!Q180-$E$4,\"\")","v":""},"","","","",{"$f":"IF(F180<>\"\",STDEV($Q$12:Q180),\"\")","v":""},""]
[170,null,{"$f":"RIGHT(Data!C181,10)","v":""},null,null,null,null,null,null,null,{"$f":"IFERROR($U$3*Data!M181/SQRT(COUNT(Data!F181:J181)),\"\")","v":""},"","","","","",{"$f":"IFERROR((Data!K181-$E$4),\"\")","v":""},{"$f":"IF(AND(F181<>\"\",G181<>\"\",H181<>\"\",I181<>\"\",J181<>\"\"),Data!Q181-$E$4,\"\")","v":""},"","","","",{"$f":"IF(F181<>\"\",STDEV($Q$12:Q181),\"\")","v":""},""]
[171,null,{"$f":"RIGHT(Data!C182,10)","v":""},null,null,null,null,null,null,null,{"$f":"IFERROR($U$3*Data!M182/SQRT(COUNT(Data!F182:J182)),\"\")","v":""},"","","","","",{"$f":"IFERROR((Data!K182-$E$4),\"\")","v":""},{"$f":"IF(AND(F182<>\"\",G182<>\"\",H182<>\"\",I182<>\"\",J182<>\"\"),Data!Q182-$E$4,\"\")","v":""},"","","","",{"$f":"IF(F182<>\"\",STDEV($Q$12:Q182),\"\")","v":""},""]
[172,null,{"$f":"RIGHT(Data!C183,10)","v":""},null,null,null,null,null,null,null,{"$f":"IFERROR($U$3*Data!M183/SQRT(COUNT(Data!F183:J183)),\"\")","v":""},"","","","","",{"$f":"IFERROR((Data!K183-$E$4),\"\")","v":""},{"$f":"IF(AND(F183<>\"\",G183<>\"\",H183<>\"\",I183<>\"\",J183<>\"\"),Data!Q183-$E$4,\"\")","v":""},"","","","",{"$f":"IF(F183<>\"\",STDEV($Q$12:Q183),\"\")","v":""},""]
[173,null,{"$f":"RIGHT(Data!C184,10)","v":""},null,null,null,null,null,null,null,{"$f":"IFERROR($U$3*Data!M184/SQRT(COUNT(Data!F184:J184)),\"\")","v":""},"","","","","",{"$f":"IFERROR((Data!K184-$E$4),\"\")","v":""},{"$f":"IF(AND(F184<>\"\",G184<>\"\",H184<>\"\",I184<>\"\",J184<>\"\"),Data!Q184-$E$4,\"\")","v":""},"","","","",{"$f":"IF(F184<>\"\",STDEV($Q$12:Q184),\"\")","v":""},""]
[174,null,{"$f":"RIGHT(Data!C185,10)","v":""},null,null,null,null,null,null,null,{"$f":"IFERROR($U$3*Data!M185/SQRT(COUNT(Data!F185:J185)),\"\")","v":""},"","","","","",{"$f":"IFERROR((Data!K185-$E$4),\"\")","v":""},{"$f":"IF(AND(F185<>\"\",G185<>\"\",H185<>\"\",I185<>\"\",J185<>\"\"),Data!Q185-$E$4,\"\")","v":""},"","","","",{"$f":"IF(F185<>\"\",STDEV($Q$12:Q185),\"\")","v":""},""]
[175,null,{"$f":"RIGHT(Data!C186,10)","v":""},null,null,null,null,null,null,null,{"$f":"IFERROR($U$3*Data!M186/SQRT(COUNT(Data!F186:J186)),\"\")","v":""},"","","","","",{"$f":"IFERROR((Data!K186-$E$4),\"\")","v":""},{"$f":"IF(AND(F186<>\"\",G186<>\"\",H186<>\"\",I186<>\"\",J186<>\"\"),Data!Q186-$E$4,\"\")","v":""},"","","","",{"$f":"IF(F186<>\"\",STDEV($Q$12:Q186),\"\")","v":""},""]
[176,null,{"$f":"RIGHT(Data!C187,10)","v":""},null,null,null,null,null,null,null,{"$f":"IFERROR($U$3*Data!M187/SQRT(COUNT(Data!F187:J187)),\"\")","v":""},"","","","","",{"$f":"IFERROR((Data!K187-$E$4),\"\")","v":""},{"$f":"IF(AND(F187<>\"\",G187<>\"\",H187<>\"\",I187<>\"\",J187<>\"\"),Data!Q187-$E$4,\"\")","v":""},"","","","",{"$f":"IF(F187<>\"\",STDEV($Q$12:Q187),\"\")","v":""},""]
[177,null,{"$f":"RIGHT(Data!C188,10)","v":""},null,null,null,null,null,null,null,{"$f":"IFERROR($U$3*Data!M188/SQRT(COUNT(Data!F188:J188)),\"\")","v":""},"","","","","",{"$f":"IFERROR((Data!K188-$E$4),\"\")","v":""},{"$f":"IF(AND(F188<>\"\",G188<>\"\",H188<>\"\",I188<>\"\",J188<>\"\"),Data!Q188-$E$4,\"\")","v":""},"","","","",{"$f":"IF(F188<>\"\",STDEV($Q$12:Q188),\"\")","v":""},""]
[178,null,{"$f":"RIGHT(Data!C189,10)","v":""},null,null,null,null,null,null,null,{"$f":"IFERROR($U$3*Data!M189/SQRT(COUNT(Data!F189:J189)),\"\")","v":""},"","","","","",{"$f":"IFERROR((Data!K189-$E$4),\"\")","v":""},{"$f":"IF(AND(F189<>\"\",G189<>\"\",H189<>\"\",I189<>\"\",J189<>\"\"),Data!Q189-$E$4,\"\")","v":""},"","","","",{"$f":"IF(F189<>\"\",STDEV($Q$12:Q189),\"\")","v":""},""]
[179,null,{"$f":"RIGHT(Data!C190,10)","v":""},null,null,null,null,null,null,null,{"$f":"IFERROR($U$3*Data!M190/SQRT(COUNT(Data!F190:J190)),\"\")","v":""},"","","","","",{"$f":"IFERROR((Data!K190-$E$4),\"\")","v":""},{"$f":"IF(AND(F190<>\"\",G190<>\"\",H190<>\"\",I190<>\"\",J190<>\"\"),Data!Q190-$E$4,\"\")","v":""},"","","","",{"$f":"IF(F190<>\"\",STDEV($Q$12:Q190),\"\")","v":""},""]
[180,null,{"$f":"RIGHT(Data!C191,10)","v":""},null,null,null,null,null,null,null,{"$f":"IFERROR($U$3*Data!M191/SQRT(COUNT(Data!F191:J191)),\"\")","v":""},"","","","","",{"$f":"IFERROR((Data!K191-$E$4),\"\")","v":""},{"$f":"IF(AND(F191<>\"\",G191<>\"\",H191<>\"\",I191<>\"\",J191<>\"\"),Data!Q191-$E$4,\"\")","v":""},"","","","",{"$f":"IF(F191<>\"\",STDEV($Q$12:Q191),\"\")","v":""},""]
[181,null,{"$f":"RIGHT(Data!C192,10)","v":""},null,null,null,null,null,null,null,{"$f":"IFERROR($U$3*Data!M192/SQRT(COUNT(Data!F192:J192)),\"\")","v":""},"","","","","",{"$f":"IFERROR((Data!K192-$E$4),\"\")","v":""},{"$f":"IF(AND(F192<>\"\",G192<>\"\",H192<>\"\",I192<>\"\",J192<>\"\"),Data!Q192-$E$4,\"\")","v":""},"","","","",{"$f":"IF(F192<>\"\",STDEV($Q$12:Q192),\"\")","v":""},""]
[182,null,{"$f":"RIGHT(Data!C193,10)","v":""},null,null,null,null,null,null,null,{"$f":"IFERROR($U$3*Data!M193/SQRT(COUNT(Data!F193:J193)),\"\")","v":""},"","","","","",{"$f":"IFERROR((Data!K193-$E$4),\"\")","v":""},{"$f":"IF(AND(F193<>\"\",G193<>\"\",H193<>\"\",I193<>\"\",J193<>\"\"),Data!Q193-$E$4,\"\")","v":""},"","","","",{"$f":"IF(F193<>\"\",STDEV($Q$12:Q193),\"\")","v":""},""]
[183,null,{"$f":"RIGHT(Data!C194,10)","v":""},null,null,null,null,null,null,null,{"$f":"IFERROR($U$3*Data!M194/SQRT(COUNT(Data!F194:J194)),\"\")","v":""},"","","","","",{"$f":"IFERROR((Data!K194-$E$4),\"\")","v":""},{"$f":"IF(AND(F194<>\"\",G194<>\"\",H194<>\"\",I194<>\"\",J194<>\"\"),Data!Q194-$E$4,\"\")","v":""},"","","","",{"$f":"IF(F194<>\"\",STDEV($Q$12:Q194),\"\")","v":""},""]
[184,null,{"$f":"RIGHT(Data!C195,10)","v":""},null,null,null,null,null,null,null,{"$f":"IFERROR($U$3*Data!M195/SQRT(COUNT(Data!F195:J195)),\"\")","v":""},"","","","","",{"$f":"IFERROR((Data!K195-$E$4),\"\")","v":""},{"$f":"IF(AND(F195<>\"\",G195<>\"\",H195<>\"\",I195<>\"\",J195<>\"\"),Data!Q195-$E$4,\"\")","v":""},"","","","",{"$f":"IF(F195<>\"\",STDEV($Q$12:Q195),\"\")","v":""},""]
[185,null,{"$f":"RIGHT(Data!C196,10)","v":""},null,null,null,null,null,null,null,{"$f":"IFERROR($U$3*Data!M196/SQRT(COUNT(Data!F196:J196)),\"\")","v":""},"","","","","",{"$f":"IFERROR((Data!K196-$E$4),\"\")","v":""},{"$f":"IF(AND(F196<>\"\",G196<>\"\",H196<>\"\",I196<>\"\",J196<>\"\"),Data!Q196-$E$4,\"\")","v":""},"","","","",{"$f":"IF(F196<>\"\",STDEV($Q$12:Q196),\"\")","v":""},""]
[186,null,{"$f":"RIGHT(Data!C197,10)","v":""},null,null,null,null,null,null,null,{"$f":"IFERROR($U$3*Data!M197/SQRT(COUNT(Data!F197:J197)),\"\")","v":""},"","","","","",{"$f":"IFERROR((Data!K197-$E$4),\"\")","v":""},{"$f":"IF(AND(F197<>\"\",G197<>\"\",H197<>\"\",I197<>\"\",J197<>\"\"),Data!Q197-$E$4,\"\")","v":""},"","","","",{"$f":"IF(F197<>\"\",STDEV($Q$12:Q197),\"\")","v":""},""]
[187,null,{"$f":"RIGHT(Data!C198,10)","v":""},null,null,null,null,null,null,null,{"$f":"IFERROR($U$3*Data!M198/SQRT(COUNT(Data!F198:J198)),\"\")","v":""},"","","","","",{"$f":"IFERROR((Data!K198-$E$4),\"\")","v":""},{"$f":"IF(AND(F198<>\"\",G198<>\"\",H198<>\"\",I198<>\"\",J198<>\"\"),Data!Q198-$E$4,\"\")","v":""},"","","","",{"$f":"IF(F198<>\"\",STDEV($Q$12:Q198),\"\")","v":""},""]
[188,null,{"$f":"RIGHT(Data!C199,10)","v":""},null,null,null,null,null,null,null,{"$f":"IFERROR($U$3*Data!M199/SQRT(COUNT(Data!F199:J199)),\"\")","v":""},"","","","","",{"$f":"IFERROR((Data!K199-$E$4),\"\")","v":""},{"$f":"IF(AND(F199<>\"\",G199<>\"\",H199<>\"\",I199<>\"\",J199<>\"\"),Data!Q199-$E$4,\"\")","v":""},"","","","",{"$f":"IF(F199<>\"\",STDEV($Q$12:Q199),\"\")","v":""},""]
[189,null,{"$f":"RIGHT(Data!C200,10)","v":""},null,null,null,null,null,null,null,{"$f":"IFERROR($U$3*Data!M200/SQRT(COUNT(Data!F200:J200)),\"\")","v":""},"","","","","",{"$f":"IFERROR((Data!K200-$E$4),\"\")","v":""},{"$f":"IF(AND(F200<>\"\",G200<>\"\",H200<>\"\",I200<>\"\",J200<>\"\"),Data!Q200-$E$4,\"\")","v":""},"","","","",{"$f":"IF(F200<>\"\",STDEV($Q$12:Q200),\"\")","v":""},""]
[190,null,{"$f":"RIGHT(Data!C201,10)","v":""},null,null,null,null,null,null,null,{"$f":"IFERROR($U$3*Data!M201/SQRT(COUNT(Data!F201:J201)),\"\")","v":""},"","","","","",{"$f":"IFERROR((Data!K201-$E$4),\"\")","v":""},{"$f":"IF(AND(F201<>\"\",G201<>\"\",H201<>\"\",I201<>\"\",J201<>\"\"),Data!Q201-$E$4,\"\")","v":""},"","","","",{"$f":"IF(F201<>\"\",STDEV($Q$12:Q201),\"\")","v":""},""]
[191,null,{"$f":"RIGHT(Data!C202,10)","v":""},null,null,null,null,null,null,null,{"$f":"IFERROR($U$3*Data!M202/SQRT(COUNT(Data!F202:J202)),\"\")","v":""},"","","","","",{"$f":"IFERROR((Data!K202-$E$4),\"\")","v":""},{"$f":"IF(AND(F202<>\"\",G202<>\"\",H202<>\"\",I202<>\"\",J202<>\"\"),Data!Q202-$E$4,\"\")","v":""},"","","","",{"$f":"IF(F202<>\"\",STDEV($Q$12:Q202),\"\")","v":""},""]
[192,null,{"$f":"RIGHT(Data!C203,10)","v":""},null,null,null,null,null,null,null,{"$f":"IFERROR($U$3*Data!M203/SQRT(COUNT(Data!F203:J203)),\"\")","v":""},"","","","","",{"$f":"IFERROR((Data!K203-$E$4),\"\")","v":""},{"$f":"IF(AND(F203<>\"\",G203<>\"\",H203<>\"\",I203<>\"\",J203<>\"\"),Data!Q203-$E$4,\"\")","v":""},"","","","",{"$f":"IF(F203<>\"\",STDEV($Q$12:Q203),\"\")","v":""},""]
[193,null,{"$f":"RIGHT(Data!C204,10)","v":""},null,null,null,null,null,null,null,{"$f":"IFERROR($U$3*Data!M204/SQRT(COUNT(Data!F204:J204)),\"\")","v":""},"","",{"$f":"IF(COUNT(F204:J204)>=5,STDEV(F204:J204)*$U$3/SQRT((COUNT(F204:J204))),\"\")","v":""},{"$f":"IFERROR($U$4*SQRT($U$7^2+L204^2+K204^2+$U$5^2+N204^2),\"\")","v":""},"",{"$f":"IFERROR((Data!K204-$E$4),\"\")","v":""},{"$f":"IF(AND(F204<>\"\",G204<>\"\",H204<>\"\",I204<>\"\",J204<>\"\"),Data!Q204-$E$4,\"\")","v":""},{"$f":"IF(O204<>\"\",FIXED(X204,1) & \" ± \" & FIXED(O204+ABS(R204),2),\"\")","v":""},"","","",{"$f":"IF(F204<>\"\",STDEV($Q$12:Q204),\"\")","v":""},{"$f":"IF(F204<>\"\",AVERAGE(F204:J204),\"\")","v":""}]
[194,null,{"$f":"RIGHT(Data!C205,10)","v":""},null,null,null,null,null,null,null,{"$f":"IFERROR($U$3*Data!M205/SQRT(COUNT(Data!F205:J205)),\"\")","v":""},{"$f":"IF(F205<>\"\",V205*W205/SQRT(A205),\"\")","v":""},{"$f":"IF(F205<>\"\",$U$4*SQRT($U$7^2+L205^2+K205^2+$U$5^2),\"\")","v":""},"","",{"$f":"IF(AND(F205<>\"\",G205<>\"\",H205<>\"\",I205<>\"\",J205<>\"\"),AVERAGE(F205:J205),\"\")","v":""},{"$f":"IFERROR((Data!K205-$E$4),\"\")","v":""},{"$f":"IF(AND(F205<>\"\",G205<>\"\",H205<>\"\",I205<>\"\",J205<>\"\"),Data!Q205-$E$4,\"\")","v":""},"",{"$f":"IF(F205<>\"\",FIXED(AVERAGE(F205:J205)-R205,1) & \" ± \" & FIXED(O205,2),\"\")","v":""},{"$f":"IF(IO205=\"\",\"\",IO205-1)","v":""},{"$f":"IF(F205<>\"\",TINV(1-0.68,A205-1),\"\")","v":""},{"$f":"IF(F205<>\"\",STDEV($Q$12:Q205),\"\")","v":""},""]
[195,null,{"$f":"RIGHT(Data!C206,10)","v":""},null,null,null,null,null,null,null,{"$f":"IFERROR($U$3*Data!M206/SQRT(COUNT(Data!F206:J206)),\"\")","v":""},"","","","","",{"$f":"IFERROR((Data!K206-$E$4),\"\")","v":""},{"$f":"IF(AND(F206<>\"\",G206<>\"\",H206<>\"\",I206<>\"\",J206<>\"\"),Data!Q206-$E$4,\"\")","v":""},"","","","",{"$f":"IF(F206<>\"\",STDEV($Q$12:Q206),\"\")","v":""},""]
[196,null,{"$f":"RIGHT(Data!C207,10)","v":""},null,null,null,null,null,null,null,{"$f":"IFERROR($U$3*Data!M207/SQRT(COUNT(Data!F207:J207)),\"\")","v":""},"","","","","",{"$f":"IFERROR((Data!K207-$E$4),\"\")","v":""},{"$f":"IF(AND(F207<>\"\",G207<>\"\",H207<>\"\",I207<>\"\",J207<>\"\"),Data!Q207-$E$4,\"\")","v":""},"","","","",{"$f":"IF(F207<>\"\",STDEV($Q$12:Q207),\"\")","v":""},""]
[197,null,{"$f":"RIGHT(Data!C208,10)","v":""},null,null,null,null,null,null,null,{"$f":"IFERROR($U$3*Data!M208/SQRT(COUNT(Data!F208:J208)),\"\")","v":""},"","","","","",{"$f":"IFERROR((Data!K208-$E$4),\"\")","v":""},{"$f":"IF(AND(F208<>\"\",G208<>\"\",H208<>\"\",I208<>\"\",J208<>\"\"),Data!Q208-$E$4,\"\")","v":""},"","","","",{"$f":"IF(F208<>\"\",STDEV($Q$12:Q208),\"\")","v":""},""]
[198,null,{"$f":"RIGHT(Data!C209,10)","v":""},null,null,null,null,null,null,null,{"$f":"IFERROR($U$3*Data!M209/SQRT(COUNT(Data!F209:J209)),\"\")","v":""},"","","","","",{"$f":"IFERROR((Data!K209-$E$4),\"\")","v":""},{"$f":"IF(AND(F209<>\"\",G209<>\"\",H209<>\"\",I209<>\"\",J209<>\"\"),Data!Q209-$E$4,\"\")","v":""},"","","","",{"$f":"IF(F209<>\"\",STDEV($Q$12:Q209),\"\")","v":""},""]
[199,null,{"$f":"RIGHT(Data!C210,10)","v":""},null,null,null,null,null,null,null,{"$f":"IFERROR($U$3*Data!M210/SQRT(COUNT(Data!F210:J210)),\"\")","v":""},"","","","","",{"$f":"IFERROR((Data!K210-$E$4),\"\")","v":""},{"$f":"IF(AND(F210<>\"\",G210<>\"\",H210<>\"\",I210<>\"\",J210<>\"\"),Data!Q210-$E$4,\"\")","v":""},"","","","",{"$f":"IF(F210<>\"\",STDEV($Q$12:Q210),\"\")","v":""},""]
[200,null,{"$f":"RIGHT(Data!C211,10)","v":""},null,null,null,null,null,null,null,{"$f":"IFERROR($U$3*Data!M211/SQRT(COUNT(Data!F211:J211)),\"\")","v":""},"","","","","",{"$f":"IFERROR((Data!K211-$E$4),\"\")","v":""},{"$f":"IF(AND(F211<>\"\",G211<>\"\",H211<>\"\",I211<>\"\",J211<>\"\"),Data!Q211-$E$4,\"\")","v":""},"","","","",{"$f":"IF(F211<>\"\",STDEV($Q$12:Q211),\"\")","v":""},""]
[201,null,{"$f":"RIGHT(Data!C212,10)","v":""},null,null,null,null,null,null,null,{"$f":"IFERROR($U$3*Data!M212/SQRT(COUNT(Data!F212:J212)),\"\")","v":""},"","","","","",{"$f":"IFERROR((Data!K212-$E$4),\"\")","v":""},{"$f":"IF(AND(F212<>\"\",G212<>\"\",H212<>\"\",I212<>\"\",J212<>\"\"),Data!Q212-$E$4,\"\")","v":""},"","","","",{"$f":"IF(F212<>\"\",STDEV($Q$12:Q212),\"\")","v":""},""]
[202,null,{"$f":"RIGHT(Data!C213,10)","v":""},null,null,null,null,null,null,null,{"$f":"IFERROR($U$3*Data!M213/SQRT(COUNT(Data!F213:J213)),\"\")","v":""},"","","","","",{"$f":"IFERROR((Data!K213-$E$4),\"\")","v":""},{"$f":"IF(AND(F213<>\"\",G213<>\"\",H213<>\"\",I213<>\"\",J213<>\"\"),Data!Q213-$E$4,\"\")","v":""},"","","","",{"$f":"IF(F213<>\"\",STDEV($Q$12:Q213),\"\")","v":""},""]
[203,null,{"$f":"RIGHT(Data!C214,10)","v":""},null,null,null,null,null,null,null,{"$f":"IFERROR($U$3*Data!M214/SQRT(COUNT(Data!F214:J214)),\"\")","v":""},"","","","","",{"$f":"IFERROR((Data!K214-$E$4),\"\")","v":""},{"$f":"IF(AND(F214<>\"\",G214<>\"\",H214<>\"\",I214<>\"\",J214<>\"\"),Data!Q214-$E$4,\"\")","v":""},"","","","",{"$f":"IF(F214<>\"\",STDEV($Q$12:Q214),\"\")","v":""},""]
[204,null,{"$f":"RIGHT(Data!C215,10)","v":""},null,null,null,null,null,null,null,{"$f":"IFERROR($U$3*Data!M215/SQRT(COUNT(Data!F215:J215)),\"\")","v":""},"","","","","",{"$f":"IFERROR((Data!K215-$E$4),\"\")","v":""},{"$f":"IF(AND(F215<>\"\",G215<>\"\",H215<>\"\",I215<>\"\",J215<>\"\"),Data!Q215-$E$4,\"\")","v":""},"","","","",{"$f":"IF(F215<>\"\",STDEV($Q$12:Q215),\"\")","v":""},""]
[205,null,{"$f":"RIGHT(Data!C216,10)","v":""},null,null,null,null,null,null,null,{"$f":"IFERROR($U$3*Data!M216/SQRT(COUNT(Data!F216:J216)),\"\")","v":""},"","","","","",{"$f":"IFERROR((Data!K216-$E$4),\"\")","v":""},{"$f":"IF(AND(F216<>\"\",G216<>\"\",H216<>\"\",I216<>\"\",J216<>\"\"),Data!Q216-$E$4,\"\")","v":""},"","","","",{"$f":"IF(F216<>\"\",STDEV($Q$12:Q216),\"\")","v":""},""]
[206,null,{"$f":"RIGHT(Data!C217,10)","v":""},null,null,null,null,null,null,null,{"$f":"IFERROR($U$3*Data!M217/SQRT(COUNT(Data!F217:J217)),\"\")","v":""},"","","","","",{"$f":"IFERROR((Data!K217-$E$4),\"\")","v":""},{"$f":"IF(AND(F217<>\"\",G217<>\"\",H217<>\"\",I217<>\"\",J217<>\"\"),Data!Q217-$E$4,\"\")","v":""},"","","","",{"$f":"IF(F217<>\"\",STDEV($Q$12:Q217),\"\")","v":""},""]
[207,null,{"$f":"RIGHT(Data!C218,10)","v":""},null,null,null,null,null,null,null,{"$f":"IFERROR($U$3*Data!M218/SQRT(COUNT(Data!F218:J218)),\"\")","v":""},"","","","","",{"$f":"IFERROR((Data!K218-$E$4),\"\")","v":""},{"$f":"IF(AND(F218<>\"\",G218<>\"\",H218<>\"\",I218<>\"\",J218<>\"\"),Data!Q218-$E$4,\"\")","v":""},"","","","",{"$f":"IF(F218<>\"\",STDEV($Q$12:Q218),\"\")","v":""},""]
[208,null,{"$f":"RIGHT(Data!C219,10)","v":""},null,null,null,null,null,null,null,{"$f":"IFERROR($U$3*Data!M219/SQRT(COUNT(Data!F219:J219)),\"\")","v":""},"","","","","",{"$f":"IFERROR((Data!K219-$E$4),\"\")","v":""},{"$f":"IF(AND(F219<>\"\",G219<>\"\",H219<>\"\",I219<>\"\",J219<>\"\"),Data!Q219-$E$4,\"\")","v":""},"","","","",{"$f":"IF(F219<>\"\",STDEV($Q$12:Q219),\"\")","v":""},""]
[209,null,{"$f":"RIGHT(Data!C220,10)","v":""},null,null,null,null,null,null,null,{"$f":"IFERROR($U$3*Data!M220/SQRT(COUNT(Data!F220:J220)),\"\")","v":""},"","","","","",{"$f":"IFERROR((Data!K220-$E$4),\"\")","v":""},{"$f":"IF(AND(F220<>\"\",G220<>\"\",H220<>\"\",I220<>\"\",J220<>\"\"),Data!Q220-$E$4,\"\")","v":""},"","","","",{"$f":"IF(F220<>\"\",STDEV($Q$12:Q220),\"\")","v":""},""]
[210,null,{"$f":"RIGHT(Data!C221,10)","v":""},null,null,null,null,null,null,null,{"$f":"IFERROR($U$3*Data!M221/SQRT(COUNT(Data!F221:J221)),\"\")","v":""},"","","","","",{"$f":"IFERROR((Data!K221-$E$4),\"\")","v":""},{"$f":"IF(AND(F221<>\"\",G221<>\"\",H221<>\"\",I221<>\"\",J221<>\"\"),Data!Q221-$E$4,\"\")","v":""},"","","","",{"$f":"IF(F221<>\"\",STDEV($Q$12:Q221),\"\")","v":""},""]
[211,null,{"$f":"RIGHT(Data!C222,10)","v":""},null,null,null,null,null,null,null,{"$f":"IFERROR($U$3*Data!M222/SQRT(COUNT(Data!F222:J222)),\"\")","v":""},"","","","","",{"$f":"IFERROR((Data!K222-$E$4),\"\")","v":""},{"$f":"IF(AND(F222<>\"\",G222<>\"\",H222<>\"\",I222<>\"\",J222<>\"\"),Data!Q222-$E$4,\"\")","v":""},"","","","",{"$f":"IF(F222<>\"\",STDEV($Q$12:Q222),\"\")","v":""},""]
[212,null,{"$f":"RIGHT(Data!C223,10)","v":""},null,null,null,null,null,null,null,{"$f":"IFERROR($U$3*Data!M223/SQRT(COUNT(Data!F223:J223)),\"\")","v":""},"","","","","",{"$f":"IFERROR((Data!K223-$E$4),\"\")","v":""},{"$f":"IF(AND(F223<>\"\",G223<>\"\",H223<>\"\",I223<>\"\",J223<>\"\"),Data!Q223-$E$4,\"\")","v":""},"","","","",{"$f":"IF(F223<>\"\",STDEV($Q$12:Q223),\"\")","v":""},""]
[213,null,{"$f":"RIGHT(Data!C224,10)","v":""},null,null,null,null,null,null,null,{"$f":"IFERROR($U$3*Data!M224/SQRT(COUNT(Data!F224:J224)),\"\")","v":""},"","","","","",{"$f":"IFERROR((Data!K224-$E$4),\"\")","v":""},{"$f":"IF(AND(F224<>\"\",G224<>\"\",H224<>\"\",I224<>\"\",J224<>\"\"),Data!Q224-$E$4,\"\")","v":""},"","","","",{"$f":"IF(F224<>\"\",STDEV($Q$12:Q224),\"\")","v":""},""]
[214,null,{"$f":"RIGHT(Data!C225,10)","v":""},null,null,null,null,null,null,null,{"$f":"IFERROR($U$3*Data!M225/SQRT(COUNT(Data!F225:J225)),\"\")","v":""},"","","","","",{"$f":"IFERROR((Data!K225-$E$4),\"\")","v":""},{"$f":"IF(AND(F225<>\"\",G225<>\"\",H225<>\"\",I225<>\"\",J225<>\"\"),Data!Q225-$E$4,\"\")","v":""},"","","","",{"$f":"IF(F225<>\"\",STDEV($Q$12:Q225),\"\")","v":""},""]
[215,null,{"$f":"RIGHT(Data!C226,10)","v":""},null,null,null,null,null,null,null,{"$f":"IFERROR($U$3*Data!M226/SQRT(COUNT(Data!F226:J226)),\"\")","v":""},"","","","","",{"$f":"IFERROR((Data!K226-$E$4),\"\")","v":""},{"$f":"IF(AND(F226<>\"\",G226<>\"\",H226<>\"\",I226<>\"\",J226<>\"\"),Data!Q226-$E$4,\"\")","v":""},"","","","",{"$f":"IF(F226<>\"\",STDEV($Q$12:Q226),\"\")","v":""},""]
[216,null,{"$f":"RIGHT(Data!C227,10)","v":""},null,null,null,null,null,null,null,{"$f":"IFERROR($U$3*Data!M227/SQRT(COUNT(Data!F227:J227)),\"\")","v":""},"","","","","",{"$f":"IFERROR((Data!K227-$E$4),\"\")","v":""},{"$f":"IF(AND(F227<>\"\",G227<>\"\",H227<>\"\",I227<>\"\",J227<>\"\"),Data!Q227-$E$4,\"\")","v":""},"","","","",{"$f":"IF(F227<>\"\",STDEV($Q$12:Q227),\"\")","v":""},""]
[217,null,{"$f":"RIGHT(Data!C228,10)","v":""},null,null,null,null,null,null,null,{"$f":"IFERROR($U$3*Data!M228/SQRT(COUNT(Data!F228:J228)),\"\")","v":""},"","","","","",{"$f":"IFERROR((Data!K228-$E$4),\"\")","v":""},{"$f":"IF(AND(F228<>\"\",G228<>\"\",H228<>\"\",I228<>\"\",J228<>\"\"),Data!Q228-$E$4,\"\")","v":""},"","","","",{"$f":"IF(F228<>\"\",STDEV($Q$12:Q228),\"\")","v":""},""]
[218,null,{"$f":"RIGHT(Data!C229,10)","v":""},null,null,null,null,null,null,null,{"$f":"IFERROR($U$3*Data!M229/SQRT(COUNT(Data!F229:J229)),\"\")","v":""},"","","","","",{"$f":"IFERROR((Data!K229-$E$4),\"\")","v":""},{"$f":"IF(AND(F229<>\"\",G229<>\"\",H229<>\"\",I229<>\"\",J229<>\"\"),Data!Q229-$E$4,\"\")","v":""},"","","","",{"$f":"IF(F229<>\"\",STDEV($Q$12:Q229),\"\")","v":""},""]
[219,null,{"$f":"RIGHT(Data!C230,10)","v":""},null,null,null,null,null,null,null,{"$f":"IFERROR($U$3*Data!M230/SQRT(COUNT(Data!F230:J230)),\"\")","v":""},"","","","","",{"$f":"IFERROR((Data!K230-$E$4),\"\")","v":""},{"$f":"IF(AND(F230<>\"\",G230<>\"\",H230<>\"\",I230<>\"\",J230<>\"\"),Data!Q230-$E$4,\"\")","v":""},"","","","",{"$f":"IF(F230<>\"\",STDEV($Q$12:Q230),\"\")","v":""},""]
[220,null,{"$f":"RIGHT(Data!C231,10)","v":""},null,null,null,null,null,null,null,{"$f":"IFERROR($U$3*Data!M231/SQRT(COUNT(Data!F231:J231)),\"\")","v":""},"","","","","",{"$f":"IFERROR((Data!K231-$E$4),\"\")","v":""},{"$f":"IF(AND(F231<>\"\",G231<>\"\",H231<>\"\",I231<>\"\",J231<>\"\"),Data!Q231-$E$4,\"\")","v":""},"","","","",{"$f":"IF(F231<>\"\",STDEV($Q$12:Q231),\"\")","v":""},""]
[221,null,{"$f":"RIGHT(Data!C232,10)","v":""},null,null,null,null,null,null,null,{"$f":"IFERROR($U$3*Data!M232/SQRT(COUNT(Data!F232:J232)),\"\")","v":""},"","","","","",{"$f":"IFERROR((Data!K232-$E$4),\"\")","v":""},{"$f":"IF(AND(F232<>\"\",G232<>\"\",H232<>\"\",I232<>\"\",J232<>\"\"),Data!Q232-$E$4,\"\")","v":""},"","","","",{"$f":"IF(F232<>\"\",STDEV($Q$12:Q232),\"\")","v":""},""]
[222,null,{"$f":"RIGHT(Data!C233,10)","v":""},null,null,null,null,null,null,null,{"$f":"IFERROR($U$3*Data!M233/SQRT(COUNT(Data!F233:J233)),\"\")","v":""},"","","","","",{"$f":"IFERROR((Data!K233-$E$4),\"\")","v":""},{"$f":"IF(AND(F233<>\"\",G233<>\"\",H233<>\"\",I233<>\"\",J233<>\"\"),Data!Q233-$E$4,\"\")","v":""},"","","","",{"$f":"IF(F233<>\"\",STDEV($Q$12:Q233),\"\")","v":""},""]
[223,null,{"$f":"RIGHT(Data!C234,10)","v":""},null,null,null,null,null,null,null,{"$f":"IFERROR($U$3*Data!M234/SQRT(COUNT(Data!F234:J234)),\"\")","v":""},"","","","","",{"$f":"IFERROR((Data!K234-$E$4),\"\")","v":""},{"$f":"IF(AND(F234<>\"\",G234<>\"\",H234<>\"\",I234<>\"\",J234<>\"\"),Data!Q234-$E$4,\"\")","v":""},"","","","",{"$f":"IF(F234<>\"\",STDEV($Q$12:Q234),\"\")","v":""},""]
[224,null,{"$f":"RIGHT(Data!C235,10)","v":""},null,null,null,null,null,null,null,{"$f":"IFERROR($U$3*Data!M235/SQRT(COUNT(Data!F235:J235)),\"\")","v":""},"","","","","",{"$f":"IFERROR((Data!K235-$E$4),\"\")","v":""},{"$f":"IF(AND(F235<>\"\",G235<>\"\",H235<>\"\",I235<>\"\",J235<>\"\"),Data!Q235-$E$4,\"\")","v":""},"","","","",{"$f":"IF(F235<>\"\",STDEV($Q$12:Q235),\"\")","v":""},""]
[225,null,{"$f":"RIGHT(Data!C236,10)","v":""},null,null,null,null,null,null,null,{"$f":"IFERROR($U$3*Data!M236/SQRT(COUNT(Data!F236:J236)),\"\")","v":""},"","","","","",{"$f":"IFERROR((Data!K236-$E$4),\"\")","v":""},{"$f":"IF(AND(F236<>\"\",G236<>\"\",H236<>\"\",I236<>\"\",J236<>\"\"),Data!Q236-$E$4,\"\")","v":""},"","","","",{"$f":"IF(F236<>\"\",STDEV($Q$12:Q236),\"\")","v":""},""]
[226,null,{"$f":"RIGHT(Data!C237,10)","v":""},null,null,null,null,null,null,null,{"$f":"IFERROR($U$3*Data!M237/SQRT(COUNT(Data!F237:J237)),\"\")","v":""},"","","","","",{"$f":"IFERROR((Data!K237-$E$4),\"\")","v":""},{"$f":"IF(AND(F237<>\"\",G237<>\"\",H237<>\"\",I237<>\"\",J237<>\"\"),Data!Q237-$E$4,\"\")","v":""},"","","","",{"$f":"IF(F237<>\"\",STDEV($Q$12:Q237),\"\")","v":""},""]
[227,null,{"$f":"RIGHT(Data!C238,10)","v":""},null,null,null,null,null,null,null,{"$f":"IFERROR($U$3*Data!M238/SQRT(COUNT(Data!F238:J238)),\"\")","v":""},"","","","","",{"$f":"IFERROR((Data!K238-$E$4),\"\")","v":""},{"$f":"IF(AND(F238<>\"\",G238<>\"\",H238<>\"\",I238<>\"\",J238<>\"\"),Data!Q238-$E$4,\"\")","v":""},"","","","",{"$f":"IF(F238<>\"\",STDEV($Q$12:Q238),\"\")","v":""},""]
[228,null,{"$f":"RIGHT(Data!C239,10)","v":""},null,null,null,null,null,null,null,{"$f":"IFERROR($U$3*Data!M239/SQRT(COUNT(Data!F239:J239)),\"\")","v":""},"","","","","",{"$f":"IFERROR((Data!K239-$E$4),\"\")","v":""},{"$f":"IF(AND(F239<>\"\",G239<>\"\",H239<>\"\",I239<>\"\",J239<>\"\"),Data!Q239-$E$4,\"\")","v":""},"","","","",{"$f":"IF(F239<>\"\",STDEV($Q$12:Q239),\"\")","v":""},""]
[229,null,{"$f":"RIGHT(Data!C240,10)","v":""},null,null,null,null,null,null,null,{"$f":"IFERROR($U$3*Data!M240/SQRT(COUNT(Data!F240:J240)),\"\")","v":""},"","","","","",{"$f":"IFERROR((Data!K240-$E$4),\"\")","v":""},{"$f":"IF(AND(F240<>\"\",G240<>\"\",H240<>\"\",I240<>\"\",J240<>\"\"),Data!Q240-$E$4,\"\")","v":""},"","","","",{"$f":"IF(F240<>\"\",STDEV($Q$12:Q240),\"\")","v":""},""]
[230,null,{"$f":"RIGHT(Data!C241,10)","v":""},null,null,null,null,null,null,null,{"$f":"IFERROR($U$3*Data!M241/SQRT(COUNT(Data!F241:J241)),\"\")","v":""},"","","","","",{"$f":"IFERROR((Data!K241-$E$4),\"\")","v":""},{"$f":"IF(AND(F241<>\"\",G241<>\"\",H241<>\"\",I241<>\"\",J241<>\"\"),Data!Q241-$E$4,\"\")","v":""},"","","","",{"$f":"IF(F241<>\"\",STDEV($Q$12:Q241),\"\")","v":""},""]
[231,null,{"$f":"RIGHT(Data!C242,10)","v":""},null,null,null,null,null,null,null,{"$f":"IFERROR($U$3*Data!M242/SQRT(COUNT(Data!F242:J242)),\"\")","v":""},"","","","","",{"$f":"IFERROR((Data!K242-$E$4),\"\")","v":""},{"$f":"IF(AND(F242<>\"\",G242<>\"\",H242<>\"\",I242<>\"\",J242<>\"\"),Data!Q242-$E$4,\"\")","v":""},"","","","",{"$f":"IF(F242<>\"\",STDEV($Q$12:Q242),\"\")","v":""},""]
[232,null,{"$f":"RIGHT(Data!C243,10)","v":""},null,null,null,null,null,null,null,{"$f":"IFERROR($U$3*Data!M243/SQRT(COUNT(Data!F243:J243)),\"\")","v":""},"","","","","",{"$f":"IFERROR((Data!K243-$E$4),\"\")","v":""},{"$f":"IF(AND(F243<>\"\",G243<>\"\",H243<>\"\",I243<>\"\",J243<>\"\"),Data!Q243-$E$4,\"\")","v":""},"","","","",{"$f":"IF(F243<>\"\",STDEV($Q$12:Q243),\"\")","v":""},""]
[233,null,{"$f":"RIGHT(Data!C244,10)","v":""},null,null,null,null,null,null,null,{"$f":"IFERROR($U$3*Data!M244/SQRT(COUNT(Data!F244:J244)),\"\")","v":""},"","","","","",{"$f":"IFERROR((Data!K244-$E$4),\"\")","v":""},{"$f":"IF(AND(F244<>\"\",G244<>\"\",H244<>\"\",I244<>\"\",J244<>\"\"),Data!Q244-$E$4,\"\")","v":""},"","","","",{"$f":"IF(F244<>\"\",STDEV($Q$12:Q244),\"\")","v":""},""]
[234,null,{"$f":"RIGHT(Data!C245,10)","v":""},null,null,null,null,null,null,null,{"$f":"IFERROR($U$3*Data!M245/SQRT(COUNT(Data!F245:J245)),\"\")","v":""},"","","","","",{"$f":"IFERROR((Data!K245-$E$4),\"\")","v":""},{"$f":"IF(AND(F245<>\"\",G245<>\"\",H245<>\"\",I245<>\"\",J245<>\"\"),Data!Q245-$E$4,\"\")","v":""},"","","","",{"$f":"IF(F245<>\"\",STDEV($Q$12:Q245),\"\")","v":""},""]
[235,null,{"$f":"RIGHT(Data!C246,10)","v":""},null,null,null,null,null,null,null,{"$f":"IFERROR($U$3*Data!M246/SQRT(COUNT(Data!F246:J246)),\"\")","v":""},"","","","","",{"$f":"IFERROR((Data!K246-$E$4),\"\")","v":""},{"$f":"IF(AND(F246<>\"\",G246<>\"\",H246<>\"\",I246<>\"\",J246<>\"\"),Data!Q246-$E$4,\"\")","v":""},"","","","",{"$f":"IF(F246<>\"\",STDEV($Q$12:Q246),\"\")","v":""},""]
[236,null,{"$f":"RIGHT(Data!C247,10)","v":""},null,null,null,null,null,null,null,{"$f":"IFERROR($U$3*Data!M247/SQRT(COUNT(Data!F247:J247)),\"\")","v":""},"","","","","",{"$f":"IFERROR((Data!K247-$E$4),\"\")","v":""},{"$f":"IF(AND(F247<>\"\",G247<>\"\",H247<>\"\",I247<>\"\",J247<>\"\"),Data!Q247-$E$4,\"\")","v":""},"","","","",{"$f":"IF(F247<>\"\",STDEV($Q$12:Q247),\"\")","v":""},""]
[237,null,{"$f":"RIGHT(Data!C248,10)","v":""},null,null,null,null,null,null,null,{"$f":"IFERROR($U$3*Data!M248/SQRT(COUNT(Data!F248:J248)),\"\")","v":""},"","","","","",{"$f":"IFERROR((Data!K248-$E$4),\"\")","v":""},{"$f":"IF(AND(F248<>\"\",G248<>\"\",H248<>\"\",I248<>\"\",J248<>\"\"),Data!Q248-$E$4,\"\")","v":""},"","","","",{"$f":"IF(F248<>\"\",STDEV($Q$12:Q248),\"\")","v":""},""]
[238,null,{"$f":"RIGHT(Data!C249,10)","v":""},null,null,null,null,null,null,null,{"$f":"IFERROR($U$3*Data!M249/SQRT(COUNT(Data!F249:J249)),\"\")","v":""},"","","","","",{"$f":"IFERROR((Data!K249-$E$4),\"\")","v":""},{"$f":"IF(AND(F249<>\"\",G249<>\"\",H249<>\"\",I249<>\"\",J249<>\"\"),Data!Q249-$E$4,\"\")","v":""},"","","","",{"$f":"IF(F249<>\"\",STDEV($Q$12:Q249),\"\")","v":""},""]
[239,null,{"$f":"RIGHT(Data!C250,10)","v":""},null,null,null,null,null,null,null,{"$f":"IFERROR($U$3*Data!M250/SQRT(COUNT(Data!F250:J250)),\"\")","v":""},"","","","","",{"$f":"IFERROR((Data!K250-$E$4),\"\")","v":""},{"$f":"IF(AND(F250<>\"\",G250<>\"\",H250<>\"\",I250<>\"\",J250<>\"\"),Data!Q250-$E$4,\"\")","v":""},"","","","",{"$f":"IF(F250<>\"\",STDEV($Q$12:Q250),\"\")","v":""},""]
[240,null,{"$f":"RIGHT(Data!C251,10)","v":""},null,null,null,null,null,null,null,{"$f":"IFERROR($U$3*Data!M251/SQRT(COUNT(Data!F251:J251)),\"\")","v":""},"","","","","",{"$f":"IFERROR((Data!K251-$E$4),\"\")","v":""},{"$f":"IF(AND(F251<>\"\",G251<>\"\",H251<>\"\",I251<>\"\",J251<>\"\"),Data!Q251-$E$4,\"\")","v":""},"","","","",{"$f":"IF(F251<>\"\",STDEV($Q$12:Q251),\"\")","v":""},""]
[241,null,{"$f":"RIGHT(Data!C252,10)","v":""},null,null,null,null,null,null,null,{"$f":"IFERROR($U$3*Data!M252/SQRT(COUNT(Data!F252:J252)),\"\")","v":""},"","","","","",{"$f":"IFERROR((Data!K252-$E$4),\"\")","v":""},{"$f":"IF(AND(F252<>\"\",G252<>\"\",H252<>\"\",I252<>\"\",J252<>\"\"),Data!Q252-$E$4,\"\")","v":""},"","","","",{"$f":"IF(F252<>\"\",STDEV($Q$12:Q252),\"\")","v":""},""]
[242,null,{"$f":"RIGHT(Data!C253,10)","v":""},null,null,null,null,null,null,null,{"$f":"IFERROR($U$3*Data!M253/SQRT(COUNT(Data!F253:J253)),\"\")","v":""},"","","","","",{"$f":"IFERROR((Data!K253-$E$4),\"\")","v":""},{"$f":"IF(AND(F253<>\"\",G253<>\"\",H253<>\"\",I253<>\"\",J253<>\"\"),Data!Q253-$E$4,\"\")","v":""},"","","","",{"$f":"IF(F253<>\"\",STDEV($Q$12:Q253),\"\")","v":""},""]
[243,null,{"$f":"RIGHT(Data!C254,10)","v":""},null,null,null,null,null,null,null,{"$f":"IFERROR($U$3*Data!M254/SQRT(COUNT(Data!F254:J254)),\"\")","v":""},"","","","","",{"$f":"IFERROR((Data!K254-$E$4),\"\")","v":""},{"$f":"IF(AND(F254<>\"\",G254<>\"\",H254<>\"\",I254<>\"\",J254<>\"\"),Data!Q254-$E$4,\"\")","v":""},"","","","",{"$f":"IF(F254<>\"\",STDEV($Q$12:Q254),\"\")","v":""},""]
[244,null,{"$f":"RIGHT(Data!C255,10)","v":""},null,null,null,null,null,null,null,{"$f":"IFERROR($U$3*Data!M255/SQRT(COUNT(Data!F255:J255)),\"\")","v":""},"","","","","",{"$f":"IFERROR((Data!K255-$E$4),\"\")","v":""},{"$f":"IF(AND(F255<>\"\",G255<>\"\",H255<>\"\",I255<>\"\",J255<>\"\"),Data!Q255-$E$4,\"\")","v":""},"","","","",{"$f":"IF(F255<>\"\",STDEV($Q$12:Q255),\"\")","v":""},""]
[245,null,{"$f":"RIGHT(Data!C256,10)","v":""},null,null,null,null,null,null,null,{"$f":"IFERROR($U$3*Data!M256/SQRT(COUNT(Data!F256:J256)),\"\")","v":""},"","","","","",{"$f":"IFERROR((Data!K256-$E$4),\"\")","v":""},{"$f":"IF(AND(F256<>\"\",G256<>\"\",H256<>\"\",I256<>\"\",J256<>\"\"),Data!Q256-$E$4,\"\")","v":""},"","","","",{"$f":"IF(F256<>\"\",STDEV($Q$12:Q256),\"\")","v":""},""]
[246,null,{"$f":"RIGHT(Data!C257,10)","v":""},null,null,null,null,null,null,null,{"$f":"IFERROR($U$3*Data!M257/SQRT(COUNT(Data!F257:J257)),\"\")","v":""},"","","","","",{"$f":"IFERROR((Data!K257-$E$4),\"\")","v":""},{"$f":"IF(AND(F257<>\"\",G257<>\"\",H257<>\"\",I257<>\"\",J257<>\"\"),Data!Q257-$E$4,\"\")","v":""},"","","","",{"$f":"IF(F257<>\"\",STDEV($Q$12:Q257),\"\")","v":""},""]
[247,null,{"$f":"RIGHT(Data!C258,10)","v":""},null,null,null,null,null,null,null,{"$f":"IFERROR($U$3*Data!M258/SQRT(COUNT(Data!F258:J258)),\"\")","v":""},"","","","","",{"$f":"IFERROR((Data!K258-$E$4),\"\")","v":""},{"$f":"IF(AND(F258<>\"\",G258<>\"\",H258<>\"\",I258<>\"\",J258<>\"\"),Data!Q258-$E$4,\"\")","v":""},"","","","",{"$f":"IF(F258<>\"\",STDEV($Q$12:Q258),\"\")","v":""},""]
[248,null,{"$f":"RIGHT(Data!C259,10)","v":""},null,null,null,null,null,null,null,{"$f":"IFERROR($U$3*Data!M259/SQRT(COUNT(Data!F259:J259)),\"\")","v":""},"","","","","",{"$f":"IFERROR((Data!K259-$E$4),\"\")","v":""},{"$f":"IF(AND(F259<>\"\",G259<>\"\",H259<>\"\",I259<>\"\",J259<>\"\"),Data!Q259-$E$4,\"\")","v":""},"","","","",{"$f":"IF(F259<>\"\",STDEV($Q$12:Q259),\"\")","v":""},""]
[249,null,{"$f":"RIGHT(Data!C260,10)","v":""},null,null,null,null,null,null,null,{"$f":"IFERROR($U$3*Data!M260/SQRT(COUNT(Data!F260:J260)),\"\")","v":""},"","","","","",{"$f":"IFERROR((Data!K260-$E$4),\"\")","v":""},{"$f":"IF(AND(F260<>\"\",G260<>\"\",H260<>\"\",I260<>\"\",J260<>\"\"),Data!Q260-$E$4,\"\")","v":""},"","","","",{"$f":"IF(F260<>\"\",STDEV($Q$12:Q260),\"\")","v":""},""]
[250,null,{"$f":"RIGHT(Data!C261,10)","v":""},null,null,null,null,null,null,null,{"$f":"IFERROR($U$3*Data!M261/SQRT(COUNT(Data!F261:J261)),\"\")","v":""},"","","","","",{"$f":"IFERROR((Data!K261-$E$4),\"\")","v":""},{"$f":"IF(AND(F261<>\"\",G261<>\"\",H261<>\"\",I261<>\"\",J261<>\"\"),Data!Q261-$E$4,\"\")","v":""},"","","","",{"$f":"IF(F261<>\"\",STDEV($Q$12:Q261),\"\")","v":""},""]
[251,null,{"$f":"RIGHT(Data!C262,10)","v":""},null,null,null,null,null,null,null,{"$f":"IFERROR($U$3*Data!M262/SQRT(COUNT(Data!F262:J262)),\"\")","v":""},"","","","","",{"$f":"IFERROR((Data!K262-$E$4),\"\")","v":""},{"$f":"IF(AND(F262<>\"\",G262<>\"\",H262<>\"\",I262<>\"\",J262<>\"\"),Data!Q262-$E$4,\"\")","v":""},"","","","",{"$f":"IF(F262<>\"\",STDEV($Q$12:Q262),\"\")","v":""},""]
[252,null,{"$f":"RIGHT(Data!C263,10)","v":""},null,null,null,null,null,null,null,{"$f":"IFERROR($U$3*Data!M263/SQRT(COUNT(Data!F263:J263)),\"\")","v":""},"","","","","",{"$f":"IFERROR((Data!K263-$E$4),\"\")","v":""},{"$f":"IF(AND(F263<>\"\",G263<>\"\",H263<>\"\",I263<>\"\",J263<>\"\"),Data!Q263-$E$4,\"\")","v":""},"","","","",{"$f":"IF(F263<>\"\",STDEV($Q$12:Q263),\"\")","v":""},""]
[253,null,{"$f":"RIGHT(Data!C264,10)","v":""},null,null,null,null,null,null,null,{"$f":"IFERROR($U$3*Data!M264/SQRT(COUNT(Data!F264:J264)),\"\")","v":""},"","","","","",{"$f":"IFERROR((Data!K264-$E$4),\"\")","v":""},{"$f":"IF(AND(F264<>\"\",G264<>\"\",H264<>\"\",I264<>\"\",J264<>\"\"),Data!Q264-$E$4,\"\")","v":""},"","","","",{"$f":"IF(F264<>\"\",STDEV($Q$12:Q264),\"\")","v":""},""]
[254,null,{"$f":"RIGHT(Data!C265,10)","v":""},null,null,null,null,null,null,null,{"$f":"IFERROR($U$3*Data!M265/SQRT(COUNT(Data!F265:J265)),\"\")","v":""},"","","","","",{"$f":"IFERROR((Data!K265-$E$4),\"\")","v":""},{"$f":"IF(AND(F265<>\"\",G265<>\"\",H265<>\"\",I265<>\"\",J265<>\"\"),Data!Q265-$E$4,\"\")","v":""},"","","","",{"$f":"IF(F265<>\"\",STDEV($Q$12:Q265),\"\")","v":""},""]
[255,null,{"$f":"RIGHT(Data!C266,10)","v":""},null,null,null,null,null,null,null,{"$f":"IFERROR($U$3*Data!M266/SQRT(COUNT(Data!F266:J266)),\"\")","v":""},"","","","","",{"$f":"IFERROR((Data!K266-$E$4),\"\")","v":""},{"$f":"IF(AND(F266<>\"\",G266<>\"\",H266<>\"\",I266<>\"\",J266<>\"\"),Data!Q266-$E$4,\"\")","v":""},"","","","",{"$f":"IF(F266<>\"\",STDEV($Q$12:Q266),\"\")","v":""},""]
[256,null,{"$f":"RIGHT(Data!C267,10)","v":""},null,null,null,null,null,null,null,{"$f":"IFERROR($U$3*Data!M267/SQRT(COUNT(Data!F267:J267)),\"\")","v":""},"","","","","",{"$f":"IFERROR((Data!K267-$E$4),\"\")","v":""},{"$f":"IF(AND(F267<>\"\",G267<>\"\",H267<>\"\",I267<>\"\",J267<>\"\"),Data!Q267-$E$4,\"\")","v":""},"","","","",{"$f":"IF(F267<>\"\",STDEV($Q$12:Q267),\"\")","v":""},""]
[257,null,{"$f":"RIGHT(Data!C268,10)","v":""},null,null,null,null,null,null,null,{"$f":"IFERROR($U$3*Data!M268/SQRT(COUNT(Data!F268:J268)),\"\")","v":""},"","",{"$f":"IF(COUNT(F268:J268)>=5,STDEV(F268:J268)*$U$3/SQRT((COUNT(F268:J268))),\"\")","v":""},{"$f":"IFERROR($U$4*SQRT($U$7^2+L268^2+K268^2+$U$5^2+N268^2),\"\")","v":""},"",{"$f":"IFERROR((Data!K268-$E$4),\"\")","v":""},{"$f":"IF(AND(F268<>\"\",G268<>\"\",H268<>\"\",I268<>\"\",J268<>\"\"),Data!Q268-$E$4,\"\")","v":""},{"$f":"IF(O268<>\"\",FIXED(X268,1) & \" ± \" & FIXED(O268+ABS(R268),2),\"\")","v":""},"","","",{"$f":"IF(F268<>\"\",STDEV($Q$12:Q268),\"\")","v":""},{"$f":"IF(F268<>\"\",AVERAGE(F268:J268),\"\")","v":""}]
[258,null,{"$f":"RIGHT(Data!C269,10)","v":""},null,null,null,null,null,null,null,{"$f":"IFERROR($U$3*Data!M269/SQRT(COUNT(Data!F269:J269)),\"\")","v":""},{"$f":"IF(F269<>\"\",V269*W269/SQRT(A269),\"\")","v":""},{"$f":"IF(F269<>\"\",$U$4*SQRT($U$7^2+L269^2+K269^2+$U$5^2),\"\")","v":""},"","",{"$f":"IF(AND(F269<>\"\",G269<>\"\",H269<>\"\",I269<>\"\",J269<>\"\"),AVERAGE(F269:J269),\"\")","v":""},{"$f":"IFERROR((Data!K269-$E$4),\"\")","v":""},{"$f":"IF(AND(F269<>\"\",G269<>\"\",H269<>\"\",I269<>\"\",J269<>\"\"),Data!Q269-$E$4,\"\")","v":""},"",{"$f":"IF(F269<>\"\",FIXED(AVERAGE(F269:J269)-R269,1) & \" ± \" & FIXED(O269,2),\"\")","v":""},{"$f":"IF(IO269=\"\",\"\",IO269-1)","v":""},{"$f":"IF(F269<>\"\",TINV(1-0.68,A269-1),\"\")","v":""},{"$f":"IF(F269<>\"\",STDEV($Q$12:Q269),\"\")","v":""},""]
[259,null,{"$f":"RIGHT(Data!C270,10)","v":""},null,null,null,null,null,null,null,{"$f":"IFERROR($U$3*Data!M270/SQRT(COUNT(Data!F270:J270)),\"\")","v":""},"","","","","",{"$f":"IFERROR((Data!K270-$E$4),\"\")","v":""},{"$f":"IF(AND(F270<>\"\",G270<>\"\",H270<>\"\",I270<>\"\",J270<>\"\"),Data!Q270-$E$4,\"\")","v":""},"","","","",{"$f":"IF(F270<>\"\",STDEV($Q$12:Q270),\"\")","v":""},""]
[260,null,{"$f":"RIGHT(Data!C271,10)","v":""},null,null,null,null,null,null,null,{"$f":"IFERROR($U$3*Data!M271/SQRT(COUNT(Data!F271:J271)),\"\")","v":""},"","","","","",{"$f":"IFERROR((Data!K271-$E$4),\"\")","v":""},{"$f":"IF(AND(F271<>\"\",G271<>\"\",H271<>\"\",I271<>\"\",J271<>\"\"),Data!Q271-$E$4,\"\")","v":""},"","","","",{"$f":"IF(F271<>\"\",STDEV($Q$12:Q271),\"\")","v":""},""]
[261,null,{"$f":"RIGHT(Data!C272,10)","v":""},null,null,null,null,null,null,null,{"$f":"IFERROR($U$3*Data!M272/SQRT(COUNT(Data!F272:J272)),\"\")","v":""},"","","","","",{"$f":"IFERROR((Data!K272-$E$4),\"\")","v":""},{"$f":"IF(AND(F272<>\"\",G272<>\"\",H272<>\"\",I272<>\"\",J272<>\"\"),Data!Q272-$E$4,\"\")","v":""},"","","","",{"$f":"IF(F272<>\"\",STDEV($Q$12:Q272),\"\")","v":""},""]
[262,null,{"$f":"RIGHT(Data!C273,10)","v":""},null,null,null,null,null,null,null,{"$f":"IFERROR($U$3*Data!M273/SQRT(COUNT(Data!F273:J273)),\"\")","v":""},"","","","","",{"$f":"IFERROR((Data!K273-$E$4),\"\")","v":""},{"$f":"IF(AND(F273<>\"\",G273<>\"\",H273<>\"\",I273<>\"\",J273<>\"\"),Data!Q273-$E$4,\"\")","v":""},"","","","",{"$f":"IF(F273<>\"\",STDEV($Q$12:Q273),\"\")","v":""},""]
[263,null,{"$f":"RIGHT(Data!C274,10)","v":""},null,null,null,null,null,null,null,{"$f":"IFERROR($U$3*Data!M274/SQRT(COUNT(Data!F274:J274)),\"\")","v":""},"","","","","",{"$f":"IFERROR((Data!K274-$E$4),\"\")","v":""},{"$f":"IF(AND(F274<>\"\",G274<>\"\",H274<>\"\",I274<>\"\",J274<>\"\"),Data!Q274-$E$4,\"\")","v":""},"","","","",{"$f":"IF(F274<>\"\",STDEV($Q$12:Q274),\"\")","v":""},""]
[264,null,{"$f":"RIGHT(Data!C275,10)","v":""},null,null,null,null,null,null,null,{"$f":"IFERROR($U$3*Data!M275/SQRT(COUNT(Data!F275:J275)),\"\")","v":""},"","","","","",{"$f":"IFERROR((Data!K275-$E$4),\"\")","v":""},{"$f":"IF(AND(F275<>\"\",G275<>\"\",H275<>\"\",I275<>\"\",J275<>\"\"),Data!Q275-$E$4,\"\")","v":""},"","","","",{"$f":"IF(F275<>\"\",STDEV($Q$12:Q275),\"\")","v":""},""]
[265,null,{"$f":"RIGHT(Data!C276,10)","v":""},null,null,null,null,null,null,null,{"$f":"IFERROR($U$3*Data!M276/SQRT(COUNT(Data!F276:J276)),\"\")","v":""},"","","","","",{"$f":"IFERROR((Data!K276-$E$4),\"\")","v":""},{"$f":"IF(AND(F276<>\"\",G276<>\"\",H276<>\"\",I276<>\"\",J276<>\"\"),Data!Q276-$E$4,\"\")","v":""},"","","","",{"$f":"IF(F276<>\"\",STDEV($Q$12:Q276),\"\")","v":""},""]
[266,null,{"$f":"RIGHT(Data!C277,10)","v":""},null,null,null,null,null,null,null,{"$f":"IFERROR($U$3*Data!M277/SQRT(COUNT(Data!F277:J277)),\"\")","v":""},"","","","","",{"$f":"IFERROR((Data!K277-$E$4),\"\")","v":""},{"$f":"IF(AND(F277<>\"\",G277<>\"\",H277<>\"\",I277<>\"\",J277<>\"\"),Data!Q277-$E$4,\"\")","v":""},"","","","",{"$f":"IF(F277<>\"\",STDEV($Q$12:Q277),\"\")","v":""},""]
[267,null,{"$f":"RIGHT(Data!C278,10)","v":""},null,null,null,null,null,null,null,{"$f":"IFERROR($U$3*Data!M278/SQRT(COUNT(Data!F278:J278)),\"\")","v":""},"","","","","",{"$f":"IFERROR((Data!K278-$E$4),\"\")","v":""},{"$f":"IF(AND(F278<>\"\",G278<>\"\",H278<>\"\",I278<>\"\",J278<>\"\"),Data!Q278-$E$4,\"\")","v":""},"","","","",{"$f":"IF(F278<>\"\",STDEV($Q$12:Q278),\"\")","v":""},""]
[268,null,{"$f":"RIGHT(Data!C279,10)","v":""},null,null,null,null,null,null,null,{"$f":"IFERROR($U$3*Data!M279/SQRT(COUNT(Data!F279:J279)),\"\")","v":""},"","","","","",{"$f":"IFERROR((Data!K279-$E$4),\"\")","v":""},{"$f":"IF(AND(F279<>\"\",G279<>\"\",H279<>\"\",I279<>\"\",J279<>\"\"),Data!Q279-$E$4,\"\")","v":""},"","","","",{"$f":"IF(F279<>\"\",STDEV($Q$12:Q279),\"\")","v":""},""]
[269,null,{"$f":"RIGHT(Data!C280,10)","v":""},null,null,null,null,null,null,null,{"$f":"IFERROR($U$3*Data!M280/SQRT(COUNT(Data!F280:J280)),\"\")","v":""},"","","","","",{"$f":"IFERROR((Data!K280-$E$4),\"\")","v":""},{"$f":"IF(AND(F280<>\"\",G280<>\"\",H280<>\"\",I280<>\"\",J280<>\"\"),Data!Q280-$E$4,\"\")","v":""},"","","","",{"$f":"IF(F280<>\"\",STDEV($Q$12:Q280),\"\")","v":""},""]
[270,null,{"$f":"RIGHT(Data!C281,10)","v":""},null,null,null,null,null,null,null,{"$f":"IFERROR($U$3*Data!M281/SQRT(COUNT(Data!F281:J281)),\"\")","v":""},"","","","","",{"$f":"IFERROR((Data!K281-$E$4),\"\")","v":""},{"$f":"IF(AND(F281<>\"\",G281<>\"\",H281<>\"\",I281<>\"\",J281<>\"\"),Data!Q281-$E$4,\"\")","v":""},"","","","",{"$f":"IF(F281<>\"\",STDEV($Q$12:Q281),\"\")","v":""},""]
[271,null,{"$f":"RIGHT(Data!C282,10)","v":""},null,null,null,null,null,null,null,{"$f":"IFERROR($U$3*Data!M282/SQRT(COUNT(Data!F282:J282)),\"\")","v":""},"","","","","",{"$f":"IFERROR((Data!K282-$E$4),\"\")","v":""},{"$f":"IF(AND(F282<>\"\",G282<>\"\",H282<>\"\",I282<>\"\",J282<>\"\"),Data!Q282-$E$4,\"\")","v":""},"","","","",{"$f":"IF(F282<>\"\",STDEV($Q$12:Q282),\"\")","v":""},""]
[272,null,{"$f":"RIGHT(Data!C283,10)","v":""},null,null,null,null,null,null,null,{"$f":"IFERROR($U$3*Data!M283/SQRT(COUNT(Data!F283:J283)),\"\")","v":""},"","","","","",{"$f":"IFERROR((Data!K283-$E$4),\"\")","v":""},{"$f":"IF(AND(F283<>\"\",G283<>\"\",H283<>\"\",I283<>\"\",J283<>\"\"),Data!Q283-$E$4,\"\")","v":""},"","","","",{"$f":"IF(F283<>\"\",STDEV($Q$12:Q283),\"\")","v":""},""]
[273,null,{"$f":"RIGHT(Data!C284,10)","v":""},null,null,null,null,null,null,null,{"$f":"IFERROR($U$3*Data!M284/SQRT(COUNT(Data!F284:J284)),\"\")","v":""},"","","","","",{"$f":"IFERROR((Data!K284-$E$4),\"\")","v":""},{"$f":"IF(AND(F284<>\"\",G284<>\"\",H284<>\"\",I284<>\"\",J284<>\"\"),Data!Q284-$E$4,\"\")","v":""},"","","","",{"$f":"IF(F284<>\"\",STDEV($Q$12:Q284),\"\")","v":""},""]
[274,null,{"$f":"RIGHT(Data!C285,10)","v":""},null,null,null,null,null,null,null,{"$f":"IFERROR($U$3*Data!M285/SQRT(COUNT(Data!F285:J285)),\"\")","v":""},"","","","","",{"$f":"IFERROR((Data!K285-$E$4),\"\")","v":""},{"$f":"IF(AND(F285<>\"\",G285<>\"\",H285<>\"\",I285<>\"\",J285<>\"\"),Data!Q285-$E$4,\"\")","v":""},"","","","",{"$f":"IF(F285<>\"\",STDEV($Q$12:Q285),\"\")","v":""},""]
[275,null,{"$f":"RIGHT(Data!C286,10)","v":""},null,null,null,null,null,null,null,{"$f":"IFERROR($U$3*Data!M286/SQRT(COUNT(Data!F286:J286)),\"\")","v":""},"","","","","",{"$f":"IFERROR((Data!K286-$E$4),\"\")","v":""},{"$f":"IF(AND(F286<>\"\",G286<>\"\",H286<>\"\",I286<>\"\",J286<>\"\"),Data!Q286-$E$4,\"\")","v":""},"","","","",{"$f":"IF(F286<>\"\",STDEV($Q$12:Q286),\"\")","v":""},""]
[276,null,{"$f":"RIGHT(Data!C287,10)","v":""},null,null,null,null,null,null,null,{"$f":"IFERROR($U$3*Data!M287/SQRT(COUNT(Data!F287:J287)),\"\")","v":""},"","","","","",{"$f":"IFERROR((Data!K287-$E$4),\"\")","v":""},{"$f":"IF(AND(F287<>\"\",G287<>\"\",H287<>\"\",I287<>\"\",J287<>\"\"),Data!Q287-$E$4,\"\")","v":""},"","","","",{"$f":"IF(F287<>\"\",STDEV($Q$12:Q287),\"\")","v":""},""]
[277,null,{"$f":"RIGHT(Data!C288,10)","v":""},null,null,null,null,null,null,null,{"$f":"IFERROR($U$3*Data!M288/SQRT(COUNT(Data!F288:J288)),\"\")","v":""},"","","","","",{"$f":"IFERROR((Data!K288-$E$4),\"\")","v":""},{"$f":"IF(AND(F288<>\"\",G288<>\"\",H288<>\"\",I288<>\"\",J288<>\"\"),Data!Q288-$E$4,\"\")","v":""},"","","","",{"$f":"IF(F288<>\"\",STDEV($Q$12:Q288),\"\")","v":""},""]
[278,null,{"$f":"RIGHT(Data!C289,10)","v":""},null,null,null,null,null,null,null,{"$f":"IFERROR($U$3*Data!M289/SQRT(COUNT(Data!F289:J289)),\"\")","v":""},"","","","","",{"$f":"IFERROR((Data!K289-$E$4),\"\")","v":""},{"$f":"IF(AND(F289<>\"\",G289<>\"\",H289<>\"\",I289<>\"\",J289<>\"\"),Data!Q289-$E$4,\"\")","v":""},"","","","",{"$f":"IF(F289<>\"\",STDEV($Q$12:Q289),\"\")","v":""},""]
[279,null,{"$f":"RIGHT(Data!C290,10)","v":""},null,null,null,null,null,null,null,{"$f":"IFERROR($U$3*Data!M290/SQRT(COUNT(Data!F290:J290)),\"\")","v":""},"","","","","",{"$f":"IFERROR((Data!K290-$E$4),\"\")","v":""},{"$f":"IF(AND(F290<>\"\",G290<>\"\",H290<>\"\",I290<>\"\",J290<>\"\"),Data!Q290-$E$4,\"\")","v":""},"","","","",{"$f":"IF(F290<>\"\",STDEV($Q$12:Q290),\"\")","v":""},""]
[280,null,{"$f":"RIGHT(Data!C291,10)","v":""},null,null,null,null,null,null,null,{"$f":"IFERROR($U$3*Data!M291/SQRT(COUNT(Data!F291:J291)),\"\")","v":""},"","","","","",{"$f":"IFERROR((Data!K291-$E$4),\"\")","v":""},{"$f":"IF(AND(F291<>\"\",G291<>\"\",H291<>\"\",I291<>\"\",J291<>\"\"),Data!Q291-$E$4,\"\")","v":""},"","","","",{"$f":"IF(F291<>\"\",STDEV($Q$12:Q291),\"\")","v":""},""]
[281,null,{"$f":"RIGHT(Data!C292,10)","v":""},null,null,null,null,null,null,null,{"$f":"IFERROR($U$3*Data!M292/SQRT(COUNT(Data!F292:J292)),\"\")","v":""},"","","","","",{"$f":"IFERROR((Data!K292-$E$4),\"\")","v":""},{"$f":"IF(AND(F292<>\"\",G292<>\"\",H292<>\"\",I292<>\"\",J292<>\"\"),Data!Q292-$E$4,\"\")","v":""},"","","","",{"$f":"IF(F292<>\"\",STDEV($Q$12:Q292),\"\")","v":""},""]
[282,null,{"$f":"RIGHT(Data!C293,10)","v":""},null,null,null,null,null,null,null,{"$f":"IFERROR($U$3*Data!M293/SQRT(COUNT(Data!F293:J293)),\"\")","v":""},"","","","","",{"$f":"IFERROR((Data!K293-$E$4),\"\")","v":""},{"$f":"IF(AND(F293<>\"\",G293<>\"\",H293<>\"\",I293<>\"\",J293<>\"\"),Data!Q293-$E$4,\"\")","v":""},"","","","",{"$f":"IF(F293<>\"\",STDEV($Q$12:Q293),\"\")","v":""},""]
[283,null,{"$f":"RIGHT(Data!C294,10)","v":""},null,null,null,null,null,null,null,{"$f":"IFERROR($U$3*Data!M294/SQRT(COUNT(Data!F294:J294)),\"\")","v":""},"","","","","",{"$f":"IFERROR((Data!K294-$E$4),\"\")","v":""},{"$f":"IF(AND(F294<>\"\",G294<>\"\",H294<>\"\",I294<>\"\",J294<>\"\"),Data!Q294-$E$4,\"\")","v":""},"","","","",{"$f":"IF(F294<>\"\",STDEV($Q$12:Q294),\"\")","v":""},""]
[284,null,{"$f":"RIGHT(Data!C295,10)","v":""},null,null,null,null,null,null,null,{"$f":"IFERROR($U$3*Data!M295/SQRT(COUNT(Data!F295:J295)),\"\")","v":""},"","","","","",{"$f":"IFERROR((Data!K295-$E$4),\"\")","v":""},{"$f":"IF(AND(F295<>\"\",G295<>\"\",H295<>\"\",I295<>\"\",J295<>\"\"),Data!Q295-$E$4,\"\")","v":""},"","","","",{"$f":"IF(F295<>\"\",STDEV($Q$12:Q295),\"\")","v":""},""]
[285,null,{"$f":"RIGHT(Data!C296,10)","v":""},null,null,null,null,null,null,null,{"$f":"IFERROR($U$3*Data!M296/SQRT(COUNT(Data!F296:J296)),\"\")","v":""},"","","","","",{"$f":"IFERROR((Data!K296-$E$4),\"\")","v":""},{"$f":"IF(AND(F296<>\"\",G296<>\"\",H296<>\"\",I296<>\"\",J296<>\"\"),Data!Q296-$E$4,\"\")","v":""},"","","","",{"$f":"IF(F296<>\"\",STDEV($Q$12:Q296),\"\")","v":""},""]
[286,null,{"$f":"RIGHT(Data!C297,10)","v":""},null,null,null,null,null,null,null,{"$f":"IFERROR($U$3*Data!M297/SQRT(COUNT(Data!F297:J297)),\"\")","v":""},"","","","","",{"$f":"IFERROR((Data!K297-$E$4),\"\")","v":""},{"$f":"IF(AND(F297<>\"\",G297<>\"\",H297<>\"\",I297<>\"\",J297<>\"\"),Data!Q297-$E$4,\"\")","v":""},"","","","",{"$f":"IF(F297<>\"\",STDEV($Q$12:Q297),\"\")","v":""},""]
[287,null,{"$f":"RIGHT(Data!C298,10)","v":""},null,null,null,null,null,null,null,{"$f":"IFERROR($U$3*Data!M298/SQRT(COUNT(Data!F298:J298)),\"\")","v":""},"","","","","",{"$f":"IFERROR((Data!K298-$E$4),\"\")","v":""},{"$f":"IF(AND(F298<>\"\",G298<>\"\",H298<>\"\",I298<>\"\",J298<>\"\"),Data!Q298-$E$4,\"\")","v":""},"","","","",{"$f":"IF(F298<>\"\",STDEV($Q$12:Q298),\"\")","v":""},""]
[288,null,{"$f":"RIGHT(Data!C299,10)","v":""},null,null,null,null,null,null,null,{"$f":"IFERROR($U$3*Data!M299/SQRT(COUNT(Data!F299:J299)),\"\")","v":""},"","","","","",{"$f":"IFERROR((Data!K299-$E$4),\"\")","v":""},{"$f":"IF(AND(F299<>\"\",G299<>\"\",H299<>\"\",I299<>\"\",J299<>\"\"),Data!Q299-$E$4,\"\")","v":""},"","","","",{"$f":"IF(F299<>\"\",STDEV($Q$12:Q299),\"\")","v":""},""]
[289,null,{"$f":"RIGHT(Data!C300,10)","v":""},null,null,null,null,null,null,null,{"$f":"IFERROR($U$3*Data!M300/SQRT(COUNT(Data!F300:J300)),\"\")","v":""},"","","","","",{"$f":"IFERROR((Data!K300-$E$4),\"\")","v":""},{"$f":"IF(AND(F300<>\"\",G300<>\"\",H300<>\"\",I300<>\"\",J300<>\"\"),Data!Q300-$E$4,\"\")","v":""},"","","","",{"$f":"IF(F300<>\"\",STDEV($Q$12:Q300),\"\")","v":""},""]
[290,null,{"$f":"RIGHT(Data!C301,10)","v":""},null,null,null,null,null,null,null,{"$f":"IFERROR($U$3*Data!M301/SQRT(COUNT(Data!F301:J301)),\"\")","v":""},"","","","","",{"$f":"IFERROR((Data!K301-$E$4),\"\")","v":""},{"$f":"IF(AND(F301<>\"\",G301<>\"\",H301<>\"\",I301<>\"\",J301<>\"\"),Data!Q301-$E$4,\"\")","v":""},"","","","",{"$f":"IF(F301<>\"\",STDEV($Q$12:Q301),\"\")","v":""},""]
[291,null,{"$f":"RIGHT(Data!C302,10)","v":""},null,null,null,null,null,null,null,{"$f":"IFERROR($U$3*Data!M302/SQRT(COUNT(Data!F302:J302)),\"\")","v":""},"","","","","",{"$f":"IFERROR((Data!K302-$E$4),\"\")","v":""},{"$f":"IF(AND(F302<>\"\",G302<>\"\",H302<>\"\",I302<>\"\",J302<>\"\"),Data!Q302-$E$4,\"\")","v":""},"","","","",{"$f":"IF(F302<>\"\",STDEV($Q$12:Q302),\"\")","v":""},""]
[292,null,{"$f":"RIGHT(Data!C303,10)","v":""},null,null,null,null,null,null,null,{"$f":"IFERROR($U$3*Data!M303/SQRT(COUNT(Data!F303:J303)),\"\")","v":""},"","","","","",{"$f":"IFERROR((Data!K303-$E$4),\"\")","v":""},{"$f":"IF(AND(F303<>\"\",G303<>\"\",H303<>\"\",I303<>\"\",J303<>\"\"),Data!Q303-$E$4,\"\")","v":""},"","","","",{"$f":"IF(F303<>\"\",STDEV($Q$12:Q303),\"\")","v":""},""]
[293,null,{"$f":"RIGHT(Data!C304,10)","v":""},null,null,null,null,null,null,null,{"$f":"IFERROR($U$3*Data!M304/SQRT(COUNT(Data!F304:J304)),\"\")","v":""},"","","","","",{"$f":"IFERROR((Data!K304-$E$4),\"\")","v":""},{"$f":"IF(AND(F304<>\"\",G304<>\"\",H304<>\"\",I304<>\"\",J304<>\"\"),Data!Q304-$E$4,\"\")","v":""},"","","","",{"$f":"IF(F304<>\"\",STDEV($Q$12:Q304),\"\")","v":""},""]
[294,null,{"$f":"RIGHT(Data!C305,10)","v":""},null,null,null,null,null,null,null,{"$f":"IFERROR($U$3*Data!M305/SQRT(COUNT(Data!F305:J305)),\"\")","v":""},"","","","","",{"$f":"IFERROR((Data!K305-$E$4),\"\")","v":""},{"$f":"IF(AND(F305<>\"\",G305<>\"\",H305<>\"\",I305<>\"\",J305<>\"\"),Data!Q305-$E$4,\"\")","v":""},"","","","",{"$f":"IF(F305<>\"\",STDEV($Q$12:Q305),\"\")","v":""},""]
[295,null,{"$f":"RIGHT(Data!C306,10)","v":""},null,null,null,null,null,null,null,{"$f":"IFERROR($U$3*Data!M306/SQRT(COUNT(Data!F306:J306)),\"\")","v":""},"","","","","",{"$f":"IFERROR((Data!K306-$E$4),\"\")","v":""},{"$f":"IF(AND(F306<>\"\",G306<>\"\",H306<>\"\",I306<>\"\",J306<>\"\"),Data!Q306-$E$4,\"\")","v":""},"","","","",{"$f":"IF(F306<>\"\",STDEV($Q$12:Q306),\"\")","v":""},""]
[296,null,{"$f":"RIGHT(Data!C307,10)","v":""},null,null,null,null,null,null,null,{"$f":"IFERROR($U$3*Data!M307/SQRT(COUNT(Data!F307:J307)),\"\")","v":""},"","","","","",{"$f":"IFERROR((Data!K307-$E$4),\"\")","v":""},{"$f":"IF(AND(F307<>\"\",G307<>\"\",H307<>\"\",I307<>\"\",J307<>\"\"),Data!Q307-$E$4,\"\")","v":""},"","","","",{"$f":"IF(F307<>\"\",STDEV($Q$12:Q307),\"\")","v":""},""]
[297,null,{"$f":"RIGHT(Data!C308,10)","v":""},null,null,null,null,null,null,null,{"$f":"IFERROR($U$3*Data!M308/SQRT(COUNT(Data!F308:J308)),\"\")","v":""},"","","","","",{"$f":"IFERROR((Data!K308-$E$4),\"\")","v":""},{"$f":"IF(AND(F308<>\"\",G308<>\"\",H308<>\"\",I308<>\"\",J308<>\"\"),Data!Q308-$E$4,\"\")","v":""},"","","","",{"$f":"IF(F308<>\"\",STDEV($Q$12:Q308),\"\")","v":""},""]
[298,null,{"$f":"RIGHT(Data!C309,10)","v":""},null,null,null,null,null,null,null,{"$f":"IFERROR($U$3*Data!M309/SQRT(COUNT(Data!F309:J309)),\"\")","v":""},"","","","","",{"$f":"IFERROR((Data!K309-$E$4),\"\")","v":""},{"$f":"IF(AND(F309<>\"\",G309<>\"\",H309<>\"\",I309<>\"\",J309<>\"\"),Data!Q309-$E$4,\"\")","v":""},"","","","",{"$f":"IF(F309<>\"\",STDEV($Q$12:Q309),\"\")","v":""},""]
[299,null,{"$f":"RIGHT(Data!C310,10)","v":""},null,null,null,null,null,null,null,{"$f":"IFERROR($U$3*Data!M310/SQRT(COUNT(Data!F310:J310)),\"\")","v":""},"","","","","",{"$f":"IFERROR((Data!K310-$E$4),\"\")","v":""},{"$f":"IF(AND(F310<>\"\",G310<>\"\",H310<>\"\",I310<>\"\",J310<>\"\"),Data!Q310-$E$4,\"\")","v":""},"","","","",{"$f":"IF(F310<>\"\",STDEV($Q$12:Q310),\"\")","v":""},""]
[300,null,{"$f":"RIGHT(Data!C311,10)","v":""},null,null,null,null,null,null,null,{"$f":"IFERROR($U$3*Data!M311/SQRT(COUNT(Data!F311:J311)),\"\")","v":""},"","","","","",{"$f":"IFERROR((Data!K311-$E$4),\"\")","v":""},{"$f":"IF(AND(F311<>\"\",G311<>\"\",H311<>\"\",I311<>\"\",J311<>\"\"),Data!Q311-$E$4,\"\")","v":""},"","","","",{"$f":"IF(F311<>\"\",STDEV($Q$12:Q311),\"\")","v":""},""]
[301,null,{"$f":"RIGHT(Data!C312,10)","v":""},null,null,null,null,null,null,null,{"$f":"IFERROR($U$3*Data!M312/SQRT(COUNT(Data!F312:J312)),\"\")","v":""},"","","","","",{"$f":"IFERROR((Data!K312-$E$4),\"\")","v":""},{"$f":"IF(AND(F312<>\"\",G312<>\"\",H312<>\"\",I312<>\"\",J312<>\"\"),Data!Q312-$E$4,\"\")","v":""},"","","","",{"$f":"IF(F312<>\"\",STDEV($Q$12:Q312),\"\")","v":""},""]
[302,null,{"$f":"RIGHT(Data!C313,10)","v":""},null,null,null,null,null,null,null,{"$f":"IFERROR($U$3*Data!M313/SQRT(COUNT(Data!F313:J313)),\"\")","v":""},"","","","","",{"$f":"IFERROR((Data!K313-$E$4),\"\")","v":""},{"$f":"IF(AND(F313<>\"\",G313<>\"\",H313<>\"\",I313<>\"\",J313<>\"\"),Data!Q313-$E$4,\"\")","v":""},"","","","",{"$f":"IF(F313<>\"\",STDEV($Q$12:Q313),\"\")","v":""},""]
[303,null,{"$f":"RIGHT(Data!C314,10)","v":""},null,null,null,null,null,null,null,{"$f":"IFERROR($U$3*Data!M314/SQRT(COUNT(Data!F314:J314)),\"\")","v":""},"","","","","",{"$f":"IFERROR((Data!K314-$E$4),\"\")","v":""},{"$f":"IF(AND(F314<>\"\",G314<>\"\",H314<>\"\",I314<>\"\",J314<>\"\"),Data!Q314-$E$4,\"\")","v":""},"","","","",{"$f":"IF(F314<>\"\",STDEV($Q$12:Q314),\"\")","v":""},""]
[304,null,{"$f":"RIGHT(Data!C315,10)","v":""},null,null,null,null,null,null,null,{"$f":"IFERROR($U$3*Data!M315/SQRT(COUNT(Data!F315:J315)),\"\")","v":""},"","","","","",{"$f":"IFERROR((Data!K315-$E$4),\"\")","v":""},{"$f":"IF(AND(F315<>\"\",G315<>\"\",H315<>\"\",I315<>\"\",J315<>\"\"),Data!Q315-$E$4,\"\")","v":""},"","","","",{"$f":"IF(F315<>\"\",STDEV($Q$12:Q315),\"\")","v":""},""]
[305,null,{"$f":"RIGHT(Data!C316,10)","v":""},null,null,null,null,null,null,null,{"$f":"IFERROR($U$3*Data!M316/SQRT(COUNT(Data!F316:J316)),\"\")","v":""},"","","","","",{"$f":"IFERROR((Data!K316-$E$4),\"\")","v":""},{"$f":"IF(AND(F316<>\"\",G316<>\"\",H316<>\"\",I316<>\"\",J316<>\"\"),Data!Q316-$E$4,\"\")","v":""},"","","","",{"$f":"IF(F316<>\"\",STDEV($Q$12:Q316),\"\")","v":""},""]
[306,null,{"$f":"RIGHT(Data!C317,10)","v":""},null,null,null,null,null,null,null,{"$f":"IFERROR($U$3*Data!M317/SQRT(COUNT(Data!F317:J317)),\"\")","v":""},"","","","","",{"$f":"IFERROR((Data!K317-$E$4),\"\")","v":""},{"$f":"IF(AND(F317<>\"\",G317<>\"\",H317<>\"\",I317<>\"\",J317<>\"\"),Data!Q317-$E$4,\"\")","v":""},"","","","",{"$f":"IF(F317<>\"\",STDEV($Q$12:Q317),\"\")","v":""},""]
[307,null,{"$f":"RIGHT(Data!C318,10)","v":""},null,null,null,null,null,null,null,{"$f":"IFERROR($U$3*Data!M318/SQRT(COUNT(Data!F318:J318)),\"\")","v":""},"","","","","",{"$f":"IFERROR((Data!K318-$E$4),\"\")","v":""},{"$f":"IF(AND(F318<>\"\",G318<>\"\",H318<>\"\",I318<>\"\",J318<>\"\"),Data!Q318-$E$4,\"\")","v":""},"","","","",{"$f":"IF(F318<>\"\",STDEV($Q$12:Q318),\"\")","v":""},""]
[308,null,{"$f":"RIGHT(Data!C319,10)","v":""},null,null,null,null,null,null,null,{"$f":"IFERROR($U$3*Data!M319/SQRT(COUNT(Data!F319:J319)),\"\")","v":""},"","","","","",{"$f":"IFERROR((Data!K319-$E$4),\"\")","v":""},{"$f":"IF(AND(F319<>\"\",G319<>\"\",H319<>\"\",I319<>\"\",J319<>\"\"),Data!Q319-$E$4,\"\")","v":""},"","","","",{"$f":"IF(F319<>\"\",STDEV($Q$12:Q319),\"\")","v":""},""]
[309,null,{"$f":"RIGHT(Data!C320,10)","v":""},null,null,null,null,null,null,null,{"$f":"IFERROR($U$3*Data!M320/SQRT(COUNT(Data!F320:J320)),\"\")","v":""},"","","","","",{"$f":"IFERROR((Data!K320-$E$4),\"\")","v":""},{"$f":"IF(AND(F320<>\"\",G320<>\"\",H320<>\"\",I320<>\"\",J320<>\"\"),Data!Q320-$E$4,\"\")","v":""},"","","","",{"$f":"IF(F320<>\"\",STDEV($Q$12:Q320),\"\")","v":""},""]
[310,null,{"$f":"RIGHT(Data!C321,10)","v":""},null,null,null,null,null,null,null,{"$f":"IFERROR($U$3*Data!M321/SQRT(COUNT(Data!F321:J321)),\"\")","v":""},"","","","","",{"$f":"IFERROR((Data!K321-$E$4),\"\")","v":""},{"$f":"IF(AND(F321<>\"\",G321<>\"\",H321<>\"\",I321<>\"\",J321<>\"\"),Data!Q321-$E$4,\"\")","v":""},"","","","",{"$f":"IF(F321<>\"\",STDEV($Q$12:Q321),\"\")","v":""},""]
[311,null,{"$f":"RIGHT(Data!C322,10)","v":""},null,null,null,null,null,null,null,{"$f":"IFERROR($U$3*Data!M322/SQRT(COUNT(Data!F322:J322)),\"\")","v":""},"","","","","",{"$f":"IFERROR((Data!K322-$E$4),\"\")","v":""},{"$f":"IF(AND(F322<>\"\",G322<>\"\",H322<>\"\",I322<>\"\",J322<>\"\"),Data!Q322-$E$4,\"\")","v":""},"","","","",{"$f":"IF(F322<>\"\",STDEV($Q$12:Q322),\"\")","v":""},""]
[312,null,{"$f":"RIGHT(Data!C323,10)","v":""},null,null,null,null,null,null,null,{"$f":"IFERROR($U$3*Data!M323/SQRT(COUNT(Data!F323:J323)),\"\")","v":""},"","","","","",{"$f":"IFERROR((Data!K323-$E$4),\"\")","v":""},{"$f":"IF(AND(F323<>\"\",G323<>\"\",H323<>\"\",I323<>\"\",J323<>\"\"),Data!Q323-$E$4,\"\")","v":""},"","","","",{"$f":"IF(F323<>\"\",STDEV($Q$12:Q323),\"\")","v":""},""]
[313,null,{"$f":"RIGHT(Data!C324,10)","v":""},null,null,null,null,null,null,null,{"$f":"IFERROR($U$3*Data!M324/SQRT(COUNT(Data!F324:J324)),\"\")","v":""},"","","","","",{"$f":"IFERROR((Data!K324-$E$4),\"\")","v":""},{"$f":"IF(AND(F324<>\"\",G324<>\"\",H324<>\"\",I324<>\"\",J324<>\"\"),Data!Q324-$E$4,\"\")","v":""},"","","","",{"$f":"IF(F324<>\"\",STDEV($Q$12:Q324),\"\")","v":""},""]
[314,null,{"$f":"RIGHT(Data!C325,10)","v":""},null,null,null,null,null,null,null,{"$f":"IFERROR($U$3*Data!M325/SQRT(COUNT(Data!F325:J325)),\"\")","v":""},"","","","","",{"$f":"IFERROR((Data!K325-$E$4),\"\")","v":""},{"$f":"IF(AND(F325<>\"\",G325<>\"\",H325<>\"\",I325<>\"\",J325<>\"\"),Data!Q325-$E$4,\"\")","v":""},"","","","",{"$f":"IF(F325<>\"\",STDEV($Q$12:Q325),\"\")","v":""},""]
[315,null,{"$f":"RIGHT(Data!C326,10)","v":""},null,null,null,null,null,null,null,{"$f":"IFERROR($U$3*Data!M326/SQRT(COUNT(Data!F326:J326)),\"\")","v":""},"","","","","",{"$f":"IFERROR((Data!K326-$E$4),\"\")","v":""},{"$f":"IF(AND(F326<>\"\",G326<>\"\",H326<>\"\",I326<>\"\",J326<>\"\"),Data!Q326-$E$4,\"\")","v":""},"","","","",{"$f":"IF(F326<>\"\",STDEV($Q$12:Q326),\"\")","v":""},""]
[316,null,{"$f":"RIGHT(Data!C327,10)","v":""},null,null,null,null,null,null,null,{"$f":"IFERROR($U$3*Data!M327/SQRT(COUNT(Data!F327:J327)),\"\")","v":""},"","","","","",{"$f":"IFERROR((Data!K327-$E$4),\"\")","v":""},{"$f":"IF(AND(F327<>\"\",G327<>\"\",H327<>\"\",I327<>\"\",J327<>\"\"),Data!Q327-$E$4,\"\")","v":""},"","","","",{"$f":"IF(F327<>\"\",STDEV($Q$12:Q327),\"\")","v":""},""]
[317,null,{"$f":"RIGHT(Data!C328,10)","v":""},null,null,null,null,null,null,null,{"$f":"IFERROR($U$3*Data!M328/SQRT(COUNT(Data!F328:J328)),\"\")","v":""},"","","","","",{"$f":"IFERROR((Data!K328-$E$4),\"\")","v":""},{"$f":"IF(AND(F328<>\"\",G328<>\"\",H328<>\"\",I328<>\"\",J328<>\"\"),Data!Q328-$E$4,\"\")","v":""},"","","","",{"$f":"IF(F328<>\"\",STDEV($Q$12:Q328),\"\")","v":""},""]
[318,null,{"$f":"RIGHT(Data!C329,10)","v":""},null,null,null,null,null,null,null,{"$f":"IFERROR($U$3*Data!M329/SQRT(COUNT(Data!F329:J329)),\"\")","v":""},"","","","","",{"$f":"IFERROR((Data!K329-$E$4),\"\")","v":""},{"$f":"IF(AND(F329<>\"\",G329<>\"\",H329<>\"\",I329<>\"\",J329<>\"\"),Data!Q329-$E$4,\"\")","v":""},"","","","",{"$f":"IF(F329<>\"\",STDEV($Q$12:Q329),\"\")","v":""},""]
[319,null,{"$f":"RIGHT(Data!C330,10)","v":""},null,null,null,null,null,null,null,{"$f":"IFERROR($U$3*Data!M330/SQRT(COUNT(Data!F330:J330)),\"\")","v":""},"","","","","",{"$f":"IFERROR((Data!K330-$E$4),\"\")","v":""},{"$f":"IF(AND(F330<>\"\",G330<>\"\",H330<>\"\",I330<>\"\",J330<>\"\"),Data!Q330-$E$4,\"\")","v":""},"","","","",{"$f":"IF(F330<>\"\",STDEV($Q$12:Q330),\"\")","v":""},""]
[320,null,{"$f":"RIGHT(Data!C331,10)","v":""},null,null,null,null,null,null,null,{"$f":"IFERROR($U$3*Data!M331/SQRT(COUNT(Data!F331:J331)),\"\")","v":""},"","","","","",{"$f":"IFERROR((Data!K331-$E$4),\"\")","v":""},{"$f":"IF(AND(F331<>\"\",G331<>\"\",H331<>\"\",I331<>\"\",J331<>\"\"),Data!Q331-$E$4,\"\")","v":""},"","","","",{"$f":"IF(F331<>\"\",STDEV($Q$12:Q331),\"\")","v":""},""]
[321,null,{"$f":"RIGHT(Data!C332,10)","v":""},null,null,null,null,null,null,null,{"$f":"IFERROR($U$3*Data!M332/SQRT(COUNT(Data!F332:J332)),\"\")","v":""},"","",{"$f":"IF(COUNT(F332:J332)>=5,STDEV(F332:J332)*$U$3/SQRT((COUNT(F332:J332))),\"\")","v":""},{"$f":"IFERROR($U$4*SQRT($U$7^2+L332^2+K332^2+$U$5^2+N332^2),\"\")","v":""},"",{"$f":"IFERROR((Data!K332-$E$4),\"\")","v":""},{"$f":"IF(AND(F332<>\"\",G332<>\"\",H332<>\"\",I332<>\"\",J332<>\"\"),Data!Q332-$E$4,\"\")","v":""},{"$f":"IF(O332<>\"\",FIXED(X332,1) & \" ± \" & FIXED(O332+ABS(R332),2),\"\")","v":""},"","","",{"$f":"IF(F332<>\"\",STDEV($Q$12:Q332),\"\")","v":""},{"$f":"IF(F332<>\"\",AVERAGE(F332:J332),\"\")","v":""}]
[322,null,{"$f":"RIGHT(Data!C333,10)","v":""},null,null,null,null,null,null,null,{"$f":"IFERROR($U$3*Data!M333/SQRT(COUNT(Data!F333:J333)),\"\")","v":""},{"$f":"IF(F333<>\"\",V333*W333/SQRT(A333),\"\")","v":""},{"$f":"IF(F333<>\"\",$U$4*SQRT($U$7^2+L333^2+K333^2+$U$5^2),\"\")","v":""},"","",{"$f":"IF(AND(F333<>\"\",G333<>\"\",H333<>\"\",I333<>\"\",J333<>\"\"),AVERAGE(F333:J333),\"\")","v":""},{"$f":"IFERROR((Data!K333-$E$4),\"\")","v":""},{"$f":"IF(AND(F333<>\"\",G333<>\"\",H333<>\"\",I333<>\"\",J333<>\"\"),Data!Q333-$E$4,\"\")","v":""},"",{"$f":"IF(F333<>\"\",FIXED(AVERAGE(F333:J333)-R333,1) & \" ± \" & FIXED(O333,2),\"\")","v":""},{"$f":"IF(IO333=\"\",\"\",IO333-1)","v":""},{"$f":"IF(F333<>\"\",TINV(1-0.68,A333-1),\"\")","v":""},{"$f":"IF(F333<>\"\",STDEV($Q$12:Q333),\"\")","v":""},""]
[323,null,{"$f":"RIGHT(Data!C334,10)","v":""},null,null,null,null,null,null,null,{"$f":"IFERROR($U$3*Data!M334/SQRT(COUNT(Data!F334:J334)),\"\")","v":""},"","","","","",{"$f":"IFERROR((Data!K334-$E$4),\"\")","v":""},{"$f":"IF(AND(F334<>\"\",G334<>\"\",H334<>\"\",I334<>\"\",J334<>\"\"),Data!Q334-$E$4,\"\")","v":""},"","","","",{"$f":"IF(F334<>\"\",STDEV($Q$12:Q334),\"\")","v":""},""]
[324,null,{"$f":"RIGHT(Data!C335,10)","v":""},null,null,null,null,null,null,null,{"$f":"IFERROR($U$3*Data!M335/SQRT(COUNT(Data!F335:J335)),\"\")","v":""},"","","","","",{"$f":"IFERROR((Data!K335-$E$4),\"\")","v":""},{"$f":"IF(AND(F335<>\"\",G335<>\"\",H335<>\"\",I335<>\"\",J335<>\"\"),Data!Q335-$E$4,\"\")","v":""},"","","","",{"$f":"IF(F335<>\"\",STDEV($Q$12:Q335),\"\")","v":""},""]
[325,null,{"$f":"RIGHT(Data!C336,10)","v":""},null,null,null,null,null,null,null,{"$f":"IFERROR($U$3*Data!M336/SQRT(COUNT(Data!F336:J336)),\"\")","v":""},"","","","","",{"$f":"IFERROR((Data!K336-$E$4),\"\")","v":""},{"$f":"IF(AND(F336<>\"\",G336<>\"\",H336<>\"\",I336<>\"\",J336<>\"\"),Data!Q336-$E$4,\"\")","v":""},"","","","",{"$f":"IF(F336<>\"\",STDEV($Q$12:Q336),\"\")","v":""},""]
[326,null,{"$f":"RIGHT(Data!C337,10)","v":""},null,null,null,null,null,null,null,{"$f":"IFERROR($U$3*Data!M337/SQRT(COUNT(Data!F337:J337)),\"\")","v":""},"","","","","",{"$f":"IFERROR((Data!K337-$E$4),\"\")","v":""},{"$f":"IF(AND(F337<>\"\",G337<>\"\",H337<>\"\",I337<>\"\",J337<>\"\"),Data!Q337-$E$4,\"\")","v":""},"","","","",{"$f":"IF(F337<>\"\",STDEV($Q$12:Q337),\"\")","v":""},""]
[327,null,{"$f":"RIGHT(Data!C338,10)","v":""},null,null,null,null,null,null,null,{"$f":"IFERROR($U$3*Data!M338/SQRT(COUNT(Data!F338:J338)),\"\")","v":""},"","","","","",{"$f":"IFERROR((Data!K338-$E$4),\"\")","v":""},{"$f":"IF(AND(F338<>\"\",G338<>\"\",H338<>\"\",I338<>\"\",J338<>\"\"),Data!Q338-$E$4,\"\")","v":""},"","","","",{"$f":"IF(F338<>\"\",STDEV($Q$12:Q338),\"\")","v":""},""]
[328,null,{"$f":"RIGHT(Data!C339,10)","v":""},null,null,null,null,null,null,null,{"$f":"IFERROR($U$3*Data!M339/SQRT(COUNT(Data!F339:J339)),\"\")","v":""},"","","","","",{"$f":"IFERROR((Data!K339-$E$4),\"\")","v":""},{"$f":"IF(AND(F339<>\"\",G339<>\"\",H339<>\"\",I339<>\"\",J339<>\"\"),Data!Q339-$E$4,\"\")","v":""},"","","","",{"$f":"IF(F339<>\"\",STDEV($Q$12:Q339),\"\")","v":""},""]
[329,null,{"$f":"RIGHT(Data!C340,10)","v":""},null,null,null,null,null,null,null,{"$f":"IFERROR($U$3*Data!M340/SQRT(COUNT(Data!F340:J340)),\"\")","v":""},"","","","","",{"$f":"IFERROR((Data!K340-$E$4),\"\")","v":""},{"$f":"IF(AND(F340<>\"\",G340<>\"\",H340<>\"\",I340<>\"\",J340<>\"\"),Data!Q340-$E$4,\"\")","v":""},"","","","",{"$f":"IF(F340<>\"\",STDEV($Q$12:Q340),\"\")","v":""},""]
[330,null,{"$f":"RIGHT(Data!C341,10)","v":""},null,null,null,null,null,null,null,{"$f":"IFERROR($U$3*Data!M341/SQRT(COUNT(Data!F341:J341)),\"\")","v":""},"","","","","",{"$f":"IFERROR((Data!K341-$E$4),\"\")","v":""},{"$f":"IF(AND(F341<>\"\",G341<>\"\",H341<>\"\",I341<>\"\",J341<>\"\"),Data!Q341-$E$4,\"\")","v":""},"","","","",{"$f":"IF(F341<>\"\",STDEV($Q$12:Q341),\"\")","v":""},""]
[331,null,{"$f":"RIGHT(Data!C342,10)","v":""},null,null,null,null,null,null,null,{"$f":"IFERROR($U$3*Data!M342/SQRT(COUNT(Data!F342:J342)),\"\")","v":""},"","","","","",{"$f":"IFERROR((Data!K342-$E$4),\"\")","v":""},{"$f":"IF(AND(F342<>\"\",G342<>\"\",H342<>\"\",I342<>\"\",J342<>\"\"),Data!Q342-$E$4,\"\")","v":""},"","","","",{"$f":"IF(F342<>\"\",STDEV($Q$12:Q342),\"\")","v":""},""]
[332,null,{"$f":"RIGHT(Data!C343,10)","v":""},null,null,null,null,null,null,null,{"$f":"IFERROR($U$3*Data!M343/SQRT(COUNT(Data!F343:J343)),\"\")","v":""},"","","","","",{"$f":"IFERROR((Data!K343-$E$4),\"\")","v":""},{"$f":"IF(AND(F343<>\"\",G343<>\"\",H343<>\"\",I343<>\"\",J343<>\"\"),Data!Q343-$E$4,\"\")","v":""},"","","","",{"$f":"IF(F343<>\"\",STDEV($Q$12:Q343),\"\")","v":""},""]
[333,null,{"$f":"RIGHT(Data!C344,10)","v":""},null,null,null,null,null,null,null,{"$f":"IFERROR($U$3*Data!M344/SQRT(COUNT(Data!F344:J344)),\"\")","v":""},"","","","","",{"$f":"IFERROR((Data!K344-$E$4),\"\")","v":""},{"$f":"IF(AND(F344<>\"\",G344<>\"\",H344<>\"\",I344<>\"\",J344<>\"\"),Data!Q344-$E$4,\"\")","v":""},"","","","",{"$f":"IF(F344<>\"\",STDEV($Q$12:Q344),\"\")","v":""},""]
[334,null,{"$f":"RIGHT(Data!C345,10)","v":""},null,null,null,null,null,null,null,{"$f":"IFERROR($U$3*Data!M345/SQRT(COUNT(Data!F345:J345)),\"\")","v":""},"","","","","",{"$f":"IFERROR((Data!K345-$E$4),\"\")","v":""},{"$f":"IF(AND(F345<>\"\",G345<>\"\",H345<>\"\",I345<>\"\",J345<>\"\"),Data!Q345-$E$4,\"\")","v":""},"","","","",{"$f":"IF(F345<>\"\",STDEV($Q$12:Q345),\"\")","v":""},""]
[335,null,{"$f":"RIGHT(Data!C346,10)","v":""},null,null,null,null,null,null,null,{"$f":"IFERROR($U$3*Data!M346/SQRT(COUNT(Data!F346:J346)),\"\")","v":""},"","","","","",{"$f":"IFERROR((Data!K346-$E$4),\"\")","v":""},{"$f":"IF(AND(F346<>\"\",G346<>\"\",H346<>\"\",I346<>\"\",J346<>\"\"),Data!Q346-$E$4,\"\")","v":""},"","","","",{"$f":"IF(F346<>\"\",STDEV($Q$12:Q346),\"\")","v":""},""]
[336,null,{"$f":"RIGHT(Data!C347,10)","v":""},null,null,null,null,null,null,null,{"$f":"IFERROR($U$3*Data!M347/SQRT(COUNT(Data!F347:J347)),\"\")","v":""},"","","","","",{"$f":"IFERROR((Data!K347-$E$4),\"\")","v":""},{"$f":"IF(AND(F347<>\"\",G347<>\"\",H347<>\"\",I347<>\"\",J347<>\"\"),Data!Q347-$E$4,\"\")","v":""},"","","","",{"$f":"IF(F347<>\"\",STDEV($Q$12:Q347),\"\")","v":""},""]
[337,null,{"$f":"RIGHT(Data!C348,10)","v":""},null,null,null,null,null,null,null,{"$f":"IFERROR($U$3*Data!M348/SQRT(COUNT(Data!F348:J348)),\"\")","v":""},"","","","","",{"$f":"IFERROR((Data!K348-$E$4),\"\")","v":""},{"$f":"IF(AND(F348<>\"\",G348<>\"\",H348<>\"\",I348<>\"\",J348<>\"\"),Data!Q348-$E$4,\"\")","v":""},"","","","",{"$f":"IF(F348<>\"\",STDEV($Q$12:Q348),\"\")","v":""},""]
[338,null,{"$f":"RIGHT(Data!C349,10)","v":""},null,null,null,null,null,null,null,{"$f":"IFERROR($U$3*Data!M349/SQRT(COUNT(Data!F349:J349)),\"\")","v":""},"","","","","",{"$f":"IFERROR((Data!K349-$E$4),\"\")","v":""},{"$f":"IF(AND(F349<>\"\",G349<>\"\",H349<>\"\",I349<>\"\",J349<>\"\"),Data!Q349-$E$4,\"\")","v":""},"","","","",{"$f":"IF(F349<>\"\",STDEV($Q$12:Q349),\"\")","v":""},""]
[339,null,{"$f":"RIGHT(Data!C350,10)","v":""},null,null,null,null,null,null,null,{"$f":"IFERROR($U$3*Data!M350/SQRT(COUNT(Data!F350:J350)),\"\")","v":""},"","","","","",{"$f":"IFERROR((Data!K350-$E$4),\"\")","v":""},{"$f":"IF(AND(F350<>\"\",G350<>\"\",H350<>\"\",I350<>\"\",J350<>\"\"),Data!Q350-$E$4,\"\")","v":""},"","","","",{"$f":"IF(F350<>\"\",STDEV($Q$12:Q350),\"\")","v":""},""]
[340,null,{"$f":"RIGHT(Data!C351,10)","v":""},null,null,null,null,null,null,null,{"$f":"IFERROR($U$3*Data!M351/SQRT(COUNT(Data!F351:J351)),\"\")","v":""},"","","","","",{"$f":"IFERROR((Data!K351-$E$4),\"\")","v":""},{"$f":"IF(AND(F351<>\"\",G351<>\"\",H351<>\"\",I351<>\"\",J351<>\"\"),Data!Q351-$E$4,\"\")","v":""},"","","","",{"$f":"IF(F351<>\"\",STDEV($Q$12:Q351),\"\")","v":""},""]
[341,null,{"$f":"RIGHT(Data!C352,10)","v":""},null,null,null,null,null,null,null,{"$f":"IFERROR($U$3*Data!M352/SQRT(COUNT(Data!F352:J352)),\"\")","v":""},"","","","","",{"$f":"IFERROR((Data!K352-$E$4),\"\")","v":""},{"$f":"IF(AND(F352<>\"\",G352<>\"\",H352<>\"\",I352<>\"\",J352<>\"\"),Data!Q352-$E$4,\"\")","v":""},"","","","",{"$f":"IF(F352<>\"\",STDEV($Q$12:Q352),\"\")","v":""},""]
[342,null,{"$f":"RIGHT(Data!C353,10)","v":""},null,null,null,null,null,null,null,{"$f":"IFERROR($U$3*Data!M353/SQRT(COUNT(Data!F353:J353)),\"\")","v":""},"","","","","",{"$f":"IFERROR((Data!K353-$E$4),\"\")","v":""},{"$f":"IF(AND(F353<>\"\",G353<>\"\",H353<>\"\",I353<>\"\",J353<>\"\"),Data!Q353-$E$4,\"\")","v":""},"","","","",{"$f":"IF(F353<>\"\",STDEV($Q$12:Q353),\"\")","v":""},""]
[343,null,{"$f":"RIGHT(Data!C354,10)","v":""},null,null,null,null,null,null,null,{"$f":"IFERROR($U$3*Data!M354/SQRT(COUNT(Data!F354:J354)),\"\")","v":""},"","","","","",{"$f":"IFERROR((Data!K354-$E$4),\"\")","v":""},{"$f":"IF(AND(F354<>\"\",G354<>\"\",H354<>\"\",I354<>\"\",J354<>\"\"),Data!Q354-$E$4,\"\")","v":""},"","","","",{"$f":"IF(F354<>\"\",STDEV($Q$12:Q354),\"\")","v":""},""]
[344,null,{"$f":"RIGHT(Data!C355,10)","v":""},null,null,null,null,null,null,null,{"$f":"IFERROR($U$3*Data!M355/SQRT(COUNT(Data!F355:J355)),\"\")","v":""},"","","","","",{"$f":"IFERROR((Data!K355-$E$4),\"\")","v":""},{"$f":"IF(AND(F355<>\"\",G355<>\"\",H355<>\"\",I355<>\"\",J355<>\"\"),Data!Q355-$E$4,\"\")","v":""},"","","","",{"$f":"IF(F355<>\"\",STDEV($Q$12:Q355),\"\")","v":""},""]
[345,null,{"$f":"RIGHT(Data!C356,10)","v":""},null,null,null,null,null,null,null,{"$f":"IFERROR($U$3*Data!M356/SQRT(COUNT(Data!F356:J356)),\"\")","v":""},"","","","","",{"$f":"IFERROR((Data!K356-$E$4),\"\")","v":""},{"$f":"IF(AND(F356<>\"\",G356<>\"\",H356<>\"\",I356<>\"\",J356<>\"\"),Data!Q356-$E$4,\"\")","v":""},"","","","",{"$f":"IF(F356<>\"\",STDEV($Q$12:Q356),\"\")","v":""},""]
[346,null,{"$f":"RIGHT(Data!C357,10)","v":""},null,null,null,null,null,null,null,{"$f":"IFERROR($U$3*Data!M357/SQRT(COUNT(Data!F357:J357)),\"\")","v":""},"","","","","",{"$f":"IFERROR((Data!K357-$E$4),\"\")","v":""},{"$f":"IF(AND(F357<>\"\",G357<>\"\",H357<>\"\",I357<>\"\",J357<>\"\"),Data!Q357-$E$4,\"\")","v":""},"","","","",{"$f":"IF(F357<>\"\",STDEV($Q$12:Q357),\"\")","v":""},""]
[347,null,{"$f":"RIGHT(Data!C358,10)","v":""},null,null,null,null,null,null,null,{"$f":"IFERROR($U$3*Data!M358/SQRT(COUNT(Data!F358:J358)),\"\")","v":""},"","","","","",{"$f":"IFERROR((Data!K358-$E$4),\"\")","v":""},{"$f":"IF(AND(F358<>\"\",G358<>\"\",H358<>\"\",I358<>\"\",J358<>\"\"),Data!Q358-$E$4,\"\")","v":""},"","","","",{"$f":"IF(F358<>\"\",STDEV($Q$12:Q358),\"\")","v":""},""]
[348,null,{"$f":"RIGHT(Data!C359,10)","v":""},null,null,null,null,null,null,null,{"$f":"IFERROR($U$3*Data!M359/SQRT(COUNT(Data!F359:J359)),\"\")","v":""},"","","","","",{"$f":"IFERROR((Data!K359-$E$4),\"\")","v":""},{"$f":"IF(AND(F359<>\"\",G359<>\"\",H359<>\"\",I359<>\"\",J359<>\"\"),Data!Q359-$E$4,\"\")","v":""},"","","","",{"$f":"IF(F359<>\"\",STDEV($Q$12:Q359),\"\")","v":""},""]
[349,null,{"$f":"RIGHT(Data!C360,10)","v":""},null,null,null,null,null,null,null,{"$f":"IFERROR($U$3*Data!M360/SQRT(COUNT(Data!F360:J360)),\"\")","v":""},"","","","","",{"$f":"IFERROR((Data!K360-$E$4),\"\")","v":""},{"$f":"IF(AND(F360<>\"\",G360<>\"\",H360<>\"\",I360<>\"\",J360<>\"\"),Data!Q360-$E$4,\"\")","v":""},"","","","",{"$f":"IF(F360<>\"\",STDEV($Q$12:Q360),\"\")","v":""},""]
[350,null,{"$f":"RIGHT(Data!C361,10)","v":""},null,null,null,null,null,null,null,{"$f":"IFERROR($U$3*Data!M361/SQRT(COUNT(Data!F361:J361)),\"\")","v":""},"","","","","",{"$f":"IFERROR((Data!K361-$E$4),\"\")","v":""},{"$f":"IF(AND(F361<>\"\",G361<>\"\",H361<>\"\",I361<>\"\",J361<>\"\"),Data!Q361-$E$4,\"\")","v":""},"","","","",{"$f":"IF(F361<>\"\",STDEV($Q$12:Q361),\"\")","v":""},""]
[351,null,{"$f":"RIGHT(Data!C362,10)","v":""},null,null,null,null,null,null,null,{"$f":"IFERROR($U$3*Data!M362/SQRT(COUNT(Data!F362:J362)),\"\")","v":""},"","","","","",{"$f":"IFERROR((Data!K362-$E$4),\"\")","v":""},{"$f":"IF(AND(F362<>\"\",G362<>\"\",H362<>\"\",I362<>\"\",J362<>\"\"),Data!Q362-$E$4,\"\")","v":""},"","","","",{"$f":"IF(F362<>\"\",STDEV($Q$12:Q362),\"\")","v":""},""]
[352,null,{"$f":"RIGHT(Data!C363,10)","v":""},null,null,null,null,null,null,null,{"$f":"IFERROR($U$3*Data!M363/SQRT(COUNT(Data!F363:J363)),\"\")","v":""},"","","","","",{"$f":"IFERROR((Data!K363-$E$4),\"\")","v":""},{"$f":"IF(AND(F363<>\"\",G363<>\"\",H363<>\"\",I363<>\"\",J363<>\"\"),Data!Q363-$E$4,\"\")","v":""},"","","","",{"$f":"IF(F363<>\"\",STDEV($Q$12:Q363),\"\")","v":""},""]
[353,null,{"$f":"RIGHT(Data!C364,10)","v":""},null,null,null,null,null,null,null,{"$f":"IFERROR($U$3*Data!M364/SQRT(COUNT(Data!F364:J364)),\"\")","v":""},"","","","","",{"$f":"IFERROR((Data!K364-$E$4),\"\")","v":""},{"$f":"IF(AND(F364<>\"\",G364<>\"\",H364<>\"\",I364<>\"\",J364<>\"\"),Data!Q364-$E$4,\"\")","v":""},"","","","",{"$f":"IF(F364<>\"\",STDEV($Q$12:Q364),\"\")","v":""},""]
[354,null,{"$f":"RIGHT(Data!C365,10)","v":""},null,null,null,null,null,null,null,{"$f":"IFERROR($U$3*Data!M365/SQRT(COUNT(Data!F365:J365)),\"\")","v":""},"","","","","",{"$f":"IFERROR((Data!K365-$E$4),\"\")","v":""},{"$f":"IF(AND(F365<>\"\",G365<>\"\",H365<>\"\",I365<>\"\",J365<>\"\"),Data!Q365-$E$4,\"\")","v":""},"","","","",{"$f":"IF(F365<>\"\",STDEV($Q$12:Q365),\"\")","v":""},""]
[355,null,{"$f":"RIGHT(Data!C366,10)","v":""},null,null,null,null,null,null,null,{"$f":"IFERROR($U$3*Data!M366/SQRT(COUNT(Data!F366:J366)),\"\")","v":""},"","","","","",{"$f":"IFERROR((Data!K366-$E$4),\"\")","v":""},{"$f":"IF(AND(F366<>\"\",G366<>\"\",H366<>\"\",I366<>\"\",J366<>\"\"),Data!Q366-$E$4,\"\")","v":""},"","","","",{"$f":"IF(F366<>\"\",STDEV($Q$12:Q366),\"\")","v":""},""]
[356,null,{"$f":"RIGHT(Data!C367,10)","v":""},null,null,null,null,null,null,null,{"$f":"IFERROR($U$3*Data!M367/SQRT(COUNT(Data!F367:J367)),\"\")","v":""},"","","","","",{"$f":"IFERROR((Data!K367-$E$4),\"\")","v":""},{"$f":"IF(AND(F367<>\"\",G367<>\"\",H367<>\"\",I367<>\"\",J367<>\"\"),Data!Q367-$E$4,\"\")","v":""},"","","","",{"$f":"IF(F367<>\"\",STDEV($Q$12:Q367),\"\")","v":""},""]
[357,null,{"$f":"RIGHT(Data!C368,10)","v":""},null,null,null,null,null,null,null,{"$f":"IFERROR($U$3*Data!M368/SQRT(COUNT(Data!F368:J368)),\"\")","v":""},"","","","","",{"$f":"IFERROR((Data!K368-$E$4),\"\")","v":""},{"$f":"IF(AND(F368<>\"\",G368<>\"\",H368<>\"\",I368<>\"\",J368<>\"\"),Data!Q368-$E$4,\"\")","v":""},"","","","",{"$f":"IF(F368<>\"\",STDEV($Q$12:Q368),\"\")","v":""},""]
[358,null,{"$f":"RIGHT(Data!C369,10)","v":""},null,null,null,null,null,null,null,{"$f":"IFERROR($U$3*Data!M369/SQRT(COUNT(Data!F369:J369)),\"\")","v":""},"","","","","",{"$f":"IFERROR((Data!K369-$E$4),\"\")","v":""},{"$f":"IF(AND(F369<>\"\",G369<>\"\",H369<>\"\",I369<>\"\",J369<>\"\"),Data!Q369-$E$4,\"\")","v":""},"","","","",{"$f":"IF(F369<>\"\",STDEV($Q$12:Q369),\"\")","v":""},""]
[359,null,{"$f":"RIGHT(Data!C370,10)","v":""},null,null,null,null,null,null,null,{"$f":"IFERROR($U$3*Data!M370/SQRT(COUNT(Data!F370:J370)),\"\")","v":""},"","","","","",{"$f":"IFERROR((Data!K370-$E$4),\"\")","v":""},{"$f":"IF(AND(F370<>\"\",G370<>\"\",H370<>\"\",I370<>\"\",J370<>\"\"),Data!Q370-$E$4,\"\")","v":""},"","","","",{"$f":"IF(F370<>\"\",STDEV($Q$12:Q370),\"\")","v":""},""]
[360,null,{"$f":"RIGHT(Data!C371,10)","v":""},null,null,null,null,null,null,null,{"$f":"IFERROR($U$3*Data!M371/SQRT(COUNT(Data!F371:J371)),\"\")","v":""},"","","","","",{"$f":"IFERROR((Data!K371-$E$4),\"\")","v":""},{"$f":"IF(AND(F371<>\"\",G371<>\"\",H371<>\"\",I371<>\"\",J371<>\"\"),Data!Q371-$E$4,\"\")","v":""},"","","","",{"$f":"IF(F371<>\"\",STDEV($Q$12:Q371),\"\")","v":""},""]
[361,null,{"$f":"RIGHT(Data!C372,10)","v":""},null,null,null,null,null,null,null,{"$f":"IFERROR($U$3*Data!M372/SQRT(COUNT(Data!F372:J372)),\"\")","v":""},"","","","","",{"$f":"IFERROR((Data!K372-$E$4),\"\")","v":""},{"$f":"IF(AND(F372<>\"\",G372<>\"\",H372<>\"\",I372<>\"\",J372<>\"\"),Data!Q372-$E$4,\"\")","v":""},"","","","",{"$f":"IF(F372<>\"\",STDEV($Q$12:Q372),\"\")","v":""},""]
[362,null,{"$f":"RIGHT(Data!C373,10)","v":""},null,null,null,null,null,null,null,{"$f":"IFERROR($U$3*Data!M373/SQRT(COUNT(Data!F373:J373)),\"\")","v":""},"","","","","",{"$f":"IFERROR((Data!K373-$E$4),\"\")","v":""},{"$f":"IF(AND(F373<>\"\",G373<>\"\",H373<>\"\",I373<>\"\",J373<>\"\"),Data!Q373-$E$4,\"\")","v":""},"","","","",{"$f":"IF(F373<>\"\",STDEV($Q$12:Q373),\"\")","v":""},""]
[363,null,{"$f":"RIGHT(Data!C374,10)","v":""},null,null,null,null,null,null,null,{"$f":"IFERROR($U$3*Data!M374/SQRT(COUNT(Data!F374:J374)),\"\")","v":""},"","","","","",{"$f":"IFERROR((Data!K374-$E$4),\"\")","v":""},{"$f":"IF(AND(F374<>\"\",G374<>\"\",H374<>\"\",I374<>\"\",J374<>\"\"),Data!Q374-$E$4,\"\")","v":""},"","","","",{"$f":"IF(F374<>\"\",STDEV($Q$12:Q374),\"\")","v":""},""]
[364,null,{"$f":"RIGHT(Data!C375,10)","v":""},null,null,null,null,null,null,null,{"$f":"IFERROR($U$3*Data!M375/SQRT(COUNT(Data!F375:J375)),\"\")","v":""},"","","","","",{"$f":"IFERROR((Data!K375-$E$4),\"\")","v":""},{"$f":"IF(AND(F375<>\"\",G375<>\"\",H375<>\"\",I375<>\"\",J375<>\"\"),Data!Q375-$E$4,\"\")","v":""},"","","","",{"$f":"IF(F375<>\"\",STDEV($Q$12:Q375),\"\")","v":""},""]
[365,null,{"$f":"RIGHT(Data!C376,10)","v":""},null,null,null,null,null,null,null,{"$f":"IFERROR($U$3*Data!M376/SQRT(COUNT(Data!F376:J376)),\"\")","v":""},"","","","","",{"$f":"IFERROR((Data!K376-$E$4),\"\")","v":""},{"$f":"IF(AND(F376<>\"\",G376<>\"\",H376<>\"\",I376<>\"\",J376<>\"\"),Data!Q376-$E$4,\"\")","v":""},"","","","",{"$f":"IF(F376<>\"\",STDEV($Q$12:Q376),\"\")","v":""},""]
[366,null,{"$f":"RIGHT(Data!C377,10)","v":""},null,null,null,null,null,null,null,{"$f":"IFERROR($U$3*Data!M377/SQRT(COUNT(Data!F377:J377)),\"\")","v":""},"","","","","",{"$f":"IFERROR((Data!K377-$E$4),\"\")","v":""},{"$f":"IF(AND(F377<>\"\",G377<>\"\",H377<>\"\",I377<>\"\",J377<>\"\"),Data!Q377-$E$4,\"\")","v":""},"","","","",{"$f":"IF(F377<>\"\",STDEV($Q$12:Q377),\"\")","v":""},""]
[367,null,{"$f":"RIGHT(Data!C378,10)","v":""},null,null,null,null,null,null,null,{"$f":"IFERROR($U$3*Data!M378/SQRT(COUNT(Data!F378:J378)),\"\")","v":""},"","","","","",{"$f":"IFERROR((Data!K378-$E$4),\"\")","v":""},{"$f":"IF(AND(F378<>\"\",G378<>\"\",H378<>\"\",I378<>\"\",J378<>\"\"),Data!Q378-$E$4,\"\")","v":""},"","","","",{"$f":"IF(F378<>\"\",STDEV($Q$12:Q378),\"\")","v":""},""]
[368,null,{"$f":"RIGHT(Data!C379,10)","v":""},null,null,null,null,null,null,null,{"$f":"IFERROR($U$3*Data!M379/SQRT(COUNT(Data!F379:J379)),\"\")","v":""},"","","","","",{"$f":"IFERROR((Data!K379-$E$4),\"\")","v":""},{"$f":"IF(AND(F379<>\"\",G379<>\"\",H379<>\"\",I379<>\"\",J379<>\"\"),Data!Q379-$E$4,\"\")","v":""},"","","","",{"$f":"IF(F379<>\"\",STDEV($Q$12:Q379),\"\")","v":""},""]
[369,null,{"$f":"RIGHT(Data!C380,10)","v":""},null,null,null,null,null,null,null,{"$f":"IFERROR($U$3*Data!M380/SQRT(COUNT(Data!F380:J380)),\"\")","v":""},"","","","","",{"$f":"IFERROR((Data!K380-$E$4),\"\")","v":""},{"$f":"IF(AND(F380<>\"\",G380<>\"\",H380<>\"\",I380<>\"\",J380<>\"\"),Data!Q380-$E$4,\"\")","v":""},"","","","",{"$f":"IF(F380<>\"\",STDEV($Q$12:Q380),\"\")","v":""},""]
[370,null,{"$f":"RIGHT(Data!C381,10)","v":""},null,null,null,null,null,null,null,{"$f":"IFERROR($U$3*Data!M381/SQRT(COUNT(Data!F381:J381)),\"\")","v":""},"","","","","",{"$f":"IFERROR((Data!K381-$E$4),\"\")","v":""},{"$f":"IF(AND(F381<>\"\",G381<>\"\",H381<>\"\",I381<>\"\",J381<>\"\"),Data!Q381-$E$4,\"\")","v":""},"","","","",{"$f":"IF(F381<>\"\",STDEV($Q$12:Q381),\"\")","v":""},""]
[371,null,{"$f":"RIGHT(Data!C382,10)","v":""},null,null,null,null,null,null,null,{"$f":"IFERROR($U$3*Data!M382/SQRT(COUNT(Data!F382:J382)),\"\")","v":""},"","","","","",{"$f":"IFERROR((Data!K382-$E$4),\"\")","v":""},{"$f":"IF(AND(F382<>\"\",G382<>\"\",H382<>\"\",I382<>\"\",J382<>\"\"),Data!Q382-$E$4,\"\")","v":""},"","","","",{"$f":"IF(F382<>\"\",STDEV($Q$12:Q382),\"\")","v":""},""]
[372,null,{"$f":"RIGHT(Data!C383,10)","v":""},null,null,null,null,null,null,null,{"$f":"IFERROR($U$3*Data!M383/SQRT(COUNT(Data!F383:J383)),\"\")","v":""},"","","","","",{"$f":"IFERROR((Data!K383-$E$4),\"\")","v":""},{"$f":"IF(AND(F383<>\"\",G383<>\"\",H383<>\"\",I383<>\"\",J383<>\"\"),Data!Q383-$E$4,\"\")","v":""},"","","","",{"$f":"IF(F383<>\"\",STDEV($Q$12:Q383),\"\")","v":""},""]
[373,null,{"$f":"RIGHT(Data!C384,10)","v":""},null,null,null,null,null,null,null,{"$f":"IFERROR($U$3*Data!M384/SQRT(COUNT(Data!F384:J384)),\"\")","v":""},"","","","","",{"$f":"IFERROR((Data!K384-$E$4),\"\")","v":""},{"$f":"IF(AND(F384<>\"\",G384<>\"\",H384<>\"\",I384<>\"\",J384<>\"\"),Data!Q384-$E$4,\"\")","v":""},"","","","",{"$f":"IF(F384<>\"\",STDEV($Q$12:Q384),\"\")","v":""},""]
[374,null,{"$f":"RIGHT(Data!C385,10)","v":""},null,null,null,null,null,null,null,{"$f":"IFERROR($U$3*Data!M385/SQRT(COUNT(Data!F385:J385)),\"\")","v":""},"","","","","",{"$f":"IFERROR((Data!K385-$E$4),\"\")","v":""},{"$f":"IF(AND(F385<>\"\",G385<>\"\",H385<>\"\",I385<>\"\",J385<>\"\"),Data!Q385-$E$4,\"\")","v":""},"","","","",{"$f":"IF(F385<>\"\",STDEV($Q$12:Q385),\"\")","v":""},""]
[375,null,{"$f":"RIGHT(Data!C386,10)","v":""},null,null,null,null,null,null,null,{"$f":"IFERROR($U$3*Data!M386/SQRT(COUNT(Data!F386:J386)),\"\")","v":""},"","","","","",{"$f":"IFERROR((Data!K386-$E$4),\"\")","v":""},{"$f":"IF(AND(F386<>\"\",G386<>\"\",H386<>\"\",I386<>\"\",J386<>\"\"),Data!Q386-$E$4,\"\")","v":""},"","","","",{"$f":"IF(F386<>\"\",STDEV($Q$12:Q386),\"\")","v":""},""]
[376,null,{"$f":"RIGHT(Data!C387,10)","v":""},null,null,null,null,null,null,null,{"$f":"IFERROR($U$3*Data!M387/SQRT(COUNT(Data!F387:J387)),\"\")","v":""},"","","","","",{"$f":"IFERROR((Data!K387-$E$4),\"\")","v":""},{"$f":"IF(AND(F387<>\"\",G387<>\"\",H387<>\"\",I387<>\"\",J387<>\"\"),Data!Q387-$E$4,\"\")","v":""},"","","","",{"$f":"IF(F387<>\"\",STDEV($Q$12:Q387),\"\")","v":""},""]
[377,null,{"$f":"RIGHT(Data!C388,10)","v":""},null,null,null,null,null,null,null,{"$f":"IFERROR($U$3*Data!M388/SQRT(COUNT(Data!F388:J388)),\"\")","v":""},"","","","","",{"$f":"IFERROR((Data!K388-$E$4),\"\")","v":""},{"$f":"IF(AND(F388<>\"\",G388<>\"\",H388<>\"\",I388<>\"\",J388<>\"\"),Data!Q388-$E$4,\"\")","v":""},"","","","",{"$f":"IF(F388<>\"\",STDEV($Q$12:Q388),\"\")","v":""},""]
[378,null,{"$f":"RIGHT(Data!C389,10)","v":""},null,null,null,null,null,null,null,{"$f":"IFERROR($U$3*Data!M389/SQRT(COUNT(Data!F389:J389)),\"\")","v":""},"","","","","",{"$f":"IFERROR((Data!K389-$E$4),\"\")","v":""},{"$f":"IF(AND(F389<>\"\",G389<>\"\",H389<>\"\",I389<>\"\",J389<>\"\"),Data!Q389-$E$4,\"\")","v":""},"","","","",{"$f":"IF(F389<>\"\",STDEV($Q$12:Q389),\"\")","v":""},""]
[379,null,{"$f":"RIGHT(Data!C390,10)","v":""},null,null,null,null,null,null,null,{"$f":"IFERROR($U$3*Data!M390/SQRT(COUNT(Data!F390:J390)),\"\")","v":""},"","","","","",{"$f":"IFERROR((Data!K390-$E$4),\"\")","v":""},{"$f":"IF(AND(F390<>\"\",G390<>\"\",H390<>\"\",I390<>\"\",J390<>\"\"),Data!Q390-$E$4,\"\")","v":""},"","","","",{"$f":"IF(F390<>\"\",STDEV($Q$12:Q390),\"\")","v":""},""]
[380,null,{"$f":"RIGHT(Data!C391,10)","v":""},null,null,null,null,null,null,null,{"$f":"IFERROR($U$3*Data!M391/SQRT(COUNT(Data!F391:J391)),\"\")","v":""},"","","","","",{"$f":"IFERROR((Data!K391-$E$4),\"\")","v":""},{"$f":"IF(AND(F391<>\"\",G391<>\"\",H391<>\"\",I391<>\"\",J391<>\"\"),Data!Q391-$E$4,\"\")","v":""},"","","","",{"$f":"IF(F391<>\"\",STDEV($Q$12:Q391),\"\")","v":""},""]
[381,null,{"$f":"RIGHT(Data!C392,10)","v":""},null,null,null,null,null,null,null,{"$f":"IFERROR($U$3*Data!M392/SQRT(COUNT(Data!F392:J392)),\"\")","v":""},"","","","","",{"$f":"IFERROR((Data!K392-$E$4),\"\")","v":""},{"$f":"IF(AND(F392<>\"\",G392<>\"\",H392<>\"\",I392<>\"\",J392<>\"\"),Data!Q392-$E$4,\"\")","v":""},"","","","",{"$f":"IF(F392<>\"\",STDEV($Q$12:Q392),\"\")","v":""},""]
[382,null,{"$f":"RIGHT(Data!C393,10)","v":""},null,null,null,null,null,null,null,{"$f":"IFERROR($U$3*Data!M393/SQRT(COUNT(Data!F393:J393)),\"\")","v":""},"","","","","",{"$f":"IFERROR((Data!K393-$E$4),\"\")","v":""},{"$f":"IF(AND(F393<>\"\",G393<>\"\",H393<>\"\",I393<>\"\",J393<>\"\"),Data!Q393-$E$4,\"\")","v":""},"","","","",{"$f":"IF(F393<>\"\",STDEV($Q$12:Q393),\"\")","v":""},""]
[383,null,{"$f":"RIGHT(Data!C394,10)","v":""},null,null,null,null,null,null,null,{"$f":"IFERROR($U$3*Data!M394/SQRT(COUNT(Data!F394:J394)),\"\")","v":""},"","","","","",{"$f":"IFERROR((Data!K394-$E$4),\"\")","v":""},{"$f":"IF(AND(F394<>\"\",G394<>\"\",H394<>\"\",I394<>\"\",J394<>\"\"),Data!Q394-$E$4,\"\")","v":""},"","","","",{"$f":"IF(F394<>\"\",STDEV($Q$12:Q394),\"\")","v":""},""]
[384,null,{"$f":"RIGHT(Data!C395,10)","v":""},null,null,null,null,null,null,null,{"$f":"IFERROR($U$3*Data!M395/SQRT(COUNT(Data!F395:J395)),\"\")","v":""},"","","","","",{"$f":"IFERROR((Data!K395-$E$4),\"\")","v":""},{"$f":"IF(AND(F395<>\"\",G395<>\"\",H395<>\"\",I395<>\"\",J395<>\"\"),Data!Q395-$E$4,\"\")","v":""},"","","","",{"$f":"IF(F395<>\"\",STDEV($Q$12:Q395),\"\")","v":""},""]
[385,null,{"$f":"RIGHT(Data!C396,10)","v":""},null,null,null,null,null,null,null,{"$f":"IFERROR($U$3*Data!M396/SQRT(COUNT(Data!F396:J396)),\"\")","v":""},"","",{"$f":"IF(COUNT(F396:J396)>=5,STDEV(F396:J396)*$U$3/SQRT((COUNT(F396:J396))),\"\")","v":""},{"$f":"IFERROR($U$4*SQRT($U$7^2+L396^2+K396^2+$U$5^2+N396^2),\"\")","v":""},"",{"$f":"IFERROR((Data!K396-$E$4),\"\")","v":""},{"$f":"IF(AND(F396<>\"\",G396<>\"\",H396<>\"\",I396<>\"\",J396<>\"\"),Data!Q396-$E$4,\"\")","v":""},{"$f":"IF(O396<>\"\",FIXED(X396,1) & \" ± \" & FIXED(O396+ABS(R396),2),\"\")","v":""},"","","",{"$f":"IF(F396<>\"\",STDEV($Q$12:Q396),\"\")","v":""},{"$f":"IF(F396<>\"\",AVERAGE(F396:J396),\"\")","v":""}]
[386,null,{"$f":"RIGHT(Data!C397,10)","v":""},null,null,null,null,null,null,null,{"$f":"IFERROR($U$3*Data!M397/SQRT(COUNT(Data!F397:J397)),\"\")","v":""},{"$f":"IF(F397<>\"\",V397*W397/SQRT(A397),\"\")","v":""},{"$f":"IF(F397<>\"\",$U$4*SQRT($U$7^2+L397^2+K397^2+$U$5^2),\"\")","v":""},"","",{"$f":"IF(AND(F397<>\"\",G397<>\"\",H397<>\"\",I397<>\"\",J397<>\"\"),AVERAGE(F397:J397),\"\")","v":""},{"$f":"IFERROR((Data!K397-$E$4),\"\")","v":""},{"$f":"IF(AND(F397<>\"\",G397<>\"\",H397<>\"\",I397<>\"\",J397<>\"\"),Data!Q397-$E$4,\"\")","v":""},"",{"$f":"IF(F397<>\"\",FIXED(AVERAGE(F397:J397)-R397,1) & \" ± \" & FIXED(O397,2),\"\")","v":""},{"$f":"IF(IO397=\"\",\"\",IO397-1)","v":""},{"$f":"IF(F397<>\"\",TINV(1-0.68,A397-1),\"\")","v":""},{"$f":"IF(F397<>\"\",STDEV($Q$12:Q397),\"\")","v":""},""]
[387,null,{"$f":"RIGHT(Data!C398,10)","v":""},null,null,null,null,null,null,null,{"$f":"IFERROR($U$3*Data!M398/SQRT(COUNT(Data!F398:J398)),\"\")","v":""},"","","","","",{"$f":"IFERROR((Data!K398-$E$4),\"\")","v":""},{"$f":"IF(AND(F398<>\"\",G398<>\"\",H398<>\"\",I398<>\"\",J398<>\"\"),Data!Q398-$E$4,\"\")","v":""},"","","","",{"$f":"IF(F398<>\"\",STDEV($Q$12:Q398),\"\")","v":""},""]
[388,null,{"$f":"RIGHT(Data!C399,10)","v":""},null,null,null,null,null,null,null,{"$f":"IFERROR($U$3*Data!M399/SQRT(COUNT(Data!F399:J399)),\"\")","v":""},"","","","","",{"$f":"IFERROR((Data!K399-$E$4),\"\")","v":""},{"$f":"IF(AND(F399<>\"\",G399<>\"\",H399<>\"\",I399<>\"\",J399<>\"\"),Data!Q399-$E$4,\"\")","v":""},"","","","",{"$f":"IF(F399<>\"\",STDEV($Q$12:Q399),\"\")","v":""},""]
[389,null,{"$f":"RIGHT(Data!C400,10)","v":""},null,null,null,null,null,null,null,{"$f":"IFERROR($U$3*Data!M400/SQRT(COUNT(Data!F400:J400)),\"\")","v":""},"","","","","",{"$f":"IFERROR((Data!K400-$E$4),\"\")","v":""},{"$f":"IF(AND(F400<>\"\",G400<>\"\",H400<>\"\",I400<>\"\",J400<>\"\"),Data!Q400-$E$4,\"\")","v":""},"","","","",{"$f":"IF(F400<>\"\",STDEV($Q$12:Q400),\"\")","v":""},""]
[390,null,{"$f":"RIGHT(Data!C401,10)","v":""},null,null,null,null,null,null,null,{"$f":"IFERROR($U$3*Data!M401/SQRT(COUNT(Data!F401:J401)),\"\")","v":""},"","","","","",{"$f":"IFERROR((Data!K401-$E$4),\"\")","v":""},{"$f":"IF(AND(F401<>\"\",G401<>\"\",H401<>\"\",I401<>\"\",J401<>\"\"),Data!Q401-$E$4,\"\")","v":""},"","","","",{"$f":"IF(F401<>\"\",STDEV($Q$12:Q401),\"\")","v":""},""]
[391,null,{"$f":"RIGHT(Data!C402,10)","v":""},null,null,null,null,null,null,null,{"$f":"IFERROR($U$3*Data!M402/SQRT(COUNT(Data!F402:J402)),\"\")","v":""},"","","","","",{"$f":"IFERROR((Data!K402-$E$4),\"\")","v":""},{"$f":"IF(AND(F402<>\"\",G402<>\"\",H402<>\"\",I402<>\"\",J402<>\"\"),Data!Q402-$E$4,\"\")","v":""},"","","","",{"$f":"IF(F402<>\"\",STDEV($Q$12:Q402),\"\")","v":""},""]
[392,null,{"$f":"RIGHT(Data!C403,10)","v":""},null,null,null,null,null,null,null,{"$f":"IFERROR($U$3*Data!M403/SQRT(COUNT(Data!F403:J403)),\"\")","v":""},"","","","","",{"$f":"IFERROR((Data!K403-$E$4),\"\")","v":""},{"$f":"IF(AND(F403<>\"\",G403<>\"\",H403<>\"\",I403<>\"\",J403<>\"\"),Data!Q403-$E$4,\"\")","v":""},"","","","",{"$f":"IF(F403<>\"\",STDEV($Q$12:Q403),\"\")","v":""},""]
[393,null,{"$f":"RIGHT(Data!C404,10)","v":""},null,null,null,null,null,null,null,{"$f":"IFERROR($U$3*Data!M404/SQRT(COUNT(Data!F404:J404)),\"\")","v":""},"","","","","",{"$f":"IFERROR((Data!K404-$E$4),\"\")","v":""},{"$f":"IF(AND(F404<>\"\",G404<>\"\",H404<>\"\",I404<>\"\",J404<>\"\"),Data!Q404-$E$4,\"\")","v":""},"","","","",{"$f":"IF(F404<>\"\",STDEV($Q$12:Q404),\"\")","v":""},""]
[394,null,{"$f":"RIGHT(Data!C405,10)","v":""},null,null,null,null,null,null,null,{"$f":"IFERROR($U$3*Data!M405/SQRT(COUNT(Data!F405:J405)),\"\")","v":""},"","","","","",{"$f":"IFERROR((Data!K405-$E$4),\"\")","v":""},{"$f":"IF(AND(F405<>\"\",G405<>\"\",H405<>\"\",I405<>\"\",J405<>\"\"),Data!Q405-$E$4,\"\")","v":""},"","","","",{"$f":"IF(F405<>\"\",STDEV($Q$12:Q405),\"\")","v":""},""]
[395,null,{"$f":"RIGHT(Data!C406,10)","v":""},null,null,null,null,null,null,null,{"$f":"IFERROR($U$3*Data!M406/SQRT(COUNT(Data!F406:J406)),\"\")","v":""},"","","","","",{"$f":"IFERROR((Data!K406-$E$4),\"\")","v":""},{"$f":"IF(AND(F406<>\"\",G406<>\"\",H406<>\"\",I406<>\"\",J406<>\"\"),Data!Q406-$E$4,\"\")","v":""},"","","","",{"$f":"IF(F406<>\"\",STDEV($Q$12:Q406),\"\")","v":""},""]
[396,null,{"$f":"RIGHT(Data!C407,10)","v":""},null,null,null,null,null,null,null,{"$f":"IFERROR($U$3*Data!M407/SQRT(COUNT(Data!F407:J407)),\"\")","v":""},"","","","","",{"$f":"IFERROR((Data!K407-$E$4),\"\")","v":""},{"$f":"IF(AND(F407<>\"\",G407<>\"\",H407<>\"\",I407<>\"\",J407<>\"\"),Data!Q407-$E$4,\"\")","v":""},"","","","",{"$f":"IF(F407<>\"\",STDEV($Q$12:Q407),\"\")","v":""},""]
[397,null,{"$f":"RIGHT(Data!C408,10)","v":""},null,null,null,null,null,null,null,{"$f":"IFERROR($U$3*Data!M408/SQRT(COUNT(Data!F408:J408)),\"\")","v":""},"","","","","",{"$f":"IFERROR((Data!K408-$E$4),\"\")","v":""},{"$f":"IF(AND(F408<>\"\",G408<>\"\",H408<>\"\",I408<>\"\",J408<>\"\"),Data!Q408-$E$4,\"\")","v":""},"","","","",{"$f":"IF(F408<>\"\",STDEV($Q$12:Q408),\"\")","v":""},""]
[398,null,{"$f":"RIGHT(Data!C409,10)","v":""},null,null,null,null,null,null,null,{"$f":"IFERROR($U$3*Data!M409/SQRT(COUNT(Data!F409:J409)),\"\")","v":""},"","","","","",{"$f":"IFERROR((Data!K409-$E$4),\"\")","v":""},{"$f":"IF(AND(F409<>\"\",G409<>\"\",H409<>\"\",I409<>\"\",J409<>\"\"),Data!Q409-$E$4,\"\")","v":""},"","","","",{"$f":"IF(F409<>\"\",STDEV($Q$12:Q409),\"\")","v":""},""]
[399,null,{"$f":"RIGHT(Data!C410,10)","v":""},null,null,null,null,null,null,null,{"$f":"IFERROR($U$3*Data!M410/SQRT(COUNT(Data!F410:J410)),\"\")","v":""},"","","","","",{"$f":"IFERROR((Data!K410-$E$4),\"\")","v":""},{"$f":"IF(AND(F410<>\"\",G410<>\"\",H410<>\"\",I410<>\"\",J410<>\"\"),Data!Q410-$E$4,\"\")","v":""},"","","","",{"$f":"IF(F410<>\"\",STDEV($Q$12:Q410),\"\")","v":""},""]
[400,null,{"$f":"RIGHT(Data!C411,10)","v":""},null,null,null,null,null,null,null,{"$f":"IFERROR($U$3*Data!M411/SQRT(COUNT(Data!F411:J411)),\"\")","v":""},"","","","","",{"$f":"IFERROR((Data!K411-$E$4),\"\")","v":""},{"$f":"IF(AND(F411<>\"\",G411<>\"\",H411<>\"\",I411<>\"\",J411<>\"\"),Data!Q411-$E$4,\"\")","v":""},"","","","",{"$f":"IF(F411<>\"\",STDEV($Q$12:Q411),\"\")","v":""},""]
[401,null,{"$f":"RIGHT(Data!C412,10)","v":""},null,null,null,null,null,null,null,{"$f":"IFERROR($U$3*Data!M412/SQRT(COUNT(Data!F412:J412)),\"\")","v":""},"","","","","",{"$f":"IFERROR((Data!K412-$E$4),\"\")","v":""},{"$f":"IF(AND(F412<>\"\",G412<>\"\",H412<>\"\",I412<>\"\",J412<>\"\"),Data!Q412-$E$4,\"\")","v":""},"","","","",{"$f":"IF(F412<>\"\",STDEV($Q$12:Q412),\"\")","v":""},""]
[402,null,{"$f":"RIGHT(Data!C413,10)","v":""},null,null,null,null,null,null,null,{"$f":"IFERROR($U$3*Data!M413/SQRT(COUNT(Data!F413:J413)),\"\")","v":""},"","","","","",{"$f":"IFERROR((Data!K413-$E$4),\"\")","v":""},{"$f":"IF(AND(F413<>\"\",G413<>\"\",H413<>\"\",I413<>\"\",J413<>\"\"),Data!Q413-$E$4,\"\")","v":""},"","","","",{"$f":"IF(F413<>\"\",STDEV($Q$12:Q413),\"\")","v":""},""]
[403,null,{"$f":"RIGHT(Data!C414,10)","v":""},null,null,null,null,null,null,null,{"$f":"IFERROR($U$3*Data!M414/SQRT(COUNT(Data!F414:J414)),\"\")","v":""},"","","","","",{"$f":"IFERROR((Data!K414-$E$4),\"\")","v":""},{"$f":"IF(AND(F414<>\"\",G414<>\"\",H414<>\"\",I414<>\"\",J414<>\"\"),Data!Q414-$E$4,\"\")","v":""},"","","","",{"$f":"IF(F414<>\"\",STDEV($Q$12:Q414),\"\")","v":""},""]
[404,null,{"$f":"RIGHT(Data!C415,10)","v":""},null,null,null,null,null,null,null,{"$f":"IFERROR($U$3*Data!M415/SQRT(COUNT(Data!F415:J415)),\"\")","v":""},"","","","","",{"$f":"IFERROR((Data!K415-$E$4),\"\")","v":""},{"$f":"IF(AND(F415<>\"\",G415<>\"\",H415<>\"\",I415<>\"\",J415<>\"\"),Data!Q415-$E$4,\"\")","v":""},"","","","",{"$f":"IF(F415<>\"\",STDEV($Q$12:Q415),\"\")","v":""},""]
[405,null,{"$f":"RIGHT(Data!C416,10)","v":""},null,null,null,null,null,null,null,{"$f":"IFERROR($U$3*Data!M416/SQRT(COUNT(Data!F416:J416)),\"\")","v":""},"","","","","",{"$f":"IFERROR((Data!K416-$E$4),\"\")","v":""},{"$f":"IF(AND(F416<>\"\",G416<>\"\",H416<>\"\",I416<>\"\",J416<>\"\"),Data!Q416-$E$4,\"\")","v":""},"","","","",{"$f":"IF(F416<>\"\",STDEV($Q$12:Q416),\"\")","v":""},""]
[406,null,{"$f":"RIGHT(Data!C417,10)","v":""},null,null,null,null,null,null,null,{"$f":"IFERROR($U$3*Data!M417/SQRT(COUNT(Data!F417:J417)),\"\")","v":""},"","","","","",{"$f":"IFERROR((Data!K417-$E$4),\"\")","v":""},{"$f":"IF(AND(F417<>\"\",G417<>\"\",H417<>\"\",I417<>\"\",J417<>\"\"),Data!Q417-$E$4,\"\")","v":""},"","","","",{"$f":"IF(F417<>\"\",STDEV($Q$12:Q417),\"\")","v":""},""]
[407,null,{"$f":"RIGHT(Data!C418,10)","v":""},null,null,null,null,null,null,null,{"$f":"IFERROR($U$3*Data!M418/SQRT(COUNT(Data!F418:J418)),\"\")","v":""},"","","","","",{"$f":"IFERROR((Data!K418-$E$4),\"\")","v":""},{"$f":"IF(AND(F418<>\"\",G418<>\"\",H418<>\"\",I418<>\"\",J418<>\"\"),Data!Q418-$E$4,\"\")","v":""},"","","","",{"$f":"IF(F418<>\"\",STDEV($Q$12:Q418),\"\")","v":""},""]
[408,null,{"$f":"RIGHT(Data!C419,10)","v":""},null,null,null,null,null,null,null,{"$f":"IFERROR($U$3*Data!M419/SQRT(COUNT(Data!F419:J419)),\"\")","v":""},"","","","","",{"$f":"IFERROR((Data!K419-$E$4),\"\")","v":""},{"$f":"IF(AND(F419<>\"\",G419<>\"\",H419<>\"\",I419<>\"\",J419<>\"\"),Data!Q419-$E$4,\"\")","v":""},"","","","",{"$f":"IF(F419<>\"\",STDEV($Q$12:Q419),\"\")","v":""},""]
[409,null,{"$f":"RIGHT(Data!C420,10)","v":""},null,null,null,null,null,null,null,{"$f":"IFERROR($U$3*Data!M420/SQRT(COUNT(Data!F420:J420)),\"\")","v":""},"","","","","",{"$f":"IFERROR((Data!K420-$E$4),\"\")","v":""},{"$f":"IF(AND(F420<>\"\",G420<>\"\",H420<>\"\",I420<>\"\",J420<>\"\"),Data!Q420-$E$4,\"\")","v":""},"","","","",{"$f":"IF(F420<>\"\",STDEV($Q$12:Q420),\"\")","v":""},""]
[410,null,{"$f":"RIGHT(Data!C421,10)","v":""},null,null,null,null,null,null,null,{"$f":"IFERROR($U$3*Data!M421/SQRT(COUNT(Data!F421:J421)),\"\")","v":""},"","","","","",{"$f":"IFERROR((Data!K421-$E$4),\"\")","v":""},{"$f":"IF(AND(F421<>\"\",G421<>\"\",H421<>\"\",I421<>\"\",J421<>\"\"),Data!Q421-$E$4,\"\")","v":""},"","","","",{"$f":"IF(F421<>\"\",STDEV($Q$12:Q421),\"\")","v":""},""]
[411,null,{"$f":"RIGHT(Data!C422,10)","v":""},null,null,null,null,null,null,null,{"$f":"IFERROR($U$3*Data!M422/SQRT(COUNT(Data!F422:J422)),\"\")","v":""},"","","","","",{"$f":"IFERROR((Data!K422-$E$4),\"\")","v":""},{"$f":"IF(AND(F422<>\"\",G422<>\"\",H422<>\"\",I422<>\"\",J422<>\"\"),Data!Q422-$E$4,\"\")","v":""},"","","","",{"$f":"IF(F422<>\"\",STDEV($Q$12:Q422),\"\")","v":""},""]
[412,null,{"$f":"RIGHT(Data!C423,10)","v":""},null,null,null,null,null,null,null,{"$f":"IFERROR($U$3*Data!M423/SQRT(COUNT(Data!F423:J423)),\"\")","v":""},"","","","","",{"$f":"IFERROR((Data!K423-$E$4),\"\")","v":""},{"$f":"IF(AND(F423<>\"\",G423<>\"\",H423<>\"\",I423<>\"\",J423<>\"\"),Data!Q423-$E$4,\"\")","v":""},"","","","",{"$f":"IF(F423<>\"\",STDEV($Q$12:Q423),\"\")","v":""},""]
[413,null,{"$f":"RIGHT(Data!C424,10)","v":""},null,null,null,null,null,null,null,{"$f":"IFERROR($U$3*Data!M424/SQRT(COUNT(Data!F424:J424)),\"\")","v":""},"","","","","",{"$f":"IFERROR((Data!K424-$E$4),\"\")","v":""},{"$f":"IF(AND(F424<>\"\",G424<>\"\",H424<>\"\",I424<>\"\",J424<>\"\"),Data!Q424-$E$4,\"\")","v":""},"","","","",{"$f":"IF(F424<>\"\",STDEV($Q$12:Q424),\"\")","v":""},""]
[414,null,{"$f":"RIGHT(Data!C425,10)","v":""},null,null,null,null,null,null,null,{"$f":"IFERROR($U$3*Data!M425/SQRT(COUNT(Data!F425:J425)),\"\")","v":""},"","","","","",{"$f":"IFERROR((Data!K425-$E$4),\"\")","v":""},{"$f":"IF(AND(F425<>\"\",G425<>\"\",H425<>\"\",I425<>\"\",J425<>\"\"),Data!Q425-$E$4,\"\")","v":""},"","","","",{"$f":"IF(F425<>\"\",STDEV($Q$12:Q425),\"\")","v":""},""]
[415,null,{"$f":"RIGHT(Data!C426,10)","v":""},null,null,null,null,null,null,null,{"$f":"IFERROR($U$3*Data!M426/SQRT(COUNT(Data!F426:J426)),\"\")","v":""},"","","","","",{"$f":"IFERROR((Data!K426-$E$4),\"\")","v":""},{"$f":"IF(AND(F426<>\"\",G426<>\"\",H426<>\"\",I426<>\"\",J426<>\"\"),Data!Q426-$E$4,\"\")","v":""},"","","","",{"$f":"IF(F426<>\"\",STDEV($Q$12:Q426),\"\")","v":""},""]
[416,null,{"$f":"RIGHT(Data!C427,10)","v":""},null,null,null,null,null,null,null,{"$f":"IFERROR($U$3*Data!M427/SQRT(COUNT(Data!F427:J427)),\"\")","v":""},"","","","","",{"$f":"IFERROR((Data!K427-$E$4),\"\")","v":""},{"$f":"IF(AND(F427<>\"\",G427<>\"\",H427<>\"\",I427<>\"\",J427<>\"\"),Data!Q427-$E$4,\"\")","v":""},"","","","",{"$f":"IF(F427<>\"\",STDEV($Q$12:Q427),\"\")","v":""},""]
[417,null,{"$f":"RIGHT(Data!C428,10)","v":""},null,null,null,null,null,null,null,{"$f":"IFERROR($U$3*Data!M428/SQRT(COUNT(Data!F428:J428)),\"\")","v":""},"","","","","",{"$f":"IFERROR((Data!K428-$E$4),\"\")","v":""},{"$f":"IF(AND(F428<>\"\",G428<>\"\",H428<>\"\",I428<>\"\",J428<>\"\"),Data!Q428-$E$4,\"\")","v":""},"","","","",{"$f":"IF(F428<>\"\",STDEV($Q$12:Q428),\"\")","v":""},""]
[418,null,{"$f":"RIGHT(Data!C429,10)","v":""},null,null,null,null,null,null,null,{"$f":"IFERROR($U$3*Data!M429/SQRT(COUNT(Data!F429:J429)),\"\")","v":""},"","","","","",{"$f":"IFERROR((Data!K429-$E$4),\"\")","v":""},{"$f":"IF(AND(F429<>\"\",G429<>\"\",H429<>\"\",I429<>\"\",J429<>\"\"),Data!Q429-$E$4,\"\")","v":""},"","","","",{"$f":"IF(F429<>\"\",STDEV($Q$12:Q429),\"\")","v":""},""]
[419,null,{"$f":"RIGHT(Data!C430,10)","v":""},null,null,null,null,null,null,null,{"$f":"IFERROR($U$3*Data!M430/SQRT(COUNT(Data!F430:J430)),\"\")","v":""},"","","","","",{"$f":"IFERROR((Data!K430-$E$4),\"\")","v":""},{"$f":"IF(AND(F430<>\"\",G430<>\"\",H430<>\"\",I430<>\"\",J430<>\"\"),Data!Q430-$E$4,\"\")","v":""},"","","","",{"$f":"IF(F430<>\"\",STDEV($Q$12:Q430),\"\")","v":""},""]
[420,null,{"$f":"RIGHT(Data!C431,10)","v":""},null,null,null,null,null,null,null,{"$f":"IFERROR($U$3*Data!M431/SQRT(COUNT(Data!F431:J431)),\"\")","v":""},"","","","","",{"$f":"IFERROR((Data!K431-$E$4),\"\")","v":""},{"$f":"IF(AND(F431<>\"\",G431<>\"\",H431<>\"\",I431<>\"\",J431<>\"\"),Data!Q431-$E$4,\"\")","v":""},"","","","",{"$f":"IF(F431<>\"\",STDEV($Q$12:Q431),\"\")","v":""},""]
[421,null,{"$f":"RIGHT(Data!C432,10)","v":""},null,null,null,null,null,null,null,{"$f":"IFERROR($U$3*Data!M432/SQRT(COUNT(Data!F432:J432)),\"\")","v":""},"","","","","",{"$f":"IFERROR((Data!K432-$E$4),\"\")","v":""},{"$f":"IF(AND(F432<>\"\",G432<>\"\",H432<>\"\",I432<>\"\",J432<>\"\"),Data!Q432-$E$4,\"\")","v":""},"","","","",{"$f":"IF(F432<>\"\",STDEV($Q$12:Q432),\"\")","v":""},""]
[422,null,{"$f":"RIGHT(Data!C433,10)","v":""},null,null,null,null,null,null,null,{"$f":"IFERROR($U$3*Data!M433/SQRT(COUNT(Data!F433:J433)),\"\")","v":""},"","","","","",{"$f":"IFERROR((Data!K433-$E$4),\"\")","v":""},{"$f":"IF(AND(F433<>\"\",G433<>\"\",H433<>\"\",I433<>\"\",J433<>\"\"),Data!Q433-$E$4,\"\")","v":""},"","","","",{"$f":"IF(F433<>\"\",STDEV($Q$12:Q433),\"\")","v":""},""]
[423,null,{"$f":"RIGHT(Data!C434,10)","v":""},null,null,null,null,null,null,null,{"$f":"IFERROR($U$3*Data!M434/SQRT(COUNT(Data!F434:J434)),\"\")","v":""},"","","","","",{"$f":"IFERROR((Data!K434-$E$4),\"\")","v":""},{"$f":"IF(AND(F434<>\"\",G434<>\"\",H434<>\"\",I434<>\"\",J434<>\"\"),Data!Q434-$E$4,\"\")","v":""},"","","","",{"$f":"IF(F434<>\"\",STDEV($Q$12:Q434),\"\")","v":""},""]
[424,null,{"$f":"RIGHT(Data!C435,10)","v":""},null,null,null,null,null,null,null,{"$f":"IFERROR($U$3*Data!M435/SQRT(COUNT(Data!F435:J435)),\"\")","v":""},"","","","","",{"$f":"IFERROR((Data!K435-$E$4),\"\")","v":""},{"$f":"IF(AND(F435<>\"\",G435<>\"\",H435<>\"\",I435<>\"\",J435<>\"\"),Data!Q435-$E$4,\"\")","v":""},"","","","",{"$f":"IF(F435<>\"\",STDEV($Q$12:Q435),\"\")","v":""},""]
[425,null,{"$f":"RIGHT(Data!C436,10)","v":""},null,null,null,null,null,null,null,{"$f":"IFERROR($U$3*Data!M436/SQRT(COUNT(Data!F436:J436)),\"\")","v":""},"","","","","",{"$f":"IFERROR((Data!K436-$E$4),\"\")","v":""},{"$f":"IF(AND(F436<>\"\",G436<>\"\",H436<>\"\",I436<>\"\",J436<>\"\"),Data!Q436-$E$4,\"\")","v":""},"","","","",{"$f":"IF(F436<>\"\",STDEV($Q$12:Q436),\"\")","v":""},""]
[426,null,{"$f":"RIGHT(Data!C437,10)","v":""},null,null,null,null,null,null,null,{"$f":"IFERROR($U$3*Data!M437/SQRT(COUNT(Data!F437:J437)),\"\")","v":""},"","","","","",{"$f":"IFERROR((Data!K437-$E$4),\"\")","v":""},{"$f":"IF(AND(F437<>\"\",G437<>\"\",H437<>\"\",I437<>\"\",J437<>\"\"),Data!Q437-$E$4,\"\")","v":""},"","","","",{"$f":"IF(F437<>\"\",STDEV($Q$12:Q437),\"\")","v":""},""]
[427,null,{"$f":"RIGHT(Data!C438,10)","v":""},null,null,null,null,null,null,null,{"$f":"IFERROR($U$3*Data!M438/SQRT(COUNT(Data!F438:J438)),\"\")","v":""},"","","","","",{"$f":"IFERROR((Data!K438-$E$4),\"\")","v":""},{"$f":"IF(AND(F438<>\"\",G438<>\"\",H438<>\"\",I438<>\"\",J438<>\"\"),Data!Q438-$E$4,\"\")","v":""},"","","","",{"$f":"IF(F438<>\"\",STDEV($Q$12:Q438),\"\")","v":""},""]
[428,null,{"$f":"RIGHT(Data!C439,10)","v":""},null,null,null,null,null,null,null,{"$f":"IFERROR($U$3*Data!M439/SQRT(COUNT(Data!F439:J439)),\"\")","v":""},"","","","","",{"$f":"IFERROR((Data!K439-$E$4),\"\")","v":""},{"$f":"IF(AND(F439<>\"\",G439<>\"\",H439<>\"\",I439<>\"\",J439<>\"\"),Data!Q439-$E$4,\"\")","v":""},"","","","",{"$f":"IF(F439<>\"\",STDEV($Q$12:Q439),\"\")","v":""},""]
[429,null,{"$f":"RIGHT(Data!C440,10)","v":""},null,null,null,null,null,null,null,{"$f":"IFERROR($U$3*Data!M440/SQRT(COUNT(Data!F440:J440)),\"\")","v":""},"","","","","",{"$f":"IFERROR((Data!K440-$E$4),\"\")","v":""},{"$f":"IF(AND(F440<>\"\",G440<>\"\",H440<>\"\",I440<>\"\",J440<>\"\"),Data!Q440-$E$4,\"\")","v":""},"","","","",{"$f":"IF(F440<>\"\",STDEV($Q$12:Q440),\"\")","v":""},""]
[430,null,{"$f":"RIGHT(Data!C441,10)","v":""},null,null,null,null,null,null,null,{"$f":"IFERROR($U$3*Data!M441/SQRT(COUNT(Data!F441:J441)),\"\")","v":""},"","","","","",{"$f":"IFERROR((Data!K441-$E$4),\"\")","v":""},{"$f":"IF(AND(F441<>\"\",G441<>\"\",H441<>\"\",I441<>\"\",J441<>\"\"),Data!Q441-$E$4,\"\")","v":""},"","","","",{"$f":"IF(F441<>\"\",STDEV($Q$12:Q441),\"\")","v":""},""]
[431,null,{"$f":"RIGHT(Data!C442,10)","v":""},null,null,null,null,null,null,null,{"$f":"IFERROR($U$3*Data!M442/SQRT(COUNT(Data!F442:J442)),\"\")","v":""},"","","","","",{"$f":"IFERROR((Data!K442-$E$4),\"\")","v":""},{"$f":"IF(AND(F442<>\"\",G442<>\"\",H442<>\"\",I442<>\"\",J442<>\"\"),Data!Q442-$E$4,\"\")","v":""},"","","","",{"$f":"IF(F442<>\"\",STDEV($Q$12:Q442),\"\")","v":""},""]
[432,null,{"$f":"RIGHT(Data!C443,10)","v":""},null,null,null,null,null,null,null,{"$f":"IFERROR($U$3*Data!M443/SQRT(COUNT(Data!F443:J443)),\"\")","v":""},"","","","","",{"$f":"IFERROR((Data!K443-$E$4),\"\")","v":""},{"$f":"IF(AND(F443<>\"\",G443<>\"\",H443<>\"\",I443<>\"\",J443<>\"\"),Data!Q443-$E$4,\"\")","v":""},"","","","",{"$f":"IF(F443<>\"\",STDEV($Q$12:Q443),\"\")","v":""},""]
[433,null,{"$f":"RIGHT(Data!C444,10)","v":""},null,null,null,null,null,null,null,{"$f":"IFERROR($U$3*Data!M444/SQRT(COUNT(Data!F444:J444)),\"\")","v":""},"","","","","",{"$f":"IFERROR((Data!K444-$E$4),\"\")","v":""},{"$f":"IF(AND(F444<>\"\",G444<>\"\",H444<>\"\",I444<>\"\",J444<>\"\"),Data!Q444-$E$4,\"\")","v":""},"","","","",{"$f":"IF(F444<>\"\",STDEV($Q$12:Q444),\"\")","v":""},""]
[434,null,{"$f":"RIGHT(Data!C445,10)","v":""},null,null,null,null,null,null,null,{"$f":"IFERROR($U$3*Data!M445/SQRT(COUNT(Data!F445:J445)),\"\")","v":""},"","","","","",{"$f":"IFERROR((Data!K445-$E$4),\"\")","v":""},{"$f":"IF(AND(F445<>\"\",G445<>\"\",H445<>\"\",I445<>\"\",J445<>\"\"),Data!Q445-$E$4,\"\")","v":""},"","","","",{"$f":"IF(F445<>\"\",STDEV($Q$12:Q445),\"\")","v":""},""]
[435,null,{"$f":"RIGHT(Data!C446,10)","v":""},null,null,null,null,null,null,null,{"$f":"IFERROR($U$3*Data!M446/SQRT(COUNT(Data!F446:J446)),\"\")","v":""},"","","","","",{"$f":"IFERROR((Data!K446-$E$4),\"\")","v":""},{"$f":"IF(AND(F446<>\"\",G446<>\"\",H446<>\"\",I446<>\"\",J446<>\"\"),Data!Q446-$E$4,\"\")","v":""},"","","","",{"$f":"IF(F446<>\"\",STDEV($Q$12:Q446),\"\")","v":""},""]
[436,null,{"$f":"RIGHT(Data!C447,10)","v":""},null,null,null,null,null,null,null,{"$f":"IFERROR($U$3*Data!M447/SQRT(COUNT(Data!F447:J447)),\"\")","v":""},"","","","","",{"$f":"IFERROR((Data!K447-$E$4),\"\")","v":""},{"$f":"IF(AND(F447<>\"\",G447<>\"\",H447<>\"\",I447<>\"\",J447<>\"\"),Data!Q447-$E$4,\"\")","v":""},"","","","",{"$f":"IF(F447<>\"\",STDEV($Q$12:Q447),\"\")","v":""},""]
[437,null,{"$f":"RIGHT(Data!C448,10)","v":""},null,null,null,null,null,null,null,{"$f":"IFERROR($U$3*Data!M448/SQRT(COUNT(Data!F448:J448)),\"\")","v":""},"","","","","",{"$f":"IFERROR((Data!K448-$E$4),\"\")","v":""},{"$f":"IF(AND(F448<>\"\",G448<>\"\",H448<>\"\",I448<>\"\",J448<>\"\"),Data!Q448-$E$4,\"\")","v":""},"","","","",{"$f":"IF(F448<>\"\",STDEV($Q$12:Q448),\"\")","v":""},""]
[438,null,{"$f":"RIGHT(Data!C449,10)","v":""},null,null,null,null,null,null,null,{"$f":"IFERROR($U$3*Data!M449/SQRT(COUNT(Data!F449:J449)),\"\")","v":""},"","","","","",{"$f":"IFERROR((Data!K449-$E$4),\"\")","v":""},{"$f":"IF(AND(F449<>\"\",G449<>\"\",H449<>\"\",I449<>\"\",J449<>\"\"),Data!Q449-$E$4,\"\")","v":""},"","","","",{"$f":"IF(F449<>\"\",STDEV($Q$12:Q449),\"\")","v":""},""]
[439,null,{"$f":"RIGHT(Data!C450,10)","v":""},null,null,null,null,null,null,null,{"$f":"IFERROR($U$3*Data!M450/SQRT(COUNT(Data!F450:J450)),\"\")","v":""},"","","","","",{"$f":"IFERROR((Data!K450-$E$4),\"\")","v":""},{"$f":"IF(AND(F450<>\"\",G450<>\"\",H450<>\"\",I450<>\"\",J450<>\"\"),Data!Q450-$E$4,\"\")","v":""},"","","","",{"$f":"IF(F450<>\"\",STDEV($Q$12:Q450),\"\")","v":""},""]
[440,null,{"$f":"RIGHT(Data!C451,10)","v":""},null,null,null,null,null,null,null,{"$f":"IFERROR($U$3*Data!M451/SQRT(COUNT(Data!F451:J451)),\"\")","v":""},"","","","","",{"$f":"IFERROR((Data!K451-$E$4),\"\")","v":""},{"$f":"IF(AND(F451<>\"\",G451<>\"\",H451<>\"\",I451<>\"\",J451<>\"\"),Data!Q451-$E$4,\"\")","v":""},"","","","",{"$f":"IF(F451<>\"\",STDEV($Q$12:Q451),\"\")","v":""},""]
[441,null,{"$f":"RIGHT(Data!C452,10)","v":""},null,null,null,null,null,null,null,{"$f":"IFERROR($U$3*Data!M452/SQRT(COUNT(Data!F452:J452)),\"\")","v":""},"","","","","",{"$f":"IFERROR((Data!K452-$E$4),\"\")","v":""},{"$f":"IF(AND(F452<>\"\",G452<>\"\",H452<>\"\",I452<>\"\",J452<>\"\"),Data!Q452-$E$4,\"\")","v":""},"","","","",{"$f":"IF(F452<>\"\",STDEV($Q$12:Q452),\"\")","v":""},""]
[442,null,{"$f":"RIGHT(Data!C453,10)","v":""},null,null,null,null,null,null,null,{"$f":"IFERROR($U$3*Data!M453/SQRT(COUNT(Data!F453:J453)),\"\")","v":""},"","","","","",{"$f":"IFERROR((Data!K453-$E$4),\"\")","v":""},{"$f":"IF(AND(F453<>\"\",G453<>\"\",H453<>\"\",I453<>\"\",J453<>\"\"),Data!Q453-$E$4,\"\")","v":""},"","","","",{"$f":"IF(F453<>\"\",STDEV($Q$12:Q453),\"\")","v":""},""]
[443,null,{"$f":"RIGHT(Data!C454,10)","v":""},null,null,null,null,null,null,null,{"$f":"IFERROR($U$3*Data!M454/SQRT(COUNT(Data!F454:J454)),\"\")","v":""},"","","","","",{"$f":"IFERROR((Data!K454-$E$4),\"\")","v":""},{"$f":"IF(AND(F454<>\"\",G454<>\"\",H454<>\"\",I454<>\"\",J454<>\"\"),Data!Q454-$E$4,\"\")","v":""},"","","","",{"$f":"IF(F454<>\"\",STDEV($Q$12:Q454),\"\")","v":""},""]
[444,null,{"$f":"RIGHT(Data!C455,10)","v":""},null,null,null,null,null,null,null,{"$f":"IFERROR($U$3*Data!M455/SQRT(COUNT(Data!F455:J455)),\"\")","v":""},"","","","","",{"$f":"IFERROR((Data!K455-$E$4),\"\")","v":""},{"$f":"IF(AND(F455<>\"\",G455<>\"\",H455<>\"\",I455<>\"\",J455<>\"\"),Data!Q455-$E$4,\"\")","v":""},"","","","",{"$f":"IF(F455<>\"\",STDEV($Q$12:Q455),\"\")","v":""},""]
[445,null,{"$f":"RIGHT(Data!C456,10)","v":""},null,null,null,null,null,null,null,{"$f":"IFERROR($U$3*Data!M456/SQRT(COUNT(Data!F456:J456)),\"\")","v":""},"","","","","",{"$f":"IFERROR((Data!K456-$E$4),\"\")","v":""},{"$f":"IF(AND(F456<>\"\",G456<>\"\",H456<>\"\",I456<>\"\",J456<>\"\"),Data!Q456-$E$4,\"\")","v":""},"","","","",{"$f":"IF(F456<>\"\",STDEV($Q$12:Q456),\"\")","v":""},""]
[446,null,{"$f":"RIGHT(Data!C457,10)","v":""},null,null,null,null,null,null,null,{"$f":"IFERROR($U$3*Data!M457/SQRT(COUNT(Data!F457:J457)),\"\")","v":""},"","","","","",{"$f":"IFERROR((Data!K457-$E$4),\"\")","v":""},{"$f":"IF(AND(F457<>\"\",G457<>\"\",H457<>\"\",I457<>\"\",J457<>\"\"),Data!Q457-$E$4,\"\")","v":""},"","","","",{"$f":"IF(F457<>\"\",STDEV($Q$12:Q457),\"\")","v":""},""]
[447,null,{"$f":"RIGHT(Data!C458,10)","v":""},null,null,null,null,null,null,null,{"$f":"IFERROR($U$3*Data!M458/SQRT(COUNT(Data!F458:J458)),\"\")","v":""},"","","","","",{"$f":"IFERROR((Data!K458-$E$4),\"\")","v":""},{"$f":"IF(AND(F458<>\"\",G458<>\"\",H458<>\"\",I458<>\"\",J458<>\"\"),Data!Q458-$E$4,\"\")","v":""},"","","","",{"$f":"IF(F458<>\"\",STDEV($Q$12:Q458),\"\")","v":""},""]
[448,null,{"$f":"RIGHT(Data!C459,10)","v":""},null,null,null,null,null,null,null,{"$f":"IFERROR($U$3*Data!M459/SQRT(COUNT(Data!F459:J459)),\"\")","v":""},"","","","","",{"$f":"IFERROR((Data!K459-$E$4),\"\")","v":""},{"$f":"IF(AND(F459<>\"\",G459<>\"\",H459<>\"\",I459<>\"\",J459<>\"\"),Data!Q459-$E$4,\"\")","v":""},"","","","",{"$f":"IF(F459<>\"\",STDEV($Q$12:Q459),\"\")","v":""},""]
[449,null,{"$f":"RIGHT(Data!C460,10)","v":""},null,null,null,null,null,null,null,{"$f":"IFERROR($U$3*Data!M460/SQRT(COUNT(Data!F460:J460)),\"\")","v":""},"","",{"$f":"IF(COUNT(F460:J460)>=5,STDEV(F460:J460)*$U$3/SQRT((COUNT(F460:J460))),\"\")","v":""},{"$f":"IFERROR($U$4*SQRT($U$7^2+L460^2+K460^2+$U$5^2+N460^2),\"\")","v":""},"",{"$f":"IFERROR((Data!K460-$E$4),\"\")","v":""},{"$f":"IF(AND(F460<>\"\",G460<>\"\",H460<>\"\",I460<>\"\",J460<>\"\"),Data!Q460-$E$4,\"\")","v":""},{"$f":"IF(O460<>\"\",FIXED(X460,1) & \" ± \" & FIXED(O460+ABS(R460),2),\"\")","v":""},"","","",{"$f":"IF(F460<>\"\",STDEV($Q$12:Q460),\"\")","v":""},{"$f":"IF(F460<>\"\",AVERAGE(F460:J460),\"\")","v":""}]
[450,null,{"$f":"RIGHT(Data!C461,10)","v":""},null,null,null,null,null,null,null,{"$f":"IFERROR($U$3*Data!M461/SQRT(COUNT(Data!F461:J461)),\"\")","v":""},{"$f":"IF(F461<>\"\",V461*W461/SQRT(A461),\"\")","v":""},{"$f":"IF(F461<>\"\",$U$4*SQRT($U$7^2+L461^2+K461^2+$U$5^2),\"\")","v":""},"","",{"$f":"IF(AND(F461<>\"\",G461<>\"\",H461<>\"\",I461<>\"\",J461<>\"\"),AVERAGE(F461:J461),\"\")","v":""},{"$f":"IFERROR((Data!K461-$E$4),\"\")","v":""},{"$f":"IF(AND(F461<>\"\",G461<>\"\",H461<>\"\",I461<>\"\",J461<>\"\"),Data!Q461-$E$4,\"\")","v":""},"",{"$f":"IF(F461<>\"\",FIXED(AVERAGE(F461:J461)-R461,1) & \" ± \" & FIXED(O461,2),\"\")","v":""},{"$f":"IF(IO461=\"\",\"\",IO461-1)","v":""},{"$f":"IF(F461<>\"\",TINV(1-0.68,A461-1),\"\")","v":""},{"$f":"IF(F461<>\"\",STDEV($Q$12:Q461),\"\")","v":""},""]
[451,null,{"$f":"RIGHT(Data!C462,10)","v":""},null,null,null,null,null,null,null,{"$f":"IFERROR($U$3*Data!M462/SQRT(COUNT(Data!F462:J462)),\"\")","v":""},"","","","","",{"$f":"IFERROR((Data!K462-$E$4),\"\")","v":""},{"$f":"IF(AND(F462<>\"\",G462<>\"\",H462<>\"\",I462<>\"\",J462<>\"\"),Data!Q462-$E$4,\"\")","v":""},"","","","",{"$f":"IF(F462<>\"\",STDEV($Q$12:Q462),\"\")","v":""},""]
[452,null,{"$f":"RIGHT(Data!C463,10)","v":""},null,null,null,null,null,null,null,{"$f":"IFERROR($U$3*Data!M463/SQRT(COUNT(Data!F463:J463)),\"\")","v":""},"","","","","",{"$f":"IFERROR((Data!K463-$E$4),\"\")","v":""},{"$f":"IF(AND(F463<>\"\",G463<>\"\",H463<>\"\",I463<>\"\",J463<>\"\"),Data!Q463-$E$4,\"\")","v":""},"","","","",{"$f":"IF(F463<>\"\",STDEV($Q$12:Q463),\"\")","v":""},""]
[453,null,{"$f":"RIGHT(Data!C464,10)","v":""},null,null,null,null,null,null,null,{"$f":"IFERROR($U$3*Data!M464/SQRT(COUNT(Data!F464:J464)),\"\")","v":""},"","","","","",{"$f":"IFERROR((Data!K464-$E$4),\"\")","v":""},{"$f":"IF(AND(F464<>\"\",G464<>\"\",H464<>\"\",I464<>\"\",J464<>\"\"),Data!Q464-$E$4,\"\")","v":""},"","","","",{"$f":"IF(F464<>\"\",STDEV($Q$12:Q464),\"\")","v":""},""]
[454,null,{"$f":"RIGHT(Data!C465,10)","v":""},null,null,null,null,null,null,null,{"$f":"IFERROR($U$3*Data!M465/SQRT(COUNT(Data!F465:J465)),\"\")","v":""},"","","","","",{"$f":"IFERROR((Data!K465-$E$4),\"\")","v":""},{"$f":"IF(AND(F465<>\"\",G465<>\"\",H465<>\"\",I465<>\"\",J465<>\"\"),Data!Q465-$E$4,\"\")","v":""},"","","","",{"$f":"IF(F465<>\"\",STDEV($Q$12:Q465),\"\")","v":""},""]
[455,null,{"$f":"RIGHT(Data!C466,10)","v":""},null,null,null,null,null,null,null,{"$f":"IFERROR($U$3*Data!M466/SQRT(COUNT(Data!F466:J466)),\"\")","v":""},"","","","","",{"$f":"IFERROR((Data!K466-$E$4),\"\")","v":""},{"$f":"IF(AND(F466<>\"\",G466<>\"\",H466<>\"\",I466<>\"\",J466<>\"\"),Data!Q466-$E$4,\"\")","v":""},"","","","",{"$f":"IF(F466<>\"\",STDEV($Q$12:Q466),\"\")","v":""},""]
[456,null,{"$f":"RIGHT(Data!C467,10)","v":""},null,null,null,null,null,null,null,{"$f":"IFERROR($U$3*Data!M467/SQRT(COUNT(Data!F467:J467)),\"\")","v":""},"","","","","",{"$f":"IFERROR((Data!K467-$E$4),\"\")","v":""},{"$f":"IF(AND(F467<>\"\",G467<>\"\",H467<>\"\",I467<>\"\",J467<>\"\"),Data!Q467-$E$4,\"\")","v":""},"","","","",{"$f":"IF(F467<>\"\",STDEV($Q$12:Q467),\"\")","v":""},""]
[457,null,{"$f":"RIGHT(Data!C468,10)","v":""},null,null,null,null,null,null,null,{"$f":"IFERROR($U$3*Data!M468/SQRT(COUNT(Data!F468:J468)),\"\")","v":""},"","","","","",{"$f":"IFERROR((Data!K468-$E$4),\"\")","v":""},{"$f":"IF(AND(F468<>\"\",G468<>\"\",H468<>\"\",I468<>\"\",J468<>\"\"),Data!Q468-$E$4,\"\")","v":""},"","","","",{"$f":"IF(F468<>\"\",STDEV($Q$12:Q468),\"\")","v":""},""]
[458,null,{"$f":"RIGHT(Data!C469,10)","v":""},null,null,null,null,null,null,null,{"$f":"IFERROR($U$3*Data!M469/SQRT(COUNT(Data!F469:J469)),\"\")","v":""},"","","","","",{"$f":"IFERROR((Data!K469-$E$4),\"\")","v":""},{"$f":"IF(AND(F469<>\"\",G469<>\"\",H469<>\"\",I469<>\"\",J469<>\"\"),Data!Q469-$E$4,\"\")","v":""},"","","","",{"$f":"IF(F469<>\"\",STDEV($Q$12:Q469),\"\")","v":""},""]
[459,null,{"$f":"RIGHT(Data!C470,10)","v":""},null,null,null,null,null,null,null,{"$f":"IFERROR($U$3*Data!M470/SQRT(COUNT(Data!F470:J470)),\"\")","v":""},"","","","","",{"$f":"IFERROR((Data!K470-$E$4),\"\")","v":""},{"$f":"IF(AND(F470<>\"\",G470<>\"\",H470<>\"\",I470<>\"\",J470<>\"\"),Data!Q470-$E$4,\"\")","v":""},"","","","",{"$f":"IF(F470<>\"\",STDEV($Q$12:Q470),\"\")","v":""},""]
[460,null,{"$f":"RIGHT(Data!C471,10)","v":""},null,null,null,null,null,null,null,{"$f":"IFERROR($U$3*Data!M471/SQRT(COUNT(Data!F471:J471)),\"\")","v":""},"","","","","",{"$f":"IFERROR((Data!K471-$E$4),\"\")","v":""},{"$f":"IF(AND(F471<>\"\",G471<>\"\",H471<>\"\",I471<>\"\",J471<>\"\"),Data!Q471-$E$4,\"\")","v":""},"","","","",{"$f":"IF(F471<>\"\",STDEV($Q$12:Q471),\"\")","v":""},""]
[461,null,{"$f":"RIGHT(Data!C472,10)","v":""},null,null,null,null,null,null,null,{"$f":"IFERROR($U$3*Data!M472/SQRT(COUNT(Data!F472:J472)),\"\")","v":""},"","","","","",{"$f":"IFERROR((Data!K472-$E$4),\"\")","v":""},{"$f":"IF(AND(F472<>\"\",G472<>\"\",H472<>\"\",I472<>\"\",J472<>\"\"),Data!Q472-$E$4,\"\")","v":""},"","","","",{"$f":"IF(F472<>\"\",STDEV($Q$12:Q472),\"\")","v":""},""]
[462,null,{"$f":"RIGHT(Data!C473,10)","v":""},null,null,null,null,null,null,null,{"$f":"IFERROR($U$3*Data!M473/SQRT(COUNT(Data!F473:J473)),\"\")","v":""},"","","","","",{"$f":"IFERROR((Data!K473-$E$4),\"\")","v":""},{"$f":"IF(AND(F473<>\"\",G473<>\"\",H473<>\"\",I473<>\"\",J473<>\"\"),Data!Q473-$E$4,\"\")","v":""},"","","","",{"$f":"IF(F473<>\"\",STDEV($Q$12:Q473),\"\")","v":""},""]
[463,null,{"$f":"RIGHT(Data!C474,10)","v":""},null,null,null,null,null,null,null,{"$f":"IFERROR($U$3*Data!M474/SQRT(COUNT(Data!F474:J474)),\"\")","v":""},"","","","","",{"$f":"IFERROR((Data!K474-$E$4),\"\")","v":""},{"$f":"IF(AND(F474<>\"\",G474<>\"\",H474<>\"\",I474<>\"\",J474<>\"\"),Data!Q474-$E$4,\"\")","v":""},"","","","",{"$f":"IF(F474<>\"\",STDEV($Q$12:Q474),\"\")","v":""},""]
[464,null,{"$f":"RIGHT(Data!C475,10)","v":""},null,null,null,null,null,null,null,{"$f":"IFERROR($U$3*Data!M475/SQRT(COUNT(Data!F475:J475)),\"\")","v":""},"","","","","",{"$f":"IFERROR((Data!K475-$E$4),\"\")","v":""},{"$f":"IF(AND(F475<>\"\",G475<>\"\",H475<>\"\",I475<>\"\",J475<>\"\"),Data!Q475-$E$4,\"\")","v":""},"","","","",{"$f":"IF(F475<>\"\",STDEV($Q$12:Q475),\"\")","v":""},""]
[465,null,{"$f":"RIGHT(Data!C476,10)","v":""},null,null,null,null,null,null,null,{"$f":"IFERROR($U$3*Data!M476/SQRT(COUNT(Data!F476:J476)),\"\")","v":""},"","","","","",{"$f":"IFERROR((Data!K476-$E$4),\"\")","v":""},{"$f":"IF(AND(F476<>\"\",G476<>\"\",H476<>\"\",I476<>\"\",J476<>\"\"),Data!Q476-$E$4,\"\")","v":""},"","","","",{"$f":"IF(F476<>\"\",STDEV($Q$12:Q476),\"\")","v":""},""]
[466,null,{"$f":"RIGHT(Data!C477,10)","v":""},null,null,null,null,null,null,null,{"$f":"IFERROR($U$3*Data!M477/SQRT(COUNT(Data!F477:J477)),\"\")","v":""},"","","","","",{"$f":"IFERROR((Data!K477-$E$4),\"\")","v":""},{"$f":"IF(AND(F477<>\"\",G477<>\"\",H477<>\"\",I477<>\"\",J477<>\"\"),Data!Q477-$E$4,\"\")","v":""},"","","","",{"$f":"IF(F477<>\"\",STDEV($Q$12:Q477),\"\")","v":""},""]
[467,null,{"$f":"RIGHT(Data!C478,10)","v":""},null,null,null,null,null,null,null,{"$f":"IFERROR($U$3*Data!M478/SQRT(COUNT(Data!F478:J478)),\"\")","v":""},"","","","","",{"$f":"IFERROR((Data!K478-$E$4),\"\")","v":""},{"$f":"IF(AND(F478<>\"\",G478<>\"\",H478<>\"\",I478<>\"\",J478<>\"\"),Data!Q478-$E$4,\"\")","v":""},"","","","",{"$f":"IF(F478<>\"\",STDEV($Q$12:Q478),\"\")","v":""},""]
[468,null,{"$f":"RIGHT(Data!C479,10)","v":""},null,null,null,null,null,null,null,{"$f":"IFERROR($U$3*Data!M479/SQRT(COUNT(Data!F479:J479)),\"\")","v":""},"","","","","",{"$f":"IFERROR((Data!K479-$E$4),\"\")","v":""},{"$f":"IF(AND(F479<>\"\",G479<>\"\",H479<>\"\",I479<>\"\",J479<>\"\"),Data!Q479-$E$4,\"\")","v":""},"","","","",{"$f":"IF(F479<>\"\",STDEV($Q$12:Q479),\"\")","v":""},""]
[469,null,{"$f":"RIGHT(Data!C480,10)","v":""},null,null,null,null,null,null,null,{"$f":"IFERROR($U$3*Data!M480/SQRT(COUNT(Data!F480:J480)),\"\")","v":""},"","","","","",{"$f":"IFERROR((Data!K480-$E$4),\"\")","v":""},{"$f":"IF(AND(F480<>\"\",G480<>\"\",H480<>\"\",I480<>\"\",J480<>\"\"),Data!Q480-$E$4,\"\")","v":""},"","","","",{"$f":"IF(F480<>\"\",STDEV($Q$12:Q480),\"\")","v":""},""]
[470,null,{"$f":"RIGHT(Data!C481,10)","v":""},null,null,null,null,null,null,null,{"$f":"IFERROR($U$3*Data!M481/SQRT(COUNT(Data!F481:J481)),\"\")","v":""},"","","","","",{"$f":"IFERROR((Data!K481-$E$4),\"\")","v":""},{"$f":"IF(AND(F481<>\"\",G481<>\"\",H481<>\"\",I481<>\"\",J481<>\"\"),Data!Q481-$E$4,\"\")","v":""},"","","","",{"$f":"IF(F481<>\"\",STDEV($Q$12:Q481),\"\")","v":""},""]
[471,null,{"$f":"RIGHT(Data!C482,10)","v":""},null,null,null,null,null,null,null,{"$f":"IFERROR($U$3*Data!M482/SQRT(COUNT(Data!F482:J482)),\"\")","v":""},"","","","","",{"$f":"IFERROR((Data!K482-$E$4),\"\")","v":""},{"$f":"IF(AND(F482<>\"\",G482<>\"\",H482<>\"\",I482<>\"\",J482<>\"\"),Data!Q482-$E$4,\"\")","v":""},"","","","",{"$f":"IF(F482<>\"\",STDEV($Q$12:Q482),\"\")","v":""},""]
[472,null,{"$f":"RIGHT(Data!C483,10)","v":""},null,null,null,null,null,null,null,{"$f":"IFERROR($U$3*Data!M483/SQRT(COUNT(Data!F483:J483)),\"\")","v":""},"","","","","",{"$f":"IFERROR((Data!K483-$E$4),\"\")","v":""},{"$f":"IF(AND(F483<>\"\",G483<>\"\",H483<>\"\",I483<>\"\",J483<>\"\"),Data!Q483-$E$4,\"\")","v":""},"","","","",{"$f":"IF(F483<>\"\",STDEV($Q$12:Q483),\"\")","v":""},""]
[473,null,{"$f":"RIGHT(Data!C484,10)","v":""},null,null,null,null,null,null,null,{"$f":"IFERROR($U$3*Data!M484/SQRT(COUNT(Data!F484:J484)),\"\")","v":""},"","","","","",{"$f":"IFERROR((Data!K484-$E$4),\"\")","v":""},{"$f":"IF(AND(F484<>\"\",G484<>\"\",H484<>\"\",I484<>\"\",J484<>\"\"),Data!Q484-$E$4,\"\")","v":""},"","","","",{"$f":"IF(F484<>\"\",STDEV($Q$12:Q484),\"\")","v":""},""]
[474,null,{"$f":"RIGHT(Data!C485,10)","v":""},null,null,null,null,null,null,null,{"$f":"IFERROR($U$3*Data!M485/SQRT(COUNT(Data!F485:J485)),\"\")","v":""},"","","","","",{"$f":"IFERROR((Data!K485-$E$4),\"\")","v":""},{"$f":"IF(AND(F485<>\"\",G485<>\"\",H485<>\"\",I485<>\"\",J485<>\"\"),Data!Q485-$E$4,\"\")","v":""},"","","","",{"$f":"IF(F485<>\"\",STDEV($Q$12:Q485),\"\")","v":""},""]
[475,null,{"$f":"RIGHT(Data!C486,10)","v":""},null,null,null,null,null,null,null,{"$f":"IFERROR($U$3*Data!M486/SQRT(COUNT(Data!F486:J486)),\"\")","v":""},"","","","","",{"$f":"IFERROR((Data!K486-$E$4),\"\")","v":""},{"$f":"IF(AND(F486<>\"\",G486<>\"\",H486<>\"\",I486<>\"\",J486<>\"\"),Data!Q486-$E$4,\"\")","v":""},"","","","",{"$f":"IF(F486<>\"\",STDEV($Q$12:Q486),\"\")","v":""},""]
[476,null,{"$f":"RIGHT(Data!C487,10)","v":""},null,null,null,null,null,null,null,{"$f":"IFERROR($U$3*Data!M487/SQRT(COUNT(Data!F487:J487)),\"\")","v":""},"","","","","",{"$f":"IFERROR((Data!K487-$E$4),\"\")","v":""},{"$f":"IF(AND(F487<>\"\",G487<>\"\",H487<>\"\",I487<>\"\",J487<>\"\"),Data!Q487-$E$4,\"\")","v":""},"","","","",{"$f":"IF(F487<>\"\",STDEV($Q$12:Q487),\"\")","v":""},""]
[477,null,{"$f":"RIGHT(Data!C488,10)","v":""},null,null,null,null,null,null,null,{"$f":"IFERROR($U$3*Data!M488/SQRT(COUNT(Data!F488:J488)),\"\")","v":""},"","","","","",{"$f":"IFERROR((Data!K488-$E$4),\"\")","v":""},{"$f":"IF(AND(F488<>\"\",G488<>\"\",H488<>\"\",I488<>\"\",J488<>\"\"),Data!Q488-$E$4,\"\")","v":""},"","","","",{"$f":"IF(F488<>\"\",STDEV($Q$12:Q488),\"\")","v":""},""]
[478,null,{"$f":"RIGHT(Data!C489,10)","v":""},null,null,null,null,null,null,null,{"$f":"IFERROR($U$3*Data!M489/SQRT(COUNT(Data!F489:J489)),\"\")","v":""},"","","","","",{"$f":"IFERROR((Data!K489-$E$4),\"\")","v":""},{"$f":"IF(AND(F489<>\"\",G489<>\"\",H489<>\"\",I489<>\"\",J489<>\"\"),Data!Q489-$E$4,\"\")","v":""},"","","","",{"$f":"IF(F489<>\"\",STDEV($Q$12:Q489),\"\")","v":""},""]
[479,null,{"$f":"RIGHT(Data!C490,10)","v":""},null,null,null,null,null,null,null,{"$f":"IFERROR($U$3*Data!M490/SQRT(COUNT(Data!F490:J490)),\"\")","v":""},"","","","","",{"$f":"IFERROR((Data!K490-$E$4),\"\")","v":""},{"$f":"IF(AND(F490<>\"\",G490<>\"\",H490<>\"\",I490<>\"\",J490<>\"\"),Data!Q490-$E$4,\"\")","v":""},"","","","",{"$f":"IF(F490<>\"\",STDEV($Q$12:Q490),\"\")","v":""},""]
[480,null,{"$f":"RIGHT(Data!C491,10)","v":""},null,null,null,null,null,null,null,{"$f":"IFERROR($U$3*Data!M491/SQRT(COUNT(Data!F491:J491)),\"\")","v":""},"","","","","",{"$f":"IFERROR((Data!K491-$E$4),\"\")","v":""},{"$f":"IF(AND(F491<>\"\",G491<>\"\",H491<>\"\",I491<>\"\",J491<>\"\"),Data!Q491-$E$4,\"\")","v":""},"","","","",{"$f":"IF(F491<>\"\",STDEV($Q$12:Q491),\"\")","v":""},""]
[481,null,{"$f":"RIGHT(Data!C492,10)","v":""},null,null,null,null,null,null,null,{"$f":"IFERROR($U$3*Data!M492/SQRT(COUNT(Data!F492:J492)),\"\")","v":""},"","","","","",{"$f":"IFERROR((Data!K492-$E$4),\"\")","v":""},{"$f":"IF(AND(F492<>\"\",G492<>\"\",H492<>\"\",I492<>\"\",J492<>\"\"),Data!Q492-$E$4,\"\")","v":""},"","","","",{"$f":"IF(F492<>\"\",STDEV($Q$12:Q492),\"\")","v":""},""]
[482,null,{"$f":"RIGHT(Data!C493,10)","v":""},null,null,null,null,null,null,null,{"$f":"IFERROR($U$3*Data!M493/SQRT(COUNT(Data!F493:J493)),\"\")","v":""},"","","","","",{"$f":"IFERROR((Data!K493-$E$4),\"\")","v":""},{"$f":"IF(AND(F493<>\"\",G493<>\"\",H493<>\"\",I493<>\"\",J493<>\"\"),Data!Q493-$E$4,\"\")","v":""},"","","","",{"$f":"IF(F493<>\"\",STDEV($Q$12:Q493),\"\")","v":""},""]
[483,null,{"$f":"RIGHT(Data!C494,10)","v":""},null,null,null,null,null,null,null,{"$f":"IFERROR($U$3*Data!M494/SQRT(COUNT(Data!F494:J494)),\"\")","v":""},"","","","","",{"$f":"IFERROR((Data!K494-$E$4),\"\")","v":""},{"$f":"IF(AND(F494<>\"\",G494<>\"\",H494<>\"\",I494<>\"\",J494<>\"\"),Data!Q494-$E$4,\"\")","v":""},"","","","",{"$f":"IF(F494<>\"\",STDEV($Q$12:Q494),\"\")","v":""},""]
[484,null,{"$f":"RIGHT(Data!C495,10)","v":""},null,null,null,null,null,null,null,{"$f":"IFERROR($U$3*Data!M495/SQRT(COUNT(Data!F495:J495)),\"\")","v":""},"","","","","",{"$f":"IFERROR((Data!K495-$E$4),\"\")","v":""},{"$f":"IF(AND(F495<>\"\",G495<>\"\",H495<>\"\",I495<>\"\",J495<>\"\"),Data!Q495-$E$4,\"\")","v":""},"","","","",{"$f":"IF(F495<>\"\",STDEV($Q$12:Q495),\"\")","v":""},""]
[485,null,{"$f":"RIGHT(Data!C496,10)","v":""},null,null,null,null,null,null,null,{"$f":"IFERROR($U$3*Data!M496/SQRT(COUNT(Data!F496:J496)),\"\")","v":""},"","","","","",{"$f":"IFERROR((Data!K496-$E$4),\"\")","v":""},{"$f":"IF(AND(F496<>\"\",G496<>\"\",H496<>\"\",I496<>\"\",J496<>\"\"),Data!Q496-$E$4,\"\")","v":""},"","","","",{"$f":"IF(F496<>\"\",STDEV($Q$12:Q496),\"\")","v":""},""]
[486,null,{"$f":"RIGHT(Data!C497,10)","v":""},null,null,null,null,null,null,null,{"$f":"IFERROR($U$3*Data!M497/SQRT(COUNT(Data!F497:J497)),\"\")","v":""},"","","","","",{"$f":"IFERROR((Data!K497-$E$4),\"\")","v":""},{"$f":"IF(AND(F497<>\"\",G497<>\"\",H497<>\"\",I497<>\"\",J497<>\"\"),Data!Q497-$E$4,\"\")","v":""},"","","","",{"$f":"IF(F497<>\"\",STDEV($Q$12:Q497),\"\")","v":""},""]
[487,null,{"$f":"RIGHT(Data!C498,10)","v":""},null,null,null,null,null,null,null,{"$f":"IFERROR($U$3*Data!M498/SQRT(COUNT(Data!F498:J498)),\"\")","v":""},"","","","","",{"$f":"IFERROR((Data!K498-$E$4),\"\")","v":""},{"$f":"IF(AND(F498<>\"\",G498<>\"\",H498<>\"\",I498<>\"\",J498<>\"\"),Data!Q498-$E$4,\"\")","v":""},"","","","",{"$f":"IF(F498<>\"\",STDEV($Q$12:Q498),\"\")","v":""},""]
[488,null,{"$f":"RIGHT(Data!C499,10)","v":""},null,null,null,null,null,null,null,{"$f":"IFERROR($U$3*Data!M499/SQRT(COUNT(Data!F499:J499)),\"\")","v":""},"","","","","",{"$f":"IFERROR((Data!K499-$E$4),\"\")","v":""},{"$f":"IF(AND(F499<>\"\",G499<>\"\",H499<>\"\",I499<>\"\",J499<>\"\"),Data!Q499-$E$4,\"\")","v":""},"","","","",{"$f":"IF(F499<>\"\",STDEV($Q$12:Q499),\"\")","v":""},""]
[489,null,{"$f":"RIGHT(Data!C500,10)","v":""},null,null,null,null,null,null,null,{"$f":"IFERROR($U$3*Data!M500/SQRT(COUNT(Data!F500:J500)),\"\")","v":""},"","","","","",{"$f":"IFERROR((Data!K500-$E$4),\"\")","v":""},{"$f":"IF(AND(F500<>\"\",G500<>\"\",H500<>\"\",I500<>\"\",J500<>\"\"),Data!Q500-$E$4,\"\")","v":""},"","","","",{"$f":"IF(F500<>\"\",STDEV($Q$12:Q500),\"\")","v":""},""]
[490,null,{"$f":"RIGHT(Data!C501,10)","v":""},null,null,null,null,null,null,null,{"$f":"IFERROR($U$3*Data!M501/SQRT(COUNT(Data!F501:J501)),\"\")","v":""},"","","","","",{"$f":"IFERROR((Data!K501-$E$4),\"\")","v":""},{"$f":"IF(AND(F501<>\"\",G501<>\"\",H501<>\"\",I501<>\"\",J501<>\"\"),Data!Q501-$E$4,\"\")","v":""},"","","","",{"$f":"IF(F501<>\"\",STDEV($Q$12:Q501),\"\")","v":""},""]
[491,null,{"$f":"RIGHT(Data!C502,10)","v":""},null,null,null,null,null,null,null,{"$f":"IFERROR($U$3*Data!M502/SQRT(COUNT(Data!F502:J502)),\"\")","v":""},"","","","","",{"$f":"IFERROR((Data!K502-$E$4),\"\")","v":""},{"$f":"IF(AND(F502<>\"\",G502<>\"\",H502<>\"\",I502<>\"\",J502<>\"\"),Data!Q502-$E$4,\"\")","v":""},"","","","",{"$f":"IF(F502<>\"\",STDEV($Q$12:Q502),\"\")","v":""},""]
[492,null,{"$f":"RIGHT(Data!C503,10)","v":""},null,null,null,null,null,null,null,{"$f":"IFERROR($U$3*Data!M503/SQRT(COUNT(Data!F503:J503)),\"\")","v":""},"","","","","",{"$f":"IFERROR((Data!K503-$E$4),\"\")","v":""},{"$f":"IF(AND(F503<>\"\",G503<>\"\",H503<>\"\",I503<>\"\",J503<>\"\"),Data!Q503-$E$4,\"\")","v":""},"","","","",{"$f":"IF(F503<>\"\",STDEV($Q$12:Q503),\"\")","v":""},""]
[493,null,{"$f":"RIGHT(Data!C504,10)","v":""},null,null,null,null,null,null,null,{"$f":"IFERROR($U$3*Data!M504/SQRT(COUNT(Data!F504:J504)),\"\")","v":""},"","","","","",{"$f":"IFERROR((Data!K504-$E$4),\"\")","v":""},{"$f":"IF(AND(F504<>\"\",G504<>\"\",H504<>\"\",I504<>\"\",J504<>\"\"),Data!Q504-$E$4,\"\")","v":""},"","","","",{"$f":"IF(F504<>\"\",STDEV($Q$12:Q504),\"\")","v":""},""]
[494,null,{"$f":"RIGHT(Data!C505,10)","v":""},null,null,null,null,null,null,null,{"$f":"IFERROR($U$3*Data!M505/SQRT(COUNT(Data!F505:J505)),\"\")","v":""},"","","","","",{"$f":"IFERROR((Data!K505-$E$4),\"\")","v":""},{"$f":"IF(AND(F505<>\"\",G505<>\"\",H505<>\"\",I505<>\"\",J505<>\"\"),Data!Q505-$E$4,\"\")","v":""},"","","","",{"$f":"IF(F505<>\"\",STDEV($Q$12:Q505),\"\")","v":""},""]
[495,null,{"$f":"RIGHT(Data!C506,10)","v":""},null,null,null,null,null,null,null,{"$f":"IFERROR($U$3*Data!M506/SQRT(COUNT(Data!F506:J506)),\"\")","v":""},"","","","","",{"$f":"IFERROR((Data!K506-$E$4),\"\")","v":""},{"$f":"IF(AND(F506<>\"\",G506<>\"\",H506<>\"\",I506<>\"\",J506<>\"\"),Data!Q506-$E$4,\"\")","v":""},"","","","",{"$f":"IF(F506<>\"\",STDEV($Q$12:Q506),\"\")","v":""},""]
[496,null,{"$f":"RIGHT(Data!C507,10)","v":""},null,null,null,null,null,null,null,{"$f":"IFERROR($U$3*Data!M507/SQRT(COUNT(Data!F507:J507)),\"\")","v":""},"","","","","",{"$f":"IFERROR((Data!K507-$E$4),\"\")","v":""},{"$f":"IF(AND(F507<>\"\",G507<>\"\",H507<>\"\",I507<>\"\",J507<>\"\"),Data!Q507-$E$4,\"\")","v":""},"","","","",{"$f":"IF(F507<>\"\",STDEV($Q$12:Q507),\"\")","v":""},""]
[497,null,{"$f":"RIGHT(Data!C508,10)","v":""},null,null,null,null,null,null,null,{"$f":"IFERROR($U$3*Data!M508/SQRT(COUNT(Data!F508:J508)),\"\")","v":""},"","","","","",{"$f":"IFERROR((Data!K508-$E$4),\"\")","v":""},{"$f":"IF(AND(F508<>\"\",G508<>\"\",H508<>\"\",I508<>\"\",J508<>\"\"),Data!Q508-$E$4,\"\")","v":""},"","","","",{"$f":"IF(F508<>\"\",STDEV($Q$12:Q508),\"\")","v":""},""]
[498,null,{"$f":"RIGHT(Data!C509,10)","v":""},null,null,null,null,null,null,null,{"$f":"IFERROR($U$3*Data!M509/SQRT(COUNT(Data!F509:J509)),\"\")","v":""},"","","","","",{"$f":"IFERROR((Data!K509-$E$4),\"\")","v":""},{"$f":"IF(AND(F509<>\"\",G509<>\"\",H509<>\"\",I509<>\"\",J509<>\"\"),Data!Q509-$E$4,\"\")","v":""},"","","","",{"$f":"IF(F509<>\"\",STDEV($Q$12:Q509),\"\")","v":""},""]
[499,null,{"$f":"RIGHT(Data!C510,10)","v":""},null,null,null,null,null,null,null,{"$f":"IFERROR($U$3*Data!M510/SQRT(COUNT(Data!F510:J510)),\"\")","v":""},"","","","","",{"$f":"IFERROR((Data!K510-$E$4),\"\")","v":""},{"$f":"IF(AND(F510<>\"\",G510<>\"\",H510<>\"\",I510<>\"\",J510<>\"\"),Data!Q510-$E$4,\"\")","v":""},"","","","",{"$f":"IF(F510<>\"\",STDEV($Q$12:Q510),\"\")","v":""},""]
[500,null,{"$f":"RIGHT(Data!C511,10)","v":""},null,null,null,null,null,null,null,{"$f":"IFERROR($U$3*Data!M511/SQRT(COUNT(Data!F511:J511)),\"\")","v":""},"","","","","",{"$f":"IFERROR((Data!K511-$E$4),\"\")","v":""},{"$f":"IF(AND(F511<>\"\",G511<>\"\",H511<>\"\",I511<>\"\",J511<>\"\"),Data!Q511-$E$4,\"\")","v":""},"","","","",{"$f":"IF(F511<>\"\",STDEV($Q$12:Q511),\"\")","v":""},""]
[501,null,{"$f":"RIGHT(Data!C512,10)","v":""},null,null,null,null,null,null,null,{"$f":"IFERROR($U$3*Data!M512/SQRT(COUNT(Data!F512:J512)),\"\")","v":""},"","","","","",{"$f":"IFERROR((Data!K512-$E$4),\"\")","v":""},{"$f":"IF(AND(F512<>\"\",G512<>\"\",H512<>\"\",I512<>\"\",J512<>\"\"),Data!Q512-$E$4,\"\")","v":""},"","","","",{"$f":"IF(F512<>\"\",STDEV($Q$12:Q512),\"\")","v":""},""]
[502,null,{"$f":"RIGHT(Data!C513,10)","v":""},null,null,null,null,null,null,null,{"$f":"IFERROR($U$3*Data!M513/SQRT(COUNT(Data!F513:J513)),\"\")","v":""},"","","","","",{"$f":"IFERROR((Data!K513-$E$4),\"\")","v":""},{"$f":"IF(AND(F513<>\"\",G513<>\"\",H513<>\"\",I513<>\"\",J513<>\"\"),Data!Q513-$E$4,\"\")","v":""},"","","","",{"$f":"IF(F513<>\"\",STDEV($Q$12:Q513),\"\")","v":""},""]
[503,null,{"$f":"RIGHT(Data!C514,10)","v":""},null,null,null,null,null,null,null,{"$f":"IFERROR($U$3*Data!M514/SQRT(COUNT(Data!F514:J514)),\"\")","v":""},"","","","","",{"$f":"IFERROR((Data!K514-$E$4),\"\")","v":""},{"$f":"IF(AND(F514<>\"\",G514<>\"\",H514<>\"\",I514<>\"\",J514<>\"\"),Data!Q514-$E$4,\"\")","v":""},"","","","",{"$f":"IF(F514<>\"\",STDEV($Q$12:Q514),\"\")","v":""},""]
[504,null,{"$f":"RIGHT(Data!C515,10)","v":""},null,null,null,null,null,null,null,{"$f":"IFERROR($U$3*Data!M515/SQRT(COUNT(Data!F515:J515)),\"\")","v":""},"","","","","",{"$f":"IFERROR((Data!K515-$E$4),\"\")","v":""},{"$f":"IF(AND(F515<>\"\",G515<>\"\",H515<>\"\",I515<>\"\",J515<>\"\"),Data!Q515-$E$4,\"\")","v":""},"","","","",{"$f":"IF(F515<>\"\",STDEV($Q$12:Q515),\"\")","v":""},""]
[505,null,{"$f":"RIGHT(Data!C516,10)","v":""},null,null,null,null,null,null,null,{"$f":"IFERROR($U$3*Data!M516/SQRT(COUNT(Data!F516:J516)),\"\")","v":""},"","","","","",{"$f":"IFERROR((Data!K516-$E$4),\"\")","v":""},{"$f":"IF(AND(F516<>\"\",G516<>\"\",H516<>\"\",I516<>\"\",J516<>\"\"),Data!Q516-$E$4,\"\")","v":""},"","","","",{"$f":"IF(F516<>\"\",STDEV($Q$12:Q516),\"\")","v":""},""]
[506,null,{"$f":"RIGHT(Data!C517,10)","v":""},null,null,null,null,null,null,null,{"$f":"IFERROR($U$3*Data!M517/SQRT(COUNT(Data!F517:J517)),\"\")","v":""},"","","","","",{"$f":"IFERROR((Data!K517-$E$4),\"\")","v":""},{"$f":"IF(AND(F517<>\"\",G517<>\"\",H517<>\"\",I517<>\"\",J517<>\"\"),Data!Q517-$E$4,\"\")","v":""},"","","","",{"$f":"IF(F517<>\"\",STDEV($Q$12:Q517),\"\")","v":""},""]
[507,null,{"$f":"RIGHT(Data!C518,10)","v":""},null,null,null,null,null,null,null,{"$f":"IFERROR($U$3*Data!M518/SQRT(COUNT(Data!F518:J518)),\"\")","v":""},"","","","","",{"$f":"IFERROR((Data!K518-$E$4),\"\")","v":""},{"$f":"IF(AND(F518<>\"\",G518<>\"\",H518<>\"\",I518<>\"\",J518<>\"\"),Data!Q518-$E$4,\"\")","v":""},"","","","",{"$f":"IF(F518<>\"\",STDEV($Q$12:Q518),\"\")","v":""},""]
[508,null,{"$f":"RIGHT(Data!C519,10)","v":""},null,null,null,null,null,null,null,{"$f":"IFERROR($U$3*Data!M519/SQRT(COUNT(Data!F519:J519)),\"\")","v":""},"","","","","",{"$f":"IFERROR((Data!K519-$E$4),\"\")","v":""},{"$f":"IF(AND(F519<>\"\",G519<>\"\",H519<>\"\",I519<>\"\",J519<>\"\"),Data!Q519-$E$4,\"\")","v":""},"","","","",{"$f":"IF(F519<>\"\",STDEV($Q$12:Q519),\"\")","v":""},""]
[509,null,{"$f":"RIGHT(Data!C520,10)","v":""},null,null,null,null,null,null,null,{"$f":"IFERROR($U$3*Data!M520/SQRT(COUNT(Data!F520:J520)),\"\")","v":""},"","","","","",{"$f":"IFERROR((Data!K520-$E$4),\"\")","v":""},{"$f":"IF(AND(F520<>\"\",G520<>\"\",H520<>\"\",I520<>\"\",J520<>\"\"),Data!Q520-$E$4,\"\")","v":""},"","","","",{"$f":"IF(F520<>\"\",STDEV($Q$12:Q520),\"\")","v":""},""]
[510,null,{"$f":"RIGHT(Data!C521,10)","v":""},null,null,null,null,null,null,null,{"$f":"IFERROR($U$3*Data!M521/SQRT(COUNT(Data!F521:J521)),\"\")","v":""},"","","","","",{"$f":"IFERROR((Data!K521-$E$4),\"\")","v":""},{"$f":"IF(AND(F521<>\"\",G521<>\"\",H521<>\"\",I521<>\"\",J521<>\"\"),Data!Q521-$E$4,\"\")","v":""},"","","","",{"$f":"IF(F521<>\"\",STDEV($Q$12:Q521),\"\")","v":""},""]
[511,null,{"$f":"RIGHT(Data!C522,10)","v":""},null,null,null,null,null,null,null,{"$f":"IFERROR($U$3*Data!M522/SQRT(COUNT(Data!F522:J522)),\"\")","v":""},"","","","","",{"$f":"IFERROR((Data!K522-$E$4),\"\")","v":""},{"$f":"IF(AND(F522<>\"\",G522<>\"\",H522<>\"\",I522<>\"\",J522<>\"\"),Data!Q522-$E$4,\"\")","v":""},"","","","",{"$f":"IF(F522<>\"\",STDEV($Q$12:Q522),\"\")","v":""},""]
[512,null,{"$f":"RIGHT(Data!C523,10)","v":""},null,null,null,null,null,null,null,{"$f":"IFERROR($U$3*Data!M523/SQRT(COUNT(Data!F523:J523)),\"\")","v":""},"","","","","",{"$f":"IFERROR((Data!K523-$E$4),\"\")","v":""},{"$f":"IF(AND(F523<>\"\",G523<>\"\",H523<>\"\",I523<>\"\",J523<>\"\"),Data!Q523-$E$4,\"\")","v":""},"","","","",{"$f":"IF(F523<>\"\",STDEV($Q$12:Q523),\"\")","v":""},""]
[513,null,{"$f":"RIGHT(Data!C524,10)","v":""},null,null,null,null,null,null,null,{"$f":"IFERROR($U$3*Data!M524/SQRT(COUNT(Data!F524:J524)),\"\")","v":""},"","",{"$f":"IF(COUNT(F524:J524)>=5,STDEV(F524:J524)*$U$3/SQRT((COUNT(F524:J524))),\"\")","v":""},{"$f":"IFERROR($U$4*SQRT($U$7^2+L524^2+K524^2+$U$5^2+N524^2),\"\")","v":""},"",{"$f":"IFERROR((Data!K524-$E$4),\"\")","v":""},{"$f":"IF(AND(F524<>\"\",G524<>\"\",H524<>\"\",I524<>\"\",J524<>\"\"),Data!Q524-$E$4,\"\")","v":""},{"$f":"IF(O524<>\"\",FIXED(X524,1) & \" ± \" & FIXED(O524+ABS(R524),2),\"\")","v":""},"","","",{"$f":"IF(F524<>\"\",STDEV($Q$12:Q524),\"\")","v":""},{"$f":"IF(F524<>\"\",AVERAGE(F524:J524),\"\")","v":""}]
[514,null,{"$f":"RIGHT(Data!C525,10)","v":""},null,null,null,null,null,null,null,{"$f":"IFERROR($U$3*Data!M525/SQRT(COUNT(Data!F525:J525)),\"\")","v":""},{"$f":"IF(F525<>\"\",V525*W525/SQRT(A525),\"\")","v":""},{"$f":"IF(F525<>\"\",$U$4*SQRT($U$7^2+L525^2+K525^2+$U$5^2),\"\")","v":""},"","",{"$f":"IF(AND(F525<>\"\",G525<>\"\",H525<>\"\",I525<>\"\",J525<>\"\"),AVERAGE(F525:J525),\"\")","v":""},{"$f":"IFERROR((Data!K525-$E$4),\"\")","v":""},{"$f":"IF(AND(F525<>\"\",G525<>\"\",H525<>\"\",I525<>\"\",J525<>\"\"),Data!Q525-$E$4,\"\")","v":""},"",{"$f":"IF(F525<>\"\",FIXED(AVERAGE(F525:J525)-R525,1) & \" ± \" & FIXED(O525,2),\"\")","v":""},{"$f":"IF(IO525=\"\",\"\",IO525-1)","v":""},{"$f":"IF(F525<>\"\",TINV(1-0.68,A525-1),\"\")","v":""},{"$f":"IF(F525<>\"\",STDEV($Q$12:Q525),\"\")","v":""},""]
[515,null,{"$f":"RIGHT(Data!C526,10)","v":""},null,null,null,null,null,null,null,{"$f":"IFERROR($U$3*Data!M526/SQRT(COUNT(Data!F526:J526)),\"\")","v":""},"","","","","",{"$f":"IFERROR((Data!K526-$E$4),\"\")","v":""},{"$f":"IF(AND(F526<>\"\",G526<>\"\",H526<>\"\",I526<>\"\",J526<>\"\"),Data!Q526-$E$4,\"\")","v":""},"","","","",{"$f":"IF(F526<>\"\",STDEV($Q$12:Q526),\"\")","v":""},""]
[516,null,{"$f":"RIGHT(Data!C527,10)","v":""},null,null,null,null,null,null,null,{"$f":"IFERROR($U$3*Data!M527/SQRT(COUNT(Data!F527:J527)),\"\")","v":""},"","","","","",{"$f":"IFERROR((Data!K527-$E$4),\"\")","v":""},{"$f":"IF(AND(F527<>\"\",G527<>\"\",H527<>\"\",I527<>\"\",J527<>\"\"),Data!Q527-$E$4,\"\")","v":""},"","","","",{"$f":"IF(F527<>\"\",STDEV($Q$12:Q527),\"\")","v":""},""]
[517,null,{"$f":"RIGHT(Data!C528,10)","v":""},null,null,null,null,null,null,null,{"$f":"IFERROR($U$3*Data!M528/SQRT(COUNT(Data!F528:J528)),\"\")","v":""},"","","","","",{"$f":"IFERROR((Data!K528-$E$4),\"\")","v":""},{"$f":"IF(AND(F528<>\"\",G528<>\"\",H528<>\"\",I528<>\"\",J528<>\"\"),Data!Q528-$E$4,\"\")","v":""},"","","","",{"$f":"IF(F528<>\"\",STDEV($Q$12:Q528),\"\")","v":""},""]
[518,null,{"$f":"RIGHT(Data!C529,10)","v":""},null,null,null,null,null,null,null,{"$f":"IFERROR($U$3*Data!M529/SQRT(COUNT(Data!F529:J529)),\"\")","v":""},"","","","","",{"$f":"IFERROR((Data!K529-$E$4),\"\")","v":""},{"$f":"IF(AND(F529<>\"\",G529<>\"\",H529<>\"\",I529<>\"\",J529<>\"\"),Data!Q529-$E$4,\"\")","v":""},"","","","",{"$f":"IF(F529<>\"\",STDEV($Q$12:Q529),\"\")","v":""},""]
[519,null,{"$f":"RIGHT(Data!C530,10)","v":""},null,null,null,null,null,null,null,{"$f":"IFERROR($U$3*Data!M530/SQRT(COUNT(Data!F530:J530)),\"\")","v":""},"","","","","",{"$f":"IFERROR((Data!K530-$E$4),\"\")","v":""},{"$f":"IF(AND(F530<>\"\",G530<>\"\",H530<>\"\",I530<>\"\",J530<>\"\"),Data!Q530-$E$4,\"\")","v":""},"","","","",{"$f":"IF(F530<>\"\",STDEV($Q$12:Q530),\"\")","v":""},""]
[520,null,{"$f":"RIGHT(Data!C531,10)","v":""},null,null,null,null,null,null,null,{"$f":"IFERROR($U$3*Data!M531/SQRT(COUNT(Data!F531:J531)),\"\")","v":""},"","","","","",{"$f":"IFERROR((Data!K531-$E$4),\"\")","v":""},{"$f":"IF(AND(F531<>\"\",G531<>\"\",H531<>\"\",I531<>\"\",J531<>\"\"),Data!Q531-$E$4,\"\")","v":""},"","","","",{"$f":"IF(F531<>\"\",STDEV($Q$12:Q531),\"\")","v":""},""]
[521,null,{"$f":"RIGHT(Data!C532,10)","v":""},null,null,null,null,null,null,null,{"$f":"IFERROR($U$3*Data!M532/SQRT(COUNT(Data!F532:J532)),\"\")","v":""},"","","","","",{"$f":"IFERROR((Data!K532-$E$4),\"\")","v":""},{"$f":"IF(AND(F532<>\"\",G532<>\"\",H532<>\"\",I532<>\"\",J532<>\"\"),Data!Q532-$E$4,\"\")","v":""},"","","","",{"$f":"IF(F532<>\"\",STDEV($Q$12:Q532),\"\")","v":""},""]
[522,null,{"$f":"RIGHT(Data!C533,10)","v":""},null,null,null,null,null,null,null,{"$f":"IFERROR($U$3*Data!M533/SQRT(COUNT(Data!F533:J533)),\"\")","v":""},"","","","","",{"$f":"IFERROR((Data!K533-$E$4),\"\")","v":""},{"$f":"IF(AND(F533<>\"\",G533<>\"\",H533<>\"\",I533<>\"\",J533<>\"\"),Data!Q533-$E$4,\"\")","v":""},"","","","",{"$f":"IF(F533<>\"\",STDEV($Q$12:Q533),\"\")","v":""},""]
[523,null,{"$f":"RIGHT(Data!C534,10)","v":""},null,null,null,null,null,null,null,{"$f":"IFERROR($U$3*Data!M534/SQRT(COUNT(Data!F534:J534)),\"\")","v":""},"","","","","",{"$f":"IFERROR((Data!K534-$E$4),\"\")","v":""},{"$f":"IF(AND(F534<>\"\",G534<>\"\",H534<>\"\",I534<>\"\",J534<>\"\"),Data!Q534-$E$4,\"\")","v":""},"","","","",{"$f":"IF(F534<>\"\",STDEV($Q$12:Q534),\"\")","v":""},""]
[524,null,{"$f":"RIGHT(Data!C535,10)","v":""},null,null,null,null,null,null,null,{"$f":"IFERROR($U$3*Data!M535/SQRT(COUNT(Data!F535:J535)),\"\")","v":""},"","","","","",{"$f":"IFERROR((Data!K535-$E$4),\"\")","v":""},{"$f":"IF(AND(F535<>\"\",G535<>\"\",H535<>\"\",I535<>\"\",J535<>\"\"),Data!Q535-$E$4,\"\")","v":""},"","","","",{"$f":"IF(F535<>\"\",STDEV($Q$12:Q535),\"\")","v":""},""]
[525,null,{"$f":"RIGHT(Data!C536,10)","v":""},null,null,null,null,null,null,null,{"$f":"IFERROR($U$3*Data!M536/SQRT(COUNT(Data!F536:J536)),\"\")","v":""},"","","","","",{"$f":"IFERROR((Data!K536-$E$4),\"\")","v":""},{"$f":"IF(AND(F536<>\"\",G536<>\"\",H536<>\"\",I536<>\"\",J536<>\"\"),Data!Q536-$E$4,\"\")","v":""},"","","","",{"$f":"IF(F536<>\"\",STDEV($Q$12:Q536),\"\")","v":""},""]
[526,null,{"$f":"RIGHT(Data!C537,10)","v":""},null,null,null,null,null,null,null,{"$f":"IFERROR($U$3*Data!M537/SQRT(COUNT(Data!F537:J537)),\"\")","v":""},"","","","","",{"$f":"IFERROR((Data!K537-$E$4),\"\")","v":""},{"$f":"IF(AND(F537<>\"\",G537<>\"\",H537<>\"\",I537<>\"\",J537<>\"\"),Data!Q537-$E$4,\"\")","v":""},"","","","",{"$f":"IF(F537<>\"\",STDEV($Q$12:Q537),\"\")","v":""},""]
[527,null,{"$f":"RIGHT(Data!C538,10)","v":""},null,null,null,null,null,null,null,{"$f":"IFERROR($U$3*Data!M538/SQRT(COUNT(Data!F538:J538)),\"\")","v":""},"","","","","",{"$f":"IFERROR((Data!K538-$E$4),\"\")","v":""},{"$f":"IF(AND(F538<>\"\",G538<>\"\",H538<>\"\",I538<>\"\",J538<>\"\"),Data!Q538-$E$4,\"\")","v":""},"","","","",{"$f":"IF(F538<>\"\",STDEV($Q$12:Q538),\"\")","v":""},""]
[528,null,{"$f":"RIGHT(Data!C539,10)","v":""},null,null,null,null,null,null,null,{"$f":"IFERROR($U$3*Data!M539/SQRT(COUNT(Data!F539:J539)),\"\")","v":""},"","","","","",{"$f":"IFERROR((Data!K539-$E$4),\"\")","v":""},{"$f":"IF(AND(F539<>\"\",G539<>\"\",H539<>\"\",I539<>\"\",J539<>\"\"),Data!Q539-$E$4,\"\")","v":""},"","","","",{"$f":"IF(F539<>\"\",STDEV($Q$12:Q539),\"\")","v":""},""]
[529,null,{"$f":"RIGHT(Data!C540,10)","v":""},null,null,null,null,null,null,null,{"$f":"IFERROR($U$3*Data!M540/SQRT(COUNT(Data!F540:J540)),\"\")","v":""},"","","","","",{"$f":"IFERROR((Data!K540-$E$4),\"\")","v":""},{"$f":"IF(AND(F540<>\"\",G540<>\"\",H540<>\"\",I540<>\"\",J540<>\"\"),Data!Q540-$E$4,\"\")","v":""},"","","","",{"$f":"IF(F540<>\"\",STDEV($Q$12:Q540),\"\")","v":""},""]
[530,null,{"$f":"RIGHT(Data!C541,10)","v":""},null,null,null,null,null,null,null,{"$f":"IFERROR($U$3*Data!M541/SQRT(COUNT(Data!F541:J541)),\"\")","v":""},"","","","","",{"$f":"IFERROR((Data!K541-$E$4),\"\")","v":""},{"$f":"IF(AND(F541<>\"\",G541<>\"\",H541<>\"\",I541<>\"\",J541<>\"\"),Data!Q541-$E$4,\"\")","v":""},"","","","",{"$f":"IF(F541<>\"\",STDEV($Q$12:Q541),\"\")","v":""},""]
[531,null,{"$f":"RIGHT(Data!C542,10)","v":""},null,null,null,null,null,null,null,{"$f":"IFERROR($U$3*Data!M542/SQRT(COUNT(Data!F542:J542)),\"\")","v":""},"","","","","",{"$f":"IFERROR((Data!K542-$E$4),\"\")","v":""},{"$f":"IF(AND(F542<>\"\",G542<>\"\",H542<>\"\",I542<>\"\",J542<>\"\"),Data!Q542-$E$4,\"\")","v":""},"","","","",{"$f":"IF(F542<>\"\",STDEV($Q$12:Q542),\"\")","v":""},""]
[532,null,{"$f":"RIGHT(Data!C543,10)","v":""},null,null,null,null,null,null,null,{"$f":"IFERROR($U$3*Data!M543/SQRT(COUNT(Data!F543:J543)),\"\")","v":""},"","","","","",{"$f":"IFERROR((Data!K543-$E$4),\"\")","v":""},{"$f":"IF(AND(F543<>\"\",G543<>\"\",H543<>\"\",I543<>\"\",J543<>\"\"),Data!Q543-$E$4,\"\")","v":""},"","","","",{"$f":"IF(F543<>\"\",STDEV($Q$12:Q543),\"\")","v":""},""]
[533,null,{"$f":"RIGHT(Data!C544,10)","v":""},null,null,null,null,null,null,null,{"$f":"IFERROR($U$3*Data!M544/SQRT(COUNT(Data!F544:J544)),\"\")","v":""},"","","","","",{"$f":"IFERROR((Data!K544-$E$4),\"\")","v":""},{"$f":"IF(AND(F544<>\"\",G544<>\"\",H544<>\"\",I544<>\"\",J544<>\"\"),Data!Q544-$E$4,\"\")","v":""},"","","","",{"$f":"IF(F544<>\"\",STDEV($Q$12:Q544),\"\")","v":""},""]
[534,null,{"$f":"RIGHT(Data!C545,10)","v":""},null,null,null,null,null,null,null,{"$f":"IFERROR($U$3*Data!M545/SQRT(COUNT(Data!F545:J545)),\"\")","v":""},"","","","","",{"$f":"IFERROR((Data!K545-$E$4),\"\")","v":""},{"$f":"IF(AND(F545<>\"\",G545<>\"\",H545<>\"\",I545<>\"\",J545<>\"\"),Data!Q545-$E$4,\"\")","v":""},"","","","",{"$f":"IF(F545<>\"\",STDEV($Q$12:Q545),\"\")","v":""},""]
[535,null,{"$f":"RIGHT(Data!C546,10)","v":""},null,null,null,null,null,null,null,{"$f":"IFERROR($U$3*Data!M546/SQRT(COUNT(Data!F546:J546)),\"\")","v":""},"","","","","",{"$f":"IFERROR((Data!K546-$E$4),\"\")","v":""},{"$f":"IF(AND(F546<>\"\",G546<>\"\",H546<>\"\",I546<>\"\",J546<>\"\"),Data!Q546-$E$4,\"\")","v":""},"","","","",{"$f":"IF(F546<>\"\",STDEV($Q$12:Q546),\"\")","v":""},""]
[536,null,{"$f":"RIGHT(Data!C547,10)","v":""},null,null,null,null,null,null,null,{"$f":"IFERROR($U$3*Data!M547/SQRT(COUNT(Data!F547:J547)),\"\")","v":""},"","","","","",{"$f":"IFERROR((Data!K547-$E$4),\"\")","v":""},{"$f":"IF(AND(F547<>\"\",G547<>\"\",H547<>\"\",I547<>\"\",J547<>\"\"),Data!Q547-$E$4,\"\")","v":""},"","","","",{"$f":"IF(F547<>\"\",STDEV($Q$12:Q547),\"\")","v":""},""]
[537,null,{"$f":"RIGHT(Data!C548,10)","v":""},null,null,null,null,null,null,null,{"$f":"IFERROR($U$3*Data!M548/SQRT(COUNT(Data!F548:J548)),\"\")","v":""},"","","","","",{"$f":"IFERROR((Data!K548-$E$4),\"\")","v":""},{"$f":"IF(AND(F548<>\"\",G548<>\"\",H548<>\"\",I548<>\"\",J548<>\"\"),Data!Q548-$E$4,\"\")","v":""},"","","","",{"$f":"IF(F548<>\"\",STDEV($Q$12:Q548),\"\")","v":""},""]
[538,null,{"$f":"RIGHT(Data!C549,10)","v":""},null,null,null,null,null,null,null,{"$f":"IFERROR($U$3*Data!M549/SQRT(COUNT(Data!F549:J549)),\"\")","v":""},"","","","","",{"$f":"IFERROR((Data!K549-$E$4),\"\")","v":""},{"$f":"IF(AND(F549<>\"\",G549<>\"\",H549<>\"\",I549<>\"\",J549<>\"\"),Data!Q549-$E$4,\"\")","v":""},"","","","",{"$f":"IF(F549<>\"\",STDEV($Q$12:Q549),\"\")","v":""},""]
[539,null,{"$f":"RIGHT(Data!C550,10)","v":""},null,null,null,null,null,null,null,{"$f":"IFERROR($U$3*Data!M550/SQRT(COUNT(Data!F550:J550)),\"\")","v":""},"","","","","",{"$f":"IFERROR((Data!K550-$E$4),\"\")","v":""},{"$f":"IF(AND(F550<>\"\",G550<>\"\",H550<>\"\",I550<>\"\",J550<>\"\"),Data!Q550-$E$4,\"\")","v":""},"","","","",{"$f":"IF(F550<>\"\",STDEV($Q$12:Q550),\"\")","v":""},""]
[540,null,{"$f":"RIGHT(Data!C551,10)","v":""},null,null,null,null,null,null,null,{"$f":"IFERROR($U$3*Data!M551/SQRT(COUNT(Data!F551:J551)),\"\")","v":""},"","","","","",{"$f":"IFERROR((Data!K551-$E$4),\"\")","v":""},{"$f":"IF(AND(F551<>\"\",G551<>\"\",H551<>\"\",I551<>\"\",J551<>\"\"),Data!Q551-$E$4,\"\")","v":""},"","","","",{"$f":"IF(F551<>\"\",STDEV($Q$12:Q551),\"\")","v":""},""]
[541,null,{"$f":"RIGHT(Data!C552,10)","v":""},null,null,null,null,null,null,null,{"$f":"IFERROR($U$3*Data!M552/SQRT(COUNT(Data!F552:J552)),\"\")","v":""},"","","","","",{"$f":"IFERROR((Data!K552-$E$4),\"\")","v":""},{"$f":"IF(AND(F552<>\"\",G552<>\"\",H552<>\"\",I552<>\"\",J552<>\"\"),Data!Q552-$E$4,\"\")","v":""},"","","","",{"$f":"IF(F552<>\"\",STDEV($Q$12:Q552),\"\")","v":""},""]
[542,null,{"$f":"RIGHT(Data!C553,10)","v":""},null,null,null,null,null,null,null,{"$f":"IFERROR($U$3*Data!M553/SQRT(COUNT(Data!F553:J553)),\"\")","v":""},"","","","","",{"$f":"IFERROR((Data!K553-$E$4),\"\")","v":""},{"$f":"IF(AND(F553<>\"\",G553<>\"\",H553<>\"\",I553<>\"\",J553<>\"\"),Data!Q553-$E$4,\"\")","v":""},"","","","",{"$f":"IF(F553<>\"\",STDEV($Q$12:Q553),\"\")","v":""},""]
[543,null,{"$f":"RIGHT(Data!C554,10)","v":""},null,null,null,null,null,null,null,{"$f":"IFERROR($U$3*Data!M554/SQRT(COUNT(Data!F554:J554)),\"\")","v":""},"","","","","",{"$f":"IFERROR((Data!K554-$E$4),\"\")","v":""},{"$f":"IF(AND(F554<>\"\",G554<>\"\",H554<>\"\",I554<>\"\",J554<>\"\"),Data!Q554-$E$4,\"\")","v":""},"","","","",{"$f":"IF(F554<>\"\",STDEV($Q$12:Q554),\"\")","v":""},""]
[544,null,{"$f":"RIGHT(Data!C555,10)","v":""},null,null,null,null,null,null,null,{"$f":"IFERROR($U$3*Data!M555/SQRT(COUNT(Data!F555:J555)),\"\")","v":""},"","","","","",{"$f":"IFERROR((Data!K555-$E$4),\"\")","v":""},{"$f":"IF(AND(F555<>\"\",G555<>\"\",H555<>\"\",I555<>\"\",J555<>\"\"),Data!Q555-$E$4,\"\")","v":""},"","","","",{"$f":"IF(F555<>\"\",STDEV($Q$12:Q555),\"\")","v":""},""]
[545,null,{"$f":"RIGHT(Data!C556,10)","v":""},null,null,null,null,null,null,null,{"$f":"IFERROR($U$3*Data!M556/SQRT(COUNT(Data!F556:J556)),\"\")","v":""},"","","","","",{"$f":"IFERROR((Data!K556-$E$4),\"\")","v":""},{"$f":"IF(AND(F556<>\"\",G556<>\"\",H556<>\"\",I556<>\"\",J556<>\"\"),Data!Q556-$E$4,\"\")","v":""},"","","","",{"$f":"IF(F556<>\"\",STDEV($Q$12:Q556),\"\")","v":""},""]
[546,null,{"$f":"RIGHT(Data!C557,10)","v":""},null,null,null,null,null,null,null,{"$f":"IFERROR($U$3*Data!M557/SQRT(COUNT(Data!F557:J557)),\"\")","v":""},"","","","","",{"$f":"IFERROR((Data!K557-$E$4),\"\")","v":""},{"$f":"IF(AND(F557<>\"\",G557<>\"\",H557<>\"\",I557<>\"\",J557<>\"\"),Data!Q557-$E$4,\"\")","v":""},"","","","",{"$f":"IF(F557<>\"\",STDEV($Q$12:Q557),\"\")","v":""},""]
[547,null,{"$f":"RIGHT(Data!C558,10)","v":""},null,null,null,null,null,null,null,{"$f":"IFERROR($U$3*Data!M558/SQRT(COUNT(Data!F558:J558)),\"\")","v":""},"","","","","",{"$f":"IFERROR((Data!K558-$E$4),\"\")","v":""},{"$f":"IF(AND(F558<>\"\",G558<>\"\",H558<>\"\",I558<>\"\",J558<>\"\"),Data!Q558-$E$4,\"\")","v":""},"","","","",{"$f":"IF(F558<>\"\",STDEV($Q$12:Q558),\"\")","v":""},""]
[548,null,{"$f":"RIGHT(Data!C559,10)","v":""},null,null,null,null,null,null,null,{"$f":"IFERROR($U$3*Data!M559/SQRT(COUNT(Data!F559:J559)),\"\")","v":""},"","","","","",{"$f":"IFERROR((Data!K559-$E$4),\"\")","v":""},{"$f":"IF(AND(F559<>\"\",G559<>\"\",H559<>\"\",I559<>\"\",J559<>\"\"),Data!Q559-$E$4,\"\")","v":""},"","","","",{"$f":"IF(F559<>\"\",STDEV($Q$12:Q559),\"\")","v":""},""]
[549,null,{"$f":"RIGHT(Data!C560,10)","v":""},null,null,null,null,null,null,null,{"$f":"IFERROR($U$3*Data!M560/SQRT(COUNT(Data!F560:J560)),\"\")","v":""},"","","","","",{"$f":"IFERROR((Data!K560-$E$4),\"\")","v":""},{"$f":"IF(AND(F560<>\"\",G560<>\"\",H560<>\"\",I560<>\"\",J560<>\"\"),Data!Q560-$E$4,\"\")","v":""},"","","","",{"$f":"IF(F560<>\"\",STDEV($Q$12:Q560),\"\")","v":""},""]
[550,null,{"$f":"RIGHT(Data!C561,10)","v":""},null,null,null,null,null,null,null,{"$f":"IFERROR($U$3*Data!M561/SQRT(COUNT(Data!F561:J561)),\"\")","v":""},"","","","","",{"$f":"IFERROR((Data!K561-$E$4),\"\")","v":""},{"$f":"IF(AND(F561<>\"\",G561<>\"\",H561<>\"\",I561<>\"\",J561<>\"\"),Data!Q561-$E$4,\"\")","v":""},"","","","",{"$f":"IF(F561<>\"\",STDEV($Q$12:Q561),\"\")","v":""},""]
[551,null,{"$f":"RIGHT(Data!C562,10)","v":""},null,null,null,null,null,null,null,{"$f":"IFERROR($U$3*Data!M562/SQRT(COUNT(Data!F562:J562)),\"\")","v":""},"","","","","",{"$f":"IFERROR((Data!K562-$E$4),\"\")","v":""},{"$f":"IF(AND(F562<>\"\",G562<>\"\",H562<>\"\",I562<>\"\",J562<>\"\"),Data!Q562-$E$4,\"\")","v":""},"","","","",{"$f":"IF(F562<>\"\",STDEV($Q$12:Q562),\"\")","v":""},""]
[552,null,{"$f":"RIGHT(Data!C563,10)","v":""},null,null,null,null,null,null,null,{"$f":"IFERROR($U$3*Data!M563/SQRT(COUNT(Data!F563:J563)),\"\")","v":""},"","","","","",{"$f":"IFERROR((Data!K563-$E$4),\"\")","v":""},{"$f":"IF(AND(F563<>\"\",G563<>\"\",H563<>\"\",I563<>\"\",J563<>\"\"),Data!Q563-$E$4,\"\")","v":""},"","","","",{"$f":"IF(F563<>\"\",STDEV($Q$12:Q563),\"\")","v":""},""]
[553,null,{"$f":"RIGHT(Data!C564,10)","v":""},null,null,null,null,null,null,null,{"$f":"IFERROR($U$3*Data!M564/SQRT(COUNT(Data!F564:J564)),\"\")","v":""},"","","","","",{"$f":"IFERROR((Data!K564-$E$4),\"\")","v":""},{"$f":"IF(AND(F564<>\"\",G564<>\"\",H564<>\"\",I564<>\"\",J564<>\"\"),Data!Q564-$E$4,\"\")","v":""},"","","","",{"$f":"IF(F564<>\"\",STDEV($Q$12:Q564),\"\")","v":""},""]
[554,null,{"$f":"RIGHT(Data!C565,10)","v":""},null,null,null,null,null,null,null,{"$f":"IFERROR($U$3*Data!M565/SQRT(COUNT(Data!F565:J565)),\"\")","v":""},"","","","","",{"$f":"IFERROR((Data!K565-$E$4),\"\")","v":""},{"$f":"IF(AND(F565<>\"\",G565<>\"\",H565<>\"\",I565<>\"\",J565<>\"\"),Data!Q565-$E$4,\"\")","v":""},"","","","",{"$f":"IF(F565<>\"\",STDEV($Q$12:Q565),\"\")","v":""},""]
[555,null,{"$f":"RIGHT(Data!C566,10)","v":""},null,null,null,null,null,null,null,{"$f":"IFERROR($U$3*Data!M566/SQRT(COUNT(Data!F566:J566)),\"\")","v":""},"","","","","",{"$f":"IFERROR((Data!K566-$E$4),\"\")","v":""},{"$f":"IF(AND(F566<>\"\",G566<>\"\",H566<>\"\",I566<>\"\",J566<>\"\"),Data!Q566-$E$4,\"\")","v":""},"","","","",{"$f":"IF(F566<>\"\",STDEV($Q$12:Q566),\"\")","v":""},""]
[556,null,{"$f":"RIGHT(Data!C567,10)","v":""},null,null,null,null,null,null,null,{"$f":"IFERROR($U$3*Data!M567/SQRT(COUNT(Data!F567:J567)),\"\")","v":""},"","","","","",{"$f":"IFERROR((Data!K567-$E$4),\"\")","v":""},{"$f":"IF(AND(F567<>\"\",G567<>\"\",H567<>\"\",I567<>\"\",J567<>\"\"),Data!Q567-$E$4,\"\")","v":""},"","","","",{"$f":"IF(F567<>\"\",STDEV($Q$12:Q567),\"\")","v":""},""]
[557,null,{"$f":"RIGHT(Data!C568,10)","v":""},null,null,null,null,null,null,null,{"$f":"IFERROR($U$3*Data!M568/SQRT(COUNT(Data!F568:J568)),\"\")","v":""},"","","","","",{"$f":"IFERROR((Data!K568-$E$4),\"\")","v":""},{"$f":"IF(AND(F568<>\"\",G568<>\"\",H568<>\"\",I568<>\"\",J568<>\"\"),Data!Q568-$E$4,\"\")","v":""},"","","","",{"$f":"IF(F568<>\"\",STDEV($Q$12:Q568),\"\")","v":""},""]
[558,null,{"$f":"RIGHT(Data!C569,10)","v":""},null,null,null,null,null,null,null,{"$f":"IFERROR($U$3*Data!M569/SQRT(COUNT(Data!F569:J569)),\"\")","v":""},"","","","","",{"$f":"IFERROR((Data!K569-$E$4),\"\")","v":""},{"$f":"IF(AND(F569<>\"\",G569<>\"\",H569<>\"\",I569<>\"\",J569<>\"\"),Data!Q569-$E$4,\"\")","v":""},"","","","",{"$f":"IF(F569<>\"\",STDEV($Q$12:Q569),\"\")","v":""},""]
[559,null,{"$f":"RIGHT(Data!C570,10)","v":""},null,null,null,null,null,null,null,{"$f":"IFERROR($U$3*Data!M570/SQRT(COUNT(Data!F570:J570)),\"\")","v":""},"","","","","",{"$f":"IFERROR((Data!K570-$E$4),\"\")","v":""},{"$f":"IF(AND(F570<>\"\",G570<>\"\",H570<>\"\",I570<>\"\",J570<>\"\"),Data!Q570-$E$4,\"\")","v":""},"","","","",{"$f":"IF(F570<>\"\",STDEV($Q$12:Q570),\"\")","v":""},""]
[560,null,{"$f":"RIGHT(Data!C571,10)","v":""},null,null,null,null,null,null,null,{"$f":"IFERROR($U$3*Data!M571/SQRT(COUNT(Data!F571:J571)),\"\")","v":""},"","","","","",{"$f":"IFERROR((Data!K571-$E$4),\"\")","v":""},{"$f":"IF(AND(F571<>\"\",G571<>\"\",H571<>\"\",I571<>\"\",J571<>\"\"),Data!Q571-$E$4,\"\")","v":""},"","","","",{"$f":"IF(F571<>\"\",STDEV($Q$12:Q571),\"\")","v":""},""]
[561,null,{"$f":"RIGHT(Data!C572,10)","v":""},null,null,null,null,null,null,null,{"$f":"IFERROR($U$3*Data!M572/SQRT(COUNT(Data!F572:J572)),\"\")","v":""},"","","","","",{"$f":"IFERROR((Data!K572-$E$4),\"\")","v":""},{"$f":"IF(AND(F572<>\"\",G572<>\"\",H572<>\"\",I572<>\"\",J572<>\"\"),Data!Q572-$E$4,\"\")","v":""},"","","","",{"$f":"IF(F572<>\"\",STDEV($Q$12:Q572),\"\")","v":""},""]
[562,null,{"$f":"RIGHT(Data!C573,10)","v":""},null,null,null,null,null,null,null,{"$f":"IFERROR($U$3*Data!M573/SQRT(COUNT(Data!F573:J573)),\"\")","v":""},"","","","","",{"$f":"IFERROR((Data!K573-$E$4),\"\")","v":""},{"$f":"IF(AND(F573<>\"\",G573<>\"\",H573<>\"\",I573<>\"\",J573<>\"\"),Data!Q573-$E$4,\"\")","v":""},"","","","",{"$f":"IF(F573<>\"\",STDEV($Q$12:Q573),\"\")","v":""},""]
[563,null,{"$f":"RIGHT(Data!C574,10)","v":""},null,null,null,null,null,null,null,{"$f":"IFERROR($U$3*Data!M574/SQRT(COUNT(Data!F574:J574)),\"\")","v":""},"","","","","",{"$f":"IFERROR((Data!K574-$E$4),\"\")","v":""},{"$f":"IF(AND(F574<>\"\",G574<>\"\",H574<>\"\",I574<>\"\",J574<>\"\"),Data!Q574-$E$4,\"\")","v":""},"","","","",{"$f":"IF(F574<>\"\",STDEV($Q$12:Q574),\"\")","v":""},""]
[564,null,{"$f":"RIGHT(Data!C575,10)","v":""},null,null,null,null,null,null,null,{"$f":"IFERROR($U$3*Data!M575/SQRT(COUNT(Data!F575:J575)),\"\")","v":""},"","","","","",{"$f":"IFERROR((Data!K575-$E$4),\"\")","v":""},{"$f":"IF(AND(F575<>\"\",G575<>\"\",H575<>\"\",I575<>\"\",J575<>\"\"),Data!Q575-$E$4,\"\")","v":""},"","","","",{"$f":"IF(F575<>\"\",STDEV($Q$12:Q575),\"\")","v":""},""]
[565,null,{"$f":"RIGHT(Data!C576,10)","v":""},null,null,null,null,null,null,null,{"$f":"IFERROR($U$3*Data!M576/SQRT(COUNT(Data!F576:J576)),\"\")","v":""},"","","","","",{"$f":"IFERROR((Data!K576-$E$4),\"\")","v":""},{"$f":"IF(AND(F576<>\"\",G576<>\"\",H576<>\"\",I576<>\"\",J576<>\"\"),Data!Q576-$E$4,\"\")","v":""},"","","","",{"$f":"IF(F576<>\"\",STDEV($Q$12:Q576),\"\")","v":""},""]
[566,null,{"$f":"RIGHT(Data!C577,10)","v":""},null,null,null,null,null,null,null,{"$f":"IFERROR($U$3*Data!M577/SQRT(COUNT(Data!F577:J577)),\"\")","v":""},"","","","","",{"$f":"IFERROR((Data!K577-$E$4),\"\")","v":""},{"$f":"IF(AND(F577<>\"\",G577<>\"\",H577<>\"\",I577<>\"\",J577<>\"\"),Data!Q577-$E$4,\"\")","v":""},"","","","",{"$f":"IF(F577<>\"\",STDEV($Q$12:Q577),\"\")","v":""},""]
[567,null,{"$f":"RIGHT(Data!C578,10)","v":""},null,null,null,null,null,null,null,{"$f":"IFERROR($U$3*Data!M578/SQRT(COUNT(Data!F578:J578)),\"\")","v":""},"","","","","",{"$f":"IFERROR((Data!K578-$E$4),\"\")","v":""},{"$f":"IF(AND(F578<>\"\",G578<>\"\",H578<>\"\",I578<>\"\",J578<>\"\"),Data!Q578-$E$4,\"\")","v":""},"","","","",{"$f":"IF(F578<>\"\",STDEV($Q$12:Q578),\"\")","v":""},""]
[568,null,{"$f":"RIGHT(Data!C579,10)","v":""},null,null,null,null,null,null,null,{"$f":"IFERROR($U$3*Data!M579/SQRT(COUNT(Data!F579:J579)),\"\")","v":""},"","","","","",{"$f":"IFERROR((Data!K579-$E$4),\"\")","v":""},{"$f":"IF(AND(F579<>\"\",G579<>\"\",H579<>\"\",I579<>\"\",J579<>\"\"),Data!Q579-$E$4,\"\")","v":""},"","","","",{"$f":"IF(F579<>\"\",STDEV($Q$12:Q579),\"\")","v":""},""]
[569,null,{"$f":"RIGHT(Data!C580,10)","v":""},null,null,null,null,null,null,null,{"$f":"IFERROR($U$3*Data!M580/SQRT(COUNT(Data!F580:J580)),\"\")","v":""},"","","","","",{"$f":"IFERROR((Data!K580-$E$4),\"\")","v":""},{"$f":"IF(AND(F580<>\"\",G580<>\"\",H580<>\"\",I580<>\"\",J580<>\"\"),Data!Q580-$E$4,\"\")","v":""},"","","","",{"$f":"IF(F580<>\"\",STDEV($Q$12:Q580),\"\")","v":""},""]
[570,null,{"$f":"RIGHT(Data!C581,10)","v":""},null,null,null,null,null,null,null,{"$f":"IFERROR($U$3*Data!M581/SQRT(COUNT(Data!F581:J581)),\"\")","v":""},"","","","","",{"$f":"IFERROR((Data!K581-$E$4),\"\")","v":""},{"$f":"IF(AND(F581<>\"\",G581<>\"\",H581<>\"\",I581<>\"\",J581<>\"\"),Data!Q581-$E$4,\"\")","v":""},"","","","",{"$f":"IF(F581<>\"\",STDEV($Q$12:Q581),\"\")","v":""},""]
[571,null,{"$f":"RIGHT(Data!C582,10)","v":""},null,null,null,null,null,null,null,{"$f":"IFERROR($U$3*Data!M582/SQRT(COUNT(Data!F582:J582)),\"\")","v":""},"","","","","",{"$f":"IFERROR((Data!K582-$E$4),\"\")","v":""},{"$f":"IF(AND(F582<>\"\",G582<>\"\",H582<>\"\",I582<>\"\",J582<>\"\"),Data!Q582-$E$4,\"\")","v":""},"","","","",{"$f":"IF(F582<>\"\",STDEV($Q$12:Q582),\"\")","v":""},""]
[572,null,{"$f":"RIGHT(Data!C583,10)","v":""},null,null,null,null,null,null,null,{"$f":"IFERROR($U$3*Data!M583/SQRT(COUNT(Data!F583:J583)),\"\")","v":""},"","","","","",{"$f":"IFERROR((Data!K583-$E$4),\"\")","v":""},{"$f":"IF(AND(F583<>\"\",G583<>\"\",H583<>\"\",I583<>\"\",J583<>\"\"),Data!Q583-$E$4,\"\")","v":""},"","","","",{"$f":"IF(F583<>\"\",STDEV($Q$12:Q583),\"\")","v":""},""]
[573,null,{"$f":"RIGHT(Data!C584,10)","v":""},null,null,null,null,null,null,null,{"$f":"IFERROR($U$3*Data!M584/SQRT(COUNT(Data!F584:J584)),\"\")","v":""},"","","","","",{"$f":"IFERROR((Data!K584-$E$4),\"\")","v":""},{"$f":"IF(AND(F584<>\"\",G584<>\"\",H584<>\"\",I584<>\"\",J584<>\"\"),Data!Q584-$E$4,\"\")","v":""},"","","","",{"$f":"IF(F584<>\"\",STDEV($Q$12:Q584),\"\")","v":""},""]
[574,null,{"$f":"RIGHT(Data!C585,10)","v":""},null,null,null,null,null,null,null,{"$f":"IFERROR($U$3*Data!M585/SQRT(COUNT(Data!F585:J585)),\"\")","v":""},"","","","","",{"$f":"IFERROR((Data!K585-$E$4),\"\")","v":""},{"$f":"IF(AND(F585<>\"\",G585<>\"\",H585<>\"\",I585<>\"\",J585<>\"\"),Data!Q585-$E$4,\"\")","v":""},"","","","",{"$f":"IF(F585<>\"\",STDEV($Q$12:Q585),\"\")","v":""},""]
[575,null,{"$f":"RIGHT(Data!C586,10)","v":""},null,null,null,null,null,null,null,{"$f":"IFERROR($U$3*Data!M586/SQRT(COUNT(Data!F586:J586)),\"\")","v":""},"","","","","",{"$f":"IFERROR((Data!K586-$E$4),\"\")","v":""},{"$f":"IF(AND(F586<>\"\",G586<>\"\",H586<>\"\",I586<>\"\",J586<>\"\"),Data!Q586-$E$4,\"\")","v":""},"","","","",{"$f":"IF(F586<>\"\",STDEV($Q$12:Q586),\"\")","v":""},""]
[576,null,{"$f":"RIGHT(Data!C587,10)","v":""},null,null,null,null,null,null,null,{"$f":"IFERROR($U$3*Data!M587/SQRT(COUNT(Data!F587:J587)),\"\")","v":""},"","","","","",{"$f":"IFERROR((Data!K587-$E$4),\"\")","v":""},{"$f":"IF(AND(F587<>\"\",G587<>\"\",H587<>\"\",I587<>\"\",J587<>\"\"),Data!Q587-$E$4,\"\")","v":""},"","","","",{"$f":"IF(F587<>\"\",STDEV($Q$12:Q587),\"\")","v":""},""]
[577,null,{"$f":"RIGHT(Data!C588,10)","v":""},null,null,null,null,null,null,null,{"$f":"IFERROR($U$3*Data!M588/SQRT(COUNT(Data!F588:J588)),\"\")","v":""},"","",{"$f":"IF(COUNT(F588:J588)>=5,STDEV(F588:J588)*$U$3/SQRT((COUNT(F588:J588))),\"\")","v":""},{"$f":"IFERROR($U$4*SQRT($U$7^2+L588^2+K588^2+$U$5^2+N588^2),\"\")","v":""},"",{"$f":"IFERROR((Data!K588-$E$4),\"\")","v":""},{"$f":"IF(AND(F588<>\"\",G588<>\"\",H588<>\"\",I588<>\"\",J588<>\"\"),Data!Q588-$E$4,\"\")","v":""},{"$f":"IF(O588<>\"\",FIXED(X588,1) & \" ± \" & FIXED(O588+ABS(R588),2),\"\")","v":""},"","","",{"$f":"IF(F588<>\"\",STDEV($Q$12:Q588),\"\")","v":""},{"$f":"IF(F588<>\"\",AVERAGE(F588:J588),\"\")","v":""}]
[578,null,{"$f":"RIGHT(Data!C589,10)","v":""},null,null,null,null,null,null,null,{"$f":"IFERROR($U$3*Data!M589/SQRT(COUNT(Data!F589:J589)),\"\")","v":""},{"$f":"IF(F589<>\"\",V589*W589/SQRT(A589),\"\")","v":""},{"$f":"IF(F589<>\"\",$U$4*SQRT($U$7^2+L589^2+K589^2+$U$5^2),\"\")","v":""},"","",{"$f":"IF(AND(F589<>\"\",G589<>\"\",H589<>\"\",I589<>\"\",J589<>\"\"),AVERAGE(F589:J589),\"\")","v":""},{"$f":"IFERROR((Data!K589-$E$4),\"\")","v":""},{"$f":"IF(AND(F589<>\"\",G589<>\"\",H589<>\"\",I589<>\"\",J589<>\"\"),Data!Q589-$E$4,\"\")","v":""},"",{"$f":"IF(F589<>\"\",FIXED(AVERAGE(F589:J589)-R589,1) & \" ± \" & FIXED(O589,2),\"\")","v":""},{"$f":"IF(IO589=\"\",\"\",IO589-1)","v":""},{"$f":"IF(F589<>\"\",TINV(1-0.68,A589-1),\"\")","v":""},{"$f":"IF(F589<>\"\",STDEV($Q$12:Q589),\"\")","v":""},""]
[579,null,{"$f":"RIGHT(Data!C590,10)","v":""},null,null,null,null,null,null,null,{"$f":"IFERROR($U$3*Data!M590/SQRT(COUNT(Data!F590:J590)),\"\")","v":""},"","","","","",{"$f":"IFERROR((Data!K590-$E$4),\"\")","v":""},{"$f":"IF(AND(F590<>\"\",G590<>\"\",H590<>\"\",I590<>\"\",J590<>\"\"),Data!Q590-$E$4,\"\")","v":""},"","","","",{"$f":"IF(F590<>\"\",STDEV($Q$12:Q590),\"\")","v":""},""]
[580,null,{"$f":"RIGHT(Data!C591,10)","v":""},null,null,null,null,null,null,null,{"$f":"IFERROR($U$3*Data!M591/SQRT(COUNT(Data!F591:J591)),\"\")","v":""},"","","","","",{"$f":"IFERROR((Data!K591-$E$4),\"\")","v":""},{"$f":"IF(AND(F591<>\"\",G591<>\"\",H591<>\"\",I591<>\"\",J591<>\"\"),Data!Q591-$E$4,\"\")","v":""},"","","","",{"$f":"IF(F591<>\"\",STDEV($Q$12:Q591),\"\")","v":""},""]
[581,null,{"$f":"RIGHT(Data!C592,10)","v":""},null,null,null,null,null,null,null,{"$f":"IFERROR($U$3*Data!M592/SQRT(COUNT(Data!F592:J592)),\"\")","v":""},"","","","","",{"$f":"IFERROR((Data!K592-$E$4),\"\")","v":""},{"$f":"IF(AND(F592<>\"\",G592<>\"\",H592<>\"\",I592<>\"\",J592<>\"\"),Data!Q592-$E$4,\"\")","v":""},"","","","",{"$f":"IF(F592<>\"\",STDEV($Q$12:Q592),\"\")","v":""},""]
[582,null,{"$f":"RIGHT(Data!C593,10)","v":""},null,null,null,null,null,null,null,{"$f":"IFERROR($U$3*Data!M593/SQRT(COUNT(Data!F593:J593)),\"\")","v":""},"","","","","",{"$f":"IFERROR((Data!K593-$E$4),\"\")","v":""},{"$f":"IF(AND(F593<>\"\",G593<>\"\",H593<>\"\",I593<>\"\",J593<>\"\"),Data!Q593-$E$4,\"\")","v":""},"","","","",{"$f":"IF(F593<>\"\",STDEV($Q$12:Q593),\"\")","v":""},""]
[583,null,{"$f":"RIGHT(Data!C594,10)","v":""},null,null,null,null,null,null,null,{"$f":"IFERROR($U$3*Data!M594/SQRT(COUNT(Data!F594:J594)),\"\")","v":""},"","","","","",{"$f":"IFERROR((Data!K594-$E$4),\"\")","v":""},{"$f":"IF(AND(F594<>\"\",G594<>\"\",H594<>\"\",I594<>\"\",J594<>\"\"),Data!Q594-$E$4,\"\")","v":""},"","","","",{"$f":"IF(F594<>\"\",STDEV($Q$12:Q594),\"\")","v":""},""]
[584,null,{"$f":"RIGHT(Data!C595,10)","v":""},null,null,null,null,null,null,null,{"$f":"IFERROR($U$3*Data!M595/SQRT(COUNT(Data!F595:J595)),\"\")","v":""},"","","","","",{"$f":"IFERROR((Data!K595-$E$4),\"\")","v":""},{"$f":"IF(AND(F595<>\"\",G595<>\"\",H595<>\"\",I595<>\"\",J595<>\"\"),Data!Q595-$E$4,\"\")","v":""},"","","","",{"$f":"IF(F595<>\"\",STDEV($Q$12:Q595),\"\")","v":""},""]
[585,null,{"$f":"RIGHT(Data!C596,10)","v":""},null,null,null,null,null,null,null,{"$f":"IFERROR($U$3*Data!M596/SQRT(COUNT(Data!F596:J596)),\"\")","v":""},"","","","","",{"$f":"IFERROR((Data!K596-$E$4),\"\")","v":""},{"$f":"IF(AND(F596<>\"\",G596<>\"\",H596<>\"\",I596<>\"\",J596<>\"\"),Data!Q596-$E$4,\"\")","v":""},"","","","",{"$f":"IF(F596<>\"\",STDEV($Q$12:Q596),\"\")","v":""},""]
[586,null,{"$f":"RIGHT(Data!C597,10)","v":""},null,null,null,null,null,null,null,{"$f":"IFERROR($U$3*Data!M597/SQRT(COUNT(Data!F597:J597)),\"\")","v":""},"","","","","",{"$f":"IFERROR((Data!K597-$E$4),\"\")","v":""},{"$f":"IF(AND(F597<>\"\",G597<>\"\",H597<>\"\",I597<>\"\",J597<>\"\"),Data!Q597-$E$4,\"\")","v":""},"","","","",{"$f":"IF(F597<>\"\",STDEV($Q$12:Q597),\"\")","v":""},""]
[587,null,{"$f":"RIGHT(Data!C598,10)","v":""},null,null,null,null,null,null,null,{"$f":"IFERROR($U$3*Data!M598/SQRT(COUNT(Data!F598:J598)),\"\")","v":""},"","","","","",{"$f":"IFERROR((Data!K598-$E$4),\"\")","v":""},{"$f":"IF(AND(F598<>\"\",G598<>\"\",H598<>\"\",I598<>\"\",J598<>\"\"),Data!Q598-$E$4,\"\")","v":""},"","","","",{"$f":"IF(F598<>\"\",STDEV($Q$12:Q598),\"\")","v":""},""]
[588,null,{"$f":"RIGHT(Data!C599,10)","v":""},null,null,null,null,null,null,null,{"$f":"IFERROR($U$3*Data!M599/SQRT(COUNT(Data!F599:J599)),\"\")","v":""},"","","","","",{"$f":"IFERROR((Data!K599-$E$4),\"\")","v":""},{"$f":"IF(AND(F599<>\"\",G599<>\"\",H599<>\"\",I599<>\"\",J599<>\"\"),Data!Q599-$E$4,\"\")","v":""},"","","","",{"$f":"IF(F599<>\"\",STDEV($Q$12:Q599),\"\")","v":""},""]
[589,null,{"$f":"RIGHT(Data!C600,10)","v":""},null,null,null,null,null,null,null,{"$f":"IFERROR($U$3*Data!M600/SQRT(COUNT(Data!F600:J600)),\"\")","v":""},"","","","","",{"$f":"IFERROR((Data!K600-$E$4),\"\")","v":""},{"$f":"IF(AND(F600<>\"\",G600<>\"\",H600<>\"\",I600<>\"\",J600<>\"\"),Data!Q600-$E$4,\"\")","v":""},"","","","",{"$f":"IF(F600<>\"\",STDEV($Q$12:Q600),\"\")","v":""},""]
[590,null,{"$f":"RIGHT(Data!C601,10)","v":""},null,null,null,null,null,null,null,{"$f":"IFERROR($U$3*Data!M601/SQRT(COUNT(Data!F601:J601)),\"\")","v":""},"","","","","",{"$f":"IFERROR((Data!K601-$E$4),\"\")","v":""},{"$f":"IF(AND(F601<>\"\",G601<>\"\",H601<>\"\",I601<>\"\",J601<>\"\"),Data!Q601-$E$4,\"\")","v":""},"","","","",{"$f":"IF(F601<>\"\",STDEV($Q$12:Q601),\"\")","v":""},""]
[591,null,{"$f":"RIGHT(Data!C602,10)","v":""},null,null,null,null,null,null,null,{"$f":"IFERROR($U$3*Data!M602/SQRT(COUNT(Data!F602:J602)),\"\")","v":""},"","","","","",{"$f":"IFERROR((Data!K602-$E$4),\"\")","v":""},{"$f":"IF(AND(F602<>\"\",G602<>\"\",H602<>\"\",I602<>\"\",J602<>\"\"),Data!Q602-$E$4,\"\")","v":""},"","","","",{"$f":"IF(F602<>\"\",STDEV($Q$12:Q602),\"\")","v":""},""]
[592,null,{"$f":"RIGHT(Data!C603,10)","v":""},null,null,null,null,null,null,null,{"$f":"IFERROR($U$3*Data!M603/SQRT(COUNT(Data!F603:J603)),\"\")","v":""},"","","","","",{"$f":"IFERROR((Data!K603-$E$4),\"\")","v":""},{"$f":"IF(AND(F603<>\"\",G603<>\"\",H603<>\"\",I603<>\"\",J603<>\"\"),Data!Q603-$E$4,\"\")","v":""},"","","","",{"$f":"IF(F603<>\"\",STDEV($Q$12:Q603),\"\")","v":""},""]
[593,null,{"$f":"RIGHT(Data!C604,10)","v":""},null,null,null,null,null,null,null,{"$f":"IFERROR($U$3*Data!M604/SQRT(COUNT(Data!F604:J604)),\"\")","v":""},"","","","","",{"$f":"IFERROR((Data!K604-$E$4),\"\")","v":""},{"$f":"IF(AND(F604<>\"\",G604<>\"\",H604<>\"\",I604<>\"\",J604<>\"\"),Data!Q604-$E$4,\"\")","v":""},"","","","",{"$f":"IF(F604<>\"\",STDEV($Q$12:Q604),\"\")","v":""},""]
[594,null,{"$f":"RIGHT(Data!C605,10)","v":""},null,null,null,null,null,null,null,{"$f":"IFERROR($U$3*Data!M605/SQRT(COUNT(Data!F605:J605)),\"\")","v":""},"","","","","",{"$f":"IFERROR((Data!K605-$E$4),\"\")","v":""},{"$f":"IF(AND(F605<>\"\",G605<>\"\",H605<>\"\",I605<>\"\",J605<>\"\"),Data!Q605-$E$4,\"\")","v":""},"","","","",{"$f":"IF(F605<>\"\",STDEV($Q$12:Q605),\"\")","v":""},""]
[595,null,{"$f":"RIGHT(Data!C606,10)","v":""},null,null,null,null,null,null,null,{"$f":"IFERROR($U$3*Data!M606/SQRT(COUNT(Data!F606:J606)),\"\")","v":""},"","","","","",{"$f":"IFERROR((Data!K606-$E$4),\"\")","v":""},{"$f":"IF(AND(F606<>\"\",G606<>\"\",H606<>\"\",I606<>\"\",J606<>\"\"),Data!Q606-$E$4,\"\")","v":""},"","","","",{"$f":"IF(F606<>\"\",STDEV($Q$12:Q606),\"\")","v":""},""]
[596,null,{"$f":"RIGHT(Data!C607,10)","v":""},null,null,null,null,null,null,null,{"$f":"IFERROR($U$3*Data!M607/SQRT(COUNT(Data!F607:J607)),\"\")","v":""},"","","","","",{"$f":"IFERROR((Data!K607-$E$4),\"\")","v":""},{"$f":"IF(AND(F607<>\"\",G607<>\"\",H607<>\"\",I607<>\"\",J607<>\"\"),Data!Q607-$E$4,\"\")","v":""},"","","","",{"$f":"IF(F607<>\"\",STDEV($Q$12:Q607),\"\")","v":""},""]
[597,null,{"$f":"RIGHT(Data!C608,10)","v":""},null,null,null,null,null,null,null,{"$f":"IFERROR($U$3*Data!M608/SQRT(COUNT(Data!F608:J608)),\"\")","v":""},"","","","","",{"$f":"IFERROR((Data!K608-$E$4),\"\")","v":""},{"$f":"IF(AND(F608<>\"\",G608<>\"\",H608<>\"\",I608<>\"\",J608<>\"\"),Data!Q608-$E$4,\"\")","v":""},"","","","",{"$f":"IF(F608<>\"\",STDEV($Q$12:Q608),\"\")","v":""},""]
[598,null,{"$f":"RIGHT(Data!C609,10)","v":""},null,null,null,null,null,null,null,{"$f":"IFERROR($U$3*Data!M609/SQRT(COUNT(Data!F609:J609)),\"\")","v":""},"","","","","",{"$f":"IFERROR((Data!K609-$E$4),\"\")","v":""},{"$f":"IF(AND(F609<>\"\",G609<>\"\",H609<>\"\",I609<>\"\",J609<>\"\"),Data!Q609-$E$4,\"\")","v":""},"","","","",{"$f":"IF(F609<>\"\",STDEV($Q$12:Q609),\"\")","v":""},""]
[599,null,{"$f":"RIGHT(Data!C610,10)","v":""},null,null,null,null,null,null,null,{"$f":"IFERROR($U$3*Data!M610/SQRT(COUNT(Data!F610:J610)),\"\")","v":""},"","","","","",{"$f":"IFERROR((Data!K610-$E$4),\"\")","v":""},{"$f":"IF(AND(F610<>\"\",G610<>\"\",H610<>\"\",I610<>\"\",J610<>\"\"),Data!Q610-$E$4,\"\")","v":""},"","","","",{"$f":"IF(F610<>\"\",STDEV($Q$12:Q610),\"\")","v":""},""]
[600,null,{"$f":"RIGHT(Data!C611,10)","v":""},null,null,null,null,null,null,null,{"$f":"IFERROR($U$3*Data!M611/SQRT(COUNT(Data!F611:J611)),\"\")","v":""},"","","","","",{"$f":"IFERROR((Data!K611-$E$4),\"\")","v":""},{"$f":"IF(AND(F611<>\"\",G611<>\"\",H611<>\"\",I611<>\"\",J611<>\"\"),Data!Q611-$E$4,\"\")","v":""},"","","","",{"$f":"IF(F611<>\"\",STDEV($Q$12:Q611),\"\")","v":""},""]
[601,null,{"$f":"RIGHT(Data!C612,10)","v":""},null,null,null,null,null,null,null,{"$f":"IFERROR($U$3*Data!M612/SQRT(COUNT(Data!F612:J612)),\"\")","v":""},"","","","","",{"$f":"IFERROR((Data!K612-$E$4),\"\")","v":""},{"$f":"IF(AND(F612<>\"\",G612<>\"\",H612<>\"\",I612<>\"\",J612<>\"\"),Data!Q612-$E$4,\"\")","v":""},"","","","",{"$f":"IF(F612<>\"\",STDEV($Q$12:Q612),\"\")","v":""},""]
[602,null,{"$f":"RIGHT(Data!C613,10)","v":""},null,null,null,null,null,null,null,{"$f":"IFERROR($U$3*Data!M613/SQRT(COUNT(Data!F613:J613)),\"\")","v":""},"","","","","",{"$f":"IFERROR((Data!K613-$E$4),\"\")","v":""},{"$f":"IF(AND(F613<>\"\",G613<>\"\",H613<>\"\",I613<>\"\",J613<>\"\"),Data!Q613-$E$4,\"\")","v":""},"","","","",{"$f":"IF(F613<>\"\",STDEV($Q$12:Q613),\"\")","v":""},""]
[603,null,{"$f":"RIGHT(Data!C614,10)","v":""},null,null,null,null,null,null,null,{"$f":"IFERROR($U$3*Data!M614/SQRT(COUNT(Data!F614:J614)),\"\")","v":""},"","","","","",{"$f":"IFERROR((Data!K614-$E$4),\"\")","v":""},{"$f":"IF(AND(F614<>\"\",G614<>\"\",H614<>\"\",I614<>\"\",J614<>\"\"),Data!Q614-$E$4,\"\")","v":""},"","","","",{"$f":"IF(F614<>\"\",STDEV($Q$12:Q614),\"\")","v":""},""]
[604,null,{"$f":"RIGHT(Data!C615,10)","v":""},null,null,null,null,null,null,null,{"$f":"IFERROR($U$3*Data!M615/SQRT(COUNT(Data!F615:J615)),\"\")","v":""},"","","","","",{"$f":"IFERROR((Data!K615-$E$4),\"\")","v":""},{"$f":"IF(AND(F615<>\"\",G615<>\"\",H615<>\"\",I615<>\"\",J615<>\"\"),Data!Q615-$E$4,\"\")","v":""},"","","","",{"$f":"IF(F615<>\"\",STDEV($Q$12:Q615),\"\")","v":""},""]
[605,null,{"$f":"RIGHT(Data!C616,10)","v":""},null,null,null,null,null,null,null,{"$f":"IFERROR($U$3*Data!M616/SQRT(COUNT(Data!F616:J616)),\"\")","v":""},"","","","","",{"$f":"IFERROR((Data!K616-$E$4),\"\")","v":""},{"$f":"IF(AND(F616<>\"\",G616<>\"\",H616<>\"\",I616<>\"\",J616<>\"\"),Data!Q616-$E$4,\"\")","v":""},"","","","",{"$f":"IF(F616<>\"\",STDEV($Q$12:Q616),\"\")","v":""},""]
[606,null,{"$f":"RIGHT(Data!C617,10)","v":""},null,null,null,null,null,null,null,{"$f":"IFERROR($U$3*Data!M617/SQRT(COUNT(Data!F617:J617)),\"\")","v":""},"","","","","",{"$f":"IFERROR((Data!K617-$E$4),\"\")","v":""},{"$f":"IF(AND(F617<>\"\",G617<>\"\",H617<>\"\",I617<>\"\",J617<>\"\"),Data!Q617-$E$4,\"\")","v":""},"","","","",{"$f":"IF(F617<>\"\",STDEV($Q$12:Q617),\"\")","v":""},""]
[607,null,{"$f":"RIGHT(Data!C618,10)","v":""},null,null,null,null,null,null,null,{"$f":"IFERROR($U$3*Data!M618/SQRT(COUNT(Data!F618:J618)),\"\")","v":""},"","","","","",{"$f":"IFERROR((Data!K618-$E$4),\"\")","v":""},{"$f":"IF(AND(F618<>\"\",G618<>\"\",H618<>\"\",I618<>\"\",J618<>\"\"),Data!Q618-$E$4,\"\")","v":""},"","","","",{"$f":"IF(F618<>\"\",STDEV($Q$12:Q618),\"\")","v":""},""]
[608,null,{"$f":"RIGHT(Data!C619,10)","v":""},null,null,null,null,null,null,null,{"$f":"IFERROR($U$3*Data!M619/SQRT(COUNT(Data!F619:J619)),\"\")","v":""},"","","","","",{"$f":"IFERROR((Data!K619-$E$4),\"\")","v":""},{"$f":"IF(AND(F619<>\"\",G619<>\"\",H619<>\"\",I619<>\"\",J619<>\"\"),Data!Q619-$E$4,\"\")","v":""},"","","","",{"$f":"IF(F619<>\"\",STDEV($Q$12:Q619),\"\")","v":""},""]
[609,null,{"$f":"RIGHT(Data!C620,10)","v":""},null,null,null,null,null,null,null,{"$f":"IFERROR($U$3*Data!M620/SQRT(COUNT(Data!F620:J620)),\"\")","v":""},"","","","","",{"$f":"IFERROR((Data!K620-$E$4),\"\")","v":""},{"$f":"IF(AND(F620<>\"\",G620<>\"\",H620<>\"\",I620<>\"\",J620<>\"\"),Data!Q620-$E$4,\"\")","v":""},"","","","",{"$f":"IF(F620<>\"\",STDEV($Q$12:Q620),\"\")","v":""},""]
[610,null,{"$f":"RIGHT(Data!C621,10)","v":""},null,null,null,null,null,null,null,{"$f":"IFERROR($U$3*Data!M621/SQRT(COUNT(Data!F621:J621)),\"\")","v":""},"","","","","",{"$f":"IFERROR((Data!K621-$E$4),\"\")","v":""},{"$f":"IF(AND(F621<>\"\",G621<>\"\",H621<>\"\",I621<>\"\",J621<>\"\"),Data!Q621-$E$4,\"\")","v":""},"","","","",{"$f":"IF(F621<>\"\",STDEV($Q$12:Q621),\"\")","v":""},""]
[611,null,{"$f":"RIGHT(Data!C622,10)","v":""},null,null,null,null,null,null,null,{"$f":"IFERROR($U$3*Data!M622/SQRT(COUNT(Data!F622:J622)),\"\")","v":""},"","","","","",{"$f":"IFERROR((Data!K622-$E$4),\"\")","v":""},{"$f":"IF(AND(F622<>\"\",G622<>\"\",H622<>\"\",I622<>\"\",J622<>\"\"),Data!Q622-$E$4,\"\")","v":""},"","","","",{"$f":"IF(F622<>\"\",STDEV($Q$12:Q622),\"\")","v":""},""]
[612,null,{"$f":"RIGHT(Data!C623,10)","v":""},null,null,null,null,null,null,null,{"$f":"IFERROR($U$3*Data!M623/SQRT(COUNT(Data!F623:J623)),\"\")","v":""},"","","","","",{"$f":"IFERROR((Data!K623-$E$4),\"\")","v":""},{"$f":"IF(AND(F623<>\"\",G623<>\"\",H623<>\"\",I623<>\"\",J623<>\"\"),Data!Q623-$E$4,\"\")","v":""},"","","","",{"$f":"IF(F623<>\"\",STDEV($Q$12:Q623),\"\")","v":""},""]
[613,null,{"$f":"RIGHT(Data!C624,10)","v":""},null,null,null,null,null,null,null,{"$f":"IFERROR($U$3*Data!M624/SQRT(COUNT(Data!F624:J624)),\"\")","v":""},"","","","","",{"$f":"IFERROR((Data!K624-$E$4),\"\")","v":""},{"$f":"IF(AND(F624<>\"\",G624<>\"\",H624<>\"\",I624<>\"\",J624<>\"\"),Data!Q624-$E$4,\"\")","v":""},"","","","",{"$f":"IF(F624<>\"\",STDEV($Q$12:Q624),\"\")","v":""},""]
[614,null,{"$f":"RIGHT(Data!C625,10)","v":""},null,null,null,null,null,null,null,{"$f":"IFERROR($U$3*Data!M625/SQRT(COUNT(Data!F625:J625)),\"\")","v":""},"","","","","",{"$f":"IFERROR((Data!K625-$E$4),\"\")","v":""},{"$f":"IF(AND(F625<>\"\",G625<>\"\",H625<>\"\",I625<>\"\",J625<>\"\"),Data!Q625-$E$4,\"\")","v":""},"","","","",{"$f":"IF(F625<>\"\",STDEV($Q$12:Q625),\"\")","v":""},""]
[615,null,{"$f":"RIGHT(Data!C626,10)","v":""},null,null,null,null,null,null,null,{"$f":"IFERROR($U$3*Data!M626/SQRT(COUNT(Data!F626:J626)),\"\")","v":""},"","","","","",{"$f":"IFERROR((Data!K626-$E$4),\"\")","v":""},{"$f":"IF(AND(F626<>\"\",G626<>\"\",H626<>\"\",I626<>\"\",J626<>\"\"),Data!Q626-$E$4,\"\")","v":""},"","","","",{"$f":"IF(F626<>\"\",STDEV($Q$12:Q626),\"\")","v":""},""]
[616,null,{"$f":"RIGHT(Data!C627,10)","v":""},null,null,null,null,null,null,null,{"$f":"IFERROR($U$3*Data!M627/SQRT(COUNT(Data!F627:J627)),\"\")","v":""},"","","","","",{"$f":"IFERROR((Data!K627-$E$4),\"\")","v":""},{"$f":"IF(AND(F627<>\"\",G627<>\"\",H627<>\"\",I627<>\"\",J627<>\"\"),Data!Q627-$E$4,\"\")","v":""},"","","","",{"$f":"IF(F627<>\"\",STDEV($Q$12:Q627),\"\")","v":""},""]
[617,null,{"$f":"RIGHT(Data!C628,10)","v":""},null,null,null,null,null,null,null,{"$f":"IFERROR($U$3*Data!M628/SQRT(COUNT(Data!F628:J628)),\"\")","v":""},"","","","","",{"$f":"IFERROR((Data!K628-$E$4),\"\")","v":""},{"$f":"IF(AND(F628<>\"\",G628<>\"\",H628<>\"\",I628<>\"\",J628<>\"\"),Data!Q628-$E$4,\"\")","v":""},"","","","",{"$f":"IF(F628<>\"\",STDEV($Q$12:Q628),\"\")","v":""},""]
[618,null,{"$f":"RIGHT(Data!C629,10)","v":""},null,null,null,null,null,null,null,{"$f":"IFERROR($U$3*Data!M629/SQRT(COUNT(Data!F629:J629)),\"\")","v":""},"","","","","",{"$f":"IFERROR((Data!K629-$E$4),\"\")","v":""},{"$f":"IF(AND(F629<>\"\",G629<>\"\",H629<>\"\",I629<>\"\",J629<>\"\"),Data!Q629-$E$4,\"\")","v":""},"","","","",{"$f":"IF(F629<>\"\",STDEV($Q$12:Q629),\"\")","v":""},""]
[619,null,{"$f":"RIGHT(Data!C630,10)","v":""},null,null,null,null,null,null,null,{"$f":"IFERROR($U$3*Data!M630/SQRT(COUNT(Data!F630:J630)),\"\")","v":""},"","","","","",{"$f":"IFERROR((Data!K630-$E$4),\"\")","v":""},{"$f":"IF(AND(F630<>\"\",G630<>\"\",H630<>\"\",I630<>\"\",J630<>\"\"),Data!Q630-$E$4,\"\")","v":""},"","","","",{"$f":"IF(F630<>\"\",STDEV($Q$12:Q630),\"\")","v":""},""]
[620,null,{"$f":"RIGHT(Data!C631,10)","v":""},null,null,null,null,null,null,null,{"$f":"IFERROR($U$3*Data!M631/SQRT(COUNT(Data!F631:J631)),\"\")","v":""},"","","","","",{"$f":"IFERROR((Data!K631-$E$4),\"\")","v":""},{"$f":"IF(AND(F631<>\"\",G631<>\"\",H631<>\"\",I631<>\"\",J631<>\"\"),Data!Q631-$E$4,\"\")","v":""},"","","","",{"$f":"IF(F631<>\"\",STDEV($Q$12:Q631),\"\")","v":""},""]
[621,null,{"$f":"RIGHT(Data!C632,10)","v":""},null,null,null,null,null,null,null,{"$f":"IFERROR($U$3*Data!M632/SQRT(COUNT(Data!F632:J632)),\"\")","v":""},"","","","","",{"$f":"IFERROR((Data!K632-$E$4),\"\")","v":""},{"$f":"IF(AND(F632<>\"\",G632<>\"\",H632<>\"\",I632<>\"\",J632<>\"\"),Data!Q632-$E$4,\"\")","v":""},"","","","",{"$f":"IF(F632<>\"\",STDEV($Q$12:Q632),\"\")","v":""},""]
[622,null,{"$f":"RIGHT(Data!C633,10)","v":""},null,null,null,null,null,null,null,{"$f":"IFERROR($U$3*Data!M633/SQRT(COUNT(Data!F633:J633)),\"\")","v":""},"","","","","",{"$f":"IFERROR((Data!K633-$E$4),\"\")","v":""},{"$f":"IF(AND(F633<>\"\",G633<>\"\",H633<>\"\",I633<>\"\",J633<>\"\"),Data!Q633-$E$4,\"\")","v":""},"","","","",{"$f":"IF(F633<>\"\",STDEV($Q$12:Q633),\"\")","v":""},""]
[623,null,{"$f":"RIGHT(Data!C634,10)","v":""},null,null,null,null,null,null,null,{"$f":"IFERROR($U$3*Data!M634/SQRT(COUNT(Data!F634:J634)),\"\")","v":""},"","","","","",{"$f":"IFERROR((Data!K634-$E$4),\"\")","v":""},{"$f":"IF(AND(F634<>\"\",G634<>\"\",H634<>\"\",I634<>\"\",J634<>\"\"),Data!Q634-$E$4,\"\")","v":""},"","","","",{"$f":"IF(F634<>\"\",STDEV($Q$12:Q634),\"\")","v":""},""]
[624,null,{"$f":"RIGHT(Data!C635,10)","v":""},null,null,null,null,null,null,null,{"$f":"IFERROR($U$3*Data!M635/SQRT(COUNT(Data!F635:J635)),\"\")","v":""},"","","","","",{"$f":"IFERROR((Data!K635-$E$4),\"\")","v":""},{"$f":"IF(AND(F635<>\"\",G635<>\"\",H635<>\"\",I635<>\"\",J635<>\"\"),Data!Q635-$E$4,\"\")","v":""},"","","","",{"$f":"IF(F635<>\"\",STDEV($Q$12:Q635),\"\")","v":""},""]
[625,null,{"$f":"RIGHT(Data!C636,10)","v":""},null,null,null,null,null,null,null,{"$f":"IFERROR($U$3*Data!M636/SQRT(COUNT(Data!F636:J636)),\"\")","v":""},"","","","","",{"$f":"IFERROR((Data!K636-$E$4),\"\")","v":""},{"$f":"IF(AND(F636<>\"\",G636<>\"\",H636<>\"\",I636<>\"\",J636<>\"\"),Data!Q636-$E$4,\"\")","v":""},"","","","",{"$f":"IF(F636<>\"\",STDEV($Q$12:Q636),\"\")","v":""},""]
[626,null,{"$f":"RIGHT(Data!C637,10)","v":""},null,null,null,null,null,null,null,{"$f":"IFERROR($U$3*Data!M637/SQRT(COUNT(Data!F637:J637)),\"\")","v":""},"","","","","",{"$f":"IFERROR((Data!K637-$E$4),\"\")","v":""},{"$f":"IF(AND(F637<>\"\",G637<>\"\",H637<>\"\",I637<>\"\",J637<>\"\"),Data!Q637-$E$4,\"\")","v":""},"","","","",{"$f":"IF(F637<>\"\",STDEV($Q$12:Q637),\"\")","v":""},""]
[627,null,{"$f":"RIGHT(Data!C638,10)","v":""},null,null,null,null,null,null,null,{"$f":"IFERROR($U$3*Data!M638/SQRT(COUNT(Data!F638:J638)),\"\")","v":""},"","","","","",{"$f":"IFERROR((Data!K638-$E$4),\"\")","v":""},{"$f":"IF(AND(F638<>\"\",G638<>\"\",H638<>\"\",I638<>\"\",J638<>\"\"),Data!Q638-$E$4,\"\")","v":""},"","","","",{"$f":"IF(F638<>\"\",STDEV($Q$12:Q638),\"\")","v":""},""]
[628,null,{"$f":"RIGHT(Data!C639,10)","v":""},null,null,null,null,null,null,null,{"$f":"IFERROR($U$3*Data!M639/SQRT(COUNT(Data!F639:J639)),\"\")","v":""},"","","","","",{"$f":"IFERROR((Data!K639-$E$4),\"\")","v":""},{"$f":"IF(AND(F639<>\"\",G639<>\"\",H639<>\"\",I639<>\"\",J639<>\"\"),Data!Q639-$E$4,\"\")","v":""},"","","","",{"$f":"IF(F639<>\"\",STDEV($Q$12:Q639),\"\")","v":""},""]
[629,null,{"$f":"RIGHT(Data!C640,10)","v":""},null,null,null,null,null,null,null,{"$f":"IFERROR($U$3*Data!M640/SQRT(COUNT(Data!F640:J640)),\"\")","v":""},"","","","","",{"$f":"IFERROR((Data!K640-$E$4),\"\")","v":""},{"$f":"IF(AND(F640<>\"\",G640<>\"\",H640<>\"\",I640<>\"\",J640<>\"\"),Data!Q640-$E$4,\"\")","v":""},"","","","",{"$f":"IF(F640<>\"\",STDEV($Q$12:Q640),\"\")","v":""},""]
[630,null,{"$f":"RIGHT(Data!C641,10)","v":""},null,null,null,null,null,null,null,{"$f":"IFERROR($U$3*Data!M641/SQRT(COUNT(Data!F641:J641)),\"\")","v":""},"","","","","",{"$f":"IFERROR((Data!K641-$E$4),\"\")","v":""},{"$f":"IF(AND(F641<>\"\",G641<>\"\",H641<>\"\",I641<>\"\",J641<>\"\"),Data!Q641-$E$4,\"\")","v":""},"","","","",{"$f":"IF(F641<>\"\",STDEV($Q$12:Q641),\"\")","v":""},""]
[631,null,{"$f":"RIGHT(Data!C642,10)","v":""},null,null,null,null,null,null,null,{"$f":"IFERROR($U$3*Data!M642/SQRT(COUNT(Data!F642:J642)),\"\")","v":""},"","","","","",{"$f":"IFERROR((Data!K642-$E$4),\"\")","v":""},{"$f":"IF(AND(F642<>\"\",G642<>\"\",H642<>\"\",I642<>\"\",J642<>\"\"),Data!Q642-$E$4,\"\")","v":""},"","","","",{"$f":"IF(F642<>\"\",STDEV($Q$12:Q642),\"\")","v":""},""]
[632,null,{"$f":"RIGHT(Data!C643,10)","v":""},null,null,null,null,null,null,null,{"$f":"IFERROR($U$3*Data!M643/SQRT(COUNT(Data!F643:J643)),\"\")","v":""},"","","","","",{"$f":"IFERROR((Data!K643-$E$4),\"\")","v":""},{"$f":"IF(AND(F643<>\"\",G643<>\"\",H643<>\"\",I643<>\"\",J643<>\"\"),Data!Q643-$E$4,\"\")","v":""},"","","","",{"$f":"IF(F643<>\"\",STDEV($Q$12:Q643),\"\")","v":""},""]
[633,null,{"$f":"RIGHT(Data!C644,10)","v":""},null,null,null,null,null,null,null,{"$f":"IFERROR($U$3*Data!M644/SQRT(COUNT(Data!F644:J644)),\"\")","v":""},"","","","","",{"$f":"IFERROR((Data!K644-$E$4),\"\")","v":""},{"$f":"IF(AND(F644<>\"\",G644<>\"\",H644<>\"\",I644<>\"\",J644<>\"\"),Data!Q644-$E$4,\"\")","v":""},"","","","",{"$f":"IF(F644<>\"\",STDEV($Q$12:Q644),\"\")","v":""},""]
[634,null,{"$f":"RIGHT(Data!C645,10)","v":""},null,null,null,null,null,null,null,{"$f":"IFERROR($U$3*Data!M645/SQRT(COUNT(Data!F645:J645)),\"\")","v":""},"","","","","",{"$f":"IFERROR((Data!K645-$E$4),\"\")","v":""},{"$f":"IF(AND(F645<>\"\",G645<>\"\",H645<>\"\",I645<>\"\",J645<>\"\"),Data!Q645-$E$4,\"\")","v":""},"","","","",{"$f":"IF(F645<>\"\",STDEV($Q$12:Q645),\"\")","v":""},""]
[635,null,{"$f":"RIGHT(Data!C646,10)","v":""},null,null,null,null,null,null,null,{"$f":"IFERROR($U$3*Data!M646/SQRT(COUNT(Data!F646:J646)),\"\")","v":""},"","","","","",{"$f":"IFERROR((Data!K646-$E$4),\"\")","v":""},{"$f":"IF(AND(F646<>\"\",G646<>\"\",H646<>\"\",I646<>\"\",J646<>\"\"),Data!Q646-$E$4,\"\")","v":""},"","","","",{"$f":"IF(F646<>\"\",STDEV($Q$12:Q646),\"\")","v":""},""]
[636,null,{"$f":"RIGHT(Data!C647,10)","v":""},null,null,null,null,null,null,null,{"$f":"IFERROR($U$3*Data!M647/SQRT(COUNT(Data!F647:J647)),\"\")","v":""},"","","","","",{"$f":"IFERROR((Data!K647-$E$4),\"\")","v":""},{"$f":"IF(AND(F647<>\"\",G647<>\"\",H647<>\"\",I647<>\"\",J647<>\"\"),Data!Q647-$E$4,\"\")","v":""},"","","","",{"$f":"IF(F647<>\"\",STDEV($Q$12:Q647),\"\")","v":""},""]
[637,null,{"$f":"RIGHT(Data!C648,10)","v":""},null,null,null,null,null,null,null,{"$f":"IFERROR($U$3*Data!M648/SQRT(COUNT(Data!F648:J648)),\"\")","v":""},"","","","","",{"$f":"IFERROR((Data!K648-$E$4),\"\")","v":""},{"$f":"IF(AND(F648<>\"\",G648<>\"\",H648<>\"\",I648<>\"\",J648<>\"\"),Data!Q648-$E$4,\"\")","v":""},"","","","",{"$f":"IF(F648<>\"\",STDEV($Q$12:Q648),\"\")","v":""},""]
[638,null,{"$f":"RIGHT(Data!C649,10)","v":""},null,null,null,null,null,null,null,{"$f":"IFERROR($U$3*Data!M649/SQRT(COUNT(Data!F649:J649)),\"\")","v":""},"","","","","",{"$f":"IFERROR((Data!K649-$E$4),\"\")","v":""},{"$f":"IF(AND(F649<>\"\",G649<>\"\",H649<>\"\",I649<>\"\",J649<>\"\"),Data!Q649-$E$4,\"\")","v":""},"","","","",{"$f":"IF(F649<>\"\",STDEV($Q$12:Q649),\"\")","v":""},""]
[639,null,{"$f":"RIGHT(Data!C650,10)","v":""},null,null,null,null,null,null,null,{"$f":"IFERROR($U$3*Data!M650/SQRT(COUNT(Data!F650:J650)),\"\")","v":""},"","","","","",{"$f":"IFERROR((Data!K650-$E$4),\"\")","v":""},{"$f":"IF(AND(F650<>\"\",G650<>\"\",H650<>\"\",I650<>\"\",J650<>\"\"),Data!Q650-$E$4,\"\")","v":""},"","","","",{"$f":"IF(F650<>\"\",STDEV($Q$12:Q650),\"\")","v":""},""]
[640,null,{"$f":"RIGHT(Data!C651,10)","v":""},null,null,null,null,null,null,null,{"$f":"IFERROR($U$3*Data!M651/SQRT(COUNT(Data!F651:J651)),\"\")","v":""},"","","","","",{"$f":"IFERROR((Data!K651-$E$4),\"\")","v":""},{"$f":"IF(AND(F651<>\"\",G651<>\"\",H651<>\"\",I651<>\"\",J651<>\"\"),Data!Q651-$E$4,\"\")","v":""},"","","","",{"$f":"IF(F651<>\"\",STDEV($Q$12:Q651),\"\")","v":""},""]
[641,null,{"$f":"RIGHT(Data!C652,10)","v":""},null,null,null,null,null,null,null,{"$f":"IFERROR($U$3*Data!M652/SQRT(COUNT(Data!F652:J652)),\"\")","v":""},"","",{"$f":"IF(COUNT(F652:J652)>=5,STDEV(F652:J652)*$U$3/SQRT((COUNT(F652:J652))),\"\")","v":""},{"$f":"IFERROR($U$4*SQRT($U$7^2+L652^2+K652^2+$U$5^2+N652^2),\"\")","v":""},"",{"$f":"IFERROR((Data!K652-$E$4),\"\")","v":""},{"$f":"IF(AND(F652<>\"\",G652<>\"\",H652<>\"\",I652<>\"\",J652<>\"\"),Data!Q652-$E$4,\"\")","v":""},{"$f":"IF(O652<>\"\",FIXED(X652,1) & \" ± \" & FIXED(O652+ABS(R652),2),\"\")","v":""},"","","",{"$f":"IF(F652<>\"\",STDEV($Q$12:Q652),\"\")","v":""},{"$f":"IF(F652<>\"\",AVERAGE(F652:J652),\"\")","v":""}]
[642,null,{"$f":"RIGHT(Data!C653,10)","v":""},null,null,null,null,null,null,null,{"$f":"IFERROR($U$3*Data!M653/SQRT(COUNT(Data!F653:J653)),\"\")","v":""},{"$f":"IF(F653<>\"\",V653*W653/SQRT(A653),\"\")","v":""},{"$f":"IF(F653<>\"\",$U$4*SQRT($U$7^2+L653^2+K653^2+$U$5^2),\"\")","v":""},"","",{"$f":"IF(AND(F653<>\"\",G653<>\"\",H653<>\"\",I653<>\"\",J653<>\"\"),AVERAGE(F653:J653),\"\")","v":""},{"$f":"IFERROR((Data!K653-$E$4),\"\")","v":""},{"$f":"IF(AND(F653<>\"\",G653<>\"\",H653<>\"\",I653<>\"\",J653<>\"\"),Data!Q653-$E$4,\"\")","v":""},"",{"$f":"IF(F653<>\"\",FIXED(AVERAGE(F653:J653)-R653,1) & \" ± \" & FIXED(O653,2),\"\")","v":""},{"$f":"IF(IO653=\"\",\"\",IO653-1)","v":""},{"$f":"IF(F653<>\"\",TINV(1-0.68,A653-1),\"\")","v":""},{"$f":"IF(F653<>\"\",STDEV($Q$12:Q653),\"\")","v":""},""]
[643,null,{"$f":"RIGHT(Data!C654,10)","v":""},null,null,null,null,null,null,null,{"$f":"IFERROR($U$3*Data!M654/SQRT(COUNT(Data!F654:J654)),\"\")","v":""},"","","","","",{"$f":"IFERROR((Data!K654-$E$4),\"\")","v":""},{"$f":"IF(AND(F654<>\"\",G654<>\"\",H654<>\"\",I654<>\"\",J654<>\"\"),Data!Q654-$E$4,\"\")","v":""},"","","","",{"$f":"IF(F654<>\"\",STDEV($Q$12:Q654),\"\")","v":""},""]
[644,null,{"$f":"RIGHT(Data!C655,10)","v":""},null,null,null,null,null,null,null,{"$f":"IFERROR($U$3*Data!M655/SQRT(COUNT(Data!F655:J655)),\"\")","v":""},"","","","","",{"$f":"IFERROR((Data!K655-$E$4),\"\")","v":""},{"$f":"IF(AND(F655<>\"\",G655<>\"\",H655<>\"\",I655<>\"\",J655<>\"\"),Data!Q655-$E$4,\"\")","v":""},"","","","",{"$f":"IF(F655<>\"\",STDEV($Q$12:Q655),\"\")","v":""},""]
[645,null,{"$f":"RIGHT(Data!C656,10)","v":""},null,null,null,null,null,null,null,{"$f":"IFERROR($U$3*Data!M656/SQRT(COUNT(Data!F656:J656)),\"\")","v":""},"","","","","",{"$f":"IFERROR((Data!K656-$E$4),\"\")","v":""},{"$f":"IF(AND(F656<>\"\",G656<>\"\",H656<>\"\",I656<>\"\",J656<>\"\"),Data!Q656-$E$4,\"\")","v":""},"","","","",{"$f":"IF(F656<>\"\",STDEV($Q$12:Q656),\"\")","v":""},""]
[646,null,{"$f":"RIGHT(Data!C657,10)","v":""},null,null,null,null,null,null,null,{"$f":"IFERROR($U$3*Data!M657/SQRT(COUNT(Data!F657:J657)),\"\")","v":""},"","","","","",{"$f":"IFERROR((Data!K657-$E$4),\"\")","v":""},{"$f":"IF(AND(F657<>\"\",G657<>\"\",H657<>\"\",I657<>\"\",J657<>\"\"),Data!Q657-$E$4,\"\")","v":""},"","","","",{"$f":"IF(F657<>\"\",STDEV($Q$12:Q657),\"\")","v":""},""]
[647,null,{"$f":"RIGHT(Data!C658,10)","v":""},null,null,null,null,null,null,null,{"$f":"IFERROR($U$3*Data!M658/SQRT(COUNT(Data!F658:J658)),\"\")","v":""},"","","","","",{"$f":"IFERROR((Data!K658-$E$4),\"\")","v":""},{"$f":"IF(AND(F658<>\"\",G658<>\"\",H658<>\"\",I658<>\"\",J658<>\"\"),Data!Q658-$E$4,\"\")","v":""},"","","","",{"$f":"IF(F658<>\"\",STDEV($Q$12:Q658),\"\")","v":""},""]
[648,null,{"$f":"RIGHT(Data!C659,10)","v":""},null,null,null,null,null,null,null,{"$f":"IFERROR($U$3*Data!M659/SQRT(COUNT(Data!F659:J659)),\"\")","v":""},"","","","","",{"$f":"IFERROR((Data!K659-$E$4),\"\")","v":""},{"$f":"IF(AND(F659<>\"\",G659<>\"\",H659<>\"\",I659<>\"\",J659<>\"\"),Data!Q659-$E$4,\"\")","v":""},"","","","",{"$f":"IF(F659<>\"\",STDEV($Q$12:Q659),\"\")","v":""},""]
[649,null,{"$f":"RIGHT(Data!C660,10)","v":""},null,null,null,null,null,null,null,{"$f":"IFERROR($U$3*Data!M660/SQRT(COUNT(Data!F660:J660)),\"\")","v":""},"","","","","",{"$f":"IFERROR((Data!K660-$E$4),\"\")","v":""},{"$f":"IF(AND(F660<>\"\",G660<>\"\",H660<>\"\",I660<>\"\",J660<>\"\"),Data!Q660-$E$4,\"\")","v":""},"","","","",{"$f":"IF(F660<>\"\",STDEV($Q$12:Q660),\"\")","v":""},""]
[650,null,{"$f":"RIGHT(Data!C661,10)","v":""},null,null,null,null,null,null,null,{"$f":"IFERROR($U$3*Data!M661/SQRT(COUNT(Data!F661:J661)),\"\")","v":""},"","","","","",{"$f":"IFERROR((Data!K661-$E$4),\"\")","v":""},{"$f":"IF(AND(F661<>\"\",G661<>\"\",H661<>\"\",I661<>\"\",J661<>\"\"),Data!Q661-$E$4,\"\")","v":""},"","","","",{"$f":"IF(F661<>\"\",STDEV($Q$12:Q661),\"\")","v":""},""]
[651,null,{"$f":"RIGHT(Data!C662,10)","v":""},null,null,null,null,null,null,null,{"$f":"IFERROR($U$3*Data!M662/SQRT(COUNT(Data!F662:J662)),\"\")","v":""},"","","","","",{"$f":"IFERROR((Data!K662-$E$4),\"\")","v":""},{"$f":"IF(AND(F662<>\"\",G662<>\"\",H662<>\"\",I662<>\"\",J662<>\"\"),Data!Q662-$E$4,\"\")","v":""},"","","","",{"$f":"IF(F662<>\"\",STDEV($Q$12:Q662),\"\")","v":""},""]
[652,null,{"$f":"RIGHT(Data!C663,10)","v":""},null,null,null,null,null,null,null,{"$f":"IFERROR($U$3*Data!M663/SQRT(COUNT(Data!F663:J663)),\"\")","v":""},"","","","","",{"$f":"IFERROR((Data!K663-$E$4),\"\")","v":""},{"$f":"IF(AND(F663<>\"\",G663<>\"\",H663<>\"\",I663<>\"\",J663<>\"\"),Data!Q663-$E$4,\"\")","v":""},"","","","",{"$f":"IF(F663<>\"\",STDEV($Q$12:Q663),\"\")","v":""},""]
[653,null,{"$f":"RIGHT(Data!C664,10)","v":""},null,null,null,null,null,null,null,{"$f":"IFERROR($U$3*Data!M664/SQRT(COUNT(Data!F664:J664)),\"\")","v":""},"","","","","",{"$f":"IFERROR((Data!K664-$E$4),\"\")","v":""},{"$f":"IF(AND(F664<>\"\",G664<>\"\",H664<>\"\",I664<>\"\",J664<>\"\"),Data!Q664-$E$4,\"\")","v":""},"","","","",{"$f":"IF(F664<>\"\",STDEV($Q$12:Q664),\"\")","v":""},""]
[654,null,{"$f":"RIGHT(Data!C665,10)","v":""},null,null,null,null,null,null,null,{"$f":"IFERROR($U$3*Data!M665/SQRT(COUNT(Data!F665:J665)),\"\")","v":""},"","","","","",{"$f":"IFERROR((Data!K665-$E$4),\"\")","v":""},{"$f":"IF(AND(F665<>\"\",G665<>\"\",H665<>\"\",I665<>\"\",J665<>\"\"),Data!Q665-$E$4,\"\")","v":""},"","","","",{"$f":"IF(F665<>\"\",STDEV($Q$12:Q665),\"\")","v":""},""]
[655,null,{"$f":"RIGHT(Data!C666,10)","v":""},null,null,null,null,null,null,null,{"$f":"IFERROR($U$3*Data!M666/SQRT(COUNT(Data!F666:J666)),\"\")","v":""},"","","","","",{"$f":"IFERROR((Data!K666-$E$4),\"\")","v":""},{"$f":"IF(AND(F666<>\"\",G666<>\"\",H666<>\"\",I666<>\"\",J666<>\"\"),Data!Q666-$E$4,\"\")","v":""},"","","","",{"$f":"IF(F666<>\"\",STDEV($Q$12:Q666),\"\")","v":""},""]
[656,null,{"$f":"RIGHT(Data!C667,10)","v":""},null,null,null,null,null,null,null,{"$f":"IFERROR($U$3*Data!M667/SQRT(COUNT(Data!F667:J667)),\"\")","v":""},"","","","","",{"$f":"IFERROR((Data!K667-$E$4),\"\")","v":""},{"$f":"IF(AND(F667<>\"\",G667<>\"\",H667<>\"\",I667<>\"\",J667<>\"\"),Data!Q667-$E$4,\"\")","v":""},"","","","",{"$f":"IF(F667<>\"\",STDEV($Q$12:Q667),\"\")","v":""},""]
[657,null,{"$f":"RIGHT(Data!C668,10)","v":""},null,null,null,null,null,null,null,{"$f":"IFERROR($U$3*Data!M668/SQRT(COUNT(Data!F668:J668)),\"\")","v":""},"","","","","",{"$f":"IFERROR((Data!K668-$E$4),\"\")","v":""},{"$f":"IF(AND(F668<>\"\",G668<>\"\",H668<>\"\",I668<>\"\",J668<>\"\"),Data!Q668-$E$4,\"\")","v":""},"","","","",{"$f":"IF(F668<>\"\",STDEV($Q$12:Q668),\"\")","v":""},""]
[658,null,{"$f":"RIGHT(Data!C669,10)","v":""},null,null,null,null,null,null,null,{"$f":"IFERROR($U$3*Data!M669/SQRT(COUNT(Data!F669:J669)),\"\")","v":""},"","","","","",{"$f":"IFERROR((Data!K669-$E$4),\"\")","v":""},{"$f":"IF(AND(F669<>\"\",G669<>\"\",H669<>\"\",I669<>\"\",J669<>\"\"),Data!Q669-$E$4,\"\")","v":""},"","","","",{"$f":"IF(F669<>\"\",STDEV($Q$12:Q669),\"\")","v":""},""]
[659,null,{"$f":"RIGHT(Data!C670,10)","v":""},null,null,null,null,null,null,null,{"$f":"IFERROR($U$3*Data!M670/SQRT(COUNT(Data!F670:J670)),\"\")","v":""},"","","","","",{"$f":"IFERROR((Data!K670-$E$4),\"\")","v":""},{"$f":"IF(AND(F670<>\"\",G670<>\"\",H670<>\"\",I670<>\"\",J670<>\"\"),Data!Q670-$E$4,\"\")","v":""},"","","","",{"$f":"IF(F670<>\"\",STDEV($Q$12:Q670),\"\")","v":""},""]
[660,null,{"$f":"RIGHT(Data!C671,10)","v":""},null,null,null,null,null,null,null,{"$f":"IFERROR($U$3*Data!M671/SQRT(COUNT(Data!F671:J671)),\"\")","v":""},"","","","","",{"$f":"IFERROR((Data!K671-$E$4),\"\")","v":""},{"$f":"IF(AND(F671<>\"\",G671<>\"\",H671<>\"\",I671<>\"\",J671<>\"\"),Data!Q671-$E$4,\"\")","v":""},"","","","",{"$f":"IF(F671<>\"\",STDEV($Q$12:Q671),\"\")","v":""},""]
[661,null,{"$f":"RIGHT(Data!C672,10)","v":""},null,null,null,null,null,null,null,{"$f":"IFERROR($U$3*Data!M672/SQRT(COUNT(Data!F672:J672)),\"\")","v":""},"","","","","",{"$f":"IFERROR((Data!K672-$E$4),\"\")","v":""},{"$f":"IF(AND(F672<>\"\",G672<>\"\",H672<>\"\",I672<>\"\",J672<>\"\"),Data!Q672-$E$4,\"\")","v":""},"","","","",{"$f":"IF(F672<>\"\",STDEV($Q$12:Q672),\"\")","v":""},""]
[662,null,{"$f":"RIGHT(Data!C673,10)","v":""},null,null,null,null,null,null,null,{"$f":"IFERROR($U$3*Data!M673/SQRT(COUNT(Data!F673:J673)),\"\")","v":""},"","","","","",{"$f":"IFERROR((Data!K673-$E$4),\"\")","v":""},{"$f":"IF(AND(F673<>\"\",G673<>\"\",H673<>\"\",I673<>\"\",J673<>\"\"),Data!Q673-$E$4,\"\")","v":""},"","","","",{"$f":"IF(F673<>\"\",STDEV($Q$12:Q673),\"\")","v":""},""]
[663,null,{"$f":"RIGHT(Data!C674,10)","v":""},null,null,null,null,null,null,null,{"$f":"IFERROR($U$3*Data!M674/SQRT(COUNT(Data!F674:J674)),\"\")","v":""},"","","","","",{"$f":"IFERROR((Data!K674-$E$4),\"\")","v":""},{"$f":"IF(AND(F674<>\"\",G674<>\"\",H674<>\"\",I674<>\"\",J674<>\"\"),Data!Q674-$E$4,\"\")","v":""},"","","","",{"$f":"IF(F674<>\"\",STDEV($Q$12:Q674),\"\")","v":""},""]
[664,null,{"$f":"RIGHT(Data!C675,10)","v":""},null,null,null,null,null,null,null,{"$f":"IFERROR($U$3*Data!M675/SQRT(COUNT(Data!F675:J675)),\"\")","v":""},"","","","","",{"$f":"IFERROR((Data!K675-$E$4),\"\")","v":""},{"$f":"IF(AND(F675<>\"\",G675<>\"\",H675<>\"\",I675<>\"\",J675<>\"\"),Data!Q675-$E$4,\"\")","v":""},"","","","",{"$f":"IF(F675<>\"\",STDEV($Q$12:Q675),\"\")","v":""},""]
[665,null,{"$f":"RIGHT(Data!C676,10)","v":""},null,null,null,null,null,null,null,{"$f":"IFERROR($U$3*Data!M676/SQRT(COUNT(Data!F676:J676)),\"\")","v":""},"","","","","",{"$f":"IFERROR((Data!K676-$E$4),\"\")","v":""},{"$f":"IF(AND(F676<>\"\",G676<>\"\",H676<>\"\",I676<>\"\",J676<>\"\"),Data!Q676-$E$4,\"\")","v":""},"","","","",{"$f":"IF(F676<>\"\",STDEV($Q$12:Q676),\"\")","v":""},""]
[666,null,{"$f":"RIGHT(Data!C677,10)","v":""},null,null,null,null,null,null,null,{"$f":"IFERROR($U$3*Data!M677/SQRT(COUNT(Data!F677:J677)),\"\")","v":""},"","","","","",{"$f":"IFERROR((Data!K677-$E$4),\"\")","v":""},{"$f":"IF(AND(F677<>\"\",G677<>\"\",H677<>\"\",I677<>\"\",J677<>\"\"),Data!Q677-$E$4,\"\")","v":""},"","","","",{"$f":"IF(F677<>\"\",STDEV($Q$12:Q677),\"\")","v":""},""]
[667,null,{"$f":"RIGHT(Data!C678,10)","v":""},null,null,null,null,null,null,null,{"$f":"IFERROR($U$3*Data!M678/SQRT(COUNT(Data!F678:J678)),\"\")","v":""},"","","","","",{"$f":"IFERROR((Data!K678-$E$4),\"\")","v":""},{"$f":"IF(AND(F678<>\"\",G678<>\"\",H678<>\"\",I678<>\"\",J678<>\"\"),Data!Q678-$E$4,\"\")","v":""},"","","","",{"$f":"IF(F678<>\"\",STDEV($Q$12:Q678),\"\")","v":""},""]
[668,null,{"$f":"RIGHT(Data!C679,10)","v":""},null,null,null,null,null,null,null,{"$f":"IFERROR($U$3*Data!M679/SQRT(COUNT(Data!F679:J679)),\"\")","v":""},"","","","","",{"$f":"IFERROR((Data!K679-$E$4),\"\")","v":""},{"$f":"IF(AND(F679<>\"\",G679<>\"\",H679<>\"\",I679<>\"\",J679<>\"\"),Data!Q679-$E$4,\"\")","v":""},"","","","",{"$f":"IF(F679<>\"\",STDEV($Q$12:Q679),\"\")","v":""},""]
[669,null,{"$f":"RIGHT(Data!C680,10)","v":""},null,null,null,null,null,null,null,{"$f":"IFERROR($U$3*Data!M680/SQRT(COUNT(Data!F680:J680)),\"\")","v":""},"","","","","",{"$f":"IFERROR((Data!K680-$E$4),\"\")","v":""},{"$f":"IF(AND(F680<>\"\",G680<>\"\",H680<>\"\",I680<>\"\",J680<>\"\"),Data!Q680-$E$4,\"\")","v":""},"","","","",{"$f":"IF(F680<>\"\",STDEV($Q$12:Q680),\"\")","v":""},""]
[670,null,{"$f":"RIGHT(Data!C681,10)","v":""},null,null,null,null,null,null,null,{"$f":"IFERROR($U$3*Data!M681/SQRT(COUNT(Data!F681:J681)),\"\")","v":""},"","","","","",{"$f":"IFERROR((Data!K681-$E$4),\"\")","v":""},{"$f":"IF(AND(F681<>\"\",G681<>\"\",H681<>\"\",I681<>\"\",J681<>\"\"),Data!Q681-$E$4,\"\")","v":""},"","","","",{"$f":"IF(F681<>\"\",STDEV($Q$12:Q681),\"\")","v":""},""]
[671,null,{"$f":"RIGHT(Data!C682,10)","v":""},null,null,null,null,null,null,null,{"$f":"IFERROR($U$3*Data!M682/SQRT(COUNT(Data!F682:J682)),\"\")","v":""},"","","","","",{"$f":"IFERROR((Data!K682-$E$4),\"\")","v":""},{"$f":"IF(AND(F682<>\"\",G682<>\"\",H682<>\"\",I682<>\"\",J682<>\"\"),Data!Q682-$E$4,\"\")","v":""},"","","","",{"$f":"IF(F682<>\"\",STDEV($Q$12:Q682),\"\")","v":""},""]
[672,null,{"$f":"RIGHT(Data!C683,10)","v":""},null,null,null,null,null,null,null,{"$f":"IFERROR($U$3*Data!M683/SQRT(COUNT(Data!F683:J683)),\"\")","v":""},"","","","","",{"$f":"IFERROR((Data!K683-$E$4),\"\")","v":""},{"$f":"IF(AND(F683<>\"\",G683<>\"\",H683<>\"\",I683<>\"\",J683<>\"\"),Data!Q683-$E$4,\"\")","v":""},"","","","",{"$f":"IF(F683<>\"\",STDEV($Q$12:Q683),\"\")","v":""},""]
[673,null,{"$f":"RIGHT(Data!C684,10)","v":""},null,null,null,null,null,null,null,{"$f":"IFERROR($U$3*Data!M684/SQRT(COUNT(Data!F684:J684)),\"\")","v":""},"","","","","",{"$f":"IFERROR((Data!K684-$E$4),\"\")","v":""},{"$f":"IF(AND(F684<>\"\",G684<>\"\",H684<>\"\",I684<>\"\",J684<>\"\"),Data!Q684-$E$4,\"\")","v":""},"","","","",{"$f":"IF(F684<>\"\",STDEV($Q$12:Q684),\"\")","v":""},""]
[674,null,{"$f":"RIGHT(Data!C685,10)","v":""},null,null,null,null,null,null,null,{"$f":"IFERROR($U$3*Data!M685/SQRT(COUNT(Data!F685:J685)),\"\")","v":""},"","","","","",{"$f":"IFERROR((Data!K685-$E$4),\"\")","v":""},{"$f":"IF(AND(F685<>\"\",G685<>\"\",H685<>\"\",I685<>\"\",J685<>\"\"),Data!Q685-$E$4,\"\")","v":""},"","","","",{"$f":"IF(F685<>\"\",STDEV($Q$12:Q685),\"\")","v":""},""]
[675,null,{"$f":"RIGHT(Data!C686,10)","v":""},null,null,null,null,null,null,null,{"$f":"IFERROR($U$3*Data!M686/SQRT(COUNT(Data!F686:J686)),\"\")","v":""},"","","","","",{"$f":"IFERROR((Data!K686-$E$4),\"\")","v":""},{"$f":"IF(AND(F686<>\"\",G686<>\"\",H686<>\"\",I686<>\"\",J686<>\"\"),Data!Q686-$E$4,\"\")","v":""},"","","","",{"$f":"IF(F686<>\"\",STDEV($Q$12:Q686),\"\")","v":""},""]
[676,null,{"$f":"RIGHT(Data!C687,10)","v":""},null,null,null,null,null,null,null,{"$f":"IFERROR($U$3*Data!M687/SQRT(COUNT(Data!F687:J687)),\"\")","v":""},"","","","","",{"$f":"IFERROR((Data!K687-$E$4),\"\")","v":""},{"$f":"IF(AND(F687<>\"\",G687<>\"\",H687<>\"\",I687<>\"\",J687<>\"\"),Data!Q687-$E$4,\"\")","v":""},"","","","",{"$f":"IF(F687<>\"\",STDEV($Q$12:Q687),\"\")","v":""},""]
[677,null,{"$f":"RIGHT(Data!C688,10)","v":""},null,null,null,null,null,null,null,{"$f":"IFERROR($U$3*Data!M688/SQRT(COUNT(Data!F688:J688)),\"\")","v":""},"","","","","",{"$f":"IFERROR((Data!K688-$E$4),\"\")","v":""},{"$f":"IF(AND(F688<>\"\",G688<>\"\",H688<>\"\",I688<>\"\",J688<>\"\"),Data!Q688-$E$4,\"\")","v":""},"","","","",{"$f":"IF(F688<>\"\",STDEV($Q$12:Q688),\"\")","v":""},""]
[678,null,{"$f":"RIGHT(Data!C689,10)","v":""},null,null,null,null,null,null,null,{"$f":"IFERROR($U$3*Data!M689/SQRT(COUNT(Data!F689:J689)),\"\")","v":""},"","","","","",{"$f":"IFERROR((Data!K689-$E$4),\"\")","v":""},{"$f":"IF(AND(F689<>\"\",G689<>\"\",H689<>\"\",I689<>\"\",J689<>\"\"),Data!Q689-$E$4,\"\")","v":""},"","","","",{"$f":"IF(F689<>\"\",STDEV($Q$12:Q689),\"\")","v":""},""]
[679,null,{"$f":"RIGHT(Data!C690,10)","v":""},null,null,null,null,null,null,null,{"$f":"IFERROR($U$3*Data!M690/SQRT(COUNT(Data!F690:J690)),\"\")","v":""},"","","","","",{"$f":"IFERROR((Data!K690-$E$4),\"\")","v":""},{"$f":"IF(AND(F690<>\"\",G690<>\"\",H690<>\"\",I690<>\"\",J690<>\"\"),Data!Q690-$E$4,\"\")","v":""},"","","","",{"$f":"IF(F690<>\"\",STDEV($Q$12:Q690),\"\")","v":""},""]
[680,null,{"$f":"RIGHT(Data!C691,10)","v":""},null,null,null,null,null,null,null,{"$f":"IFERROR($U$3*Data!M691/SQRT(COUNT(Data!F691:J691)),\"\")","v":""},"","","","","",{"$f":"IFERROR((Data!K691-$E$4),\"\")","v":""},{"$f":"IF(AND(F691<>\"\",G691<>\"\",H691<>\"\",I691<>\"\",J691<>\"\"),Data!Q691-$E$4,\"\")","v":""},"","","","",{"$f":"IF(F691<>\"\",STDEV($Q$12:Q691),\"\")","v":""},""]
[681,null,{"$f":"RIGHT(Data!C692,10)","v":""},null,null,null,null,null,null,null,{"$f":"IFERROR($U$3*Data!M692/SQRT(COUNT(Data!F692:J692)),\"\")","v":""},"","","","","",{"$f":"IFERROR((Data!K692-$E$4),\"\")","v":""},{"$f":"IF(AND(F692<>\"\",G692<>\"\",H692<>\"\",I692<>\"\",J692<>\"\"),Data!Q692-$E$4,\"\")","v":""},"","","","",{"$f":"IF(F692<>\"\",STDEV($Q$12:Q692),\"\")","v":""},""]
[682,null,{"$f":"RIGHT(Data!C693,10)","v":""},null,null,null,null,null,null,null,{"$f":"IFERROR($U$3*Data!M693/SQRT(COUNT(Data!F693:J693)),\"\")","v":""},"","","","","",{"$f":"IFERROR((Data!K693-$E$4),\"\")","v":""},{"$f":"IF(AND(F693<>\"\",G693<>\"\",H693<>\"\",I693<>\"\",J693<>\"\"),Data!Q693-$E$4,\"\")","v":""},"","","","",{"$f":"IF(F693<>\"\",STDEV($Q$12:Q693),\"\")","v":""},""]
[683,null,{"$f":"RIGHT(Data!C694,10)","v":""},null,null,null,null,null,null,null,{"$f":"IFERROR($U$3*Data!M694/SQRT(COUNT(Data!F694:J694)),\"\")","v":""},"","","","","",{"$f":"IFERROR((Data!K694-$E$4),\"\")","v":""},{"$f":"IF(AND(F694<>\"\",G694<>\"\",H694<>\"\",I694<>\"\",J694<>\"\"),Data!Q694-$E$4,\"\")","v":""},"","","","",{"$f":"IF(F694<>\"\",STDEV($Q$12:Q694),\"\")","v":""},""]
[684,null,{"$f":"RIGHT(Data!C695,10)","v":""},null,null,null,null,null,null,null,{"$f":"IFERROR($U$3*Data!M695/SQRT(COUNT(Data!F695:J695)),\"\")","v":""},"","","","","",{"$f":"IFERROR((Data!K695-$E$4),\"\")","v":""},{"$f":"IF(AND(F695<>\"\",G695<>\"\",H695<>\"\",I695<>\"\",J695<>\"\"),Data!Q695-$E$4,\"\")","v":""},"","","","",{"$f":"IF(F695<>\"\",STDEV($Q$12:Q695),\"\")","v":""},""]
[685,null,{"$f":"RIGHT(Data!C696,10)","v":""},null,null,null,null,null,null,null,{"$f":"IFERROR($U$3*Data!M696/SQRT(COUNT(Data!F696:J696)),\"\")","v":""},"","","","","",{"$f":"IFERROR((Data!K696-$E$4),\"\")","v":""},{"$f":"IF(AND(F696<>\"\",G696<>\"\",H696<>\"\",I696<>\"\",J696<>\"\"),Data!Q696-$E$4,\"\")","v":""},"","","","",{"$f":"IF(F696<>\"\",STDEV($Q$12:Q696),\"\")","v":""},""]
[686,null,{"$f":"RIGHT(Data!C697,10)","v":""},null,null,null,null,null,null,null,{"$f":"IFERROR($U$3*Data!M697/SQRT(COUNT(Data!F697:J697)),\"\")","v":""},"","","","","",{"$f":"IFERROR((Data!K697-$E$4),\"\")","v":""},{"$f":"IF(AND(F697<>\"\",G697<>\"\",H697<>\"\",I697<>\"\",J697<>\"\"),Data!Q697-$E$4,\"\")","v":""},"","","","",{"$f":"IF(F697<>\"\",STDEV($Q$12:Q697),\"\")","v":""},""]
[687,null,{"$f":"RIGHT(Data!C698,10)","v":""},null,null,null,null,null,null,null,{"$f":"IFERROR($U$3*Data!M698/SQRT(COUNT(Data!F698:J698)),\"\")","v":""},"","","","","",{"$f":"IFERROR((Data!K698-$E$4),\"\")","v":""},{"$f":"IF(AND(F698<>\"\",G698<>\"\",H698<>\"\",I698<>\"\",J698<>\"\"),Data!Q698-$E$4,\"\")","v":""},"","","","",{"$f":"IF(F698<>\"\",STDEV($Q$12:Q698),\"\")","v":""},""]
[688,null,{"$f":"RIGHT(Data!C699,10)","v":""},null,null,null,null,null,null,null,{"$f":"IFERROR($U$3*Data!M699/SQRT(COUNT(Data!F699:J699)),\"\")","v":""},"","","","","",{"$f":"IFERROR((Data!K699-$E$4),\"\")","v":""},{"$f":"IF(AND(F699<>\"\",G699<>\"\",H699<>\"\",I699<>\"\",J699<>\"\"),Data!Q699-$E$4,\"\")","v":""},"","","","",{"$f":"IF(F699<>\"\",STDEV($Q$12:Q699),\"\")","v":""},""]
[689,null,{"$f":"RIGHT(Data!C700,10)","v":""},null,null,null,null,null,null,null,{"$f":"IFERROR($U$3*Data!M700/SQRT(COUNT(Data!F700:J700)),\"\")","v":""},"","","","","",{"$f":"IFERROR((Data!K700-$E$4),\"\")","v":""},{"$f":"IF(AND(F700<>\"\",G700<>\"\",H700<>\"\",I700<>\"\",J700<>\"\"),Data!Q700-$E$4,\"\")","v":""},"","","","",{"$f":"IF(F700<>\"\",STDEV($Q$12:Q700),\"\")","v":""},""]
[690,null,{"$f":"RIGHT(Data!C701,10)","v":""},null,null,null,null,null,null,null,{"$f":"IFERROR($U$3*Data!M701/SQRT(COUNT(Data!F701:J701)),\"\")","v":""},"","","","","",{"$f":"IFERROR((Data!K701-$E$4),\"\")","v":""},{"$f":"IF(AND(F701<>\"\",G701<>\"\",H701<>\"\",I701<>\"\",J701<>\"\"),Data!Q701-$E$4,\"\")","v":""},"","","","",{"$f":"IF(F701<>\"\",STDEV($Q$12:Q701),\"\")","v":""},""]
[691,null,{"$f":"RIGHT(Data!C702,10)","v":""},null,null,null,null,null,null,null,{"$f":"IFERROR($U$3*Data!M702/SQRT(COUNT(Data!F702:J702)),\"\")","v":""},"","","","","",{"$f":"IFERROR((Data!K702-$E$4),\"\")","v":""},{"$f":"IF(AND(F702<>\"\",G702<>\"\",H702<>\"\",I702<>\"\",J702<>\"\"),Data!Q702-$E$4,\"\")","v":""},"","","","",{"$f":"IF(F702<>\"\",STDEV($Q$12:Q702),\"\")","v":""},""]
[692,null,{"$f":"RIGHT(Data!C703,10)","v":""},null,null,null,null,null,null,null,{"$f":"IFERROR($U$3*Data!M703/SQRT(COUNT(Data!F703:J703)),\"\")","v":""},"","","","","",{"$f":"IFERROR((Data!K703-$E$4),\"\")","v":""},{"$f":"IF(AND(F703<>\"\",G703<>\"\",H703<>\"\",I703<>\"\",J703<>\"\"),Data!Q703-$E$4,\"\")","v":""},"","","","",{"$f":"IF(F703<>\"\",STDEV($Q$12:Q703),\"\")","v":""},""]
[693,null,{"$f":"RIGHT(Data!C704,10)","v":""},null,null,null,null,null,null,null,{"$f":"IFERROR($U$3*Data!M704/SQRT(COUNT(Data!F704:J704)),\"\")","v":""},"","","","","",{"$f":"IFERROR((Data!K704-$E$4),\"\")","v":""},{"$f":"IF(AND(F704<>\"\",G704<>\"\",H704<>\"\",I704<>\"\",J704<>\"\"),Data!Q704-$E$4,\"\")","v":""},"","","","",{"$f":"IF(F704<>\"\",STDEV($Q$12:Q704),\"\")","v":""},""]
[694,null,{"$f":"RIGHT(Data!C705,10)","v":""},null,null,null,null,null,null,null,{"$f":"IFERROR($U$3*Data!M705/SQRT(COUNT(Data!F705:J705)),\"\")","v":""},"","","","","",{"$f":"IFERROR((Data!K705-$E$4),\"\")","v":""},{"$f":"IF(AND(F705<>\"\",G705<>\"\",H705<>\"\",I705<>\"\",J705<>\"\"),Data!Q705-$E$4,\"\")","v":""},"","","","",{"$f":"IF(F705<>\"\",STDEV($Q$12:Q705),\"\")","v":""},""]
[695,null,{"$f":"RIGHT(Data!C706,10)","v":""},null,null,null,null,null,null,null,{"$f":"IFERROR($U$3*Data!M706/SQRT(COUNT(Data!F706:J706)),\"\")","v":""},"","","","","",{"$f":"IFERROR((Data!K706-$E$4),\"\")","v":""},{"$f":"IF(AND(F706<>\"\",G706<>\"\",H706<>\"\",I706<>\"\",J706<>\"\"),Data!Q706-$E$4,\"\")","v":""},"","","","",{"$f":"IF(F706<>\"\",STDEV($Q$12:Q706),\"\")","v":""},""]
[696,null,{"$f":"RIGHT(Data!C707,10)","v":""},null,null,null,null,null,null,null,{"$f":"IFERROR($U$3*Data!M707/SQRT(COUNT(Data!F707:J707)),\"\")","v":""},"","","","","",{"$f":"IFERROR((Data!K707-$E$4),\"\")","v":""},{"$f":"IF(AND(F707<>\"\",G707<>\"\",H707<>\"\",I707<>\"\",J707<>\"\"),Data!Q707-$E$4,\"\")","v":""},"","","","",{"$f":"IF(F707<>\"\",STDEV($Q$12:Q707),\"\")","v":""},""]
[697,null,{"$f":"RIGHT(Data!C708,10)","v":""},null,null,null,null,null,null,null,{"$f":"IFERROR($U$3*Data!M708/SQRT(COUNT(Data!F708:J708)),\"\")","v":""},"","","","","",{"$f":"IFERROR((Data!K708-$E$4),\"\")","v":""},{"$f":"IF(AND(F708<>\"\",G708<>\"\",H708<>\"\",I708<>\"\",J708<>\"\"),Data!Q708-$E$4,\"\")","v":""},"","","","",{"$f":"IF(F708<>\"\",STDEV($Q$12:Q708),\"\")","v":""},""]
[698,null,{"$f":"RIGHT(Data!C709,10)","v":""},null,null,null,null,null,null,null,{"$f":"IFERROR($U$3*Data!M709/SQRT(COUNT(Data!F709:J709)),\"\")","v":""},"","","","","",{"$f":"IFERROR((Data!K709-$E$4),\"\")","v":""},{"$f":"IF(AND(F709<>\"\",G709<>\"\",H709<>\"\",I709<>\"\",J709<>\"\"),Data!Q709-$E$4,\"\")","v":""},"","","","",{"$f":"IF(F709<>\"\",STDEV($Q$12:Q709),\"\")","v":""},""]
[699,null,{"$f":"RIGHT(Data!C710,10)","v":""},null,null,null,null,null,null,null,{"$f":"IFERROR($U$3*Data!M710/SQRT(COUNT(Data!F710:J710)),\"\")","v":""},"","","","","",{"$f":"IFERROR((Data!K710-$E$4),\"\")","v":""},{"$f":"IF(AND(F710<>\"\",G710<>\"\",H710<>\"\",I710<>\"\",J710<>\"\"),Data!Q710-$E$4,\"\")","v":""},"","","","",{"$f":"IF(F710<>\"\",STDEV($Q$12:Q710),\"\")","v":""},""]
[700,null,{"$f":"RIGHT(Data!C711,10)","v":""},null,null,null,null,null,null,null,{"$f":"IFERROR($U$3*Data!M711/SQRT(COUNT(Data!F711:J711)),\"\")","v":""},"","","","","",{"$f":"IFERROR((Data!K711-$E$4),\"\")","v":""},{"$f":"IF(AND(F711<>\"\",G711<>\"\",H711<>\"\",I711<>\"\",J711<>\"\"),Data!Q711-$E$4,\"\")","v":""},"","","","",{"$f":"IF(F711<>\"\",STDEV($Q$12:Q711),\"\")","v":""},""]
[701,null,{"$f":"RIGHT(Data!C712,10)","v":""},null,null,null,null,null,null,null,{"$f":"IFERROR($U$3*Data!M712/SQRT(COUNT(Data!F712:J712)),\"\")","v":""},"","","","","",{"$f":"IFERROR((Data!K712-$E$4),\"\")","v":""},{"$f":"IF(AND(F712<>\"\",G712<>\"\",H712<>\"\",I712<>\"\",J712<>\"\"),Data!Q712-$E$4,\"\")","v":""},"","","","",{"$f":"IF(F712<>\"\",STDEV($Q$12:Q712),\"\")","v":""},""]
[702,null,{"$f":"RIGHT(Data!C713,10)","v":""},null,null,null,null,null,null,null,{"$f":"IFERROR($U$3*Data!M713/SQRT(COUNT(Data!F713:J713)),\"\")","v":""},"","","","","",{"$f":"IFERROR((Data!K713-$E$4),\"\")","v":""},{"$f":"IF(AND(F713<>\"\",G713<>\"\",H713<>\"\",I713<>\"\",J713<>\"\"),Data!Q713-$E$4,\"\")","v":""},"","","","",{"$f":"IF(F713<>\"\",STDEV($Q$12:Q713),\"\")","v":""},""]
[703,null,{"$f":"RIGHT(Data!C714,10)","v":""},null,null,null,null,null,null,null,{"$f":"IFERROR($U$3*Data!M714/SQRT(COUNT(Data!F714:J714)),\"\")","v":""},"","","","","",{"$f":"IFERROR((Data!K714-$E$4),\"\")","v":""},{"$f":"IF(AND(F714<>\"\",G714<>\"\",H714<>\"\",I714<>\"\",J714<>\"\"),Data!Q714-$E$4,\"\")","v":""},"","","","",{"$f":"IF(F714<>\"\",STDEV($Q$12:Q714),\"\")","v":""},""]
[704,null,{"$f":"RIGHT(Data!C715,10)","v":""},null,null,null,null,null,null,null,{"$f":"IFERROR($U$3*Data!M715/SQRT(COUNT(Data!F715:J715)),\"\")","v":""},"","","","","",{"$f":"IFERROR((Data!K715-$E$4),\"\")","v":""},{"$f":"IF(AND(F715<>\"\",G715<>\"\",H715<>\"\",I715<>\"\",J715<>\"\"),Data!Q715-$E$4,\"\")","v":""},"","","","",{"$f":"IF(F715<>\"\",STDEV($Q$12:Q715),\"\")","v":""},""]
[705,null,{"$f":"RIGHT(Data!C716,10)","v":""},null,null,null,null,null,null,null,{"$f":"IFERROR($U$3*Data!M716/SQRT(COUNT(Data!F716:J716)),\"\")","v":""},"","",{"$f":"IF(COUNT(F716:J716)>=5,STDEV(F716:J716)*$U$3/SQRT((COUNT(F716:J716))),\"\")","v":""},{"$f":"IFERROR($U$4*SQRT($U$7^2+L716^2+K716^2+$U$5^2+N716^2),\"\")","v":""},"",{"$f":"IFERROR((Data!K716-$E$4),\"\")","v":""},{"$f":"IF(AND(F716<>\"\",G716<>\"\",H716<>\"\",I716<>\"\",J716<>\"\"),Data!Q716-$E$4,\"\")","v":""},{"$f":"IF(O716<>\"\",FIXED(X716,1) & \" ± \" & FIXED(O716+ABS(R716),2),\"\")","v":""},"","","",{"$f":"IF(F716<>\"\",STDEV($Q$12:Q716),\"\")","v":""},{"$f":"IF(F716<>\"\",AVERAGE(F716:J716),\"\")","v":""}]
[706,null,{"$f":"RIGHT(Data!C717,10)","v":""},null,null,null,null,null,null,null,{"$f":"IFERROR($U$3*Data!M717/SQRT(COUNT(Data!F717:J717)),\"\")","v":""},{"$f":"IF(F717<>\"\",V717*W717/SQRT(A717),\"\")","v":""},{"$f":"IF(F717<>\"\",$U$4*SQRT($U$7^2+L717^2+K717^2+$U$5^2),\"\")","v":""},"","",{"$f":"IF(AND(F717<>\"\",G717<>\"\",H717<>\"\",I717<>\"\",J717<>\"\"),AVERAGE(F717:J717),\"\")","v":""},{"$f":"IFERROR((Data!K717-$E$4),\"\")","v":""},{"$f":"IF(AND(F717<>\"\",G717<>\"\",H717<>\"\",I717<>\"\",J717<>\"\"),Data!Q717-$E$4,\"\")","v":""},"",{"$f":"IF(F717<>\"\",FIXED(AVERAGE(F717:J717)-R717,1) & \" ± \" & FIXED(O717,2),\"\")","v":""},{"$f":"IF(IO717=\"\",\"\",IO717-1)","v":""},{"$f":"IF(F717<>\"\",TINV(1-0.68,A717-1),\"\")","v":""},{"$f":"IF(F717<>\"\",STDEV($Q$12:Q717),\"\")","v":""},""]
[707,null,{"$f":"RIGHT(Data!C718,10)","v":""},null,null,null,null,null,null,null,{"$f":"IFERROR($U$3*Data!M718/SQRT(COUNT(Data!F718:J718)),\"\")","v":""},"","","","","",{"$f":"IFERROR((Data!K718-$E$4),\"\")","v":""},{"$f":"IF(AND(F718<>\"\",G718<>\"\",H718<>\"\",I718<>\"\",J718<>\"\"),Data!Q718-$E$4,\"\")","v":""},"","","","",{"$f":"IF(F718<>\"\",STDEV($Q$12:Q718),\"\")","v":""},""]
[708,null,{"$f":"RIGHT(Data!C719,10)","v":""},null,null,null,null,null,null,null,{"$f":"IFERROR($U$3*Data!M719/SQRT(COUNT(Data!F719:J719)),\"\")","v":""},"","","","","",{"$f":"IFERROR((Data!K719-$E$4),\"\")","v":""},{"$f":"IF(AND(F719<>\"\",G719<>\"\",H719<>\"\",I719<>\"\",J719<>\"\"),Data!Q719-$E$4,\"\")","v":""},"","","","",{"$f":"IF(F719<>\"\",STDEV($Q$12:Q719),\"\")","v":""},""]
[709,null,{"$f":"RIGHT(Data!C720,10)","v":""},null,null,null,null,null,null,null,{"$f":"IFERROR($U$3*Data!M720/SQRT(COUNT(Data!F720:J720)),\"\")","v":""},"","","","","",{"$f":"IFERROR((Data!K720-$E$4),\"\")","v":""},{"$f":"IF(AND(F720<>\"\",G720<>\"\",H720<>\"\",I720<>\"\",J720<>\"\"),Data!Q720-$E$4,\"\")","v":""},"","","","",{"$f":"IF(F720<>\"\",STDEV($Q$12:Q720),\"\")","v":""},""]
[710,null,{"$f":"RIGHT(Data!C721,10)","v":""},null,null,null,null,null,null,null,{"$f":"IFERROR($U$3*Data!M721/SQRT(COUNT(Data!F721:J721)),\"\")","v":""},"","","","","",{"$f":"IFERROR((Data!K721-$E$4),\"\")","v":""},{"$f":"IF(AND(F721<>\"\",G721<>\"\",H721<>\"\",I721<>\"\",J721<>\"\"),Data!Q721-$E$4,\"\")","v":""},"","","","",{"$f":"IF(F721<>\"\",STDEV($Q$12:Q721),\"\")","v":""},""]
[711,null,{"$f":"RIGHT(Data!C722,10)","v":""},null,null,null,null,null,null,null,{"$f":"IFERROR($U$3*Data!M722/SQRT(COUNT(Data!F722:J722)),\"\")","v":""},"","","","","",{"$f":"IFERROR((Data!K722-$E$4),\"\")","v":""},{"$f":"IF(AND(F722<>\"\",G722<>\"\",H722<>\"\",I722<>\"\",J722<>\"\"),Data!Q722-$E$4,\"\")","v":""},"","","","",{"$f":"IF(F722<>\"\",STDEV($Q$12:Q722),\"\")","v":""},""]
[712,null,{"$f":"RIGHT(Data!C723,10)","v":""},null,null,null,null,null,null,null,{"$f":"IFERROR($U$3*Data!M723/SQRT(COUNT(Data!F723:J723)),\"\")","v":""},"","","","","",{"$f":"IFERROR((Data!K723-$E$4),\"\")","v":""},{"$f":"IF(AND(F723<>\"\",G723<>\"\",H723<>\"\",I723<>\"\",J723<>\"\"),Data!Q723-$E$4,\"\")","v":""},"","","","",{"$f":"IF(F723<>\"\",STDEV($Q$12:Q723),\"\")","v":""},""]
[713,null,{"$f":"RIGHT(Data!C724,10)","v":""},null,null,null,null,null,null,null,{"$f":"IFERROR($U$3*Data!M724/SQRT(COUNT(Data!F724:J724)),\"\")","v":""},"","","","","",{"$f":"IFERROR((Data!K724-$E$4),\"\")","v":""},{"$f":"IF(AND(F724<>\"\",G724<>\"\",H724<>\"\",I724<>\"\",J724<>\"\"),Data!Q724-$E$4,\"\")","v":""},"","","","",{"$f":"IF(F724<>\"\",STDEV($Q$12:Q724),\"\")","v":""},""]
[714,null,{"$f":"RIGHT(Data!C725,10)","v":""},null,null,null,null,null,null,null,{"$f":"IFERROR($U$3*Data!M725/SQRT(COUNT(Data!F725:J725)),\"\")","v":""},"","","","","",{"$f":"IFERROR((Data!K725-$E$4),\"\")","v":""},{"$f":"IF(AND(F725<>\"\",G725<>\"\",H725<>\"\",I725<>\"\",J725<>\"\"),Data!Q725-$E$4,\"\")","v":""},"","","","",{"$f":"IF(F725<>\"\",STDEV($Q$12:Q725),\"\")","v":""},""]
[715,null,{"$f":"RIGHT(Data!C726,10)","v":""},null,null,null,null,null,null,null,{"$f":"IFERROR($U$3*Data!M726/SQRT(COUNT(Data!F726:J726)),\"\")","v":""},"","","","","",{"$f":"IFERROR((Data!K726-$E$4),\"\")","v":""},{"$f":"IF(AND(F726<>\"\",G726<>\"\",H726<>\"\",I726<>\"\",J726<>\"\"),Data!Q726-$E$4,\"\")","v":""},"","","","",{"$f":"IF(F726<>\"\",STDEV($Q$12:Q726),\"\")","v":""},""]
[716,null,{"$f":"RIGHT(Data!C727,10)","v":""},null,null,null,null,null,null,null,{"$f":"IFERROR($U$3*Data!M727/SQRT(COUNT(Data!F727:J727)),\"\")","v":""},"","","","","",{"$f":"IFERROR((Data!K727-$E$4),\"\")","v":""},{"$f":"IF(AND(F727<>\"\",G727<>\"\",H727<>\"\",I727<>\"\",J727<>\"\"),Data!Q727-$E$4,\"\")","v":""},"","","","",{"$f":"IF(F727<>\"\",STDEV($Q$12:Q727),\"\")","v":""},""]
[717,null,{"$f":"RIGHT(Data!C728,10)","v":""},null,null,null,null,null,null,null,{"$f":"IFERROR($U$3*Data!M728/SQRT(COUNT(Data!F728:J728)),\"\")","v":""},"","","","","",{"$f":"IFERROR((Data!K728-$E$4),\"\")","v":""},{"$f":"IF(AND(F728<>\"\",G728<>\"\",H728<>\"\",I728<>\"\",J728<>\"\"),Data!Q728-$E$4,\"\")","v":""},"","","","",{"$f":"IF(F728<>\"\",STDEV($Q$12:Q728),\"\")","v":""},""]
[718,null,{"$f":"RIGHT(Data!C729,10)","v":""},null,null,null,null,null,null,null,{"$f":"IFERROR($U$3*Data!M729/SQRT(COUNT(Data!F729:J729)),\"\")","v":""},"","","","","",{"$f":"IFERROR((Data!K729-$E$4),\"\")","v":""},{"$f":"IF(AND(F729<>\"\",G729<>\"\",H729<>\"\",I729<>\"\",J729<>\"\"),Data!Q729-$E$4,\"\")","v":""},"","","","",{"$f":"IF(F729<>\"\",STDEV($Q$12:Q729),\"\")","v":""},""]
[719,null,{"$f":"RIGHT(Data!C730,10)","v":""},null,null,null,null,null,null,null,{"$f":"IFERROR($U$3*Data!M730/SQRT(COUNT(Data!F730:J730)),\"\")","v":""},"","","","","",{"$f":"IFERROR((Data!K730-$E$4),\"\")","v":""},{"$f":"IF(AND(F730<>\"\",G730<>\"\",H730<>\"\",I730<>\"\",J730<>\"\"),Data!Q730-$E$4,\"\")","v":""},"","","","",{"$f":"IF(F730<>\"\",STDEV($Q$12:Q730),\"\")","v":""},""]
[720,null,{"$f":"RIGHT(Data!C731,10)","v":""},null,null,null,null,null,null,null,{"$f":"IFERROR($U$3*Data!M731/SQRT(COUNT(Data!F731:J731)),\"\")","v":""},"","","","","",{"$f":"IFERROR((Data!K731-$E$4),\"\")","v":""},{"$f":"IF(AND(F731<>\"\",G731<>\"\",H731<>\"\",I731<>\"\",J731<>\"\"),Data!Q731-$E$4,\"\")","v":""},"","","","",{"$f":"IF(F731<>\"\",STDEV($Q$12:Q731),\"\")","v":""},""]
[721,null,{"$f":"RIGHT(Data!C732,10)","v":""},null,null,null,null,null,null,null,{"$f":"IFERROR($U$3*Data!M732/SQRT(COUNT(Data!F732:J732)),\"\")","v":""},"","","","","",{"$f":"IFERROR((Data!K732-$E$4),\"\")","v":""},{"$f":"IF(AND(F732<>\"\",G732<>\"\",H732<>\"\",I732<>\"\",J732<>\"\"),Data!Q732-$E$4,\"\")","v":""},"","","","",{"$f":"IF(F732<>\"\",STDEV($Q$12:Q732),\"\")","v":""},""]
[722,null,{"$f":"RIGHT(Data!C733,10)","v":""},null,null,null,null,null,null,null,{"$f":"IFERROR($U$3*Data!M733/SQRT(COUNT(Data!F733:J733)),\"\")","v":""},"","","","","",{"$f":"IFERROR((Data!K733-$E$4),\"\")","v":""},{"$f":"IF(AND(F733<>\"\",G733<>\"\",H733<>\"\",I733<>\"\",J733<>\"\"),Data!Q733-$E$4,\"\")","v":""},"","","","",{"$f":"IF(F733<>\"\",STDEV($Q$12:Q733),\"\")","v":""},""]
[723,null,{"$f":"RIGHT(Data!C734,10)","v":""},null,null,null,null,null,null,null,{"$f":"IFERROR($U$3*Data!M734/SQRT(COUNT(Data!F734:J734)),\"\")","v":""},"","","","","",{"$f":"IFERROR((Data!K734-$E$4),\"\")","v":""},{"$f":"IF(AND(F734<>\"\",G734<>\"\",H734<>\"\",I734<>\"\",J734<>\"\"),Data!Q734-$E$4,\"\")","v":""},"","","","",{"$f":"IF(F734<>\"\",STDEV($Q$12:Q734),\"\")","v":""},""]
[724,null,{"$f":"RIGHT(Data!C735,10)","v":""},null,null,null,null,null,null,null,{"$f":"IFERROR($U$3*Data!M735/SQRT(COUNT(Data!F735:J735)),\"\")","v":""},"","","","","",{"$f":"IFERROR((Data!K735-$E$4),\"\")","v":""},{"$f":"IF(AND(F735<>\"\",G735<>\"\",H735<>\"\",I735<>\"\",J735<>\"\"),Data!Q735-$E$4,\"\")","v":""},"","","","",{"$f":"IF(F735<>\"\",STDEV($Q$12:Q735),\"\")","v":""},""]
[725,null,{"$f":"RIGHT(Data!C736,10)","v":""},null,null,null,null,null,null,null,{"$f":"IFERROR($U$3*Data!M736/SQRT(COUNT(Data!F736:J736)),\"\")","v":""},"","","","","",{"$f":"IFERROR((Data!K736-$E$4),\"\")","v":""},{"$f":"IF(AND(F736<>\"\",G736<>\"\",H736<>\"\",I736<>\"\",J736<>\"\"),Data!Q736-$E$4,\"\")","v":""},"","","","",{"$f":"IF(F736<>\"\",STDEV($Q$12:Q736),\"\")","v":""},""]
[726,null,{"$f":"RIGHT(Data!C737,10)","v":""},null,null,null,null,null,null,null,{"$f":"IFERROR($U$3*Data!M737/SQRT(COUNT(Data!F737:J737)),\"\")","v":""},"","","","","",{"$f":"IFERROR((Data!K737-$E$4),\"\")","v":""},{"$f":"IF(AND(F737<>\"\",G737<>\"\",H737<>\"\",I737<>\"\",J737<>\"\"),Data!Q737-$E$4,\"\")","v":""},"","","","",{"$f":"IF(F737<>\"\",STDEV($Q$12:Q737),\"\")","v":""},""]
[727,null,{"$f":"RIGHT(Data!C738,10)","v":""},null,null,null,null,null,null,null,{"$f":"IFERROR($U$3*Data!M738/SQRT(COUNT(Data!F738:J738)),\"\")","v":""},"","","","","",{"$f":"IFERROR((Data!K738-$E$4),\"\")","v":""},{"$f":"IF(AND(F738<>\"\",G738<>\"\",H738<>\"\",I738<>\"\",J738<>\"\"),Data!Q738-$E$4,\"\")","v":""},"","","","",{"$f":"IF(F738<>\"\",STDEV($Q$12:Q738),\"\")","v":""},""]
[728,null,{"$f":"RIGHT(Data!C739,10)","v":""},null,null,null,null,null,null,null,{"$f":"IFERROR($U$3*Data!M739/SQRT(COUNT(Data!F739:J739)),\"\")","v":""},"","","","","",{"$f":"IFERROR((Data!K739-$E$4),\"\")","v":""},{"$f":"IF(AND(F739<>\"\",G739<>\"\",H739<>\"\",I739<>\"\",J739<>\"\"),Data!Q739-$E$4,\"\")","v":""},"","","","",{"$f":"IF(F739<>\"\",STDEV($Q$12:Q739),\"\")","v":""},""]
[729,null,{"$f":"RIGHT(Data!C740,10)","v":""},null,null,null,null,null,null,null,{"$f":"IFERROR($U$3*Data!M740/SQRT(COUNT(Data!F740:J740)),\"\")","v":""},"","","","","",{"$f":"IFERROR((Data!K740-$E$4),\"\")","v":""},{"$f":"IF(AND(F740<>\"\",G740<>\"\",H740<>\"\",I740<>\"\",J740<>\"\"),Data!Q740-$E$4,\"\")","v":""},"","","","",{"$f":"IF(F740<>\"\",STDEV($Q$12:Q740),\"\")","v":""},""]
[730,null,{"$f":"RIGHT(Data!C741,10)","v":""},null,null,null,null,null,null,null,{"$f":"IFERROR($U$3*Data!M741/SQRT(COUNT(Data!F741:J741)),\"\")","v":""},"","","","","",{"$f":"IFERROR((Data!K741-$E$4),\"\")","v":""},{"$f":"IF(AND(F741<>\"\",G741<>\"\",H741<>\"\",I741<>\"\",J741<>\"\"),Data!Q741-$E$4,\"\")","v":""},"","","","",{"$f":"IF(F741<>\"\",STDEV($Q$12:Q741),\"\")","v":""},""]
[731,null,{"$f":"RIGHT(Data!C742,10)","v":""},null,null,null,null,null,null,null,{"$f":"IFERROR($U$3*Data!M742/SQRT(COUNT(Data!F742:J742)),\"\")","v":""},"","","","","",{"$f":"IFERROR((Data!K742-$E$4),\"\")","v":""},{"$f":"IF(AND(F742<>\"\",G742<>\"\",H742<>\"\",I742<>\"\",J742<>\"\"),Data!Q742-$E$4,\"\")","v":""},"","","","",{"$f":"IF(F742<>\"\",STDEV($Q$12:Q742),\"\")","v":""},""]
[732,null,{"$f":"RIGHT(Data!C743,10)","v":""},null,null,null,null,null,null,null,{"$f":"IFERROR($U$3*Data!M743/SQRT(COUNT(Data!F743:J743)),\"\")","v":""},"","","","","",{"$f":"IFERROR((Data!K743-$E$4),\"\")","v":""},{"$f":"IF(AND(F743<>\"\",G743<>\"\",H743<>\"\",I743<>\"\",J743<>\"\"),Data!Q743-$E$4,\"\")","v":""},"","","","",{"$f":"IF(F743<>\"\",STDEV($Q$12:Q743),\"\")","v":""},""]
[733,null,{"$f":"RIGHT(Data!C744,10)","v":""},null,null,null,null,null,null,null,{"$f":"IFERROR($U$3*Data!M744/SQRT(COUNT(Data!F744:J744)),\"\")","v":""},"","","","","",{"$f":"IFERROR((Data!K744-$E$4),\"\")","v":""},{"$f":"IF(AND(F744<>\"\",G744<>\"\",H744<>\"\",I744<>\"\",J744<>\"\"),Data!Q744-$E$4,\"\")","v":""},"","","","",{"$f":"IF(F744<>\"\",STDEV($Q$12:Q744),\"\")","v":""},""]
[734,null,{"$f":"RIGHT(Data!C745,10)","v":""},null,null,null,null,null,null,null,{"$f":"IFERROR($U$3*Data!M745/SQRT(COUNT(Data!F745:J745)),\"\")","v":""},"","","","","",{"$f":"IFERROR((Data!K745-$E$4),\"\")","v":""},{"$f":"IF(AND(F745<>\"\",G745<>\"\",H745<>\"\",I745<>\"\",J745<>\"\"),Data!Q745-$E$4,\"\")","v":""},"","","","",{"$f":"IF(F745<>\"\",STDEV($Q$12:Q745),\"\")","v":""},""]
[735,null,{"$f":"RIGHT(Data!C746,10)","v":""},null,null,null,null,null,null,null,{"$f":"IFERROR($U$3*Data!M746/SQRT(COUNT(Data!F746:J746)),\"\")","v":""},"","","","","",{"$f":"IFERROR((Data!K746-$E$4),\"\")","v":""},{"$f":"IF(AND(F746<>\"\",G746<>\"\",H746<>\"\",I746<>\"\",J746<>\"\"),Data!Q746-$E$4,\"\")","v":""},"","","","",{"$f":"IF(F746<>\"\",STDEV($Q$12:Q746),\"\")","v":""},""]
[736,null,{"$f":"RIGHT(Data!C747,10)","v":""},null,null,null,null,null,null,null,{"$f":"IFERROR($U$3*Data!M747/SQRT(COUNT(Data!F747:J747)),\"\")","v":""},"","","","","",{"$f":"IFERROR((Data!K747-$E$4),\"\")","v":""},{"$f":"IF(AND(F747<>\"\",G747<>\"\",H747<>\"\",I747<>\"\",J747<>\"\"),Data!Q747-$E$4,\"\")","v":""},"","","","",{"$f":"IF(F747<>\"\",STDEV($Q$12:Q747),\"\")","v":""},""]
[737,null,{"$f":"RIGHT(Data!C748,10)","v":""},null,null,null,null,null,null,null,{"$f":"IFERROR($U$3*Data!M748/SQRT(COUNT(Data!F748:J748)),\"\")","v":""},"","","","","",{"$f":"IFERROR((Data!K748-$E$4),\"\")","v":""},{"$f":"IF(AND(F748<>\"\",G748<>\"\",H748<>\"\",I748<>\"\",J748<>\"\"),Data!Q748-$E$4,\"\")","v":""},"","","","",{"$f":"IF(F748<>\"\",STDEV($Q$12:Q748),\"\")","v":""},""]
[738,null,{"$f":"RIGHT(Data!C749,10)","v":""},null,null,null,null,null,null,null,{"$f":"IFERROR($U$3*Data!M749/SQRT(COUNT(Data!F749:J749)),\"\")","v":""},"","","","","",{"$f":"IFERROR((Data!K749-$E$4),\"\")","v":""},{"$f":"IF(AND(F749<>\"\",G749<>\"\",H749<>\"\",I749<>\"\",J749<>\"\"),Data!Q749-$E$4,\"\")","v":""},"","","","",{"$f":"IF(F749<>\"\",STDEV($Q$12:Q749),\"\")","v":""},""]
[739,null,{"$f":"RIGHT(Data!C750,10)","v":""},null,null,null,null,null,null,null,{"$f":"IFERROR($U$3*Data!M750/SQRT(COUNT(Data!F750:J750)),\"\")","v":""},"","","","","",{"$f":"IFERROR((Data!K750-$E$4),\"\")","v":""},{"$f":"IF(AND(F750<>\"\",G750<>\"\",H750<>\"\",I750<>\"\",J750<>\"\"),Data!Q750-$E$4,\"\")","v":""},"","","","",{"$f":"IF(F750<>\"\",STDEV($Q$12:Q750),\"\")","v":""},""]
[740,null,{"$f":"RIGHT(Data!C751,10)","v":""},null,null,null,null,null,null,null,{"$f":"IFERROR($U$3*Data!M751/SQRT(COUNT(Data!F751:J751)),\"\")","v":""},"","","","","",{"$f":"IFERROR((Data!K751-$E$4),\"\")","v":""},{"$f":"IF(AND(F751<>\"\",G751<>\"\",H751<>\"\",I751<>\"\",J751<>\"\"),Data!Q751-$E$4,\"\")","v":""},"","","","",{"$f":"IF(F751<>\"\",STDEV($Q$12:Q751),\"\")","v":""},""]
[741,null,{"$f":"RIGHT(Data!C752,10)","v":""},null,null,null,null,null,null,null,{"$f":"IFERROR($U$3*Data!M752/SQRT(COUNT(Data!F752:J752)),\"\")","v":""},"","","","","",{"$f":"IFERROR((Data!K752-$E$4),\"\")","v":""},{"$f":"IF(AND(F752<>\"\",G752<>\"\",H752<>\"\",I752<>\"\",J752<>\"\"),Data!Q752-$E$4,\"\")","v":""},"","","","",{"$f":"IF(F752<>\"\",STDEV($Q$12:Q752),\"\")","v":""},""]
[742,null,{"$f":"RIGHT(Data!C753,10)","v":""},null,null,null,null,null,null,null,{"$f":"IFERROR($U$3*Data!M753/SQRT(COUNT(Data!F753:J753)),\"\")","v":""},"","","","","",{"$f":"IFERROR((Data!K753-$E$4),\"\")","v":""},{"$f":"IF(AND(F753<>\"\",G753<>\"\",H753<>\"\",I753<>\"\",J753<>\"\"),Data!Q753-$E$4,\"\")","v":""},"","","","",{"$f":"IF(F753<>\"\",STDEV($Q$12:Q753),\"\")","v":""},""]
[743,null,{"$f":"RIGHT(Data!C754,10)","v":""},null,null,null,null,null,null,null,{"$f":"IFERROR($U$3*Data!M754/SQRT(COUNT(Data!F754:J754)),\"\")","v":""},"","","","","",{"$f":"IFERROR((Data!K754-$E$4),\"\")","v":""},{"$f":"IF(AND(F754<>\"\",G754<>\"\",H754<>\"\",I754<>\"\",J754<>\"\"),Data!Q754-$E$4,\"\")","v":""},"","","","",{"$f":"IF(F754<>\"\",STDEV($Q$12:Q754),\"\")","v":""},""]
[744,null,{"$f":"RIGHT(Data!C755,10)","v":""},null,null,null,null,null,null,null,{"$f":"IFERROR($U$3*Data!M755/SQRT(COUNT(Data!F755:J755)),\"\")","v":""},"","","","","",{"$f":"IFERROR((Data!K755-$E$4),\"\")","v":""},{"$f":"IF(AND(F755<>\"\",G755<>\"\",H755<>\"\",I755<>\"\",J755<>\"\"),Data!Q755-$E$4,\"\")","v":""},"","","","",{"$f":"IF(F755<>\"\",STDEV($Q$12:Q755),\"\")","v":""},""]
[745,null,{"$f":"RIGHT(Data!C756,10)","v":""},null,null,null,null,null,null,null,{"$f":"IFERROR($U$3*Data!M756/SQRT(COUNT(Data!F756:J756)),\"\")","v":""},"","","","","",{"$f":"IFERROR((Data!K756-$E$4),\"\")","v":""},{"$f":"IF(AND(F756<>\"\",G756<>\"\",H756<>\"\",I756<>\"\",J756<>\"\"),Data!Q756-$E$4,\"\")","v":""},"","","","",{"$f":"IF(F756<>\"\",STDEV($Q$12:Q756),\"\")","v":""},""]
[746,null,{"$f":"RIGHT(Data!C757,10)","v":""},null,null,null,null,null,null,null,{"$f":"IFERROR($U$3*Data!M757/SQRT(COUNT(Data!F757:J757)),\"\")","v":""},"","","","","",{"$f":"IFERROR((Data!K757-$E$4),\"\")","v":""},{"$f":"IF(AND(F757<>\"\",G757<>\"\",H757<>\"\",I757<>\"\",J757<>\"\"),Data!Q757-$E$4,\"\")","v":""},"","","","",{"$f":"IF(F757<>\"\",STDEV($Q$12:Q757),\"\")","v":""},""]
[747,null,{"$f":"RIGHT(Data!C758,10)","v":""},null,null,null,null,null,null,null,{"$f":"IFERROR($U$3*Data!M758/SQRT(COUNT(Data!F758:J758)),\"\")","v":""},"","","","","",{"$f":"IFERROR((Data!K758-$E$4),\"\")","v":""},{"$f":"IF(AND(F758<>\"\",G758<>\"\",H758<>\"\",I758<>\"\",J758<>\"\"),Data!Q758-$E$4,\"\")","v":""},"","","","",{"$f":"IF(F758<>\"\",STDEV($Q$12:Q758),\"\")","v":""},""]
[748,null,{"$f":"RIGHT(Data!C759,10)","v":""},null,null,null,null,null,null,null,{"$f":"IFERROR($U$3*Data!M759/SQRT(COUNT(Data!F759:J759)),\"\")","v":""},"","","","","",{"$f":"IFERROR((Data!K759-$E$4),\"\")","v":""},{"$f":"IF(AND(F759<>\"\",G759<>\"\",H759<>\"\",I759<>\"\",J759<>\"\"),Data!Q759-$E$4,\"\")","v":""},"","","","",{"$f":"IF(F759<>\"\",STDEV($Q$12:Q759),\"\")","v":""},""]
[749,null,{"$f":"RIGHT(Data!C760,10)","v":""},null,null,null,null,null,null,null,{"$f":"IFERROR($U$3*Data!M760/SQRT(COUNT(Data!F760:J760)),\"\")","v":""},"","","","","",{"$f":"IFERROR((Data!K760-$E$4),\"\")","v":""},{"$f":"IF(AND(F760<>\"\",G760<>\"\",H760<>\"\",I760<>\"\",J760<>\"\"),Data!Q760-$E$4,\"\")","v":""},"","","","",{"$f":"IF(F760<>\"\",STDEV($Q$12:Q760),\"\")","v":""},""]
[750,null,{"$f":"RIGHT(Data!C761,10)","v":""},null,null,null,null,null,null,null,{"$f":"IFERROR($U$3*Data!M761/SQRT(COUNT(Data!F761:J761)),\"\")","v":""},"","","","","",{"$f":"IFERROR((Data!K761-$E$4),\"\")","v":""},{"$f":"IF(AND(F761<>\"\",G761<>\"\",H761<>\"\",I761<>\"\",J761<>\"\"),Data!Q761-$E$4,\"\")","v":""},"","","","",{"$f":"IF(F761<>\"\",STDEV($Q$12:Q761),\"\")","v":""},""]
[751,null,{"$f":"RIGHT(Data!C762,10)","v":""},null,null,null,null,null,null,null,{"$f":"IFERROR($U$3*Data!M762/SQRT(COUNT(Data!F762:J762)),\"\")","v":""},"","","","","",{"$f":"IFERROR((Data!K762-$E$4),\"\")","v":""},{"$f":"IF(AND(F762<>\"\",G762<>\"\",H762<>\"\",I762<>\"\",J762<>\"\"),Data!Q762-$E$4,\"\")","v":""},"","","","",{"$f":"IF(F762<>\"\",STDEV($Q$12:Q762),\"\")","v":""},""]
[752,null,{"$f":"RIGHT(Data!C763,10)","v":""},null,null,null,null,null,null,null,{"$f":"IFERROR($U$3*Data!M763/SQRT(COUNT(Data!F763:J763)),\"\")","v":""},"","","","","",{"$f":"IFERROR((Data!K763-$E$4),\"\")","v":""},{"$f":"IF(AND(F763<>\"\",G763<>\"\",H763<>\"\",I763<>\"\",J763<>\"\"),Data!Q763-$E$4,\"\")","v":""},"","","","",{"$f":"IF(F763<>\"\",STDEV($Q$12:Q763),\"\")","v":""},""]
[753,null,{"$f":"RIGHT(Data!C764,10)","v":""},null,null,null,null,null,null,null,{"$f":"IFERROR($U$3*Data!M764/SQRT(COUNT(Data!F764:J764)),\"\")","v":""},"","","","","",{"$f":"IFERROR((Data!K764-$E$4),\"\")","v":""},{"$f":"IF(AND(F764<>\"\",G764<>\"\",H764<>\"\",I764<>\"\",J764<>\"\"),Data!Q764-$E$4,\"\")","v":""},"","","","",{"$f":"IF(F764<>\"\",STDEV($Q$12:Q764),\"\")","v":""},""]
[754,null,{"$f":"RIGHT(Data!C765,10)","v":""},null,null,null,null,null,null,null,{"$f":"IFERROR($U$3*Data!M765/SQRT(COUNT(Data!F765:J765)),\"\")","v":""},"","","","","",{"$f":"IFERROR((Data!K765-$E$4),\"\")","v":""},{"$f":"IF(AND(F765<>\"\",G765<>\"\",H765<>\"\",I765<>\"\",J765<>\"\"),Data!Q765-$E$4,\"\")","v":""},"","","","",{"$f":"IF(F765<>\"\",STDEV($Q$12:Q765),\"\")","v":""},""]
[755,null,{"$f":"RIGHT(Data!C766,10)","v":""},null,null,null,null,null,null,null,{"$f":"IFERROR($U$3*Data!M766/SQRT(COUNT(Data!F766:J766)),\"\")","v":""},"","","","","",{"$f":"IFERROR((Data!K766-$E$4),\"\")","v":""},{"$f":"IF(AND(F766<>\"\",G766<>\"\",H766<>\"\",I766<>\"\",J766<>\"\"),Data!Q766-$E$4,\"\")","v":""},"","","","",{"$f":"IF(F766<>\"\",STDEV($Q$12:Q766),\"\")","v":""},""]
[756,null,{"$f":"RIGHT(Data!C767,10)","v":""},null,null,null,null,null,null,null,{"$f":"IFERROR($U$3*Data!M767/SQRT(COUNT(Data!F767:J767)),\"\")","v":""},"","","","","",{"$f":"IFERROR((Data!K767-$E$4),\"\")","v":""},{"$f":"IF(AND(F767<>\"\",G767<>\"\",H767<>\"\",I767<>\"\",J767<>\"\"),Data!Q767-$E$4,\"\")","v":""},"","","","",{"$f":"IF(F767<>\"\",STDEV($Q$12:Q767),\"\")","v":""},""]
[757,null,{"$f":"RIGHT(Data!C768,10)","v":""},null,null,null,null,null,null,null,{"$f":"IFERROR($U$3*Data!M768/SQRT(COUNT(Data!F768:J768)),\"\")","v":""},"","","","","",{"$f":"IFERROR((Data!K768-$E$4),\"\")","v":""},{"$f":"IF(AND(F768<>\"\",G768<>\"\",H768<>\"\",I768<>\"\",J768<>\"\"),Data!Q768-$E$4,\"\")","v":""},"","","","",{"$f":"IF(F768<>\"\",STDEV($Q$12:Q768),\"\")","v":""},""]
[758,null,{"$f":"RIGHT(Data!C769,10)","v":""},null,null,null,null,null,null,null,{"$f":"IFERROR($U$3*Data!M769/SQRT(COUNT(Data!F769:J769)),\"\")","v":""},"","","","","",{"$f":"IFERROR((Data!K769-$E$4),\"\")","v":""},{"$f":"IF(AND(F769<>\"\",G769<>\"\",H769<>\"\",I769<>\"\",J769<>\"\"),Data!Q769-$E$4,\"\")","v":""},"","","","",{"$f":"IF(F769<>\"\",STDEV($Q$12:Q769),\"\")","v":""},""]
[759,null,{"$f":"RIGHT(Data!C770,10)","v":""},null,null,null,null,null,null,null,{"$f":"IFERROR($U$3*Data!M770/SQRT(COUNT(Data!F770:J770)),\"\")","v":""},"","","","","",{"$f":"IFERROR((Data!K770-$E$4),\"\")","v":""},{"$f":"IF(AND(F770<>\"\",G770<>\"\",H770<>\"\",I770<>\"\",J770<>\"\"),Data!Q770-$E$4,\"\")","v":""},"","","","",{"$f":"IF(F770<>\"\",STDEV($Q$12:Q770),\"\")","v":""},""]
[760,null,{"$f":"RIGHT(Data!C771,10)","v":""},null,null,null,null,null,null,null,{"$f":"IFERROR($U$3*Data!M771/SQRT(COUNT(Data!F771:J771)),\"\")","v":""},"","","","","",{"$f":"IFERROR((Data!K771-$E$4),\"\")","v":""},{"$f":"IF(AND(F771<>\"\",G771<>\"\",H771<>\"\",I771<>\"\",J771<>\"\"),Data!Q771-$E$4,\"\")","v":""},"","","","",{"$f":"IF(F771<>\"\",STDEV($Q$12:Q771),\"\")","v":""},""]
[761,null,{"$f":"RIGHT(Data!C772,10)","v":""},null,null,null,null,null,null,null,{"$f":"IFERROR($U$3*Data!M772/SQRT(COUNT(Data!F772:J772)),\"\")","v":""},"","","","","",{"$f":"IFERROR((Data!K772-$E$4),\"\")","v":""},{"$f":"IF(AND(F772<>\"\",G772<>\"\",H772<>\"\",I772<>\"\",J772<>\"\"),Data!Q772-$E$4,\"\")","v":""},"","","","",{"$f":"IF(F772<>\"\",STDEV($Q$12:Q772),\"\")","v":""},""]
[762,null,{"$f":"RIGHT(Data!C773,10)","v":""},null,null,null,null,null,null,null,{"$f":"IFERROR($U$3*Data!M773/SQRT(COUNT(Data!F773:J773)),\"\")","v":""},"","","","","",{"$f":"IFERROR((Data!K773-$E$4),\"\")","v":""},{"$f":"IF(AND(F773<>\"\",G773<>\"\",H773<>\"\",I773<>\"\",J773<>\"\"),Data!Q773-$E$4,\"\")","v":""},"","","","",{"$f":"IF(F773<>\"\",STDEV($Q$12:Q773),\"\")","v":""},""]
[763,null,{"$f":"RIGHT(Data!C774,10)","v":""},null,null,null,null,null,null,null,{"$f":"IFERROR($U$3*Data!M774/SQRT(COUNT(Data!F774:J774)),\"\")","v":""},"","","","","",{"$f":"IFERROR((Data!K774-$E$4),\"\")","v":""},{"$f":"IF(AND(F774<>\"\",G774<>\"\",H774<>\"\",I774<>\"\",J774<>\"\"),Data!Q774-$E$4,\"\")","v":""},"","","","",{"$f":"IF(F774<>\"\",STDEV($Q$12:Q774),\"\")","v":""},""]
[764,null,{"$f":"RIGHT(Data!C775,10)","v":""},null,null,null,null,null,null,null,{"$f":"IFERROR($U$3*Data!M775/SQRT(COUNT(Data!F775:J775)),\"\")","v":""},"","","","","",{"$f":"IFERROR((Data!K775-$E$4),\"\")","v":""},{"$f":"IF(AND(F775<>\"\",G775<>\"\",H775<>\"\",I775<>\"\",J775<>\"\"),Data!Q775-$E$4,\"\")","v":""},"","","","",{"$f":"IF(F775<>\"\",STDEV($Q$12:Q775),\"\")","v":""},""]
[765,null,{"$f":"RIGHT(Data!C776,10)","v":""},null,null,null,null,null,null,null,{"$f":"IFERROR($U$3*Data!M776/SQRT(COUNT(Data!F776:J776)),\"\")","v":""},"","","","","",{"$f":"IFERROR((Data!K776-$E$4),\"\")","v":""},{"$f":"IF(AND(F776<>\"\",G776<>\"\",H776<>\"\",I776<>\"\",J776<>\"\"),Data!Q776-$E$4,\"\")","v":""},"","","","",{"$f":"IF(F776<>\"\",STDEV($Q$12:Q776),\"\")","v":""},""]
[766,null,{"$f":"RIGHT(Data!C777,10)","v":""},null,null,null,null,null,null,null,{"$f":"IFERROR($U$3*Data!M777/SQRT(COUNT(Data!F777:J777)),\"\")","v":""},"","","","","",{"$f":"IFERROR((Data!K777-$E$4),\"\")","v":""},{"$f":"IF(AND(F777<>\"\",G777<>\"\",H777<>\"\",I777<>\"\",J777<>\"\"),Data!Q777-$E$4,\"\")","v":""},"","","","",{"$f":"IF(F777<>\"\",STDEV($Q$12:Q777),\"\")","v":""},""]
[767,null,{"$f":"RIGHT(Data!C778,10)","v":""},null,null,null,null,null,null,null,{"$f":"IFERROR($U$3*Data!M778/SQRT(COUNT(Data!F778:J778)),\"\")","v":""},"","","","","",{"$f":"IFERROR((Data!K778-$E$4),\"\")","v":""},{"$f":"IF(AND(F778<>\"\",G778<>\"\",H778<>\"\",I778<>\"\",J778<>\"\"),Data!Q778-$E$4,\"\")","v":""},"","","","",{"$f":"IF(F778<>\"\",STDEV($Q$12:Q778),\"\")","v":""},""]
[768,null,{"$f":"RIGHT(Data!C779,10)","v":""},null,null,null,null,null,null,null,{"$f":"IFERROR($U$3*Data!M779/SQRT(COUNT(Data!F779:J779)),\"\")","v":""},"","","","","",{"$f":"IFERROR((Data!K779-$E$4),\"\")","v":""},{"$f":"IF(AND(F779<>\"\",G779<>\"\",H779<>\"\",I779<>\"\",J779<>\"\"),Data!Q779-$E$4,\"\")","v":""},"","","","",{"$f":"IF(F779<>\"\",STDEV($Q$12:Q779),\"\")","v":""},""]
[769,null,{"$f":"RIGHT(Data!C780,10)","v":""},null,null,null,null,null,null,null,{"$f":"IFERROR($U$3*Data!M780/SQRT(COUNT(Data!F780:J780)),\"\")","v":""},"","",{"$f":"IF(COUNT(F780:J780)>=5,STDEV(F780:J780)*$U$3/SQRT((COUNT(F780:J780))),\"\")","v":""},{"$f":"IFERROR($U$4*SQRT($U$7^2+L780^2+K780^2+$U$5^2+N780^2),\"\")","v":""},"",{"$f":"IFERROR((Data!K780-$E$4),\"\")","v":""},{"$f":"IF(AND(F780<>\"\",G780<>\"\",H780<>\"\",I780<>\"\",J780<>\"\"),Data!Q780-$E$4,\"\")","v":""},{"$f":"IF(O780<>\"\",FIXED(X780,1) & \" ± \" & FIXED(O780+ABS(R780),2),\"\")","v":""},"","","",{"$f":"IF(F780<>\"\",STDEV($Q$12:Q780),\"\")","v":""},{"$f":"IF(F780<>\"\",AVERAGE(F780:J780),\"\")","v":""}]
[770,null,{"$f":"RIGHT(Data!C781,10)","v":""},null,null,null,null,null,null,null,{"$f":"IFERROR($U$3*Data!M781/SQRT(COUNT(Data!F781:J781)),\"\")","v":""},{"$f":"IF(F781<>\"\",V781*W781/SQRT(A781),\"\")","v":""},{"$f":"IF(F781<>\"\",$U$4*SQRT($U$7^2+L781^2+K781^2+$U$5^2),\"\")","v":""},"","",{"$f":"IF(AND(F781<>\"\",G781<>\"\",H781<>\"\",I781<>\"\",J781<>\"\"),AVERAGE(F781:J781),\"\")","v":""},{"$f":"IFERROR((Data!K781-$E$4),\"\")","v":""},{"$f":"IF(AND(F781<>\"\",G781<>\"\",H781<>\"\",I781<>\"\",J781<>\"\"),Data!Q781-$E$4,\"\")","v":""},"",{"$f":"IF(F781<>\"\",FIXED(AVERAGE(F781:J781)-R781,1) & \" ± \" & FIXED(O781,2),\"\")","v":""},{"$f":"IF(IO781=\"\",\"\",IO781-1)","v":""},{"$f":"IF(F781<>\"\",TINV(1-0.68,A781-1),\"\")","v":""},{"$f":"IF(F781<>\"\",STDEV($Q$12:Q781),\"\")","v":""},""]
[771,null,{"$f":"RIGHT(Data!C782,10)","v":""},null,null,null,null,null,null,null,{"$f":"IFERROR($U$3*Data!M782/SQRT(COUNT(Data!F782:J782)),\"\")","v":""},"","","","","",{"$f":"IFERROR((Data!K782-$E$4),\"\")","v":""},{"$f":"IF(AND(F782<>\"\",G782<>\"\",H782<>\"\",I782<>\"\",J782<>\"\"),Data!Q782-$E$4,\"\")","v":""},"","","","",{"$f":"IF(F782<>\"\",STDEV($Q$12:Q782),\"\")","v":""},""]
[772,null,{"$f":"RIGHT(Data!C783,10)","v":""},null,null,null,null,null,null,null,{"$f":"IFERROR($U$3*Data!M783/SQRT(COUNT(Data!F783:J783)),\"\")","v":""},"","","","","",{"$f":"IFERROR((Data!K783-$E$4),\"\")","v":""},{"$f":"IF(AND(F783<>\"\",G783<>\"\",H783<>\"\",I783<>\"\",J783<>\"\"),Data!Q783-$E$4,\"\")","v":""},"","","","",{"$f":"IF(F783<>\"\",STDEV($Q$12:Q783),\"\")","v":""},""]
[773,null,{"$f":"RIGHT(Data!C784,10)","v":""},null,null,null,null,null,null,null,{"$f":"IFERROR($U$3*Data!M784/SQRT(COUNT(Data!F784:J784)),\"\")","v":""},"","","","","",{"$f":"IFERROR((Data!K784-$E$4),\"\")","v":""},{"$f":"IF(AND(F784<>\"\",G784<>\"\",H784<>\"\",I784<>\"\",J784<>\"\"),Data!Q784-$E$4,\"\")","v":""},"","","","",{"$f":"IF(F784<>\"\",STDEV($Q$12:Q784),\"\")","v":""},""]
[774,null,{"$f":"RIGHT(Data!C785,10)","v":""},null,null,null,null,null,null,null,{"$f":"IFERROR($U$3*Data!M785/SQRT(COUNT(Data!F785:J785)),\"\")","v":""},"","","","","",{"$f":"IFERROR((Data!K785-$E$4),\"\")","v":""},{"$f":"IF(AND(F785<>\"\",G785<>\"\",H785<>\"\",I785<>\"\",J785<>\"\"),Data!Q785-$E$4,\"\")","v":""},"","","","",{"$f":"IF(F785<>\"\",STDEV($Q$12:Q785),\"\")","v":""},""]
[775,null,{"$f":"RIGHT(Data!C786,10)","v":""},null,null,null,null,null,null,null,{"$f":"IFERROR($U$3*Data!M786/SQRT(COUNT(Data!F786:J786)),\"\")","v":""},"","","","","",{"$f":"IFERROR((Data!K786-$E$4),\"\")","v":""},{"$f":"IF(AND(F786<>\"\",G786<>\"\",H786<>\"\",I786<>\"\",J786<>\"\"),Data!Q786-$E$4,\"\")","v":""},"","","","",{"$f":"IF(F786<>\"\",STDEV($Q$12:Q786),\"\")","v":""},""]
[776,null,{"$f":"RIGHT(Data!C787,10)","v":""},null,null,null,null,null,null,null,{"$f":"IFERROR($U$3*Data!M787/SQRT(COUNT(Data!F787:J787)),\"\")","v":""},"","","","","",{"$f":"IFERROR((Data!K787-$E$4),\"\")","v":""},{"$f":"IF(AND(F787<>\"\",G787<>\"\",H787<>\"\",I787<>\"\",J787<>\"\"),Data!Q787-$E$4,\"\")","v":""},"","","","",{"$f":"IF(F787<>\"\",STDEV($Q$12:Q787),\"\")","v":""},""]
[777,null,{"$f":"RIGHT(Data!C788,10)","v":""},null,null,null,null,null,null,null,{"$f":"IFERROR($U$3*Data!M788/SQRT(COUNT(Data!F788:J788)),\"\")","v":""},"","","","","",{"$f":"IFERROR((Data!K788-$E$4),\"\")","v":""},{"$f":"IF(AND(F788<>\"\",G788<>\"\",H788<>\"\",I788<>\"\",J788<>\"\"),Data!Q788-$E$4,\"\")","v":""},"","","","",{"$f":"IF(F788<>\"\",STDEV($Q$12:Q788),\"\")","v":""},""]
[778,null,{"$f":"RIGHT(Data!C789,10)","v":""},null,null,null,null,null,null,null,{"$f":"IFERROR($U$3*Data!M789/SQRT(COUNT(Data!F789:J789)),\"\")","v":""},"","","","","",{"$f":"IFERROR((Data!K789-$E$4),\"\")","v":""},{"$f":"IF(AND(F789<>\"\",G789<>\"\",H789<>\"\",I789<>\"\",J789<>\"\"),Data!Q789-$E$4,\"\")","v":""},"","","","",{"$f":"IF(F789<>\"\",STDEV($Q$12:Q789),\"\")","v":""},""]
[779,null,{"$f":"RIGHT(Data!C790,10)","v":""},null,null,null,null,null,null,null,{"$f":"IFERROR($U$3*Data!M790/SQRT(COUNT(Data!F790:J790)),\"\")","v":""},"","","","","",{"$f":"IFERROR((Data!K790-$E$4),\"\")","v":""},{"$f":"IF(AND(F790<>\"\",G790<>\"\",H790<>\"\",I790<>\"\",J790<>\"\"),Data!Q790-$E$4,\"\")","v":""},"","","","",{"$f":"IF(F790<>\"\",STDEV($Q$12:Q790),\"\")","v":""},""]
[780,null,{"$f":"RIGHT(Data!C791,10)","v":""},null,null,null,null,null,null,null,{"$f":"IFERROR($U$3*Data!M791/SQRT(COUNT(Data!F791:J791)),\"\")","v":""},"","","","","",{"$f":"IFERROR((Data!K791-$E$4),\"\")","v":""},{"$f":"IF(AND(F791<>\"\",G791<>\"\",H791<>\"\",I791<>\"\",J791<>\"\"),Data!Q791-$E$4,\"\")","v":""},"","","","",{"$f":"IF(F791<>\"\",STDEV($Q$12:Q791),\"\")","v":""},""]
[781,null,{"$f":"RIGHT(Data!C792,10)","v":""},null,null,null,null,null,null,null,{"$f":"IFERROR($U$3*Data!M792/SQRT(COUNT(Data!F792:J792)),\"\")","v":""},"","","","","",{"$f":"IFERROR((Data!K792-$E$4),\"\")","v":""},{"$f":"IF(AND(F792<>\"\",G792<>\"\",H792<>\"\",I792<>\"\",J792<>\"\"),Data!Q792-$E$4,\"\")","v":""},"","","","",{"$f":"IF(F792<>\"\",STDEV($Q$12:Q792),\"\")","v":""},""]
[782,null,{"$f":"RIGHT(Data!C793,10)","v":""},null,null,null,null,null,null,null,{"$f":"IFERROR($U$3*Data!M793/SQRT(COUNT(Data!F793:J793)),\"\")","v":""},"","","","","",{"$f":"IFERROR((Data!K793-$E$4),\"\")","v":""},{"$f":"IF(AND(F793<>\"\",G793<>\"\",H793<>\"\",I793<>\"\",J793<>\"\"),Data!Q793-$E$4,\"\")","v":""},"","","","",{"$f":"IF(F793<>\"\",STDEV($Q$12:Q793),\"\")","v":""},""]
[783,null,{"$f":"RIGHT(Data!C794,10)","v":""},null,null,null,null,null,null,null,{"$f":"IFERROR($U$3*Data!M794/SQRT(COUNT(Data!F794:J794)),\"\")","v":""},"","","","","",{"$f":"IFERROR((Data!K794-$E$4),\"\")","v":""},{"$f":"IF(AND(F794<>\"\",G794<>\"\",H794<>\"\",I794<>\"\",J794<>\"\"),Data!Q794-$E$4,\"\")","v":""},"","","","",{"$f":"IF(F794<>\"\",STDEV($Q$12:Q794),\"\")","v":""},""]
[784,null,{"$f":"RIGHT(Data!C795,10)","v":""},null,null,null,null,null,null,null,{"$f":"IFERROR($U$3*Data!M795/SQRT(COUNT(Data!F795:J795)),\"\")","v":""},"","","","","",{"$f":"IFERROR((Data!K795-$E$4),\"\")","v":""},{"$f":"IF(AND(F795<>\"\",G795<>\"\",H795<>\"\",I795<>\"\",J795<>\"\"),Data!Q795-$E$4,\"\")","v":""},"","","","",{"$f":"IF(F795<>\"\",STDEV($Q$12:Q795),\"\")","v":""},""]
[785,null,{"$f":"RIGHT(Data!C796,10)","v":""},null,null,null,null,null,null,null,{"$f":"IFERROR($U$3*Data!M796/SQRT(COUNT(Data!F796:J796)),\"\")","v":""},"","","","","",{"$f":"IFERROR((Data!K796-$E$4),\"\")","v":""},{"$f":"IF(AND(F796<>\"\",G796<>\"\",H796<>\"\",I796<>\"\",J796<>\"\"),Data!Q796-$E$4,\"\")","v":""},"","","","",{"$f":"IF(F796<>\"\",STDEV($Q$12:Q796),\"\")","v":""},""]
[786,null,{"$f":"RIGHT(Data!C797,10)","v":""},null,null,null,null,null,null,null,{"$f":"IFERROR($U$3*Data!M797/SQRT(COUNT(Data!F797:J797)),\"\")","v":""},"","","","","",{"$f":"IFERROR((Data!K797-$E$4),\"\")","v":""},{"$f":"IF(AND(F797<>\"\",G797<>\"\",H797<>\"\",I797<>\"\",J797<>\"\"),Data!Q797-$E$4,\"\")","v":""},"","","","",{"$f":"IF(F797<>\"\",STDEV($Q$12:Q797),\"\")","v":""},""]
[787,null,{"$f":"RIGHT(Data!C798,10)","v":""},null,null,null,null,null,null,null,{"$f":"IFERROR($U$3*Data!M798/SQRT(COUNT(Data!F798:J798)),\"\")","v":""},"","","","","",{"$f":"IFERROR((Data!K798-$E$4),\"\")","v":""},{"$f":"IF(AND(F798<>\"\",G798<>\"\",H798<>\"\",I798<>\"\",J798<>\"\"),Data!Q798-$E$4,\"\")","v":""},"","","","",{"$f":"IF(F798<>\"\",STDEV($Q$12:Q798),\"\")","v":""},""]
[788,null,{"$f":"RIGHT(Data!C799,10)","v":""},null,null,null,null,null,null,null,{"$f":"IFERROR($U$3*Data!M799/SQRT(COUNT(Data!F799:J799)),\"\")","v":""},"","","","","",{"$f":"IFERROR((Data!K799-$E$4),\"\")","v":""},{"$f":"IF(AND(F799<>\"\",G799<>\"\",H799<>\"\",I799<>\"\",J799<>\"\"),Data!Q799-$E$4,\"\")","v":""},"","","","",{"$f":"IF(F799<>\"\",STDEV($Q$12:Q799),\"\")","v":""},""]
[789,null,{"$f":"RIGHT(Data!C800,10)","v":""},null,null,null,null,null,null,null,{"$f":"IFERROR($U$3*Data!M800/SQRT(COUNT(Data!F800:J800)),\"\")","v":""},"","","","","",{"$f":"IFERROR((Data!K800-$E$4),\"\")","v":""},{"$f":"IF(AND(F800<>\"\",G800<>\"\",H800<>\"\",I800<>\"\",J800<>\"\"),Data!Q800-$E$4,\"\")","v":""},"","","","",{"$f":"IF(F800<>\"\",STDEV($Q$12:Q800),\"\")","v":""},""]
[790,null,{"$f":"RIGHT(Data!C801,10)","v":""},null,null,null,null,null,null,null,{"$f":"IFERROR($U$3*Data!M801/SQRT(COUNT(Data!F801:J801)),\"\")","v":""},"","","","","",{"$f":"IFERROR((Data!K801-$E$4),\"\")","v":""},{"$f":"IF(AND(F801<>\"\",G801<>\"\",H801<>\"\",I801<>\"\",J801<>\"\"),Data!Q801-$E$4,\"\")","v":""},"","","","",{"$f":"IF(F801<>\"\",STDEV($Q$12:Q801),\"\")","v":""},""]
[791,null,{"$f":"RIGHT(Data!C802,10)","v":""},null,null,null,null,null,null,null,{"$f":"IFERROR($U$3*Data!M802/SQRT(COUNT(Data!F802:J802)),\"\")","v":""},"","","","","",{"$f":"IFERROR((Data!K802-$E$4),\"\")","v":""},{"$f":"IF(AND(F802<>\"\",G802<>\"\",H802<>\"\",I802<>\"\",J802<>\"\"),Data!Q802-$E$4,\"\")","v":""},"","","","",{"$f":"IF(F802<>\"\",STDEV($Q$12:Q802),\"\")","v":""},""]
[792,null,{"$f":"RIGHT(Data!C803,10)","v":""},null,null,null,null,null,null,null,{"$f":"IFERROR($U$3*Data!M803/SQRT(COUNT(Data!F803:J803)),\"\")","v":""},"","","","","",{"$f":"IFERROR((Data!K803-$E$4),\"\")","v":""},{"$f":"IF(AND(F803<>\"\",G803<>\"\",H803<>\"\",I803<>\"\",J803<>\"\"),Data!Q803-$E$4,\"\")","v":""},"","","","",{"$f":"IF(F803<>\"\",STDEV($Q$12:Q803),\"\")","v":""},""]
[793,null,{"$f":"RIGHT(Data!C804,10)","v":""},null,null,null,null,null,null,null,{"$f":"IFERROR($U$3*Data!M804/SQRT(COUNT(Data!F804:J804)),\"\")","v":""},"","","","","",{"$f":"IFERROR((Data!K804-$E$4),\"\")","v":""},{"$f":"IF(AND(F804<>\"\",G804<>\"\",H804<>\"\",I804<>\"\",J804<>\"\"),Data!Q804-$E$4,\"\")","v":""},"","","","",{"$f":"IF(F804<>\"\",STDEV($Q$12:Q804),\"\")","v":""},""]
[794,null,{"$f":"RIGHT(Data!C805,10)","v":""},null,null,null,null,null,null,null,{"$f":"IFERROR($U$3*Data!M805/SQRT(COUNT(Data!F805:J805)),\"\")","v":""},"","","","","",{"$f":"IFERROR((Data!K805-$E$4),\"\")","v":""},{"$f":"IF(AND(F805<>\"\",G805<>\"\",H805<>\"\",I805<>\"\",J805<>\"\"),Data!Q805-$E$4,\"\")","v":""},"","","","",{"$f":"IF(F805<>\"\",STDEV($Q$12:Q805),\"\")","v":""},""]
[795,null,{"$f":"RIGHT(Data!C806,10)","v":""},null,null,null,null,null,null,null,{"$f":"IFERROR($U$3*Data!M806/SQRT(COUNT(Data!F806:J806)),\"\")","v":""},"","","","","",{"$f":"IFERROR((Data!K806-$E$4),\"\")","v":""},{"$f":"IF(AND(F806<>\"\",G806<>\"\",H806<>\"\",I806<>\"\",J806<>\"\"),Data!Q806-$E$4,\"\")","v":""},"","","","",{"$f":"IF(F806<>\"\",STDEV($Q$12:Q806),\"\")","v":""},""]
[796,null,{"$f":"RIGHT(Data!C807,10)","v":""},null,null,null,null,null,null,null,{"$f":"IFERROR($U$3*Data!M807/SQRT(COUNT(Data!F807:J807)),\"\")","v":""},"","","","","",{"$f":"IFERROR((Data!K807-$E$4),\"\")","v":""},{"$f":"IF(AND(F807<>\"\",G807<>\"\",H807<>\"\",I807<>\"\",J807<>\"\"),Data!Q807-$E$4,\"\")","v":""},"","","","",{"$f":"IF(F807<>\"\",STDEV($Q$12:Q807),\"\")","v":""},""]
[797,null,{"$f":"RIGHT(Data!C808,10)","v":""},null,null,null,null,null,null,null,{"$f":"IFERROR($U$3*Data!M808/SQRT(COUNT(Data!F808:J808)),\"\")","v":""},"","","","","",{"$f":"IFERROR((Data!K808-$E$4),\"\")","v":""},{"$f":"IF(AND(F808<>\"\",G808<>\"\",H808<>\"\",I808<>\"\",J808<>\"\"),Data!Q808-$E$4,\"\")","v":""},"","","","",{"$f":"IF(F808<>\"\",STDEV($Q$12:Q808),\"\")","v":""},""]
[798,null,{"$f":"RIGHT(Data!C809,10)","v":""},null,null,null,null,null,null,null,{"$f":"IFERROR($U$3*Data!M809/SQRT(COUNT(Data!F809:J809)),\"\")","v":""},"","","","","",{"$f":"IFERROR((Data!K809-$E$4),\"\")","v":""},{"$f":"IF(AND(F809<>\"\",G809<>\"\",H809<>\"\",I809<>\"\",J809<>\"\"),Data!Q809-$E$4,\"\")","v":""},"","","","",{"$f":"IF(F809<>\"\",STDEV($Q$12:Q809),\"\")","v":""},""]
[799,null,{"$f":"RIGHT(Data!C810,10)","v":""},null,null,null,null,null,null,null,{"$f":"IFERROR($U$3*Data!M810/SQRT(COUNT(Data!F810:J810)),\"\")","v":""},"","","","","",{"$f":"IFERROR((Data!K810-$E$4),\"\")","v":""},{"$f":"IF(AND(F810<>\"\",G810<>\"\",H810<>\"\",I810<>\"\",J810<>\"\"),Data!Q810-$E$4,\"\")","v":""},"","","","",{"$f":"IF(F810<>\"\",STDEV($Q$12:Q810),\"\")","v":""},""]
[800,null,{"$f":"RIGHT(Data!C811,10)","v":""},null,null,null,null,null,null,null,{"$f":"IFERROR($U$3*Data!M811/SQRT(COUNT(Data!F811:J811)),\"\")","v":""},"","","","","",{"$f":"IFERROR((Data!K811-$E$4),\"\")","v":""},{"$f":"IF(AND(F811<>\"\",G811<>\"\",H811<>\"\",I811<>\"\",J811<>\"\"),Data!Q811-$E$4,\"\")","v":""},"","","","",{"$f":"IF(F811<>\"\",STDEV($Q$12:Q811),\"\")","v":""},""]
[801,null,{"$f":"RIGHT(Data!C812,10)","v":""},null,null,null,null,null,null,null,{"$f":"IFERROR($U$3*Data!M812/SQRT(COUNT(Data!F812:J812)),\"\")","v":""},"","","","","",{"$f":"IFERROR((Data!K812-$E$4),\"\")","v":""},{"$f":"IF(AND(F812<>\"\",G812<>\"\",H812<>\"\",I812<>\"\",J812<>\"\"),Data!Q812-$E$4,\"\")","v":""},"","","","",{"$f":"IF(F812<>\"\",STDEV($Q$12:Q812),\"\")","v":""},""]
[802,null,{"$f":"RIGHT(Data!C813,10)","v":""},null,null,null,null,null,null,null,{"$f":"IFERROR($U$3*Data!M813/SQRT(COUNT(Data!F813:J813)),\"\")","v":""},"","","","","",{"$f":"IFERROR((Data!K813-$E$4),\"\")","v":""},{"$f":"IF(AND(F813<>\"\",G813<>\"\",H813<>\"\",I813<>\"\",J813<>\"\"),Data!Q813-$E$4,\"\")","v":""},"","","","",{"$f":"IF(F813<>\"\",STDEV($Q$12:Q813),\"\")","v":""},""]
[803,null,{"$f":"RIGHT(Data!C814,10)","v":""},null,null,null,null,null,null,null,{"$f":"IFERROR($U$3*Data!M814/SQRT(COUNT(Data!F814:J814)),\"\")","v":""},"","","","","",{"$f":"IFERROR((Data!K814-$E$4),\"\")","v":""},{"$f":"IF(AND(F814<>\"\",G814<>\"\",H814<>\"\",I814<>\"\",J814<>\"\"),Data!Q814-$E$4,\"\")","v":""},"","","","",{"$f":"IF(F814<>\"\",STDEV($Q$12:Q814),\"\")","v":""},""]
[804,null,{"$f":"RIGHT(Data!C815,10)","v":""},null,null,null,null,null,null,null,{"$f":"IFERROR($U$3*Data!M815/SQRT(COUNT(Data!F815:J815)),\"\")","v":""},"","","","","",{"$f":"IFERROR((Data!K815-$E$4),\"\")","v":""},{"$f":"IF(AND(F815<>\"\",G815<>\"\",H815<>\"\",I815<>\"\",J815<>\"\"),Data!Q815-$E$4,\"\")","v":""},"","","","",{"$f":"IF(F815<>\"\",STDEV($Q$12:Q815),\"\")","v":""},""]
[805,null,{"$f":"RIGHT(Data!C816,10)","v":""},null,null,null,null,null,null,null,{"$f":"IFERROR($U$3*Data!M816/SQRT(COUNT(Data!F816:J816)),\"\")","v":""},"","","","","",{"$f":"IFERROR((Data!K816-$E$4),\"\")","v":""},{"$f":"IF(AND(F816<>\"\",G816<>\"\",H816<>\"\",I816<>\"\",J816<>\"\"),Data!Q816-$E$4,\"\")","v":""},"","","","",{"$f":"IF(F816<>\"\",STDEV($Q$12:Q816),\"\")","v":""},""]
[806,null,{"$f":"RIGHT(Data!C817,10)","v":""},null,null,null,null,null,null,null,{"$f":"IFERROR($U$3*Data!M817/SQRT(COUNT(Data!F817:J817)),\"\")","v":""},"","","","","",{"$f":"IFERROR((Data!K817-$E$4),\"\")","v":""},{"$f":"IF(AND(F817<>\"\",G817<>\"\",H817<>\"\",I817<>\"\",J817<>\"\"),Data!Q817-$E$4,\"\")","v":""},"","","","",{"$f":"IF(F817<>\"\",STDEV($Q$12:Q817),\"\")","v":""},""]
[807,null,{"$f":"RIGHT(Data!C818,10)","v":""},null,null,null,null,null,null,null,{"$f":"IFERROR($U$3*Data!M818/SQRT(COUNT(Data!F818:J818)),\"\")","v":""},"","","","","",{"$f":"IFERROR((Data!K818-$E$4),\"\")","v":""},{"$f":"IF(AND(F818<>\"\",G818<>\"\",H818<>\"\",I818<>\"\",J818<>\"\"),Data!Q818-$E$4,\"\")","v":""},"","","","",{"$f":"IF(F818<>\"\",STDEV($Q$12:Q818),\"\")","v":""},""]
[808,null,{"$f":"RIGHT(Data!C819,10)","v":""},null,null,null,null,null,null,null,{"$f":"IFERROR($U$3*Data!M819/SQRT(COUNT(Data!F819:J819)),\"\")","v":""},"","","","","",{"$f":"IFERROR((Data!K819-$E$4),\"\")","v":""},{"$f":"IF(AND(F819<>\"\",G819<>\"\",H819<>\"\",I819<>\"\",J819<>\"\"),Data!Q819-$E$4,\"\")","v":""},"","","","",{"$f":"IF(F819<>\"\",STDEV($Q$12:Q819),\"\")","v":""},""]
[809,null,{"$f":"RIGHT(Data!C820,10)","v":""},null,null,null,null,null,null,null,{"$f":"IFERROR($U$3*Data!M820/SQRT(COUNT(Data!F820:J820)),\"\")","v":""},"","","","","",{"$f":"IFERROR((Data!K820-$E$4),\"\")","v":""},{"$f":"IF(AND(F820<>\"\",G820<>\"\",H820<>\"\",I820<>\"\",J820<>\"\"),Data!Q820-$E$4,\"\")","v":""},"","","","",{"$f":"IF(F820<>\"\",STDEV($Q$12:Q820),\"\")","v":""},""]
[810,null,{"$f":"RIGHT(Data!C821,10)","v":""},null,null,null,null,null,null,null,{"$f":"IFERROR($U$3*Data!M821/SQRT(COUNT(Data!F821:J821)),\"\")","v":""},"","","","","",{"$f":"IFERROR((Data!K821-$E$4),\"\")","v":""},{"$f":"IF(AND(F821<>\"\",G821<>\"\",H821<>\"\",I821<>\"\",J821<>\"\"),Data!Q821-$E$4,\"\")","v":""},"","","","",{"$f":"IF(F821<>\"\",STDEV($Q$12:Q821),\"\")","v":""},""]
[811,null,{"$f":"RIGHT(Data!C822,10)","v":""},null,null,null,null,null,null,null,{"$f":"IFERROR($U$3*Data!M822/SQRT(COUNT(Data!F822:J822)),\"\")","v":""},"","","","","",{"$f":"IFERROR((Data!K822-$E$4),\"\")","v":""},{"$f":"IF(AND(F822<>\"\",G822<>\"\",H822<>\"\",I822<>\"\",J822<>\"\"),Data!Q822-$E$4,\"\")","v":""},"","","","",{"$f":"IF(F822<>\"\",STDEV($Q$12:Q822),\"\")","v":""},""]
[812,null,{"$f":"RIGHT(Data!C823,10)","v":""},null,null,null,null,null,null,null,{"$f":"IFERROR($U$3*Data!M823/SQRT(COUNT(Data!F823:J823)),\"\")","v":""},"","","","","",{"$f":"IFERROR((Data!K823-$E$4),\"\")","v":""},{"$f":"IF(AND(F823<>\"\",G823<>\"\",H823<>\"\",I823<>\"\",J823<>\"\"),Data!Q823-$E$4,\"\")","v":""},"","","","",{"$f":"IF(F823<>\"\",STDEV($Q$12:Q823),\"\")","v":""},""]
[813,null,{"$f":"RIGHT(Data!C824,10)","v":""},null,null,null,null,null,null,null,{"$f":"IFERROR($U$3*Data!M824/SQRT(COUNT(Data!F824:J824)),\"\")","v":""},"","","","","",{"$f":"IFERROR((Data!K824-$E$4),\"\")","v":""},{"$f":"IF(AND(F824<>\"\",G824<>\"\",H824<>\"\",I824<>\"\",J824<>\"\"),Data!Q824-$E$4,\"\")","v":""},"","","","",{"$f":"IF(F824<>\"\",STDEV($Q$12:Q824),\"\")","v":""},""]
[814,null,{"$f":"RIGHT(Data!C825,10)","v":""},null,null,null,null,null,null,null,{"$f":"IFERROR($U$3*Data!M825/SQRT(COUNT(Data!F825:J825)),\"\")","v":""},"","","","","",{"$f":"IFERROR((Data!K825-$E$4),\"\")","v":""},{"$f":"IF(AND(F825<>\"\",G825<>\"\",H825<>\"\",I825<>\"\",J825<>\"\"),Data!Q825-$E$4,\"\")","v":""},"","","","",{"$f":"IF(F825<>\"\",STDEV($Q$12:Q825),\"\")","v":""},""]
[815,null,{"$f":"RIGHT(Data!C826,10)","v":""},null,null,null,null,null,null,null,{"$f":"IFERROR($U$3*Data!M826/SQRT(COUNT(Data!F826:J826)),\"\")","v":""},"","","","","",{"$f":"IFERROR((Data!K826-$E$4),\"\")","v":""},{"$f":"IF(AND(F826<>\"\",G826<>\"\",H826<>\"\",I826<>\"\",J826<>\"\"),Data!Q826-$E$4,\"\")","v":""},"","","","",{"$f":"IF(F826<>\"\",STDEV($Q$12:Q826),\"\")","v":""},""]
[816,null,{"$f":"RIGHT(Data!C827,10)","v":""},null,null,null,null,null,null,null,{"$f":"IFERROR($U$3*Data!M827/SQRT(COUNT(Data!F827:J827)),\"\")","v":""},"","","","","",{"$f":"IFERROR((Data!K827-$E$4),\"\")","v":""},{"$f":"IF(AND(F827<>\"\",G827<>\"\",H827<>\"\",I827<>\"\",J827<>\"\"),Data!Q827-$E$4,\"\")","v":""},"","","","",{"$f":"IF(F827<>\"\",STDEV($Q$12:Q827),\"\")","v":""},""]
[817,null,{"$f":"RIGHT(Data!C828,10)","v":""},null,null,null,null,null,null,null,{"$f":"IFERROR($U$3*Data!M828/SQRT(COUNT(Data!F828:J828)),\"\")","v":""},"","","","","",{"$f":"IFERROR((Data!K828-$E$4),\"\")","v":""},{"$f":"IF(AND(F828<>\"\",G828<>\"\",H828<>\"\",I828<>\"\",J828<>\"\"),Data!Q828-$E$4,\"\")","v":""},"","","","",{"$f":"IF(F828<>\"\",STDEV($Q$12:Q828),\"\")","v":""},""]
[818,null,{"$f":"RIGHT(Data!C829,10)","v":""},null,null,null,null,null,null,null,{"$f":"IFERROR($U$3*Data!M829/SQRT(COUNT(Data!F829:J829)),\"\")","v":""},"","","","","",{"$f":"IFERROR((Data!K829-$E$4),\"\")","v":""},{"$f":"IF(AND(F829<>\"\",G829<>\"\",H829<>\"\",I829<>\"\",J829<>\"\"),Data!Q829-$E$4,\"\")","v":""},"","","","",{"$f":"IF(F829<>\"\",STDEV($Q$12:Q829),\"\")","v":""},""]
[819,null,{"$f":"RIGHT(Data!C830,10)","v":""},null,null,null,null,null,null,null,{"$f":"IFERROR($U$3*Data!M830/SQRT(COUNT(Data!F830:J830)),\"\")","v":""},"","","","","",{"$f":"IFERROR((Data!K830-$E$4),\"\")","v":""},{"$f":"IF(AND(F830<>\"\",G830<>\"\",H830<>\"\",I830<>\"\",J830<>\"\"),Data!Q830-$E$4,\"\")","v":""},"","","","",{"$f":"IF(F830<>\"\",STDEV($Q$12:Q830),\"\")","v":""},""]
[820,null,{"$f":"RIGHT(Data!C831,10)","v":""},null,null,null,null,null,null,null,{"$f":"IFERROR($U$3*Data!M831/SQRT(COUNT(Data!F831:J831)),\"\")","v":""},"","","","","",{"$f":"IFERROR((Data!K831-$E$4),\"\")","v":""},{"$f":"IF(AND(F831<>\"\",G831<>\"\",H831<>\"\",I831<>\"\",J831<>\"\"),Data!Q831-$E$4,\"\")","v":""},"","","","",{"$f":"IF(F831<>\"\",STDEV($Q$12:Q831),\"\")","v":""},""]
[821,null,{"$f":"RIGHT(Data!C832,10)","v":""},null,null,null,null,null,null,null,{"$f":"IFERROR($U$3*Data!M832/SQRT(COUNT(Data!F832:J832)),\"\")","v":""},"","","","","",{"$f":"IFERROR((Data!K832-$E$4),\"\")","v":""},{"$f":"IF(AND(F832<>\"\",G832<>\"\",H832<>\"\",I832<>\"\",J832<>\"\"),Data!Q832-$E$4,\"\")","v":""},"","","","",{"$f":"IF(F832<>\"\",STDEV($Q$12:Q832),\"\")","v":""},""]
[822,null,{"$f":"RIGHT(Data!C833,10)","v":""},null,null,null,null,null,null,null,{"$f":"IFERROR($U$3*Data!M833/SQRT(COUNT(Data!F833:J833)),\"\")","v":""},"","","","","",{"$f":"IFERROR((Data!K833-$E$4),\"\")","v":""},{"$f":"IF(AND(F833<>\"\",G833<>\"\",H833<>\"\",I833<>\"\",J833<>\"\"),Data!Q833-$E$4,\"\")","v":""},"","","","",{"$f":"IF(F833<>\"\",STDEV($Q$12:Q833),\"\")","v":""},""]
[823,null,{"$f":"RIGHT(Data!C834,10)","v":""},null,null,null,null,null,null,null,{"$f":"IFERROR($U$3*Data!M834/SQRT(COUNT(Data!F834:J834)),\"\")","v":""},"","","","","",{"$f":"IFERROR((Data!K834-$E$4),\"\")","v":""},{"$f":"IF(AND(F834<>\"\",G834<>\"\",H834<>\"\",I834<>\"\",J834<>\"\"),Data!Q834-$E$4,\"\")","v":""},"","","","",{"$f":"IF(F834<>\"\",STDEV($Q$12:Q834),\"\")","v":""},""]
[824,null,{"$f":"RIGHT(Data!C835,10)","v":""},null,null,null,null,null,null,null,{"$f":"IFERROR($U$3*Data!M835/SQRT(COUNT(Data!F835:J835)),\"\")","v":""},"","","","","",{"$f":"IFERROR((Data!K835-$E$4),\"\")","v":""},{"$f":"IF(AND(F835<>\"\",G835<>\"\",H835<>\"\",I835<>\"\",J835<>\"\"),Data!Q835-$E$4,\"\")","v":""},"","","","",{"$f":"IF(F835<>\"\",STDEV($Q$12:Q835),\"\")","v":""},""]
[825,null,{"$f":"RIGHT(Data!C836,10)","v":""},null,null,null,null,null,null,null,{"$f":"IFERROR($U$3*Data!M836/SQRT(COUNT(Data!F836:J836)),\"\")","v":""},"","","","","",{"$f":"IFERROR((Data!K836-$E$4),\"\")","v":""},{"$f":"IF(AND(F836<>\"\",G836<>\"\",H836<>\"\",I836<>\"\",J836<>\"\"),Data!Q836-$E$4,\"\")","v":""},"","","","",{"$f":"IF(F836<>\"\",STDEV($Q$12:Q836),\"\")","v":""},""]
[826,null,{"$f":"RIGHT(Data!C837,10)","v":""},null,null,null,null,null,null,null,{"$f":"IFERROR($U$3*Data!M837/SQRT(COUNT(Data!F837:J837)),\"\")","v":""},"","","","","",{"$f":"IFERROR((Data!K837-$E$4),\"\")","v":""},{"$f":"IF(AND(F837<>\"\",G837<>\"\",H837<>\"\",I837<>\"\",J837<>\"\"),Data!Q837-$E$4,\"\")","v":""},"","","","",{"$f":"IF(F837<>\"\",STDEV($Q$12:Q837),\"\")","v":""},""]
[827,null,{"$f":"RIGHT(Data!C838,10)","v":""},null,null,null,null,null,null,null,{"$f":"IFERROR($U$3*Data!M838/SQRT(COUNT(Data!F838:J838)),\"\")","v":""},"","","","","",{"$f":"IFERROR((Data!K838-$E$4),\"\")","v":""},{"$f":"IF(AND(F838<>\"\",G838<>\"\",H838<>\"\",I838<>\"\",J838<>\"\"),Data!Q838-$E$4,\"\")","v":""},"","","","",{"$f":"IF(F838<>\"\",STDEV($Q$12:Q838),\"\")","v":""},""]
[828,null,{"$f":"RIGHT(Data!C839,10)","v":""},null,null,null,null,null,null,null,{"$f":"IFERROR($U$3*Data!M839/SQRT(COUNT(Data!F839:J839)),\"\")","v":""},"","","","","",{"$f":"IFERROR((Data!K839-$E$4),\"\")","v":""},{"$f":"IF(AND(F839<>\"\",G839<>\"\",H839<>\"\",I839<>\"\",J839<>\"\"),Data!Q839-$E$4,\"\")","v":""},"","","","",{"$f":"IF(F839<>\"\",STDEV($Q$12:Q839),\"\")","v":""},""]
[829,null,{"$f":"RIGHT(Data!C840,10)","v":""},null,null,null,null,null,null,null,{"$f":"IFERROR($U$3*Data!M840/SQRT(COUNT(Data!F840:J840)),\"\")","v":""},"","","","","",{"$f":"IFERROR((Data!K840-$E$4),\"\")","v":""},{"$f":"IF(AND(F840<>\"\",G840<>\"\",H840<>\"\",I840<>\"\",J840<>\"\"),Data!Q840-$E$4,\"\")","v":""},"","","","",{"$f":"IF(F840<>\"\",STDEV($Q$12:Q840),\"\")","v":""},""]
[830,null,{"$f":"RIGHT(Data!C841,10)","v":""},null,null,null,null,null,null,null,{"$f":"IFERROR($U$3*Data!M841/SQRT(COUNT(Data!F841:J841)),\"\")","v":""},"","","","","",{"$f":"IFERROR((Data!K841-$E$4),\"\")","v":""},{"$f":"IF(AND(F841<>\"\",G841<>\"\",H841<>\"\",I841<>\"\",J841<>\"\"),Data!Q841-$E$4,\"\")","v":""},"","","","",{"$f":"IF(F841<>\"\",STDEV($Q$12:Q841),\"\")","v":""},""]
[831,null,{"$f":"RIGHT(Data!C842,10)","v":""},null,null,null,null,null,null,null,{"$f":"IFERROR($U$3*Data!M842/SQRT(COUNT(Data!F842:J842)),\"\")","v":""},"","","","","",{"$f":"IFERROR((Data!K842-$E$4),\"\")","v":""},{"$f":"IF(AND(F842<>\"\",G842<>\"\",H842<>\"\",I842<>\"\",J842<>\"\"),Data!Q842-$E$4,\"\")","v":""},"","","","",{"$f":"IF(F842<>\"\",STDEV($Q$12:Q842),\"\")","v":""},""]
[832,null,{"$f":"RIGHT(Data!C843,10)","v":""},null,null,null,null,null,null,null,{"$f":"IFERROR($U$3*Data!M843/SQRT(COUNT(Data!F843:J843)),\"\")","v":""},"","","","","",{"$f":"IFERROR((Data!K843-$E$4),\"\")","v":""},{"$f":"IF(AND(F843<>\"\",G843<>\"\",H843<>\"\",I843<>\"\",J843<>\"\"),Data!Q843-$E$4,\"\")","v":""},"","","","",{"$f":"IF(F843<>\"\",STDEV($Q$12:Q843),\"\")","v":""},""]
[833,null,{"$f":"RIGHT(Data!C844,10)","v":""},null,null,null,null,null,null,null,{"$f":"IFERROR($U$3*Data!M844/SQRT(COUNT(Data!F844:J844)),\"\")","v":""},"","",{"$f":"IF(COUNT(F844:J844)>=5,STDEV(F844:J844)*$U$3/SQRT((COUNT(F844:J844))),\"\")","v":""},{"$f":"IFERROR($U$4*SQRT($U$7^2+L844^2+K844^2+$U$5^2+N844^2),\"\")","v":""},"",{"$f":"IFERROR((Data!K844-$E$4),\"\")","v":""},{"$f":"IF(AND(F844<>\"\",G844<>\"\",H844<>\"\",I844<>\"\",J844<>\"\"),Data!Q844-$E$4,\"\")","v":""},{"$f":"IF(O844<>\"\",FIXED(X844,1) & \" ± \" & FIXED(O844+ABS(R844),2),\"\")","v":""},"","","",{"$f":"IF(F844<>\"\",STDEV($Q$12:Q844),\"\")","v":""},{"$f":"IF(F844<>\"\",AVERAGE(F844:J844),\"\")","v":""}]
[834,null,{"$f":"RIGHT(Data!C845,10)","v":""},null,null,null,null,null,null,null,{"$f":"IFERROR($U$3*Data!M845/SQRT(COUNT(Data!F845:J845)),\"\")","v":""},{"$f":"IF(F845<>\"\",V845*W845/SQRT(A845),\"\")","v":""},{"$f":"IF(F845<>\"\",$U$4*SQRT($U$7^2+L845^2+K845^2+$U$5^2),\"\")","v":""},"","",{"$f":"IF(AND(F845<>\"\",G845<>\"\",H845<>\"\",I845<>\"\",J845<>\"\"),AVERAGE(F845:J845),\"\")","v":""},{"$f":"IFERROR((Data!K845-$E$4),\"\")","v":""},{"$f":"IF(AND(F845<>\"\",G845<>\"\",H845<>\"\",I845<>\"\",J845<>\"\"),Data!Q845-$E$4,\"\")","v":""},"",{"$f":"IF(F845<>\"\",FIXED(AVERAGE(F845:J845)-R845,1) & \" ± \" & FIXED(O845,2),\"\")","v":""},{"$f":"IF(IO845=\"\",\"\",IO845-1)","v":""},{"$f":"IF(F845<>\"\",TINV(1-0.68,A845-1),\"\")","v":""},{"$f":"IF(F845<>\"\",STDEV($Q$12:Q845),\"\")","v":""},""]
[835,null,{"$f":"RIGHT(Data!C846,10)","v":""},null,null,null,null,null,null,null,{"$f":"IFERROR($U$3*Data!M846/SQRT(COUNT(Data!F846:J846)),\"\")","v":""},"","","","","",{"$f":"IFERROR((Data!K846-$E$4),\"\")","v":""},{"$f":"IF(AND(F846<>\"\",G846<>\"\",H846<>\"\",I846<>\"\",J846<>\"\"),Data!Q846-$E$4,\"\")","v":""},"","","","",{"$f":"IF(F846<>\"\",STDEV($Q$12:Q846),\"\")","v":""},""]
[836,null,{"$f":"RIGHT(Data!C847,10)","v":""},null,null,null,null,null,null,null,{"$f":"IFERROR($U$3*Data!M847/SQRT(COUNT(Data!F847:J847)),\"\")","v":""},"","","","","",{"$f":"IFERROR((Data!K847-$E$4),\"\")","v":""},{"$f":"IF(AND(F847<>\"\",G847<>\"\",H847<>\"\",I847<>\"\",J847<>\"\"),Data!Q847-$E$4,\"\")","v":""},"","","","",{"$f":"IF(F847<>\"\",STDEV($Q$12:Q847),\"\")","v":""},""]
[837,null,{"$f":"RIGHT(Data!C848,10)","v":""},null,null,null,null,null,null,null,{"$f":"IFERROR($U$3*Data!M848/SQRT(COUNT(Data!F848:J848)),\"\")","v":""},"","","","","",{"$f":"IFERROR((Data!K848-$E$4),\"\")","v":""},{"$f":"IF(AND(F848<>\"\",G848<>\"\",H848<>\"\",I848<>\"\",J848<>\"\"),Data!Q848-$E$4,\"\")","v":""},"","","","",{"$f":"IF(F848<>\"\",STDEV($Q$12:Q848),\"\")","v":""},""]
[838,null,{"$f":"RIGHT(Data!C849,10)","v":""},null,null,null,null,null,null,null,{"$f":"IFERROR($U$3*Data!M849/SQRT(COUNT(Data!F849:J849)),\"\")","v":""},"","","","","",{"$f":"IFERROR((Data!K849-$E$4),\"\")","v":""},{"$f":"IF(AND(F849<>\"\",G849<>\"\",H849<>\"\",I849<>\"\",J849<>\"\"),Data!Q849-$E$4,\"\")","v":""},"","","","",{"$f":"IF(F849<>\"\",STDEV($Q$12:Q849),\"\")","v":""},""]
[839,null,{"$f":"RIGHT(Data!C850,10)","v":""},null,null,null,null,null,null,null,{"$f":"IFERROR($U$3*Data!M850/SQRT(COUNT(Data!F850:J850)),\"\")","v":""},"","","","","",{"$f":"IFERROR((Data!K850-$E$4),\"\")","v":""},{"$f":"IF(AND(F850<>\"\",G850<>\"\",H850<>\"\",I850<>\"\",J850<>\"\"),Data!Q850-$E$4,\"\")","v":""},"","","","",{"$f":"IF(F850<>\"\",STDEV($Q$12:Q850),\"\")","v":""},""]
[840,null,{"$f":"RIGHT(Data!C851,10)","v":""},null,null,null,null,null,null,null,{"$f":"IFERROR($U$3*Data!M851/SQRT(COUNT(Data!F851:J851)),\"\")","v":""},"","","","","",{"$f":"IFERROR((Data!K851-$E$4),\"\")","v":""},{"$f":"IF(AND(F851<>\"\",G851<>\"\",H851<>\"\",I851<>\"\",J851<>\"\"),Data!Q851-$E$4,\"\")","v":""},"","","","",{"$f":"IF(F851<>\"\",STDEV($Q$12:Q851),\"\")","v":""},""]
[841,null,{"$f":"RIGHT(Data!C852,10)","v":""},null,null,null,null,null,null,null,{"$f":"IFERROR($U$3*Data!M852/SQRT(COUNT(Data!F852:J852)),\"\")","v":""},"","","","","",{"$f":"IFERROR((Data!K852-$E$4),\"\")","v":""},{"$f":"IF(AND(F852<>\"\",G852<>\"\",H852<>\"\",I852<>\"\",J852<>\"\"),Data!Q852-$E$4,\"\")","v":""},"","","","",{"$f":"IF(F852<>\"\",STDEV($Q$12:Q852),\"\")","v":""},""]
[842,null,{"$f":"RIGHT(Data!C853,10)","v":""},null,null,null,null,null,null,null,{"$f":"IFERROR($U$3*Data!M853/SQRT(COUNT(Data!F853:J853)),\"\")","v":""},"","","","","",{"$f":"IFERROR((Data!K853-$E$4),\"\")","v":""},{"$f":"IF(AND(F853<>\"\",G853<>\"\",H853<>\"\",I853<>\"\",J853<>\"\"),Data!Q853-$E$4,\"\")","v":""},"","","","",{"$f":"IF(F853<>\"\",STDEV($Q$12:Q853),\"\")","v":""},""]
[843,null,{"$f":"RIGHT(Data!C854,10)","v":""},null,null,null,null,null,null,null,{"$f":"IFERROR($U$3*Data!M854/SQRT(COUNT(Data!F854:J854)),\"\")","v":""},"","","","","",{"$f":"IFERROR((Data!K854-$E$4),\"\")","v":""},{"$f":"IF(AND(F854<>\"\",G854<>\"\",H854<>\"\",I854<>\"\",J854<>\"\"),Data!Q854-$E$4,\"\")","v":""},"","","","",{"$f":"IF(F854<>\"\",STDEV($Q$12:Q854),\"\")","v":""},""]
[844,null,{"$f":"RIGHT(Data!C855,10)","v":""},null,null,null,null,null,null,null,{"$f":"IFERROR($U$3*Data!M855/SQRT(COUNT(Data!F855:J855)),\"\")","v":""},"","","","","",{"$f":"IFERROR((Data!K855-$E$4),\"\")","v":""},{"$f":"IF(AND(F855<>\"\",G855<>\"\",H855<>\"\",I855<>\"\",J855<>\"\"),Data!Q855-$E$4,\"\")","v":""},"","","","",{"$f":"IF(F855<>\"\",STDEV($Q$12:Q855),\"\")","v":""},""]
[845,null,{"$f":"RIGHT(Data!C856,10)","v":""},null,null,null,null,null,null,null,{"$f":"IFERROR($U$3*Data!M856/SQRT(COUNT(Data!F856:J856)),\"\")","v":""},"","","","","",{"$f":"IFERROR((Data!K856-$E$4),\"\")","v":""},{"$f":"IF(AND(F856<>\"\",G856<>\"\",H856<>\"\",I856<>\"\",J856<>\"\"),Data!Q856-$E$4,\"\")","v":""},"","","","",{"$f":"IF(F856<>\"\",STDEV($Q$12:Q856),\"\")","v":""},""]
[846,null,{"$f":"RIGHT(Data!C857,10)","v":""},null,null,null,null,null,null,null,{"$f":"IFERROR($U$3*Data!M857/SQRT(COUNT(Data!F857:J857)),\"\")","v":""},"","","","","",{"$f":"IFERROR((Data!K857-$E$4),\"\")","v":""},{"$f":"IF(AND(F857<>\"\",G857<>\"\",H857<>\"\",I857<>\"\",J857<>\"\"),Data!Q857-$E$4,\"\")","v":""},"","","","",{"$f":"IF(F857<>\"\",STDEV($Q$12:Q857),\"\")","v":""},""]
[847,null,{"$f":"RIGHT(Data!C858,10)","v":""},null,null,null,null,null,null,null,{"$f":"IFERROR($U$3*Data!M858/SQRT(COUNT(Data!F858:J858)),\"\")","v":""},"","","","","",{"$f":"IFERROR((Data!K858-$E$4),\"\")","v":""},{"$f":"IF(AND(F858<>\"\",G858<>\"\",H858<>\"\",I858<>\"\",J858<>\"\"),Data!Q858-$E$4,\"\")","v":""},"","","","",{"$f":"IF(F858<>\"\",STDEV($Q$12:Q858),\"\")","v":""},""]
[848,null,{"$f":"RIGHT(Data!C859,10)","v":""},null,null,null,null,null,null,null,{"$f":"IFERROR($U$3*Data!M859/SQRT(COUNT(Data!F859:J859)),\"\")","v":""},"","","","","",{"$f":"IFERROR((Data!K859-$E$4),\"\")","v":""},{"$f":"IF(AND(F859<>\"\",G859<>\"\",H859<>\"\",I859<>\"\",J859<>\"\"),Data!Q859-$E$4,\"\")","v":""},"","","","",{"$f":"IF(F859<>\"\",STDEV($Q$12:Q859),\"\")","v":""},""]
[849,null,{"$f":"RIGHT(Data!C860,10)","v":""},null,null,null,null,null,null,null,{"$f":"IFERROR($U$3*Data!M860/SQRT(COUNT(Data!F860:J860)),\"\")","v":""},"","","","","",{"$f":"IFERROR((Data!K860-$E$4),\"\")","v":""},{"$f":"IF(AND(F860<>\"\",G860<>\"\",H860<>\"\",I860<>\"\",J860<>\"\"),Data!Q860-$E$4,\"\")","v":""},"","","","",{"$f":"IF(F860<>\"\",STDEV($Q$12:Q860),\"\")","v":""},""]
[850,null,{"$f":"RIGHT(Data!C861,10)","v":""},null,null,null,null,null,null,null,{"$f":"IFERROR($U$3*Data!M861/SQRT(COUNT(Data!F861:J861)),\"\")","v":""},"","","","","",{"$f":"IFERROR((Data!K861-$E$4),\"\")","v":""},{"$f":"IF(AND(F861<>\"\",G861<>\"\",H861<>\"\",I861<>\"\",J861<>\"\"),Data!Q861-$E$4,\"\")","v":""},"","","","",{"$f":"IF(F861<>\"\",STDEV($Q$12:Q861),\"\")","v":""},""]
[851,null,{"$f":"RIGHT(Data!C862,10)","v":""},null,null,null,null,null,null,null,{"$f":"IFERROR($U$3*Data!M862/SQRT(COUNT(Data!F862:J862)),\"\")","v":""},"","","","","",{"$f":"IFERROR((Data!K862-$E$4),\"\")","v":""},{"$f":"IF(AND(F862<>\"\",G862<>\"\",H862<>\"\",I862<>\"\",J862<>\"\"),Data!Q862-$E$4,\"\")","v":""},"","","","",{"$f":"IF(F862<>\"\",STDEV($Q$12:Q862),\"\")","v":""},""]
[852,null,{"$f":"RIGHT(Data!C863,10)","v":""},null,null,null,null,null,null,null,{"$f":"IFERROR($U$3*Data!M863/SQRT(COUNT(Data!F863:J863)),\"\")","v":""},"","","","","",{"$f":"IFERROR((Data!K863-$E$4),\"\")","v":""},{"$f":"IF(AND(F863<>\"\",G863<>\"\",H863<>\"\",I863<>\"\",J863<>\"\"),Data!Q863-$E$4,\"\")","v":""},"","","","",{"$f":"IF(F863<>\"\",STDEV($Q$12:Q863),\"\")","v":""},""]
[853,null,{"$f":"RIGHT(Data!C864,10)","v":""},null,null,null,null,null,null,null,{"$f":"IFERROR($U$3*Data!M864/SQRT(COUNT(Data!F864:J864)),\"\")","v":""},"","","","","",{"$f":"IFERROR((Data!K864-$E$4),\"\")","v":""},{"$f":"IF(AND(F864<>\"\",G864<>\"\",H864<>\"\",I864<>\"\",J864<>\"\"),Data!Q864-$E$4,\"\")","v":""},"","","","",{"$f":"IF(F864<>\"\",STDEV($Q$12:Q864),\"\")","v":""},""]
[854,null,{"$f":"RIGHT(Data!C865,10)","v":""},null,null,null,null,null,null,null,{"$f":"IFERROR($U$3*Data!M865/SQRT(COUNT(Data!F865:J865)),\"\")","v":""},"","","","","",{"$f":"IFERROR((Data!K865-$E$4),\"\")","v":""},{"$f":"IF(AND(F865<>\"\",G865<>\"\",H865<>\"\",I865<>\"\",J865<>\"\"),Data!Q865-$E$4,\"\")","v":""},"","","","",{"$f":"IF(F865<>\"\",STDEV($Q$12:Q865),\"\")","v":""},""]
[855,null,{"$f":"RIGHT(Data!C866,10)","v":""},null,null,null,null,null,null,null,{"$f":"IFERROR($U$3*Data!M866/SQRT(COUNT(Data!F866:J866)),\"\")","v":""},"","","","","",{"$f":"IFERROR((Data!K866-$E$4),\"\")","v":""},{"$f":"IF(AND(F866<>\"\",G866<>\"\",H866<>\"\",I866<>\"\",J866<>\"\"),Data!Q866-$E$4,\"\")","v":""},"","","","",{"$f":"IF(F866<>\"\",STDEV($Q$12:Q866),\"\")","v":""},""]
[856,null,{"$f":"RIGHT(Data!C867,10)","v":""},null,null,null,null,null,null,null,{"$f":"IFERROR($U$3*Data!M867/SQRT(COUNT(Data!F867:J867)),\"\")","v":""},"","","","","",{"$f":"IFERROR((Data!K867-$E$4),\"\")","v":""},{"$f":"IF(AND(F867<>\"\",G867<>\"\",H867<>\"\",I867<>\"\",J867<>\"\"),Data!Q867-$E$4,\"\")","v":""},"","","","",{"$f":"IF(F867<>\"\",STDEV($Q$12:Q867),\"\")","v":""},""]
[857,null,{"$f":"RIGHT(Data!C868,10)","v":""},null,null,null,null,null,null,null,{"$f":"IFERROR($U$3*Data!M868/SQRT(COUNT(Data!F868:J868)),\"\")","v":""},"","","","","",{"$f":"IFERROR((Data!K868-$E$4),\"\")","v":""},{"$f":"IF(AND(F868<>\"\",G868<>\"\",H868<>\"\",I868<>\"\",J868<>\"\"),Data!Q868-$E$4,\"\")","v":""},"","","","",{"$f":"IF(F868<>\"\",STDEV($Q$12:Q868),\"\")","v":""},""]
[858,null,{"$f":"RIGHT(Data!C869,10)","v":""},null,null,null,null,null,null,null,{"$f":"IFERROR($U$3*Data!M869/SQRT(COUNT(Data!F869:J869)),\"\")","v":""},"","","","","",{"$f":"IFERROR((Data!K869-$E$4),\"\")","v":""},{"$f":"IF(AND(F869<>\"\",G869<>\"\",H869<>\"\",I869<>\"\",J869<>\"\"),Data!Q869-$E$4,\"\")","v":""},"","","","",{"$f":"IF(F869<>\"\",STDEV($Q$12:Q869),\"\")","v":""},""]
[859,null,{"$f":"RIGHT(Data!C870,10)","v":""},null,null,null,null,null,null,null,{"$f":"IFERROR($U$3*Data!M870/SQRT(COUNT(Data!F870:J870)),\"\")","v":""},"","","","","",{"$f":"IFERROR((Data!K870-$E$4),\"\")","v":""},{"$f":"IF(AND(F870<>\"\",G870<>\"\",H870<>\"\",I870<>\"\",J870<>\"\"),Data!Q870-$E$4,\"\")","v":""},"","","","",{"$f":"IF(F870<>\"\",STDEV($Q$12:Q870),\"\")","v":""},""]
[860,null,{"$f":"RIGHT(Data!C871,10)","v":""},null,null,null,null,null,null,null,{"$f":"IFERROR($U$3*Data!M871/SQRT(COUNT(Data!F871:J871)),\"\")","v":""},"","","","","",{"$f":"IFERROR((Data!K871-$E$4),\"\")","v":""},{"$f":"IF(AND(F871<>\"\",G871<>\"\",H871<>\"\",I871<>\"\",J871<>\"\"),Data!Q871-$E$4,\"\")","v":""},"","","","",{"$f":"IF(F871<>\"\",STDEV($Q$12:Q871),\"\")","v":""},""]
[861,null,{"$f":"RIGHT(Data!C872,10)","v":""},null,null,null,null,null,null,null,{"$f":"IFERROR($U$3*Data!M872/SQRT(COUNT(Data!F872:J872)),\"\")","v":""},"","","","","",{"$f":"IFERROR((Data!K872-$E$4),\"\")","v":""},{"$f":"IF(AND(F872<>\"\",G872<>\"\",H872<>\"\",I872<>\"\",J872<>\"\"),Data!Q872-$E$4,\"\")","v":""},"","","","",{"$f":"IF(F872<>\"\",STDEV($Q$12:Q872),\"\")","v":""},""]
[862,null,{"$f":"RIGHT(Data!C873,10)","v":""},null,null,null,null,null,null,null,{"$f":"IFERROR($U$3*Data!M873/SQRT(COUNT(Data!F873:J873)),\"\")","v":""},"","","","","",{"$f":"IFERROR((Data!K873-$E$4),\"\")","v":""},{"$f":"IF(AND(F873<>\"\",G873<>\"\",H873<>\"\",I873<>\"\",J873<>\"\"),Data!Q873-$E$4,\"\")","v":""},"","","","",{"$f":"IF(F873<>\"\",STDEV($Q$12:Q873),\"\")","v":""},""]
[863,null,{"$f":"RIGHT(Data!C874,10)","v":""},null,null,null,null,null,null,null,{"$f":"IFERROR($U$3*Data!M874/SQRT(COUNT(Data!F874:J874)),\"\")","v":""},"","","","","",{"$f":"IFERROR((Data!K874-$E$4),\"\")","v":""},{"$f":"IF(AND(F874<>\"\",G874<>\"\",H874<>\"\",I874<>\"\",J874<>\"\"),Data!Q874-$E$4,\"\")","v":""},"","","","",{"$f":"IF(F874<>\"\",STDEV($Q$12:Q874),\"\")","v":""},""]
[864,null,{"$f":"RIGHT(Data!C875,10)","v":""},null,null,null,null,null,null,null,{"$f":"IFERROR($U$3*Data!M875/SQRT(COUNT(Data!F875:J875)),\"\")","v":""},"","","","","",{"$f":"IFERROR((Data!K875-$E$4),\"\")","v":""},{"$f":"IF(AND(F875<>\"\",G875<>\"\",H875<>\"\",I875<>\"\",J875<>\"\"),Data!Q875-$E$4,\"\")","v":""},"","","","",{"$f":"IF(F875<>\"\",STDEV($Q$12:Q875),\"\")","v":""},""]
[865,null,{"$f":"RIGHT(Data!C876,10)","v":""},null,null,null,null,null,null,null,{"$f":"IFERROR($U$3*Data!M876/SQRT(COUNT(Data!F876:J876)),\"\")","v":""},"","","","","",{"$f":"IFERROR((Data!K876-$E$4),\"\")","v":""},{"$f":"IF(AND(F876<>\"\",G876<>\"\",H876<>\"\",I876<>\"\",J876<>\"\"),Data!Q876-$E$4,\"\")","v":""},"","","","",{"$f":"IF(F876<>\"\",STDEV($Q$12:Q876),\"\")","v":""},""]
[866,null,{"$f":"RIGHT(Data!C877,10)","v":""},null,null,null,null,null,null,null,{"$f":"IFERROR($U$3*Data!M877/SQRT(COUNT(Data!F877:J877)),\"\")","v":""},"","","","","",{"$f":"IFERROR((Data!K877-$E$4),\"\")","v":""},{"$f":"IF(AND(F877<>\"\",G877<>\"\",H877<>\"\",I877<>\"\",J877<>\"\"),Data!Q877-$E$4,\"\")","v":""},"","","","",{"$f":"IF(F877<>\"\",STDEV($Q$12:Q877),\"\")","v":""},""]
[867,null,{"$f":"RIGHT(Data!C878,10)","v":""},null,null,null,null,null,null,null,{"$f":"IFERROR($U$3*Data!M878/SQRT(COUNT(Data!F878:J878)),\"\")","v":""},"","","","","",{"$f":"IFERROR((Data!K878-$E$4),\"\")","v":""},{"$f":"IF(AND(F878<>\"\",G878<>\"\",H878<>\"\",I878<>\"\",J878<>\"\"),Data!Q878-$E$4,\"\")","v":""},"","","","",{"$f":"IF(F878<>\"\",STDEV($Q$12:Q878),\"\")","v":""},""]
[868,null,{"$f":"RIGHT(Data!C879,10)","v":""},null,null,null,null,null,null,null,{"$f":"IFERROR($U$3*Data!M879/SQRT(COUNT(Data!F879:J879)),\"\")","v":""},"","","","","",{"$f":"IFERROR((Data!K879-$E$4),\"\")","v":""},{"$f":"IF(AND(F879<>\"\",G879<>\"\",H879<>\"\",I879<>\"\",J879<>\"\"),Data!Q879-$E$4,\"\")","v":""},"","","","",{"$f":"IF(F879<>\"\",STDEV($Q$12:Q879),\"\")","v":""},""]
[869,null,{"$f":"RIGHT(Data!C880,10)","v":""},null,null,null,null,null,null,null,{"$f":"IFERROR($U$3*Data!M880/SQRT(COUNT(Data!F880:J880)),\"\")","v":""},"","","","","",{"$f":"IFERROR((Data!K880-$E$4),\"\")","v":""},{"$f":"IF(AND(F880<>\"\",G880<>\"\",H880<>\"\",I880<>\"\",J880<>\"\"),Data!Q880-$E$4,\"\")","v":""},"","","","",{"$f":"IF(F880<>\"\",STDEV($Q$12:Q880),\"\")","v":""},""]
[870,null,{"$f":"RIGHT(Data!C881,10)","v":""},null,null,null,null,null,null,null,{"$f":"IFERROR($U$3*Data!M881/SQRT(COUNT(Data!F881:J881)),\"\")","v":""},"","","","","",{"$f":"IFERROR((Data!K881-$E$4),\"\")","v":""},{"$f":"IF(AND(F881<>\"\",G881<>\"\",H881<>\"\",I881<>\"\",J881<>\"\"),Data!Q881-$E$4,\"\")","v":""},"","","","",{"$f":"IF(F881<>\"\",STDEV($Q$12:Q881),\"\")","v":""},""]
[871,null,{"$f":"RIGHT(Data!C882,10)","v":""},null,null,null,null,null,null,null,{"$f":"IFERROR($U$3*Data!M882/SQRT(COUNT(Data!F882:J882)),\"\")","v":""},"","","","","",{"$f":"IFERROR((Data!K882-$E$4),\"\")","v":""},{"$f":"IF(AND(F882<>\"\",G882<>\"\",H882<>\"\",I882<>\"\",J882<>\"\"),Data!Q882-$E$4,\"\")","v":""},"","","","",{"$f":"IF(F882<>\"\",STDEV($Q$12:Q882),\"\")","v":""},""]
[872,null,{"$f":"RIGHT(Data!C883,10)","v":""},null,null,null,null,null,null,null,{"$f":"IFERROR($U$3*Data!M883/SQRT(COUNT(Data!F883:J883)),\"\")","v":""},"","","","","",{"$f":"IFERROR((Data!K883-$E$4),\"\")","v":""},{"$f":"IF(AND(F883<>\"\",G883<>\"\",H883<>\"\",I883<>\"\",J883<>\"\"),Data!Q883-$E$4,\"\")","v":""},"","","","",{"$f":"IF(F883<>\"\",STDEV($Q$12:Q883),\"\")","v":""},""]
[873,null,{"$f":"RIGHT(Data!C884,10)","v":""},null,null,null,null,null,null,null,{"$f":"IFERROR($U$3*Data!M884/SQRT(COUNT(Data!F884:J884)),\"\")","v":""},"","","","","",{"$f":"IFERROR((Data!K884-$E$4),\"\")","v":""},{"$f":"IF(AND(F884<>\"\",G884<>\"\",H884<>\"\",I884<>\"\",J884<>\"\"),Data!Q884-$E$4,\"\")","v":""},"","","","",{"$f":"IF(F884<>\"\",STDEV($Q$12:Q884),\"\")","v":""},""]
[874,null,{"$f":"RIGHT(Data!C885,10)","v":""},null,null,null,null,null,null,null,{"$f":"IFERROR($U$3*Data!M885/SQRT(COUNT(Data!F885:J885)),\"\")","v":""},"","","","","",{"$f":"IFERROR((Data!K885-$E$4),\"\")","v":""},{"$f":"IF(AND(F885<>\"\",G885<>\"\",H885<>\"\",I885<>\"\",J885<>\"\"),Data!Q885-$E$4,\"\")","v":""},"","","","",{"$f":"IF(F885<>\"\",STDEV($Q$12:Q885),\"\")","v":""},""]
[875,null,{"$f":"RIGHT(Data!C886,10)","v":""},null,null,null,null,null,null,null,{"$f":"IFERROR($U$3*Data!M886/SQRT(COUNT(Data!F886:J886)),\"\")","v":""},"","","","","",{"$f":"IFERROR((Data!K886-$E$4),\"\")","v":""},{"$f":"IF(AND(F886<>\"\",G886<>\"\",H886<>\"\",I886<>\"\",J886<>\"\"),Data!Q886-$E$4,\"\")","v":""},"","","","",{"$f":"IF(F886<>\"\",STDEV($Q$12:Q886),\"\")","v":""},""]
[876,null,{"$f":"RIGHT(Data!C887,10)","v":""},null,null,null,null,null,null,null,{"$f":"IFERROR($U$3*Data!M887/SQRT(COUNT(Data!F887:J887)),\"\")","v":""},"","","","","",{"$f":"IFERROR((Data!K887-$E$4),\"\")","v":""},{"$f":"IF(AND(F887<>\"\",G887<>\"\",H887<>\"\",I887<>\"\",J887<>\"\"),Data!Q887-$E$4,\"\")","v":""},"","","","",{"$f":"IF(F887<>\"\",STDEV($Q$12:Q887),\"\")","v":""},""]
[877,null,{"$f":"RIGHT(Data!C888,10)","v":""},null,null,null,null,null,null,null,{"$f":"IFERROR($U$3*Data!M888/SQRT(COUNT(Data!F888:J888)),\"\")","v":""},"","","","","",{"$f":"IFERROR((Data!K888-$E$4),\"\")","v":""},{"$f":"IF(AND(F888<>\"\",G888<>\"\",H888<>\"\",I888<>\"\",J888<>\"\"),Data!Q888-$E$4,\"\")","v":""},"","","","",{"$f":"IF(F888<>\"\",STDEV($Q$12:Q888),\"\")","v":""},""]
[878,null,{"$f":"RIGHT(Data!C889,10)","v":""},null,null,null,null,null,null,null,{"$f":"IFERROR($U$3*Data!M889/SQRT(COUNT(Data!F889:J889)),\"\")","v":""},"","","","","",{"$f":"IFERROR((Data!K889-$E$4),\"\")","v":""},{"$f":"IF(AND(F889<>\"\",G889<>\"\",H889<>\"\",I889<>\"\",J889<>\"\"),Data!Q889-$E$4,\"\")","v":""},"","","","",{"$f":"IF(F889<>\"\",STDEV($Q$12:Q889),\"\")","v":""},""]
[879,null,{"$f":"RIGHT(Data!C890,10)","v":""},null,null,null,null,null,null,null,{"$f":"IFERROR($U$3*Data!M890/SQRT(COUNT(Data!F890:J890)),\"\")","v":""},"","","","","",{"$f":"IFERROR((Data!K890-$E$4),\"\")","v":""},{"$f":"IF(AND(F890<>\"\",G890<>\"\",H890<>\"\",I890<>\"\",J890<>\"\"),Data!Q890-$E$4,\"\")","v":""},"","","","",{"$f":"IF(F890<>\"\",STDEV($Q$12:Q890),\"\")","v":""},""]
[880,null,{"$f":"RIGHT(Data!C891,10)","v":""},null,null,null,null,null,null,null,{"$f":"IFERROR($U$3*Data!M891/SQRT(COUNT(Data!F891:J891)),\"\")","v":""},"","","","","",{"$f":"IFERROR((Data!K891-$E$4),\"\")","v":""},{"$f":"IF(AND(F891<>\"\",G891<>\"\",H891<>\"\",I891<>\"\",J891<>\"\"),Data!Q891-$E$4,\"\")","v":""},"","","","",{"$f":"IF(F891<>\"\",STDEV($Q$12:Q891),\"\")","v":""},""]
[881,null,{"$f":"RIGHT(Data!C892,10)","v":""},null,null,null,null,null,null,null,{"$f":"IFERROR($U$3*Data!M892/SQRT(COUNT(Data!F892:J892)),\"\")","v":""},"","","","","",{"$f":"IFERROR((Data!K892-$E$4),\"\")","v":""},{"$f":"IF(AND(F892<>\"\",G892<>\"\",H892<>\"\",I892<>\"\",J892<>\"\"),Data!Q892-$E$4,\"\")","v":""},"","","","",{"$f":"IF(F892<>\"\",STDEV($Q$12:Q892),\"\")","v":""},""]
[882,null,{"$f":"RIGHT(Data!C893,10)","v":""},null,null,null,null,null,null,null,{"$f":"IFERROR($U$3*Data!M893/SQRT(COUNT(Data!F893:J893)),\"\")","v":""},"","","","","",{"$f":"IFERROR((Data!K893-$E$4),\"\")","v":""},{"$f":"IF(AND(F893<>\"\",G893<>\"\",H893<>\"\",I893<>\"\",J893<>\"\"),Data!Q893-$E$4,\"\")","v":""},"","","","",{"$f":"IF(F893<>\"\",STDEV($Q$12:Q893),\"\")","v":""},""]
[883,null,{"$f":"RIGHT(Data!C894,10)","v":""},null,null,null,null,null,null,null,{"$f":"IFERROR($U$3*Data!M894/SQRT(COUNT(Data!F894:J894)),\"\")","v":""},"","","","","",{"$f":"IFERROR((Data!K894-$E$4),\"\")","v":""},{"$f":"IF(AND(F894<>\"\",G894<>\"\",H894<>\"\",I894<>\"\",J894<>\"\"),Data!Q894-$E$4,\"\")","v":""},"","","","",{"$f":"IF(F894<>\"\",STDEV($Q$12:Q894),\"\")","v":""},""]
[884,null,{"$f":"RIGHT(Data!C895,10)","v":""},null,null,null,null,null,null,null,{"$f":"IFERROR($U$3*Data!M895/SQRT(COUNT(Data!F895:J895)),\"\")","v":""},"","","","","",{"$f":"IFERROR((Data!K895-$E$4),\"\")","v":""},{"$f":"IF(AND(F895<>\"\",G895<>\"\",H895<>\"\",I895<>\"\",J895<>\"\"),Data!Q895-$E$4,\"\")","v":""},"","","","",{"$f":"IF(F895<>\"\",STDEV($Q$12:Q895),\"\")","v":""},""]
[885,null,{"$f":"RIGHT(Data!C896,10)","v":""},null,null,null,null,null,null,null,{"$f":"IFERROR($U$3*Data!M896/SQRT(COUNT(Data!F896:J896)),\"\")","v":""},"","","","","",{"$f":"IFERROR((Data!K896-$E$4),\"\")","v":""},{"$f":"IF(AND(F896<>\"\",G896<>\"\",H896<>\"\",I896<>\"\",J896<>\"\"),Data!Q896-$E$4,\"\")","v":""},"","","","",{"$f":"IF(F896<>\"\",STDEV($Q$12:Q896),\"\")","v":""},""]
[886,null,{"$f":"RIGHT(Data!C897,10)","v":""},null,null,null,null,null,null,null,{"$f":"IFERROR($U$3*Data!M897/SQRT(COUNT(Data!F897:J897)),\"\")","v":""},"","","","","",{"$f":"IFERROR((Data!K897-$E$4),\"\")","v":""},{"$f":"IF(AND(F897<>\"\",G897<>\"\",H897<>\"\",I897<>\"\",J897<>\"\"),Data!Q897-$E$4,\"\")","v":""},"","","","",{"$f":"IF(F897<>\"\",STDEV($Q$12:Q897),\"\")","v":""},""]
[887,null,{"$f":"RIGHT(Data!C898,10)","v":""},null,null,null,null,null,null,null,{"$f":"IFERROR($U$3*Data!M898/SQRT(COUNT(Data!F898:J898)),\"\")","v":""},"","","","","",{"$f":"IFERROR((Data!K898-$E$4),\"\")","v":""},{"$f":"IF(AND(F898<>\"\",G898<>\"\",H898<>\"\",I898<>\"\",J898<>\"\"),Data!Q898-$E$4,\"\")","v":""},"","","","",{"$f":"IF(F898<>\"\",STDEV($Q$12:Q898),\"\")","v":""},""]
[888,null,{"$f":"RIGHT(Data!C899,10)","v":""},null,null,null,null,null,null,null,{"$f":"IFERROR($U$3*Data!M899/SQRT(COUNT(Data!F899:J899)),\"\")","v":""},"","","","","",{"$f":"IFERROR((Data!K899-$E$4),\"\")","v":""},{"$f":"IF(AND(F899<>\"\",G899<>\"\",H899<>\"\",I899<>\"\",J899<>\"\"),Data!Q899-$E$4,\"\")","v":""},"","","","",{"$f":"IF(F899<>\"\",STDEV($Q$12:Q899),\"\")","v":""},""]
[889,null,{"$f":"RIGHT(Data!C900,10)","v":""},null,null,null,null,null,null,null,{"$f":"IFERROR($U$3*Data!M900/SQRT(COUNT(Data!F900:J900)),\"\")","v":""},"","","","","",{"$f":"IFERROR((Data!K900-$E$4),\"\")","v":""},{"$f":"IF(AND(F900<>\"\",G900<>\"\",H900<>\"\",I900<>\"\",J900<>\"\"),Data!Q900-$E$4,\"\")","v":""},"","","","",{"$f":"IF(F900<>\"\",STDEV($Q$12:Q900),\"\")","v":""},""]
[890,null,{"$f":"RIGHT(Data!C901,10)","v":""},null,null,null,null,null,null,null,{"$f":"IFERROR($U$3*Data!M901/SQRT(COUNT(Data!F901:J901)),\"\")","v":""},"","","","","",{"$f":"IFERROR((Data!K901-$E$4),\"\")","v":""},{"$f":"IF(AND(F901<>\"\",G901<>\"\",H901<>\"\",I901<>\"\",J901<>\"\"),Data!Q901-$E$4,\"\")","v":""},"","","","",{"$f":"IF(F901<>\"\",STDEV($Q$12:Q901),\"\")","v":""},""]
[891,null,{"$f":"RIGHT(Data!C902,10)","v":""},null,null,null,null,null,null,null,{"$f":"IFERROR($U$3*Data!M902/SQRT(COUNT(Data!F902:J902)),\"\")","v":""},"","","","","",{"$f":"IFERROR((Data!K902-$E$4),\"\")","v":""},{"$f":"IF(AND(F902<>\"\",G902<>\"\",H902<>\"\",I902<>\"\",J902<>\"\"),Data!Q902-$E$4,\"\")","v":""},"","","","",{"$f":"IF(F902<>\"\",STDEV($Q$12:Q902),\"\")","v":""},""]
[892,null,{"$f":"RIGHT(Data!C903,10)","v":""},null,null,null,null,null,null,null,{"$f":"IFERROR($U$3*Data!M903/SQRT(COUNT(Data!F903:J903)),\"\")","v":""},"","","","","",{"$f":"IFERROR((Data!K903-$E$4),\"\")","v":""},{"$f":"IF(AND(F903<>\"\",G903<>\"\",H903<>\"\",I903<>\"\",J903<>\"\"),Data!Q903-$E$4,\"\")","v":""},"","","","",{"$f":"IF(F903<>\"\",STDEV($Q$12:Q903),\"\")","v":""},""]
[893,null,{"$f":"RIGHT(Data!C904,10)","v":""},null,null,null,null,null,null,null,{"$f":"IFERROR($U$3*Data!M904/SQRT(COUNT(Data!F904:J904)),\"\")","v":""},"","","","","",{"$f":"IFERROR((Data!K904-$E$4),\"\")","v":""},{"$f":"IF(AND(F904<>\"\",G904<>\"\",H904<>\"\",I904<>\"\",J904<>\"\"),Data!Q904-$E$4,\"\")","v":""},"","","","",{"$f":"IF(F904<>\"\",STDEV($Q$12:Q904),\"\")","v":""},""]
[894,null,{"$f":"RIGHT(Data!C905,10)","v":""},null,null,null,null,null,null,null,{"$f":"IFERROR($U$3*Data!M905/SQRT(COUNT(Data!F905:J905)),\"\")","v":""},"","","","","",{"$f":"IFERROR((Data!K905-$E$4),\"\")","v":""},{"$f":"IF(AND(F905<>\"\",G905<>\"\",H905<>\"\",I905<>\"\",J905<>\"\"),Data!Q905-$E$4,\"\")","v":""},"","","","",{"$f":"IF(F905<>\"\",STDEV($Q$12:Q905),\"\")","v":""},""]
[895,null,{"$f":"RIGHT(Data!C906,10)","v":""},null,null,null,null,null,null,null,{"$f":"IFERROR($U$3*Data!M906/SQRT(COUNT(Data!F906:J906)),\"\")","v":""},"","","","","",{"$f":"IFERROR((Data!K906-$E$4),\"\")","v":""},{"$f":"IF(AND(F906<>\"\",G906<>\"\",H906<>\"\",I906<>\"\",J906<>\"\"),Data!Q906-$E$4,\"\")","v":""},"","","","",{"$f":"IF(F906<>\"\",STDEV($Q$12:Q906),\"\")","v":""},""]
[896,null,{"$f":"RIGHT(Data!C907,10)","v":""},null,null,null,null,null,null,null,{"$f":"IFERROR($U$3*Data!M907/SQRT(COUNT(Data!F907:J907)),\"\")","v":""},"","","","","",{"$f":"IFERROR((Data!K907-$E$4),\"\")","v":""},{"$f":"IF(AND(F907<>\"\",G907<>\"\",H907<>\"\",I907<>\"\",J907<>\"\"),Data!Q907-$E$4,\"\")","v":""},"","","","",{"$f":"IF(F907<>\"\",STDEV($Q$12:Q907),\"\")","v":""},""]
[897,null,{"$f":"RIGHT(Data!C908,10)","v":""},null,null,null,null,null,null,null,{"$f":"IFERROR($U$3*Data!M908/SQRT(COUNT(Data!F908:J908)),\"\")","v":""},"","",{"$f":"IF(COUNT(F908:J908)>=5,STDEV(F908:J908)*$U$3/SQRT((COUNT(F908:J908))),\"\")","v":""},{"$f":"IFERROR($U$4*SQRT($U$7^2+L908^2+K908^2+$U$5^2+N908^2),\"\")","v":""},"",{"$f":"IFERROR((Data!K908-$E$4),\"\")","v":""},{"$f":"IF(AND(F908<>\"\",G908<>\"\",H908<>\"\",I908<>\"\",J908<>\"\"),Data!Q908-$E$4,\"\")","v":""},{"$f":"IF(O908<>\"\",FIXED(X908,1) & \" ± \" & FIXED(O908+ABS(R908),2),\"\")","v":""},"","","",{"$f":"IF(F908<>\"\",STDEV($Q$12:Q908),\"\")","v":""},{"$f":"IF(F908<>\"\",AVERAGE(F908:J908),\"\")","v":""}]
[898,null,{"$f":"RIGHT(Data!C909,10)","v":""},null,null,null,null,null,null,null,{"$f":"IFERROR($U$3*Data!M909/SQRT(COUNT(Data!F909:J909)),\"\")","v":""},{"$f":"IF(F909<>\"\",V909*W909/SQRT(A909),\"\")","v":""},{"$f":"IF(F909<>\"\",$U$4*SQRT($U$7^2+L909^2+K909^2+$U$5^2),\"\")","v":""},"","",{"$f":"IF(AND(F909<>\"\",G909<>\"\",H909<>\"\",I909<>\"\",J909<>\"\"),AVERAGE(F909:J909),\"\")","v":""},{"$f":"IFERROR((Data!K909-$E$4),\"\")","v":""},{"$f":"IF(AND(F909<>\"\",G909<>\"\",H909<>\"\",I909<>\"\",J909<>\"\"),Data!Q909-$E$4,\"\")","v":""},"",{"$f":"IF(F909<>\"\",FIXED(AVERAGE(F909:J909)-R909,1) & \" ± \" & FIXED(O909,2),\"\")","v":""},{"$f":"IF(IO909=\"\",\"\",IO909-1)","v":""},{"$f":"IF(F909<>\"\",TINV(1-0.68,A909-1),\"\")","v":""},{"$f":"IF(F909<>\"\",STDEV($Q$12:Q909),\"\")","v":""},""]
[899,null,{"$f":"RIGHT(Data!C910,10)","v":""},null,null,null,null,null,null,null,{"$f":"IFERROR($U$3*Data!M910/SQRT(COUNT(Data!F910:J910)),\"\")","v":""},"","","","","",{"$f":"IFERROR((Data!K910-$E$4),\"\")","v":""},{"$f":"IF(AND(F910<>\"\",G910<>\"\",H910<>\"\",I910<>\"\",J910<>\"\"),Data!Q910-$E$4,\"\")","v":""},"","","","",{"$f":"IF(F910<>\"\",STDEV($Q$12:Q910),\"\")","v":""},""]
[900,null,{"$f":"RIGHT(Data!C911,10)","v":""},null,null,null,null,null,null,null,{"$f":"IFERROR($U$3*Data!M911/SQRT(COUNT(Data!F911:J911)),\"\")","v":""},"","","","","",{"$f":"IFERROR((Data!K911-$E$4),\"\")","v":""},{"$f":"IF(AND(F911<>\"\",G911<>\"\",H911<>\"\",I911<>\"\",J911<>\"\"),Data!Q911-$E$4,\"\")","v":""},"","","","",{"$f":"IF(F911<>\"\",STDEV($Q$12:Q911),\"\")","v":""},""]
[901,null,{"$f":"RIGHT(Data!C912,10)","v":""},null,null,null,null,null,null,null,{"$f":"IFERROR($U$3*Data!M912/SQRT(COUNT(Data!F912:J912)),\"\")","v":""},"","","","","",{"$f":"IFERROR((Data!K912-$E$4),\"\")","v":""},{"$f":"IF(AND(F912<>\"\",G912<>\"\",H912<>\"\",I912<>\"\",J912<>\"\"),Data!Q912-$E$4,\"\")","v":""},"","","","",{"$f":"IF(F912<>\"\",STDEV($Q$12:Q912),\"\")","v":""},""]
[902,null,{"$f":"RIGHT(Data!C913,10)","v":""},null,null,null,null,null,null,null,{"$f":"IFERROR($U$3*Data!M913/SQRT(COUNT(Data!F913:J913)),\"\")","v":""},"","","","","",{"$f":"IFERROR((Data!K913-$E$4),\"\")","v":""},{"$f":"IF(AND(F913<>\"\",G913<>\"\",H913<>\"\",I913<>\"\",J913<>\"\"),Data!Q913-$E$4,\"\")","v":""},"","","","",{"$f":"IF(F913<>\"\",STDEV($Q$12:Q913),\"\")","v":""},""]
[903,null,{"$f":"RIGHT(Data!C914,10)","v":""},null,null,null,null,null,null,null,{"$f":"IFERROR($U$3*Data!M914/SQRT(COUNT(Data!F914:J914)),\"\")","v":""},"","","","","",{"$f":"IFERROR((Data!K914-$E$4),\"\")","v":""},{"$f":"IF(AND(F914<>\"\",G914<>\"\",H914<>\"\",I914<>\"\",J914<>\"\"),Data!Q914-$E$4,\"\")","v":""},"","","","",{"$f":"IF(F914<>\"\",STDEV($Q$12:Q914),\"\")","v":""},""]
[904,null,{"$f":"RIGHT(Data!C915,10)","v":""},null,null,null,null,null,null,null,{"$f":"IFERROR($U$3*Data!M915/SQRT(COUNT(Data!F915:J915)),\"\")","v":""},"","","","","",{"$f":"IFERROR((Data!K915-$E$4),\"\")","v":""},{"$f":"IF(AND(F915<>\"\",G915<>\"\",H915<>\"\",I915<>\"\",J915<>\"\"),Data!Q915-$E$4,\"\")","v":""},"","","","",{"$f":"IF(F915<>\"\",STDEV($Q$12:Q915),\"\")","v":""},""]
[905,null,{"$f":"RIGHT(Data!C916,10)","v":""},null,null,null,null,null,null,null,{"$f":"IFERROR($U$3*Data!M916/SQRT(COUNT(Data!F916:J916)),\"\")","v":""},"","","","","",{"$f":"IFERROR((Data!K916-$E$4),\"\")","v":""},{"$f":"IF(AND(F916<>\"\",G916<>\"\",H916<>\"\",I916<>\"\",J916<>\"\"),Data!Q916-$E$4,\"\")","v":""},"","","","",{"$f":"IF(F916<>\"\",STDEV($Q$12:Q916),\"\")","v":""},""]
[906,null,{"$f":"RIGHT(Data!C917,10)","v":""},null,null,null,null,null,null,null,{"$f":"IFERROR($U$3*Data!M917/SQRT(COUNT(Data!F917:J917)),\"\")","v":""},"","","","","",{"$f":"IFERROR((Data!K917-$E$4),\"\")","v":""},{"$f":"IF(AND(F917<>\"\",G917<>\"\",H917<>\"\",I917<>\"\",J917<>\"\"),Data!Q917-$E$4,\"\")","v":""},"","","","",{"$f":"IF(F917<>\"\",STDEV($Q$12:Q917),\"\")","v":""},""]
[907,null,{"$f":"RIGHT(Data!C918,10)","v":""},null,null,null,null,null,null,null,{"$f":"IFERROR($U$3*Data!M918/SQRT(COUNT(Data!F918:J918)),\"\")","v":""},"","","","","",{"$f":"IFERROR((Data!K918-$E$4),\"\")","v":""},{"$f":"IF(AND(F918<>\"\",G918<>\"\",H918<>\"\",I918<>\"\",J918<>\"\"),Data!Q918-$E$4,\"\")","v":""},"","","","",{"$f":"IF(F918<>\"\",STDEV($Q$12:Q918),\"\")","v":""},""]
[908,null,{"$f":"RIGHT(Data!C919,10)","v":""},null,null,null,null,null,null,null,{"$f":"IFERROR($U$3*Data!M919/SQRT(COUNT(Data!F919:J919)),\"\")","v":""},"","","","","",{"$f":"IFERROR((Data!K919-$E$4),\"\")","v":""},{"$f":"IF(AND(F919<>\"\",G919<>\"\",H919<>\"\",I919<>\"\",J919<>\"\"),Data!Q919-$E$4,\"\")","v":""},"","","","",{"$f":"IF(F919<>\"\",STDEV($Q$12:Q919),\"\")","v":""},""]
[909,null,{"$f":"RIGHT(Data!C920,10)","v":""},null,null,null,null,null,null,null,{"$f":"IFERROR($U$3*Data!M920/SQRT(COUNT(Data!F920:J920)),\"\")","v":""},"","","","","",{"$f":"IFERROR((Data!K920-$E$4),\"\")","v":""},{"$f":"IF(AND(F920<>\"\",G920<>\"\",H920<>\"\",I920<>\"\",J920<>\"\"),Data!Q920-$E$4,\"\")","v":""},"","","","",{"$f":"IF(F920<>\"\",STDEV($Q$12:Q920),\"\")","v":""},""]
[910,null,{"$f":"RIGHT(Data!C921,10)","v":""},null,null,null,null,null,null,null,{"$f":"IFERROR($U$3*Data!M921/SQRT(COUNT(Data!F921:J921)),\"\")","v":""},"","","","","",{"$f":"IFERROR((Data!K921-$E$4),\"\")","v":""},{"$f":"IF(AND(F921<>\"\",G921<>\"\",H921<>\"\",I921<>\"\",J921<>\"\"),Data!Q921-$E$4,\"\")","v":""},"","","","",{"$f":"IF(F921<>\"\",STDEV($Q$12:Q921),\"\")","v":""},""]
[911,null,{"$f":"RIGHT(Data!C922,10)","v":""},null,null,null,null,null,null,null,{"$f":"IFERROR($U$3*Data!M922/SQRT(COUNT(Data!F922:J922)),\"\")","v":""},"","","","","",{"$f":"IFERROR((Data!K922-$E$4),\"\")","v":""},{"$f":"IF(AND(F922<>\"\",G922<>\"\",H922<>\"\",I922<>\"\",J922<>\"\"),Data!Q922-$E$4,\"\")","v":""},"","","","",{"$f":"IF(F922<>\"\",STDEV($Q$12:Q922),\"\")","v":""},""]
[912,null,{"$f":"RIGHT(Data!C923,10)","v":""},null,null,null,null,null,null,null,{"$f":"IFERROR($U$3*Data!M923/SQRT(COUNT(Data!F923:J923)),\"\")","v":""},"","","","","",{"$f":"IFERROR((Data!K923-$E$4),\"\")","v":""},{"$f":"IF(AND(F923<>\"\",G923<>\"\",H923<>\"\",I923<>\"\",J923<>\"\"),Data!Q923-$E$4,\"\")","v":""},"","","","",{"$f":"IF(F923<>\"\",STDEV($Q$12:Q923),\"\")","v":""},""]
[913,null,{"$f":"RIGHT(Data!C924,10)","v":""},null,null,null,null,null,null,null,{"$f":"IFERROR($U$3*Data!M924/SQRT(COUNT(Data!F924:J924)),\"\")","v":""},"","","","","",{"$f":"IFERROR((Data!K924-$E$4),\"\")","v":""},{"$f":"IF(AND(F924<>\"\",G924<>\"\",H924<>\"\",I924<>\"\",J924<>\"\"),Data!Q924-$E$4,\"\")","v":""},"","","","",{"$f":"IF(F924<>\"\",STDEV($Q$12:Q924),\"\")","v":""},""]
[914,null,{"$f":"RIGHT(Data!C925,10)","v":""},null,null,null,null,null,null,null,{"$f":"IFERROR($U$3*Data!M925/SQRT(COUNT(Data!F925:J925)),\"\")","v":""},"","","","","",{"$f":"IFERROR((Data!K925-$E$4),\"\")","v":""},{"$f":"IF(AND(F925<>\"\",G925<>\"\",H925<>\"\",I925<>\"\",J925<>\"\"),Data!Q925-$E$4,\"\")","v":""},"","","","",{"$f":"IF(F925<>\"\",STDEV($Q$12:Q925),\"\")","v":""},""]
[915,null,{"$f":"RIGHT(Data!C926,10)","v":""},null,null,null,null,null,null,null,{"$f":"IFERROR($U$3*Data!M926/SQRT(COUNT(Data!F926:J926)),\"\")","v":""},"","","","","",{"$f":"IFERROR((Data!K926-$E$4),\"\")","v":""},{"$f":"IF(AND(F926<>\"\",G926<>\"\",H926<>\"\",I926<>\"\",J926<>\"\"),Data!Q926-$E$4,\"\")","v":""},"","","","",{"$f":"IF(F926<>\"\",STDEV($Q$12:Q926),\"\")","v":""},""]
[916,null,{"$f":"RIGHT(Data!C927,10)","v":""},null,null,null,null,null,null,null,{"$f":"IFERROR($U$3*Data!M927/SQRT(COUNT(Data!F927:J927)),\"\")","v":""},"","","","","",{"$f":"IFERROR((Data!K927-$E$4),\"\")","v":""},{"$f":"IF(AND(F927<>\"\",G927<>\"\",H927<>\"\",I927<>\"\",J927<>\"\"),Data!Q927-$E$4,\"\")","v":""},"","","","",{"$f":"IF(F927<>\"\",STDEV($Q$12:Q927),\"\")","v":""},""]
[917,null,{"$f":"RIGHT(Data!C928,10)","v":""},null,null,null,null,null,null,null,{"$f":"IFERROR($U$3*Data!M928/SQRT(COUNT(Data!F928:J928)),\"\")","v":""},"","","","","",{"$f":"IFERROR((Data!K928-$E$4),\"\")","v":""},{"$f":"IF(AND(F928<>\"\",G928<>\"\",H928<>\"\",I928<>\"\",J928<>\"\"),Data!Q928-$E$4,\"\")","v":""},"","","","",{"$f":"IF(F928<>\"\",STDEV($Q$12:Q928),\"\")","v":""},""]
[918,null,{"$f":"RIGHT(Data!C929,10)","v":""},null,null,null,null,null,null,null,{"$f":"IFERROR($U$3*Data!M929/SQRT(COUNT(Data!F929:J929)),\"\")","v":""},"","","","","",{"$f":"IFERROR((Data!K929-$E$4),\"\")","v":""},{"$f":"IF(AND(F929<>\"\",G929<>\"\",H929<>\"\",I929<>\"\",J929<>\"\"),Data!Q929-$E$4,\"\")","v":""},"","","","",{"$f":"IF(F929<>\"\",STDEV($Q$12:Q929),\"\")","v":""},""]
[919,null,{"$f":"RIGHT(Data!C930,10)","v":""},null,null,null,null,null,null,null,{"$f":"IFERROR($U$3*Data!M930/SQRT(COUNT(Data!F930:J930)),\"\")","v":""},"","","","","",{"$f":"IFERROR((Data!K930-$E$4),\"\")","v":""},{"$f":"IF(AND(F930<>\"\",G930<>\"\",H930<>\"\",I930<>\"\",J930<>\"\"),Data!Q930-$E$4,\"\")","v":""},"","","","",{"$f":"IF(F930<>\"\",STDEV($Q$12:Q930),\"\")","v":""},""]
[920,null,{"$f":"RIGHT(Data!C931,10)","v":""},null,null,null,null,null,null,null,{"$f":"IFERROR($U$3*Data!M931/SQRT(COUNT(Data!F931:J931)),\"\")","v":""},"","","","","",{"$f":"IFERROR((Data!K931-$E$4),\"\")","v":""},{"$f":"IF(AND(F931<>\"\",G931<>\"\",H931<>\"\",I931<>\"\",J931<>\"\"),Data!Q931-$E$4,\"\")","v":""},"","","","",{"$f":"IF(F931<>\"\",STDEV($Q$12:Q931),\"\")","v":""},""]
[921,null,{"$f":"RIGHT(Data!C932,10)","v":""},null,null,null,null,null,null,null,{"$f":"IFERROR($U$3*Data!M932/SQRT(COUNT(Data!F932:J932)),\"\")","v":""},"","","","","",{"$f":"IFERROR((Data!K932-$E$4),\"\")","v":""},{"$f":"IF(AND(F932<>\"\",G932<>\"\",H932<>\"\",I932<>\"\",J932<>\"\"),Data!Q932-$E$4,\"\")","v":""},"","","","",{"$f":"IF(F932<>\"\",STDEV($Q$12:Q932),\"\")","v":""},""]
[922,null,{"$f":"RIGHT(Data!C933,10)","v":""},null,null,null,null,null,null,null,{"$f":"IFERROR($U$3*Data!M933/SQRT(COUNT(Data!F933:J933)),\"\")","v":""},"","","","","",{"$f":"IFERROR((Data!K933-$E$4),\"\")","v":""},{"$f":"IF(AND(F933<>\"\",G933<>\"\",H933<>\"\",I933<>\"\",J933<>\"\"),Data!Q933-$E$4,\"\")","v":""},"","","","",{"$f":"IF(F933<>\"\",STDEV($Q$12:Q933),\"\")","v":""},""]
[923,null,{"$f":"RIGHT(Data!C934,10)","v":""},null,null,null,null,null,null,null,{"$f":"IFERROR($U$3*Data!M934/SQRT(COUNT(Data!F934:J934)),\"\")","v":""},"","","","","",{"$f":"IFERROR((Data!K934-$E$4),\"\")","v":""},{"$f":"IF(AND(F934<>\"\",G934<>\"\",H934<>\"\",I934<>\"\",J934<>\"\"),Data!Q934-$E$4,\"\")","v":""},"","","","",{"$f":"IF(F934<>\"\",STDEV($Q$12:Q934),\"\")","v":""},""]
[924,null,{"$f":"RIGHT(Data!C935,10)","v":""},null,null,null,null,null,null,null,{"$f":"IFERROR($U$3*Data!M935/SQRT(COUNT(Data!F935:J935)),\"\")","v":""},"","","","","",{"$f":"IFERROR((Data!K935-$E$4),\"\")","v":""},{"$f":"IF(AND(F935<>\"\",G935<>\"\",H935<>\"\",I935<>\"\",J935<>\"\"),Data!Q935-$E$4,\"\")","v":""},"","","","",{"$f":"IF(F935<>\"\",STDEV($Q$12:Q935),\"\")","v":""},""]
[925,null,{"$f":"RIGHT(Data!C936,10)","v":""},null,null,null,null,null,null,null,{"$f":"IFERROR($U$3*Data!M936/SQRT(COUNT(Data!F936:J936)),\"\")","v":""},"","","","","",{"$f":"IFERROR((Data!K936-$E$4),\"\")","v":""},{"$f":"IF(AND(F936<>\"\",G936<>\"\",H936<>\"\",I936<>\"\",J936<>\"\"),Data!Q936-$E$4,\"\")","v":""},"","","","",{"$f":"IF(F936<>\"\",STDEV($Q$12:Q936),\"\")","v":""},""]
[926,null,{"$f":"RIGHT(Data!C937,10)","v":""},null,null,null,null,null,null,null,{"$f":"IFERROR($U$3*Data!M937/SQRT(COUNT(Data!F937:J937)),\"\")","v":""},"","","","","",{"$f":"IFERROR((Data!K937-$E$4),\"\")","v":""},{"$f":"IF(AND(F937<>\"\",G937<>\"\",H937<>\"\",I937<>\"\",J937<>\"\"),Data!Q937-$E$4,\"\")","v":""},"","","","",{"$f":"IF(F937<>\"\",STDEV($Q$12:Q937),\"\")","v":""},""]
[927,null,{"$f":"RIGHT(Data!C938,10)","v":""},null,null,null,null,null,null,null,{"$f":"IFERROR($U$3*Data!M938/SQRT(COUNT(Data!F938:J938)),\"\")","v":""},"","","","","",{"$f":"IFERROR((Data!K938-$E$4),\"\")","v":""},{"$f":"IF(AND(F938<>\"\",G938<>\"\",H938<>\"\",I938<>\"\",J938<>\"\"),Data!Q938-$E$4,\"\")","v":""},"","","","",{"$f":"IF(F938<>\"\",STDEV($Q$12:Q938),\"\")","v":""},""]
[928,null,{"$f":"RIGHT(Data!C939,10)","v":""},null,null,null,null,null,null,null,{"$f":"IFERROR($U$3*Data!M939/SQRT(COUNT(Data!F939:J939)),\"\")","v":""},"","","","","",{"$f":"IFERROR((Data!K939-$E$4),\"\")","v":""},{"$f":"IF(AND(F939<>\"\",G939<>\"\",H939<>\"\",I939<>\"\",J939<>\"\"),Data!Q939-$E$4,\"\")","v":""},"","","","",{"$f":"IF(F939<>\"\",STDEV($Q$12:Q939),\"\")","v":""},""]
[929,null,{"$f":"RIGHT(Data!C940,10)","v":""},null,null,null,null,null,null,null,{"$f":"IFERROR($U$3*Data!M940/SQRT(COUNT(Data!F940:J940)),\"\")","v":""},"","","","","",{"$f":"IFERROR((Data!K940-$E$4),\"\")","v":""},{"$f":"IF(AND(F940<>\"\",G940<>\"\",H940<>\"\",I940<>\"\",J940<>\"\"),Data!Q940-$E$4,\"\")","v":""},"","","","",{"$f":"IF(F940<>\"\",STDEV($Q$12:Q940),\"\")","v":""},""]
[930,null,{"$f":"RIGHT(Data!C941,10)","v":""},null,null,null,null,null,null,null,{"$f":"IFERROR($U$3*Data!M941/SQRT(COUNT(Data!F941:J941)),\"\")","v":""},"","","","","",{"$f":"IFERROR((Data!K941-$E$4),\"\")","v":""},{"$f":"IF(AND(F941<>\"\",G941<>\"\",H941<>\"\",I941<>\"\",J941<>\"\"),Data!Q941-$E$4,\"\")","v":""},"","","","",{"$f":"IF(F941<>\"\",STDEV($Q$12:Q941),\"\")","v":""},""]
[931,null,{"$f":"RIGHT(Data!C942,10)","v":""},null,null,null,null,null,null,null,{"$f":"IFERROR($U$3*Data!M942/SQRT(COUNT(Data!F942:J942)),\"\")","v":""},"","","","","",{"$f":"IFERROR((Data!K942-$E$4),\"\")","v":""},{"$f":"IF(AND(F942<>\"\",G942<>\"\",H942<>\"\",I942<>\"\",J942<>\"\"),Data!Q942-$E$4,\"\")","v":""},"","","","",{"$f":"IF(F942<>\"\",STDEV($Q$12:Q942),\"\")","v":""},""]
[932,null,{"$f":"RIGHT(Data!C943,10)","v":""},null,null,null,null,null,null,null,{"$f":"IFERROR($U$3*Data!M943/SQRT(COUNT(Data!F943:J943)),\"\")","v":""},"","","","","",{"$f":"IFERROR((Data!K943-$E$4),\"\")","v":""},{"$f":"IF(AND(F943<>\"\",G943<>\"\",H943<>\"\",I943<>\"\",J943<>\"\"),Data!Q943-$E$4,\"\")","v":""},"","","","",{"$f":"IF(F943<>\"\",STDEV($Q$12:Q943),\"\")","v":""},""]
[933,null,{"$f":"RIGHT(Data!C944,10)","v":""},null,null,null,null,null,null,null,{"$f":"IFERROR($U$3*Data!M944/SQRT(COUNT(Data!F944:J944)),\"\")","v":""},"","","","","",{"$f":"IFERROR((Data!K944-$E$4),\"\")","v":""},{"$f":"IF(AND(F944<>\"\",G944<>\"\",H944<>\"\",I944<>\"\",J944<>\"\"),Data!Q944-$E$4,\"\")","v":""},"","","","",{"$f":"IF(F944<>\"\",STDEV($Q$12:Q944),\"\")","v":""},""]
[934,null,{"$f":"RIGHT(Data!C945,10)","v":""},null,null,null,null,null,null,null,{"$f":"IFERROR($U$3*Data!M945/SQRT(COUNT(Data!F945:J945)),\"\")","v":""},"","","","","",{"$f":"IFERROR((Data!K945-$E$4),\"\")","v":""},{"$f":"IF(AND(F945<>\"\",G945<>\"\",H945<>\"\",I945<>\"\",J945<>\"\"),Data!Q945-$E$4,\"\")","v":""},"","","","",{"$f":"IF(F945<>\"\",STDEV($Q$12:Q945),\"\")","v":""},""]
[935,null,{"$f":"RIGHT(Data!C946,10)","v":""},null,null,null,null,null,null,null,{"$f":"IFERROR($U$3*Data!M946/SQRT(COUNT(Data!F946:J946)),\"\")","v":""},"","","","","",{"$f":"IFERROR((Data!K946-$E$4),\"\")","v":""},{"$f":"IF(AND(F946<>\"\",G946<>\"\",H946<>\"\",I946<>\"\",J946<>\"\"),Data!Q946-$E$4,\"\")","v":""},"","","","",{"$f":"IF(F946<>\"\",STDEV($Q$12:Q946),\"\")","v":""},""]
[936,null,{"$f":"RIGHT(Data!C947,10)","v":""},null,null,null,null,null,null,null,{"$f":"IFERROR($U$3*Data!M947/SQRT(COUNT(Data!F947:J947)),\"\")","v":""},"","","","","",{"$f":"IFERROR((Data!K947-$E$4),\"\")","v":""},{"$f":"IF(AND(F947<>\"\",G947<>\"\",H947<>\"\",I947<>\"\",J947<>\"\"),Data!Q947-$E$4,\"\")","v":""},"","","","",{"$f":"IF(F947<>\"\",STDEV($Q$12:Q947),\"\")","v":""},""]
[937,null,{"$f":"RIGHT(Data!C948,10)","v":""},null,null,null,null,null,null,null,{"$f":"IFERROR($U$3*Data!M948/SQRT(COUNT(Data!F948:J948)),\"\")","v":""},"","","","","",{"$f":"IFERROR((Data!K948-$E$4),\"\")","v":""},{"$f":"IF(AND(F948<>\"\",G948<>\"\",H948<>\"\",I948<>\"\",J948<>\"\"),Data!Q948-$E$4,\"\")","v":""},"","","","",{"$f":"IF(F948<>\"\",STDEV($Q$12:Q948),\"\")","v":""},""]
[938,null,{"$f":"RIGHT(Data!C949,10)","v":""},null,null,null,null,null,null,null,{"$f":"IFERROR($U$3*Data!M949/SQRT(COUNT(Data!F949:J949)),\"\")","v":""},"","","","","",{"$f":"IFERROR((Data!K949-$E$4),\"\")","v":""},{"$f":"IF(AND(F949<>\"\",G949<>\"\",H949<>\"\",I949<>\"\",J949<>\"\"),Data!Q949-$E$4,\"\")","v":""},"","","","",{"$f":"IF(F949<>\"\",STDEV($Q$12:Q949),\"\")","v":""},""]
[939,null,{"$f":"RIGHT(Data!C950,10)","v":""},null,null,null,null,null,null,null,{"$f":"IFERROR($U$3*Data!M950/SQRT(COUNT(Data!F950:J950)),\"\")","v":""},"","","","","",{"$f":"IFERROR((Data!K950-$E$4),\"\")","v":""},{"$f":"IF(AND(F950<>\"\",G950<>\"\",H950<>\"\",I950<>\"\",J950<>\"\"),Data!Q950-$E$4,\"\")","v":""},"","","","",{"$f":"IF(F950<>\"\",STDEV($Q$12:Q950),\"\")","v":""},""]
[940,null,{"$f":"RIGHT(Data!C951,10)","v":""},null,null,null,null,null,null,null,{"$f":"IFERROR($U$3*Data!M951/SQRT(COUNT(Data!F951:J951)),\"\")","v":""},"","","","","",{"$f":"IFERROR((Data!K951-$E$4),\"\")","v":""},{"$f":"IF(AND(F951<>\"\",G951<>\"\",H951<>\"\",I951<>\"\",J951<>\"\"),Data!Q951-$E$4,\"\")","v":""},"","","","",{"$f":"IF(F951<>\"\",STDEV($Q$12:Q951),\"\")","v":""},""]
[941,null,{"$f":"RIGHT(Data!C952,10)","v":""},null,null,null,null,null,null,null,{"$f":"IFERROR($U$3*Data!M952/SQRT(COUNT(Data!F952:J952)),\"\")","v":""},"","","","","",{"$f":"IFERROR((Data!K952-$E$4),\"\")","v":""},{"$f":"IF(AND(F952<>\"\",G952<>\"\",H952<>\"\",I952<>\"\",J952<>\"\"),Data!Q952-$E$4,\"\")","v":""},"","","","",{"$f":"IF(F952<>\"\",STDEV($Q$12:Q952),\"\")","v":""},""]
[942,null,{"$f":"RIGHT(Data!C953,10)","v":""},null,null,null,null,null,null,null,{"$f":"IFERROR($U$3*Data!M953/SQRT(COUNT(Data!F953:J953)),\"\")","v":""},"","","","","",{"$f":"IFERROR((Data!K953-$E$4),\"\")","v":""},{"$f":"IF(AND(F953<>\"\",G953<>\"\",H953<>\"\",I953<>\"\",J953<>\"\"),Data!Q953-$E$4,\"\")","v":""},"","","","",{"$f":"IF(F953<>\"\",STDEV($Q$12:Q953),\"\")","v":""},""]
[943,null,{"$f":"RIGHT(Data!C954,10)","v":""},null,null,null,null,null,null,null,{"$f":"IFERROR($U$3*Data!M954/SQRT(COUNT(Data!F954:J954)),\"\")","v":""},"","","","","",{"$f":"IFERROR((Data!K954-$E$4),\"\")","v":""},{"$f":"IF(AND(F954<>\"\",G954<>\"\",H954<>\"\",I954<>\"\",J954<>\"\"),Data!Q954-$E$4,\"\")","v":""},"","","","",{"$f":"IF(F954<>\"\",STDEV($Q$12:Q954),\"\")","v":""},""]
[944,null,{"$f":"RIGHT(Data!C955,10)","v":""},null,null,null,null,null,null,null,{"$f":"IFERROR($U$3*Data!M955/SQRT(COUNT(Data!F955:J955)),\"\")","v":""},"","","","","",{"$f":"IFERROR((Data!K955-$E$4),\"\")","v":""},{"$f":"IF(AND(F955<>\"\",G955<>\"\",H955<>\"\",I955<>\"\",J955<>\"\"),Data!Q955-$E$4,\"\")","v":""},"","","","",{"$f":"IF(F955<>\"\",STDEV($Q$12:Q955),\"\")","v":""},""]
[945,null,{"$f":"RIGHT(Data!C956,10)","v":""},null,null,null,null,null,null,null,{"$f":"IFERROR($U$3*Data!M956/SQRT(COUNT(Data!F956:J956)),\"\")","v":""},"","","","","",{"$f":"IFERROR((Data!K956-$E$4),\"\")","v":""},{"$f":"IF(AND(F956<>\"\",G956<>\"\",H956<>\"\",I956<>\"\",J956<>\"\"),Data!Q956-$E$4,\"\")","v":""},"","","","",{"$f":"IF(F956<>\"\",STDEV($Q$12:Q956),\"\")","v":""},""]
[946,null,{"$f":"RIGHT(Data!C957,10)","v":""},null,null,null,null,null,null,null,{"$f":"IFERROR($U$3*Data!M957/SQRT(COUNT(Data!F957:J957)),\"\")","v":""},"","","","","",{"$f":"IFERROR((Data!K957-$E$4),\"\")","v":""},{"$f":"IF(AND(F957<>\"\",G957<>\"\",H957<>\"\",I957<>\"\",J957<>\"\"),Data!Q957-$E$4,\"\")","v":""},"","","","",{"$f":"IF(F957<>\"\",STDEV($Q$12:Q957),\"\")","v":""},""]
[947,null,{"$f":"RIGHT(Data!C958,10)","v":""},null,null,null,null,null,null,null,{"$f":"IFERROR($U$3*Data!M958/SQRT(COUNT(Data!F958:J958)),\"\")","v":""},"","","","","",{"$f":"IFERROR((Data!K958-$E$4),\"\")","v":""},{"$f":"IF(AND(F958<>\"\",G958<>\"\",H958<>\"\",I958<>\"\",J958<>\"\"),Data!Q958-$E$4,\"\")","v":""},"","","","",{"$f":"IF(F958<>\"\",STDEV($Q$12:Q958),\"\")","v":""},""]
[948,null,{"$f":"RIGHT(Data!C959,10)","v":""},null,null,null,null,null,null,null,{"$f":"IFERROR($U$3*Data!M959/SQRT(COUNT(Data!F959:J959)),\"\")","v":""},"","","","","",{"$f":"IFERROR((Data!K959-$E$4),\"\")","v":""},{"$f":"IF(AND(F959<>\"\",G959<>\"\",H959<>\"\",I959<>\"\",J959<>\"\"),Data!Q959-$E$4,\"\")","v":""},"","","","",{"$f":"IF(F959<>\"\",STDEV($Q$12:Q959),\"\")","v":""},""]
[949,null,{"$f":"RIGHT(Data!C960,10)","v":""},null,null,null,null,null,null,null,{"$f":"IFERROR($U$3*Data!M960/SQRT(COUNT(Data!F960:J960)),\"\")","v":""},"","","","","",{"$f":"IFERROR((Data!K960-$E$4),\"\")","v":""},{"$f":"IF(AND(F960<>\"\",G960<>\"\",H960<>\"\",I960<>\"\",J960<>\"\"),Data!Q960-$E$4,\"\")","v":""},"","","","",{"$f":"IF(F960<>\"\",STDEV($Q$12:Q960),\"\")","v":""},""]
[950,null,{"$f":"RIGHT(Data!C961,10)","v":""},null,null,null,null,null,null,null,{"$f":"IFERROR($U$3*Data!M961/SQRT(COUNT(Data!F961:J961)),\"\")","v":""},"","","","","",{"$f":"IFERROR((Data!K961-$E$4),\"\")","v":""},{"$f":"IF(AND(F961<>\"\",G961<>\"\",H961<>\"\",I961<>\"\",J961<>\"\"),Data!Q961-$E$4,\"\")","v":""},"","","","",{"$f":"IF(F961<>\"\",STDEV($Q$12:Q961),\"\")","v":""},""]
[951,null,{"$f":"RIGHT(Data!C962,10)","v":""},null,null,null,null,null,null,null,{"$f":"IFERROR($U$3*Data!M962/SQRT(COUNT(Data!F962:J962)),\"\")","v":""},"","","","","",{"$f":"IFERROR((Data!K962-$E$4),\"\")","v":""},{"$f":"IF(AND(F962<>\"\",G962<>\"\",H962<>\"\",I962<>\"\",J962<>\"\"),Data!Q962-$E$4,\"\")","v":""},"","","","",{"$f":"IF(F962<>\"\",STDEV($Q$12:Q962),\"\")","v":""},""]
[952,null,{"$f":"RIGHT(Data!C963,10)","v":""},null,null,null,null,null,null,null,{"$f":"IFERROR($U$3*Data!M963/SQRT(COUNT(Data!F963:J963)),\"\")","v":""},"","","","","",{"$f":"IFERROR((Data!K963-$E$4),\"\")","v":""},{"$f":"IF(AND(F963<>\"\",G963<>\"\",H963<>\"\",I963<>\"\",J963<>\"\"),Data!Q963-$E$4,\"\")","v":""},"","","","",{"$f":"IF(F963<>\"\",STDEV($Q$12:Q963),\"\")","v":""},""]
[953,null,{"$f":"RIGHT(Data!C964,10)","v":""},null,null,null,null,null,null,null,{"$f":"IFERROR($U$3*Data!M964/SQRT(COUNT(Data!F964:J964)),\"\")","v":""},"","","","","",{"$f":"IFERROR((Data!K964-$E$4),\"\")","v":""},{"$f":"IF(AND(F964<>\"\",G964<>\"\",H964<>\"\",I964<>\"\",J964<>\"\"),Data!Q964-$E$4,\"\")","v":""},"","","","",{"$f":"IF(F964<>\"\",STDEV($Q$12:Q964),\"\")","v":""},""]
[954,null,{"$f":"RIGHT(Data!C965,10)","v":""},null,null,null,null,null,null,null,{"$f":"IFERROR($U$3*Data!M965/SQRT(COUNT(Data!F965:J965)),\"\")","v":""},"","","","","",{"$f":"IFERROR((Data!K965-$E$4),\"\")","v":""},{"$f":"IF(AND(F965<>\"\",G965<>\"\",H965<>\"\",I965<>\"\",J965<>\"\"),Data!Q965-$E$4,\"\")","v":""},"","","","",{"$f":"IF(F965<>\"\",STDEV($Q$12:Q965),\"\")","v":""},""]
[955,null,{"$f":"RIGHT(Data!C966,10)","v":""},null,null,null,null,null,null,null,{"$f":"IFERROR($U$3*Data!M966/SQRT(COUNT(Data!F966:J966)),\"\")","v":""},"","","","","",{"$f":"IFERROR((Data!K966-$E$4),\"\")","v":""},{"$f":"IF(AND(F966<>\"\",G966<>\"\",H966<>\"\",I966<>\"\",J966<>\"\"),Data!Q966-$E$4,\"\")","v":""},"","","","",{"$f":"IF(F966<>\"\",STDEV($Q$12:Q966),\"\")","v":""},""]
[956,null,{"$f":"RIGHT(Data!C967,10)","v":""},null,null,null,null,null,null,null,{"$f":"IFERROR($U$3*Data!M967/SQRT(COUNT(Data!F967:J967)),\"\")","v":""},"","","","","",{"$f":"IFERROR((Data!K967-$E$4),\"\")","v":""},{"$f":"IF(AND(F967<>\"\",G967<>\"\",H967<>\"\",I967<>\"\",J967<>\"\"),Data!Q967-$E$4,\"\")","v":""},"","","","",{"$f":"IF(F967<>\"\",STDEV($Q$12:Q967),\"\")","v":""},""]
[957,null,{"$f":"RIGHT(Data!C968,10)","v":""},null,null,null,null,null,null,null,{"$f":"IFERROR($U$3*Data!M968/SQRT(COUNT(Data!F968:J968)),\"\")","v":""},"","","","","",{"$f":"IFERROR((Data!K968-$E$4),\"\")","v":""},{"$f":"IF(AND(F968<>\"\",G968<>\"\",H968<>\"\",I968<>\"\",J968<>\"\"),Data!Q968-$E$4,\"\")","v":""},"","","","",{"$f":"IF(F968<>\"\",STDEV($Q$12:Q968),\"\")","v":""},""]
[958,null,{"$f":"RIGHT(Data!C969,10)","v":""},null,null,null,null,null,null,null,{"$f":"IFERROR($U$3*Data!M969/SQRT(COUNT(Data!F969:J969)),\"\")","v":""},"","","","","",{"$f":"IFERROR((Data!K969-$E$4),\"\")","v":""},{"$f":"IF(AND(F969<>\"\",G969<>\"\",H969<>\"\",I969<>\"\",J969<>\"\"),Data!Q969-$E$4,\"\")","v":""},"","","","",{"$f":"IF(F969<>\"\",STDEV($Q$12:Q969),\"\")","v":""},""]
[959,null,{"$f":"RIGHT(Data!C970,10)","v":""},null,null,null,null,null,null,null,{"$f":"IFERROR($U$3*Data!M970/SQRT(COUNT(Data!F970:J970)),\"\")","v":""},"","","","","",{"$f":"IFERROR((Data!K970-$E$4),\"\")","v":""},{"$f":"IF(AND(F970<>\"\",G970<>\"\",H970<>\"\",I970<>\"\",J970<>\"\"),Data!Q970-$E$4,\"\")","v":""},"","","","",{"$f":"IF(F970<>\"\",STDEV($Q$12:Q970),\"\")","v":""},""]
[960,null,{"$f":"RIGHT(Data!C971,10)","v":""},null,null,null,null,null,null,null,{"$f":"IFERROR($U$3*Data!M971/SQRT(COUNT(Data!F971:J971)),\"\")","v":""},"","","","","",{"$f":"IFERROR((Data!K971-$E$4),\"\")","v":""},{"$f":"IF(AND(F971<>\"\",G971<>\"\",H971<>\"\",I971<>\"\",J971<>\"\"),Data!Q971-$E$4,\"\")","v":""},"","","","",{"$f":"IF(F971<>\"\",STDEV($Q$12:Q971),\"\")","v":""},""]
[961,null,{"$f":"RIGHT(Data!C972,10)","v":""},null,null,null,null,null,null,null,{"$f":"IFERROR($U$3*Data!M972/SQRT(COUNT(Data!F972:J972)),\"\")","v":""},"","",{"$f":"IF(COUNT(F972:J972)>=5,STDEV(F972:J972)*$U$3/SQRT((COUNT(F972:J972))),\"\")","v":""},{"$f":"IFERROR($U$4*SQRT($U$7^2+L972^2+K972^2+$U$5^2+N972^2),\"\")","v":""},"",{"$f":"IFERROR((Data!K972-$E$4),\"\")","v":""},{"$f":"IF(AND(F972<>\"\",G972<>\"\",H972<>\"\",I972<>\"\",J972<>\"\"),Data!Q972-$E$4,\"\")","v":""},{"$f":"IF(O972<>\"\",FIXED(X972,1) & \" ± \" & FIXED(O972+ABS(R972),2),\"\")","v":""},"","","",{"$f":"IF(F972<>\"\",STDEV($Q$12:Q972),\"\")","v":""},{"$f":"IF(F972<>\"\",AVERAGE(F972:J972),\"\")","v":""}]
[962,null,{"$f":"RIGHT(Data!C973,10)","v":""},null,null,null,null,null,null,null,{"$f":"IFERROR($U$3*Data!M973/SQRT(COUNT(Data!F973:J973)),\"\")","v":""},{"$f":"IF(F973<>\"\",V973*W973/SQRT(A973),\"\")","v":""},{"$f":"IF(F973<>\"\",$U$4*SQRT($U$7^2+L973^2+K973^2+$U$5^2),\"\")","v":""},"","",{"$f":"IF(AND(F973<>\"\",G973<>\"\",H973<>\"\",I973<>\"\",J973<>\"\"),AVERAGE(F973:J973),\"\")","v":""},{"$f":"IFERROR((Data!K973-$E$4),\"\")","v":""},{"$f":"IF(AND(F973<>\"\",G973<>\"\",H973<>\"\",I973<>\"\",J973<>\"\"),Data!Q973-$E$4,\"\")","v":""},"",{"$f":"IF(F973<>\"\",FIXED(AVERAGE(F973:J973)-R973,1) & \" ± \" & FIXED(O973,2),\"\")","v":""},{"$f":"IF(IO973=\"\",\"\",IO973-1)","v":""},{"$f":"IF(F973<>\"\",TINV(1-0.68,A973-1),\"\")","v":""},{"$f":"IF(F973<>\"\",STDEV($Q$12:Q973),\"\")","v":""},""]
[963,null,{"$f":"RIGHT(Data!C974,10)","v":""},null,null,null,null,null,null,null,{"$f":"IFERROR($U$3*Data!M974/SQRT(COUNT(Data!F974:J974)),\"\")","v":""},"","","","","",{"$f":"IFERROR((Data!K974-$E$4),\"\")","v":""},{"$f":"IF(AND(F974<>\"\",G974<>\"\",H974<>\"\",I974<>\"\",J974<>\"\"),Data!Q974-$E$4,\"\")","v":""},"","","","",{"$f":"IF(F974<>\"\",STDEV($Q$12:Q974),\"\")","v":""},""]
[964,null,{"$f":"RIGHT(Data!C975,10)","v":""},null,null,null,null,null,null,null,{"$f":"IFERROR($U$3*Data!M975/SQRT(COUNT(Data!F975:J975)),\"\")","v":""},"","","","","",{"$f":"IFERROR((Data!K975-$E$4),\"\")","v":""},{"$f":"IF(AND(F975<>\"\",G975<>\"\",H975<>\"\",I975<>\"\",J975<>\"\"),Data!Q975-$E$4,\"\")","v":""},"","","","",{"$f":"IF(F975<>\"\",STDEV($Q$12:Q975),\"\")","v":""},""]
[965,null,{"$f":"RIGHT(Data!C976,10)","v":""},null,null,null,null,null,null,null,{"$f":"IFERROR($U$3*Data!M976/SQRT(COUNT(Data!F976:J976)),\"\")","v":""},"","","","","",{"$f":"IFERROR((Data!K976-$E$4),\"\")","v":""},{"$f":"IF(AND(F976<>\"\",G976<>\"\",H976<>\"\",I976<>\"\",J976<>\"\"),Data!Q976-$E$4,\"\")","v":""},"","","","",{"$f":"IF(F976<>\"\",STDEV($Q$12:Q976),\"\")","v":""},""]
[966,null,{"$f":"RIGHT(Data!C977,10)","v":""},null,null,null,null,null,null,null,{"$f":"IFERROR($U$3*Data!M977/SQRT(COUNT(Data!F977:J977)),\"\")","v":""},"","","","","",{"$f":"IFERROR((Data!K977-$E$4),\"\")","v":""},{"$f":"IF(AND(F977<>\"\",G977<>\"\",H977<>\"\",I977<>\"\",J977<>\"\"),Data!Q977-$E$4,\"\")","v":""},"","","","",{"$f":"IF(F977<>\"\",STDEV($Q$12:Q977),\"\")","v":""},""]
[967,null,{"$f":"RIGHT(Data!C978,10)","v":""},null,null,null,null,null,null,null,{"$f":"IFERROR($U$3*Data!M978/SQRT(COUNT(Data!F978:J978)),\"\")","v":""},"","","","","",{"$f":"IFERROR((Data!K978-$E$4),\"\")","v":""},{"$f":"IF(AND(F978<>\"\",G978<>\"\",H978<>\"\",I978<>\"\",J978<>\"\"),Data!Q978-$E$4,\"\")","v":""},"","","","",{"$f":"IF(F978<>\"\",STDEV($Q$12:Q978),\"\")","v":""},""]
[968,null,{"$f":"RIGHT(Data!C979,10)","v":""},null,null,null,null,null,null,null,{"$f":"IFERROR($U$3*Data!M979/SQRT(COUNT(Data!F979:J979)),\"\")","v":""},"","","","","",{"$f":"IFERROR((Data!K979-$E$4),\"\")","v":""},{"$f":"IF(AND(F979<>\"\",G979<>\"\",H979<>\"\",I979<>\"\",J979<>\"\"),Data!Q979-$E$4,\"\")","v":""},"","","","",{"$f":"IF(F979<>\"\",STDEV($Q$12:Q979),\"\")","v":""},""]
[969,null,{"$f":"RIGHT(Data!C980,10)","v":""},null,null,null,null,null,null,null,{"$f":"IFERROR($U$3*Data!M980/SQRT(COUNT(Data!F980:J980)),\"\")","v":""},"","","","","",{"$f":"IFERROR((Data!K980-$E$4),\"\")","v":""},{"$f":"IF(AND(F980<>\"\",G980<>\"\",H980<>\"\",I980<>\"\",J980<>\"\"),Data!Q980-$E$4,\"\")","v":""},"","","","",{"$f":"IF(F980<>\"\",STDEV($Q$12:Q980),\"\")","v":""},""]
[970,null,{"$f":"RIGHT(Data!C981,10)","v":""},null,null,null,null,null,null,null,{"$f":"IFERROR($U$3*Data!M981/SQRT(COUNT(Data!F981:J981)),\"\")","v":""},"","","","","",{"$f":"IFERROR((Data!K981-$E$4),\"\")","v":""},{"$f":"IF(AND(F981<>\"\",G981<>\"\",H981<>\"\",I981<>\"\",J981<>\"\"),Data!Q981-$E$4,\"\")","v":""},"","","","",{"$f":"IF(F981<>\"\",STDEV($Q$12:Q981),\"\")","v":""},""]
[971,null,{"$f":"RIGHT(Data!C982,10)","v":""},null,null,null,null,null,null,null,{"$f":"IFERROR($U$3*Data!M982/SQRT(COUNT(Data!F982:J982)),\"\")","v":""},"","","","","",{"$f":"IFERROR((Data!K982-$E$4),\"\")","v":""},{"$f":"IF(AND(F982<>\"\",G982<>\"\",H982<>\"\",I982<>\"\",J982<>\"\"),Data!Q982-$E$4,\"\")","v":""},"","","","",{"$f":"IF(F982<>\"\",STDEV($Q$12:Q982),\"\")","v":""},""]
[972,null,{"$f":"RIGHT(Data!C983,10)","v":""},null,null,null,null,null,null,null,{"$f":"IFERROR($U$3*Data!M983/SQRT(COUNT(Data!F983:J983)),\"\")","v":""},"","","","","",{"$f":"IFERROR((Data!K983-$E$4),\"\")","v":""},{"$f":"IF(AND(F983<>\"\",G983<>\"\",H983<>\"\",I983<>\"\",J983<>\"\"),Data!Q983-$E$4,\"\")","v":""},"","","","",{"$f":"IF(F983<>\"\",STDEV($Q$12:Q983),\"\")","v":""},""]
[973,null,{"$f":"RIGHT(Data!C984,10)","v":""},null,null,null,null,null,null,null,{"$f":"IFERROR($U$3*Data!M984/SQRT(COUNT(Data!F984:J984)),\"\")","v":""},"","","","","",{"$f":"IFERROR((Data!K984-$E$4),\"\")","v":""},{"$f":"IF(AND(F984<>\"\",G984<>\"\",H984<>\"\",I984<>\"\",J984<>\"\"),Data!Q984-$E$4,\"\")","v":""},"","","","",{"$f":"IF(F984<>\"\",STDEV($Q$12:Q984),\"\")","v":""},""]
[974,null,{"$f":"RIGHT(Data!C985,10)","v":""},null,null,null,null,null,null,null,{"$f":"IFERROR($U$3*Data!M985/SQRT(COUNT(Data!F985:J985)),\"\")","v":""},"","","","","",{"$f":"IFERROR((Data!K985-$E$4),\"\")","v":""},{"$f":"IF(AND(F985<>\"\",G985<>\"\",H985<>\"\",I985<>\"\",J985<>\"\"),Data!Q985-$E$4,\"\")","v":""},"","","","",{"$f":"IF(F985<>\"\",STDEV($Q$12:Q985),\"\")","v":""},""]
[975,null,{"$f":"RIGHT(Data!C986,10)","v":""},null,null,null,null,null,null,null,{"$f":"IFERROR($U$3*Data!M986/SQRT(COUNT(Data!F986:J986)),\"\")","v":""},"","","","","",{"$f":"IFERROR((Data!K986-$E$4),\"\")","v":""},{"$f":"IF(AND(F986<>\"\",G986<>\"\",H986<>\"\",I986<>\"\",J986<>\"\"),Data!Q986-$E$4,\"\")","v":""},"","","","",{"$f":"IF(F986<>\"\",STDEV($Q$12:Q986),\"\")","v":""},""]
[976,null,{"$f":"RIGHT(Data!C987,10)","v":""},null,null,null,null,null,null,null,{"$f":"IFERROR($U$3*Data!M987/SQRT(COUNT(Data!F987:J987)),\"\")","v":""},"","","","","",{"$f":"IFERROR((Data!K987-$E$4),\"\")","v":""},{"$f":"IF(AND(F987<>\"\",G987<>\"\",H987<>\"\",I987<>\"\",J987<>\"\"),Data!Q987-$E$4,\"\")","v":""},"","","","",{"$f":"IF(F987<>\"\",STDEV($Q$12:Q987),\"\")","v":""},""]
[977,null,{"$f":"RIGHT(Data!C988,10)","v":""},null,null,null,null,null,null,null,{"$f":"IFERROR($U$3*Data!M988/SQRT(COUNT(Data!F988:J988)),\"\")","v":""},"","","","","",{"$f":"IFERROR((Data!K988-$E$4),\"\")","v":""},{"$f":"IF(AND(F988<>\"\",G988<>\"\",H988<>\"\",I988<>\"\",J988<>\"\"),Data!Q988-$E$4,\"\")","v":""},"","","","",{"$f":"IF(F988<>\"\",STDEV($Q$12:Q988),\"\")","v":""},""]
[978,null,{"$f":"RIGHT(Data!C989,10)","v":""},null,null,null,null,null,null,null,{"$f":"IFERROR($U$3*Data!M989/SQRT(COUNT(Data!F989:J989)),\"\")","v":""},"","","","","",{"$f":"IFERROR((Data!K989-$E$4),\"\")","v":""},{"$f":"IF(AND(F989<>\"\",G989<>\"\",H989<>\"\",I989<>\"\",J989<>\"\"),Data!Q989-$E$4,\"\")","v":""},"","","","",{"$f":"IF(F989<>\"\",STDEV($Q$12:Q989),\"\")","v":""},""]
[979,null,{"$f":"RIGHT(Data!C990,10)","v":""},null,null,null,null,null,null,null,{"$f":"IFERROR($U$3*Data!M990/SQRT(COUNT(Data!F990:J990)),\"\")","v":""},"","","","","",{"$f":"IFERROR((Data!K990-$E$4),\"\")","v":""},{"$f":"IF(AND(F990<>\"\",G990<>\"\",H990<>\"\",I990<>\"\",J990<>\"\"),Data!Q990-$E$4,\"\")","v":""},"","","","",{"$f":"IF(F990<>\"\",STDEV($Q$12:Q990),\"\")","v":""},""]
[980,null,{"$f":"RIGHT(Data!C991,10)","v":""},null,null,null,null,null,null,null,{"$f":"IFERROR($U$3*Data!M991/SQRT(COUNT(Data!F991:J991)),\"\")","v":""},"","","","","",{"$f":"IFERROR((Data!K991-$E$4),\"\")","v":""},{"$f":"IF(AND(F991<>\"\",G991<>\"\",H991<>\"\",I991<>\"\",J991<>\"\"),Data!Q991-$E$4,\"\")","v":""},"","","","",{"$f":"IF(F991<>\"\",STDEV($Q$12:Q991),\"\")","v":""},""]
[981,null,{"$f":"RIGHT(Data!C992,10)","v":""},null,null,null,null,null,null,null,{"$f":"IFERROR($U$3*Data!M992/SQRT(COUNT(Data!F992:J992)),\"\")","v":""},"","","","","",{"$f":"IFERROR((Data!K992-$E$4),\"\")","v":""},{"$f":"IF(AND(F992<>\"\",G992<>\"\",H992<>\"\",I992<>\"\",J992<>\"\"),Data!Q992-$E$4,\"\")","v":""},"","","","",{"$f":"IF(F992<>\"\",STDEV($Q$12:Q992),\"\")","v":""},""]
[982,null,{"$f":"RIGHT(Data!C993,10)","v":""},null,null,null,null,null,null,null,{"$f":"IFERROR($U$3*Data!M993/SQRT(COUNT(Data!F993:J993)),\"\")","v":""},"","","","","",{"$f":"IFERROR((Data!K993-$E$4),\"\")","v":""},{"$f":"IF(AND(F993<>\"\",G993<>\"\",H993<>\"\",I993<>\"\",J993<>\"\"),Data!Q993-$E$4,\"\")","v":""},"","","","",{"$f":"IF(F993<>\"\",STDEV($Q$12:Q993),\"\")","v":""},""]
[983,null,{"$f":"RIGHT(Data!C994,10)","v":""},null,null,null,null,null,null,null,{"$f":"IFERROR($U$3*Data!M994/SQRT(COUNT(Data!F994:J994)),\"\")","v":""},"","","","","",{"$f":"IFERROR((Data!K994-$E$4),\"\")","v":""},{"$f":"IF(AND(F994<>\"\",G994<>\"\",H994<>\"\",I994<>\"\",J994<>\"\"),Data!Q994-$E$4,\"\")","v":""},"","","","",{"$f":"IF(F994<>\"\",STDEV($Q$12:Q994),\"\")","v":""},""]
[984,null,{"$f":"RIGHT(Data!C995,10)","v":""},null,null,null,null,null,null,null,{"$f":"IFERROR($U$3*Data!M995/SQRT(COUNT(Data!F995:J995)),\"\")","v":""},"","","","","",{"$f":"IFERROR((Data!K995-$E$4),\"\")","v":""},{"$f":"IF(AND(F995<>\"\",G995<>\"\",H995<>\"\",I995<>\"\",J995<>\"\"),Data!Q995-$E$4,\"\")","v":""},"","","","",{"$f":"IF(F995<>\"\",STDEV($Q$12:Q995),\"\")","v":""},""]
[985,null,{"$f":"RIGHT(Data!C996,10)","v":""},null,null,null,null,null,null,null,{"$f":"IFERROR($U$3*Data!M996/SQRT(COUNT(Data!F996:J996)),\"\")","v":""},"","","","","",{"$f":"IFERROR((Data!K996-$E$4),\"\")","v":""},{"$f":"IF(AND(F996<>\"\",G996<>\"\",H996<>\"\",I996<>\"\",J996<>\"\"),Data!Q996-$E$4,\"\")","v":""},"","","","",{"$f":"IF(F996<>\"\",STDEV($Q$12:Q996),\"\")","v":""},""]
[986,null,{"$f":"RIGHT(Data!C997,10)","v":""},null,null,null,null,null,null,null,{"$f":"IFERROR($U$3*Data!M997/SQRT(COUNT(Data!F997:J997)),\"\")","v":""},"","","","","",{"$f":"IFERROR((Data!K997-$E$4),\"\")","v":""},{"$f":"IF(AND(F997<>\"\",G997<>\"\",H997<>\"\",I997<>\"\",J997<>\"\"),Data!Q997-$E$4,\"\")","v":""},"","","","",{"$f":"IF(F997<>\"\",STDEV($Q$12:Q997),\"\")","v":""},""]
[987,null,{"$f":"RIGHT(Data!C998,10)","v":""},null,null,null,null,null,null,null,{"$f":"IFERROR($U$3*Data!M998/SQRT(COUNT(Data!F998:J998)),\"\")","v":""},"","","","","",{"$f":"IFERROR((Data!K998-$E$4),\"\")","v":""},{"$f":"IF(AND(F998<>\"\",G998<>\"\",H998<>\"\",I998<>\"\",J998<>\"\"),Data!Q998-$E$4,\"\")","v":""},"","","","",{"$f":"IF(F998<>\"\",STDEV($Q$12:Q998),\"\")","v":""},""]
[988,null,{"$f":"RIGHT(Data!C999,10)","v":""},null,null,null,null,null,null,null,{"$f":"IFERROR($U$3*Data!M999/SQRT(COUNT(Data!F999:J999)),\"\")","v":""},"","","","","",{"$f":"IFERROR((Data!K999-$E$4),\"\")","v":""},{"$f":"IF(AND(F999<>\"\",G999<>\"\",H999<>\"\",I999<>\"\",J999<>\"\"),Data!Q999-$E$4,\"\")","v":""},"","","","",{"$f":"IF(F999<>\"\",STDEV($Q$12:Q999),\"\")","v":""},""]
[989,null,{"$f":"RIGHT(Data!C1000,10)","v":""},null,null,null,null,null,null,null,{"$f":"IFERROR($U$3*Data!M1000/SQRT(COUNT(Data!F1000:J1000)),\"\")","v":""},"","","","","",{"$f":"IFERROR((Data!K1000-$E$4),\"\")","v":""},{"$f":"IF(AND(F1000<>\"\",G1000<>\"\",H1000<>\"\",I1000<>\"\",J1000<>\"\"),Data!Q1000-$E$4,\"\")","v":""},"","","","",{"$f":"IF(F1000<>\"\",STDEV($Q$12:Q1000),\"\")","v":""},""]
[990,null,{"$f":"RIGHT(Data!C1001,10)","v":""},null,null,null,null,null,null,null,{"$f":"IFERROR($U$3*Data!M1001/SQRT(COUNT(Data!F1001:J1001)),\"\")","v":""},"","","","","",{"$f":"IFERROR((Data!K1001-$E$4),\"\")","v":""},{"$f":"IF(AND(F1001<>\"\",G1001<>\"\",H1001<>\"\",I1001<>\"\",J1001<>\"\"),Data!Q1001-$E$4,\"\")","v":""},"","","","",{"$f":"IF(F1001<>\"\",STDEV($Q$12:Q1001),\"\")","v":""},""]
[991,null,{"$f":"RIGHT(Data!C1002,10)","v":""},null,null,null,null,null,null,null,{"$f":"IFERROR($U$3*Data!M1002/SQRT(COUNT(Data!F1002:J1002)),\"\")","v":""},"","","","","",{"$f":"IFERROR((Data!K1002-$E$4),\"\")","v":""},{"$f":"IF(AND(F1002<>\"\",G1002<>\"\",H1002<>\"\",I1002<>\"\",J1002<>\"\"),Data!Q1002-$E$4,\"\")","v":""},"","","","",{"$f":"IF(F1002<>\"\",STDEV($Q$12:Q1002),\"\")","v":""},""]
[992,null,{"$f":"RIGHT(Data!C1003,10)","v":""},null,null,null,null,null,null,null,{"$f":"IFERROR($U$3*Data!M1003/SQRT(COUNT(Data!F1003:J1003)),\"\")","v":""},"","","","","",{"$f":"IFERROR((Data!K1003-$E$4),\"\")","v":""},{"$f":"IF(AND(F1003<>\"\",G1003<>\"\",H1003<>\"\",I1003<>\"\",J1003<>\"\"),Data!Q1003-$E$4,\"\")","v":""},"","","","",{"$f":"IF(F1003<>\"\",STDEV($Q$12:Q1003),\"\")","v":""},""]
[993,null,{"$f":"RIGHT(Data!C1004,10)","v":""},null,null,null,null,null,null,null,{"$f":"IFERROR($U$3*Data!M1004/SQRT(COUNT(Data!F1004:J1004)),\"\")","v":""},"","","","","",{"$f":"IFERROR((Data!K1004-$E$4),\"\")","v":""},{"$f":"IF(AND(F1004<>\"\",G1004<>\"\",H1004<>\"\",I1004<>\"\",J1004<>\"\"),Data!Q1004-$E$4,\"\")","v":""},"","","","",{"$f":"IF(F1004<>\"\",STDEV($Q$12:Q1004),\"\")","v":""},""]
[994,null,{"$f":"RIGHT(Data!C1005,10)","v":""},null,null,null,null,null,null,null,{"$f":"IFERROR($U$3*Data!M1005/SQRT(COUNT(Data!F1005:J1005)),\"\")","v":""},"","","","","",{"$f":"IFERROR((Data!K1005-$E$4),\"\")","v":""},{"$f":"IF(AND(F1005<>\"\",G1005<>\"\",H1005<>\"\",I1005<>\"\",J1005<>\"\"),Data!Q1005-$E$4,\"\")","v":""},"","","","",{"$f":"IF(F1005<>\"\",STDEV($Q$12:Q1005),\"\")","v":""},""]
[995,null,{"$f":"RIGHT(Data!C1006,10)","v":""},null,null,null,null,null,null,null,{"$f":"IFERROR($U$3*Data!M1006/SQRT(COUNT(Data!F1006:J1006)),\"\")","v":""},"","","","","",{"$f":"IFERROR((Data!K1006-$E$4),\"\")","v":""},{"$f":"IF(AND(F1006<>\"\",G1006<>\"\",H1006<>\"\",I1006<>\"\",J1006<>\"\"),Data!Q1006-$E$4,\"\")","v":""},"","","","",{"$f":"IF(F1006<>\"\",STDEV($Q$12:Q1006),\"\")","v":""},""]
[996,null,{"$f":"RIGHT(Data!C1007,10)","v":""},null,null,null,null,null,null,null,{"$f":"IFERROR($U$3*Data!M1007/SQRT(COUNT(Data!F1007:J1007)),\"\")","v":""},"","","","","",{"$f":"IFERROR((Data!K1007-$E$4),\"\")","v":""},{"$f":"IF(AND(F1007<>\"\",G1007<>\"\",H1007<>\"\",I1007<>\"\",J1007<>\"\"),Data!Q1007-$E$4,\"\")","v":""},"","","","",{"$f":"IF(F1007<>\"\",STDEV($Q$12:Q1007),\"\")","v":""},""]
[997,null,{"$f":"RIGHT(Data!C1008,10)","v":""},null,null,null,null,null,null,null,{"$f":"IFERROR($U$3*Data!M1008/SQRT(COUNT(Data!F1008:J1008)),\"\")","v":""},"","","","","",{"$f":"IFERROR((Data!K1008-$E$4),\"\")","v":""},{"$f":"IF(AND(F1008<>\"\",G1008<>\"\",H1008<>\"\",I1008<>\"\",J1008<>\"\"),Data!Q1008-$E$4,\"\")","v":""},"","","","",{"$f":"IF(F1008<>\"\",STDEV($Q$12:Q1008),\"\")","v":""},""]
[998,null,{"$f":"RIGHT(Data!C1009,10)","v":""},null,null,null,null,null,null,null,{"$f":"IFERROR($U$3*Data!M1009/SQRT(COUNT(Data!F1009:J1009)),\"\")","v":""},"","","","","",{"$f":"IFERROR((Data!K1009-$E$4),\"\")","v":""},{"$f":"IF(AND(F1009<>\"\",G1009<>\"\",H1009<>\"\",I1009<>\"\",J1009<>\"\"),Data!Q1009-$E$4,\"\")","v":""},"","","","",{"$f":"IF(F1009<>\"\",STDEV($Q$12:Q1009),\"\")","v":""},""]
[999,null,{"$f":"RIGHT(Data!C1010,10)","v":""},null,null,null,null,null,null,null,{"$f":"IFERROR($U$3*Data!M1010/SQRT(COUNT(Data!F1010:J1010)),\"\")","v":""},"","","","","",{"$f":"IFERROR((Data!K1010-$E$4),\"\")","v":""},{"$f":"IF(AND(F1010<>\"\",G1010<>\"\",H1010<>\"\",I1010<>\"\",J1010<>\"\"),Data!Q1010-$E$4,\"\")","v":""},"","","","",{"$f":"IF(F1010<>\"\",STDEV($Q$12:Q1010),\"\")","v":""},""]
[1000,null,{"$f":"RIGHT(Data!C1011,10)","v":""},null,null,null,null,null,null,null,{"$f":"IFERROR($U$3*Data!M1011/SQRT(COUNT(Data!F1011:J1011)),\"\")","v":""},"","","","","",{"$f":"IFERROR((Data!K1011-$E$4),\"\")","v":""},{"$f":"IF(AND(F1011<>\"\",G1011<>\"\",H1011<>\"\",I1011<>\"\",J1011<>\"\"),Data!Q1011-$E$4,\"\")","v":""},"","","","",{"$f":"IF(F1011<>\"\",STDEV($Q$12:Q1011),\"\")","v":""},""]
[1001,null,{"$f":"RIGHT(Data!C1012,10)","v":""},null,null,null,null,null,null,null,{"$f":"IFERROR($U$3*Data!M1012/SQRT(COUNT(Data!F1012:J1012)),\"\")","v":""},"","","","","",{"$f":"IFERROR((Data!K1012-$E$4),\"\")","v":""},{"$f":"IF(AND(F1012<>\"\",G1012<>\"\",H1012<>\"\",I1012<>\"\",J1012<>\"\"),Data!Q1012-$E$4,\"\")","v":""},"","","","",{"$f":"IF(F1012<>\"\",STDEV($Q$12:Q1012),\"\")","v":""},""]
[1002,null,{"$f":"RIGHT(Data!C1013,10)","v":""},null,null,null,null,null,null,null,{"$f":"IFERROR($U$3*Data!M1013/SQRT(COUNT(Data!F1013:J1013)),\"\")","v":""},"","","","","",{"$f":"IFERROR((Data!K1013-$E$4),\"\")","v":""},{"$f":"IF(AND(F1013<>\"\",G1013<>\"\",H1013<>\"\",I1013<>\"\",J1013<>\"\"),Data!Q1013-$E$4,\"\")","v":""},"","","","",{"$f":"IF(F1013<>\"\",STDEV($Q$12:Q1013),\"\")","v":""},""]
[1003,null,{"$f":"RIGHT(Data!C1014,10)","v":""},null,null,null,null,null,null,null,{"$f":"IFERROR($U$3*Data!M1014/SQRT(COUNT(Data!F1014:J1014)),\"\")","v":""},"","","","","",{"$f":"IFERROR((Data!K1014-$E$4),\"\")","v":""},{"$f":"IF(AND(F1014<>\"\",G1014<>\"\",H1014<>\"\",I1014<>\"\",J1014<>\"\"),Data!Q1014-$E$4,\"\")","v":""},"","","","",{"$f":"IF(F1014<>\"\",STDEV($Q$12:Q1014),\"\")","v":""},""]
[1004,null,{"$f":"RIGHT(Data!C1015,10)","v":""},null,null,null,null,null,null,null,{"$f":"IFERROR($U$3*Data!M1015/SQRT(COUNT(Data!F1015:J1015)),\"\")","v":""},"","","","","",{"$f":"IFERROR((Data!K1015-$E$4),\"\")","v":""},{"$f":"IF(AND(F1015<>\"\",G1015<>\"\",H1015<>\"\",I1015<>\"\",J1015<>\"\"),Data!Q1015-$E$4,\"\")","v":""},"","","","",{"$f":"IF(F1015<>\"\",STDEV($Q$12:Q1015),\"\")","v":""},""]
[1005,null,{"$f":"RIGHT(Data!C1016,10)","v":""},null,null,null,null,null,null,null,{"$f":"IFERROR($U$3*Data!M1016/SQRT(COUNT(Data!F1016:J1016)),\"\")","v":""},"","","","","",{"$f":"IFERROR((Data!K1016-$E$4),\"\")","v":""},{"$f":"IF(AND(F1016<>\"\",G1016<>\"\",H1016<>\"\",I1016<>\"\",J1016<>\"\"),Data!Q1016-$E$4,\"\")","v":""},"","","","",{"$f":"IF(F1016<>\"\",STDEV($Q$12:Q1016),\"\")","v":""},""]
[1006,null,{"$f":"RIGHT(Data!C1017,10)","v":""},null,null,null,null,null,null,null,{"$f":"IFERROR($U$3*Data!M1017/SQRT(COUNT(Data!F1017:J1017)),\"\")","v":""},"","","","","",{"$f":"IFERROR((Data!K1017-$E$4),\"\")","v":""},{"$f":"IF(AND(F1017<>\"\",G1017<>\"\",H1017<>\"\",I1017<>\"\",J1017<>\"\"),Data!Q1017-$E$4,\"\")","v":""},"","","","",{"$f":"IF(F1017<>\"\",STDEV($Q$12:Q1017),\"\")","v":""},""]
[1007,null,{"$f":"RIGHT(Data!C1018,10)","v":""},null,null,null,null,null,null,null,{"$f":"IFERROR($U$3*Data!M1018/SQRT(COUNT(Data!F1018:J1018)),\"\")","v":""},"","","","","",{"$f":"IFERROR((Data!K1018-$E$4),\"\")","v":""},{"$f":"IF(AND(F1018<>\"\",G1018<>\"\",H1018<>\"\",I1018<>\"\",J1018<>\"\"),Data!Q1018-$E$4,\"\")","v":""},"","","","",{"$f":"IF(F1018<>\"\",STDEV($Q$12:Q1018),\"\")","v":""},""]
[1008,null,{"$f":"RIGHT(Data!C1019,10)","v":""},null,null,null,null,null,null,null,{"$f":"IFERROR($U$3*Data!M1019/SQRT(COUNT(Data!F1019:J1019)),\"\")","v":""},"","","","","",{"$f":"IFERROR((Data!K1019-$E$4),\"\")","v":""},{"$f":"IF(AND(F1019<>\"\",G1019<>\"\",H1019<>\"\",I1019<>\"\",J1019<>\"\"),Data!Q1019-$E$4,\"\")","v":""},"","","","",{"$f":"IF(F1019<>\"\",STDEV($Q$12:Q1019),\"\")","v":""},""]
[1009,null,{"$f":"RIGHT(Data!C1020,10)","v":""},null,null,null,null,null,null,null,{"$f":"IFERROR($U$3*Data!M1020/SQRT(COUNT(Data!F1020:J1020)),\"\")","v":""},"","","","","",{"$f":"IFERROR((Data!K1020-$E$4),\"\")","v":""},{"$f":"IF(AND(F1020<>\"\",G1020<>\"\",H1020<>\"\",I1020<>\"\",J1020<>\"\"),Data!Q1020-$E$4,\"\")","v":""},"","","","",{"$f":"IF(F1020<>\"\",STDEV($Q$12:Q1020),\"\")","v":""},""]
[1010,null,{"$f":"RIGHT(Data!C1021,10)","v":""},null,null,null,null,null,null,null,{"$f":"IFERROR($U$3*Data!M1021/SQRT(COUNT(Data!F1021:J1021)),\"\")","v":""},"","","","","",{"$f":"IFERROR((Data!K1021-$E$4),\"\")","v":""},{"$f":"IF(AND(F1021<>\"\",G1021<>\"\",H1021<>\"\",I1021<>\"\",J1021<>\"\"),Data!Q1021-$E$4,\"\")","v":""},"","","","",{"$f":"IF(F1021<>\"\",STDEV($Q$12:Q1021),\"\")","v":""},""]
[1011,null,{"$f":"RIGHT(Data!C1022,10)","v":""},null,null,null,null,null,null,null,{"$f":"IFERROR($U$3*Data!M1022/SQRT(COUNT(Data!F1022:J1022)),\"\")","v":""},"","","","","",{"$f":"IFERROR((Data!K1022-$E$4),\"\")","v":""},{"$f":"IF(AND(F1022<>\"\",G1022<>\"\",H1022<>\"\",I1022<>\"\",J1022<>\"\"),Data!Q1022-$E$4,\"\")","v":""},"","","","",{"$f":"IF(F1022<>\"\",STDEV($Q$12:Q1022),\"\")","v":""},""]
[1012,null,{"$f":"RIGHT(Data!C1023,10)","v":""},null,null,null,null,null,null,null,{"$f":"IFERROR($U$3*Data!M1023/SQRT(COUNT(Data!F1023:J1023)),\"\")","v":""},"","","","","",{"$f":"IFERROR((Data!K1023-$E$4),\"\")","v":""},{"$f":"IF(AND(F1023<>\"\",G1023<>\"\",H1023<>\"\",I1023<>\"\",J1023<>\"\"),Data!Q1023-$E$4,\"\")","v":""},"","","","",{"$f":"IF(F1023<>\"\",STDEV($Q$12:Q1023),\"\")","v":""},""]
[1013,null,{"$f":"RIGHT(Data!C1024,10)","v":""},null,null,null,null,null,null,null,{"$f":"IFERROR($U$3*Data!M1024/SQRT(COUNT(Data!F1024:J1024)),\"\")","v":""},"","","","","",{"$f":"IFERROR((Data!K1024-$E$4),\"\")","v":""},{"$f":"IF(AND(F1024<>\"\",G1024<>\"\",H1024<>\"\",I1024<>\"\",J1024<>\"\"),Data!Q1024-$E$4,\"\")","v":""},"","","","",{"$f":"IF(F1024<>\"\",STDEV($Q$12:Q1024),\"\")","v":""},""]
[1014,null,{"$f":"RIGHT(Data!C1025,10)","v":""},null,null,null,null,null,null,null,{"$f":"IFERROR($U$3*Data!M1025/SQRT(COUNT(Data!F1025:J1025)),\"\")","v":""},"","","","","",{"$f":"IFERROR((Data!K1025-$E$4),\"\")","v":""},{"$f":"IF(AND(F1025<>\"\",G1025<>\"\",H1025<>\"\",I1025<>\"\",J1025<>\"\"),Data!Q1025-$E$4,\"\")","v":""},"","","","",{"$f":"IF(F1025<>\"\",STDEV($Q$12:Q1025),\"\")","v":""},""]
[1015,null,{"$f":"RIGHT(Data!C1026,10)","v":""},null,null,null,null,null,null,null,{"$f":"IFERROR($U$3*Data!M1026/SQRT(COUNT(Data!F1026:J1026)),\"\")","v":""},"","","","","",{"$f":"IFERROR((Data!K1026-$E$4),\"\")","v":""},{"$f":"IF(AND(F1026<>\"\",G1026<>\"\",H1026<>\"\",I1026<>\"\",J1026<>\"\"),Data!Q1026-$E$4,\"\")","v":""},"","","","",{"$f":"IF(F1026<>\"\",STDEV($Q$12:Q1026),\"\")","v":""},""]
[1016,null,{"$f":"RIGHT(Data!C1027,10)","v":""},null,null,null,null,null,null,null,{"$f":"IFERROR($U$3*Data!M1027/SQRT(COUNT(Data!F1027:J1027)),\"\")","v":""},"","","","","",{"$f":"IFERROR((Data!K1027-$E$4),\"\")","v":""},{"$f":"IF(AND(F1027<>\"\",G1027<>\"\",H1027<>\"\",I1027<>\"\",J1027<>\"\"),Data!Q1027-$E$4,\"\")","v":""},"","","","",{"$f":"IF(F1027<>\"\",STDEV($Q$12:Q1027),\"\")","v":""},""]
[1017,null,{"$f":"RIGHT(Data!C1028,10)","v":""},null,null,null,null,null,null,null,{"$f":"IFERROR($U$3*Data!M1028/SQRT(COUNT(Data!F1028:J1028)),\"\")","v":""},"","","","","",{"$f":"IFERROR((Data!K1028-$E$4),\"\")","v":""},{"$f":"IF(AND(F1028<>\"\",G1028<>\"\",H1028<>\"\",I1028<>\"\",J1028<>\"\"),Data!Q1028-$E$4,\"\")","v":""},"","","","",{"$f":"IF(F1028<>\"\",STDEV($Q$12:Q1028),\"\")","v":""},""]
[1018,null,{"$f":"RIGHT(Data!C1029,10)","v":""},null,null,null,null,null,null,null,{"$f":"IFERROR($U$3*Data!M1029/SQRT(COUNT(Data!F1029:J1029)),\"\")","v":""},"","","","","",{"$f":"IFERROR((Data!K1029-$E$4),\"\")","v":""},{"$f":"IF(AND(F1029<>\"\",G1029<>\"\",H1029<>\"\",I1029<>\"\",J1029<>\"\"),Data!Q1029-$E$4,\"\")","v":""},"","","","",{"$f":"IF(F1029<>\"\",STDEV($Q$12:Q1029),\"\")","v":""},""]
[1019,null,{"$f":"RIGHT(Data!C1030,10)","v":""},null,null,null,null,null,null,null,{"$f":"IFERROR($U$3*Data!M1030/SQRT(COUNT(Data!F1030:J1030)),\"\")","v":""},"","","","","",{"$f":"IFERROR((Data!K1030-$E$4),\"\")","v":""},{"$f":"IF(AND(F1030<>\"\",G1030<>\"\",H1030<>\"\",I1030<>\"\",J1030<>\"\"),Data!Q1030-$E$4,\"\")","v":""},"","","","",{"$f":"IF(F1030<>\"\",STDEV($Q$12:Q1030),\"\")","v":""},""]
[1020,null,{"$f":"RIGHT(Data!C1031,10)","v":""},null,null,null,null,null,null,null,{"$f":"IFERROR($U$3*Data!M1031/SQRT(COUNT(Data!F1031:J1031)),\"\")","v":""},"","","","","",{"$f":"IFERROR((Data!K1031-$E$4),\"\")","v":""},{"$f":"IF(AND(F1031<>\"\",G1031<>\"\",H1031<>\"\",I1031<>\"\",J1031<>\"\"),Data!Q1031-$E$4,\"\")","v":""},"","","","",{"$f":"IF(F1031<>\"\",STDEV($Q$12:Q1031),\"\")","v":""},""]
[1021,null,{"$f":"RIGHT(Data!C1032,10)","v":""},null,null,null,null,null,null,null,{"$f":"IFERROR($U$3*Data!M1032/SQRT(COUNT(Data!F1032:J1032)),\"\")","v":""},"","","","","",{"$f":"IFERROR((Data!K1032-$E$4),\"\")","v":""},{"$f":"IF(AND(F1032<>\"\",G1032<>\"\",H1032<>\"\",I1032<>\"\",J1032<>\"\"),Data!Q1032-$E$4,\"\")","v":""},"","","","",{"$f":"IF(F1032<>\"\",STDEV($Q$12:Q1032),\"\")","v":""},""]
[1022,null,{"$f":"RIGHT(Data!C1033,10)","v":""},null,null,null,null,null,null,null,{"$f":"IFERROR($U$3*Data!M1033/SQRT(COUNT(Data!F1033:J1033)),\"\")","v":""},"","","","","",{"$f":"IFERROR((Data!K1033-$E$4),\"\")","v":""},{"$f":"IF(AND(F1033<>\"\",G1033<>\"\",H1033<>\"\",I1033<>\"\",J1033<>\"\"),Data!Q1033-$E$4,\"\")","v":""},"","","","",{"$f":"IF(F1033<>\"\",STDEV($Q$12:Q1033),\"\")","v":""},""]
[1023,null,{"$f":"RIGHT(Data!C1034,10)","v":""},null,null,null,null,null,null,null,{"$f":"IFERROR($U$3*Data!M1034/SQRT(COUNT(Data!F1034:J1034)),\"\")","v":""},"","","","","",{"$f":"IFERROR((Data!K1034-$E$4),\"\")","v":""},{"$f":"IF(AND(F1034<>\"\",G1034<>\"\",H1034<>\"\",I1034<>\"\",J1034<>\"\"),Data!Q1034-$E$4,\"\")","v":""},"","","","",{"$f":"IF(F1034<>\"\",STDEV($Q$12:Q1034),\"\")","v":""},""]
[1024,null,{"$f":"RIGHT(Data!C1035,10)","v":""},null,null,null,null,null,null,null,{"$f":"IFERROR($U$3*Data!M1035/SQRT(COUNT(Data!F1035:J1035)),\"\")","v":""},"","","","","",{"$f":"IFERROR((Data!K1035-$E$4),\"\")","v":""},{"$f":"IF(AND(F1035<>\"\",G1035<>\"\",H1035<>\"\",I1035<>\"\",J1035<>\"\"),Data!Q1035-$E$4,\"\")","v":""},"","","","",{"$f":"IF(F1035<>\"\",STDEV($Q$12:Q1035),\"\")","v":""},""]
[1025,null,{"$f":"RIGHT(Data!C1036,10)","v":""},null,null,null,null,null,null,null,{"$f":"IFERROR($U$3*Data!M1036/SQRT(COUNT(Data!F1036:J1036)),\"\")","v":""},"","",{"$f":"IF(COUNT(F1036:J1036)>=5,STDEV(F1036:J1036)*$U$3/SQRT((COUNT(F1036:J1036))),\"\")","v":""},{"$f":"IFERROR($U$4*SQRT($U$7^2+L1036^2+K1036^2+$U$5^2+N1036^2),\"\")","v":""},"",{"$f":"IFERROR((Data!K1036-$E$4),\"\")","v":""},{"$f":"IF(AND(F1036<>\"\",G1036<>\"\",H1036<>\"\",I1036<>\"\",J1036<>\"\"),Data!Q1036-$E$4,\"\")","v":""},{"$f":"IF(O1036<>\"\",FIXED(X1036,1) & \" ± \" & FIXED(O1036+ABS(R1036),2),\"\")","v":""},"","","",{"$f":"IF(F1036<>\"\",STDEV($Q$12:Q1036),\"\")","v":""},{"$f":"IF(F1036<>\"\",AVERAGE(F1036:J1036),\"\")","v":""}]
[1026,null,{"$f":"RIGHT(Data!C1037,10)","v":""},null,null,null,null,null,null,null,{"$f":"IFERROR($U$3*Data!M1037/SQRT(COUNT(Data!F1037:J1037)),\"\")","v":""},{"$f":"IF(F1037<>\"\",V1037*W1037/SQRT(A1037),\"\")","v":""},{"$f":"IF(F1037<>\"\",$U$4*SQRT($U$7^2+L1037^2+K1037^2+$U$5^2),\"\")","v":""},"","",{"$f":"IF(AND(F1037<>\"\",G1037<>\"\",H1037<>\"\",I1037<>\"\",J1037<>\"\"),AVERAGE(F1037:J1037),\"\")","v":""},{"$f":"IFERROR((Data!K1037-$E$4),\"\")","v":""},{"$f":"IF(AND(F1037<>\"\",G1037<>\"\",H1037<>\"\",I1037<>\"\",J1037<>\"\"),Data!Q1037-$E$4,\"\")","v":""},"",{"$f":"IF(F1037<>\"\",FIXED(AVERAGE(F1037:J1037)-R1037,1) & \" ± \" & FIXED(O1037,2),\"\")","v":""},{"$f":"IF(IO1037=\"\",\"\",IO1037-1)","v":""},{"$f":"IF(F1037<>\"\",TINV(1-0.68,A1037-1),\"\")","v":""},{"$f":"IF(F1037<>\"\",STDEV($Q$12:Q1037),\"\")","v":""},""]
[1027,null,{"$f":"RIGHT(Data!C1038,10)","v":""},null,null,null,null,null,null,null,{"$f":"IFERROR($U$3*Data!M1038/SQRT(COUNT(Data!F1038:J1038)),\"\")","v":""},"","","","","",{"$f":"IFERROR((Data!K1038-$E$4),\"\")","v":""},{"$f":"IF(AND(F1038<>\"\",G1038<>\"\",H1038<>\"\",I1038<>\"\",J1038<>\"\"),Data!Q1038-$E$4,\"\")","v":""},"","","","",{"$f":"IF(F1038<>\"\",STDEV($Q$12:Q1038),\"\")","v":""},""]
[1028,null,{"$f":"RIGHT(Data!C1039,10)","v":""},null,null,null,null,null,null,null,{"$f":"IFERROR($U$3*Data!M1039/SQRT(COUNT(Data!F1039:J1039)),\"\")","v":""},"","","","","",{"$f":"IFERROR((Data!K1039-$E$4),\"\")","v":""},{"$f":"IF(AND(F1039<>\"\",G1039<>\"\",H1039<>\"\",I1039<>\"\",J1039<>\"\"),Data!Q1039-$E$4,\"\")","v":""},"","","","",{"$f":"IF(F1039<>\"\",STDEV($Q$12:Q1039),\"\")","v":""},""]
[1029,null,{"$f":"RIGHT(Data!C1040,10)","v":""},null,null,null,null,null,null,null,{"$f":"IFERROR($U$3*Data!M1040/SQRT(COUNT(Data!F1040:J1040)),\"\")","v":""},"","","","","",{"$f":"IFERROR((Data!K1040-$E$4),\"\")","v":""},{"$f":"IF(AND(F1040<>\"\",G1040<>\"\",H1040<>\"\",I1040<>\"\",J1040<>\"\"),Data!Q1040-$E$4,\"\")","v":""},"","","","",{"$f":"IF(F1040<>\"\",STDEV($Q$12:Q1040),\"\")","v":""},""]
[1030,null,{"$f":"RIGHT(Data!C1041,10)","v":""},null,null,null,null,null,null,null,{"$f":"IFERROR($U$3*Data!M1041/SQRT(COUNT(Data!F1041:J1041)),\"\")","v":""},"","","","","",{"$f":"IFERROR((Data!K1041-$E$4),\"\")","v":""},{"$f":"IF(AND(F1041<>\"\",G1041<>\"\",H1041<>\"\",I1041<>\"\",J1041<>\"\"),Data!Q1041-$E$4,\"\")","v":""},"","","","",{"$f":"IF(F1041<>\"\",STDEV($Q$12:Q1041),\"\")","v":""},""]
[1031,null,{"$f":"RIGHT(Data!C1042,10)","v":""},null,null,null,null,null,null,null,{"$f":"IFERROR($U$3*Data!M1042/SQRT(COUNT(Data!F1042:J1042)),\"\")","v":""},"","","","","",{"$f":"IFERROR((Data!K1042-$E$4),\"\")","v":""},{"$f":"IF(AND(F1042<>\"\",G1042<>\"\",H1042<>\"\",I1042<>\"\",J1042<>\"\"),Data!Q1042-$E$4,\"\")","v":""},"","","","",{"$f":"IF(F1042<>\"\",STDEV($Q$12:Q1042),\"\")","v":""},""]
[1032,null,{"$f":"RIGHT(Data!C1043,10)","v":""},null,null,null,null,null,null,null,{"$f":"IFERROR($U$3*Data!M1043/SQRT(COUNT(Data!F1043:J1043)),\"\")","v":""},"","","","","",{"$f":"IFERROR((Data!K1043-$E$4),\"\")","v":""},{"$f":"IF(AND(F1043<>\"\",G1043<>\"\",H1043<>\"\",I1043<>\"\",J1043<>\"\"),Data!Q1043-$E$4,\"\")","v":""},"","","","",{"$f":"IF(F1043<>\"\",STDEV($Q$12:Q1043),\"\")","v":""},""]
[1033,null,{"$f":"RIGHT(Data!C1044,10)","v":""},null,null,null,null,null,null,null,{"$f":"IFERROR($U$3*Data!M1044/SQRT(COUNT(Data!F1044:J1044)),\"\")","v":""},"","","","","",{"$f":"IFERROR((Data!K1044-$E$4),\"\")","v":""},{"$f":"IF(AND(F1044<>\"\",G1044<>\"\",H1044<>\"\",I1044<>\"\",J1044<>\"\"),Data!Q1044-$E$4,\"\")","v":""},"","","","",{"$f":"IF(F1044<>\"\",STDEV($Q$12:Q1044),\"\")","v":""},""]
[1034,null,{"$f":"RIGHT(Data!C1045,10)","v":""},null,null,null,null,null,null,null,{"$f":"IFERROR($U$3*Data!M1045/SQRT(COUNT(Data!F1045:J1045)),\"\")","v":""},"","","","","",{"$f":"IFERROR((Data!K1045-$E$4),\"\")","v":""},{"$f":"IF(AND(F1045<>\"\",G1045<>\"\",H1045<>\"\",I1045<>\"\",J1045<>\"\"),Data!Q1045-$E$4,\"\")","v":""},"","","","",{"$f":"IF(F1045<>\"\",STDEV($Q$12:Q1045),\"\")","v":""},""]
[1035,null,{"$f":"RIGHT(Data!C1046,10)","v":""},null,null,null,null,null,null,null,{"$f":"IFERROR($U$3*Data!M1046/SQRT(COUNT(Data!F1046:J1046)),\"\")","v":""},"","","","","",{"$f":"IFERROR((Data!K1046-$E$4),\"\")","v":""},{"$f":"IF(AND(F1046<>\"\",G1046<>\"\",H1046<>\"\",I1046<>\"\",J1046<>\"\"),Data!Q1046-$E$4,\"\")","v":""},"","","","",{"$f":"IF(F1046<>\"\",STDEV($Q$12:Q1046),\"\")","v":""},""]
[1036,null,{"$f":"RIGHT(Data!C1047,10)","v":""},null,null,null,null,null,null,null,{"$f":"IFERROR($U$3*Data!M1047/SQRT(COUNT(Data!F1047:J1047)),\"\")","v":""},"","","","","",{"$f":"IFERROR((Data!K1047-$E$4),\"\")","v":""},{"$f":"IF(AND(F1047<>\"\",G1047<>\"\",H1047<>\"\",I1047<>\"\",J1047<>\"\"),Data!Q1047-$E$4,\"\")","v":""},"","","","",{"$f":"IF(F1047<>\"\",STDEV($Q$12:Q1047),\"\")","v":""},""]
[1037,null,{"$f":"RIGHT(Data!C1048,10)","v":""},null,null,null,null,null,null,null,{"$f":"IFERROR($U$3*Data!M1048/SQRT(COUNT(Data!F1048:J1048)),\"\")","v":""},"","","","","",{"$f":"IFERROR((Data!K1048-$E$4),\"\")","v":""},{"$f":"IF(AND(F1048<>\"\",G1048<>\"\",H1048<>\"\",I1048<>\"\",J1048<>\"\"),Data!Q1048-$E$4,\"\")","v":""},"","","","",{"$f":"IF(F1048<>\"\",STDEV($Q$12:Q1048),\"\")","v":""},""]
[1038,null,{"$f":"RIGHT(Data!C1049,10)","v":""},null,null,null,null,null,null,null,{"$f":"IFERROR($U$3*Data!M1049/SQRT(COUNT(Data!F1049:J1049)),\"\")","v":""},"","","","","",{"$f":"IFERROR((Data!K1049-$E$4),\"\")","v":""},{"$f":"IF(AND(F1049<>\"\",G1049<>\"\",H1049<>\"\",I1049<>\"\",J1049<>\"\"),Data!Q1049-$E$4,\"\")","v":""},"","","","",{"$f":"IF(F1049<>\"\",STDEV($Q$12:Q1049),\"\")","v":""},""]
[1039,null,{"$f":"RIGHT(Data!C1050,10)","v":""},null,null,null,null,null,null,null,{"$f":"IFERROR($U$3*Data!M1050/SQRT(COUNT(Data!F1050:J1050)),\"\")","v":""},"","","","","",{"$f":"IFERROR((Data!K1050-$E$4),\"\")","v":""},{"$f":"IF(AND(F1050<>\"\",G1050<>\"\",H1050<>\"\",I1050<>\"\",J1050<>\"\"),Data!Q1050-$E$4,\"\")","v":""},"","","","",{"$f":"IF(F1050<>\"\",STDEV($Q$12:Q1050),\"\")","v":""},""]
[1040,null,{"$f":"RIGHT(Data!C1051,10)","v":""},null,null,null,null,null,null,null,{"$f":"IFERROR($U$3*Data!M1051/SQRT(COUNT(Data!F1051:J1051)),\"\")","v":""},"","","","","",{"$f":"IFERROR((Data!K1051-$E$4),\"\")","v":""},{"$f":"IF(AND(F1051<>\"\",G1051<>\"\",H1051<>\"\",I1051<>\"\",J1051<>\"\"),Data!Q1051-$E$4,\"\")","v":""},"","","","",{"$f":"IF(F1051<>\"\",STDEV($Q$12:Q1051),\"\")","v":""},""]
[1041,null,{"$f":"RIGHT(Data!C1052,10)","v":""},null,null,null,null,null,null,null,{"$f":"IFERROR($U$3*Data!M1052/SQRT(COUNT(Data!F1052:J1052)),\"\")","v":""},"","","","","",{"$f":"IFERROR((Data!K1052-$E$4),\"\")","v":""},{"$f":"IF(AND(F1052<>\"\",G1052<>\"\",H1052<>\"\",I1052<>\"\",J1052<>\"\"),Data!Q1052-$E$4,\"\")","v":""},"","","","",{"$f":"IF(F1052<>\"\",STDEV($Q$12:Q1052),\"\")","v":""},""]
[1042,null,{"$f":"RIGHT(Data!C1053,10)","v":""},null,null,null,null,null,null,null,{"$f":"IFERROR($U$3*Data!M1053/SQRT(COUNT(Data!F1053:J1053)),\"\")","v":""},"","","","","",{"$f":"IFERROR((Data!K1053-$E$4),\"\")","v":""},{"$f":"IF(AND(F1053<>\"\",G1053<>\"\",H1053<>\"\",I1053<>\"\",J1053<>\"\"),Data!Q1053-$E$4,\"\")","v":""},"","","","",{"$f":"IF(F1053<>\"\",STDEV($Q$12:Q1053),\"\")","v":""},""]
[1043,null,{"$f":"RIGHT(Data!C1054,10)","v":""},null,null,null,null,null,null,null,{"$f":"IFERROR($U$3*Data!M1054/SQRT(COUNT(Data!F1054:J1054)),\"\")","v":""},"","","","","",{"$f":"IFERROR((Data!K1054-$E$4),\"\")","v":""},{"$f":"IF(AND(F1054<>\"\",G1054<>\"\",H1054<>\"\",I1054<>\"\",J1054<>\"\"),Data!Q1054-$E$4,\"\")","v":""},"","","","",{"$f":"IF(F1054<>\"\",STDEV($Q$12:Q1054),\"\")","v":""},""]
[1044,null,{"$f":"RIGHT(Data!C1055,10)","v":""},null,null,null,null,null,null,null,{"$f":"IFERROR($U$3*Data!M1055/SQRT(COUNT(Data!F1055:J1055)),\"\")","v":""},"","","","","",{"$f":"IFERROR((Data!K1055-$E$4),\"\")","v":""},{"$f":"IF(AND(F1055<>\"\",G1055<>\"\",H1055<>\"\",I1055<>\"\",J1055<>\"\"),Data!Q1055-$E$4,\"\")","v":""},"","","","",{"$f":"IF(F1055<>\"\",STDEV($Q$12:Q1055),\"\")","v":""},""]
[1045,null,{"$f":"RIGHT(Data!C1056,10)","v":""},null,null,null,null,null,null,null,{"$f":"IFERROR($U$3*Data!M1056/SQRT(COUNT(Data!F1056:J1056)),\"\")","v":""},"","","","","",{"$f":"IFERROR((Data!K1056-$E$4),\"\")","v":""},{"$f":"IF(AND(F1056<>\"\",G1056<>\"\",H1056<>\"\",I1056<>\"\",J1056<>\"\"),Data!Q1056-$E$4,\"\")","v":""},"","","","",{"$f":"IF(F1056<>\"\",STDEV($Q$12:Q1056),\"\")","v":""},""]
[1046,null,{"$f":"RIGHT(Data!C1057,10)","v":""},null,null,null,null,null,null,null,{"$f":"IFERROR($U$3*Data!M1057/SQRT(COUNT(Data!F1057:J1057)),\"\")","v":""},"","","","","",{"$f":"IFERROR((Data!K1057-$E$4),\"\")","v":""},{"$f":"IF(AND(F1057<>\"\",G1057<>\"\",H1057<>\"\",I1057<>\"\",J1057<>\"\"),Data!Q1057-$E$4,\"\")","v":""},"","","","",{"$f":"IF(F1057<>\"\",STDEV($Q$12:Q1057),\"\")","v":""},""]
[1047,null,{"$f":"RIGHT(Data!C1058,10)","v":""},null,null,null,null,null,null,null,{"$f":"IFERROR($U$3*Data!M1058/SQRT(COUNT(Data!F1058:J1058)),\"\")","v":""},"","","","","",{"$f":"IFERROR((Data!K1058-$E$4),\"\")","v":""},{"$f":"IF(AND(F1058<>\"\",G1058<>\"\",H1058<>\"\",I1058<>\"\",J1058<>\"\"),Data!Q1058-$E$4,\"\")","v":""},"","","","",{"$f":"IF(F1058<>\"\",STDEV($Q$12:Q1058),\"\")","v":""},""]
[1048,null,{"$f":"RIGHT(Data!C1059,10)","v":""},null,null,null,null,null,null,null,{"$f":"IFERROR($U$3*Data!M1059/SQRT(COUNT(Data!F1059:J1059)),\"\")","v":""},"","","","","",{"$f":"IFERROR((Data!K1059-$E$4),\"\")","v":""},{"$f":"IF(AND(F1059<>\"\",G1059<>\"\",H1059<>\"\",I1059<>\"\",J1059<>\"\"),Data!Q1059-$E$4,\"\")","v":""},"","","","",{"$f":"IF(F1059<>\"\",STDEV($Q$12:Q1059),\"\")","v":""},""]
[1049,null,{"$f":"RIGHT(Data!C1060,10)","v":""},null,null,null,null,null,null,null,{"$f":"IFERROR($U$3*Data!M1060/SQRT(COUNT(Data!F1060:J1060)),\"\")","v":""},"","","","","",{"$f":"IFERROR((Data!K1060-$E$4),\"\")","v":""},{"$f":"IF(AND(F1060<>\"\",G1060<>\"\",H1060<>\"\",I1060<>\"\",J1060<>\"\"),Data!Q1060-$E$4,\"\")","v":""},"","","","",{"$f":"IF(F1060<>\"\",STDEV($Q$12:Q1060),\"\")","v":""},""]
[1050,null,{"$f":"RIGHT(Data!C1061,10)","v":""},null,null,null,null,null,null,null,{"$f":"IFERROR($U$3*Data!M1061/SQRT(COUNT(Data!F1061:J1061)),\"\")","v":""},"","","","","",{"$f":"IFERROR((Data!K1061-$E$4),\"\")","v":""},{"$f":"IF(AND(F1061<>\"\",G1061<>\"\",H1061<>\"\",I1061<>\"\",J1061<>\"\"),Data!Q1061-$E$4,\"\")","v":""},"","","","",{"$f":"IF(F1061<>\"\",STDEV($Q$12:Q1061),\"\")","v":""},""]
[1051,null,{"$f":"RIGHT(Data!C1062,10)","v":""},null,null,null,null,null,null,null,{"$f":"IFERROR($U$3*Data!M1062/SQRT(COUNT(Data!F1062:J1062)),\"\")","v":""},"","","","","",{"$f":"IFERROR((Data!K1062-$E$4),\"\")","v":""},{"$f":"IF(AND(F1062<>\"\",G1062<>\"\",H1062<>\"\",I1062<>\"\",J1062<>\"\"),Data!Q1062-$E$4,\"\")","v":""},"","","","",{"$f":"IF(F1062<>\"\",STDEV($Q$12:Q1062),\"\")","v":""},""]
[1052,null,{"$f":"RIGHT(Data!C1063,10)","v":""},null,null,null,null,null,null,null,{"$f":"IFERROR($U$3*Data!M1063/SQRT(COUNT(Data!F1063:J1063)),\"\")","v":""},"","","","","",{"$f":"IFERROR((Data!K1063-$E$4),\"\")","v":""},{"$f":"IF(AND(F1063<>\"\",G1063<>\"\",H1063<>\"\",I1063<>\"\",J1063<>\"\"),Data!Q1063-$E$4,\"\")","v":""},"","","","",{"$f":"IF(F1063<>\"\",STDEV($Q$12:Q1063),\"\")","v":""},""]
[1053,null,{"$f":"RIGHT(Data!C1064,10)","v":""},null,null,null,null,null,null,null,{"$f":"IFERROR($U$3*Data!M1064/SQRT(COUNT(Data!F1064:J1064)),\"\")","v":""},"","","","","",{"$f":"IFERROR((Data!K1064-$E$4),\"\")","v":""},{"$f":"IF(AND(F1064<>\"\",G1064<>\"\",H1064<>\"\",I1064<>\"\",J1064<>\"\"),Data!Q1064-$E$4,\"\")","v":""},"","","","",{"$f":"IF(F1064<>\"\",STDEV($Q$12:Q1064),\"\")","v":""},""]
[1054,null,{"$f":"RIGHT(Data!C1065,10)","v":""},null,null,null,null,null,null,null,{"$f":"IFERROR($U$3*Data!M1065/SQRT(COUNT(Data!F1065:J1065)),\"\")","v":""},"","","","","",{"$f":"IFERROR((Data!K1065-$E$4),\"\")","v":""},{"$f":"IF(AND(F1065<>\"\",G1065<>\"\",H1065<>\"\",I1065<>\"\",J1065<>\"\"),Data!Q1065-$E$4,\"\")","v":""},"","","","",{"$f":"IF(F1065<>\"\",STDEV($Q$12:Q1065),\"\")","v":""},""]
[1055,null,{"$f":"RIGHT(Data!C1066,10)","v":""},null,null,null,null,null,null,null,{"$f":"IFERROR($U$3*Data!M1066/SQRT(COUNT(Data!F1066:J1066)),\"\")","v":""},"","","","","",{"$f":"IFERROR((Data!K1066-$E$4),\"\")","v":""},{"$f":"IF(AND(F1066<>\"\",G1066<>\"\",H1066<>\"\",I1066<>\"\",J1066<>\"\"),Data!Q1066-$E$4,\"\")","v":""},"","","","",{"$f":"IF(F1066<>\"\",STDEV($Q$12:Q1066),\"\")","v":""},""]
[1056,null,{"$f":"RIGHT(Data!C1067,10)","v":""},null,null,null,null,null,null,null,{"$f":"IFERROR($U$3*Data!M1067/SQRT(COUNT(Data!F1067:J1067)),\"\")","v":""},"","","","","",{"$f":"IFERROR((Data!K1067-$E$4),\"\")","v":""},{"$f":"IF(AND(F1067<>\"\",G1067<>\"\",H1067<>\"\",I1067<>\"\",J1067<>\"\"),Data!Q1067-$E$4,\"\")","v":""},"","","","",{"$f":"IF(F1067<>\"\",STDEV($Q$12:Q1067),\"\")","v":""},""]
[1057,null,{"$f":"RIGHT(Data!C1068,10)","v":""},null,null,null,null,null,null,null,{"$f":"IFERROR($U$3*Data!M1068/SQRT(COUNT(Data!F1068:J1068)),\"\")","v":""},"","","","","",{"$f":"IFERROR((Data!K1068-$E$4),\"\")","v":""},{"$f":"IF(AND(F1068<>\"\",G1068<>\"\",H1068<>\"\",I1068<>\"\",J1068<>\"\"),Data!Q1068-$E$4,\"\")","v":""},"","","","",{"$f":"IF(F1068<>\"\",STDEV($Q$12:Q1068),\"\")","v":""},""]
[1058,null,{"$f":"RIGHT(Data!C1069,10)","v":""},null,null,null,null,null,null,null,{"$f":"IFERROR($U$3*Data!M1069/SQRT(COUNT(Data!F1069:J1069)),\"\")","v":""},"","","","","",{"$f":"IFERROR((Data!K1069-$E$4),\"\")","v":""},{"$f":"IF(AND(F1069<>\"\",G1069<>\"\",H1069<>\"\",I1069<>\"\",J1069<>\"\"),Data!Q1069-$E$4,\"\")","v":""},"","","","",{"$f":"IF(F1069<>\"\",STDEV($Q$12:Q1069),\"\")","v":""},""]
[1059,null,{"$f":"RIGHT(Data!C1070,10)","v":""},null,null,null,null,null,null,null,{"$f":"IFERROR($U$3*Data!M1070/SQRT(COUNT(Data!F1070:J1070)),\"\")","v":""},"","","","","",{"$f":"IFERROR((Data!K1070-$E$4),\"\")","v":""},{"$f":"IF(AND(F1070<>\"\",G1070<>\"\",H1070<>\"\",I1070<>\"\",J1070<>\"\"),Data!Q1070-$E$4,\"\")","v":""},"","","","",{"$f":"IF(F1070<>\"\",STDEV($Q$12:Q1070),\"\")","v":""},""]
[1060,null,{"$f":"RIGHT(Data!C1071,10)","v":""},null,null,null,null,null,null,null,{"$f":"IFERROR($U$3*Data!M1071/SQRT(COUNT(Data!F1071:J1071)),\"\")","v":""},"","","","","",{"$f":"IFERROR((Data!K1071-$E$4),\"\")","v":""},{"$f":"IF(AND(F1071<>\"\",G1071<>\"\",H1071<>\"\",I1071<>\"\",J1071<>\"\"),Data!Q1071-$E$4,\"\")","v":""},"","","","",{"$f":"IF(F1071<>\"\",STDEV($Q$12:Q1071),\"\")","v":""},""]
[1061,null,{"$f":"RIGHT(Data!C1072,10)","v":""},null,null,null,null,null,null,null,{"$f":"IFERROR($U$3*Data!M1072/SQRT(COUNT(Data!F1072:J1072)),\"\")","v":""},"","","","","",{"$f":"IFERROR((Data!K1072-$E$4),\"\")","v":""},{"$f":"IF(AND(F1072<>\"\",G1072<>\"\",H1072<>\"\",I1072<>\"\",J1072<>\"\"),Data!Q1072-$E$4,\"\")","v":""},"","","","",{"$f":"IF(F1072<>\"\",STDEV($Q$12:Q1072),\"\")","v":""},""]
[1062,null,{"$f":"RIGHT(Data!C1073,10)","v":""},null,null,null,null,null,null,null,{"$f":"IFERROR($U$3*Data!M1073/SQRT(COUNT(Data!F1073:J1073)),\"\")","v":""},"","","","","",{"$f":"IFERROR((Data!K1073-$E$4),\"\")","v":""},{"$f":"IF(AND(F1073<>\"\",G1073<>\"\",H1073<>\"\",I1073<>\"\",J1073<>\"\"),Data!Q1073-$E$4,\"\")","v":""},"","","","",{"$f":"IF(F1073<>\"\",STDEV($Q$12:Q1073),\"\")","v":""},""]
[1063,null,{"$f":"RIGHT(Data!C1074,10)","v":""},null,null,null,null,null,null,null,{"$f":"IFERROR($U$3*Data!M1074/SQRT(COUNT(Data!F1074:J1074)),\"\")","v":""},"","","","","",{"$f":"IFERROR((Data!K1074-$E$4),\"\")","v":""},{"$f":"IF(AND(F1074<>\"\",G1074<>\"\",H1074<>\"\",I1074<>\"\",J1074<>\"\"),Data!Q1074-$E$4,\"\")","v":""},"","","","",{"$f":"IF(F1074<>\"\",STDEV($Q$12:Q1074),\"\")","v":""},""]
[1064,null,{"$f":"RIGHT(Data!C1075,10)","v":""},null,null,null,null,null,null,null,{"$f":"IFERROR($U$3*Data!M1075/SQRT(COUNT(Data!F1075:J1075)),\"\")","v":""},"","","","","",{"$f":"IFERROR((Data!K1075-$E$4),\"\")","v":""},{"$f":"IF(AND(F1075<>\"\",G1075<>\"\",H1075<>\"\",I1075<>\"\",J1075<>\"\"),Data!Q1075-$E$4,\"\")","v":""},"","","","",{"$f":"IF(F1075<>\"\",STDEV($Q$12:Q1075),\"\")","v":""},""]
[1065,null,{"$f":"RIGHT(Data!C1076,10)","v":""},null,null,null,null,null,null,null,{"$f":"IFERROR($U$3*Data!M1076/SQRT(COUNT(Data!F1076:J1076)),\"\")","v":""},"","","","","",{"$f":"IFERROR((Data!K1076-$E$4),\"\")","v":""},{"$f":"IF(AND(F1076<>\"\",G1076<>\"\",H1076<>\"\",I1076<>\"\",J1076<>\"\"),Data!Q1076-$E$4,\"\")","v":""},"","","","",{"$f":"IF(F1076<>\"\",STDEV($Q$12:Q1076),\"\")","v":""},""]
[1066,null,{"$f":"RIGHT(Data!C1077,10)","v":""},null,null,null,null,null,null,null,{"$f":"IFERROR($U$3*Data!M1077/SQRT(COUNT(Data!F1077:J1077)),\"\")","v":""},"","","","","",{"$f":"IFERROR((Data!K1077-$E$4),\"\")","v":""},{"$f":"IF(AND(F1077<>\"\",G1077<>\"\",H1077<>\"\",I1077<>\"\",J1077<>\"\"),Data!Q1077-$E$4,\"\")","v":""},"","","","",{"$f":"IF(F1077<>\"\",STDEV($Q$12:Q1077),\"\")","v":""},""]
[1067,null,{"$f":"RIGHT(Data!C1078,10)","v":""},null,null,null,null,null,null,null,{"$f":"IFERROR($U$3*Data!M1078/SQRT(COUNT(Data!F1078:J1078)),\"\")","v":""},"","","","","",{"$f":"IFERROR((Data!K1078-$E$4),\"\")","v":""},{"$f":"IF(AND(F1078<>\"\",G1078<>\"\",H1078<>\"\",I1078<>\"\",J1078<>\"\"),Data!Q1078-$E$4,\"\")","v":""},"","","","",{"$f":"IF(F1078<>\"\",STDEV($Q$12:Q1078),\"\")","v":""},""]
[1068,null,{"$f":"RIGHT(Data!C1079,10)","v":""},null,null,null,null,null,null,null,{"$f":"IFERROR($U$3*Data!M1079/SQRT(COUNT(Data!F1079:J1079)),\"\")","v":""},"","","","","",{"$f":"IFERROR((Data!K1079-$E$4),\"\")","v":""},{"$f":"IF(AND(F1079<>\"\",G1079<>\"\",H1079<>\"\",I1079<>\"\",J1079<>\"\"),Data!Q1079-$E$4,\"\")","v":""},"","","","",{"$f":"IF(F1079<>\"\",STDEV($Q$12:Q1079),\"\")","v":""},""]
[1069,null,{"$f":"RIGHT(Data!C1080,10)","v":""},null,null,null,null,null,null,null,{"$f":"IFERROR($U$3*Data!M1080/SQRT(COUNT(Data!F1080:J1080)),\"\")","v":""},"","","","","",{"$f":"IFERROR((Data!K1080-$E$4),\"\")","v":""},{"$f":"IF(AND(F1080<>\"\",G1080<>\"\",H1080<>\"\",I1080<>\"\",J1080<>\"\"),Data!Q1080-$E$4,\"\")","v":""},"","","","",{"$f":"IF(F1080<>\"\",STDEV($Q$12:Q1080),\"\")","v":""},""]
[1070,null,{"$f":"RIGHT(Data!C1081,10)","v":""},null,null,null,null,null,null,null,{"$f":"IFERROR($U$3*Data!M1081/SQRT(COUNT(Data!F1081:J1081)),\"\")","v":""},"","","","","",{"$f":"IFERROR((Data!K1081-$E$4),\"\")","v":""},{"$f":"IF(AND(F1081<>\"\",G1081<>\"\",H1081<>\"\",I1081<>\"\",J1081<>\"\"),Data!Q1081-$E$4,\"\")","v":""},"","","","",{"$f":"IF(F1081<>\"\",STDEV($Q$12:Q1081),\"\")","v":""},""]
[1071,null,{"$f":"RIGHT(Data!C1082,10)","v":""},null,null,null,null,null,null,null,{"$f":"IFERROR($U$3*Data!M1082/SQRT(COUNT(Data!F1082:J1082)),\"\")","v":""},"","","","","",{"$f":"IFERROR((Data!K1082-$E$4),\"\")","v":""},{"$f":"IF(AND(F1082<>\"\",G1082<>\"\",H1082<>\"\",I1082<>\"\",J1082<>\"\"),Data!Q1082-$E$4,\"\")","v":""},"","","","",{"$f":"IF(F1082<>\"\",STDEV($Q$12:Q1082),\"\")","v":""},""]
[1072,null,{"$f":"RIGHT(Data!C1083,10)","v":""},null,null,null,null,null,null,null,{"$f":"IFERROR($U$3*Data!M1083/SQRT(COUNT(Data!F1083:J1083)),\"\")","v":""},"","","","","",{"$f":"IFERROR((Data!K1083-$E$4),\"\")","v":""},{"$f":"IF(AND(F1083<>\"\",G1083<>\"\",H1083<>\"\",I1083<>\"\",J1083<>\"\"),Data!Q1083-$E$4,\"\")","v":""},"","","","",{"$f":"IF(F1083<>\"\",STDEV($Q$12:Q1083),\"\")","v":""},""]
[1073,null,{"$f":"RIGHT(Data!C1084,10)","v":""},null,null,null,null,null,null,null,{"$f":"IFERROR($U$3*Data!M1084/SQRT(COUNT(Data!F1084:J1084)),\"\")","v":""},"","","","","",{"$f":"IFERROR((Data!K1084-$E$4),\"\")","v":""},{"$f":"IF(AND(F1084<>\"\",G1084<>\"\",H1084<>\"\",I1084<>\"\",J1084<>\"\"),Data!Q1084-$E$4,\"\")","v":""},"","","","",{"$f":"IF(F1084<>\"\",STDEV($Q$12:Q1084),\"\")","v":""},""]
[1074,null,{"$f":"RIGHT(Data!C1085,10)","v":""},null,null,null,null,null,null,null,{"$f":"IFERROR($U$3*Data!M1085/SQRT(COUNT(Data!F1085:J1085)),\"\")","v":""},"","","","","",{"$f":"IFERROR((Data!K1085-$E$4),\"\")","v":""},{"$f":"IF(AND(F1085<>\"\",G1085<>\"\",H1085<>\"\",I1085<>\"\",J1085<>\"\"),Data!Q1085-$E$4,\"\")","v":""},"","","","",{"$f":"IF(F1085<>\"\",STDEV($Q$12:Q1085),\"\")","v":""},""]
[1075,null,{"$f":"RIGHT(Data!C1086,10)","v":""},null,null,null,null,null,null,null,{"$f":"IFERROR($U$3*Data!M1086/SQRT(COUNT(Data!F1086:J1086)),\"\")","v":""},"","","","","",{"$f":"IFERROR((Data!K1086-$E$4),\"\")","v":""},{"$f":"IF(AND(F1086<>\"\",G1086<>\"\",H1086<>\"\",I1086<>\"\",J1086<>\"\"),Data!Q1086-$E$4,\"\")","v":""},"","","","",{"$f":"IF(F1086<>\"\",STDEV($Q$12:Q1086),\"\")","v":""},""]
[1076,null,{"$f":"RIGHT(Data!C1087,10)","v":""},null,null,null,null,null,null,null,{"$f":"IFERROR($U$3*Data!M1087/SQRT(COUNT(Data!F1087:J1087)),\"\")","v":""},"","","","","",{"$f":"IFERROR((Data!K1087-$E$4),\"\")","v":""},{"$f":"IF(AND(F1087<>\"\",G1087<>\"\",H1087<>\"\",I1087<>\"\",J1087<>\"\"),Data!Q1087-$E$4,\"\")","v":""},"","","","",{"$f":"IF(F1087<>\"\",STDEV($Q$12:Q1087),\"\")","v":""},""]
[1077,null,{"$f":"RIGHT(Data!C1088,10)","v":""},null,null,null,null,null,null,null,{"$f":"IFERROR($U$3*Data!M1088/SQRT(COUNT(Data!F1088:J1088)),\"\")","v":""},"","","","","",{"$f":"IFERROR((Data!K1088-$E$4),\"\")","v":""},{"$f":"IF(AND(F1088<>\"\",G1088<>\"\",H1088<>\"\",I1088<>\"\",J1088<>\"\"),Data!Q1088-$E$4,\"\")","v":""},"","","","",{"$f":"IF(F1088<>\"\",STDEV($Q$12:Q1088),\"\")","v":""},""]
[1078,null,{"$f":"RIGHT(Data!C1089,10)","v":""},null,null,null,null,null,null,null,{"$f":"IFERROR($U$3*Data!M1089/SQRT(COUNT(Data!F1089:J1089)),\"\")","v":""},"","","","","",{"$f":"IFERROR((Data!K1089-$E$4),\"\")","v":""},{"$f":"IF(AND(F1089<>\"\",G1089<>\"\",H1089<>\"\",I1089<>\"\",J1089<>\"\"),Data!Q1089-$E$4,\"\")","v":""},"","","","",{"$f":"IF(F1089<>\"\",STDEV($Q$12:Q1089),\"\")","v":""},""]
[1079,null,{"$f":"RIGHT(Data!C1090,10)","v":""},null,null,null,null,null,null,null,{"$f":"IFERROR($U$3*Data!M1090/SQRT(COUNT(Data!F1090:J1090)),\"\")","v":""},"","","","","",{"$f":"IFERROR((Data!K1090-$E$4),\"\")","v":""},{"$f":"IF(AND(F1090<>\"\",G1090<>\"\",H1090<>\"\",I1090<>\"\",J1090<>\"\"),Data!Q1090-$E$4,\"\")","v":""},"","","","",{"$f":"IF(F1090<>\"\",STDEV($Q$12:Q1090),\"\")","v":""},""]
[1080,null,{"$f":"RIGHT(Data!C1091,10)","v":""},null,null,null,null,null,null,null,{"$f":"IFERROR($U$3*Data!M1091/SQRT(COUNT(Data!F1091:J1091)),\"\")","v":""},"","","","","",{"$f":"IFERROR((Data!K1091-$E$4),\"\")","v":""},{"$f":"IF(AND(F1091<>\"\",G1091<>\"\",H1091<>\"\",I1091<>\"\",J1091<>\"\"),Data!Q1091-$E$4,\"\")","v":""},"","","","",{"$f":"IF(F1091<>\"\",STDEV($Q$12:Q1091),\"\")","v":""},""]
[1081,null,{"$f":"RIGHT(Data!C1092,10)","v":""},null,null,null,null,null,null,null,{"$f":"IFERROR($U$3*Data!M1092/SQRT(COUNT(Data!F1092:J1092)),\"\")","v":""},"","","","","",{"$f":"IFERROR((Data!K1092-$E$4),\"\")","v":""},{"$f":"IF(AND(F1092<>\"\",G1092<>\"\",H1092<>\"\",I1092<>\"\",J1092<>\"\"),Data!Q1092-$E$4,\"\")","v":""},"","","","",{"$f":"IF(F1092<>\"\",STDEV($Q$12:Q1092),\"\")","v":""},""]
[1082,null,{"$f":"RIGHT(Data!C1093,10)","v":""},null,null,null,null,null,null,null,{"$f":"IFERROR($U$3*Data!M1093/SQRT(COUNT(Data!F1093:J1093)),\"\")","v":""},"","","","","",{"$f":"IFERROR((Data!K1093-$E$4),\"\")","v":""},{"$f":"IF(AND(F1093<>\"\",G1093<>\"\",H1093<>\"\",I1093<>\"\",J1093<>\"\"),Data!Q1093-$E$4,\"\")","v":""},"","","","",{"$f":"IF(F1093<>\"\",STDEV($Q$12:Q1093),\"\")","v":""},""]
[1083,null,{"$f":"RIGHT(Data!C1094,10)","v":""},null,null,null,null,null,null,null,{"$f":"IFERROR($U$3*Data!M1094/SQRT(COUNT(Data!F1094:J1094)),\"\")","v":""},"","","","","",{"$f":"IFERROR((Data!K1094-$E$4),\"\")","v":""},{"$f":"IF(AND(F1094<>\"\",G1094<>\"\",H1094<>\"\",I1094<>\"\",J1094<>\"\"),Data!Q1094-$E$4,\"\")","v":""},"","","","",{"$f":"IF(F1094<>\"\",STDEV($Q$12:Q1094),\"\")","v":""},""]
[1084,null,{"$f":"RIGHT(Data!C1095,10)","v":""},null,null,null,null,null,null,null,{"$f":"IFERROR($U$3*Data!M1095/SQRT(COUNT(Data!F1095:J1095)),\"\")","v":""},"","","","","",{"$f":"IFERROR((Data!K1095-$E$4),\"\")","v":""},{"$f":"IF(AND(F1095<>\"\",G1095<>\"\",H1095<>\"\",I1095<>\"\",J1095<>\"\"),Data!Q1095-$E$4,\"\")","v":""},"","","","",{"$f":"IF(F1095<>\"\",STDEV($Q$12:Q1095),\"\")","v":""},""]
[1085,null,{"$f":"RIGHT(Data!C1096,10)","v":""},null,null,null,null,null,null,null,{"$f":"IFERROR($U$3*Data!M1096/SQRT(COUNT(Data!F1096:J1096)),\"\")","v":""},"","","","","",{"$f":"IFERROR((Data!K1096-$E$4),\"\")","v":""},{"$f":"IF(AND(F1096<>\"\",G1096<>\"\",H1096<>\"\",I1096<>\"\",J1096<>\"\"),Data!Q1096-$E$4,\"\")","v":""},"","","","",{"$f":"IF(F1096<>\"\",STDEV($Q$12:Q1096),\"\")","v":""},""]
[1086,null,{"$f":"RIGHT(Data!C1097,10)","v":""},null,null,null,null,null,null,null,{"$f":"IFERROR($U$3*Data!M1097/SQRT(COUNT(Data!F1097:J1097)),\"\")","v":""},"","","","","",{"$f":"IFERROR((Data!K1097-$E$4),\"\")","v":""},{"$f":"IF(AND(F1097<>\"\",G1097<>\"\",H1097<>\"\",I1097<>\"\",J1097<>\"\"),Data!Q1097-$E$4,\"\")","v":""},"","","","",{"$f":"IF(F1097<>\"\",STDEV($Q$12:Q1097),\"\")","v":""},""]
[1087,null,{"$f":"RIGHT(Data!C1098,10)","v":""},null,null,null,null,null,null,null,{"$f":"IFERROR($U$3*Data!M1098/SQRT(COUNT(Data!F1098:J1098)),\"\")","v":""},"","","","","",{"$f":"IFERROR((Data!K1098-$E$4),\"\")","v":""},{"$f":"IF(AND(F1098<>\"\",G1098<>\"\",H1098<>\"\",I1098<>\"\",J1098<>\"\"),Data!Q1098-$E$4,\"\")","v":""},"","","","",{"$f":"IF(F1098<>\"\",STDEV($Q$12:Q1098),\"\")","v":""},""]
[1088,null,{"$f":"RIGHT(Data!C1099,10)","v":""},null,null,null,null,null,null,null,{"$f":"IFERROR($U$3*Data!M1099/SQRT(COUNT(Data!F1099:J1099)),\"\")","v":""},"","","","","",{"$f":"IFERROR((Data!K1099-$E$4),\"\")","v":""},{"$f":"IF(AND(F1099<>\"\",G1099<>\"\",H1099<>\"\",I1099<>\"\",J1099<>\"\"),Data!Q1099-$E$4,\"\")","v":""},"","","","",{"$f":"IF(F1099<>\"\",STDEV($Q$12:Q1099),\"\")","v":""},""]
[1089,null,{"$f":"RIGHT(Data!C1100,10)","v":""},null,null,null,null,null,null,null,{"$f":"IFERROR($U$3*Data!M1100/SQRT(COUNT(Data!F1100:J1100)),\"\")","v":""},"","",{"$f":"IF(COUNT(F1100:J1100)>=5,STDEV(F1100:J1100)*$U$3/SQRT((COUNT(F1100:J1100))),\"\")","v":""},{"$f":"IFERROR($U$4*SQRT($U$7^2+L1100^2+K1100^2+$U$5^2+N1100^2),\"\")","v":""},"",{"$f":"IFERROR((Data!K1100-$E$4),\"\")","v":""},{"$f":"IF(AND(F1100<>\"\",G1100<>\"\",H1100<>\"\",I1100<>\"\",J1100<>\"\"),Data!Q1100-$E$4,\"\")","v":""},{"$f":"IF(O1100<>\"\",FIXED(X1100,1) & \" ± \" & FIXED(O1100+ABS(R1100),2),\"\")","v":""},"","","",{"$f":"IF(F1100<>\"\",STDEV($Q$12:Q1100),\"\")","v":""},{"$f":"IF(F1100<>\"\",AVERAGE(F1100:J1100),\"\")","v":""}]
[1090,null,{"$f":"RIGHT(Data!C1101,10)","v":""},null,null,null,null,null,null,null,{"$f":"IFERROR($U$3*Data!M1101/SQRT(COUNT(Data!F1101:J1101)),\"\")","v":""},{"$f":"IF(F1101<>\"\",V1101*W1101/SQRT(A1101),\"\")","v":""},{"$f":"IF(F1101<>\"\",$U$4*SQRT($U$7^2+L1101^2+K1101^2+$U$5^2),\"\")","v":""},"","",{"$f":"IF(AND(F1101<>\"\",G1101<>\"\",H1101<>\"\",I1101<>\"\",J1101<>\"\"),AVERAGE(F1101:J1101),\"\")","v":""},{"$f":"IFERROR((Data!K1101-$E$4),\"\")","v":""},{"$f":"IF(AND(F1101<>\"\",G1101<>\"\",H1101<>\"\",I1101<>\"\",J1101<>\"\"),Data!Q1101-$E$4,\"\")","v":""},"",{"$f":"IF(F1101<>\"\",FIXED(AVERAGE(F1101:J1101)-R1101,1) & \" ± \" & FIXED(O1101,2),\"\")","v":""},{"$f":"IF(IO1101=\"\",\"\",IO1101-1)","v":""},{"$f":"IF(F1101<>\"\",TINV(1-0.68,A1101-1),\"\")","v":""},{"$f":"IF(F1101<>\"\",STDEV($Q$12:Q1101),\"\")","v":""},""]
[1091,null,{"$f":"RIGHT(Data!C1102,10)","v":""},null,null,null,null,null,null,null,{"$f":"IFERROR($U$3*Data!M1102/SQRT(COUNT(Data!F1102:J1102)),\"\")","v":""},"","","","","",{"$f":"IFERROR((Data!K1102-$E$4),\"\")","v":""},{"$f":"IF(AND(F1102<>\"\",G1102<>\"\",H1102<>\"\",I1102<>\"\",J1102<>\"\"),Data!Q1102-$E$4,\"\")","v":""},"","","","",{"$f":"IF(F1102<>\"\",STDEV($Q$12:Q1102),\"\")","v":""},""]
[1092,null,{"$f":"RIGHT(Data!C1103,10)","v":""},null,null,null,null,null,null,null,{"$f":"IFERROR($U$3*Data!M1103/SQRT(COUNT(Data!F1103:J1103)),\"\")","v":""},"","","","","",{"$f":"IFERROR((Data!K1103-$E$4),\"\")","v":""},{"$f":"IF(AND(F1103<>\"\",G1103<>\"\",H1103<>\"\",I1103<>\"\",J1103<>\"\"),Data!Q1103-$E$4,\"\")","v":""},"","","","",{"$f":"IF(F1103<>\"\",STDEV($Q$12:Q1103),\"\")","v":""},""]
[1093,null,{"$f":"RIGHT(Data!C1104,10)","v":""},null,null,null,null,null,null,null,{"$f":"IFERROR($U$3*Data!M1104/SQRT(COUNT(Data!F1104:J1104)),\"\")","v":""},"","","","","",{"$f":"IFERROR((Data!K1104-$E$4),\"\")","v":""},{"$f":"IF(AND(F1104<>\"\",G1104<>\"\",H1104<>\"\",I1104<>\"\",J1104<>\"\"),Data!Q1104-$E$4,\"\")","v":""},"","","","",{"$f":"IF(F1104<>\"\",STDEV($Q$12:Q1104),\"\")","v":""},""]
[1094,null,{"$f":"RIGHT(Data!C1105,10)","v":""},null,null,null,null,null,null,null,{"$f":"IFERROR($U$3*Data!M1105/SQRT(COUNT(Data!F1105:J1105)),\"\")","v":""},"","","","","",{"$f":"IFERROR((Data!K1105-$E$4),\"\")","v":""},{"$f":"IF(AND(F1105<>\"\",G1105<>\"\",H1105<>\"\",I1105<>\"\",J1105<>\"\"),Data!Q1105-$E$4,\"\")","v":""},"","","","",{"$f":"IF(F1105<>\"\",STDEV($Q$12:Q1105),\"\")","v":""},""]
[1095,null,{"$f":"RIGHT(Data!C1106,10)","v":""},null,null,null,null,null,null,null,{"$f":"IFERROR($U$3*Data!M1106/SQRT(COUNT(Data!F1106:J1106)),\"\")","v":""},"","","","","",{"$f":"IFERROR((Data!K1106-$E$4),\"\")","v":""},{"$f":"IF(AND(F1106<>\"\",G1106<>\"\",H1106<>\"\",I1106<>\"\",J1106<>\"\"),Data!Q1106-$E$4,\"\")","v":""},"","","","",{"$f":"IF(F1106<>\"\",STDEV($Q$12:Q1106),\"\")","v":""},""]
[1096,null,{"$f":"RIGHT(Data!C1107,10)","v":""},null,null,null,null,null,null,null,{"$f":"IFERROR($U$3*Data!M1107/SQRT(COUNT(Data!F1107:J1107)),\"\")","v":""},"","","","","",{"$f":"IFERROR((Data!K1107-$E$4),\"\")","v":""},{"$f":"IF(AND(F1107<>\"\",G1107<>\"\",H1107<>\"\",I1107<>\"\",J1107<>\"\"),Data!Q1107-$E$4,\"\")","v":""},"","","","",{"$f":"IF(F1107<>\"\",STDEV($Q$12:Q1107),\"\")","v":""},""]
[1097,null,{"$f":"RIGHT(Data!C1108,10)","v":""},null,null,null,null,null,null,null,{"$f":"IFERROR($U$3*Data!M1108/SQRT(COUNT(Data!F1108:J1108)),\"\")","v":""},"","","","","",{"$f":"IFERROR((Data!K1108-$E$4),\"\")","v":""},{"$f":"IF(AND(F1108<>\"\",G1108<>\"\",H1108<>\"\",I1108<>\"\",J1108<>\"\"),Data!Q1108-$E$4,\"\")","v":""},"","","","",{"$f":"IF(F1108<>\"\",STDEV($Q$12:Q1108),\"\")","v":""},""]
[1098,null,{"$f":"RIGHT(Data!C1109,10)","v":""},null,null,null,null,null,null,null,{"$f":"IFERROR($U$3*Data!M1109/SQRT(COUNT(Data!F1109:J1109)),\"\")","v":""},"","","","","",{"$f":"IFERROR((Data!K1109-$E$4),\"\")","v":""},{"$f":"IF(AND(F1109<>\"\",G1109<>\"\",H1109<>\"\",I1109<>\"\",J1109<>\"\"),Data!Q1109-$E$4,\"\")","v":""},"","","","",{"$f":"IF(F1109<>\"\",STDEV($Q$12:Q1109),\"\")","v":""},""]
[1099,null,{"$f":"RIGHT(Data!C1110,10)","v":""},null,null,null,null,null,null,null,{"$f":"IFERROR($U$3*Data!M1110/SQRT(COUNT(Data!F1110:J1110)),\"\")","v":""},"","","","","",{"$f":"IFERROR((Data!K1110-$E$4),\"\")","v":""},{"$f":"IF(AND(F1110<>\"\",G1110<>\"\",H1110<>\"\",I1110<>\"\",J1110<>\"\"),Data!Q1110-$E$4,\"\")","v":""},"","","","",{"$f":"IF(F1110<>\"\",STDEV($Q$12:Q1110),\"\")","v":""},""]
[1100,null,{"$f":"RIGHT(Data!C1111,10)","v":""},null,null,null,null,null,null,null,{"$f":"IFERROR($U$3*Data!M1111/SQRT(COUNT(Data!F1111:J1111)),\"\")","v":""},"","","","","",{"$f":"IFERROR((Data!K1111-$E$4),\"\")","v":""},{"$f":"IF(AND(F1111<>\"\",G1111<>\"\",H1111<>\"\",I1111<>\"\",J1111<>\"\"),Data!Q1111-$E$4,\"\")","v":""},"","","","",{"$f":"IF(F1111<>\"\",STDEV($Q$12:Q1111),\"\")","v":""},""]
[1101,null,{"$f":"RIGHT(Data!C1112,10)","v":""},null,null,null,null,null,null,null,{"$f":"IFERROR($U$3*Data!M1112/SQRT(COUNT(Data!F1112:J1112)),\"\")","v":""},"","","","","",{"$f":"IFERROR((Data!K1112-$E$4),\"\")","v":""},{"$f":"IF(AND(F1112<>\"\",G1112<>\"\",H1112<>\"\",I1112<>\"\",J1112<>\"\"),Data!Q1112-$E$4,\"\")","v":""},"","","","",{"$f":"IF(F1112<>\"\",STDEV($Q$12:Q1112),\"\")","v":""},""]
[1102,null,{"$f":"RIGHT(Data!C1113,10)","v":""},null,null,null,null,null,null,null,{"$f":"IFERROR($U$3*Data!M1113/SQRT(COUNT(Data!F1113:J1113)),\"\")","v":""},"","","","","",{"$f":"IFERROR((Data!K1113-$E$4),\"\")","v":""},{"$f":"IF(AND(F1113<>\"\",G1113<>\"\",H1113<>\"\",I1113<>\"\",J1113<>\"\"),Data!Q1113-$E$4,\"\")","v":""},"","","","",{"$f":"IF(F1113<>\"\",STDEV($Q$12:Q1113),\"\")","v":""},""]
[1103,null,{"$f":"RIGHT(Data!C1114,10)","v":""},null,null,null,null,null,null,null,{"$f":"IFERROR($U$3*Data!M1114/SQRT(COUNT(Data!F1114:J1114)),\"\")","v":""},"","","","","",{"$f":"IFERROR((Data!K1114-$E$4),\"\")","v":""},{"$f":"IF(AND(F1114<>\"\",G1114<>\"\",H1114<>\"\",I1114<>\"\",J1114<>\"\"),Data!Q1114-$E$4,\"\")","v":""},"","","","",{"$f":"IF(F1114<>\"\",STDEV($Q$12:Q1114),\"\")","v":""},""]
[1104,null,{"$f":"RIGHT(Data!C1115,10)","v":""},null,null,null,null,null,null,null,{"$f":"IFERROR($U$3*Data!M1115/SQRT(COUNT(Data!F1115:J1115)),\"\")","v":""},"","","","","",{"$f":"IFERROR((Data!K1115-$E$4),\"\")","v":""},{"$f":"IF(AND(F1115<>\"\",G1115<>\"\",H1115<>\"\",I1115<>\"\",J1115<>\"\"),Data!Q1115-$E$4,\"\")","v":""},"","","","",{"$f":"IF(F1115<>\"\",STDEV($Q$12:Q1115),\"\")","v":""},""]
[1105,null,{"$f":"RIGHT(Data!C1116,10)","v":""},null,null,null,null,null,null,null,{"$f":"IFERROR($U$3*Data!M1116/SQRT(COUNT(Data!F1116:J1116)),\"\")","v":""},"","","","","",{"$f":"IFERROR((Data!K1116-$E$4),\"\")","v":""},{"$f":"IF(AND(F1116<>\"\",G1116<>\"\",H1116<>\"\",I1116<>\"\",J1116<>\"\"),Data!Q1116-$E$4,\"\")","v":""},"","","","",{"$f":"IF(F1116<>\"\",STDEV($Q$12:Q1116),\"\")","v":""},""]
[1106,null,{"$f":"RIGHT(Data!C1117,10)","v":""},null,null,null,null,null,null,null,{"$f":"IFERROR($U$3*Data!M1117/SQRT(COUNT(Data!F1117:J1117)),\"\")","v":""},"","","","","",{"$f":"IFERROR((Data!K1117-$E$4),\"\")","v":""},{"$f":"IF(AND(F1117<>\"\",G1117<>\"\",H1117<>\"\",I1117<>\"\",J1117<>\"\"),Data!Q1117-$E$4,\"\")","v":""},"","","","",{"$f":"IF(F1117<>\"\",STDEV($Q$12:Q1117),\"\")","v":""},""]
[1107,null,{"$f":"RIGHT(Data!C1118,10)","v":""},null,null,null,null,null,null,null,{"$f":"IFERROR($U$3*Data!M1118/SQRT(COUNT(Data!F1118:J1118)),\"\")","v":""},"","","","","",{"$f":"IFERROR((Data!K1118-$E$4),\"\")","v":""},{"$f":"IF(AND(F1118<>\"\",G1118<>\"\",H1118<>\"\",I1118<>\"\",J1118<>\"\"),Data!Q1118-$E$4,\"\")","v":""},"","","","",{"$f":"IF(F1118<>\"\",STDEV($Q$12:Q1118),\"\")","v":""},""]
[1108,null,{"$f":"RIGHT(Data!C1119,10)","v":""},null,null,null,null,null,null,null,{"$f":"IFERROR($U$3*Data!M1119/SQRT(COUNT(Data!F1119:J1119)),\"\")","v":""},"","","","","",{"$f":"IFERROR((Data!K1119-$E$4),\"\")","v":""},{"$f":"IF(AND(F1119<>\"\",G1119<>\"\",H1119<>\"\",I1119<>\"\",J1119<>\"\"),Data!Q1119-$E$4,\"\")","v":""},"","","","",{"$f":"IF(F1119<>\"\",STDEV($Q$12:Q1119),\"\")","v":""},""]
[1109,null,{"$f":"RIGHT(Data!C1120,10)","v":""},null,null,null,null,null,null,null,{"$f":"IFERROR($U$3*Data!M1120/SQRT(COUNT(Data!F1120:J1120)),\"\")","v":""},"","","","","",{"$f":"IFERROR((Data!K1120-$E$4),\"\")","v":""},{"$f":"IF(AND(F1120<>\"\",G1120<>\"\",H1120<>\"\",I1120<>\"\",J1120<>\"\"),Data!Q1120-$E$4,\"\")","v":""},"","","","",{"$f":"IF(F1120<>\"\",STDEV($Q$12:Q1120),\"\")","v":""},""]
[1110,null,{"$f":"RIGHT(Data!C1121,10)","v":""},null,null,null,null,null,null,null,{"$f":"IFERROR($U$3*Data!M1121/SQRT(COUNT(Data!F1121:J1121)),\"\")","v":""},"","","","","",{"$f":"IFERROR((Data!K1121-$E$4),\"\")","v":""},{"$f":"IF(AND(F1121<>\"\",G1121<>\"\",H1121<>\"\",I1121<>\"\",J1121<>\"\"),Data!Q1121-$E$4,\"\")","v":""},"","","","",{"$f":"IF(F1121<>\"\",STDEV($Q$12:Q1121),\"\")","v":""},""]
[1111,null,{"$f":"RIGHT(Data!C1122,10)","v":""},null,null,null,null,null,null,null,{"$f":"IFERROR($U$3*Data!M1122/SQRT(COUNT(Data!F1122:J1122)),\"\")","v":""},"","","","","",{"$f":"IFERROR((Data!K1122-$E$4),\"\")","v":""},{"$f":"IF(AND(F1122<>\"\",G1122<>\"\",H1122<>\"\",I1122<>\"\",J1122<>\"\"),Data!Q1122-$E$4,\"\")","v":""},"","","","",{"$f":"IF(F1122<>\"\",STDEV($Q$12:Q1122),\"\")","v":""},""]
[1112,null,{"$f":"RIGHT(Data!C1123,10)","v":""},null,null,null,null,null,null,null,{"$f":"IFERROR($U$3*Data!M1123/SQRT(COUNT(Data!F1123:J1123)),\"\")","v":""},"","","","","",{"$f":"IFERROR((Data!K1123-$E$4),\"\")","v":""},{"$f":"IF(AND(F1123<>\"\",G1123<>\"\",H1123<>\"\",I1123<>\"\",J1123<>\"\"),Data!Q1123-$E$4,\"\")","v":""},"","","","",{"$f":"IF(F1123<>\"\",STDEV($Q$12:Q1123),\"\")","v":""},""]
[1113,null,{"$f":"RIGHT(Data!C1124,10)","v":""},null,null,null,null,null,null,null,{"$f":"IFERROR($U$3*Data!M1124/SQRT(COUNT(Data!F1124:J1124)),\"\")","v":""},"","","","","",{"$f":"IFERROR((Data!K1124-$E$4),\"\")","v":""},{"$f":"IF(AND(F1124<>\"\",G1124<>\"\",H1124<>\"\",I1124<>\"\",J1124<>\"\"),Data!Q1124-$E$4,\"\")","v":""},"","","","",{"$f":"IF(F1124<>\"\",STDEV($Q$12:Q1124),\"\")","v":""},""]
[1114,null,{"$f":"RIGHT(Data!C1125,10)","v":""},null,null,null,null,null,null,null,{"$f":"IFERROR($U$3*Data!M1125/SQRT(COUNT(Data!F1125:J1125)),\"\")","v":""},"","","","","",{"$f":"IFERROR((Data!K1125-$E$4),\"\")","v":""},{"$f":"IF(AND(F1125<>\"\",G1125<>\"\",H1125<>\"\",I1125<>\"\",J1125<>\"\"),Data!Q1125-$E$4,\"\")","v":""},"","","","",{"$f":"IF(F1125<>\"\",STDEV($Q$12:Q1125),\"\")","v":""},""]
[1115,null,{"$f":"RIGHT(Data!C1126,10)","v":""},null,null,null,null,null,null,null,{"$f":"IFERROR($U$3*Data!M1126/SQRT(COUNT(Data!F1126:J1126)),\"\")","v":""},"","","","","",{"$f":"IFERROR((Data!K1126-$E$4),\"\")","v":""},{"$f":"IF(AND(F1126<>\"\",G1126<>\"\",H1126<>\"\",I1126<>\"\",J1126<>\"\"),Data!Q1126-$E$4,\"\")","v":""},"","","","",{"$f":"IF(F1126<>\"\",STDEV($Q$12:Q1126),\"\")","v":""},""]
[1116,null,{"$f":"RIGHT(Data!C1127,10)","v":""},null,null,null,null,null,null,null,{"$f":"IFERROR($U$3*Data!M1127/SQRT(COUNT(Data!F1127:J1127)),\"\")","v":""},"","","","","",{"$f":"IFERROR((Data!K1127-$E$4),\"\")","v":""},{"$f":"IF(AND(F1127<>\"\",G1127<>\"\",H1127<>\"\",I1127<>\"\",J1127<>\"\"),Data!Q1127-$E$4,\"\")","v":""},"","","","",{"$f":"IF(F1127<>\"\",STDEV($Q$12:Q1127),\"\")","v":""},""]
[1117,null,{"$f":"RIGHT(Data!C1128,10)","v":""},null,null,null,null,null,null,null,{"$f":"IFERROR($U$3*Data!M1128/SQRT(COUNT(Data!F1128:J1128)),\"\")","v":""},"","","","","",{"$f":"IFERROR((Data!K1128-$E$4),\"\")","v":""},{"$f":"IF(AND(F1128<>\"\",G1128<>\"\",H1128<>\"\",I1128<>\"\",J1128<>\"\"),Data!Q1128-$E$4,\"\")","v":""},"","","","",{"$f":"IF(F1128<>\"\",STDEV($Q$12:Q1128),\"\")","v":""},""]
[1118,null,{"$f":"RIGHT(Data!C1129,10)","v":""},null,null,null,null,null,null,null,{"$f":"IFERROR($U$3*Data!M1129/SQRT(COUNT(Data!F1129:J1129)),\"\")","v":""},"","","","","",{"$f":"IFERROR((Data!K1129-$E$4),\"\")","v":""},{"$f":"IF(AND(F1129<>\"\",G1129<>\"\",H1129<>\"\",I1129<>\"\",J1129<>\"\"),Data!Q1129-$E$4,\"\")","v":""},"","","","",{"$f":"IF(F1129<>\"\",STDEV($Q$12:Q1129),\"\")","v":""},""]
[1119,null,{"$f":"RIGHT(Data!C1130,10)","v":""},null,null,null,null,null,null,null,{"$f":"IFERROR($U$3*Data!M1130/SQRT(COUNT(Data!F1130:J1130)),\"\")","v":""},"","","","","",{"$f":"IFERROR((Data!K1130-$E$4),\"\")","v":""},{"$f":"IF(AND(F1130<>\"\",G1130<>\"\",H1130<>\"\",I1130<>\"\",J1130<>\"\"),Data!Q1130-$E$4,\"\")","v":""},"","","","",{"$f":"IF(F1130<>\"\",STDEV($Q$12:Q1130),\"\")","v":""},""]
[1120,null,{"$f":"RIGHT(Data!C1131,10)","v":""},null,null,null,null,null,null,null,{"$f":"IFERROR($U$3*Data!M1131/SQRT(COUNT(Data!F1131:J1131)),\"\")","v":""},"","","","","",{"$f":"IFERROR((Data!K1131-$E$4),\"\")","v":""},{"$f":"IF(AND(F1131<>\"\",G1131<>\"\",H1131<>\"\",I1131<>\"\",J1131<>\"\"),Data!Q1131-$E$4,\"\")","v":""},"","","","",{"$f":"IF(F1131<>\"\",STDEV($Q$12:Q1131),\"\")","v":""},""]
[1121,null,{"$f":"RIGHT(Data!C1132,10)","v":""},null,null,null,null,null,null,null,{"$f":"IFERROR($U$3*Data!M1132/SQRT(COUNT(Data!F1132:J1132)),\"\")","v":""},"","","","","",{"$f":"IFERROR((Data!K1132-$E$4),\"\")","v":""},{"$f":"IF(AND(F1132<>\"\",G1132<>\"\",H1132<>\"\",I1132<>\"\",J1132<>\"\"),Data!Q1132-$E$4,\"\")","v":""},"","","","",{"$f":"IF(F1132<>\"\",STDEV($Q$12:Q1132),\"\")","v":""},""]
[1122,null,{"$f":"RIGHT(Data!C1133,10)","v":""},null,null,null,null,null,null,null,{"$f":"IFERROR($U$3*Data!M1133/SQRT(COUNT(Data!F1133:J1133)),\"\")","v":""},"","","","","",{"$f":"IFERROR((Data!K1133-$E$4),\"\")","v":""},{"$f":"IF(AND(F1133<>\"\",G1133<>\"\",H1133<>\"\",I1133<>\"\",J1133<>\"\"),Data!Q1133-$E$4,\"\")","v":""},"","","","",{"$f":"IF(F1133<>\"\",STDEV($Q$12:Q1133),\"\")","v":""},""]
[1123,null,{"$f":"RIGHT(Data!C1134,10)","v":""},null,null,null,null,null,null,null,{"$f":"IFERROR($U$3*Data!M1134/SQRT(COUNT(Data!F1134:J1134)),\"\")","v":""},"","","","","",{"$f":"IFERROR((Data!K1134-$E$4),\"\")","v":""},{"$f":"IF(AND(F1134<>\"\",G1134<>\"\",H1134<>\"\",I1134<>\"\",J1134<>\"\"),Data!Q1134-$E$4,\"\")","v":""},"","","","",{"$f":"IF(F1134<>\"\",STDEV($Q$12:Q1134),\"\")","v":""},""]
[1124,null,{"$f":"RIGHT(Data!C1135,10)","v":""},null,null,null,null,null,null,null,{"$f":"IFERROR($U$3*Data!M1135/SQRT(COUNT(Data!F1135:J1135)),\"\")","v":""},"","","","","",{"$f":"IFERROR((Data!K1135-$E$4),\"\")","v":""},{"$f":"IF(AND(F1135<>\"\",G1135<>\"\",H1135<>\"\",I1135<>\"\",J1135<>\"\"),Data!Q1135-$E$4,\"\")","v":""},"","","","",{"$f":"IF(F1135<>\"\",STDEV($Q$12:Q1135),\"\")","v":""},""]
[1125,null,{"$f":"RIGHT(Data!C1136,10)","v":""},null,null,null,null,null,null,null,{"$f":"IFERROR($U$3*Data!M1136/SQRT(COUNT(Data!F1136:J1136)),\"\")","v":""},"","","","","",{"$f":"IFERROR((Data!K1136-$E$4),\"\")","v":""},{"$f":"IF(AND(F1136<>\"\",G1136<>\"\",H1136<>\"\",I1136<>\"\",J1136<>\"\"),Data!Q1136-$E$4,\"\")","v":""},"","","","",{"$f":"IF(F1136<>\"\",STDEV($Q$12:Q1136),\"\")","v":""},""]
[1126,null,{"$f":"RIGHT(Data!C1137,10)","v":""},null,null,null,null,null,null,null,{"$f":"IFERROR($U$3*Data!M1137/SQRT(COUNT(Data!F1137:J1137)),\"\")","v":""},"","","","","",{"$f":"IFERROR((Data!K1137-$E$4),\"\")","v":""},{"$f":"IF(AND(F1137<>\"\",G1137<>\"\",H1137<>\"\",I1137<>\"\",J1137<>\"\"),Data!Q1137-$E$4,\"\")","v":""},"","","","",{"$f":"IF(F1137<>\"\",STDEV($Q$12:Q1137),\"\")","v":""},""]
[1127,null,{"$f":"RIGHT(Data!C1138,10)","v":""},null,null,null,null,null,null,null,{"$f":"IFERROR($U$3*Data!M1138/SQRT(COUNT(Data!F1138:J1138)),\"\")","v":""},"","","","","",{"$f":"IFERROR((Data!K1138-$E$4),\"\")","v":""},{"$f":"IF(AND(F1138<>\"\",G1138<>\"\",H1138<>\"\",I1138<>\"\",J1138<>\"\"),Data!Q1138-$E$4,\"\")","v":""},"","","","",{"$f":"IF(F1138<>\"\",STDEV($Q$12:Q1138),\"\")","v":""},""]
[1128,null,{"$f":"RIGHT(Data!C1139,10)","v":""},null,null,null,null,null,null,null,{"$f":"IFERROR($U$3*Data!M1139/SQRT(COUNT(Data!F1139:J1139)),\"\")","v":""},"","","","","",{"$f":"IFERROR((Data!K1139-$E$4),\"\")","v":""},{"$f":"IF(AND(F1139<>\"\",G1139<>\"\",H1139<>\"\",I1139<>\"\",J1139<>\"\"),Data!Q1139-$E$4,\"\")","v":""},"","","","",{"$f":"IF(F1139<>\"\",STDEV($Q$12:Q1139),\"\")","v":""},""]
[1129,null,{"$f":"RIGHT(Data!C1140,10)","v":""},null,null,null,null,null,null,null,{"$f":"IFERROR($U$3*Data!M1140/SQRT(COUNT(Data!F1140:J1140)),\"\")","v":""},"","","","","",{"$f":"IFERROR((Data!K1140-$E$4),\"\")","v":""},{"$f":"IF(AND(F1140<>\"\",G1140<>\"\",H1140<>\"\",I1140<>\"\",J1140<>\"\"),Data!Q1140-$E$4,\"\")","v":""},"","","","",{"$f":"IF(F1140<>\"\",STDEV($Q$12:Q1140),\"\")","v":""},""]
[1130,null,{"$f":"RIGHT(Data!C1141,10)","v":""},null,null,null,null,null,null,null,{"$f":"IFERROR($U$3*Data!M1141/SQRT(COUNT(Data!F1141:J1141)),\"\")","v":""},"","","","","",{"$f":"IFERROR((Data!K1141-$E$4),\"\")","v":""},{"$f":"IF(AND(F1141<>\"\",G1141<>\"\",H1141<>\"\",I1141<>\"\",J1141<>\"\"),Data!Q1141-$E$4,\"\")","v":""},"","","","",{"$f":"IF(F1141<>\"\",STDEV($Q$12:Q1141),\"\")","v":""},""]
[1131,null,{"$f":"RIGHT(Data!C1142,10)","v":""},null,null,null,null,null,null,null,{"$f":"IFERROR($U$3*Data!M1142/SQRT(COUNT(Data!F1142:J1142)),\"\")","v":""},"","","","","",{"$f":"IFERROR((Data!K1142-$E$4),\"\")","v":""},{"$f":"IF(AND(F1142<>\"\",G1142<>\"\",H1142<>\"\",I1142<>\"\",J1142<>\"\"),Data!Q1142-$E$4,\"\")","v":""},"","","","",{"$f":"IF(F1142<>\"\",STDEV($Q$12:Q1142),\"\")","v":""},""]
[1132,null,{"$f":"RIGHT(Data!C1143,10)","v":""},null,null,null,null,null,null,null,{"$f":"IFERROR($U$3*Data!M1143/SQRT(COUNT(Data!F1143:J1143)),\"\")","v":""},"","","","","",{"$f":"IFERROR((Data!K1143-$E$4),\"\")","v":""},{"$f":"IF(AND(F1143<>\"\",G1143<>\"\",H1143<>\"\",I1143<>\"\",J1143<>\"\"),Data!Q1143-$E$4,\"\")","v":""},"","","","",{"$f":"IF(F1143<>\"\",STDEV($Q$12:Q1143),\"\")","v":""},""]
[1133,null,{"$f":"RIGHT(Data!C1144,10)","v":""},null,null,null,null,null,null,null,{"$f":"IFERROR($U$3*Data!M1144/SQRT(COUNT(Data!F1144:J1144)),\"\")","v":""},"","","","","",{"$f":"IFERROR((Data!K1144-$E$4),\"\")","v":""},{"$f":"IF(AND(F1144<>\"\",G1144<>\"\",H1144<>\"\",I1144<>\"\",J1144<>\"\"),Data!Q1144-$E$4,\"\")","v":""},"","","","",{"$f":"IF(F1144<>\"\",STDEV($Q$12:Q1144),\"\")","v":""},""]
[1134,null,{"$f":"RIGHT(Data!C1145,10)","v":""},null,null,null,null,null,null,null,{"$f":"IFERROR($U$3*Data!M1145/SQRT(COUNT(Data!F1145:J1145)),\"\")","v":""},"","","","","",{"$f":"IFERROR((Data!K1145-$E$4),\"\")","v":""},{"$f":"IF(AND(F1145<>\"\",G1145<>\"\",H1145<>\"\",I1145<>\"\",J1145<>\"\"),Data!Q1145-$E$4,\"\")","v":""},"","","","",{"$f":"IF(F1145<>\"\",STDEV($Q$12:Q1145),\"\")","v":""},""]
[1135,null,{"$f":"RIGHT(Data!C1146,10)","v":""},null,null,null,null,null,null,null,{"$f":"IFERROR($U$3*Data!M1146/SQRT(COUNT(Data!F1146:J1146)),\"\")","v":""},"","","","","",{"$f":"IFERROR((Data!K1146-$E$4),\"\")","v":""},{"$f":"IF(AND(F1146<>\"\",G1146<>\"\",H1146<>\"\",I1146<>\"\",J1146<>\"\"),Data!Q1146-$E$4,\"\")","v":""},"","","","",{"$f":"IF(F1146<>\"\",STDEV($Q$12:Q1146),\"\")","v":""},""]
[1136,null,{"$f":"RIGHT(Data!C1147,10)","v":""},null,null,null,null,null,null,null,{"$f":"IFERROR($U$3*Data!M1147/SQRT(COUNT(Data!F1147:J1147)),\"\")","v":""},"","","","","",{"$f":"IFERROR((Data!K1147-$E$4),\"\")","v":""},{"$f":"IF(AND(F1147<>\"\",G1147<>\"\",H1147<>\"\",I1147<>\"\",J1147<>\"\"),Data!Q1147-$E$4,\"\")","v":""},"","","","",{"$f":"IF(F1147<>\"\",STDEV($Q$12:Q1147),\"\")","v":""},""]
[1137,null,{"$f":"RIGHT(Data!C1148,10)","v":""},null,null,null,null,null,null,null,{"$f":"IFERROR($U$3*Data!M1148/SQRT(COUNT(Data!F1148:J1148)),\"\")","v":""},"","","","","",{"$f":"IFERROR((Data!K1148-$E$4),\"\")","v":""},{"$f":"IF(AND(F1148<>\"\",G1148<>\"\",H1148<>\"\",I1148<>\"\",J1148<>\"\"),Data!Q1148-$E$4,\"\")","v":""},"","","","",{"$f":"IF(F1148<>\"\",STDEV($Q$12:Q1148),\"\")","v":""},""]
[1138,null,{"$f":"RIGHT(Data!C1149,10)","v":""},null,null,null,null,null,null,null,{"$f":"IFERROR($U$3*Data!M1149/SQRT(COUNT(Data!F1149:J1149)),\"\")","v":""},"","","","","",{"$f":"IFERROR((Data!K1149-$E$4),\"\")","v":""},{"$f":"IF(AND(F1149<>\"\",G1149<>\"\",H1149<>\"\",I1149<>\"\",J1149<>\"\"),Data!Q1149-$E$4,\"\")","v":""},"","","","",{"$f":"IF(F1149<>\"\",STDEV($Q$12:Q1149),\"\")","v":""},""]
[1139,null,{"$f":"RIGHT(Data!C1150,10)","v":""},null,null,null,null,null,null,null,{"$f":"IFERROR($U$3*Data!M1150/SQRT(COUNT(Data!F1150:J1150)),\"\")","v":""},"","","","","",{"$f":"IFERROR((Data!K1150-$E$4),\"\")","v":""},{"$f":"IF(AND(F1150<>\"\",G1150<>\"\",H1150<>\"\",I1150<>\"\",J1150<>\"\"),Data!Q1150-$E$4,\"\")","v":""},"","","","",{"$f":"IF(F1150<>\"\",STDEV($Q$12:Q1150),\"\")","v":""},""]
[1140,null,{"$f":"RIGHT(Data!C1151,10)","v":""},null,null,null,null,null,null,null,{"$f":"IFERROR($U$3*Data!M1151/SQRT(COUNT(Data!F1151:J1151)),\"\")","v":""},"","","","","",{"$f":"IFERROR((Data!K1151-$E$4),\"\")","v":""},{"$f":"IF(AND(F1151<>\"\",G1151<>\"\",H1151<>\"\",I1151<>\"\",J1151<>\"\"),Data!Q1151-$E$4,\"\")","v":""},"","","","",{"$f":"IF(F1151<>\"\",STDEV($Q$12:Q1151),\"\")","v":""},""]
[1141,null,{"$f":"RIGHT(Data!C1152,10)","v":""},null,null,null,null,null,null,null,{"$f":"IFERROR($U$3*Data!M1152/SQRT(COUNT(Data!F1152:J1152)),\"\")","v":""},"","","","","",{"$f":"IFERROR((Data!K1152-$E$4),\"\")","v":""},{"$f":"IF(AND(F1152<>\"\",G1152<>\"\",H1152<>\"\",I1152<>\"\",J1152<>\"\"),Data!Q1152-$E$4,\"\")","v":""},"","","","",{"$f":"IF(F1152<>\"\",STDEV($Q$12:Q1152),\"\")","v":""},""]
[1142,null,{"$f":"RIGHT(Data!C1153,10)","v":""},null,null,null,null,null,null,null,{"$f":"IFERROR($U$3*Data!M1153/SQRT(COUNT(Data!F1153:J1153)),\"\")","v":""},"","","","","",{"$f":"IFERROR((Data!K1153-$E$4),\"\")","v":""},{"$f":"IF(AND(F1153<>\"\",G1153<>\"\",H1153<>\"\",I1153<>\"\",J1153<>\"\"),Data!Q1153-$E$4,\"\")","v":""},"","","","",{"$f":"IF(F1153<>\"\",STDEV($Q$12:Q1153),\"\")","v":""},""]
[1143,null,{"$f":"RIGHT(Data!C1154,10)","v":""},null,null,null,null,null,null,null,{"$f":"IFERROR($U$3*Data!M1154/SQRT(COUNT(Data!F1154:J1154)),\"\")","v":""},"","","","","",{"$f":"IFERROR((Data!K1154-$E$4),\"\")","v":""},{"$f":"IF(AND(F1154<>\"\",G1154<>\"\",H1154<>\"\",I1154<>\"\",J1154<>\"\"),Data!Q1154-$E$4,\"\")","v":""},"","","","",{"$f":"IF(F1154<>\"\",STDEV($Q$12:Q1154),\"\")","v":""},""]
[1144,null,{"$f":"RIGHT(Data!C1155,10)","v":""},null,null,null,null,null,null,null,{"$f":"IFERROR($U$3*Data!M1155/SQRT(COUNT(Data!F1155:J1155)),\"\")","v":""},"","","","","",{"$f":"IFERROR((Data!K1155-$E$4),\"\")","v":""},{"$f":"IF(AND(F1155<>\"\",G1155<>\"\",H1155<>\"\",I1155<>\"\",J1155<>\"\"),Data!Q1155-$E$4,\"\")","v":""},"","","","",{"$f":"IF(F1155<>\"\",STDEV($Q$12:Q1155),\"\")","v":""},""]
[1145,null,{"$f":"RIGHT(Data!C1156,10)","v":""},null,null,null,null,null,null,null,{"$f":"IFERROR($U$3*Data!M1156/SQRT(COUNT(Data!F1156:J1156)),\"\")","v":""},"","","","","",{"$f":"IFERROR((Data!K1156-$E$4),\"\")","v":""},{"$f":"IF(AND(F1156<>\"\",G1156<>\"\",H1156<>\"\",I1156<>\"\",J1156<>\"\"),Data!Q1156-$E$4,\"\")","v":""},"","","","",{"$f":"IF(F1156<>\"\",STDEV($Q$12:Q1156),\"\")","v":""},""]
[1146,null,{"$f":"RIGHT(Data!C1157,10)","v":""},null,null,null,null,null,null,null,{"$f":"IFERROR($U$3*Data!M1157/SQRT(COUNT(Data!F1157:J1157)),\"\")","v":""},"","","","","",{"$f":"IFERROR((Data!K1157-$E$4),\"\")","v":""},{"$f":"IF(AND(F1157<>\"\",G1157<>\"\",H1157<>\"\",I1157<>\"\",J1157<>\"\"),Data!Q1157-$E$4,\"\")","v":""},"","","","",{"$f":"IF(F1157<>\"\",STDEV($Q$12:Q1157),\"\")","v":""},""]
[1147,null,{"$f":"RIGHT(Data!C1158,10)","v":""},null,null,null,null,null,null,null,{"$f":"IFERROR($U$3*Data!M1158/SQRT(COUNT(Data!F1158:J1158)),\"\")","v":""},"","","","","",{"$f":"IFERROR((Data!K1158-$E$4),\"\")","v":""},{"$f":"IF(AND(F1158<>\"\",G1158<>\"\",H1158<>\"\",I1158<>\"\",J1158<>\"\"),Data!Q1158-$E$4,\"\")","v":""},"","","","",{"$f":"IF(F1158<>\"\",STDEV($Q$12:Q1158),\"\")","v":""},""]
[1148,null,{"$f":"RIGHT(Data!C1159,10)","v":""},null,null,null,null,null,null,null,{"$f":"IFERROR($U$3*Data!M1159/SQRT(COUNT(Data!F1159:J1159)),\"\")","v":""},"","","","","",{"$f":"IFERROR((Data!K1159-$E$4),\"\")","v":""},{"$f":"IF(AND(F1159<>\"\",G1159<>\"\",H1159<>\"\",I1159<>\"\",J1159<>\"\"),Data!Q1159-$E$4,\"\")","v":""},"","","","",{"$f":"IF(F1159<>\"\",STDEV($Q$12:Q1159),\"\")","v":""},""]
[1149,null,{"$f":"RIGHT(Data!C1160,10)","v":""},null,null,null,null,null,null,null,{"$f":"IFERROR($U$3*Data!M1160/SQRT(COUNT(Data!F1160:J1160)),\"\")","v":""},"","","","","",{"$f":"IFERROR((Data!K1160-$E$4),\"\")","v":""},{"$f":"IF(AND(F1160<>\"\",G1160<>\"\",H1160<>\"\",I1160<>\"\",J1160<>\"\"),Data!Q1160-$E$4,\"\")","v":""},"","","","",{"$f":"IF(F1160<>\"\",STDEV($Q$12:Q1160),\"\")","v":""},""]
[1150,null,{"$f":"RIGHT(Data!C1161,10)","v":""},null,null,null,null,null,null,null,{"$f":"IFERROR($U$3*Data!M1161/SQRT(COUNT(Data!F1161:J1161)),\"\")","v":""},"","","","","",{"$f":"IFERROR((Data!K1161-$E$4),\"\")","v":""},{"$f":"IF(AND(F1161<>\"\",G1161<>\"\",H1161<>\"\",I1161<>\"\",J1161<>\"\"),Data!Q1161-$E$4,\"\")","v":""},"","","","",{"$f":"IF(F1161<>\"\",STDEV($Q$12:Q1161),\"\")","v":""},""]
[1151,null,{"$f":"RIGHT(Data!C1162,10)","v":""},null,null,null,null,null,null,null,{"$f":"IFERROR($U$3*Data!M1162/SQRT(COUNT(Data!F1162:J1162)),\"\")","v":""},"","","","","",{"$f":"IFERROR((Data!K1162-$E$4),\"\")","v":""},{"$f":"IF(AND(F1162<>\"\",G1162<>\"\",H1162<>\"\",I1162<>\"\",J1162<>\"\"),Data!Q1162-$E$4,\"\")","v":""},"","","","",{"$f":"IF(F1162<>\"\",STDEV($Q$12:Q1162),\"\")","v":""},""]
[1152,null,{"$f":"RIGHT(Data!C1163,10)","v":""},null,null,null,null,null,null,null,{"$f":"IFERROR($U$3*Data!M1163/SQRT(COUNT(Data!F1163:J1163)),\"\")","v":""},"","","","","",{"$f":"IFERROR((Data!K1163-$E$4),\"\")","v":""},{"$f":"IF(AND(F1163<>\"\",G1163<>\"\",H1163<>\"\",I1163<>\"\",J1163<>\"\"),Data!Q1163-$E$4,\"\")","v":""},"","","","",{"$f":"IF(F1163<>\"\",STDEV($Q$12:Q1163),\"\")","v":""},""]
[1153,null,{"$f":"RIGHT(Data!C1164,10)","v":""},null,null,null,null,null,null,null,{"$f":"IFERROR($U$3*Data!M1164/SQRT(COUNT(Data!F1164:J1164)),\"\")","v":""},"","",{"$f":"IF(COUNT(F1164:J1164)>=5,STDEV(F1164:J1164)*$U$3/SQRT((COUNT(F1164:J1164))),\"\")","v":""},{"$f":"IFERROR($U$4*SQRT($U$7^2+L1164^2+K1164^2+$U$5^2+N1164^2),\"\")","v":""},"",{"$f":"IFERROR((Data!K1164-$E$4),\"\")","v":""},{"$f":"IF(AND(F1164<>\"\",G1164<>\"\",H1164<>\"\",I1164<>\"\",J1164<>\"\"),Data!Q1164-$E$4,\"\")","v":""},{"$f":"IF(O1164<>\"\",FIXED(X1164,1) & \" ± \" & FIXED(O1164+ABS(R1164),2),\"\")","v":""},"","","",{"$f":"IF(F1164<>\"\",STDEV($Q$12:Q1164),\"\")","v":""},{"$f":"IF(F1164<>\"\",AVERAGE(F1164:J1164),\"\")","v":""}]
[1154,null,{"$f":"RIGHT(Data!C1165,10)","v":""},null,null,null,null,null,null,null,{"$f":"IFERROR($U$3*Data!M1165/SQRT(COUNT(Data!F1165:J1165)),\"\")","v":""},{"$f":"IF(F1165<>\"\",V1165*W1165/SQRT(A1165),\"\")","v":""},{"$f":"IF(F1165<>\"\",$U$4*SQRT($U$7^2+L1165^2+K1165^2+$U$5^2),\"\")","v":""},"","",{"$f":"IF(AND(F1165<>\"\",G1165<>\"\",H1165<>\"\",I1165<>\"\",J1165<>\"\"),AVERAGE(F1165:J1165),\"\")","v":""},{"$f":"IFERROR((Data!K1165-$E$4),\"\")","v":""},{"$f":"IF(AND(F1165<>\"\",G1165<>\"\",H1165<>\"\",I1165<>\"\",J1165<>\"\"),Data!Q1165-$E$4,\"\")","v":""},"",{"$f":"IF(F1165<>\"\",FIXED(AVERAGE(F1165:J1165)-R1165,1) & \" ± \" & FIXED(O1165,2),\"\")","v":""},{"$f":"IF(IO1165=\"\",\"\",IO1165-1)","v":""},{"$f":"IF(F1165<>\"\",TINV(1-0.68,A1165-1),\"\")","v":""},{"$f":"IF(F1165<>\"\",STDEV($Q$12:Q1165),\"\")","v":""},""]
[1155,null,{"$f":"RIGHT(Data!C1166,10)","v":""},null,null,null,null,null,null,null,{"$f":"IFERROR($U$3*Data!M1166/SQRT(COUNT(Data!F1166:J1166)),\"\")","v":""},"","","","","",{"$f":"IFERROR((Data!K1166-$E$4),\"\")","v":""},{"$f":"IF(AND(F1166<>\"\",G1166<>\"\",H1166<>\"\",I1166<>\"\",J1166<>\"\"),Data!Q1166-$E$4,\"\")","v":""},"","","","",{"$f":"IF(F1166<>\"\",STDEV($Q$12:Q1166),\"\")","v":""},""]
[1156,null,{"$f":"RIGHT(Data!C1167,10)","v":""},null,null,null,null,null,null,null,{"$f":"IFERROR($U$3*Data!M1167/SQRT(COUNT(Data!F1167:J1167)),\"\")","v":""},"","","","","",{"$f":"IFERROR((Data!K1167-$E$4),\"\")","v":""},{"$f":"IF(AND(F1167<>\"\",G1167<>\"\",H1167<>\"\",I1167<>\"\",J1167<>\"\"),Data!Q1167-$E$4,\"\")","v":""},"","","","",{"$f":"IF(F1167<>\"\",STDEV($Q$12:Q1167),\"\")","v":""},""]
[1157,null,{"$f":"RIGHT(Data!C1168,10)","v":""},null,null,null,null,null,null,null,{"$f":"IFERROR($U$3*Data!M1168/SQRT(COUNT(Data!F1168:J1168)),\"\")","v":""},"","","","","",{"$f":"IFERROR((Data!K1168-$E$4),\"\")","v":""},{"$f":"IF(AND(F1168<>\"\",G1168<>\"\",H1168<>\"\",I1168<>\"\",J1168<>\"\"),Data!Q1168-$E$4,\"\")","v":""},"","","","",{"$f":"IF(F1168<>\"\",STDEV($Q$12:Q1168),\"\")","v":""},""]
[1158,null,{"$f":"RIGHT(Data!C1169,10)","v":""},null,null,null,null,null,null,null,{"$f":"IFERROR($U$3*Data!M1169/SQRT(COUNT(Data!F1169:J1169)),\"\")","v":""},"","","","","",{"$f":"IFERROR((Data!K1169-$E$4),\"\")","v":""},{"$f":"IF(AND(F1169<>\"\",G1169<>\"\",H1169<>\"\",I1169<>\"\",J1169<>\"\"),Data!Q1169-$E$4,\"\")","v":""},"","","","",{"$f":"IF(F1169<>\"\",STDEV($Q$12:Q1169),\"\")","v":""},""]
[1159,null,{"$f":"RIGHT(Data!C1170,10)","v":""},null,null,null,null,null,null,null,{"$f":"IFERROR($U$3*Data!M1170/SQRT(COUNT(Data!F1170:J1170)),\"\")","v":""},"","","","","",{"$f":"IFERROR((Data!K1170-$E$4),\"\")","v":""},{"$f":"IF(AND(F1170<>\"\",G1170<>\"\",H1170<>\"\",I1170<>\"\",J1170<>\"\"),Data!Q1170-$E$4,\"\")","v":""},"","","","",{"$f":"IF(F1170<>\"\",STDEV($Q$12:Q1170),\"\")","v":""},""]
[1160,null,{"$f":"RIGHT(Data!C1171,10)","v":""},null,null,null,null,null,null,null,{"$f":"IFERROR($U$3*Data!M1171/SQRT(COUNT(Data!F1171:J1171)),\"\")","v":""},"","","","","",{"$f":"IFERROR((Data!K1171-$E$4),\"\")","v":""},{"$f":"IF(AND(F1171<>\"\",G1171<>\"\",H1171<>\"\",I1171<>\"\",J1171<>\"\"),Data!Q1171-$E$4,\"\")","v":""},"","","","",{"$f":"IF(F1171<>\"\",STDEV($Q$12:Q1171),\"\")","v":""},""]
[1161,null,{"$f":"RIGHT(Data!C1172,10)","v":""},null,null,null,null,null,null,null,{"$f":"IFERROR($U$3*Data!M1172/SQRT(COUNT(Data!F1172:J1172)),\"\")","v":""},"","","","","",{"$f":"IFERROR((Data!K1172-$E$4),\"\")","v":""},{"$f":"IF(AND(F1172<>\"\",G1172<>\"\",H1172<>\"\",I1172<>\"\",J1172<>\"\"),Data!Q1172-$E$4,\"\")","v":""},"","","","",{"$f":"IF(F1172<>\"\",STDEV($Q$12:Q1172),\"\")","v":""},""]
[1162,null,{"$f":"RIGHT(Data!C1173,10)","v":""},null,null,null,null,null,null,null,{"$f":"IFERROR($U$3*Data!M1173/SQRT(COUNT(Data!F1173:J1173)),\"\")","v":""},"","","","","",{"$f":"IFERROR((Data!K1173-$E$4),\"\")","v":""},{"$f":"IF(AND(F1173<>\"\",G1173<>\"\",H1173<>\"\",I1173<>\"\",J1173<>\"\"),Data!Q1173-$E$4,\"\")","v":""},"","","","",{"$f":"IF(F1173<>\"\",STDEV($Q$12:Q1173),\"\")","v":""},""]
[1163,null,{"$f":"RIGHT(Data!C1174,10)","v":""},null,null,null,null,null,null,null,{"$f":"IFERROR($U$3*Data!M1174/SQRT(COUNT(Data!F1174:J1174)),\"\")","v":""},"","","","","",{"$f":"IFERROR((Data!K1174-$E$4),\"\")","v":""},{"$f":"IF(AND(F1174<>\"\",G1174<>\"\",H1174<>\"\",I1174<>\"\",J1174<>\"\"),Data!Q1174-$E$4,\"\")","v":""},"","","","",{"$f":"IF(F1174<>\"\",STDEV($Q$12:Q1174),\"\")","v":""},""]
[1164,null,{"$f":"RIGHT(Data!C1175,10)","v":""},null,null,null,null,null,null,null,{"$f":"IFERROR($U$3*Data!M1175/SQRT(COUNT(Data!F1175:J1175)),\"\")","v":""},"","","","","",{"$f":"IFERROR((Data!K1175-$E$4),\"\")","v":""},{"$f":"IF(AND(F1175<>\"\",G1175<>\"\",H1175<>\"\",I1175<>\"\",J1175<>\"\"),Data!Q1175-$E$4,\"\")","v":""},"","","","",{"$f":"IF(F1175<>\"\",STDEV($Q$12:Q1175),\"\")","v":""},""]
[1165,null,{"$f":"RIGHT(Data!C1176,10)","v":""},null,null,null,null,null,null,null,{"$f":"IFERROR($U$3*Data!M1176/SQRT(COUNT(Data!F1176:J1176)),\"\")","v":""},"","","","","",{"$f":"IFERROR((Data!K1176-$E$4),\"\")","v":""},{"$f":"IF(AND(F1176<>\"\",G1176<>\"\",H1176<>\"\",I1176<>\"\",J1176<>\"\"),Data!Q1176-$E$4,\"\")","v":""},"","","","",{"$f":"IF(F1176<>\"\",STDEV($Q$12:Q1176),\"\")","v":""},""]
[1166,null,{"$f":"RIGHT(Data!C1177,10)","v":""},null,null,null,null,null,null,null,{"$f":"IFERROR($U$3*Data!M1177/SQRT(COUNT(Data!F1177:J1177)),\"\")","v":""},"","","","","",{"$f":"IFERROR((Data!K1177-$E$4),\"\")","v":""},{"$f":"IF(AND(F1177<>\"\",G1177<>\"\",H1177<>\"\",I1177<>\"\",J1177<>\"\"),Data!Q1177-$E$4,\"\")","v":""},"","","","",{"$f":"IF(F1177<>\"\",STDEV($Q$12:Q1177),\"\")","v":""},""]
[1167,null,{"$f":"RIGHT(Data!C1178,10)","v":""},null,null,null,null,null,null,null,{"$f":"IFERROR($U$3*Data!M1178/SQRT(COUNT(Data!F1178:J1178)),\"\")","v":""},"","","","","",{"$f":"IFERROR((Data!K1178-$E$4),\"\")","v":""},{"$f":"IF(AND(F1178<>\"\",G1178<>\"\",H1178<>\"\",I1178<>\"\",J1178<>\"\"),Data!Q1178-$E$4,\"\")","v":""},"","","","",{"$f":"IF(F1178<>\"\",STDEV($Q$12:Q1178),\"\")","v":""},""]
[1168,null,{"$f":"RIGHT(Data!C1179,10)","v":""},null,null,null,null,null,null,null,{"$f":"IFERROR($U$3*Data!M1179/SQRT(COUNT(Data!F1179:J1179)),\"\")","v":""},"","","","","",{"$f":"IFERROR((Data!K1179-$E$4),\"\")","v":""},{"$f":"IF(AND(F1179<>\"\",G1179<>\"\",H1179<>\"\",I1179<>\"\",J1179<>\"\"),Data!Q1179-$E$4,\"\")","v":""},"","","","",{"$f":"IF(F1179<>\"\",STDEV($Q$12:Q1179),\"\")","v":""},""]
[1169,null,{"$f":"RIGHT(Data!C1180,10)","v":""},null,null,null,null,null,null,null,{"$f":"IFERROR($U$3*Data!M1180/SQRT(COUNT(Data!F1180:J1180)),\"\")","v":""},"","","","","",{"$f":"IFERROR((Data!K1180-$E$4),\"\")","v":""},{"$f":"IF(AND(F1180<>\"\",G1180<>\"\",H1180<>\"\",I1180<>\"\",J1180<>\"\"),Data!Q1180-$E$4,\"\")","v":""},"","","","",{"$f":"IF(F1180<>\"\",STDEV($Q$12:Q1180),\"\")","v":""},""]
[1170,null,{"$f":"RIGHT(Data!C1181,10)","v":""},null,null,null,null,null,null,null,{"$f":"IFERROR($U$3*Data!M1181/SQRT(COUNT(Data!F1181:J1181)),\"\")","v":""},"","","","","",{"$f":"IFERROR((Data!K1181-$E$4),\"\")","v":""},{"$f":"IF(AND(F1181<>\"\",G1181<>\"\",H1181<>\"\",I1181<>\"\",J1181<>\"\"),Data!Q1181-$E$4,\"\")","v":""},"","","","",{"$f":"IF(F1181<>\"\",STDEV($Q$12:Q1181),\"\")","v":""},""]
[1171,null,{"$f":"RIGHT(Data!C1182,10)","v":""},null,null,null,null,null,null,null,{"$f":"IFERROR($U$3*Data!M1182/SQRT(COUNT(Data!F1182:J1182)),\"\")","v":""},"","","","","",{"$f":"IFERROR((Data!K1182-$E$4),\"\")","v":""},{"$f":"IF(AND(F1182<>\"\",G1182<>\"\",H1182<>\"\",I1182<>\"\",J1182<>\"\"),Data!Q1182-$E$4,\"\")","v":""},"","","","",{"$f":"IF(F1182<>\"\",STDEV($Q$12:Q1182),\"\")","v":""},""]
[1172,null,{"$f":"RIGHT(Data!C1183,10)","v":""},null,null,null,null,null,null,null,{"$f":"IFERROR($U$3*Data!M1183/SQRT(COUNT(Data!F1183:J1183)),\"\")","v":""},"","","","","",{"$f":"IFERROR((Data!K1183-$E$4),\"\")","v":""},{"$f":"IF(AND(F1183<>\"\",G1183<>\"\",H1183<>\"\",I1183<>\"\",J1183<>\"\"),Data!Q1183-$E$4,\"\")","v":""},"","","","",{"$f":"IF(F1183<>\"\",STDEV($Q$12:Q1183),\"\")","v":""},""]
[1173,null,{"$f":"RIGHT(Data!C1184,10)","v":""},null,null,null,null,null,null,null,{"$f":"IFERROR($U$3*Data!M1184/SQRT(COUNT(Data!F1184:J1184)),\"\")","v":""},"","","","","",{"$f":"IFERROR((Data!K1184-$E$4),\"\")","v":""},{"$f":"IF(AND(F1184<>\"\",G1184<>\"\",H1184<>\"\",I1184<>\"\",J1184<>\"\"),Data!Q1184-$E$4,\"\")","v":""},"","","","",{"$f":"IF(F1184<>\"\",STDEV($Q$12:Q1184),\"\")","v":""},""]
[1174,null,{"$f":"RIGHT(Data!C1185,10)","v":""},null,null,null,null,null,null,null,{"$f":"IFERROR($U$3*Data!M1185/SQRT(COUNT(Data!F1185:J1185)),\"\")","v":""},"","","","","",{"$f":"IFERROR((Data!K1185-$E$4),\"\")","v":""},{"$f":"IF(AND(F1185<>\"\",G1185<>\"\",H1185<>\"\",I1185<>\"\",J1185<>\"\"),Data!Q1185-$E$4,\"\")","v":""},"","","","",{"$f":"IF(F1185<>\"\",STDEV($Q$12:Q1185),\"\")","v":""},""]
[1175,null,{"$f":"RIGHT(Data!C1186,10)","v":""},null,null,null,null,null,null,null,{"$f":"IFERROR($U$3*Data!M1186/SQRT(COUNT(Data!F1186:J1186)),\"\")","v":""},"","","","","",{"$f":"IFERROR((Data!K1186-$E$4),\"\")","v":""},{"$f":"IF(AND(F1186<>\"\",G1186<>\"\",H1186<>\"\",I1186<>\"\",J1186<>\"\"),Data!Q1186-$E$4,\"\")","v":""},"","","","",{"$f":"IF(F1186<>\"\",STDEV($Q$12:Q1186),\"\")","v":""},""]
[1176,null,{"$f":"RIGHT(Data!C1187,10)","v":""},null,null,null,null,null,null,null,{"$f":"IFERROR($U$3*Data!M1187/SQRT(COUNT(Data!F1187:J1187)),\"\")","v":""},"","","","","",{"$f":"IFERROR((Data!K1187-$E$4),\"\")","v":""},{"$f":"IF(AND(F1187<>\"\",G1187<>\"\",H1187<>\"\",I1187<>\"\",J1187<>\"\"),Data!Q1187-$E$4,\"\")","v":""},"","","","",{"$f":"IF(F1187<>\"\",STDEV($Q$12:Q1187),\"\")","v":""},""]
[1177,null,{"$f":"RIGHT(Data!C1188,10)","v":""},null,null,null,null,null,null,null,{"$f":"IFERROR($U$3*Data!M1188/SQRT(COUNT(Data!F1188:J1188)),\"\")","v":""},"","","","","",{"$f":"IFERROR((Data!K1188-$E$4),\"\")","v":""},{"$f":"IF(AND(F1188<>\"\",G1188<>\"\",H1188<>\"\",I1188<>\"\",J1188<>\"\"),Data!Q1188-$E$4,\"\")","v":""},"","","","",{"$f":"IF(F1188<>\"\",STDEV($Q$12:Q1188),\"\")","v":""},""]
[1178,null,{"$f":"RIGHT(Data!C1189,10)","v":""},null,null,null,null,null,null,null,{"$f":"IFERROR($U$3*Data!M1189/SQRT(COUNT(Data!F1189:J1189)),\"\")","v":""},"","","","","",{"$f":"IFERROR((Data!K1189-$E$4),\"\")","v":""},{"$f":"IF(AND(F1189<>\"\",G1189<>\"\",H1189<>\"\",I1189<>\"\",J1189<>\"\"),Data!Q1189-$E$4,\"\")","v":""},"","","","",{"$f":"IF(F1189<>\"\",STDEV($Q$12:Q1189),\"\")","v":""},""]
[1179,null,{"$f":"RIGHT(Data!C1190,10)","v":""},null,null,null,null,null,null,null,{"$f":"IFERROR($U$3*Data!M1190/SQRT(COUNT(Data!F1190:J1190)),\"\")","v":""},"","","","","",{"$f":"IFERROR((Data!K1190-$E$4),\"\")","v":""},{"$f":"IF(AND(F1190<>\"\",G1190<>\"\",H1190<>\"\",I1190<>\"\",J1190<>\"\"),Data!Q1190-$E$4,\"\")","v":""},"","","","",{"$f":"IF(F1190<>\"\",STDEV($Q$12:Q1190),\"\")","v":""},""]
[1180,null,{"$f":"RIGHT(Data!C1191,10)","v":""},null,null,null,null,null,null,null,{"$f":"IFERROR($U$3*Data!M1191/SQRT(COUNT(Data!F1191:J1191)),\"\")","v":""},"","","","","",{"$f":"IFERROR((Data!K1191-$E$4),\"\")","v":""},{"$f":"IF(AND(F1191<>\"\",G1191<>\"\",H1191<>\"\",I1191<>\"\",J1191<>\"\"),Data!Q1191-$E$4,\"\")","v":""},"","","","",{"$f":"IF(F1191<>\"\",STDEV($Q$12:Q1191),\"\")","v":""},""]
[1181,null,{"$f":"RIGHT(Data!C1192,10)","v":""},null,null,null,null,null,null,null,{"$f":"IFERROR($U$3*Data!M1192/SQRT(COUNT(Data!F1192:J1192)),\"\")","v":""},"","","","","",{"$f":"IFERROR((Data!K1192-$E$4),\"\")","v":""},{"$f":"IF(AND(F1192<>\"\",G1192<>\"\",H1192<>\"\",I1192<>\"\",J1192<>\"\"),Data!Q1192-$E$4,\"\")","v":""},"","","","",{"$f":"IF(F1192<>\"\",STDEV($Q$12:Q1192),\"\")","v":""},""]
[1182,null,{"$f":"RIGHT(Data!C1193,10)","v":""},null,null,null,null,null,null,null,{"$f":"IFERROR($U$3*Data!M1193/SQRT(COUNT(Data!F1193:J1193)),\"\")","v":""},"","","","","",{"$f":"IFERROR((Data!K1193-$E$4),\"\")","v":""},{"$f":"IF(AND(F1193<>\"\",G1193<>\"\",H1193<>\"\",I1193<>\"\",J1193<>\"\"),Data!Q1193-$E$4,\"\")","v":""},"","","","",{"$f":"IF(F1193<>\"\",STDEV($Q$12:Q1193),\"\")","v":""},""]
[1183,null,{"$f":"RIGHT(Data!C1194,10)","v":""},null,null,null,null,null,null,null,{"$f":"IFERROR($U$3*Data!M1194/SQRT(COUNT(Data!F1194:J1194)),\"\")","v":""},"","","","","",{"$f":"IFERROR((Data!K1194-$E$4),\"\")","v":""},{"$f":"IF(AND(F1194<>\"\",G1194<>\"\",H1194<>\"\",I1194<>\"\",J1194<>\"\"),Data!Q1194-$E$4,\"\")","v":""},"","","","",{"$f":"IF(F1194<>\"\",STDEV($Q$12:Q1194),\"\")","v":""},""]
[1184,null,{"$f":"RIGHT(Data!C1195,10)","v":""},null,null,null,null,null,null,null,{"$f":"IFERROR($U$3*Data!M1195/SQRT(COUNT(Data!F1195:J1195)),\"\")","v":""},"","","","","",{"$f":"IFERROR((Data!K1195-$E$4),\"\")","v":""},{"$f":"IF(AND(F1195<>\"\",G1195<>\"\",H1195<>\"\",I1195<>\"\",J1195<>\"\"),Data!Q1195-$E$4,\"\")","v":""},"","","","",{"$f":"IF(F1195<>\"\",STDEV($Q$12:Q1195),\"\")","v":""},""]
[1185,null,{"$f":"RIGHT(Data!C1196,10)","v":""},null,null,null,null,null,null,null,{"$f":"IFERROR($U$3*Data!M1196/SQRT(COUNT(Data!F1196:J1196)),\"\")","v":""},"","","","","",{"$f":"IFERROR((Data!K1196-$E$4),\"\")","v":""},{"$f":"IF(AND(F1196<>\"\",G1196<>\"\",H1196<>\"\",I1196<>\"\",J1196<>\"\"),Data!Q1196-$E$4,\"\")","v":""},"","","","",{"$f":"IF(F1196<>\"\",STDEV($Q$12:Q1196),\"\")","v":""},""]
[1186,null,{"$f":"RIGHT(Data!C1197,10)","v":""},null,null,null,null,null,null,null,{"$f":"IFERROR($U$3*Data!M1197/SQRT(COUNT(Data!F1197:J1197)),\"\")","v":""},"","","","","",{"$f":"IFERROR((Data!K1197-$E$4),\"\")","v":""},{"$f":"IF(AND(F1197<>\"\",G1197<>\"\",H1197<>\"\",I1197<>\"\",J1197<>\"\"),Data!Q1197-$E$4,\"\")","v":""},"","","","",{"$f":"IF(F1197<>\"\",STDEV($Q$12:Q1197),\"\")","v":""},""]
[1187,null,{"$f":"RIGHT(Data!C1198,10)","v":""},null,null,null,null,null,null,null,{"$f":"IFERROR($U$3*Data!M1198/SQRT(COUNT(Data!F1198:J1198)),\"\")","v":""},"","","","","",{"$f":"IFERROR((Data!K1198-$E$4),\"\")","v":""},{"$f":"IF(AND(F1198<>\"\",G1198<>\"\",H1198<>\"\",I1198<>\"\",J1198<>\"\"),Data!Q1198-$E$4,\"\")","v":""},"","","","",{"$f":"IF(F1198<>\"\",STDEV($Q$12:Q1198),\"\")","v":""},""]
[1188,null,{"$f":"RIGHT(Data!C1199,10)","v":""},null,null,null,null,null,null,null,{"$f":"IFERROR($U$3*Data!M1199/SQRT(COUNT(Data!F1199:J1199)),\"\")","v":""},"","","","","",{"$f":"IFERROR((Data!K1199-$E$4),\"\")","v":""},{"$f":"IF(AND(F1199<>\"\",G1199<>\"\",H1199<>\"\",I1199<>\"\",J1199<>\"\"),Data!Q1199-$E$4,\"\")","v":""},"","","","",{"$f":"IF(F1199<>\"\",STDEV($Q$12:Q1199),\"\")","v":""},""]
[1189,null,{"$f":"RIGHT(Data!C1200,10)","v":""},null,null,null,null,null,null,null,{"$f":"IFERROR($U$3*Data!M1200/SQRT(COUNT(Data!F1200:J1200)),\"\")","v":""},"","","","","",{"$f":"IFERROR((Data!K1200-$E$4),\"\")","v":""},{"$f":"IF(AND(F1200<>\"\",G1200<>\"\",H1200<>\"\",I1200<>\"\",J1200<>\"\"),Data!Q1200-$E$4,\"\")","v":""},"","","","",{"$f":"IF(F1200<>\"\",STDEV($Q$12:Q1200),\"\")","v":""},""]
[1190,null,{"$f":"RIGHT(Data!C1201,10)","v":""},null,null,null,null,null,null,null,{"$f":"IFERROR($U$3*Data!M1201/SQRT(COUNT(Data!F1201:J1201)),\"\")","v":""},"","","","","",{"$f":"IFERROR((Data!K1201-$E$4),\"\")","v":""},{"$f":"IF(AND(F1201<>\"\",G1201<>\"\",H1201<>\"\",I1201<>\"\",J1201<>\"\"),Data!Q1201-$E$4,\"\")","v":""},"","","","",{"$f":"IF(F1201<>\"\",STDEV($Q$12:Q1201),\"\")","v":""},""]
[1191,null,{"$f":"RIGHT(Data!C1202,10)","v":""},null,null,null,null,null,null,null,{"$f":"IFERROR($U$3*Data!M1202/SQRT(COUNT(Data!F1202:J1202)),\"\")","v":""},"","","","","",{"$f":"IFERROR((Data!K1202-$E$4),\"\")","v":""},{"$f":"IF(AND(F1202<>\"\",G1202<>\"\",H1202<>\"\",I1202<>\"\",J1202<>\"\"),Data!Q1202-$E$4,\"\")","v":""},"","","","",{"$f":"IF(F1202<>\"\",STDEV($Q$12:Q1202),\"\")","v":""},""]
[1192,null,{"$f":"RIGHT(Data!C1203,10)","v":""},null,null,null,null,null,null,null,{"$f":"IFERROR($U$3*Data!M1203/SQRT(COUNT(Data!F1203:J1203)),\"\")","v":""},"","","","","",{"$f":"IFERROR((Data!K1203-$E$4),\"\")","v":""},{"$f":"IF(AND(F1203<>\"\",G1203<>\"\",H1203<>\"\",I1203<>\"\",J1203<>\"\"),Data!Q1203-$E$4,\"\")","v":""},"","","","",{"$f":"IF(F1203<>\"\",STDEV($Q$12:Q1203),\"\")","v":""},""]
[1193,null,{"$f":"RIGHT(Data!C1204,10)","v":""},null,null,null,null,null,null,null,{"$f":"IFERROR($U$3*Data!M1204/SQRT(COUNT(Data!F1204:J1204)),\"\")","v":""},"","","","","",{"$f":"IFERROR((Data!K1204-$E$4),\"\")","v":""},{"$f":"IF(AND(F1204<>\"\",G1204<>\"\",H1204<>\"\",I1204<>\"\",J1204<>\"\"),Data!Q1204-$E$4,\"\")","v":""},"","","","",{"$f":"IF(F1204<>\"\",STDEV($Q$12:Q1204),\"\")","v":""},""]
[1194,null,{"$f":"RIGHT(Data!C1205,10)","v":""},null,null,null,null,null,null,null,{"$f":"IFERROR($U$3*Data!M1205/SQRT(COUNT(Data!F1205:J1205)),\"\")","v":""},"","","","","",{"$f":"IFERROR((Data!K1205-$E$4),\"\")","v":""},{"$f":"IF(AND(F1205<>\"\",G1205<>\"\",H1205<>\"\",I1205<>\"\",J1205<>\"\"),Data!Q1205-$E$4,\"\")","v":""},"","","","",{"$f":"IF(F1205<>\"\",STDEV($Q$12:Q1205),\"\")","v":""},""]
[1195,null,{"$f":"RIGHT(Data!C1206,10)","v":""},null,null,null,null,null,null,null,{"$f":"IFERROR($U$3*Data!M1206/SQRT(COUNT(Data!F1206:J1206)),\"\")","v":""},"","","","","",{"$f":"IFERROR((Data!K1206-$E$4),\"\")","v":""},{"$f":"IF(AND(F1206<>\"\",G1206<>\"\",H1206<>\"\",I1206<>\"\",J1206<>\"\"),Data!Q1206-$E$4,\"\")","v":""},"","","","",{"$f":"IF(F1206<>\"\",STDEV($Q$12:Q1206),\"\")","v":""},""]
[1196,null,{"$f":"RIGHT(Data!C1207,10)","v":""},null,null,null,null,null,null,null,{"$f":"IFERROR($U$3*Data!M1207/SQRT(COUNT(Data!F1207:J1207)),\"\")","v":""},"","","","","",{"$f":"IFERROR((Data!K1207-$E$4),\"\")","v":""},{"$f":"IF(AND(F1207<>\"\",G1207<>\"\",H1207<>\"\",I1207<>\"\",J1207<>\"\"),Data!Q1207-$E$4,\"\")","v":""},"","","","",{"$f":"IF(F1207<>\"\",STDEV($Q$12:Q1207),\"\")","v":""},""]
[1197,null,{"$f":"RIGHT(Data!C1208,10)","v":""},null,null,null,null,null,null,null,{"$f":"IFERROR($U$3*Data!M1208/SQRT(COUNT(Data!F1208:J1208)),\"\")","v":""},"","","","","",{"$f":"IFERROR((Data!K1208-$E$4),\"\")","v":""},{"$f":"IF(AND(F1208<>\"\",G1208<>\"\",H1208<>\"\",I1208<>\"\",J1208<>\"\"),Data!Q1208-$E$4,\"\")","v":""},"","","","",{"$f":"IF(F1208<>\"\",STDEV($Q$12:Q1208),\"\")","v":""},""]
[1198,null,{"$f":"RIGHT(Data!C1209,10)","v":""},null,null,null,null,null,null,null,{"$f":"IFERROR($U$3*Data!M1209/SQRT(COUNT(Data!F1209:J1209)),\"\")","v":""},"","","","","",{"$f":"IFERROR((Data!K1209-$E$4),\"\")","v":""},{"$f":"IF(AND(F1209<>\"\",G1209<>\"\",H1209<>\"\",I1209<>\"\",J1209<>\"\"),Data!Q1209-$E$4,\"\")","v":""},"","","","",{"$f":"IF(F1209<>\"\",STDEV($Q$12:Q1209),\"\")","v":""},""]
[1199,null,{"$f":"RIGHT(Data!C1210,10)","v":""},null,null,null,null,null,null,null,{"$f":"IFERROR($U$3*Data!M1210/SQRT(COUNT(Data!F1210:J1210)),\"\")","v":""},"","","","","",{"$f":"IFERROR((Data!K1210-$E$4),\"\")","v":""},{"$f":"IF(AND(F1210<>\"\",G1210<>\"\",H1210<>\"\",I1210<>\"\",J1210<>\"\"),Data!Q1210-$E$4,\"\")","v":""},"","","","",{"$f":"IF(F1210<>\"\",STDEV($Q$12:Q1210),\"\")","v":""},""]
[1200,null,{"$f":"RIGHT(Data!C1211,10)","v":""},null,null,null,null,null,null,null,{"$f":"IFERROR($U$3*Data!M1211/SQRT(COUNT(Data!F1211:J1211)),\"\")","v":""},"","","","","",{"$f":"IFERROR((Data!K1211-$E$4),\"\")","v":""},{"$f":"IF(AND(F1211<>\"\",G1211<>\"\",H1211<>\"\",I1211<>\"\",J1211<>\"\"),Data!Q1211-$E$4,\"\")","v":""},"","","","",{"$f":"IF(F1211<>\"\",STDEV($Q$12:Q1211),\"\")","v":""},""]
[1201,null,{"$f":"RIGHT(Data!C1212,10)","v":""},null,null,null,null,null,null,null,{"$f":"IFERROR($U$3*Data!M1212/SQRT(COUNT(Data!F1212:J1212)),\"\")","v":""},"","","","","",{"$f":"IFERROR((Data!K1212-$E$4),\"\")","v":""},{"$f":"IF(AND(F1212<>\"\",G1212<>\"\",H1212<>\"\",I1212<>\"\",J1212<>\"\"),Data!Q1212-$E$4,\"\")","v":""},"","","","",{"$f":"IF(F1212<>\"\",STDEV($Q$12:Q1212),\"\")","v":""},""]
[1202,null,{"$f":"RIGHT(Data!C1213,10)","v":""},null,null,null,null,null,null,null,{"$f":"IFERROR($U$3*Data!M1213/SQRT(COUNT(Data!F1213:J1213)),\"\")","v":""},"","","","","",{"$f":"IFERROR((Data!K1213-$E$4),\"\")","v":""},{"$f":"IF(AND(F1213<>\"\",G1213<>\"\",H1213<>\"\",I1213<>\"\",J1213<>\"\"),Data!Q1213-$E$4,\"\")","v":""},"","","","",{"$f":"IF(F1213<>\"\",STDEV($Q$12:Q1213),\"\")","v":""},""]
[1203,null,{"$f":"RIGHT(Data!C1214,10)","v":""},null,null,null,null,null,null,null,{"$f":"IFERROR($U$3*Data!M1214/SQRT(COUNT(Data!F1214:J1214)),\"\")","v":""},"","","","","",{"$f":"IFERROR((Data!K1214-$E$4),\"\")","v":""},{"$f":"IF(AND(F1214<>\"\",G1214<>\"\",H1214<>\"\",I1214<>\"\",J1214<>\"\"),Data!Q1214-$E$4,\"\")","v":""},"","","","",{"$f":"IF(F1214<>\"\",STDEV($Q$12:Q1214),\"\")","v":""},""]
[1204,null,{"$f":"RIGHT(Data!C1215,10)","v":""},null,null,null,null,null,null,null,{"$f":"IFERROR($U$3*Data!M1215/SQRT(COUNT(Data!F1215:J1215)),\"\")","v":""},"","","","","",{"$f":"IFERROR((Data!K1215-$E$4),\"\")","v":""},{"$f":"IF(AND(F1215<>\"\",G1215<>\"\",H1215<>\"\",I1215<>\"\",J1215<>\"\"),Data!Q1215-$E$4,\"\")","v":""},"","","","",{"$f":"IF(F1215<>\"\",STDEV($Q$12:Q1215),\"\")","v":""},""]
[1205,null,{"$f":"RIGHT(Data!C1216,10)","v":""},null,null,null,null,null,null,null,{"$f":"IFERROR($U$3*Data!M1216/SQRT(COUNT(Data!F1216:J1216)),\"\")","v":""},"","","","","",{"$f":"IFERROR((Data!K1216-$E$4),\"\")","v":""},{"$f":"IF(AND(F1216<>\"\",G1216<>\"\",H1216<>\"\",I1216<>\"\",J1216<>\"\"),Data!Q1216-$E$4,\"\")","v":""},"","","","",{"$f":"IF(F1216<>\"\",STDEV($Q$12:Q1216),\"\")","v":""},""]
[1206,null,{"$f":"RIGHT(Data!C1217,10)","v":""},null,null,null,null,null,null,null,{"$f":"IFERROR($U$3*Data!M1217/SQRT(COUNT(Data!F1217:J1217)),\"\")","v":""},"","","","","",{"$f":"IFERROR((Data!K1217-$E$4),\"\")","v":""},{"$f":"IF(AND(F1217<>\"\",G1217<>\"\",H1217<>\"\",I1217<>\"\",J1217<>\"\"),Data!Q1217-$E$4,\"\")","v":""},"","","","",{"$f":"IF(F1217<>\"\",STDEV($Q$12:Q1217),\"\")","v":""},""]
[1207,null,{"$f":"RIGHT(Data!C1218,10)","v":""},null,null,null,null,null,null,null,{"$f":"IFERROR($U$3*Data!M1218/SQRT(COUNT(Data!F1218:J1218)),\"\")","v":""},"","","","","",{"$f":"IFERROR((Data!K1218-$E$4),\"\")","v":""},{"$f":"IF(AND(F1218<>\"\",G1218<>\"\",H1218<>\"\",I1218<>\"\",J1218<>\"\"),Data!Q1218-$E$4,\"\")","v":""},"","","","",{"$f":"IF(F1218<>\"\",STDEV($Q$12:Q1218),\"\")","v":""},""]
[1208,null,{"$f":"RIGHT(Data!C1219,10)","v":""},null,null,null,null,null,null,null,{"$f":"IFERROR($U$3*Data!M1219/SQRT(COUNT(Data!F1219:J1219)),\"\")","v":""},"","","","","",{"$f":"IFERROR((Data!K1219-$E$4),\"\")","v":""},{"$f":"IF(AND(F1219<>\"\",G1219<>\"\",H1219<>\"\",I1219<>\"\",J1219<>\"\"),Data!Q1219-$E$4,\"\")","v":""},"","","","",{"$f":"IF(F1219<>\"\",STDEV($Q$12:Q1219),\"\")","v":""},""]
[1209,null,{"$f":"RIGHT(Data!C1220,10)","v":""},null,null,null,null,null,null,null,{"$f":"IFERROR($U$3*Data!M1220/SQRT(COUNT(Data!F1220:J1220)),\"\")","v":""},"","","","","",{"$f":"IFERROR((Data!K1220-$E$4),\"\")","v":""},{"$f":"IF(AND(F1220<>\"\",G1220<>\"\",H1220<>\"\",I1220<>\"\",J1220<>\"\"),Data!Q1220-$E$4,\"\")","v":""},"","","","",{"$f":"IF(F1220<>\"\",STDEV($Q$12:Q1220),\"\")","v":""},""]
[1210,null,{"$f":"RIGHT(Data!C1221,10)","v":""},null,null,null,null,null,null,null,{"$f":"IFERROR($U$3*Data!M1221/SQRT(COUNT(Data!F1221:J1221)),\"\")","v":""},"","","","","",{"$f":"IFERROR((Data!K1221-$E$4),\"\")","v":""},{"$f":"IF(AND(F1221<>\"\",G1221<>\"\",H1221<>\"\",I1221<>\"\",J1221<>\"\"),Data!Q1221-$E$4,\"\")","v":""},"","","","",{"$f":"IF(F1221<>\"\",STDEV($Q$12:Q1221),\"\")","v":""},""]
[1211,null,{"$f":"RIGHT(Data!C1222,10)","v":""},null,null,null,null,null,null,null,{"$f":"IFERROR($U$3*Data!M1222/SQRT(COUNT(Data!F1222:J1222)),\"\")","v":""},"","","","","",{"$f":"IFERROR((Data!K1222-$E$4),\"\")","v":""},{"$f":"IF(AND(F1222<>\"\",G1222<>\"\",H1222<>\"\",I1222<>\"\",J1222<>\"\"),Data!Q1222-$E$4,\"\")","v":""},"","","","",{"$f":"IF(F1222<>\"\",STDEV($Q$12:Q1222),\"\")","v":""},""]
[1212,null,{"$f":"RIGHT(Data!C1223,10)","v":""},null,null,null,null,null,null,null,{"$f":"IFERROR($U$3*Data!M1223/SQRT(COUNT(Data!F1223:J1223)),\"\")","v":""},"","","","","",{"$f":"IFERROR((Data!K1223-$E$4),\"\")","v":""},{"$f":"IF(AND(F1223<>\"\",G1223<>\"\",H1223<>\"\",I1223<>\"\",J1223<>\"\"),Data!Q1223-$E$4,\"\")","v":""},"","","","",{"$f":"IF(F1223<>\"\",STDEV($Q$12:Q1223),\"\")","v":""},""]
[1213,null,{"$f":"RIGHT(Data!C1224,10)","v":""},null,null,null,null,null,null,null,{"$f":"IFERROR($U$3*Data!M1224/SQRT(COUNT(Data!F1224:J1224)),\"\")","v":""},"","","","","",{"$f":"IFERROR((Data!K1224-$E$4),\"\")","v":""},{"$f":"IF(AND(F1224<>\"\",G1224<>\"\",H1224<>\"\",I1224<>\"\",J1224<>\"\"),Data!Q1224-$E$4,\"\")","v":""},"","","","",{"$f":"IF(F1224<>\"\",STDEV($Q$12:Q1224),\"\")","v":""},""]
[1214,null,{"$f":"RIGHT(Data!C1225,10)","v":""},null,null,null,null,null,null,null,{"$f":"IFERROR($U$3*Data!M1225/SQRT(COUNT(Data!F1225:J1225)),\"\")","v":""},"","","","","",{"$f":"IFERROR((Data!K1225-$E$4),\"\")","v":""},{"$f":"IF(AND(F1225<>\"\",G1225<>\"\",H1225<>\"\",I1225<>\"\",J1225<>\"\"),Data!Q1225-$E$4,\"\")","v":""},"","","","",{"$f":"IF(F1225<>\"\",STDEV($Q$12:Q1225),\"\")","v":""},""]
[1215,null,{"$f":"RIGHT(Data!C1226,10)","v":""},null,null,null,null,null,null,null,{"$f":"IFERROR($U$3*Data!M1226/SQRT(COUNT(Data!F1226:J1226)),\"\")","v":""},"","","","","",{"$f":"IFERROR((Data!K1226-$E$4),\"\")","v":""},{"$f":"IF(AND(F1226<>\"\",G1226<>\"\",H1226<>\"\",I1226<>\"\",J1226<>\"\"),Data!Q1226-$E$4,\"\")","v":""},"","","","",{"$f":"IF(F1226<>\"\",STDEV($Q$12:Q1226),\"\")","v":""},""]
[1216,null,{"$f":"RIGHT(Data!C1227,10)","v":""},null,null,null,null,null,null,null,{"$f":"IFERROR($U$3*Data!M1227/SQRT(COUNT(Data!F1227:J1227)),\"\")","v":""},"","","","","",{"$f":"IFERROR((Data!K1227-$E$4),\"\")","v":""},{"$f":"IF(AND(F1227<>\"\",G1227<>\"\",H1227<>\"\",I1227<>\"\",J1227<>\"\"),Data!Q1227-$E$4,\"\")","v":""},"","","","",{"$f":"IF(F1227<>\"\",STDEV($Q$12:Q1227),\"\")","v":""},""]
[1217,null,{"$f":"RIGHT(Data!C1228,10)","v":""},null,null,null,null,null,null,null,{"$f":"IFERROR($U$3*Data!M1228/SQRT(COUNT(Data!F1228:J1228)),\"\")","v":""},"","",{"$f":"IF(COUNT(F1228:J1228)>=5,STDEV(F1228:J1228)*$U$3/SQRT((COUNT(F1228:J1228))),\"\")","v":""},{"$f":"IFERROR($U$4*SQRT($U$7^2+L1228^2+K1228^2+$U$5^2+N1228^2),\"\")","v":""},"",{"$f":"IFERROR((Data!K1228-$E$4),\"\")","v":""},{"$f":"IF(AND(F1228<>\"\",G1228<>\"\",H1228<>\"\",I1228<>\"\",J1228<>\"\"),Data!Q1228-$E$4,\"\")","v":""},{"$f":"IF(O1228<>\"\",FIXED(X1228,1) & \" ± \" & FIXED(O1228+ABS(R1228),2),\"\")","v":""},"","","",{"$f":"IF(F1228<>\"\",STDEV($Q$12:Q1228),\"\")","v":""},{"$f":"IF(F1228<>\"\",AVERAGE(F1228:J1228),\"\")","v":""}]
[1218,null,{"$f":"RIGHT(Data!C1229,10)","v":""},null,null,null,null,null,null,null,{"$f":"IFERROR($U$3*Data!M1229/SQRT(COUNT(Data!F1229:J1229)),\"\")","v":""},{"$f":"IF(F1229<>\"\",V1229*W1229/SQRT(A1229),\"\")","v":""},{"$f":"IF(F1229<>\"\",$U$4*SQRT($U$7^2+L1229^2+K1229^2+$U$5^2),\"\")","v":""},"","",{"$f":"IF(AND(F1229<>\"\",G1229<>\"\",H1229<>\"\",I1229<>\"\",J1229<>\"\"),AVERAGE(F1229:J1229),\"\")","v":""},{"$f":"IFERROR((Data!K1229-$E$4),\"\")","v":""},{"$f":"IF(AND(F1229<>\"\",G1229<>\"\",H1229<>\"\",I1229<>\"\",J1229<>\"\"),Data!Q1229-$E$4,\"\")","v":""},"",{"$f":"IF(F1229<>\"\",FIXED(AVERAGE(F1229:J1229)-R1229,1) & \" ± \" & FIXED(O1229,2),\"\")","v":""},{"$f":"IF(IO1229=\"\",\"\",IO1229-1)","v":""},{"$f":"IF(F1229<>\"\",TINV(1-0.68,A1229-1),\"\")","v":""},{"$f":"IF(F1229<>\"\",STDEV($Q$12:Q1229),\"\")","v":""},""]
[1219,null,{"$f":"RIGHT(Data!C1230,10)","v":""},null,null,null,null,null,null,null,{"$f":"IFERROR($U$3*Data!M1230/SQRT(COUNT(Data!F1230:J1230)),\"\")","v":""},"","","","","",{"$f":"IFERROR((Data!K1230-$E$4),\"\")","v":""},{"$f":"IF(AND(F1230<>\"\",G1230<>\"\",H1230<>\"\",I1230<>\"\",J1230<>\"\"),Data!Q1230-$E$4,\"\")","v":""},"","","","",{"$f":"IF(F1230<>\"\",STDEV($Q$12:Q1230),\"\")","v":""},""]
[1220,null,{"$f":"RIGHT(Data!C1231,10)","v":""},null,null,null,null,null,null,null,{"$f":"IFERROR($U$3*Data!M1231/SQRT(COUNT(Data!F1231:J1231)),\"\")","v":""},"","","","","",{"$f":"IFERROR((Data!K1231-$E$4),\"\")","v":""},{"$f":"IF(AND(F1231<>\"\",G1231<>\"\",H1231<>\"\",I1231<>\"\",J1231<>\"\"),Data!Q1231-$E$4,\"\")","v":""},"","","","",{"$f":"IF(F1231<>\"\",STDEV($Q$12:Q1231),\"\")","v":""},""]
[1221,null,{"$f":"RIGHT(Data!C1232,10)","v":""},null,null,null,null,null,null,null,{"$f":"IFERROR($U$3*Data!M1232/SQRT(COUNT(Data!F1232:J1232)),\"\")","v":""},"","","","","",{"$f":"IFERROR((Data!K1232-$E$4),\"\")","v":""},{"$f":"IF(AND(F1232<>\"\",G1232<>\"\",H1232<>\"\",I1232<>\"\",J1232<>\"\"),Data!Q1232-$E$4,\"\")","v":""},"","","","",{"$f":"IF(F1232<>\"\",STDEV($Q$12:Q1232),\"\")","v":""},""]
[1222,null,{"$f":"RIGHT(Data!C1233,10)","v":""},null,null,null,null,null,null,null,{"$f":"IFERROR($U$3*Data!M1233/SQRT(COUNT(Data!F1233:J1233)),\"\")","v":""},"","","","","",{"$f":"IFERROR((Data!K1233-$E$4),\"\")","v":""},{"$f":"IF(AND(F1233<>\"\",G1233<>\"\",H1233<>\"\",I1233<>\"\",J1233<>\"\"),Data!Q1233-$E$4,\"\")","v":""},"","","","",{"$f":"IF(F1233<>\"\",STDEV($Q$12:Q1233),\"\")","v":""},""]
[1223,null,{"$f":"RIGHT(Data!C1234,10)","v":""},null,null,null,null,null,null,null,{"$f":"IFERROR($U$3*Data!M1234/SQRT(COUNT(Data!F1234:J1234)),\"\")","v":""},"","","","","",{"$f":"IFERROR((Data!K1234-$E$4),\"\")","v":""},{"$f":"IF(AND(F1234<>\"\",G1234<>\"\",H1234<>\"\",I1234<>\"\",J1234<>\"\"),Data!Q1234-$E$4,\"\")","v":""},"","","","",{"$f":"IF(F1234<>\"\",STDEV($Q$12:Q1234),\"\")","v":""},""]
[1224,null,{"$f":"RIGHT(Data!C1235,10)","v":""},null,null,null,null,null,null,null,{"$f":"IFERROR($U$3*Data!M1235/SQRT(COUNT(Data!F1235:J1235)),\"\")","v":""},"","","","","",{"$f":"IFERROR((Data!K1235-$E$4),\"\")","v":""},{"$f":"IF(AND(F1235<>\"\",G1235<>\"\",H1235<>\"\",I1235<>\"\",J1235<>\"\"),Data!Q1235-$E$4,\"\")","v":""},"","","","",{"$f":"IF(F1235<>\"\",STDEV($Q$12:Q1235),\"\")","v":""},""]
[1225,null,{"$f":"RIGHT(Data!C1236,10)","v":""},null,null,null,null,null,null,null,{"$f":"IFERROR($U$3*Data!M1236/SQRT(COUNT(Data!F1236:J1236)),\"\")","v":""},"","","","","",{"$f":"IFERROR((Data!K1236-$E$4),\"\")","v":""},{"$f":"IF(AND(F1236<>\"\",G1236<>\"\",H1236<>\"\",I1236<>\"\",J1236<>\"\"),Data!Q1236-$E$4,\"\")","v":""},"","","","",{"$f":"IF(F1236<>\"\",STDEV($Q$12:Q1236),\"\")","v":""},""]
[1226,null,{"$f":"RIGHT(Data!C1237,10)","v":""},null,null,null,null,null,null,null,{"$f":"IFERROR($U$3*Data!M1237/SQRT(COUNT(Data!F1237:J1237)),\"\")","v":""},"","","","","",{"$f":"IFERROR((Data!K1237-$E$4),\"\")","v":""},{"$f":"IF(AND(F1237<>\"\",G1237<>\"\",H1237<>\"\",I1237<>\"\",J1237<>\"\"),Data!Q1237-$E$4,\"\")","v":""},"","","","",{"$f":"IF(F1237<>\"\",STDEV($Q$12:Q1237),\"\")","v":""},""]
[1227,null,{"$f":"RIGHT(Data!C1238,10)","v":""},null,null,null,null,null,null,null,{"$f":"IFERROR($U$3*Data!M1238/SQRT(COUNT(Data!F1238:J1238)),\"\")","v":""},"","","","","",{"$f":"IFERROR((Data!K1238-$E$4),\"\")","v":""},{"$f":"IF(AND(F1238<>\"\",G1238<>\"\",H1238<>\"\",I1238<>\"\",J1238<>\"\"),Data!Q1238-$E$4,\"\")","v":""},"","","","",{"$f":"IF(F1238<>\"\",STDEV($Q$12:Q1238),\"\")","v":""},""]
[1228,null,{"$f":"RIGHT(Data!C1239,10)","v":""},null,null,null,null,null,null,null,{"$f":"IFERROR($U$3*Data!M1239/SQRT(COUNT(Data!F1239:J1239)),\"\")","v":""},"","","","","",{"$f":"IFERROR((Data!K1239-$E$4),\"\")","v":""},{"$f":"IF(AND(F1239<>\"\",G1239<>\"\",H1239<>\"\",I1239<>\"\",J1239<>\"\"),Data!Q1239-$E$4,\"\")","v":""},"","","","",{"$f":"IF(F1239<>\"\",STDEV($Q$12:Q1239),\"\")","v":""},""]
[1229,null,{"$f":"RIGHT(Data!C1240,10)","v":""},null,null,null,null,null,null,null,{"$f":"IFERROR($U$3*Data!M1240/SQRT(COUNT(Data!F1240:J1240)),\"\")","v":""},"","","","","",{"$f":"IFERROR((Data!K1240-$E$4),\"\")","v":""},{"$f":"IF(AND(F1240<>\"\",G1240<>\"\",H1240<>\"\",I1240<>\"\",J1240<>\"\"),Data!Q1240-$E$4,\"\")","v":""},"","","","",{"$f":"IF(F1240<>\"\",STDEV($Q$12:Q1240),\"\")","v":""},""]
[1230,null,{"$f":"RIGHT(Data!C1241,10)","v":""},null,null,null,null,null,null,null,{"$f":"IFERROR($U$3*Data!M1241/SQRT(COUNT(Data!F1241:J1241)),\"\")","v":""},"","","","","",{"$f":"IFERROR((Data!K1241-$E$4),\"\")","v":""},{"$f":"IF(AND(F1241<>\"\",G1241<>\"\",H1241<>\"\",I1241<>\"\",J1241<>\"\"),Data!Q1241-$E$4,\"\")","v":""},"","","","",{"$f":"IF(F1241<>\"\",STDEV($Q$12:Q1241),\"\")","v":""},""]
[1231,null,{"$f":"RIGHT(Data!C1242,10)","v":""},null,null,null,null,null,null,null,{"$f":"IFERROR($U$3*Data!M1242/SQRT(COUNT(Data!F1242:J1242)),\"\")","v":""},"","","","","",{"$f":"IFERROR((Data!K1242-$E$4),\"\")","v":""},{"$f":"IF(AND(F1242<>\"\",G1242<>\"\",H1242<>\"\",I1242<>\"\",J1242<>\"\"),Data!Q1242-$E$4,\"\")","v":""},"","","","",{"$f":"IF(F1242<>\"\",STDEV($Q$12:Q1242),\"\")","v":""},""]
[1232,null,{"$f":"RIGHT(Data!C1243,10)","v":""},null,null,null,null,null,null,null,{"$f":"IFERROR($U$3*Data!M1243/SQRT(COUNT(Data!F1243:J1243)),\"\")","v":""},"","","","","",{"$f":"IFERROR((Data!K1243-$E$4),\"\")","v":""},{"$f":"IF(AND(F1243<>\"\",G1243<>\"\",H1243<>\"\",I1243<>\"\",J1243<>\"\"),Data!Q1243-$E$4,\"\")","v":""},"","","","",{"$f":"IF(F1243<>\"\",STDEV($Q$12:Q1243),\"\")","v":""},""]
[1233,null,{"$f":"RIGHT(Data!C1244,10)","v":""},null,null,null,null,null,null,null,{"$f":"IFERROR($U$3*Data!M1244/SQRT(COUNT(Data!F1244:J1244)),\"\")","v":""},"","","","","",{"$f":"IFERROR((Data!K1244-$E$4),\"\")","v":""},{"$f":"IF(AND(F1244<>\"\",G1244<>\"\",H1244<>\"\",I1244<>\"\",J1244<>\"\"),Data!Q1244-$E$4,\"\")","v":""},"","","","",{"$f":"IF(F1244<>\"\",STDEV($Q$12:Q1244),\"\")","v":""},""]
[1234,null,{"$f":"RIGHT(Data!C1245,10)","v":""},null,null,null,null,null,null,null,{"$f":"IFERROR($U$3*Data!M1245/SQRT(COUNT(Data!F1245:J1245)),\"\")","v":""},"","","","","",{"$f":"IFERROR((Data!K1245-$E$4),\"\")","v":""},{"$f":"IF(AND(F1245<>\"\",G1245<>\"\",H1245<>\"\",I1245<>\"\",J1245<>\"\"),Data!Q1245-$E$4,\"\")","v":""},"","","","",{"$f":"IF(F1245<>\"\",STDEV($Q$12:Q1245),\"\")","v":""},""]
[1235,null,{"$f":"RIGHT(Data!C1246,10)","v":""},null,null,null,null,null,null,null,{"$f":"IFERROR($U$3*Data!M1246/SQRT(COUNT(Data!F1246:J1246)),\"\")","v":""},"","","","","",{"$f":"IFERROR((Data!K1246-$E$4),\"\")","v":""},{"$f":"IF(AND(F1246<>\"\",G1246<>\"\",H1246<>\"\",I1246<>\"\",J1246<>\"\"),Data!Q1246-$E$4,\"\")","v":""},"","","","",{"$f":"IF(F1246<>\"\",STDEV($Q$12:Q1246),\"\")","v":""},""]
[1236,null,{"$f":"RIGHT(Data!C1247,10)","v":""},null,null,null,null,null,null,null,{"$f":"IFERROR($U$3*Data!M1247/SQRT(COUNT(Data!F1247:J1247)),\"\")","v":""},"","","","","",{"$f":"IFERROR((Data!K1247-$E$4),\"\")","v":""},{"$f":"IF(AND(F1247<>\"\",G1247<>\"\",H1247<>\"\",I1247<>\"\",J1247<>\"\"),Data!Q1247-$E$4,\"\")","v":""},"","","","",{"$f":"IF(F1247<>\"\",STDEV($Q$12:Q1247),\"\")","v":""},""]
[1237,null,{"$f":"RIGHT(Data!C1248,10)","v":""},null,null,null,null,null,null,null,{"$f":"IFERROR($U$3*Data!M1248/SQRT(COUNT(Data!F1248:J1248)),\"\")","v":""},"","","","","",{"$f":"IFERROR((Data!K1248-$E$4),\"\")","v":""},{"$f":"IF(AND(F1248<>\"\",G1248<>\"\",H1248<>\"\",I1248<>\"\",J1248<>\"\"),Data!Q1248-$E$4,\"\")","v":""},"","","","",{"$f":"IF(F1248<>\"\",STDEV($Q$12:Q1248),\"\")","v":""},""]
[1238,null,{"$f":"RIGHT(Data!C1249,10)","v":""},null,null,null,null,null,null,null,{"$f":"IFERROR($U$3*Data!M1249/SQRT(COUNT(Data!F1249:J1249)),\"\")","v":""},"","","","","",{"$f":"IFERROR((Data!K1249-$E$4),\"\")","v":""},{"$f":"IF(AND(F1249<>\"\",G1249<>\"\",H1249<>\"\",I1249<>\"\",J1249<>\"\"),Data!Q1249-$E$4,\"\")","v":""},"","","","",{"$f":"IF(F1249<>\"\",STDEV($Q$12:Q1249),\"\")","v":""},""]
[1239,null,{"$f":"RIGHT(Data!C1250,10)","v":""},null,null,null,null,null,null,null,{"$f":"IFERROR($U$3*Data!M1250/SQRT(COUNT(Data!F1250:J1250)),\"\")","v":""},"","","","","",{"$f":"IFERROR((Data!K1250-$E$4),\"\")","v":""},{"$f":"IF(AND(F1250<>\"\",G1250<>\"\",H1250<>\"\",I1250<>\"\",J1250<>\"\"),Data!Q1250-$E$4,\"\")","v":""},"","","","",{"$f":"IF(F1250<>\"\",STDEV($Q$12:Q1250),\"\")","v":""},""]
[1240,null,{"$f":"RIGHT(Data!C1251,10)","v":""},null,null,null,null,null,null,null,{"$f":"IFERROR($U$3*Data!M1251/SQRT(COUNT(Data!F1251:J1251)),\"\")","v":""},"","","","","",{"$f":"IFERROR((Data!K1251-$E$4),\"\")","v":""},{"$f":"IF(AND(F1251<>\"\",G1251<>\"\",H1251<>\"\",I1251<>\"\",J1251<>\"\"),Data!Q1251-$E$4,\"\")","v":""},"","","","",{"$f":"IF(F1251<>\"\",STDEV($Q$12:Q1251),\"\")","v":""},""]
[1241,null,{"$f":"RIGHT(Data!C1252,10)","v":""},null,null,null,null,null,null,null,{"$f":"IFERROR($U$3*Data!M1252/SQRT(COUNT(Data!F1252:J1252)),\"\")","v":""},"","","","","",{"$f":"IFERROR((Data!K1252-$E$4),\"\")","v":""},{"$f":"IF(AND(F1252<>\"\",G1252<>\"\",H1252<>\"\",I1252<>\"\",J1252<>\"\"),Data!Q1252-$E$4,\"\")","v":""},"","","","",{"$f":"IF(F1252<>\"\",STDEV($Q$12:Q1252),\"\")","v":""},""]
[1242,null,{"$f":"RIGHT(Data!C1253,10)","v":""},null,null,null,null,null,null,null,{"$f":"IFERROR($U$3*Data!M1253/SQRT(COUNT(Data!F1253:J1253)),\"\")","v":""},"","","","","",{"$f":"IFERROR((Data!K1253-$E$4),\"\")","v":""},{"$f":"IF(AND(F1253<>\"\",G1253<>\"\",H1253<>\"\",I1253<>\"\",J1253<>\"\"),Data!Q1253-$E$4,\"\")","v":""},"","","","",{"$f":"IF(F1253<>\"\",STDEV($Q$12:Q1253),\"\")","v":""},""]
[1243,null,{"$f":"RIGHT(Data!C1254,10)","v":""},null,null,null,null,null,null,null,{"$f":"IFERROR($U$3*Data!M1254/SQRT(COUNT(Data!F1254:J1254)),\"\")","v":""},"","","","","",{"$f":"IFERROR((Data!K1254-$E$4),\"\")","v":""},{"$f":"IF(AND(F1254<>\"\",G1254<>\"\",H1254<>\"\",I1254<>\"\",J1254<>\"\"),Data!Q1254-$E$4,\"\")","v":""},"","","","",{"$f":"IF(F1254<>\"\",STDEV($Q$12:Q1254),\"\")","v":""},""]
[1244,null,{"$f":"RIGHT(Data!C1255,10)","v":""},null,null,null,null,null,null,null,{"$f":"IFERROR($U$3*Data!M1255/SQRT(COUNT(Data!F1255:J1255)),\"\")","v":""},"","","","","",{"$f":"IFERROR((Data!K1255-$E$4),\"\")","v":""},{"$f":"IF(AND(F1255<>\"\",G1255<>\"\",H1255<>\"\",I1255<>\"\",J1255<>\"\"),Data!Q1255-$E$4,\"\")","v":""},"","","","",{"$f":"IF(F1255<>\"\",STDEV($Q$12:Q1255),\"\")","v":""},""]
[1245,null,{"$f":"RIGHT(Data!C1256,10)","v":""},null,null,null,null,null,null,null,{"$f":"IFERROR($U$3*Data!M1256/SQRT(COUNT(Data!F1256:J1256)),\"\")","v":""},"","","","","",{"$f":"IFERROR((Data!K1256-$E$4),\"\")","v":""},{"$f":"IF(AND(F1256<>\"\",G1256<>\"\",H1256<>\"\",I1256<>\"\",J1256<>\"\"),Data!Q1256-$E$4,\"\")","v":""},"","","","",{"$f":"IF(F1256<>\"\",STDEV($Q$12:Q1256),\"\")","v":""},""]
[1246,null,{"$f":"RIGHT(Data!C1257,10)","v":""},null,null,null,null,null,null,null,{"$f":"IFERROR($U$3*Data!M1257/SQRT(COUNT(Data!F1257:J1257)),\"\")","v":""},"","","","","",{"$f":"IFERROR((Data!K1257-$E$4),\"\")","v":""},{"$f":"IF(AND(F1257<>\"\",G1257<>\"\",H1257<>\"\",I1257<>\"\",J1257<>\"\"),Data!Q1257-$E$4,\"\")","v":""},"","","","",{"$f":"IF(F1257<>\"\",STDEV($Q$12:Q1257),\"\")","v":""},""]
[1247,null,{"$f":"RIGHT(Data!C1258,10)","v":""},null,null,null,null,null,null,null,{"$f":"IFERROR($U$3*Data!M1258/SQRT(COUNT(Data!F1258:J1258)),\"\")","v":""},"","","","","",{"$f":"IFERROR((Data!K1258-$E$4),\"\")","v":""},{"$f":"IF(AND(F1258<>\"\",G1258<>\"\",H1258<>\"\",I1258<>\"\",J1258<>\"\"),Data!Q1258-$E$4,\"\")","v":""},"","","","",{"$f":"IF(F1258<>\"\",STDEV($Q$12:Q1258),\"\")","v":""},""]
[1248,null,{"$f":"RIGHT(Data!C1259,10)","v":""},null,null,null,null,null,null,null,{"$f":"IFERROR($U$3*Data!M1259/SQRT(COUNT(Data!F1259:J1259)),\"\")","v":""},"","","","","",{"$f":"IFERROR((Data!K1259-$E$4),\"\")","v":""},{"$f":"IF(AND(F1259<>\"\",G1259<>\"\",H1259<>\"\",I1259<>\"\",J1259<>\"\"),Data!Q1259-$E$4,\"\")","v":""},"","","","",{"$f":"IF(F1259<>\"\",STDEV($Q$12:Q1259),\"\")","v":""},""]
[1249,null,{"$f":"RIGHT(Data!C1260,10)","v":""},null,null,null,null,null,null,null,{"$f":"IFERROR($U$3*Data!M1260/SQRT(COUNT(Data!F1260:J1260)),\"\")","v":""},"","","","","",{"$f":"IFERROR((Data!K1260-$E$4),\"\")","v":""},{"$f":"IF(AND(F1260<>\"\",G1260<>\"\",H1260<>\"\",I1260<>\"\",J1260<>\"\"),Data!Q1260-$E$4,\"\")","v":""},"","","","",{"$f":"IF(F1260<>\"\",STDEV($Q$12:Q1260),\"\")","v":""},""]
[1250,null,{"$f":"RIGHT(Data!C1261,10)","v":""},null,null,null,null,null,null,null,{"$f":"IFERROR($U$3*Data!M1261/SQRT(COUNT(Data!F1261:J1261)),\"\")","v":""},"","","","","",{"$f":"IFERROR((Data!K1261-$E$4),\"\")","v":""},{"$f":"IF(AND(F1261<>\"\",G1261<>\"\",H1261<>\"\",I1261<>\"\",J1261<>\"\"),Data!Q1261-$E$4,\"\")","v":""},"","","","",{"$f":"IF(F1261<>\"\",STDEV($Q$12:Q1261),\"\")","v":""},""]
[1251,null,{"$f":"RIGHT(Data!C1262,10)","v":""},null,null,null,null,null,null,null,{"$f":"IFERROR($U$3*Data!M1262/SQRT(COUNT(Data!F1262:J1262)),\"\")","v":""},"","","","","",{"$f":"IFERROR((Data!K1262-$E$4),\"\")","v":""},{"$f":"IF(AND(F1262<>\"\",G1262<>\"\",H1262<>\"\",I1262<>\"\",J1262<>\"\"),Data!Q1262-$E$4,\"\")","v":""},"","","","",{"$f":"IF(F1262<>\"\",STDEV($Q$12:Q1262),\"\")","v":""},""]
[1252,null,{"$f":"RIGHT(Data!C1263,10)","v":""},null,null,null,null,null,null,null,{"$f":"IFERROR($U$3*Data!M1263/SQRT(COUNT(Data!F1263:J1263)),\"\")","v":""},"","","","","",{"$f":"IFERROR((Data!K1263-$E$4),\"\")","v":""},{"$f":"IF(AND(F1263<>\"\",G1263<>\"\",H1263<>\"\",I1263<>\"\",J1263<>\"\"),Data!Q1263-$E$4,\"\")","v":""},"","","","",{"$f":"IF(F1263<>\"\",STDEV($Q$12:Q1263),\"\")","v":""},""]
[1253,null,{"$f":"RIGHT(Data!C1264,10)","v":""},null,null,null,null,null,null,null,{"$f":"IFERROR($U$3*Data!M1264/SQRT(COUNT(Data!F1264:J1264)),\"\")","v":""},"","","","","",{"$f":"IFERROR((Data!K1264-$E$4),\"\")","v":""},{"$f":"IF(AND(F1264<>\"\",G1264<>\"\",H1264<>\"\",I1264<>\"\",J1264<>\"\"),Data!Q1264-$E$4,\"\")","v":""},"","","","",{"$f":"IF(F1264<>\"\",STDEV($Q$12:Q1264),\"\")","v":""},""]
[1254,null,{"$f":"RIGHT(Data!C1265,10)","v":""},null,null,null,null,null,null,null,{"$f":"IFERROR($U$3*Data!M1265/SQRT(COUNT(Data!F1265:J1265)),\"\")","v":""},"","","","","",{"$f":"IFERROR((Data!K1265-$E$4),\"\")","v":""},{"$f":"IF(AND(F1265<>\"\",G1265<>\"\",H1265<>\"\",I1265<>\"\",J1265<>\"\"),Data!Q1265-$E$4,\"\")","v":""},"","","","",{"$f":"IF(F1265<>\"\",STDEV($Q$12:Q1265),\"\")","v":""},""]
[1255,null,{"$f":"RIGHT(Data!C1266,10)","v":""},null,null,null,null,null,null,null,{"$f":"IFERROR($U$3*Data!M1266/SQRT(COUNT(Data!F1266:J1266)),\"\")","v":""},"","","","","",{"$f":"IFERROR((Data!K1266-$E$4),\"\")","v":""},{"$f":"IF(AND(F1266<>\"\",G1266<>\"\",H1266<>\"\",I1266<>\"\",J1266<>\"\"),Data!Q1266-$E$4,\"\")","v":""},"","","","",{"$f":"IF(F1266<>\"\",STDEV($Q$12:Q1266),\"\")","v":""},""]
[1256,null,{"$f":"RIGHT(Data!C1267,10)","v":""},null,null,null,null,null,null,null,{"$f":"IFERROR($U$3*Data!M1267/SQRT(COUNT(Data!F1267:J1267)),\"\")","v":""},"","","","","",{"$f":"IFERROR((Data!K1267-$E$4),\"\")","v":""},{"$f":"IF(AND(F1267<>\"\",G1267<>\"\",H1267<>\"\",I1267<>\"\",J1267<>\"\"),Data!Q1267-$E$4,\"\")","v":""},"","","","",{"$f":"IF(F1267<>\"\",STDEV($Q$12:Q1267),\"\")","v":""},""]
[1257,null,{"$f":"RIGHT(Data!C1268,10)","v":""},null,null,null,null,null,null,null,{"$f":"IFERROR($U$3*Data!M1268/SQRT(COUNT(Data!F1268:J1268)),\"\")","v":""},"","","","","",{"$f":"IFERROR((Data!K1268-$E$4),\"\")","v":""},{"$f":"IF(AND(F1268<>\"\",G1268<>\"\",H1268<>\"\",I1268<>\"\",J1268<>\"\"),Data!Q1268-$E$4,\"\")","v":""},"","","","",{"$f":"IF(F1268<>\"\",STDEV($Q$12:Q1268),\"\")","v":""},""]
[1258,null,{"$f":"RIGHT(Data!C1269,10)","v":""},null,null,null,null,null,null,null,{"$f":"IFERROR($U$3*Data!M1269/SQRT(COUNT(Data!F1269:J1269)),\"\")","v":""},"","","","","",{"$f":"IFERROR((Data!K1269-$E$4),\"\")","v":""},{"$f":"IF(AND(F1269<>\"\",G1269<>\"\",H1269<>\"\",I1269<>\"\",J1269<>\"\"),Data!Q1269-$E$4,\"\")","v":""},"","","","",{"$f":"IF(F1269<>\"\",STDEV($Q$12:Q1269),\"\")","v":""},""]
[1259,null,{"$f":"RIGHT(Data!C1270,10)","v":""},null,null,null,null,null,null,null,{"$f":"IFERROR($U$3*Data!M1270/SQRT(COUNT(Data!F1270:J1270)),\"\")","v":""},"","","","","",{"$f":"IFERROR((Data!K1270-$E$4),\"\")","v":""},{"$f":"IF(AND(F1270<>\"\",G1270<>\"\",H1270<>\"\",I1270<>\"\",J1270<>\"\"),Data!Q1270-$E$4,\"\")","v":""},"","","","",{"$f":"IF(F1270<>\"\",STDEV($Q$12:Q1270),\"\")","v":""},""]
[1260,null,{"$f":"RIGHT(Data!C1271,10)","v":""},null,null,null,null,null,null,null,{"$f":"IFERROR($U$3*Data!M1271/SQRT(COUNT(Data!F1271:J1271)),\"\")","v":""},"","","","","",{"$f":"IFERROR((Data!K1271-$E$4),\"\")","v":""},{"$f":"IF(AND(F1271<>\"\",G1271<>\"\",H1271<>\"\",I1271<>\"\",J1271<>\"\"),Data!Q1271-$E$4,\"\")","v":""},"","","","",{"$f":"IF(F1271<>\"\",STDEV($Q$12:Q1271),\"\")","v":""},""]
[1261,null,{"$f":"RIGHT(Data!C1272,10)","v":""},null,null,null,null,null,null,null,{"$f":"IFERROR($U$3*Data!M1272/SQRT(COUNT(Data!F1272:J1272)),\"\")","v":""},"","","","","",{"$f":"IFERROR((Data!K1272-$E$4),\"\")","v":""},{"$f":"IF(AND(F1272<>\"\",G1272<>\"\",H1272<>\"\",I1272<>\"\",J1272<>\"\"),Data!Q1272-$E$4,\"\")","v":""},"","","","",{"$f":"IF(F1272<>\"\",STDEV($Q$12:Q1272),\"\")","v":""},""]
[1262,null,{"$f":"RIGHT(Data!C1273,10)","v":""},null,null,null,null,null,null,null,{"$f":"IFERROR($U$3*Data!M1273/SQRT(COUNT(Data!F1273:J1273)),\"\")","v":""},"","","","","",{"$f":"IFERROR((Data!K1273-$E$4),\"\")","v":""},{"$f":"IF(AND(F1273<>\"\",G1273<>\"\",H1273<>\"\",I1273<>\"\",J1273<>\"\"),Data!Q1273-$E$4,\"\")","v":""},"","","","",{"$f":"IF(F1273<>\"\",STDEV($Q$12:Q1273),\"\")","v":""},""]
[1263,null,{"$f":"RIGHT(Data!C1274,10)","v":""},null,null,null,null,null,null,null,{"$f":"IFERROR($U$3*Data!M1274/SQRT(COUNT(Data!F1274:J1274)),\"\")","v":""},"","","","","",{"$f":"IFERROR((Data!K1274-$E$4),\"\")","v":""},{"$f":"IF(AND(F1274<>\"\",G1274<>\"\",H1274<>\"\",I1274<>\"\",J1274<>\"\"),Data!Q1274-$E$4,\"\")","v":""},"","","","",{"$f":"IF(F1274<>\"\",STDEV($Q$12:Q1274),\"\")","v":""},""]
[1264,null,{"$f":"RIGHT(Data!C1275,10)","v":""},null,null,null,null,null,null,null,{"$f":"IFERROR($U$3*Data!M1275/SQRT(COUNT(Data!F1275:J1275)),\"\")","v":""},"","","","","",{"$f":"IFERROR((Data!K1275-$E$4),\"\")","v":""},{"$f":"IF(AND(F1275<>\"\",G1275<>\"\",H1275<>\"\",I1275<>\"\",J1275<>\"\"),Data!Q1275-$E$4,\"\")","v":""},"","","","",{"$f":"IF(F1275<>\"\",STDEV($Q$12:Q1275),\"\")","v":""},""]
[1265,null,{"$f":"RIGHT(Data!C1276,10)","v":""},null,null,null,null,null,null,null,{"$f":"IFERROR($U$3*Data!M1276/SQRT(COUNT(Data!F1276:J1276)),\"\")","v":""},"","","","","",{"$f":"IFERROR((Data!K1276-$E$4),\"\")","v":""},{"$f":"IF(AND(F1276<>\"\",G1276<>\"\",H1276<>\"\",I1276<>\"\",J1276<>\"\"),Data!Q1276-$E$4,\"\")","v":""},"","","","",{"$f":"IF(F1276<>\"\",STDEV($Q$12:Q1276),\"\")","v":""},""]
[1266,null,{"$f":"RIGHT(Data!C1277,10)","v":""},null,null,null,null,null,null,null,{"$f":"IFERROR($U$3*Data!M1277/SQRT(COUNT(Data!F1277:J1277)),\"\")","v":""},"","","","","",{"$f":"IFERROR((Data!K1277-$E$4),\"\")","v":""},{"$f":"IF(AND(F1277<>\"\",G1277<>\"\",H1277<>\"\",I1277<>\"\",J1277<>\"\"),Data!Q1277-$E$4,\"\")","v":""},"","","","",{"$f":"IF(F1277<>\"\",STDEV($Q$12:Q1277),\"\")","v":""},""]
[1267,null,{"$f":"RIGHT(Data!C1278,10)","v":""},null,null,null,null,null,null,null,{"$f":"IFERROR($U$3*Data!M1278/SQRT(COUNT(Data!F1278:J1278)),\"\")","v":""},"","","","","",{"$f":"IFERROR((Data!K1278-$E$4),\"\")","v":""},{"$f":"IF(AND(F1278<>\"\",G1278<>\"\",H1278<>\"\",I1278<>\"\",J1278<>\"\"),Data!Q1278-$E$4,\"\")","v":""},"","","","",{"$f":"IF(F1278<>\"\",STDEV($Q$12:Q1278),\"\")","v":""},""]
[1268,null,{"$f":"RIGHT(Data!C1279,10)","v":""},null,null,null,null,null,null,null,{"$f":"IFERROR($U$3*Data!M1279/SQRT(COUNT(Data!F1279:J1279)),\"\")","v":""},"","","","","",{"$f":"IFERROR((Data!K1279-$E$4),\"\")","v":""},{"$f":"IF(AND(F1279<>\"\",G1279<>\"\",H1279<>\"\",I1279<>\"\",J1279<>\"\"),Data!Q1279-$E$4,\"\")","v":""},"","","","",{"$f":"IF(F1279<>\"\",STDEV($Q$12:Q1279),\"\")","v":""},""]
[1269,null,{"$f":"RIGHT(Data!C1280,10)","v":""},null,null,null,null,null,null,null,{"$f":"IFERROR($U$3*Data!M1280/SQRT(COUNT(Data!F1280:J1280)),\"\")","v":""},"","","","","",{"$f":"IFERROR((Data!K1280-$E$4),\"\")","v":""},{"$f":"IF(AND(F1280<>\"\",G1280<>\"\",H1280<>\"\",I1280<>\"\",J1280<>\"\"),Data!Q1280-$E$4,\"\")","v":""},"","","","",{"$f":"IF(F1280<>\"\",STDEV($Q$12:Q1280),\"\")","v":""},""]
[1270,null,{"$f":"RIGHT(Data!C1281,10)","v":""},null,null,null,null,null,null,null,{"$f":"IFERROR($U$3*Data!M1281/SQRT(COUNT(Data!F1281:J1281)),\"\")","v":""},"","","","","",{"$f":"IFERROR((Data!K1281-$E$4),\"\")","v":""},{"$f":"IF(AND(F1281<>\"\",G1281<>\"\",H1281<>\"\",I1281<>\"\",J1281<>\"\"),Data!Q1281-$E$4,\"\")","v":""},"","","","",{"$f":"IF(F1281<>\"\",STDEV($Q$12:Q1281),\"\")","v":""},""]
[1271,null,{"$f":"RIGHT(Data!C1282,10)","v":""},null,null,null,null,null,null,null,{"$f":"IFERROR($U$3*Data!M1282/SQRT(COUNT(Data!F1282:J1282)),\"\")","v":""},"","","","","",{"$f":"IFERROR((Data!K1282-$E$4),\"\")","v":""},{"$f":"IF(AND(F1282<>\"\",G1282<>\"\",H1282<>\"\",I1282<>\"\",J1282<>\"\"),Data!Q1282-$E$4,\"\")","v":""},"","","","",{"$f":"IF(F1282<>\"\",STDEV($Q$12:Q1282),\"\")","v":""},""]
[1272,null,{"$f":"RIGHT(Data!C1283,10)","v":""},null,null,null,null,null,null,null,{"$f":"IFERROR($U$3*Data!M1283/SQRT(COUNT(Data!F1283:J1283)),\"\")","v":""},"","","","","",{"$f":"IFERROR((Data!K1283-$E$4),\"\")","v":""},{"$f":"IF(AND(F1283<>\"\",G1283<>\"\",H1283<>\"\",I1283<>\"\",J1283<>\"\"),Data!Q1283-$E$4,\"\")","v":""},"","","","",{"$f":"IF(F1283<>\"\",STDEV($Q$12:Q1283),\"\")","v":""},""]
[1273,null,{"$f":"RIGHT(Data!C1284,10)","v":""},null,null,null,null,null,null,null,{"$f":"IFERROR($U$3*Data!M1284/SQRT(COUNT(Data!F1284:J1284)),\"\")","v":""},"","","","","",{"$f":"IFERROR((Data!K1284-$E$4),\"\")","v":""},{"$f":"IF(AND(F1284<>\"\",G1284<>\"\",H1284<>\"\",I1284<>\"\",J1284<>\"\"),Data!Q1284-$E$4,\"\")","v":""},"","","","",{"$f":"IF(F1284<>\"\",STDEV($Q$12:Q1284),\"\")","v":""},""]
[1274,null,{"$f":"RIGHT(Data!C1285,10)","v":""},null,null,null,null,null,null,null,{"$f":"IFERROR($U$3*Data!M1285/SQRT(COUNT(Data!F1285:J1285)),\"\")","v":""},"","","","","",{"$f":"IFERROR((Data!K1285-$E$4),\"\")","v":""},{"$f":"IF(AND(F1285<>\"\",G1285<>\"\",H1285<>\"\",I1285<>\"\",J1285<>\"\"),Data!Q1285-$E$4,\"\")","v":""},"","","","",{"$f":"IF(F1285<>\"\",STDEV($Q$12:Q1285),\"\")","v":""},""]
[1275,null,{"$f":"RIGHT(Data!C1286,10)","v":""},null,null,null,null,null,null,null,{"$f":"IFERROR($U$3*Data!M1286/SQRT(COUNT(Data!F1286:J1286)),\"\")","v":""},"","","","","",{"$f":"IFERROR((Data!K1286-$E$4),\"\")","v":""},{"$f":"IF(AND(F1286<>\"\",G1286<>\"\",H1286<>\"\",I1286<>\"\",J1286<>\"\"),Data!Q1286-$E$4,\"\")","v":""},"","","","",{"$f":"IF(F1286<>\"\",STDEV($Q$12:Q1286),\"\")","v":""},""]
[1276,null,{"$f":"RIGHT(Data!C1287,10)","v":""},null,null,null,null,null,null,null,{"$f":"IFERROR($U$3*Data!M1287/SQRT(COUNT(Data!F1287:J1287)),\"\")","v":""},"","","","","",{"$f":"IFERROR((Data!K1287-$E$4),\"\")","v":""},{"$f":"IF(AND(F1287<>\"\",G1287<>\"\",H1287<>\"\",I1287<>\"\",J1287<>\"\"),Data!Q1287-$E$4,\"\")","v":""},"","","","",{"$f":"IF(F1287<>\"\",STDEV($Q$12:Q1287),\"\")","v":""},""]
[1277,null,{"$f":"RIGHT(Data!C1288,10)","v":""},null,null,null,null,null,null,null,{"$f":"IFERROR($U$3*Data!M1288/SQRT(COUNT(Data!F1288:J1288)),\"\")","v":""},"","","","","",{"$f":"IFERROR((Data!K1288-$E$4),\"\")","v":""},{"$f":"IF(AND(F1288<>\"\",G1288<>\"\",H1288<>\"\",I1288<>\"\",J1288<>\"\"),Data!Q1288-$E$4,\"\")","v":""},"","","","",{"$f":"IF(F1288<>\"\",STDEV($Q$12:Q1288),\"\")","v":""},""]
[1278,null,{"$f":"RIGHT(Data!C1289,10)","v":""},null,null,null,null,null,null,null,{"$f":"IFERROR($U$3*Data!M1289/SQRT(COUNT(Data!F1289:J1289)),\"\")","v":""},"","","","","",{"$f":"IFERROR((Data!K1289-$E$4),\"\")","v":""},{"$f":"IF(AND(F1289<>\"\",G1289<>\"\",H1289<>\"\",I1289<>\"\",J1289<>\"\"),Data!Q1289-$E$4,\"\")","v":""},"","","","",{"$f":"IF(F1289<>\"\",STDEV($Q$12:Q1289),\"\")","v":""},""]
[1279,null,{"$f":"RIGHT(Data!C1290,10)","v":""},null,null,null,null,null,null,null,{"$f":"IFERROR($U$3*Data!M1290/SQRT(COUNT(Data!F1290:J1290)),\"\")","v":""},"","","","","",{"$f":"IFERROR((Data!K1290-$E$4),\"\")","v":""},{"$f":"IF(AND(F1290<>\"\",G1290<>\"\",H1290<>\"\",I1290<>\"\",J1290<>\"\"),Data!Q1290-$E$4,\"\")","v":""},"","","","",{"$f":"IF(F1290<>\"\",STDEV($Q$12:Q1290),\"\")","v":""},""]
[1280,null,{"$f":"RIGHT(Data!C1291,10)","v":""},null,null,null,null,null,null,null,{"$f":"IFERROR($U$3*Data!M1291/SQRT(COUNT(Data!F1291:J1291)),\"\")","v":""},"","","","","",{"$f":"IFERROR((Data!K1291-$E$4),\"\")","v":""},{"$f":"IF(AND(F1291<>\"\",G1291<>\"\",H1291<>\"\",I1291<>\"\",J1291<>\"\"),Data!Q1291-$E$4,\"\")","v":""},"","","","",{"$f":"IF(F1291<>\"\",STDEV($Q$12:Q1291),\"\")","v":""},""]
[1281,null,{"$f":"RIGHT(Data!C1292,10)","v":""},null,null,null,null,null,null,null,{"$f":"IFERROR($U$3*Data!M1292/SQRT(COUNT(Data!F1292:J1292)),\"\")","v":""},"","",{"$f":"IF(COUNT(F1292:J1292)>=5,STDEV(F1292:J1292)*$U$3/SQRT((COUNT(F1292:J1292))),\"\")","v":""},{"$f":"IFERROR($U$4*SQRT($U$7^2+L1292^2+K1292^2+$U$5^2+N1292^2),\"\")","v":""},"",{"$f":"IFERROR((Data!K1292-$E$4),\"\")","v":""},{"$f":"IF(AND(F1292<>\"\",G1292<>\"\",H1292<>\"\",I1292<>\"\",J1292<>\"\"),Data!Q1292-$E$4,\"\")","v":""},{"$f":"IF(O1292<>\"\",FIXED(X1292,1) & \" ± \" & FIXED(O1292+ABS(R1292),2),\"\")","v":""},"","","",{"$f":"IF(F1292<>\"\",STDEV($Q$12:Q1292),\"\")","v":""},{"$f":"IF(F1292<>\"\",AVERAGE(F1292:J1292),\"\")","v":""}]
[1282,null,{"$f":"RIGHT(Data!C1293,10)","v":""},null,null,null,null,null,null,null,{"$f":"IFERROR($U$3*Data!M1293/SQRT(COUNT(Data!F1293:J1293)),\"\")","v":""},{"$f":"IF(F1293<>\"\",V1293*W1293/SQRT(A1293),\"\")","v":""},{"$f":"IF(F1293<>\"\",$U$4*SQRT($U$7^2+L1293^2+K1293^2+$U$5^2),\"\")","v":""},"","",{"$f":"IF(AND(F1293<>\"\",G1293<>\"\",H1293<>\"\",I1293<>\"\",J1293<>\"\"),AVERAGE(F1293:J1293),\"\")","v":""},{"$f":"IFERROR((Data!K1293-$E$4),\"\")","v":""},{"$f":"IF(AND(F1293<>\"\",G1293<>\"\",H1293<>\"\",I1293<>\"\",J1293<>\"\"),Data!Q1293-$E$4,\"\")","v":""},"",{"$f":"IF(F1293<>\"\",FIXED(AVERAGE(F1293:J1293)-R1293,1) & \" ± \" & FIXED(O1293,2),\"\")","v":""},{"$f":"IF(IO1293=\"\",\"\",IO1293-1)","v":""},{"$f":"IF(F1293<>\"\",TINV(1-0.68,A1293-1),\"\")","v":""},{"$f":"IF(F1293<>\"\",STDEV($Q$12:Q1293),\"\")","v":""},""]
[1283,null,{"$f":"RIGHT(Data!C1294,10)","v":""},null,null,null,null,null,null,null,{"$f":"IFERROR($U$3*Data!M1294/SQRT(COUNT(Data!F1294:J1294)),\"\")","v":""},"","","","","",{"$f":"IFERROR((Data!K1294-$E$4),\"\")","v":""},{"$f":"IF(AND(F1294<>\"\",G1294<>\"\",H1294<>\"\",I1294<>\"\",J1294<>\"\"),Data!Q1294-$E$4,\"\")","v":""},"","","","",{"$f":"IF(F1294<>\"\",STDEV($Q$12:Q1294),\"\")","v":""},""]
[1284,null,{"$f":"RIGHT(Data!C1295,10)","v":""},null,null,null,null,null,null,null,{"$f":"IFERROR($U$3*Data!M1295/SQRT(COUNT(Data!F1295:J1295)),\"\")","v":""},"","","","","",{"$f":"IFERROR((Data!K1295-$E$4),\"\")","v":""},{"$f":"IF(AND(F1295<>\"\",G1295<>\"\",H1295<>\"\",I1295<>\"\",J1295<>\"\"),Data!Q1295-$E$4,\"\")","v":""},"","","","",{"$f":"IF(F1295<>\"\",STDEV($Q$12:Q1295),\"\")","v":""},""]
[1285,null,{"$f":"RIGHT(Data!C1296,10)","v":""},null,null,null,null,null,null,null,{"$f":"IFERROR($U$3*Data!M1296/SQRT(COUNT(Data!F1296:J1296)),\"\")","v":""},"","","","","",{"$f":"IFERROR((Data!K1296-$E$4),\"\")","v":""},{"$f":"IF(AND(F1296<>\"\",G1296<>\"\",H1296<>\"\",I1296<>\"\",J1296<>\"\"),Data!Q1296-$E$4,\"\")","v":""},"","","","",{"$f":"IF(F1296<>\"\",STDEV($Q$12:Q1296),\"\")","v":""},""]
[1286,null,{"$f":"RIGHT(Data!C1297,10)","v":""},null,null,null,null,null,null,null,{"$f":"IFERROR($U$3*Data!M1297/SQRT(COUNT(Data!F1297:J1297)),\"\")","v":""},"","","","","",{"$f":"IFERROR((Data!K1297-$E$4),\"\")","v":""},{"$f":"IF(AND(F1297<>\"\",G1297<>\"\",H1297<>\"\",I1297<>\"\",J1297<>\"\"),Data!Q1297-$E$4,\"\")","v":""},"","","","",{"$f":"IF(F1297<>\"\",STDEV($Q$12:Q1297),\"\")","v":""},""]
[1287,null,{"$f":"RIGHT(Data!C1298,10)","v":""},null,null,null,null,null,null,null,{"$f":"IFERROR($U$3*Data!M1298/SQRT(COUNT(Data!F1298:J1298)),\"\")","v":""},"","","","","",{"$f":"IFERROR((Data!K1298-$E$4),\"\")","v":""},{"$f":"IF(AND(F1298<>\"\",G1298<>\"\",H1298<>\"\",I1298<>\"\",J1298<>\"\"),Data!Q1298-$E$4,\"\")","v":""},"","","","",{"$f":"IF(F1298<>\"\",STDEV($Q$12:Q1298),\"\")","v":""},""]
[1288,null,{"$f":"RIGHT(Data!C1299,10)","v":""},null,null,null,null,null,null,null,{"$f":"IFERROR($U$3*Data!M1299/SQRT(COUNT(Data!F1299:J1299)),\"\")","v":""},"","","","","",{"$f":"IFERROR((Data!K1299-$E$4),\"\")","v":""},{"$f":"IF(AND(F1299<>\"\",G1299<>\"\",H1299<>\"\",I1299<>\"\",J1299<>\"\"),Data!Q1299-$E$4,\"\")","v":""},"","","","",{"$f":"IF(F1299<>\"\",STDEV($Q$12:Q1299),\"\")","v":""},""]
[1289,null,{"$f":"RIGHT(Data!C1300,10)","v":""},null,null,null,null,null,null,null,{"$f":"IFERROR($U$3*Data!M1300/SQRT(COUNT(Data!F1300:J1300)),\"\")","v":""},"","","","","",{"$f":"IFERROR((Data!K1300-$E$4),\"\")","v":""},{"$f":"IF(AND(F1300<>\"\",G1300<>\"\",H1300<>\"\",I1300<>\"\",J1300<>\"\"),Data!Q1300-$E$4,\"\")","v":""},"","","","",{"$f":"IF(F1300<>\"\",STDEV($Q$12:Q1300),\"\")","v":""},""]
[1290,null,{"$f":"RIGHT(Data!C1301,10)","v":""},null,null,null,null,null,null,null,{"$f":"IFERROR($U$3*Data!M1301/SQRT(COUNT(Data!F1301:J1301)),\"\")","v":""},"","","","","",{"$f":"IFERROR((Data!K1301-$E$4),\"\")","v":""},{"$f":"IF(AND(F1301<>\"\",G1301<>\"\",H1301<>\"\",I1301<>\"\",J1301<>\"\"),Data!Q1301-$E$4,\"\")","v":""},"","","","",{"$f":"IF(F1301<>\"\",STDEV($Q$12:Q1301),\"\")","v":""},""]
[1291,null,{"$f":"RIGHT(Data!C1302,10)","v":""},null,null,null,null,null,null,null,{"$f":"IFERROR($U$3*Data!M1302/SQRT(COUNT(Data!F1302:J1302)),\"\")","v":""},"","","","","",{"$f":"IFERROR((Data!K1302-$E$4),\"\")","v":""},{"$f":"IF(AND(F1302<>\"\",G1302<>\"\",H1302<>\"\",I1302<>\"\",J1302<>\"\"),Data!Q1302-$E$4,\"\")","v":""},"","","","",{"$f":"IF(F1302<>\"\",STDEV($Q$12:Q1302),\"\")","v":""},""]
[1292,null,{"$f":"RIGHT(Data!C1303,10)","v":""},null,null,null,null,null,null,null,{"$f":"IFERROR($U$3*Data!M1303/SQRT(COUNT(Data!F1303:J1303)),\"\")","v":""},"","","","","",{"$f":"IFERROR((Data!K1303-$E$4),\"\")","v":""},{"$f":"IF(AND(F1303<>\"\",G1303<>\"\",H1303<>\"\",I1303<>\"\",J1303<>\"\"),Data!Q1303-$E$4,\"\")","v":""},"","","","",{"$f":"IF(F1303<>\"\",STDEV($Q$12:Q1303),\"\")","v":""},""]
[1293,null,{"$f":"RIGHT(Data!C1304,10)","v":""},null,null,null,null,null,null,null,{"$f":"IFERROR($U$3*Data!M1304/SQRT(COUNT(Data!F1304:J1304)),\"\")","v":""},"","","","","",{"$f":"IFERROR((Data!K1304-$E$4),\"\")","v":""},{"$f":"IF(AND(F1304<>\"\",G1304<>\"\",H1304<>\"\",I1304<>\"\",J1304<>\"\"),Data!Q1304-$E$4,\"\")","v":""},"","","","",{"$f":"IF(F1304<>\"\",STDEV($Q$12:Q1304),\"\")","v":""},""]
[1294,null,{"$f":"RIGHT(Data!C1305,10)","v":""},null,null,null,null,null,null,null,{"$f":"IFERROR($U$3*Data!M1305/SQRT(COUNT(Data!F1305:J1305)),\"\")","v":""},"","","","","",{"$f":"IFERROR((Data!K1305-$E$4),\"\")","v":""},{"$f":"IF(AND(F1305<>\"\",G1305<>\"\",H1305<>\"\",I1305<>\"\",J1305<>\"\"),Data!Q1305-$E$4,\"\")","v":""},"","","","",{"$f":"IF(F1305<>\"\",STDEV($Q$12:Q1305),\"\")","v":""},""]
[1295,null,{"$f":"RIGHT(Data!C1306,10)","v":""},null,null,null,null,null,null,null,{"$f":"IFERROR($U$3*Data!M1306/SQRT(COUNT(Data!F1306:J1306)),\"\")","v":""},"","","","","",{"$f":"IFERROR((Data!K1306-$E$4),\"\")","v":""},{"$f":"IF(AND(F1306<>\"\",G1306<>\"\",H1306<>\"\",I1306<>\"\",J1306<>\"\"),Data!Q1306-$E$4,\"\")","v":""},"","","","",{"$f":"IF(F1306<>\"\",STDEV($Q$12:Q1306),\"\")","v":""},""]
[1296,null,{"$f":"RIGHT(Data!C1307,10)","v":""},null,null,null,null,null,null,null,{"$f":"IFERROR($U$3*Data!M1307/SQRT(COUNT(Data!F1307:J1307)),\"\")","v":""},"","","","","",{"$f":"IFERROR((Data!K1307-$E$4),\"\")","v":""},{"$f":"IF(AND(F1307<>\"\",G1307<>\"\",H1307<>\"\",I1307<>\"\",J1307<>\"\"),Data!Q1307-$E$4,\"\")","v":""},"","","","",{"$f":"IF(F1307<>\"\",STDEV($Q$12:Q1307),\"\")","v":""},""]
[1297,null,{"$f":"RIGHT(Data!C1308,10)","v":""},null,null,null,null,null,null,null,{"$f":"IFERROR($U$3*Data!M1308/SQRT(COUNT(Data!F1308:J1308)),\"\")","v":""},"","","","","",{"$f":"IFERROR((Data!K1308-$E$4),\"\")","v":""},{"$f":"IF(AND(F1308<>\"\",G1308<>\"\",H1308<>\"\",I1308<>\"\",J1308<>\"\"),Data!Q1308-$E$4,\"\")","v":""},"","","","",{"$f":"IF(F1308<>\"\",STDEV($Q$12:Q1308),\"\")","v":""},""]
[1298,null,{"$f":"RIGHT(Data!C1309,10)","v":""},null,null,null,null,null,null,null,{"$f":"IFERROR($U$3*Data!M1309/SQRT(COUNT(Data!F1309:J1309)),\"\")","v":""},"","","","","",{"$f":"IFERROR((Data!K1309-$E$4),\"\")","v":""},{"$f":"IF(AND(F1309<>\"\",G1309<>\"\",H1309<>\"\",I1309<>\"\",J1309<>\"\"),Data!Q1309-$E$4,\"\")","v":""},"","","","",{"$f":"IF(F1309<>\"\",STDEV($Q$12:Q1309),\"\")","v":""},""]
[1299,null,{"$f":"RIGHT(Data!C1310,10)","v":""},null,null,null,null,null,null,null,{"$f":"IFERROR($U$3*Data!M1310/SQRT(COUNT(Data!F1310:J1310)),\"\")","v":""},"","","","","",{"$f":"IFERROR((Data!K1310-$E$4),\"\")","v":""},{"$f":"IF(AND(F1310<>\"\",G1310<>\"\",H1310<>\"\",I1310<>\"\",J1310<>\"\"),Data!Q1310-$E$4,\"\")","v":""},"","","","",{"$f":"IF(F1310<>\"\",STDEV($Q$12:Q1310),\"\")","v":""},""]
[1300,null,{"$f":"RIGHT(Data!C1311,10)","v":""},null,null,null,null,null,null,null,{"$f":"IFERROR($U$3*Data!M1311/SQRT(COUNT(Data!F1311:J1311)),\"\")","v":""},"","","","","",{"$f":"IFERROR((Data!K1311-$E$4),\"\")","v":""},{"$f":"IF(AND(F1311<>\"\",G1311<>\"\",H1311<>\"\",I1311<>\"\",J1311<>\"\"),Data!Q1311-$E$4,\"\")","v":""},"","","","",{"$f":"IF(F1311<>\"\",STDEV($Q$12:Q1311),\"\")","v":""},""]
[1301,null,{"$f":"RIGHT(Data!C1312,10)","v":""},null,null,null,null,null,null,null,{"$f":"IFERROR($U$3*Data!M1312/SQRT(COUNT(Data!F1312:J1312)),\"\")","v":""},"","","","","",{"$f":"IFERROR((Data!K1312-$E$4),\"\")","v":""},{"$f":"IF(AND(F1312<>\"\",G1312<>\"\",H1312<>\"\",I1312<>\"\",J1312<>\"\"),Data!Q1312-$E$4,\"\")","v":""},"","","","",{"$f":"IF(F1312<>\"\",STDEV($Q$12:Q1312),\"\")","v":""},""]
[1302,null,{"$f":"RIGHT(Data!C1313,10)","v":""},null,null,null,null,null,null,null,{"$f":"IFERROR($U$3*Data!M1313/SQRT(COUNT(Data!F1313:J1313)),\"\")","v":""},"","","","","",{"$f":"IFERROR((Data!K1313-$E$4),\"\")","v":""},{"$f":"IF(AND(F1313<>\"\",G1313<>\"\",H1313<>\"\",I1313<>\"\",J1313<>\"\"),Data!Q1313-$E$4,\"\")","v":""},"","","","",{"$f":"IF(F1313<>\"\",STDEV($Q$12:Q1313),\"\")","v":""},""]
[1303,null,{"$f":"RIGHT(Data!C1314,10)","v":""},null,null,null,null,null,null,null,{"$f":"IFERROR($U$3*Data!M1314/SQRT(COUNT(Data!F1314:J1314)),\"\")","v":""},"","","","","",{"$f":"IFERROR((Data!K1314-$E$4),\"\")","v":""},{"$f":"IF(AND(F1314<>\"\",G1314<>\"\",H1314<>\"\",I1314<>\"\",J1314<>\"\"),Data!Q1314-$E$4,\"\")","v":""},"","","","",{"$f":"IF(F1314<>\"\",STDEV($Q$12:Q1314),\"\")","v":""},""]
[1304,null,{"$f":"RIGHT(Data!C1315,10)","v":""},null,null,null,null,null,null,null,{"$f":"IFERROR($U$3*Data!M1315/SQRT(COUNT(Data!F1315:J1315)),\"\")","v":""},"","","","","",{"$f":"IFERROR((Data!K1315-$E$4),\"\")","v":""},{"$f":"IF(AND(F1315<>\"\",G1315<>\"\",H1315<>\"\",I1315<>\"\",J1315<>\"\"),Data!Q1315-$E$4,\"\")","v":""},"","","","",{"$f":"IF(F1315<>\"\",STDEV($Q$12:Q1315),\"\")","v":""},""]
[1305,null,{"$f":"RIGHT(Data!C1316,10)","v":""},null,null,null,null,null,null,null,{"$f":"IFERROR($U$3*Data!M1316/SQRT(COUNT(Data!F1316:J1316)),\"\")","v":""},"","","","","",{"$f":"IFERROR((Data!K1316-$E$4),\"\")","v":""},{"$f":"IF(AND(F1316<>\"\",G1316<>\"\",H1316<>\"\",I1316<>\"\",J1316<>\"\"),Data!Q1316-$E$4,\"\")","v":""},"","","","",{"$f":"IF(F1316<>\"\",STDEV($Q$12:Q1316),\"\")","v":""},""]
[1306,null,{"$f":"RIGHT(Data!C1317,10)","v":""},null,null,null,null,null,null,null,{"$f":"IFERROR($U$3*Data!M1317/SQRT(COUNT(Data!F1317:J1317)),\"\")","v":""},"","","","","",{"$f":"IFERROR((Data!K1317-$E$4),\"\")","v":""},{"$f":"IF(AND(F1317<>\"\",G1317<>\"\",H1317<>\"\",I1317<>\"\",J1317<>\"\"),Data!Q1317-$E$4,\"\")","v":""},"","","","",{"$f":"IF(F1317<>\"\",STDEV($Q$12:Q1317),\"\")","v":""},""]
[1307,null,{"$f":"RIGHT(Data!C1318,10)","v":""},null,null,null,null,null,null,null,{"$f":"IFERROR($U$3*Data!M1318/SQRT(COUNT(Data!F1318:J1318)),\"\")","v":""},"","","","","",{"$f":"IFERROR((Data!K1318-$E$4),\"\")","v":""},{"$f":"IF(AND(F1318<>\"\",G1318<>\"\",H1318<>\"\",I1318<>\"\",J1318<>\"\"),Data!Q1318-$E$4,\"\")","v":""},"","","","",{"$f":"IF(F1318<>\"\",STDEV($Q$12:Q1318),\"\")","v":""},""]
[1308,null,{"$f":"RIGHT(Data!C1319,10)","v":""},null,null,null,null,null,null,null,{"$f":"IFERROR($U$3*Data!M1319/SQRT(COUNT(Data!F1319:J1319)),\"\")","v":""},"","","","","",{"$f":"IFERROR((Data!K1319-$E$4),\"\")","v":""},{"$f":"IF(AND(F1319<>\"\",G1319<>\"\",H1319<>\"\",I1319<>\"\",J1319<>\"\"),Data!Q1319-$E$4,\"\")","v":""},"","","","",{"$f":"IF(F1319<>\"\",STDEV($Q$12:Q1319),\"\")","v":""},""]
[1309,null,{"$f":"RIGHT(Data!C1320,10)","v":""},null,null,null,null,null,null,null,{"$f":"IFERROR($U$3*Data!M1320/SQRT(COUNT(Data!F1320:J1320)),\"\")","v":""},"","","","","",{"$f":"IFERROR((Data!K1320-$E$4),\"\")","v":""},{"$f":"IF(AND(F1320<>\"\",G1320<>\"\",H1320<>\"\",I1320<>\"\",J1320<>\"\"),Data!Q1320-$E$4,\"\")","v":""},"","","","",{"$f":"IF(F1320<>\"\",STDEV($Q$12:Q1320),\"\")","v":""},""]
[1310,null,{"$f":"RIGHT(Data!C1321,10)","v":""},null,null,null,null,null,null,null,{"$f":"IFERROR($U$3*Data!M1321/SQRT(COUNT(Data!F1321:J1321)),\"\")","v":""},"","","","","",{"$f":"IFERROR((Data!K1321-$E$4),\"\")","v":""},{"$f":"IF(AND(F1321<>\"\",G1321<>\"\",H1321<>\"\",I1321<>\"\",J1321<>\"\"),Data!Q1321-$E$4,\"\")","v":""},"","","","",{"$f":"IF(F1321<>\"\",STDEV($Q$12:Q1321),\"\")","v":""},""]
[1311,null,{"$f":"RIGHT(Data!C1322,10)","v":""},null,null,null,null,null,null,null,{"$f":"IFERROR($U$3*Data!M1322/SQRT(COUNT(Data!F1322:J1322)),\"\")","v":""},"","","","","",{"$f":"IFERROR((Data!K1322-$E$4),\"\")","v":""},{"$f":"IF(AND(F1322<>\"\",G1322<>\"\",H1322<>\"\",I1322<>\"\",J1322<>\"\"),Data!Q1322-$E$4,\"\")","v":""},"","","","",{"$f":"IF(F1322<>\"\",STDEV($Q$12:Q1322),\"\")","v":""},""]
[1312,null,{"$f":"RIGHT(Data!C1323,10)","v":""},null,null,null,null,null,null,null,{"$f":"IFERROR($U$3*Data!M1323/SQRT(COUNT(Data!F1323:J1323)),\"\")","v":""},"","","","","",{"$f":"IFERROR((Data!K1323-$E$4),\"\")","v":""},{"$f":"IF(AND(F1323<>\"\",G1323<>\"\",H1323<>\"\",I1323<>\"\",J1323<>\"\"),Data!Q1323-$E$4,\"\")","v":""},"","","","",{"$f":"IF(F1323<>\"\",STDEV($Q$12:Q1323),\"\")","v":""},""]
[1313,null,{"$f":"RIGHT(Data!C1324,10)","v":""},null,null,null,null,null,null,null,{"$f":"IFERROR($U$3*Data!M1324/SQRT(COUNT(Data!F1324:J1324)),\"\")","v":""},"","","","","",{"$f":"IFERROR((Data!K1324-$E$4),\"\")","v":""},{"$f":"IF(AND(F1324<>\"\",G1324<>\"\",H1324<>\"\",I1324<>\"\",J1324<>\"\"),Data!Q1324-$E$4,\"\")","v":""},"","","","",{"$f":"IF(F1324<>\"\",STDEV($Q$12:Q1324),\"\")","v":""},""]
[1314,null,{"$f":"RIGHT(Data!C1325,10)","v":""},null,null,null,null,null,null,null,{"$f":"IFERROR($U$3*Data!M1325/SQRT(COUNT(Data!F1325:J1325)),\"\")","v":""},"","","","","",{"$f":"IFERROR((Data!K1325-$E$4),\"\")","v":""},{"$f":"IF(AND(F1325<>\"\",G1325<>\"\",H1325<>\"\",I1325<>\"\",J1325<>\"\"),Data!Q1325-$E$4,\"\")","v":""},"","","","",{"$f":"IF(F1325<>\"\",STDEV($Q$12:Q1325),\"\")","v":""},""]
[1315,null,{"$f":"RIGHT(Data!C1326,10)","v":""},null,null,null,null,null,null,null,{"$f":"IFERROR($U$3*Data!M1326/SQRT(COUNT(Data!F1326:J1326)),\"\")","v":""},"","","","","",{"$f":"IFERROR((Data!K1326-$E$4),\"\")","v":""},{"$f":"IF(AND(F1326<>\"\",G1326<>\"\",H1326<>\"\",I1326<>\"\",J1326<>\"\"),Data!Q1326-$E$4,\"\")","v":""},"","","","",{"$f":"IF(F1326<>\"\",STDEV($Q$12:Q1326),\"\")","v":""},""]
[1316,null,{"$f":"RIGHT(Data!C1327,10)","v":""},null,null,null,null,null,null,null,{"$f":"IFERROR($U$3*Data!M1327/SQRT(COUNT(Data!F1327:J1327)),\"\")","v":""},"","","","","",{"$f":"IFERROR((Data!K1327-$E$4),\"\")","v":""},{"$f":"IF(AND(F1327<>\"\",G1327<>\"\",H1327<>\"\",I1327<>\"\",J1327<>\"\"),Data!Q1327-$E$4,\"\")","v":""},"","","","",{"$f":"IF(F1327<>\"\",STDEV($Q$12:Q1327),\"\")","v":""},""]
[1317,null,{"$f":"RIGHT(Data!C1328,10)","v":""},null,null,null,null,null,null,null,{"$f":"IFERROR($U$3*Data!M1328/SQRT(COUNT(Data!F1328:J1328)),\"\")","v":""},"","","","","",{"$f":"IFERROR((Data!K1328-$E$4),\"\")","v":""},{"$f":"IF(AND(F1328<>\"\",G1328<>\"\",H1328<>\"\",I1328<>\"\",J1328<>\"\"),Data!Q1328-$E$4,\"\")","v":""},"","","","",{"$f":"IF(F1328<>\"\",STDEV($Q$12:Q1328),\"\")","v":""},""]
[1318,null,{"$f":"RIGHT(Data!C1329,10)","v":""},null,null,null,null,null,null,null,{"$f":"IFERROR($U$3*Data!M1329/SQRT(COUNT(Data!F1329:J1329)),\"\")","v":""},"","","","","",{"$f":"IFERROR((Data!K1329-$E$4),\"\")","v":""},{"$f":"IF(AND(F1329<>\"\",G1329<>\"\",H1329<>\"\",I1329<>\"\",J1329<>\"\"),Data!Q1329-$E$4,\"\")","v":""},"","","","",{"$f":"IF(F1329<>\"\",STDEV($Q$12:Q1329),\"\")","v":""},""]
[1319,null,{"$f":"RIGHT(Data!C1330,10)","v":""},null,null,null,null,null,null,null,{"$f":"IFERROR($U$3*Data!M1330/SQRT(COUNT(Data!F1330:J1330)),\"\")","v":""},"","","","","",{"$f":"IFERROR((Data!K1330-$E$4),\"\")","v":""},{"$f":"IF(AND(F1330<>\"\",G1330<>\"\",H1330<>\"\",I1330<>\"\",J1330<>\"\"),Data!Q1330-$E$4,\"\")","v":""},"","","","",{"$f":"IF(F1330<>\"\",STDEV($Q$12:Q1330),\"\")","v":""},""]
[1320,null,{"$f":"RIGHT(Data!C1331,10)","v":""},null,null,null,null,null,null,null,{"$f":"IFERROR($U$3*Data!M1331/SQRT(COUNT(Data!F1331:J1331)),\"\")","v":""},"","","","","",{"$f":"IFERROR((Data!K1331-$E$4),\"\")","v":""},{"$f":"IF(AND(F1331<>\"\",G1331<>\"\",H1331<>\"\",I1331<>\"\",J1331<>\"\"),Data!Q1331-$E$4,\"\")","v":""},"","","","",{"$f":"IF(F1331<>\"\",STDEV($Q$12:Q1331),\"\")","v":""},""]
[1321,null,{"$f":"RIGHT(Data!C1332,10)","v":""},null,null,null,null,null,null,null,{"$f":"IFERROR($U$3*Data!M1332/SQRT(COUNT(Data!F1332:J1332)),\"\")","v":""},"","","","","",{"$f":"IFERROR((Data!K1332-$E$4),\"\")","v":""},{"$f":"IF(AND(F1332<>\"\",G1332<>\"\",H1332<>\"\",I1332<>\"\",J1332<>\"\"),Data!Q1332-$E$4,\"\")","v":""},"","","","",{"$f":"IF(F1332<>\"\",STDEV($Q$12:Q1332),\"\")","v":""},""]
[1322,null,{"$f":"RIGHT(Data!C1333,10)","v":""},null,null,null,null,null,null,null,{"$f":"IFERROR($U$3*Data!M1333/SQRT(COUNT(Data!F1333:J1333)),\"\")","v":""},"","","","","",{"$f":"IFERROR((Data!K1333-$E$4),\"\")","v":""},{"$f":"IF(AND(F1333<>\"\",G1333<>\"\",H1333<>\"\",I1333<>\"\",J1333<>\"\"),Data!Q1333-$E$4,\"\")","v":""},"","","","",{"$f":"IF(F1333<>\"\",STDEV($Q$12:Q1333),\"\")","v":""},""]
[1323,null,{"$f":"RIGHT(Data!C1334,10)","v":""},null,null,null,null,null,null,null,{"$f":"IFERROR($U$3*Data!M1334/SQRT(COUNT(Data!F1334:J1334)),\"\")","v":""},"","","","","",{"$f":"IFERROR((Data!K1334-$E$4),\"\")","v":""},{"$f":"IF(AND(F1334<>\"\",G1334<>\"\",H1334<>\"\",I1334<>\"\",J1334<>\"\"),Data!Q1334-$E$4,\"\")","v":""},"","","","",{"$f":"IF(F1334<>\"\",STDEV($Q$12:Q1334),\"\")","v":""},""]
[1324,null,{"$f":"RIGHT(Data!C1335,10)","v":""},null,null,null,null,null,null,null,{"$f":"IFERROR($U$3*Data!M1335/SQRT(COUNT(Data!F1335:J1335)),\"\")","v":""},"","","","","",{"$f":"IFERROR((Data!K1335-$E$4),\"\")","v":""},{"$f":"IF(AND(F1335<>\"\",G1335<>\"\",H1335<>\"\",I1335<>\"\",J1335<>\"\"),Data!Q1335-$E$4,\"\")","v":""},"","","","",{"$f":"IF(F1335<>\"\",STDEV($Q$12:Q1335),\"\")","v":""},""]
[1325,null,{"$f":"RIGHT(Data!C1336,10)","v":""},null,null,null,null,null,null,null,{"$f":"IFERROR($U$3*Data!M1336/SQRT(COUNT(Data!F1336:J1336)),\"\")","v":""},"","","","","",{"$f":"IFERROR((Data!K1336-$E$4),\"\")","v":""},{"$f":"IF(AND(F1336<>\"\",G1336<>\"\",H1336<>\"\",I1336<>\"\",J1336<>\"\"),Data!Q1336-$E$4,\"\")","v":""},"","","","",{"$f":"IF(F1336<>\"\",STDEV($Q$12:Q1336),\"\")","v":""},""]
[1326,null,{"$f":"RIGHT(Data!C1337,10)","v":""},null,null,null,null,null,null,null,{"$f":"IFERROR($U$3*Data!M1337/SQRT(COUNT(Data!F1337:J1337)),\"\")","v":""},"","","","","",{"$f":"IFERROR((Data!K1337-$E$4),\"\")","v":""},{"$f":"IF(AND(F1337<>\"\",G1337<>\"\",H1337<>\"\",I1337<>\"\",J1337<>\"\"),Data!Q1337-$E$4,\"\")","v":""},"","","","",{"$f":"IF(F1337<>\"\",STDEV($Q$12:Q1337),\"\")","v":""},""]
[1327,null,{"$f":"RIGHT(Data!C1338,10)","v":""},null,null,null,null,null,null,null,{"$f":"IFERROR($U$3*Data!M1338/SQRT(COUNT(Data!F1338:J1338)),\"\")","v":""},"","","","","",{"$f":"IFERROR((Data!K1338-$E$4),\"\")","v":""},{"$f":"IF(AND(F1338<>\"\",G1338<>\"\",H1338<>\"\",I1338<>\"\",J1338<>\"\"),Data!Q1338-$E$4,\"\")","v":""},"","","","",{"$f":"IF(F1338<>\"\",STDEV($Q$12:Q1338),\"\")","v":""},""]
[1328,null,{"$f":"RIGHT(Data!C1339,10)","v":""},null,null,null,null,null,null,null,{"$f":"IFERROR($U$3*Data!M1339/SQRT(COUNT(Data!F1339:J1339)),\"\")","v":""},"","","","","",{"$f":"IFERROR((Data!K1339-$E$4),\"\")","v":""},{"$f":"IF(AND(F1339<>\"\",G1339<>\"\",H1339<>\"\",I1339<>\"\",J1339<>\"\"),Data!Q1339-$E$4,\"\")","v":""},"","","","",{"$f":"IF(F1339<>\"\",STDEV($Q$12:Q1339),\"\")","v":""},""]
[1329,null,{"$f":"RIGHT(Data!C1340,10)","v":""},null,null,null,null,null,null,null,{"$f":"IFERROR($U$3*Data!M1340/SQRT(COUNT(Data!F1340:J1340)),\"\")","v":""},"","","","","",{"$f":"IFERROR((Data!K1340-$E$4),\"\")","v":""},{"$f":"IF(AND(F1340<>\"\",G1340<>\"\",H1340<>\"\",I1340<>\"\",J1340<>\"\"),Data!Q1340-$E$4,\"\")","v":""},"","","","",{"$f":"IF(F1340<>\"\",STDEV($Q$12:Q1340),\"\")","v":""},""]
[1330,null,{"$f":"RIGHT(Data!C1341,10)","v":""},null,null,null,null,null,null,null,{"$f":"IFERROR($U$3*Data!M1341/SQRT(COUNT(Data!F1341:J1341)),\"\")","v":""},"","","","","",{"$f":"IFERROR((Data!K1341-$E$4),\"\")","v":""},{"$f":"IF(AND(F1341<>\"\",G1341<>\"\",H1341<>\"\",I1341<>\"\",J1341<>\"\"),Data!Q1341-$E$4,\"\")","v":""},"","","","",{"$f":"IF(F1341<>\"\",STDEV($Q$12:Q1341),\"\")","v":""},""]
[1331,null,{"$f":"RIGHT(Data!C1342,10)","v":""},null,null,null,null,null,null,null,{"$f":"IFERROR($U$3*Data!M1342/SQRT(COUNT(Data!F1342:J1342)),\"\")","v":""},"","","","","",{"$f":"IFERROR((Data!K1342-$E$4),\"\")","v":""},{"$f":"IF(AND(F1342<>\"\",G1342<>\"\",H1342<>\"\",I1342<>\"\",J1342<>\"\"),Data!Q1342-$E$4,\"\")","v":""},"","","","",{"$f":"IF(F1342<>\"\",STDEV($Q$12:Q1342),\"\")","v":""},""]
[1332,null,{"$f":"RIGHT(Data!C1343,10)","v":""},null,null,null,null,null,null,null,{"$f":"IFERROR($U$3*Data!M1343/SQRT(COUNT(Data!F1343:J1343)),\"\")","v":""},"","","","","",{"$f":"IFERROR((Data!K1343-$E$4),\"\")","v":""},{"$f":"IF(AND(F1343<>\"\",G1343<>\"\",H1343<>\"\",I1343<>\"\",J1343<>\"\"),Data!Q1343-$E$4,\"\")","v":""},"","","","",{"$f":"IF(F1343<>\"\",STDEV($Q$12:Q1343),\"\")","v":""},""]
[1333,null,{"$f":"RIGHT(Data!C1344,10)","v":""},null,null,null,null,null,null,null,{"$f":"IFERROR($U$3*Data!M1344/SQRT(COUNT(Data!F1344:J1344)),\"\")","v":""},"","","","","",{"$f":"IFERROR((Data!K1344-$E$4),\"\")","v":""},{"$f":"IF(AND(F1344<>\"\",G1344<>\"\",H1344<>\"\",I1344<>\"\",J1344<>\"\"),Data!Q1344-$E$4,\"\")","v":""},"","","","",{"$f":"IF(F1344<>\"\",STDEV($Q$12:Q1344),\"\")","v":""},""]
[1334,null,{"$f":"RIGHT(Data!C1345,10)","v":""},null,null,null,null,null,null,null,{"$f":"IFERROR($U$3*Data!M1345/SQRT(COUNT(Data!F1345:J1345)),\"\")","v":""},"","","","","",{"$f":"IFERROR((Data!K1345-$E$4),\"\")","v":""},{"$f":"IF(AND(F1345<>\"\",G1345<>\"\",H1345<>\"\",I1345<>\"\",J1345<>\"\"),Data!Q1345-$E$4,\"\")","v":""},"","","","",{"$f":"IF(F1345<>\"\",STDEV($Q$12:Q1345),\"\")","v":""},""]
[1335,null,{"$f":"RIGHT(Data!C1346,10)","v":""},null,null,null,null,null,null,null,{"$f":"IFERROR($U$3*Data!M1346/SQRT(COUNT(Data!F1346:J1346)),\"\")","v":""},"","","","","",{"$f":"IFERROR((Data!K1346-$E$4),\"\")","v":""},{"$f":"IF(AND(F1346<>\"\",G1346<>\"\",H1346<>\"\",I1346<>\"\",J1346<>\"\"),Data!Q1346-$E$4,\"\")","v":""},"","","","",{"$f":"IF(F1346<>\"\",STDEV($Q$12:Q1346),\"\")","v":""},""]
[1336,null,{"$f":"RIGHT(Data!C1347,10)","v":""},null,null,null,null,null,null,null,{"$f":"IFERROR($U$3*Data!M1347/SQRT(COUNT(Data!F1347:J1347)),\"\")","v":""},"","","","","",{"$f":"IFERROR((Data!K1347-$E$4),\"\")","v":""},{"$f":"IF(AND(F1347<>\"\",G1347<>\"\",H1347<>\"\",I1347<>\"\",J1347<>\"\"),Data!Q1347-$E$4,\"\")","v":""},"","","","",{"$f":"IF(F1347<>\"\",STDEV($Q$12:Q1347),\"\")","v":""},""]
[1337,null,{"$f":"RIGHT(Data!C1348,10)","v":""},null,null,null,null,null,null,null,{"$f":"IFERROR($U$3*Data!M1348/SQRT(COUNT(Data!F1348:J1348)),\"\")","v":""},"","","","","",{"$f":"IFERROR((Data!K1348-$E$4),\"\")","v":""},{"$f":"IF(AND(F1348<>\"\",G1348<>\"\",H1348<>\"\",I1348<>\"\",J1348<>\"\"),Data!Q1348-$E$4,\"\")","v":""},"","","","",{"$f":"IF(F1348<>\"\",STDEV($Q$12:Q1348),\"\")","v":""},""]
[1338,null,{"$f":"RIGHT(Data!C1349,10)","v":""},null,null,null,null,null,null,null,{"$f":"IFERROR($U$3*Data!M1349/SQRT(COUNT(Data!F1349:J1349)),\"\")","v":""},"","","","","",{"$f":"IFERROR((Data!K1349-$E$4),\"\")","v":""},{"$f":"IF(AND(F1349<>\"\",G1349<>\"\",H1349<>\"\",I1349<>\"\",J1349<>\"\"),Data!Q1349-$E$4,\"\")","v":""},"","","","",{"$f":"IF(F1349<>\"\",STDEV($Q$12:Q1349),\"\")","v":""},""]
[1339,null,{"$f":"RIGHT(Data!C1350,10)","v":""},null,null,null,null,null,null,null,{"$f":"IFERROR($U$3*Data!M1350/SQRT(COUNT(Data!F1350:J1350)),\"\")","v":""},"","","","","",{"$f":"IFERROR((Data!K1350-$E$4),\"\")","v":""},{"$f":"IF(AND(F1350<>\"\",G1350<>\"\",H1350<>\"\",I1350<>\"\",J1350<>\"\"),Data!Q1350-$E$4,\"\")","v":""},"","","","",{"$f":"IF(F1350<>\"\",STDEV($Q$12:Q1350),\"\")","v":""},""]
[1340,null,{"$f":"RIGHT(Data!C1351,10)","v":""},null,null,null,null,null,null,null,{"$f":"IFERROR($U$3*Data!M1351/SQRT(COUNT(Data!F1351:J1351)),\"\")","v":""},"","","","","",{"$f":"IFERROR((Data!K1351-$E$4),\"\")","v":""},{"$f":"IF(AND(F1351<>\"\",G1351<>\"\",H1351<>\"\",I1351<>\"\",J1351<>\"\"),Data!Q1351-$E$4,\"\")","v":""},"","","","",{"$f":"IF(F1351<>\"\",STDEV($Q$12:Q1351),\"\")","v":""},""]
[1341,null,{"$f":"RIGHT(Data!C1352,10)","v":""},null,null,null,null,null,null,null,{"$f":"IFERROR($U$3*Data!M1352/SQRT(COUNT(Data!F1352:J1352)),\"\")","v":""},"","","","","",{"$f":"IFERROR((Data!K1352-$E$4),\"\")","v":""},{"$f":"IF(AND(F1352<>\"\",G1352<>\"\",H1352<>\"\",I1352<>\"\",J1352<>\"\"),Data!Q1352-$E$4,\"\")","v":""},"","","","",{"$f":"IF(F1352<>\"\",STDEV($Q$12:Q1352),\"\")","v":""},""]
[1342,null,{"$f":"RIGHT(Data!C1353,10)","v":""},null,null,null,null,null,null,null,{"$f":"IFERROR($U$3*Data!M1353/SQRT(COUNT(Data!F1353:J1353)),\"\")","v":""},"","","","","",{"$f":"IFERROR((Data!K1353-$E$4),\"\")","v":""},{"$f":"IF(AND(F1353<>\"\",G1353<>\"\",H1353<>\"\",I1353<>\"\",J1353<>\"\"),Data!Q1353-$E$4,\"\")","v":""},"","","","",{"$f":"IF(F1353<>\"\",STDEV($Q$12:Q1353),\"\")","v":""},""]
[1343,null,{"$f":"RIGHT(Data!C1354,10)","v":""},null,null,null,null,null,null,null,{"$f":"IFERROR($U$3*Data!M1354/SQRT(COUNT(Data!F1354:J1354)),\"\")","v":""},"","","","","",{"$f":"IFERROR((Data!K1354-$E$4),\"\")","v":""},{"$f":"IF(AND(F1354<>\"\",G1354<>\"\",H1354<>\"\",I1354<>\"\",J1354<>\"\"),Data!Q1354-$E$4,\"\")","v":""},"","","","",{"$f":"IF(F1354<>\"\",STDEV($Q$12:Q1354),\"\")","v":""},""]
[1344,null,{"$f":"RIGHT(Data!C1355,10)","v":""},null,null,null,null,null,null,null,{"$f":"IFERROR($U$3*Data!M1355/SQRT(COUNT(Data!F1355:J1355)),\"\")","v":""},"","","","","",{"$f":"IFERROR((Data!K1355-$E$4),\"\")","v":""},{"$f":"IF(AND(F1355<>\"\",G1355<>\"\",H1355<>\"\",I1355<>\"\",J1355<>\"\"),Data!Q1355-$E$4,\"\")","v":""},"","","","",{"$f":"IF(F1355<>\"\",STDEV($Q$12:Q1355),\"\")","v":""},""]
[1345,null,{"$f":"RIGHT(Data!C1356,10)","v":""},null,null,null,null,null,null,null,{"$f":"IFERROR($U$3*Data!M1356/SQRT(COUNT(Data!F1356:J1356)),\"\")","v":""},"","",{"$f":"IF(COUNT(F1356:J1356)>=5,STDEV(F1356:J1356)*$U$3/SQRT((COUNT(F1356:J1356))),\"\")","v":""},{"$f":"IFERROR($U$4*SQRT($U$7^2+L1356^2+K1356^2+$U$5^2+N1356^2),\"\")","v":""},"",{"$f":"IFERROR((Data!K1356-$E$4),\"\")","v":""},{"$f":"IF(AND(F1356<>\"\",G1356<>\"\",H1356<>\"\",I1356<>\"\",J1356<>\"\"),Data!Q1356-$E$4,\"\")","v":""},{"$f":"IF(O1356<>\"\",FIXED(X1356,1) & \" ± \" & FIXED(O1356+ABS(R1356),2),\"\")","v":""},"","","",{"$f":"IF(F1356<>\"\",STDEV($Q$12:Q1356),\"\")","v":""},{"$f":"IF(F1356<>\"\",AVERAGE(F1356:J1356),\"\")","v":""}]
[1346,null,{"$f":"RIGHT(Data!C1357,10)","v":""},null,null,null,null,null,null,null,{"$f":"IFERROR($U$3*Data!M1357/SQRT(COUNT(Data!F1357:J1357)),\"\")","v":""},{"$f":"IF(F1357<>\"\",V1357*W1357/SQRT(A1357),\"\")","v":""},{"$f":"IF(F1357<>\"\",$U$4*SQRT($U$7^2+L1357^2+K1357^2+$U$5^2),\"\")","v":""},"","",{"$f":"IF(AND(F1357<>\"\",G1357<>\"\",H1357<>\"\",I1357<>\"\",J1357<>\"\"),AVERAGE(F1357:J1357),\"\")","v":""},{"$f":"IFERROR((Data!K1357-$E$4),\"\")","v":""},{"$f":"IF(AND(F1357<>\"\",G1357<>\"\",H1357<>\"\",I1357<>\"\",J1357<>\"\"),Data!Q1357-$E$4,\"\")","v":""},"",{"$f":"IF(F1357<>\"\",FIXED(AVERAGE(F1357:J1357)-R1357,1) & \" ± \" & FIXED(O1357,2),\"\")","v":""},{"$f":"IF(IO1357=\"\",\"\",IO1357-1)","v":""},{"$f":"IF(F1357<>\"\",TINV(1-0.68,A1357-1),\"\")","v":""},{"$f":"IF(F1357<>\"\",STDEV($Q$12:Q1357),\"\")","v":""},""]
[1347,null,{"$f":"RIGHT(Data!C1358,10)","v":""},null,null,null,null,null,null,null,{"$f":"IFERROR($U$3*Data!M1358/SQRT(COUNT(Data!F1358:J1358)),\"\")","v":""},"","","","","",{"$f":"IFERROR((Data!K1358-$E$4),\"\")","v":""},{"$f":"IF(AND(F1358<>\"\",G1358<>\"\",H1358<>\"\",I1358<>\"\",J1358<>\"\"),Data!Q1358-$E$4,\"\")","v":""},"","","","",{"$f":"IF(F1358<>\"\",STDEV($Q$12:Q1358),\"\")","v":""},""]
[1348,null,{"$f":"RIGHT(Data!C1359,10)","v":""},null,null,null,null,null,null,null,{"$f":"IFERROR($U$3*Data!M1359/SQRT(COUNT(Data!F1359:J1359)),\"\")","v":""},"","","","","",{"$f":"IFERROR((Data!K1359-$E$4),\"\")","v":""},{"$f":"IF(AND(F1359<>\"\",G1359<>\"\",H1359<>\"\",I1359<>\"\",J1359<>\"\"),Data!Q1359-$E$4,\"\")","v":""},"","","","",{"$f":"IF(F1359<>\"\",STDEV($Q$12:Q1359),\"\")","v":""},""]
[1349,null,{"$f":"RIGHT(Data!C1360,10)","v":""},null,null,null,null,null,null,null,{"$f":"IFERROR($U$3*Data!M1360/SQRT(COUNT(Data!F1360:J1360)),\"\")","v":""},"","","","","",{"$f":"IFERROR((Data!K1360-$E$4),\"\")","v":""},{"$f":"IF(AND(F1360<>\"\",G1360<>\"\",H1360<>\"\",I1360<>\"\",J1360<>\"\"),Data!Q1360-$E$4,\"\")","v":""},"","","","",{"$f":"IF(F1360<>\"\",STDEV($Q$12:Q1360),\"\")","v":""},""]
[1350,null,{"$f":"RIGHT(Data!C1361,10)","v":""},null,null,null,null,null,null,null,{"$f":"IFERROR($U$3*Data!M1361/SQRT(COUNT(Data!F1361:J1361)),\"\")","v":""},"","","","","",{"$f":"IFERROR((Data!K1361-$E$4),\"\")","v":""},{"$f":"IF(AND(F1361<>\"\",G1361<>\"\",H1361<>\"\",I1361<>\"\",J1361<>\"\"),Data!Q1361-$E$4,\"\")","v":""},"","","","",{"$f":"IF(F1361<>\"\",STDEV($Q$12:Q1361),\"\")","v":""},""]
[1351,null,{"$f":"RIGHT(Data!C1362,10)","v":""},null,null,null,null,null,null,null,{"$f":"IFERROR($U$3*Data!M1362/SQRT(COUNT(Data!F1362:J1362)),\"\")","v":""},"","","","","",{"$f":"IFERROR((Data!K1362-$E$4),\"\")","v":""},{"$f":"IF(AND(F1362<>\"\",G1362<>\"\",H1362<>\"\",I1362<>\"\",J1362<>\"\"),Data!Q1362-$E$4,\"\")","v":""},"","","","",{"$f":"IF(F1362<>\"\",STDEV($Q$12:Q1362),\"\")","v":""},""]
[1352,null,{"$f":"RIGHT(Data!C1363,10)","v":""},null,null,null,null,null,null,null,{"$f":"IFERROR($U$3*Data!M1363/SQRT(COUNT(Data!F1363:J1363)),\"\")","v":""},"","","","","",{"$f":"IFERROR((Data!K1363-$E$4),\"\")","v":""},{"$f":"IF(AND(F1363<>\"\",G1363<>\"\",H1363<>\"\",I1363<>\"\",J1363<>\"\"),Data!Q1363-$E$4,\"\")","v":""},"","","","",{"$f":"IF(F1363<>\"\",STDEV($Q$12:Q1363),\"\")","v":""},""]
[1353,null,{"$f":"RIGHT(Data!C1364,10)","v":""},null,null,null,null,null,null,null,{"$f":"IFERROR($U$3*Data!M1364/SQRT(COUNT(Data!F1364:J1364)),\"\")","v":""},"","","","","",{"$f":"IFERROR((Data!K1364-$E$4),\"\")","v":""},{"$f":"IF(AND(F1364<>\"\",G1364<>\"\",H1364<>\"\",I1364<>\"\",J1364<>\"\"),Data!Q1364-$E$4,\"\")","v":""},"","","","",{"$f":"IF(F1364<>\"\",STDEV($Q$12:Q1364),\"\")","v":""},""]
[1354,null,{"$f":"RIGHT(Data!C1365,10)","v":""},null,null,null,null,null,null,null,{"$f":"IFERROR($U$3*Data!M1365/SQRT(COUNT(Data!F1365:J1365)),\"\")","v":""},"","","","","",{"$f":"IFERROR((Data!K1365-$E$4),\"\")","v":""},{"$f":"IF(AND(F1365<>\"\",G1365<>\"\",H1365<>\"\",I1365<>\"\",J1365<>\"\"),Data!Q1365-$E$4,\"\")","v":""},"","","","",{"$f":"IF(F1365<>\"\",STDEV($Q$12:Q1365),\"\")","v":""},""]
[1355,null,{"$f":"RIGHT(Data!C1366,10)","v":""},null,null,null,null,null,null,null,{"$f":"IFERROR($U$3*Data!M1366/SQRT(COUNT(Data!F1366:J1366)),\"\")","v":""},"","","","","",{"$f":"IFERROR((Data!K1366-$E$4),\"\")","v":""},{"$f":"IF(AND(F1366<>\"\",G1366<>\"\",H1366<>\"\",I1366<>\"\",J1366<>\"\"),Data!Q1366-$E$4,\"\")","v":""},"","","","",{"$f":"IF(F1366<>\"\",STDEV($Q$12:Q1366),\"\")","v":""},""]
[1356,null,{"$f":"RIGHT(Data!C1367,10)","v":""},null,null,null,null,null,null,null,{"$f":"IFERROR($U$3*Data!M1367/SQRT(COUNT(Data!F1367:J1367)),\"\")","v":""},"","","","","",{"$f":"IFERROR((Data!K1367-$E$4),\"\")","v":""},{"$f":"IF(AND(F1367<>\"\",G1367<>\"\",H1367<>\"\",I1367<>\"\",J1367<>\"\"),Data!Q1367-$E$4,\"\")","v":""},"","","","",{"$f":"IF(F1367<>\"\",STDEV($Q$12:Q1367),\"\")","v":""},""]
[1357,null,{"$f":"RIGHT(Data!C1368,10)","v":""},null,null,null,null,null,null,null,{"$f":"IFERROR($U$3*Data!M1368/SQRT(COUNT(Data!F1368:J1368)),\"\")","v":""},"","","","","",{"$f":"IFERROR((Data!K1368-$E$4),\"\")","v":""},{"$f":"IF(AND(F1368<>\"\",G1368<>\"\",H1368<>\"\",I1368<>\"\",J1368<>\"\"),Data!Q1368-$E$4,\"\")","v":""},"","","","",{"$f":"IF(F1368<>\"\",STDEV($Q$12:Q1368),\"\")","v":""},""]
[1358,null,{"$f":"RIGHT(Data!C1369,10)","v":""},null,null,null,null,null,null,null,{"$f":"IFERROR($U$3*Data!M1369/SQRT(COUNT(Data!F1369:J1369)),\"\")","v":""},"","","","","",{"$f":"IFERROR((Data!K1369-$E$4),\"\")","v":""},{"$f":"IF(AND(F1369<>\"\",G1369<>\"\",H1369<>\"\",I1369<>\"\",J1369<>\"\"),Data!Q1369-$E$4,\"\")","v":""},"","","","",{"$f":"IF(F1369<>\"\",STDEV($Q$12:Q1369),\"\")","v":""},""]
[1359,null,{"$f":"RIGHT(Data!C1370,10)","v":""},null,null,null,null,null,null,null,{"$f":"IFERROR($U$3*Data!M1370/SQRT(COUNT(Data!F1370:J1370)),\"\")","v":""},"","","","","",{"$f":"IFERROR((Data!K1370-$E$4),\"\")","v":""},{"$f":"IF(AND(F1370<>\"\",G1370<>\"\",H1370<>\"\",I1370<>\"\",J1370<>\"\"),Data!Q1370-$E$4,\"\")","v":""},"","","","",{"$f":"IF(F1370<>\"\",STDEV($Q$12:Q1370),\"\")","v":""},""]
[1360,null,{"$f":"RIGHT(Data!C1371,10)","v":""},null,null,null,null,null,null,null,{"$f":"IFERROR($U$3*Data!M1371/SQRT(COUNT(Data!F1371:J1371)),\"\")","v":""},"","","","","",{"$f":"IFERROR((Data!K1371-$E$4),\"\")","v":""},{"$f":"IF(AND(F1371<>\"\",G1371<>\"\",H1371<>\"\",I1371<>\"\",J1371<>\"\"),Data!Q1371-$E$4,\"\")","v":""},"","","","",{"$f":"IF(F1371<>\"\",STDEV($Q$12:Q1371),\"\")","v":""},""]
[1361,null,{"$f":"RIGHT(Data!C1372,10)","v":""},null,null,null,null,null,null,null,{"$f":"IFERROR($U$3*Data!M1372/SQRT(COUNT(Data!F1372:J1372)),\"\")","v":""},"","","","","",{"$f":"IFERROR((Data!K1372-$E$4),\"\")","v":""},{"$f":"IF(AND(F1372<>\"\",G1372<>\"\",H1372<>\"\",I1372<>\"\",J1372<>\"\"),Data!Q1372-$E$4,\"\")","v":""},"","","","",{"$f":"IF(F1372<>\"\",STDEV($Q$12:Q1372),\"\")","v":""},""]
[1362,null,{"$f":"RIGHT(Data!C1373,10)","v":""},null,null,null,null,null,null,null,{"$f":"IFERROR($U$3*Data!M1373/SQRT(COUNT(Data!F1373:J1373)),\"\")","v":""},"","","","","",{"$f":"IFERROR((Data!K1373-$E$4),\"\")","v":""},{"$f":"IF(AND(F1373<>\"\",G1373<>\"\",H1373<>\"\",I1373<>\"\",J1373<>\"\"),Data!Q1373-$E$4,\"\")","v":""},"","","","",{"$f":"IF(F1373<>\"\",STDEV($Q$12:Q1373),\"\")","v":""},""]
[1363,null,{"$f":"RIGHT(Data!C1374,10)","v":""},null,null,null,null,null,null,null,{"$f":"IFERROR($U$3*Data!M1374/SQRT(COUNT(Data!F1374:J1374)),\"\")","v":""},"","","","","",{"$f":"IFERROR((Data!K1374-$E$4),\"\")","v":""},{"$f":"IF(AND(F1374<>\"\",G1374<>\"\",H1374<>\"\",I1374<>\"\",J1374<>\"\"),Data!Q1374-$E$4,\"\")","v":""},"","","","",{"$f":"IF(F1374<>\"\",STDEV($Q$12:Q1374),\"\")","v":""},""]
[1364,null,{"$f":"RIGHT(Data!C1375,10)","v":""},null,null,null,null,null,null,null,{"$f":"IFERROR($U$3*Data!M1375/SQRT(COUNT(Data!F1375:J1375)),\"\")","v":""},"","","","","",{"$f":"IFERROR((Data!K1375-$E$4),\"\")","v":""},{"$f":"IF(AND(F1375<>\"\",G1375<>\"\",H1375<>\"\",I1375<>\"\",J1375<>\"\"),Data!Q1375-$E$4,\"\")","v":""},"","","","",{"$f":"IF(F1375<>\"\",STDEV($Q$12:Q1375),\"\")","v":""},""]
[1365,null,{"$f":"RIGHT(Data!C1376,10)","v":""},null,null,null,null,null,null,null,{"$f":"IFERROR($U$3*Data!M1376/SQRT(COUNT(Data!F1376:J1376)),\"\")","v":""},"","","","","",{"$f":"IFERROR((Data!K1376-$E$4),\"\")","v":""},{"$f":"IF(AND(F1376<>\"\",G1376<>\"\",H1376<>\"\",I1376<>\"\",J1376<>\"\"),Data!Q1376-$E$4,\"\")","v":""},"","","","",{"$f":"IF(F1376<>\"\",STDEV($Q$12:Q1376),\"\")","v":""},""]
[1366,null,{"$f":"RIGHT(Data!C1377,10)","v":""},null,null,null,null,null,null,null,{"$f":"IFERROR($U$3*Data!M1377/SQRT(COUNT(Data!F1377:J1377)),\"\")","v":""},"","","","","",{"$f":"IFERROR((Data!K1377-$E$4),\"\")","v":""},{"$f":"IF(AND(F1377<>\"\",G1377<>\"\",H1377<>\"\",I1377<>\"\",J1377<>\"\"),Data!Q1377-$E$4,\"\")","v":""},"","","","",{"$f":"IF(F1377<>\"\",STDEV($Q$12:Q1377),\"\")","v":""},""]
[1367,null,{"$f":"RIGHT(Data!C1378,10)","v":""},null,null,null,null,null,null,null,{"$f":"IFERROR($U$3*Data!M1378/SQRT(COUNT(Data!F1378:J1378)),\"\")","v":""},"","","","","",{"$f":"IFERROR((Data!K1378-$E$4),\"\")","v":""},{"$f":"IF(AND(F1378<>\"\",G1378<>\"\",H1378<>\"\",I1378<>\"\",J1378<>\"\"),Data!Q1378-$E$4,\"\")","v":""},"","","","",{"$f":"IF(F1378<>\"\",STDEV($Q$12:Q1378),\"\")","v":""},""]
[1368,null,{"$f":"RIGHT(Data!C1379,10)","v":""},null,null,null,null,null,null,null,{"$f":"IFERROR($U$3*Data!M1379/SQRT(COUNT(Data!F1379:J1379)),\"\")","v":""},"","","","","",{"$f":"IFERROR((Data!K1379-$E$4),\"\")","v":""},{"$f":"IF(AND(F1379<>\"\",G1379<>\"\",H1379<>\"\",I1379<>\"\",J1379<>\"\"),Data!Q1379-$E$4,\"\")","v":""},"","","","",{"$f":"IF(F1379<>\"\",STDEV($Q$12:Q1379),\"\")","v":""},""]
[1369,null,{"$f":"RIGHT(Data!C1380,10)","v":""},null,null,null,null,null,null,null,{"$f":"IFERROR($U$3*Data!M1380/SQRT(COUNT(Data!F1380:J1380)),\"\")","v":""},"","","","","",{"$f":"IFERROR((Data!K1380-$E$4),\"\")","v":""},{"$f":"IF(AND(F1380<>\"\",G1380<>\"\",H1380<>\"\",I1380<>\"\",J1380<>\"\"),Data!Q1380-$E$4,\"\")","v":""},"","","","",{"$f":"IF(F1380<>\"\",STDEV($Q$12:Q1380),\"\")","v":""},""]
[1370,null,{"$f":"RIGHT(Data!C1381,10)","v":""},null,null,null,null,null,null,null,{"$f":"IFERROR($U$3*Data!M1381/SQRT(COUNT(Data!F1381:J1381)),\"\")","v":""},"","","","","",{"$f":"IFERROR((Data!K1381-$E$4),\"\")","v":""},{"$f":"IF(AND(F1381<>\"\",G1381<>\"\",H1381<>\"\",I1381<>\"\",J1381<>\"\"),Data!Q1381-$E$4,\"\")","v":""},"","","","",{"$f":"IF(F1381<>\"\",STDEV($Q$12:Q1381),\"\")","v":""},""]
[1371,null,{"$f":"RIGHT(Data!C1382,10)","v":""},null,null,null,null,null,null,null,{"$f":"IFERROR($U$3*Data!M1382/SQRT(COUNT(Data!F1382:J1382)),\"\")","v":""},"","","","","",{"$f":"IFERROR((Data!K1382-$E$4),\"\")","v":""},{"$f":"IF(AND(F1382<>\"\",G1382<>\"\",H1382<>\"\",I1382<>\"\",J1382<>\"\"),Data!Q1382-$E$4,\"\")","v":""},"","","","",{"$f":"IF(F1382<>\"\",STDEV($Q$12:Q1382),\"\")","v":""},""]
[1372,null,{"$f":"RIGHT(Data!C1383,10)","v":""},null,null,null,null,null,null,null,{"$f":"IFERROR($U$3*Data!M1383/SQRT(COUNT(Data!F1383:J1383)),\"\")","v":""},"","","","","",{"$f":"IFERROR((Data!K1383-$E$4),\"\")","v":""},{"$f":"IF(AND(F1383<>\"\",G1383<>\"\",H1383<>\"\",I1383<>\"\",J1383<>\"\"),Data!Q1383-$E$4,\"\")","v":""},"","","","",{"$f":"IF(F1383<>\"\",STDEV($Q$12:Q1383),\"\")","v":""},""]
[1373,null,{"$f":"RIGHT(Data!C1384,10)","v":""},null,null,null,null,null,null,null,{"$f":"IFERROR($U$3*Data!M1384/SQRT(COUNT(Data!F1384:J1384)),\"\")","v":""},"","","","","",{"$f":"IFERROR((Data!K1384-$E$4),\"\")","v":""},{"$f":"IF(AND(F1384<>\"\",G1384<>\"\",H1384<>\"\",I1384<>\"\",J1384<>\"\"),Data!Q1384-$E$4,\"\")","v":""},"","","","",{"$f":"IF(F1384<>\"\",STDEV($Q$12:Q1384),\"\")","v":""},""]
[1374,null,{"$f":"RIGHT(Data!C1385,10)","v":""},null,null,null,null,null,null,null,{"$f":"IFERROR($U$3*Data!M1385/SQRT(COUNT(Data!F1385:J1385)),\"\")","v":""},"","","","","",{"$f":"IFERROR((Data!K1385-$E$4),\"\")","v":""},{"$f":"IF(AND(F1385<>\"\",G1385<>\"\",H1385<>\"\",I1385<>\"\",J1385<>\"\"),Data!Q1385-$E$4,\"\")","v":""},"","","","",{"$f":"IF(F1385<>\"\",STDEV($Q$12:Q1385),\"\")","v":""},""]
[1375,null,{"$f":"RIGHT(Data!C1386,10)","v":""},null,null,null,null,null,null,null,{"$f":"IFERROR($U$3*Data!M1386/SQRT(COUNT(Data!F1386:J1386)),\"\")","v":""},"","","","","",{"$f":"IFERROR((Data!K1386-$E$4),\"\")","v":""},{"$f":"IF(AND(F1386<>\"\",G1386<>\"\",H1386<>\"\",I1386<>\"\",J1386<>\"\"),Data!Q1386-$E$4,\"\")","v":""},"","","","",{"$f":"IF(F1386<>\"\",STDEV($Q$12:Q1386),\"\")","v":""},""]
[1376,null,{"$f":"RIGHT(Data!C1387,10)","v":""},null,null,null,null,null,null,null,{"$f":"IFERROR($U$3*Data!M1387/SQRT(COUNT(Data!F1387:J1387)),\"\")","v":""},"","","","","",{"$f":"IFERROR((Data!K1387-$E$4),\"\")","v":""},{"$f":"IF(AND(F1387<>\"\",G1387<>\"\",H1387<>\"\",I1387<>\"\",J1387<>\"\"),Data!Q1387-$E$4,\"\")","v":""},"","","","",{"$f":"IF(F1387<>\"\",STDEV($Q$12:Q1387),\"\")","v":""},""]
[1377,null,{"$f":"RIGHT(Data!C1388,10)","v":""},null,null,null,null,null,null,null,{"$f":"IFERROR($U$3*Data!M1388/SQRT(COUNT(Data!F1388:J1388)),\"\")","v":""},"","","","","",{"$f":"IFERROR((Data!K1388-$E$4),\"\")","v":""},{"$f":"IF(AND(F1388<>\"\",G1388<>\"\",H1388<>\"\",I1388<>\"\",J1388<>\"\"),Data!Q1388-$E$4,\"\")","v":""},"","","","",{"$f":"IF(F1388<>\"\",STDEV($Q$12:Q1388),\"\")","v":""},""]
[1378,null,{"$f":"RIGHT(Data!C1389,10)","v":""},null,null,null,null,null,null,null,{"$f":"IFERROR($U$3*Data!M1389/SQRT(COUNT(Data!F1389:J1389)),\"\")","v":""},"","","","","",{"$f":"IFERROR((Data!K1389-$E$4),\"\")","v":""},{"$f":"IF(AND(F1389<>\"\",G1389<>\"\",H1389<>\"\",I1389<>\"\",J1389<>\"\"),Data!Q1389-$E$4,\"\")","v":""},"","","","",{"$f":"IF(F1389<>\"\",STDEV($Q$12:Q1389),\"\")","v":""},""]
[1379,null,{"$f":"RIGHT(Data!C1390,10)","v":""},null,null,null,null,null,null,null,{"$f":"IFERROR($U$3*Data!M1390/SQRT(COUNT(Data!F1390:J1390)),\"\")","v":""},"","","","","",{"$f":"IFERROR((Data!K1390-$E$4),\"\")","v":""},{"$f":"IF(AND(F1390<>\"\",G1390<>\"\",H1390<>\"\",I1390<>\"\",J1390<>\"\"),Data!Q1390-$E$4,\"\")","v":""},"","","","",{"$f":"IF(F1390<>\"\",STDEV($Q$12:Q1390),\"\")","v":""},""]
[1380,null,{"$f":"RIGHT(Data!C1391,10)","v":""},null,null,null,null,null,null,null,{"$f":"IFERROR($U$3*Data!M1391/SQRT(COUNT(Data!F1391:J1391)),\"\")","v":""},"","","","","",{"$f":"IFERROR((Data!K1391-$E$4),\"\")","v":""},{"$f":"IF(AND(F1391<>\"\",G1391<>\"\",H1391<>\"\",I1391<>\"\",J1391<>\"\"),Data!Q1391-$E$4,\"\")","v":""},"","","","",{"$f":"IF(F1391<>\"\",STDEV($Q$12:Q1391),\"\")","v":""},""]
[1381,null,{"$f":"RIGHT(Data!C1392,10)","v":""},null,null,null,null,null,null,null,{"$f":"IFERROR($U$3*Data!M1392/SQRT(COUNT(Data!F1392:J1392)),\"\")","v":""},"","","","","",{"$f":"IFERROR((Data!K1392-$E$4),\"\")","v":""},{"$f":"IF(AND(F1392<>\"\",G1392<>\"\",H1392<>\"\",I1392<>\"\",J1392<>\"\"),Data!Q1392-$E$4,\"\")","v":""},"","","","",{"$f":"IF(F1392<>\"\",STDEV($Q$12:Q1392),\"\")","v":""},""]
[1382,null,{"$f":"RIGHT(Data!C1393,10)","v":""},null,null,null,null,null,null,null,{"$f":"IFERROR($U$3*Data!M1393/SQRT(COUNT(Data!F1393:J1393)),\"\")","v":""},"","","","","",{"$f":"IFERROR((Data!K1393-$E$4),\"\")","v":""},{"$f":"IF(AND(F1393<>\"\",G1393<>\"\",H1393<>\"\",I1393<>\"\",J1393<>\"\"),Data!Q1393-$E$4,\"\")","v":""},"","","","",{"$f":"IF(F1393<>\"\",STDEV($Q$12:Q1393),\"\")","v":""},""]
[1383,null,{"$f":"RIGHT(Data!C1394,10)","v":""},null,null,null,null,null,null,null,{"$f":"IFERROR($U$3*Data!M1394/SQRT(COUNT(Data!F1394:J1394)),\"\")","v":""},"","","","","",{"$f":"IFERROR((Data!K1394-$E$4),\"\")","v":""},{"$f":"IF(AND(F1394<>\"\",G1394<>\"\",H1394<>\"\",I1394<>\"\",J1394<>\"\"),Data!Q1394-$E$4,\"\")","v":""},"","","","",{"$f":"IF(F1394<>\"\",STDEV($Q$12:Q1394),\"\")","v":""},""]
[1384,null,{"$f":"RIGHT(Data!C1395,10)","v":""},null,null,null,null,null,null,null,{"$f":"IFERROR($U$3*Data!M1395/SQRT(COUNT(Data!F1395:J1395)),\"\")","v":""},"","","","","",{"$f":"IFERROR((Data!K1395-$E$4),\"\")","v":""},{"$f":"IF(AND(F1395<>\"\",G1395<>\"\",H1395<>\"\",I1395<>\"\",J1395<>\"\"),Data!Q1395-$E$4,\"\")","v":""},"","","","",{"$f":"IF(F1395<>\"\",STDEV($Q$12:Q1395),\"\")","v":""},""]
[1385,null,{"$f":"RIGHT(Data!C1396,10)","v":""},null,null,null,null,null,null,null,{"$f":"IFERROR($U$3*Data!M1396/SQRT(COUNT(Data!F1396:J1396)),\"\")","v":""},"","","","","",{"$f":"IFERROR((Data!K1396-$E$4),\"\")","v":""},{"$f":"IF(AND(F1396<>\"\",G1396<>\"\",H1396<>\"\",I1396<>\"\",J1396<>\"\"),Data!Q1396-$E$4,\"\")","v":""},"","","","",{"$f":"IF(F1396<>\"\",STDEV($Q$12:Q1396),\"\")","v":""},""]
[1386,null,{"$f":"RIGHT(Data!C1397,10)","v":""},null,null,null,null,null,null,null,{"$f":"IFERROR($U$3*Data!M1397/SQRT(COUNT(Data!F1397:J1397)),\"\")","v":""},"","","","","",{"$f":"IFERROR((Data!K1397-$E$4),\"\")","v":""},{"$f":"IF(AND(F1397<>\"\",G1397<>\"\",H1397<>\"\",I1397<>\"\",J1397<>\"\"),Data!Q1397-$E$4,\"\")","v":""},"","","","",{"$f":"IF(F1397<>\"\",STDEV($Q$12:Q1397),\"\")","v":""},""]
[1387,null,{"$f":"RIGHT(Data!C1398,10)","v":""},null,null,null,null,null,null,null,{"$f":"IFERROR($U$3*Data!M1398/SQRT(COUNT(Data!F1398:J1398)),\"\")","v":""},"","","","","",{"$f":"IFERROR((Data!K1398-$E$4),\"\")","v":""},{"$f":"IF(AND(F1398<>\"\",G1398<>\"\",H1398<>\"\",I1398<>\"\",J1398<>\"\"),Data!Q1398-$E$4,\"\")","v":""},"","","","",{"$f":"IF(F1398<>\"\",STDEV($Q$12:Q1398),\"\")","v":""},""]
[1388,null,{"$f":"RIGHT(Data!C1399,10)","v":""},null,null,null,null,null,null,null,{"$f":"IFERROR($U$3*Data!M1399/SQRT(COUNT(Data!F1399:J1399)),\"\")","v":""},"","","","","",{"$f":"IFERROR((Data!K1399-$E$4),\"\")","v":""},{"$f":"IF(AND(F1399<>\"\",G1399<>\"\",H1399<>\"\",I1399<>\"\",J1399<>\"\"),Data!Q1399-$E$4,\"\")","v":""},"","","","",{"$f":"IF(F1399<>\"\",STDEV($Q$12:Q1399),\"\")","v":""},""]
[1389,null,{"$f":"RIGHT(Data!C1400,10)","v":""},null,null,null,null,null,null,null,{"$f":"IFERROR($U$3*Data!M1400/SQRT(COUNT(Data!F1400:J1400)),\"\")","v":""},"","","","","",{"$f":"IFERROR((Data!K1400-$E$4),\"\")","v":""},{"$f":"IF(AND(F1400<>\"\",G1400<>\"\",H1400<>\"\",I1400<>\"\",J1400<>\"\"),Data!Q1400-$E$4,\"\")","v":""},"","","","",{"$f":"IF(F1400<>\"\",STDEV($Q$12:Q1400),\"\")","v":""},""]
[1390,null,{"$f":"RIGHT(Data!C1401,10)","v":""},null,null,null,null,null,null,null,{"$f":"IFERROR($U$3*Data!M1401/SQRT(COUNT(Data!F1401:J1401)),\"\")","v":""},"","","","","",{"$f":"IFERROR((Data!K1401-$E$4),\"\")","v":""},{"$f":"IF(AND(F1401<>\"\",G1401<>\"\",H1401<>\"\",I1401<>\"\",J1401<>\"\"),Data!Q1401-$E$4,\"\")","v":""},"","","","",{"$f":"IF(F1401<>\"\",STDEV($Q$12:Q1401),\"\")","v":""},""]
[1391,null,{"$f":"RIGHT(Data!C1402,10)","v":""},null,null,null,null,null,null,null,{"$f":"IFERROR($U$3*Data!M1402/SQRT(COUNT(Data!F1402:J1402)),\"\")","v":""},"","","","","",{"$f":"IFERROR((Data!K1402-$E$4),\"\")","v":""},{"$f":"IF(AND(F1402<>\"\",G1402<>\"\",H1402<>\"\",I1402<>\"\",J1402<>\"\"),Data!Q1402-$E$4,\"\")","v":""},"","","","",{"$f":"IF(F1402<>\"\",STDEV($Q$12:Q1402),\"\")","v":""},""]
[1392,null,{"$f":"RIGHT(Data!C1403,10)","v":""},null,null,null,null,null,null,null,{"$f":"IFERROR($U$3*Data!M1403/SQRT(COUNT(Data!F1403:J1403)),\"\")","v":""},"","","","","",{"$f":"IFERROR((Data!K1403-$E$4),\"\")","v":""},{"$f":"IF(AND(F1403<>\"\",G1403<>\"\",H1403<>\"\",I1403<>\"\",J1403<>\"\"),Data!Q1403-$E$4,\"\")","v":""},"","","","",{"$f":"IF(F1403<>\"\",STDEV($Q$12:Q1403),\"\")","v":""},""]
[1393,null,{"$f":"RIGHT(Data!C1404,10)","v":""},null,null,null,null,null,null,null,{"$f":"IFERROR($U$3*Data!M1404/SQRT(COUNT(Data!F1404:J1404)),\"\")","v":""},"","","","","",{"$f":"IFERROR((Data!K1404-$E$4),\"\")","v":""},{"$f":"IF(AND(F1404<>\"\",G1404<>\"\",H1404<>\"\",I1404<>\"\",J1404<>\"\"),Data!Q1404-$E$4,\"\")","v":""},"","","","",{"$f":"IF(F1404<>\"\",STDEV($Q$12:Q1404),\"\")","v":""},""]
[1394,null,{"$f":"RIGHT(Data!C1405,10)","v":""},null,null,null,null,null,null,null,{"$f":"IFERROR($U$3*Data!M1405/SQRT(COUNT(Data!F1405:J1405)),\"\")","v":""},"","","","","",{"$f":"IFERROR((Data!K1405-$E$4),\"\")","v":""},{"$f":"IF(AND(F1405<>\"\",G1405<>\"\",H1405<>\"\",I1405<>\"\",J1405<>\"\"),Data!Q1405-$E$4,\"\")","v":""},"","","","",{"$f":"IF(F1405<>\"\",STDEV($Q$12:Q1405),\"\")","v":""},""]
[1395,null,{"$f":"RIGHT(Data!C1406,10)","v":""},null,null,null,null,null,null,null,{"$f":"IFERROR($U$3*Data!M1406/SQRT(COUNT(Data!F1406:J1406)),\"\")","v":""},"","","","","",{"$f":"IFERROR((Data!K1406-$E$4),\"\")","v":""},{"$f":"IF(AND(F1406<>\"\",G1406<>\"\",H1406<>\"\",I1406<>\"\",J1406<>\"\"),Data!Q1406-$E$4,\"\")","v":""},"","","","",{"$f":"IF(F1406<>\"\",STDEV($Q$12:Q1406),\"\")","v":""},""]
[1396,null,{"$f":"RIGHT(Data!C1407,10)","v":""},null,null,null,null,null,null,null,{"$f":"IFERROR($U$3*Data!M1407/SQRT(COUNT(Data!F1407:J1407)),\"\")","v":""},"","","","","",{"$f":"IFERROR((Data!K1407-$E$4),\"\")","v":""},{"$f":"IF(AND(F1407<>\"\",G1407<>\"\",H1407<>\"\",I1407<>\"\",J1407<>\"\"),Data!Q1407-$E$4,\"\")","v":""},"","","","",{"$f":"IF(F1407<>\"\",STDEV($Q$12:Q1407),\"\")","v":""},""]
[1397,null,{"$f":"RIGHT(Data!C1408,10)","v":""},null,null,null,null,null,null,null,{"$f":"IFERROR($U$3*Data!M1408/SQRT(COUNT(Data!F1408:J1408)),\"\")","v":""},"","","","","",{"$f":"IFERROR((Data!K1408-$E$4),\"\")","v":""},{"$f":"IF(AND(F1408<>\"\",G1408<>\"\",H1408<>\"\",I1408<>\"\",J1408<>\"\"),Data!Q1408-$E$4,\"\")","v":""},"","","","",{"$f":"IF(F1408<>\"\",STDEV($Q$12:Q1408),\"\")","v":""},""]
[1398,null,{"$f":"RIGHT(Data!C1409,10)","v":""},null,null,null,null,null,null,null,{"$f":"IFERROR($U$3*Data!M1409/SQRT(COUNT(Data!F1409:J1409)),\"\")","v":""},"","","","","",{"$f":"IFERROR((Data!K1409-$E$4),\"\")","v":""},{"$f":"IF(AND(F1409<>\"\",G1409<>\"\",H1409<>\"\",I1409<>\"\",J1409<>\"\"),Data!Q1409-$E$4,\"\")","v":""},"","","","",{"$f":"IF(F1409<>\"\",STDEV($Q$12:Q1409),\"\")","v":""},""]
[1399,null,{"$f":"RIGHT(Data!C1410,10)","v":""},null,null,null,null,null,null,null,{"$f":"IFERROR($U$3*Data!M1410/SQRT(COUNT(Data!F1410:J1410)),\"\")","v":""},"","","","","",{"$f":"IFERROR((Data!K1410-$E$4),\"\")","v":""},{"$f":"IF(AND(F1410<>\"\",G1410<>\"\",H1410<>\"\",I1410<>\"\",J1410<>\"\"),Data!Q1410-$E$4,\"\")","v":""},"","","","",{"$f":"IF(F1410<>\"\",STDEV($Q$12:Q1410),\"\")","v":""},""]
[1400,null,{"$f":"RIGHT(Data!C1411,10)","v":""},null,null,null,null,null,null,null,{"$f":"IFERROR($U$3*Data!M1411/SQRT(COUNT(Data!F1411:J1411)),\"\")","v":""},"","","","","",{"$f":"IFERROR((Data!K1411-$E$4),\"\")","v":""},{"$f":"IF(AND(F1411<>\"\",G1411<>\"\",H1411<>\"\",I1411<>\"\",J1411<>\"\"),Data!Q1411-$E$4,\"\")","v":""},"","","","",{"$f":"IF(F1411<>\"\",STDEV($Q$12:Q1411),\"\")","v":""},""]
[1401,null,{"$f":"RIGHT(Data!C1412,10)","v":""},null,null,null,null,null,null,null,{"$f":"IFERROR($U$3*Data!M1412/SQRT(COUNT(Data!F1412:J1412)),\"\")","v":""},"","","","","",{"$f":"IFERROR((Data!K1412-$E$4),\"\")","v":""},{"$f":"IF(AND(F1412<>\"\",G1412<>\"\",H1412<>\"\",I1412<>\"\",J1412<>\"\"),Data!Q1412-$E$4,\"\")","v":""},"","","","",{"$f":"IF(F1412<>\"\",STDEV($Q$12:Q1412),\"\")","v":""},""]
[1402,null,{"$f":"RIGHT(Data!C1413,10)","v":""},null,null,null,null,null,null,null,{"$f":"IFERROR($U$3*Data!M1413/SQRT(COUNT(Data!F1413:J1413)),\"\")","v":""},"","","","","",{"$f":"IFERROR((Data!K1413-$E$4),\"\")","v":""},{"$f":"IF(AND(F1413<>\"\",G1413<>\"\",H1413<>\"\",I1413<>\"\",J1413<>\"\"),Data!Q1413-$E$4,\"\")","v":""},"","","","",{"$f":"IF(F1413<>\"\",STDEV($Q$12:Q1413),\"\")","v":""},""]
[1403,null,{"$f":"RIGHT(Data!C1414,10)","v":""},null,null,null,null,null,null,null,{"$f":"IFERROR($U$3*Data!M1414/SQRT(COUNT(Data!F1414:J1414)),\"\")","v":""},"","","","","",{"$f":"IFERROR((Data!K1414-$E$4),\"\")","v":""},{"$f":"IF(AND(F1414<>\"\",G1414<>\"\",H1414<>\"\",I1414<>\"\",J1414<>\"\"),Data!Q1414-$E$4,\"\")","v":""},"","","","",{"$f":"IF(F1414<>\"\",STDEV($Q$12:Q1414),\"\")","v":""},""]
[1404,null,{"$f":"RIGHT(Data!C1415,10)","v":""},null,null,null,null,null,null,null,{"$f":"IFERROR($U$3*Data!M1415/SQRT(COUNT(Data!F1415:J1415)),\"\")","v":""},"","","","","",{"$f":"IFERROR((Data!K1415-$E$4),\"\")","v":""},{"$f":"IF(AND(F1415<>\"\",G1415<>\"\",H1415<>\"\",I1415<>\"\",J1415<>\"\"),Data!Q1415-$E$4,\"\")","v":""},"","","","",{"$f":"IF(F1415<>\"\",STDEV($Q$12:Q1415),\"\")","v":""},""]
[1405,null,{"$f":"RIGHT(Data!C1416,10)","v":""},null,null,null,null,null,null,null,{"$f":"IFERROR($U$3*Data!M1416/SQRT(COUNT(Data!F1416:J1416)),\"\")","v":""},"","","","","",{"$f":"IFERROR((Data!K1416-$E$4),\"\")","v":""},{"$f":"IF(AND(F1416<>\"\",G1416<>\"\",H1416<>\"\",I1416<>\"\",J1416<>\"\"),Data!Q1416-$E$4,\"\")","v":""},"","","","",{"$f":"IF(F1416<>\"\",STDEV($Q$12:Q1416),\"\")","v":""},""]
[1406,null,{"$f":"RIGHT(Data!C1417,10)","v":""},null,null,null,null,null,null,null,{"$f":"IFERROR($U$3*Data!M1417/SQRT(COUNT(Data!F1417:J1417)),\"\")","v":""},"","","","","",{"$f":"IFERROR((Data!K1417-$E$4),\"\")","v":""},{"$f":"IF(AND(F1417<>\"\",G1417<>\"\",H1417<>\"\",I1417<>\"\",J1417<>\"\"),Data!Q1417-$E$4,\"\")","v":""},"","","","",{"$f":"IF(F1417<>\"\",STDEV($Q$12:Q1417),\"\")","v":""},""]
[1407,null,{"$f":"RIGHT(Data!C1418,10)","v":""},null,null,null,null,null,null,null,{"$f":"IFERROR($U$3*Data!M1418/SQRT(COUNT(Data!F1418:J1418)),\"\")","v":""},"","","","","",{"$f":"IFERROR((Data!K1418-$E$4),\"\")","v":""},{"$f":"IF(AND(F1418<>\"\",G1418<>\"\",H1418<>\"\",I1418<>\"\",J1418<>\"\"),Data!Q1418-$E$4,\"\")","v":""},"","","","",{"$f":"IF(F1418<>\"\",STDEV($Q$12:Q1418),\"\")","v":""},""]
[1408,null,{"$f":"RIGHT(Data!C1419,10)","v":""},null,null,null,null,null,null,null,{"$f":"IFERROR($U$3*Data!M1419/SQRT(COUNT(Data!F1419:J1419)),\"\")","v":""},"","","","","",{"$f":"IFERROR((Data!K1419-$E$4),\"\")","v":""},{"$f":"IF(AND(F1419<>\"\",G1419<>\"\",H1419<>\"\",I1419<>\"\",J1419<>\"\"),Data!Q1419-$E$4,\"\")","v":""},"","","","",{"$f":"IF(F1419<>\"\",STDEV($Q$12:Q1419),\"\")","v":""},""]
[1409,null,{"$f":"RIGHT(Data!C1420,10)","v":""},null,null,null,null,null,null,null,{"$f":"IFERROR($U$3*Data!M1420/SQRT(COUNT(Data!F1420:J1420)),\"\")","v":""},"","",{"$f":"IF(COUNT(F1420:J1420)>=5,STDEV(F1420:J1420)*$U$3/SQRT((COUNT(F1420:J1420))),\"\")","v":""},{"$f":"IFERROR($U$4*SQRT($U$7^2+L1420^2+K1420^2+$U$5^2+N1420^2),\"\")","v":""},"",{"$f":"IFERROR((Data!K1420-$E$4),\"\")","v":""},{"$f":"IF(AND(F1420<>\"\",G1420<>\"\",H1420<>\"\",I1420<>\"\",J1420<>\"\"),Data!Q1420-$E$4,\"\")","v":""},{"$f":"IF(O1420<>\"\",FIXED(X1420,1) & \" ± \" & FIXED(O1420+ABS(R1420),2),\"\")","v":""},"","","",{"$f":"IF(F1420<>\"\",STDEV($Q$12:Q1420),\"\")","v":""},{"$f":"IF(F1420<>\"\",AVERAGE(F1420:J1420),\"\")","v":""}]
[1410,null,{"$f":"RIGHT(Data!C1421,10)","v":""},null,null,null,null,null,null,null,{"$f":"IFERROR($U$3*Data!M1421/SQRT(COUNT(Data!F1421:J1421)),\"\")","v":""},{"$f":"IF(F1421<>\"\",V1421*W1421/SQRT(A1421),\"\")","v":""},{"$f":"IF(F1421<>\"\",$U$4*SQRT($U$7^2+L1421^2+K1421^2+$U$5^2),\"\")","v":""},"","",{"$f":"IF(AND(F1421<>\"\",G1421<>\"\",H1421<>\"\",I1421<>\"\",J1421<>\"\"),AVERAGE(F1421:J1421),\"\")","v":""},{"$f":"IFERROR((Data!K1421-$E$4),\"\")","v":""},{"$f":"IF(AND(F1421<>\"\",G1421<>\"\",H1421<>\"\",I1421<>\"\",J1421<>\"\"),Data!Q1421-$E$4,\"\")","v":""},"",{"$f":"IF(F1421<>\"\",FIXED(AVERAGE(F1421:J1421)-R1421,1) & \" ± \" & FIXED(O1421,2),\"\")","v":""},{"$f":"IF(IO1421=\"\",\"\",IO1421-1)","v":""},{"$f":"IF(F1421<>\"\",TINV(1-0.68,A1421-1),\"\")","v":""},{"$f":"IF(F1421<>\"\",STDEV($Q$12:Q1421),\"\")","v":""},""]
[1411,null,{"$f":"RIGHT(Data!C1422,10)","v":""},null,null,null,null,null,null,null,{"$f":"IFERROR($U$3*Data!M1422/SQRT(COUNT(Data!F1422:J1422)),\"\")","v":""},"","","","","",{"$f":"IFERROR((Data!K1422-$E$4),\"\")","v":""},{"$f":"IF(AND(F1422<>\"\",G1422<>\"\",H1422<>\"\",I1422<>\"\",J1422<>\"\"),Data!Q1422-$E$4,\"\")","v":""},"","","","",{"$f":"IF(F1422<>\"\",STDEV($Q$12:Q1422),\"\")","v":""},""]
[1412,null,{"$f":"RIGHT(Data!C1423,10)","v":""},null,null,null,null,null,null,null,{"$f":"IFERROR($U$3*Data!M1423/SQRT(COUNT(Data!F1423:J1423)),\"\")","v":""},"","","","","",{"$f":"IFERROR((Data!K1423-$E$4),\"\")","v":""},{"$f":"IF(AND(F1423<>\"\",G1423<>\"\",H1423<>\"\",I1423<>\"\",J1423<>\"\"),Data!Q1423-$E$4,\"\")","v":""},"","","","",{"$f":"IF(F1423<>\"\",STDEV($Q$12:Q1423),\"\")","v":""},""]
[1413,null,{"$f":"RIGHT(Data!C1424,10)","v":""},null,null,null,null,null,null,null,{"$f":"IFERROR($U$3*Data!M1424/SQRT(COUNT(Data!F1424:J1424)),\"\")","v":""},"","","","","",{"$f":"IFERROR((Data!K1424-$E$4),\"\")","v":""},{"$f":"IF(AND(F1424<>\"\",G1424<>\"\",H1424<>\"\",I1424<>\"\",J1424<>\"\"),Data!Q1424-$E$4,\"\")","v":""},"","","","",{"$f":"IF(F1424<>\"\",STDEV($Q$12:Q1424),\"\")","v":""},""]
[1414,null,{"$f":"RIGHT(Data!C1425,10)","v":""},null,null,null,null,null,null,null,{"$f":"IFERROR($U$3*Data!M1425/SQRT(COUNT(Data!F1425:J1425)),\"\")","v":""},"","","","","",{"$f":"IFERROR((Data!K1425-$E$4),\"\")","v":""},{"$f":"IF(AND(F1425<>\"\",G1425<>\"\",H1425<>\"\",I1425<>\"\",J1425<>\"\"),Data!Q1425-$E$4,\"\")","v":""},"","","","",{"$f":"IF(F1425<>\"\",STDEV($Q$12:Q1425),\"\")","v":""},""]
[1415,null,{"$f":"RIGHT(Data!C1426,10)","v":""},null,null,null,null,null,null,null,{"$f":"IFERROR($U$3*Data!M1426/SQRT(COUNT(Data!F1426:J1426)),\"\")","v":""},"","","","","",{"$f":"IFERROR((Data!K1426-$E$4),\"\")","v":""},{"$f":"IF(AND(F1426<>\"\",G1426<>\"\",H1426<>\"\",I1426<>\"\",J1426<>\"\"),Data!Q1426-$E$4,\"\")","v":""},"","","","",{"$f":"IF(F1426<>\"\",STDEV($Q$12:Q1426),\"\")","v":""},""]
[1416,null,{"$f":"RIGHT(Data!C1427,10)","v":""},null,null,null,null,null,null,null,{"$f":"IFERROR($U$3*Data!M1427/SQRT(COUNT(Data!F1427:J1427)),\"\")","v":""},"","","","","",{"$f":"IFERROR((Data!K1427-$E$4),\"\")","v":""},{"$f":"IF(AND(F1427<>\"\",G1427<>\"\",H1427<>\"\",I1427<>\"\",J1427<>\"\"),Data!Q1427-$E$4,\"\")","v":""},"","","","",{"$f":"IF(F1427<>\"\",STDEV($Q$12:Q1427),\"\")","v":""},""]
[1417,null,{"$f":"RIGHT(Data!C1428,10)","v":""},null,null,null,null,null,null,null,{"$f":"IFERROR($U$3*Data!M1428/SQRT(COUNT(Data!F1428:J1428)),\"\")","v":""},"","","","","",{"$f":"IFERROR((Data!K1428-$E$4),\"\")","v":""},{"$f":"IF(AND(F1428<>\"\",G1428<>\"\",H1428<>\"\",I1428<>\"\",J1428<>\"\"),Data!Q1428-$E$4,\"\")","v":""},"","","","",{"$f":"IF(F1428<>\"\",STDEV($Q$12:Q1428),\"\")","v":""},""]
[1418,null,{"$f":"RIGHT(Data!C1429,10)","v":""},null,null,null,null,null,null,null,{"$f":"IFERROR($U$3*Data!M1429/SQRT(COUNT(Data!F1429:J1429)),\"\")","v":""},"","","","","",{"$f":"IFERROR((Data!K1429-$E$4),\"\")","v":""},{"$f":"IF(AND(F1429<>\"\",G1429<>\"\",H1429<>\"\",I1429<>\"\",J1429<>\"\"),Data!Q1429-$E$4,\"\")","v":""},"","","","",{"$f":"IF(F1429<>\"\",STDEV($Q$12:Q1429),\"\")","v":""},""]
[1419,null,{"$f":"RIGHT(Data!C1430,10)","v":""},null,null,null,null,null,null,null,{"$f":"IFERROR($U$3*Data!M1430/SQRT(COUNT(Data!F1430:J1430)),\"\")","v":""},"","","","","",{"$f":"IFERROR((Data!K1430-$E$4),\"\")","v":""},{"$f":"IF(AND(F1430<>\"\",G1430<>\"\",H1430<>\"\",I1430<>\"\",J1430<>\"\"),Data!Q1430-$E$4,\"\")","v":""},"","","","",{"$f":"IF(F1430<>\"\",STDEV($Q$12:Q1430),\"\")","v":""},""]
[1420,null,{"$f":"RIGHT(Data!C1431,10)","v":""},null,null,null,null,null,null,null,{"$f":"IFERROR($U$3*Data!M1431/SQRT(COUNT(Data!F1431:J1431)),\"\")","v":""},"","","","","",{"$f":"IFERROR((Data!K1431-$E$4),\"\")","v":""},{"$f":"IF(AND(F1431<>\"\",G1431<>\"\",H1431<>\"\",I1431<>\"\",J1431<>\"\"),Data!Q1431-$E$4,\"\")","v":""},"","","","",{"$f":"IF(F1431<>\"\",STDEV($Q$12:Q1431),\"\")","v":""},""]
[1421,null,{"$f":"RIGHT(Data!C1432,10)","v":""},null,null,null,null,null,null,null,{"$f":"IFERROR($U$3*Data!M1432/SQRT(COUNT(Data!F1432:J1432)),\"\")","v":""},"","","","","",{"$f":"IFERROR((Data!K1432-$E$4),\"\")","v":""},{"$f":"IF(AND(F1432<>\"\",G1432<>\"\",H1432<>\"\",I1432<>\"\",J1432<>\"\"),Data!Q1432-$E$4,\"\")","v":""},"","","","",{"$f":"IF(F1432<>\"\",STDEV($Q$12:Q1432),\"\")","v":""},""]
[1422,null,{"$f":"RIGHT(Data!C1433,10)","v":""},null,null,null,null,null,null,null,{"$f":"IFERROR($U$3*Data!M1433/SQRT(COUNT(Data!F1433:J1433)),\"\")","v":""},"","","","","",{"$f":"IFERROR((Data!K1433-$E$4),\"\")","v":""},{"$f":"IF(AND(F1433<>\"\",G1433<>\"\",H1433<>\"\",I1433<>\"\",J1433<>\"\"),Data!Q1433-$E$4,\"\")","v":""},"","","","",{"$f":"IF(F1433<>\"\",STDEV($Q$12:Q1433),\"\")","v":""},""]
[1423,null,{"$f":"RIGHT(Data!C1434,10)","v":""},null,null,null,null,null,null,null,{"$f":"IFERROR($U$3*Data!M1434/SQRT(COUNT(Data!F1434:J1434)),\"\")","v":""},"","","","","",{"$f":"IFERROR((Data!K1434-$E$4),\"\")","v":""},{"$f":"IF(AND(F1434<>\"\",G1434<>\"\",H1434<>\"\",I1434<>\"\",J1434<>\"\"),Data!Q1434-$E$4,\"\")","v":""},"","","","",{"$f":"IF(F1434<>\"\",STDEV($Q$12:Q1434),\"\")","v":""},""]
[1424,null,{"$f":"RIGHT(Data!C1435,10)","v":""},null,null,null,null,null,null,null,{"$f":"IFERROR($U$3*Data!M1435/SQRT(COUNT(Data!F1435:J1435)),\"\")","v":""},"","","","","",{"$f":"IFERROR((Data!K1435-$E$4),\"\")","v":""},{"$f":"IF(AND(F1435<>\"\",G1435<>\"\",H1435<>\"\",I1435<>\"\",J1435<>\"\"),Data!Q1435-$E$4,\"\")","v":""},"","","","",{"$f":"IF(F1435<>\"\",STDEV($Q$12:Q1435),\"\")","v":""},""]
[1425,null,{"$f":"RIGHT(Data!C1436,10)","v":""},null,null,null,null,null,null,null,{"$f":"IFERROR($U$3*Data!M1436/SQRT(COUNT(Data!F1436:J1436)),\"\")","v":""},"","","","","",{"$f":"IFERROR((Data!K1436-$E$4),\"\")","v":""},{"$f":"IF(AND(F1436<>\"\",G1436<>\"\",H1436<>\"\",I1436<>\"\",J1436<>\"\"),Data!Q1436-$E$4,\"\")","v":""},"","","","",{"$f":"IF(F1436<>\"\",STDEV($Q$12:Q1436),\"\")","v":""},""]
[1426,null,{"$f":"RIGHT(Data!C1437,10)","v":""},null,null,null,null,null,null,null,{"$f":"IFERROR($U$3*Data!M1437/SQRT(COUNT(Data!F1437:J1437)),\"\")","v":""},"","","","","",{"$f":"IFERROR((Data!K1437-$E$4),\"\")","v":""},{"$f":"IF(AND(F1437<>\"\",G1437<>\"\",H1437<>\"\",I1437<>\"\",J1437<>\"\"),Data!Q1437-$E$4,\"\")","v":""},"","","","",{"$f":"IF(F1437<>\"\",STDEV($Q$12:Q1437),\"\")","v":""},""]
[1427,null,{"$f":"RIGHT(Data!C1438,10)","v":""},null,null,null,null,null,null,null,{"$f":"IFERROR($U$3*Data!M1438/SQRT(COUNT(Data!F1438:J1438)),\"\")","v":""},"","","","","",{"$f":"IFERROR((Data!K1438-$E$4),\"\")","v":""},{"$f":"IF(AND(F1438<>\"\",G1438<>\"\",H1438<>\"\",I1438<>\"\",J1438<>\"\"),Data!Q1438-$E$4,\"\")","v":""},"","","","",{"$f":"IF(F1438<>\"\",STDEV($Q$12:Q1438),\"\")","v":""},""]
[1428,null,{"$f":"RIGHT(Data!C1439,10)","v":""},null,null,null,null,null,null,null,{"$f":"IFERROR($U$3*Data!M1439/SQRT(COUNT(Data!F1439:J1439)),\"\")","v":""},"","","","","",{"$f":"IFERROR((Data!K1439-$E$4),\"\")","v":""},{"$f":"IF(AND(F1439<>\"\",G1439<>\"\",H1439<>\"\",I1439<>\"\",J1439<>\"\"),Data!Q1439-$E$4,\"\")","v":""},"","","","",{"$f":"IF(F1439<>\"\",STDEV($Q$12:Q1439),\"\")","v":""},""]
[1429,null,{"$f":"RIGHT(Data!C1440,10)","v":""},null,null,null,null,null,null,null,{"$f":"IFERROR($U$3*Data!M1440/SQRT(COUNT(Data!F1440:J1440)),\"\")","v":""},"","","","","",{"$f":"IFERROR((Data!K1440-$E$4),\"\")","v":""},{"$f":"IF(AND(F1440<>\"\",G1440<>\"\",H1440<>\"\",I1440<>\"\",J1440<>\"\"),Data!Q1440-$E$4,\"\")","v":""},"","","","",{"$f":"IF(F1440<>\"\",STDEV($Q$12:Q1440),\"\")","v":""},""]
[1430,null,{"$f":"RIGHT(Data!C1441,10)","v":""},null,null,null,null,null,null,null,{"$f":"IFERROR($U$3*Data!M1441/SQRT(COUNT(Data!F1441:J1441)),\"\")","v":""},"","","","","",{"$f":"IFERROR((Data!K1441-$E$4),\"\")","v":""},{"$f":"IF(AND(F1441<>\"\",G1441<>\"\",H1441<>\"\",I1441<>\"\",J1441<>\"\"),Data!Q1441-$E$4,\"\")","v":""},"","","","",{"$f":"IF(F1441<>\"\",STDEV($Q$12:Q1441),\"\")","v":""},""]
[1431,null,{"$f":"RIGHT(Data!C1442,10)","v":""},null,null,null,null,null,null,null,{"$f":"IFERROR($U$3*Data!M1442/SQRT(COUNT(Data!F1442:J1442)),\"\")","v":""},"","","","","",{"$f":"IFERROR((Data!K1442-$E$4),\"\")","v":""},{"$f":"IF(AND(F1442<>\"\",G1442<>\"\",H1442<>\"\",I1442<>\"\",J1442<>\"\"),Data!Q1442-$E$4,\"\")","v":""},"","","","",{"$f":"IF(F1442<>\"\",STDEV($Q$12:Q1442),\"\")","v":""},""]
[1432,null,{"$f":"RIGHT(Data!C1443,10)","v":""},null,null,null,null,null,null,null,{"$f":"IFERROR($U$3*Data!M1443/SQRT(COUNT(Data!F1443:J1443)),\"\")","v":""},"","","","","",{"$f":"IFERROR((Data!K1443-$E$4),\"\")","v":""},{"$f":"IF(AND(F1443<>\"\",G1443<>\"\",H1443<>\"\",I1443<>\"\",J1443<>\"\"),Data!Q1443-$E$4,\"\")","v":""},"","","","",{"$f":"IF(F1443<>\"\",STDEV($Q$12:Q1443),\"\")","v":""},""]
[1433,null,{"$f":"RIGHT(Data!C1444,10)","v":""},null,null,null,null,null,null,null,{"$f":"IFERROR($U$3*Data!M1444/SQRT(COUNT(Data!F1444:J1444)),\"\")","v":""},"","","","","",{"$f":"IFERROR((Data!K1444-$E$4),\"\")","v":""},{"$f":"IF(AND(F1444<>\"\",G1444<>\"\",H1444<>\"\",I1444<>\"\",J1444<>\"\"),Data!Q1444-$E$4,\"\")","v":""},"","","","",{"$f":"IF(F1444<>\"\",STDEV($Q$12:Q1444),\"\")","v":""},""]
[1434,null,{"$f":"RIGHT(Data!C1445,10)","v":""},null,null,null,null,null,null,null,{"$f":"IFERROR($U$3*Data!M1445/SQRT(COUNT(Data!F1445:J1445)),\"\")","v":""},"","","","","",{"$f":"IFERROR((Data!K1445-$E$4),\"\")","v":""},{"$f":"IF(AND(F1445<>\"\",G1445<>\"\",H1445<>\"\",I1445<>\"\",J1445<>\"\"),Data!Q1445-$E$4,\"\")","v":""},"","","","",{"$f":"IF(F1445<>\"\",STDEV($Q$12:Q1445),\"\")","v":""},""]
[1435,null,{"$f":"RIGHT(Data!C1446,10)","v":""},null,null,null,null,null,null,null,{"$f":"IFERROR($U$3*Data!M1446/SQRT(COUNT(Data!F1446:J1446)),\"\")","v":""},"","","","","",{"$f":"IFERROR((Data!K1446-$E$4),\"\")","v":""},{"$f":"IF(AND(F1446<>\"\",G1446<>\"\",H1446<>\"\",I1446<>\"\",J1446<>\"\"),Data!Q1446-$E$4,\"\")","v":""},"","","","",{"$f":"IF(F1446<>\"\",STDEV($Q$12:Q1446),\"\")","v":""},""]
[1436,null,{"$f":"RIGHT(Data!C1447,10)","v":""},null,null,null,null,null,null,null,{"$f":"IFERROR($U$3*Data!M1447/SQRT(COUNT(Data!F1447:J1447)),\"\")","v":""},"","","","","",{"$f":"IFERROR((Data!K1447-$E$4),\"\")","v":""},{"$f":"IF(AND(F1447<>\"\",G1447<>\"\",H1447<>\"\",I1447<>\"\",J1447<>\"\"),Data!Q1447-$E$4,\"\")","v":""},"","","","",{"$f":"IF(F1447<>\"\",STDEV($Q$12:Q1447),\"\")","v":""},""]
[1437,null,{"$f":"RIGHT(Data!C1448,10)","v":""},null,null,null,null,null,null,null,{"$f":"IFERROR($U$3*Data!M1448/SQRT(COUNT(Data!F1448:J1448)),\"\")","v":""},"","","","","",{"$f":"IFERROR((Data!K1448-$E$4),\"\")","v":""},{"$f":"IF(AND(F1448<>\"\",G1448<>\"\",H1448<>\"\",I1448<>\"\",J1448<>\"\"),Data!Q1448-$E$4,\"\")","v":""},"","","","",{"$f":"IF(F1448<>\"\",STDEV($Q$12:Q1448),\"\")","v":""},""]
[1438,null,{"$f":"RIGHT(Data!C1449,10)","v":""},null,null,null,null,null,null,null,{"$f":"IFERROR($U$3*Data!M1449/SQRT(COUNT(Data!F1449:J1449)),\"\")","v":""},"","","","","",{"$f":"IFERROR((Data!K1449-$E$4),\"\")","v":""},{"$f":"IF(AND(F1449<>\"\",G1449<>\"\",H1449<>\"\",I1449<>\"\",J1449<>\"\"),Data!Q1449-$E$4,\"\")","v":""},"","","","",{"$f":"IF(F1449<>\"\",STDEV($Q$12:Q1449),\"\")","v":""},""]
[1439,null,{"$f":"RIGHT(Data!C1450,10)","v":""},null,null,null,null,null,null,null,{"$f":"IFERROR($U$3*Data!M1450/SQRT(COUNT(Data!F1450:J1450)),\"\")","v":""},"","","","","",{"$f":"IFERROR((Data!K1450-$E$4),\"\")","v":""},{"$f":"IF(AND(F1450<>\"\",G1450<>\"\",H1450<>\"\",I1450<>\"\",J1450<>\"\"),Data!Q1450-$E$4,\"\")","v":""},"","","","",{"$f":"IF(F1450<>\"\",STDEV($Q$12:Q1450),\"\")","v":""},""]
[1440,null,{"$f":"RIGHT(Data!C1451,10)","v":""},null,null,null,null,null,null,null,{"$f":"IFERROR($U$3*Data!M1451/SQRT(COUNT(Data!F1451:J1451)),\"\")","v":""},"","","","","",{"$f":"IFERROR((Data!K1451-$E$4),\"\")","v":""},{"$f":"IF(AND(F1451<>\"\",G1451<>\"\",H1451<>\"\",I1451<>\"\",J1451<>\"\"),Data!Q1451-$E$4,\"\")","v":""},"","","","",{"$f":"IF(F1451<>\"\",STDEV($Q$12:Q1451),\"\")","v":""},""]
[1441,null,{"$f":"RIGHT(Data!C1452,10)","v":""},null,null,null,null,null,null,null,{"$f":"IFERROR($U$3*Data!M1452/SQRT(COUNT(Data!F1452:J1452)),\"\")","v":""},"","","","","",{"$f":"IFERROR((Data!K1452-$E$4),\"\")","v":""},{"$f":"IF(AND(F1452<>\"\",G1452<>\"\",H1452<>\"\",I1452<>\"\",J1452<>\"\"),Data!Q1452-$E$4,\"\")","v":""},"","","","",{"$f":"IF(F1452<>\"\",STDEV($Q$12:Q1452),\"\")","v":""},""]
[1442,null,{"$f":"RIGHT(Data!C1453,10)","v":""},null,null,null,null,null,null,null,{"$f":"IFERROR($U$3*Data!M1453/SQRT(COUNT(Data!F1453:J1453)),\"\")","v":""},"","","","","",{"$f":"IFERROR((Data!K1453-$E$4),\"\")","v":""},{"$f":"IF(AND(F1453<>\"\",G1453<>\"\",H1453<>\"\",I1453<>\"\",J1453<>\"\"),Data!Q1453-$E$4,\"\")","v":""},"","","","",{"$f":"IF(F1453<>\"\",STDEV($Q$12:Q1453),\"\")","v":""},""]
[1443,null,{"$f":"RIGHT(Data!C1454,10)","v":""},null,null,null,null,null,null,null,{"$f":"IFERROR($U$3*Data!M1454/SQRT(COUNT(Data!F1454:J1454)),\"\")","v":""},"","","","","",{"$f":"IFERROR((Data!K1454-$E$4),\"\")","v":""},{"$f":"IF(AND(F1454<>\"\",G1454<>\"\",H1454<>\"\",I1454<>\"\",J1454<>\"\"),Data!Q1454-$E$4,\"\")","v":""},"","","","",{"$f":"IF(F1454<>\"\",STDEV($Q$12:Q1454),\"\")","v":""},""]
[1444,null,{"$f":"RIGHT(Data!C1455,10)","v":""},null,null,null,null,null,null,null,{"$f":"IFERROR($U$3*Data!M1455/SQRT(COUNT(Data!F1455:J1455)),\"\")","v":""},"","","","","",{"$f":"IFERROR((Data!K1455-$E$4),\"\")","v":""},{"$f":"IF(AND(F1455<>\"\",G1455<>\"\",H1455<>\"\",I1455<>\"\",J1455<>\"\"),Data!Q1455-$E$4,\"\")","v":""},"","","","",{"$f":"IF(F1455<>\"\",STDEV($Q$12:Q1455),\"\")","v":""},""]
[1445,null,{"$f":"RIGHT(Data!C1456,10)","v":""},null,null,null,null,null,null,null,{"$f":"IFERROR($U$3*Data!M1456/SQRT(COUNT(Data!F1456:J1456)),\"\")","v":""},"","","","","",{"$f":"IFERROR((Data!K1456-$E$4),\"\")","v":""},{"$f":"IF(AND(F1456<>\"\",G1456<>\"\",H1456<>\"\",I1456<>\"\",J1456<>\"\"),Data!Q1456-$E$4,\"\")","v":""},"","","","",{"$f":"IF(F1456<>\"\",STDEV($Q$12:Q1456),\"\")","v":""},""]
[1446,null,{"$f":"RIGHT(Data!C1457,10)","v":""},null,null,null,null,null,null,null,{"$f":"IFERROR($U$3*Data!M1457/SQRT(COUNT(Data!F1457:J1457)),\"\")","v":""},"","","","","",{"$f":"IFERROR((Data!K1457-$E$4),\"\")","v":""},{"$f":"IF(AND(F1457<>\"\",G1457<>\"\",H1457<>\"\",I1457<>\"\",J1457<>\"\"),Data!Q1457-$E$4,\"\")","v":""},"","","","",{"$f":"IF(F1457<>\"\",STDEV($Q$12:Q1457),\"\")","v":""},""]
[1447,null,{"$f":"RIGHT(Data!C1458,10)","v":""},null,null,null,null,null,null,null,{"$f":"IFERROR($U$3*Data!M1458/SQRT(COUNT(Data!F1458:J1458)),\"\")","v":""},"","","","","",{"$f":"IFERROR((Data!K1458-$E$4),\"\")","v":""},{"$f":"IF(AND(F1458<>\"\",G1458<>\"\",H1458<>\"\",I1458<>\"\",J1458<>\"\"),Data!Q1458-$E$4,\"\")","v":""},"","","","",{"$f":"IF(F1458<>\"\",STDEV($Q$12:Q1458),\"\")","v":""},""]
[1448,null,{"$f":"RIGHT(Data!C1459,10)","v":""},null,null,null,null,null,null,null,{"$f":"IFERROR($U$3*Data!M1459/SQRT(COUNT(Data!F1459:J1459)),\"\")","v":""},"","","","","",{"$f":"IFERROR((Data!K1459-$E$4),\"\")","v":""},{"$f":"IF(AND(F1459<>\"\",G1459<>\"\",H1459<>\"\",I1459<>\"\",J1459<>\"\"),Data!Q1459-$E$4,\"\")","v":""},"","","","",{"$f":"IF(F1459<>\"\",STDEV($Q$12:Q1459),\"\")","v":""},""]
[1449,null,{"$f":"RIGHT(Data!C1460,10)","v":""},null,null,null,null,null,null,null,{"$f":"IFERROR($U$3*Data!M1460/SQRT(COUNT(Data!F1460:J1460)),\"\")","v":""},"","","","","",{"$f":"IFERROR((Data!K1460-$E$4),\"\")","v":""},{"$f":"IF(AND(F1460<>\"\",G1460<>\"\",H1460<>\"\",I1460<>\"\",J1460<>\"\"),Data!Q1460-$E$4,\"\")","v":""},"","","","",{"$f":"IF(F1460<>\"\",STDEV($Q$12:Q1460),\"\")","v":""},""]
[1450,null,{"$f":"RIGHT(Data!C1461,10)","v":""},null,null,null,null,null,null,null,{"$f":"IFERROR($U$3*Data!M1461/SQRT(COUNT(Data!F1461:J1461)),\"\")","v":""},"","","","","",{"$f":"IFERROR((Data!K1461-$E$4),\"\")","v":""},{"$f":"IF(AND(F1461<>\"\",G1461<>\"\",H1461<>\"\",I1461<>\"\",J1461<>\"\"),Data!Q1461-$E$4,\"\")","v":""},"","","","",{"$f":"IF(F1461<>\"\",STDEV($Q$12:Q1461),\"\")","v":""},""]
[1451,null,{"$f":"RIGHT(Data!C1462,10)","v":""},null,null,null,null,null,null,null,{"$f":"IFERROR($U$3*Data!M1462/SQRT(COUNT(Data!F1462:J1462)),\"\")","v":""},"","","","","",{"$f":"IFERROR((Data!K1462-$E$4),\"\")","v":""},{"$f":"IF(AND(F1462<>\"\",G1462<>\"\",H1462<>\"\",I1462<>\"\",J1462<>\"\"),Data!Q1462-$E$4,\"\")","v":""},"","","","",{"$f":"IF(F1462<>\"\",STDEV($Q$12:Q1462),\"\")","v":""},""]
[1452,null,{"$f":"RIGHT(Data!C1463,10)","v":""},null,null,null,null,null,null,null,{"$f":"IFERROR($U$3*Data!M1463/SQRT(COUNT(Data!F1463:J1463)),\"\")","v":""},"","","","","",{"$f":"IFERROR((Data!K1463-$E$4),\"\")","v":""},{"$f":"IF(AND(F1463<>\"\",G1463<>\"\",H1463<>\"\",I1463<>\"\",J1463<>\"\"),Data!Q1463-$E$4,\"\")","v":""},"","","","",{"$f":"IF(F1463<>\"\",STDEV($Q$12:Q1463),\"\")","v":""},""]
[1453,null,{"$f":"RIGHT(Data!C1464,10)","v":""},null,null,null,null,null,null,null,{"$f":"IFERROR($U$3*Data!M1464/SQRT(COUNT(Data!F1464:J1464)),\"\")","v":""},"","","","","",{"$f":"IFERROR((Data!K1464-$E$4),\"\")","v":""},{"$f":"IF(AND(F1464<>\"\",G1464<>\"\",H1464<>\"\",I1464<>\"\",J1464<>\"\"),Data!Q1464-$E$4,\"\")","v":""},"","","","",{"$f":"IF(F1464<>\"\",STDEV($Q$12:Q1464),\"\")","v":""},""]
[1454,null,{"$f":"RIGHT(Data!C1465,10)","v":""},null,null,null,null,null,null,null,{"$f":"IFERROR($U$3*Data!M1465/SQRT(COUNT(Data!F1465:J1465)),\"\")","v":""},"","","","","",{"$f":"IFERROR((Data!K1465-$E$4),\"\")","v":""},{"$f":"IF(AND(F1465<>\"\",G1465<>\"\",H1465<>\"\",I1465<>\"\",J1465<>\"\"),Data!Q1465-$E$4,\"\")","v":""},"","","","",{"$f":"IF(F1465<>\"\",STDEV($Q$12:Q1465),\"\")","v":""},""]
[1455,null,{"$f":"RIGHT(Data!C1466,10)","v":""},null,null,null,null,null,null,null,{"$f":"IFERROR($U$3*Data!M1466/SQRT(COUNT(Data!F1466:J1466)),\"\")","v":""},"","","","","",{"$f":"IFERROR((Data!K1466-$E$4),\"\")","v":""},{"$f":"IF(AND(F1466<>\"\",G1466<>\"\",H1466<>\"\",I1466<>\"\",J1466<>\"\"),Data!Q1466-$E$4,\"\")","v":""},"","","","",{"$f":"IF(F1466<>\"\",STDEV($Q$12:Q1466),\"\")","v":""},""]
[1456,null,{"$f":"RIGHT(Data!C1467,10)","v":""},null,null,null,null,null,null,null,{"$f":"IFERROR($U$3*Data!M1467/SQRT(COUNT(Data!F1467:J1467)),\"\")","v":""},"","","","","",{"$f":"IFERROR((Data!K1467-$E$4),\"\")","v":""},{"$f":"IF(AND(F1467<>\"\",G1467<>\"\",H1467<>\"\",I1467<>\"\",J1467<>\"\"),Data!Q1467-$E$4,\"\")","v":""},"","","","",{"$f":"IF(F1467<>\"\",STDEV($Q$12:Q1467),\"\")","v":""},""]
[1457,null,{"$f":"RIGHT(Data!C1468,10)","v":""},null,null,null,null,null,null,null,{"$f":"IFERROR($U$3*Data!M1468/SQRT(COUNT(Data!F1468:J1468)),\"\")","v":""},"","","","","",{"$f":"IFERROR((Data!K1468-$E$4),\"\")","v":""},{"$f":"IF(AND(F1468<>\"\",G1468<>\"\",H1468<>\"\",I1468<>\"\",J1468<>\"\"),Data!Q1468-$E$4,\"\")","v":""},"","","","",{"$f":"IF(F1468<>\"\",STDEV($Q$12:Q1468),\"\")","v":""},""]
[1458,null,{"$f":"RIGHT(Data!C1469,10)","v":""},null,null,null,null,null,null,null,{"$f":"IFERROR($U$3*Data!M1469/SQRT(COUNT(Data!F1469:J1469)),\"\")","v":""},"","","","","",{"$f":"IFERROR((Data!K1469-$E$4),\"\")","v":""},{"$f":"IF(AND(F1469<>\"\",G1469<>\"\",H1469<>\"\",I1469<>\"\",J1469<>\"\"),Data!Q1469-$E$4,\"\")","v":""},"","","","",{"$f":"IF(F1469<>\"\",STDEV($Q$12:Q1469),\"\")","v":""},""]
[1459,null,{"$f":"RIGHT(Data!C1470,10)","v":""},null,null,null,null,null,null,null,{"$f":"IFERROR($U$3*Data!M1470/SQRT(COUNT(Data!F1470:J1470)),\"\")","v":""},"","","","","",{"$f":"IFERROR((Data!K1470-$E$4),\"\")","v":""},{"$f":"IF(AND(F1470<>\"\",G1470<>\"\",H1470<>\"\",I1470<>\"\",J1470<>\"\"),Data!Q1470-$E$4,\"\")","v":""},"","","","",{"$f":"IF(F1470<>\"\",STDEV($Q$12:Q1470),\"\")","v":""},""]
[1460,null,{"$f":"RIGHT(Data!C1471,10)","v":""},null,null,null,null,null,null,null,{"$f":"IFERROR($U$3*Data!M1471/SQRT(COUNT(Data!F1471:J1471)),\"\")","v":""},"","","","","",{"$f":"IFERROR((Data!K1471-$E$4),\"\")","v":""},{"$f":"IF(AND(F1471<>\"\",G1471<>\"\",H1471<>\"\",I1471<>\"\",J1471<>\"\"),Data!Q1471-$E$4,\"\")","v":""},"","","","",{"$f":"IF(F1471<>\"\",STDEV($Q$12:Q1471),\"\")","v":""},""]
[1461,null,{"$f":"RIGHT(Data!C1472,10)","v":""},null,null,null,null,null,null,null,{"$f":"IFERROR($U$3*Data!M1472/SQRT(COUNT(Data!F1472:J1472)),\"\")","v":""},"","","","","",{"$f":"IFERROR((Data!K1472-$E$4),\"\")","v":""},{"$f":"IF(AND(F1472<>\"\",G1472<>\"\",H1472<>\"\",I1472<>\"\",J1472<>\"\"),Data!Q1472-$E$4,\"\")","v":""},"","","","",{"$f":"IF(F1472<>\"\",STDEV($Q$12:Q1472),\"\")","v":""},""]
[1462,null,{"$f":"RIGHT(Data!C1473,10)","v":""},null,null,null,null,null,null,null,{"$f":"IFERROR($U$3*Data!M1473/SQRT(COUNT(Data!F1473:J1473)),\"\")","v":""},"","","","","",{"$f":"IFERROR((Data!K1473-$E$4),\"\")","v":""},{"$f":"IF(AND(F1473<>\"\",G1473<>\"\",H1473<>\"\",I1473<>\"\",J1473<>\"\"),Data!Q1473-$E$4,\"\")","v":""},"","","","",{"$f":"IF(F1473<>\"\",STDEV($Q$12:Q1473),\"\")","v":""},""]
[1463,null,{"$f":"RIGHT(Data!C1474,10)","v":""},null,null,null,null,null,null,null,{"$f":"IFERROR($U$3*Data!M1474/SQRT(COUNT(Data!F1474:J1474)),\"\")","v":""},"","","","","",{"$f":"IFERROR((Data!K1474-$E$4),\"\")","v":""},{"$f":"IF(AND(F1474<>\"\",G1474<>\"\",H1474<>\"\",I1474<>\"\",J1474<>\"\"),Data!Q1474-$E$4,\"\")","v":""},"","","","",{"$f":"IF(F1474<>\"\",STDEV($Q$12:Q1474),\"\")","v":""},""]
[1464,null,{"$f":"RIGHT(Data!C1475,10)","v":""},null,null,null,null,null,null,null,{"$f":"IFERROR($U$3*Data!M1475/SQRT(COUNT(Data!F1475:J1475)),\"\")","v":""},"","","","","",{"$f":"IFERROR((Data!K1475-$E$4),\"\")","v":""},{"$f":"IF(AND(F1475<>\"\",G1475<>\"\",H1475<>\"\",I1475<>\"\",J1475<>\"\"),Data!Q1475-$E$4,\"\")","v":""},"","","","",{"$f":"IF(F1475<>\"\",STDEV($Q$12:Q1475),\"\")","v":""},""]
[1465,null,{"$f":"RIGHT(Data!C1476,10)","v":""},null,null,null,null,null,null,null,{"$f":"IFERROR($U$3*Data!M1476/SQRT(COUNT(Data!F1476:J1476)),\"\")","v":""},"","","","","",{"$f":"IFERROR((Data!K1476-$E$4),\"\")","v":""},{"$f":"IF(AND(F1476<>\"\",G1476<>\"\",H1476<>\"\",I1476<>\"\",J1476<>\"\"),Data!Q1476-$E$4,\"\")","v":""},"","","","",{"$f":"IF(F1476<>\"\",STDEV($Q$12:Q1476),\"\")","v":""},""]
[1466,null,{"$f":"RIGHT(Data!C1477,10)","v":""},null,null,null,null,null,null,null,{"$f":"IFERROR($U$3*Data!M1477/SQRT(COUNT(Data!F1477:J1477)),\"\")","v":""},"","","","","",{"$f":"IFERROR((Data!K1477-$E$4),\"\")","v":""},{"$f":"IF(AND(F1477<>\"\",G1477<>\"\",H1477<>\"\",I1477<>\"\",J1477<>\"\"),Data!Q1477-$E$4,\"\")","v":""},"","","","",{"$f":"IF(F1477<>\"\",STDEV($Q$12:Q1477),\"\")","v":""},""]
[1467,null,{"$f":"RIGHT(Data!C1478,10)","v":""},null,null,null,null,null,null,null,{"$f":"IFERROR($U$3*Data!M1478/SQRT(COUNT(Data!F1478:J1478)),\"\")","v":""},"","","","","",{"$f":"IFERROR((Data!K1478-$E$4),\"\")","v":""},{"$f":"IF(AND(F1478<>\"\",G1478<>\"\",H1478<>\"\",I1478<>\"\",J1478<>\"\"),Data!Q1478-$E$4,\"\")","v":""},"","","","",{"$f":"IF(F1478<>\"\",STDEV($Q$12:Q1478),\"\")","v":""},""]
[1468,null,{"$f":"RIGHT(Data!C1479,10)","v":""},null,null,null,null,null,null,null,{"$f":"IFERROR($U$3*Data!M1479/SQRT(COUNT(Data!F1479:J1479)),\"\")","v":""},"","","","","",{"$f":"IFERROR((Data!K1479-$E$4),\"\")","v":""},{"$f":"IF(AND(F1479<>\"\",G1479<>\"\",H1479<>\"\",I1479<>\"\",J1479<>\"\"),Data!Q1479-$E$4,\"\")","v":""},"","","","",{"$f":"IF(F1479<>\"\",STDEV($Q$12:Q1479),\"\")","v":""},""]
[1469,null,{"$f":"RIGHT(Data!C1480,10)","v":""},null,null,null,null,null,null,null,{"$f":"IFERROR($U$3*Data!M1480/SQRT(COUNT(Data!F1480:J1480)),\"\")","v":""},"","","","","",{"$f":"IFERROR((Data!K1480-$E$4),\"\")","v":""},{"$f":"IF(AND(F1480<>\"\",G1480<>\"\",H1480<>\"\",I1480<>\"\",J1480<>\"\"),Data!Q1480-$E$4,\"\")","v":""},"","","","",{"$f":"IF(F1480<>\"\",STDEV($Q$12:Q1480),\"\")","v":""},""]
[1470,null,{"$f":"RIGHT(Data!C1481,10)","v":""},null,null,null,null,null,null,null,{"$f":"IFERROR($U$3*Data!M1481/SQRT(COUNT(Data!F1481:J1481)),\"\")","v":""},"","","","","",{"$f":"IFERROR((Data!K1481-$E$4),\"\")","v":""},{"$f":"IF(AND(F1481<>\"\",G1481<>\"\",H1481<>\"\",I1481<>\"\",J1481<>\"\"),Data!Q1481-$E$4,\"\")","v":""},"","","","",{"$f":"IF(F1481<>\"\",STDEV($Q$12:Q1481),\"\")","v":""},""]
[1471,null,{"$f":"RIGHT(Data!C1482,10)","v":""},null,null,null,null,null,null,null,{"$f":"IFERROR($U$3*Data!M1482/SQRT(COUNT(Data!F1482:J1482)),\"\")","v":""},"","","","","",{"$f":"IFERROR((Data!K1482-$E$4),\"\")","v":""},{"$f":"IF(AND(F1482<>\"\",G1482<>\"\",H1482<>\"\",I1482<>\"\",J1482<>\"\"),Data!Q1482-$E$4,\"\")","v":""},"","","","",{"$f":"IF(F1482<>\"\",STDEV($Q$12:Q1482),\"\")","v":""},""]
[1472,null,{"$f":"RIGHT(Data!C1483,10)","v":""},null,null,null,null,null,null,null,{"$f":"IFERROR($U$3*Data!M1483/SQRT(COUNT(Data!F1483:J1483)),\"\")","v":""},"","","","","",{"$f":"IFERROR((Data!K1483-$E$4),\"\")","v":""},{"$f":"IF(AND(F1483<>\"\",G1483<>\"\",H1483<>\"\",I1483<>\"\",J1483<>\"\"),Data!Q1483-$E$4,\"\")","v":""},"","","","",{"$f":"IF(F1483<>\"\",STDEV($Q$12:Q1483),\"\")","v":""},""]
[1473,null,{"$f":"RIGHT(Data!C1484,10)","v":""},null,null,null,null,null,null,null,{"$f":"IFERROR($U$3*Data!M1484/SQRT(COUNT(Data!F1484:J1484)),\"\")","v":""},"","",{"$f":"IF(COUNT(F1484:J1484)>=5,STDEV(F1484:J1484)*$U$3/SQRT((COUNT(F1484:J1484))),\"\")","v":""},{"$f":"IFERROR($U$4*SQRT($U$7^2+L1484^2+K1484^2+$U$5^2+N1484^2),\"\")","v":""},"",{"$f":"IFERROR((Data!K1484-$E$4),\"\")","v":""},{"$f":"IF(AND(F1484<>\"\",G1484<>\"\",H1484<>\"\",I1484<>\"\",J1484<>\"\"),Data!Q1484-$E$4,\"\")","v":""},{"$f":"IF(O1484<>\"\",FIXED(X1484,1) & \" ± \" & FIXED(O1484+ABS(R1484),2),\"\")","v":""},"","","",{"$f":"IF(F1484<>\"\",STDEV($Q$12:Q1484),\"\")","v":""},{"$f":"IF(F1484<>\"\",AVERAGE(F1484:J1484),\"\")","v":""}]
[1474,null,{"$f":"RIGHT(Data!C1485,10)","v":""},null,null,null,null,null,null,null,{"$f":"IFERROR($U$3*Data!M1485/SQRT(COUNT(Data!F1485:J1485)),\"\")","v":""},{"$f":"IF(F1485<>\"\",V1485*W1485/SQRT(A1485),\"\")","v":""},{"$f":"IF(F1485<>\"\",$U$4*SQRT($U$7^2+L1485^2+K1485^2+$U$5^2),\"\")","v":""},"","",{"$f":"IF(AND(F1485<>\"\",G1485<>\"\",H1485<>\"\",I1485<>\"\",J1485<>\"\"),AVERAGE(F1485:J1485),\"\")","v":""},{"$f":"IFERROR((Data!K1485-$E$4),\"\")","v":""},{"$f":"IF(AND(F1485<>\"\",G1485<>\"\",H1485<>\"\",I1485<>\"\",J1485<>\"\"),Data!Q1485-$E$4,\"\")","v":""},"",{"$f":"IF(F1485<>\"\",FIXED(AVERAGE(F1485:J1485)-R1485,1) & \" ± \" & FIXED(O1485,2),\"\")","v":""},{"$f":"IF(IO1485=\"\",\"\",IO1485-1)","v":""},{"$f":"IF(F1485<>\"\",TINV(1-0.68,A1485-1),\"\")","v":""},{"$f":"IF(F1485<>\"\",STDEV($Q$12:Q1485),\"\")","v":""},""]
[1475,null,{"$f":"RIGHT(Data!C1486,10)","v":""},null,null,null,null,null,null,null,{"$f":"IFERROR($U$3*Data!M1486/SQRT(COUNT(Data!F1486:J1486)),\"\")","v":""},"","","","","",{"$f":"IFERROR((Data!K1486-$E$4),\"\")","v":""},{"$f":"IF(AND(F1486<>\"\",G1486<>\"\",H1486<>\"\",I1486<>\"\",J1486<>\"\"),Data!Q1486-$E$4,\"\")","v":""},"","","","",{"$f":"IF(F1486<>\"\",STDEV($Q$12:Q1486),\"\")","v":""},""]
[1476,null,{"$f":"RIGHT(Data!C1487,10)","v":""},null,null,null,null,null,null,null,{"$f":"IFERROR($U$3*Data!M1487/SQRT(COUNT(Data!F1487:J1487)),\"\")","v":""},"","","","","",{"$f":"IFERROR((Data!K1487-$E$4),\"\")","v":""},{"$f":"IF(AND(F1487<>\"\",G1487<>\"\",H1487<>\"\",I1487<>\"\",J1487<>\"\"),Data!Q1487-$E$4,\"\")","v":""},"","","","",{"$f":"IF(F1487<>\"\",STDEV($Q$12:Q1487),\"\")","v":""},""]
[1477,null,{"$f":"RIGHT(Data!C1488,10)","v":""},null,null,null,null,null,null,null,{"$f":"IFERROR($U$3*Data!M1488/SQRT(COUNT(Data!F1488:J1488)),\"\")","v":""},"","","","","",{"$f":"IFERROR((Data!K1488-$E$4),\"\")","v":""},{"$f":"IF(AND(F1488<>\"\",G1488<>\"\",H1488<>\"\",I1488<>\"\",J1488<>\"\"),Data!Q1488-$E$4,\"\")","v":""},"","","","",{"$f":"IF(F1488<>\"\",STDEV($Q$12:Q1488),\"\")","v":""},""]
[1478,null,{"$f":"RIGHT(Data!C1489,10)","v":""},null,null,null,null,null,null,null,{"$f":"IFERROR($U$3*Data!M1489/SQRT(COUNT(Data!F1489:J1489)),\"\")","v":""},"","","","","",{"$f":"IFERROR((Data!K1489-$E$4),\"\")","v":""},{"$f":"IF(AND(F1489<>\"\",G1489<>\"\",H1489<>\"\",I1489<>\"\",J1489<>\"\"),Data!Q1489-$E$4,\"\")","v":""},"","","","",{"$f":"IF(F1489<>\"\",STDEV($Q$12:Q1489),\"\")","v":""},""]
[1479,null,{"$f":"RIGHT(Data!C1490,10)","v":""},null,null,null,null,null,null,null,{"$f":"IFERROR($U$3*Data!M1490/SQRT(COUNT(Data!F1490:J1490)),\"\")","v":""},"","","","","",{"$f":"IFERROR((Data!K1490-$E$4),\"\")","v":""},{"$f":"IF(AND(F1490<>\"\",G1490<>\"\",H1490<>\"\",I1490<>\"\",J1490<>\"\"),Data!Q1490-$E$4,\"\")","v":""},"","","","",{"$f":"IF(F1490<>\"\",STDEV($Q$12:Q1490),\"\")","v":""},""]
[1480,null,{"$f":"RIGHT(Data!C1491,10)","v":""},null,null,null,null,null,null,null,{"$f":"IFERROR($U$3*Data!M1491/SQRT(COUNT(Data!F1491:J1491)),\"\")","v":""},"","","","","",{"$f":"IFERROR((Data!K1491-$E$4),\"\")","v":""},{"$f":"IF(AND(F1491<>\"\",G1491<>\"\",H1491<>\"\",I1491<>\"\",J1491<>\"\"),Data!Q1491-$E$4,\"\")","v":""},"","","","",{"$f":"IF(F1491<>\"\",STDEV($Q$12:Q1491),\"\")","v":""},""]
[1481,null,{"$f":"RIGHT(Data!C1492,10)","v":""},null,null,null,null,null,null,null,{"$f":"IFERROR($U$3*Data!M1492/SQRT(COUNT(Data!F1492:J1492)),\"\")","v":""},"","","","","",{"$f":"IFERROR((Data!K1492-$E$4),\"\")","v":""},{"$f":"IF(AND(F1492<>\"\",G1492<>\"\",H1492<>\"\",I1492<>\"\",J1492<>\"\"),Data!Q1492-$E$4,\"\")","v":""},"","","","",{"$f":"IF(F1492<>\"\",STDEV($Q$12:Q1492),\"\")","v":""},""]
[1482,null,{"$f":"RIGHT(Data!C1493,10)","v":""},null,null,null,null,null,null,null,{"$f":"IFERROR($U$3*Data!M1493/SQRT(COUNT(Data!F1493:J1493)),\"\")","v":""},"","","","","",{"$f":"IFERROR((Data!K1493-$E$4),\"\")","v":""},{"$f":"IF(AND(F1493<>\"\",G1493<>\"\",H1493<>\"\",I1493<>\"\",J1493<>\"\"),Data!Q1493-$E$4,\"\")","v":""},"","","","",{"$f":"IF(F1493<>\"\",STDEV($Q$12:Q1493),\"\")","v":""},""]
[1483,null,{"$f":"RIGHT(Data!C1494,10)","v":""},null,null,null,null,null,null,null,{"$f":"IFERROR($U$3*Data!M1494/SQRT(COUNT(Data!F1494:J1494)),\"\")","v":""},"","","","","",{"$f":"IFERROR((Data!K1494-$E$4),\"\")","v":""},{"$f":"IF(AND(F1494<>\"\",G1494<>\"\",H1494<>\"\",I1494<>\"\",J1494<>\"\"),Data!Q1494-$E$4,\"\")","v":""},"","","","",{"$f":"IF(F1494<>\"\",STDEV($Q$12:Q1494),\"\")","v":""},""]
[1484,null,{"$f":"RIGHT(Data!C1495,10)","v":""},null,null,null,null,null,null,null,{"$f":"IFERROR($U$3*Data!M1495/SQRT(COUNT(Data!F1495:J1495)),\"\")","v":""},"","","","","",{"$f":"IFERROR((Data!K1495-$E$4),\"\")","v":""},{"$f":"IF(AND(F1495<>\"\",G1495<>\"\",H1495<>\"\",I1495<>\"\",J1495<>\"\"),Data!Q1495-$E$4,\"\")","v":""},"","","","",{"$f":"IF(F1495<>\"\",STDEV($Q$12:Q1495),\"\")","v":""},""]
[1485,null,{"$f":"RIGHT(Data!C1496,10)","v":""},null,null,null,null,null,null,null,{"$f":"IFERROR($U$3*Data!M1496/SQRT(COUNT(Data!F1496:J1496)),\"\")","v":""},"","","","","",{"$f":"IFERROR((Data!K1496-$E$4),\"\")","v":""},{"$f":"IF(AND(F1496<>\"\",G1496<>\"\",H1496<>\"\",I1496<>\"\",J1496<>\"\"),Data!Q1496-$E$4,\"\")","v":""},"","","","",{"$f":"IF(F1496<>\"\",STDEV($Q$12:Q1496),\"\")","v":""},""]
[1486,null,{"$f":"RIGHT(Data!C1497,10)","v":""},null,null,null,null,null,null,null,{"$f":"IFERROR($U$3*Data!M1497/SQRT(COUNT(Data!F1497:J1497)),\"\")","v":""},"","","","","",{"$f":"IFERROR((Data!K1497-$E$4),\"\")","v":""},{"$f":"IF(AND(F1497<>\"\",G1497<>\"\",H1497<>\"\",I1497<>\"\",J1497<>\"\"),Data!Q1497-$E$4,\"\")","v":""},"","","","",{"$f":"IF(F1497<>\"\",STDEV($Q$12:Q1497),\"\")","v":""},""]
[1487,null,{"$f":"RIGHT(Data!C1498,10)","v":""},null,null,null,null,null,null,null,{"$f":"IFERROR($U$3*Data!M1498/SQRT(COUNT(Data!F1498:J1498)),\"\")","v":""},"","","","","",{"$f":"IFERROR((Data!K1498-$E$4),\"\")","v":""},{"$f":"IF(AND(F1498<>\"\",G1498<>\"\",H1498<>\"\",I1498<>\"\",J1498<>\"\"),Data!Q1498-$E$4,\"\")","v":""},"","","","",{"$f":"IF(F1498<>\"\",STDEV($Q$12:Q1498),\"\")","v":""},""]
[1488,null,{"$f":"RIGHT(Data!C1499,10)","v":""},null,null,null,null,null,null,null,{"$f":"IFERROR($U$3*Data!M1499/SQRT(COUNT(Data!F1499:J1499)),\"\")","v":""},"","","","","",{"$f":"IFERROR((Data!K1499-$E$4),\"\")","v":""},{"$f":"IF(AND(F1499<>\"\",G1499<>\"\",H1499<>\"\",I1499<>\"\",J1499<>\"\"),Data!Q1499-$E$4,\"\")","v":""},"","","","",{"$f":"IF(F1499<>\"\",STDEV($Q$12:Q1499),\"\")","v":""},""]
[1489,null,{"$f":"RIGHT(Data!C1500,10)","v":""},null,null,null,null,null,null,null,{"$f":"IFERROR($U$3*Data!M1500/SQRT(COUNT(Data!F1500:J1500)),\"\")","v":""},"","","","","",{"$f":"IFERROR((Data!K1500-$E$4),\"\")","v":""},{"$f":"IF(AND(F1500<>\"\",G1500<>\"\",H1500<>\"\",I1500<>\"\",J1500<>\"\"),Data!Q1500-$E$4,\"\")","v":""},"","","","",{"$f":"IF(F1500<>\"\",STDEV($Q$12:Q1500),\"\")","v":""},""]
[1490,null,{"$f":"RIGHT(Data!C1501,10)","v":""},null,null,null,null,null,null,null,{"$f":"IFERROR($U$3*Data!M1501/SQRT(COUNT(Data!F1501:J1501)),\"\")","v":""},"","","","","",{"$f":"IFERROR((Data!K1501-$E$4),\"\")","v":""},{"$f":"IF(AND(F1501<>\"\",G1501<>\"\",H1501<>\"\",I1501<>\"\",J1501<>\"\"),Data!Q1501-$E$4,\"\")","v":""},"","","","",{"$f":"IF(F1501<>\"\",STDEV($Q$12:Q1501),\"\")","v":""},""]
[1491,null,{"$f":"RIGHT(Data!C1502,10)","v":""},null,null,null,null,null,null,null,{"$f":"IFERROR($U$3*Data!M1502/SQRT(COUNT(Data!F1502:J1502)),\"\")","v":""},"","","","","",{"$f":"IFERROR((Data!K1502-$E$4),\"\")","v":""},{"$f":"IF(AND(F1502<>\"\",G1502<>\"\",H1502<>\"\",I1502<>\"\",J1502<>\"\"),Data!Q1502-$E$4,\"\")","v":""},"","","","",{"$f":"IF(F1502<>\"\",STDEV($Q$12:Q1502),\"\")","v":""},""]
[1492,null,{"$f":"RIGHT(Data!C1503,10)","v":""},null,null,null,null,null,null,null,{"$f":"IFERROR($U$3*Data!M1503/SQRT(COUNT(Data!F1503:J1503)),\"\")","v":""},"","","","","",{"$f":"IFERROR((Data!K1503-$E$4),\"\")","v":""},{"$f":"IF(AND(F1503<>\"\",G1503<>\"\",H1503<>\"\",I1503<>\"\",J1503<>\"\"),Data!Q1503-$E$4,\"\")","v":""},"","","","",{"$f":"IF(F1503<>\"\",STDEV($Q$12:Q1503),\"\")","v":""},""]
[1493,null,{"$f":"RIGHT(Data!C1504,10)","v":""},null,null,null,null,null,null,null,{"$f":"IFERROR($U$3*Data!M1504/SQRT(COUNT(Data!F1504:J1504)),\"\")","v":""},"","","","","",{"$f":"IFERROR((Data!K1504-$E$4),\"\")","v":""},{"$f":"IF(AND(F1504<>\"\",G1504<>\"\",H1504<>\"\",I1504<>\"\",J1504<>\"\"),Data!Q1504-$E$4,\"\")","v":""},"","","","",{"$f":"IF(F1504<>\"\",STDEV($Q$12:Q1504),\"\")","v":""},""]
[1494,null,{"$f":"RIGHT(Data!C1505,10)","v":""},null,null,null,null,null,null,null,{"$f":"IFERROR($U$3*Data!M1505/SQRT(COUNT(Data!F1505:J1505)),\"\")","v":""},"","","","","",{"$f":"IFERROR((Data!K1505-$E$4),\"\")","v":""},{"$f":"IF(AND(F1505<>\"\",G1505<>\"\",H1505<>\"\",I1505<>\"\",J1505<>\"\"),Data!Q1505-$E$4,\"\")","v":""},"","","","",{"$f":"IF(F1505<>\"\",STDEV($Q$12:Q1505),\"\")","v":""},""]
[1495,null,{"$f":"RIGHT(Data!C1506,10)","v":""},null,null,null,null,null,null,null,{"$f":"IFERROR($U$3*Data!M1506/SQRT(COUNT(Data!F1506:J1506)),\"\")","v":""},"","","","","",{"$f":"IFERROR((Data!K1506-$E$4),\"\")","v":""},{"$f":"IF(AND(F1506<>\"\",G1506<>\"\",H1506<>\"\",I1506<>\"\",J1506<>\"\"),Data!Q1506-$E$4,\"\")","v":""},"","","","",{"$f":"IF(F1506<>\"\",STDEV($Q$12:Q1506),\"\")","v":""},""]
[1496,null,{"$f":"RIGHT(Data!C1507,10)","v":""},null,null,null,null,null,null,null,{"$f":"IFERROR($U$3*Data!M1507/SQRT(COUNT(Data!F1507:J1507)),\"\")","v":""},"","","","","",{"$f":"IFERROR((Data!K1507-$E$4),\"\")","v":""},{"$f":"IF(AND(F1507<>\"\",G1507<>\"\",H1507<>\"\",I1507<>\"\",J1507<>\"\"),Data!Q1507-$E$4,\"\")","v":""},"","","","",{"$f":"IF(F1507<>\"\",STDEV($Q$12:Q1507),\"\")","v":""},""]
[1497,null,{"$f":"RIGHT(Data!C1508,10)","v":""},null,null,null,null,null,null,null,{"$f":"IFERROR($U$3*Data!M1508/SQRT(COUNT(Data!F1508:J1508)),\"\")","v":""},"","","","","",{"$f":"IFERROR((Data!K1508-$E$4),\"\")","v":""},{"$f":"IF(AND(F1508<>\"\",G1508<>\"\",H1508<>\"\",I1508<>\"\",J1508<>\"\"),Data!Q1508-$E$4,\"\")","v":""},"","","","",{"$f":"IF(F1508<>\"\",STDEV($Q$12:Q1508),\"\")","v":""},""]
[1498,null,{"$f":"RIGHT(Data!C1509,10)","v":""},null,null,null,null,null,null,null,{"$f":"IFERROR($U$3*Data!M1509/SQRT(COUNT(Data!F1509:J1509)),\"\")","v":""},"","","","","",{"$f":"IFERROR((Data!K1509-$E$4),\"\")","v":""},{"$f":"IF(AND(F1509<>\"\",G1509<>\"\",H1509<>\"\",I1509<>\"\",J1509<>\"\"),Data!Q1509-$E$4,\"\")","v":""},"","","","",{"$f":"IF(F1509<>\"\",STDEV($Q$12:Q1509),\"\")","v":""},""]
[1499,null,{"$f":"RIGHT(Data!C1510,10)","v":""},null,null,null,null,null,null,null,{"$f":"IFERROR($U$3*Data!M1510/SQRT(COUNT(Data!F1510:J1510)),\"\")","v":""},"","","","","",{"$f":"IFERROR((Data!K1510-$E$4),\"\")","v":""},{"$f":"IF(AND(F1510<>\"\",G1510<>\"\",H1510<>\"\",I1510<>\"\",J1510<>\"\"),Data!Q1510-$E$4,\"\")","v":""},"","","","",{"$f":"IF(F1510<>\"\",STDEV($Q$12:Q1510),\"\")","v":""},""]
[1500,null,{"$f":"RIGHT(Data!C1511,10)","v":""},null,null,null,null,null,null,null,{"$f":"IFERROR($U$3*Data!M1511/SQRT(COUNT(Data!F1511:J1511)),\"\")","v":""},"","","","","",{"$f":"IFERROR((Data!K1511-$E$4),\"\")","v":""},{"$f":"IF(AND(F1511<>\"\",G1511<>\"\",H1511<>\"\",I1511<>\"\",J1511<>\"\"),Data!Q1511-$E$4,\"\")","v":""},"","","","",{"$f":"IF(F1511<>\"\",STDEV($Q$12:Q1511),\"\")","v":""},""]

{"sheet":"Protocol","index":6,"n_rows":21,"n_cols":12,"rows_kept":21,"cut":false,"hidden":false,"merged":[[0,0,0,11],[1,0,1,11],[20,0,20,4],[9,4,9,6],[10,4,10,6],[16,0,16,4],[17,0,17,4],[18,0,18,4],[19,0,19,4],[16,6,16,10],[17,6,17,10],[18,6,18,10],[19,6,19,10],[20,6,20,10]]}
["Messunsicherheitsprotokoll / Measurement uncertainty protocol"]
[]
[null,null,"Härtevergleichsplatte / Hardness reference block: ",{"$f":"IF(Setup!H17<>\"\",Setup!H17,\"\")","v":""},null,"Firma / Company:",{"$f":"IF(Setup!H5<>\"\",Setup!H5,\"\")","v":""},null,null,null,"Werksbezeichnung / Factory identification:",{"$f":"IF(Setup!H10<>\"\",Setup!H10,\"\")","v":""}]
[null,null,"Kalibrierte Härte / Calibrated hardness value:",{"$f":"IF(Setup!H21<>\"\",Setup!H21,\"\")","v":null},null,"Abteilung / Department:",{"$f":"IF(Setup!H6<>\"\",Setup!H6,\"\")","v":""},null,null,null,"Herstellungsjahr / Year of the production:",{"$f":"IF(Setup!H11<>\"\",Setup!H11,\"\")","v":""}]
[null,null,"Messunsicherheit / Uncertainty (Ucrm):",{"$f":"IF(Setup!H22<>\"\",Setup!H22,\"\")","v":null},null,"Spezifikation / Specification:",{"$f":"IF(Setup!H7<>\"\",Setup!H7,\"\")","v":""},null,null,null,"Hersteller / Producer:",{"$f":"IF(Setup!H12<>\"\",Setup!H12,\"\")","v":""}]
[null,null,null,null,null,"Skalenauflösung / Mimimal step:",{"$f":"IF(Setup!H8<>\"\",Setup!H8,\"\")","v":null},null,null,null,"Typ / Type:",{"$f":"IF(Setup!H13<>\"\",Setup!H13,\"\")","v":""}]
[null,null,null,null,null,"Stichprobenhäufigkeit / Frequency of inspection:",{"$f":"IF(Setup!H9<>\"\",Setup!H9,\"\")","v":""}]
[]
[]
["Nummer /\nNo","Prüfer /\nOperator","Datum /\nDate","Probennummer /\nSample number","Bemerkung, Materialien /\nRemarks, Materials",null,null,"Probe Messung /\nSample test\n1","Probe Messung /\nSample test\n2","Probe Messung /\nSample test\n3","Probe Messung /\nSample test\n4","Probe Messung /\nSample test\n5"]
[]
[]
[]
[null,null,null,null,null,null,null,null,null,"Messabweichung /\nBias","Ergebnis unkorrigiert /\nResult uncorrected","Ergebnis korrigiert /\nResult corrected"]
[{"$f":"Uncertainty!U3","v":null},{"$f":"Uncertainty!U4","v":null},{"$f":"Uncertainty!U7","v":null},{"$f":"Uncertainty!U5","v":null},"",null,null,null,"",null,""]
[]
["Student's-Faktor /\nStudent's factor",null,null,null,null,null,"Standardmessunsicherheit bei der Bestimmung von b (kann erst ab der 2. Messung bestimmt werden) /\nStandard uncertainty of the determined of b. Can be determined only after second series of measurements."]
["Erweiterungsfaktor gemäß Norm /\nExtension factor according standard",null,null,null,null,null,"Erweiterte Messunsicherheit der Härteprüfung nach der Anschlüsskalibrierung /\nExpanded uncertainty of hardness testing "]
["Standardmessunsicherheit des Härtewertes der Härtevergleichsplatte /\nStandard uncertainty of the hardness value of the reference block",null,null,null,null,null,"Standardmessunsicherheit bei der Prüfung einer Probe /\nStandard uncertainty when measuring a test piece"]
["Standardmessunsicherheit durch den kleinsten Messschritt /\nStandard uncertainty according to the resolution of the measuring system",null,null,null,null,null,"Erweiterte Messunsicherheit des Härtewertes /\nExpanded uncertainty of the hardness value"]
["Standardmessunsicherheit des Härteprüfgerätes bei Messung auf Härtevergleichsplatte /\nStandard uncertainty of hardness testing machine when measuring CRM",null,null,null,null,null,"Abweichung der Härteprüfmaschine vom Kalibrierwert /\nBias (deviation of hardness testing machine from calibration value)"]

{"sheet":"Abbreviations","index":7,"n_rows":21,"n_cols":4,"rows_kept":21,"cut":false,"hidden":false,"merged":[[20,0,20,3],[0,0,0,3],[1,0,1,3]]}
["Abkürzungen / Abbreviations"]
[]
["Quelle der Messunsicherheit /\nSources of uncertainty","Abkürzung /\nAbbreviation","Formel /\nFormula","Verweis auf das jeweilige Tabellenblatt /\nReference to the respective worksheet"]
["Standardmessunsicherheit der Kalibrierung der Härtevergleichsplatte /\nStandard uncertainty of the calibration of the hardness reference block (CRM)",null,null,"Uncertanty"]
["Student's Faktor /\nStudent's factor",null,null,"Uncertanty"]
["Standardmessunsicherheit durch den kleinsten Ableseschritt (ms) /\nStandard uncertainty according to the resolution of the lenght measurement system (ms)",null,null,"Uncertanty"]
["Standardmessunsicherheit des Härteprüfgerätes bei Messung auf einer Härtevergleichsplatte / Standard uncertainty of the hardness testing machine when measuring the CR\n\n\n",null,null,"Uncertanty"]
["Relative Messabweichung der Härteprüfmaschine vom Kalibrierwert /\nRelative deviation of the hardness testing machine from the calibration value (bias)",null,null,"Periodic check"]
["Relative Messabweichung der Härteprüfmaschine vom Kalibrierwert /\nRelative deviation of the hardness testing machine from the calibration value (bias)",null,null,"Data"]
["Messabweichung der Härteprüfmaschine vom Kalibrierwert / Deviation of the hardness testing machine from the calibration value (bias)\n",null,null,"Uncertanty"]
["Standardabweichung der Messabweichung (b) / Standard deviation of the bias (b)\n\n\nnm - Anzahl der Messreihen / numbers of measurement series\n\n",null,null,"Uncertanty"]
["Standardmessunsicherheit bei der Bestimmung von b (kann erst ab der 2. Messreihe bestimmt werden) /\nStandard uncertainty of the determination of b (only after second series of measurement)\n",null,null,"Uncertanty"]
["Erweiterte Messunsicherheit der Härteprüfmaschine nach der Anschlusskalibrierung ohne Berücksichtigung der Einflüsse der Probe /\nExpanded uncertainty of the hardness testing machine without taking into account the influences of the test piece",null,null,"Uncertanty"]
["Mittelwert und Standardabweichung bei der Prüfung einer Probe /\nMean value and standard deviation of the testing of a test piece\n\n\n",null,null,"Uncertanty"]
["Standardmessunsicherheit bei der Prüfung einer Probe /\nStandard uncertainty of the testing of a test piece\n\n",null,null,"Uncertanty"]
["Erweiterte Messunsicherheit mit Berücksichtigung der Einflüsse der Probe /\nExpanded uncertainty with taking into account the influences of the test piece",null,null,"Uncertanty"]
["Ergebnishärtewert ohne Biaskorrektur (Betrag des Bias wird zur Messunsicherheit addiert) /\nResult of the hardness value without bias correction (bias added to the uncertainty)",null,null,"Uncertanty"]
["Ergebnishärtewert mit Biaskorrektur (Härtewert wird um den Bias korrigiert) /\nResult of the hardness value with bias correction (correction of the hardness value by bias)",null,null,"Uncertanty"]
[]
["Anmerkung / Note:"]
["Die Angaben in der Tabelle entsprechen den informativen Anhängen des Teil 1 der unter Benutzungshinweisen aufgeführten Normen mit dem deutschen Veröffentlichungsstand von 2006. /\nThe information in the table corresponds to the informative annexes of Part 1 of the standards listed in the Usage Notes with the German release date of 2006."]